{"text_format":"1","workbook":"xlsx","n_sheets":13,"sheets":["Input_Details","Input_Plans","Raw Data","Dashboard Overview","Volume Summary-15min","Volume Summary-30min","Volume Summary-60min","Custom Volume Graph","Class Summary","12-Class Breakdown","Class Key","Speed Summary","Site Plans"],"not_rendered":{"charts":14,"images":32,"macros":1,"external_links":0,"defined_names":18,"comments":0,"pivot_tables":0},"unopened":[],"bounds":{"document_bytes":16777216,"sheet_cells":100000,"rows_first":2000,"rows_last":500,"rows_between":2000,"halvings":0,"cell_chars":16384,"cell_head_chars":4096},"cells_cut":0,"cells_raw":0,"read":"whole","date_system":"1900"}

{"sheet":"Input_Details","index":0,"n_rows":100,"n_cols":76,"rows_kept":100,"cut":false,"hidden":true,"merged":[[0,9,0,13],[41,1,41,2],[8,69,8,75],[3,63,4,63],[3,64,4,64],[3,65,4,65],[8,55,8,61],[8,62,8,68],[3,57,4,57],[3,58,4,58],[3,59,4,59],[3,61,4,61],[3,62,4,62],[3,52,4,52],[3,53,4,53],[3,60,4,60],[8,48,8,54],[2,48,2,53],[2,54,2,59],[2,60,2,65],[3,48,4,48],[3,55,4,55],[3,50,4,50],[3,49,4,49],[3,54,4,54],[3,51,4,51],[3,56,4,56],[2,66,2,71],[3,66,4,66],[3,67,4,67],[3,68,4,68],[3,69,4,69],[3,70,4,70],[3,71,4,71]]}
[null,null,null,null,null,null,".","Swan Street","3854-LON","LB of Southwark",null,null,null,null,null,null,null,null,null,null,null,null,null,null,null,null,"CUSTOM GRAPH DATA",null,null,null,null,null,null,null,null,null,null,null,null,null,null,null,null,null,null,null,null,null,"DASHBOARD DATA"]
[null,"Current Selected Direction",null,null,null,null,null,"General Report Details"]
[null,{"$f":"OFFSET(B5,B4,0)","v":"Northbound"},null,null,null,null,{"$f":"OFFSET(G4,$O$4,0)","v":1},"Meadow Street","51.49499,-0.09696",1,{"$f":"OFFSET(K4,$O$4,0)","v":"Northbound"},"Southbound",{"$f":"OFFSET(M4,$O$4,0)","v":"2017-11-17"},{"$f":"OFFSET(N4,$O$4,0)","v":20},"1. Meadow Street - 51.49499,-0.09696",null,{"$f":"OFFSET(Q4,$O$4,0)","v":"2017-11-20"},"2017-11-21","2017-11-22","2017-11-23","2017-11-17","2017-11-18","2017-11-19","Site 1: Data loss Tue 21st Nov 16:15 - 16:30.","7-Day Average",null,null,null,null,null,null,null,null,null,null,null,null,true,true,true,true,true,true,true,true,true,null,null,{"$f":"K3","v":"Northbound"},null,null,null,null,null,{"$f":"L3","v":"Southbound"},null,null,null,null,null,"Combined",null,null,null,null,null,"DROPDOWN MENU SELECTION"]
[null,1,null,null,null,null,null,"Road","Lat/Long ONLY","Site No.","Dir 1","Dir 2","Start Date","Speed (mph)",1,"Start Day","Mon","Tue","Wed","Thu","Fri","Sat","Sun","Incidents",null,null,null,"Mon","Tue","Wed","Thu","Fri","Sat","Sun","5 Day Ave","7 Day Ave",null,"Mon","Tue","Wed","Thu","Fri","Sat","Sun","5 Day Ave","7 Day Ave",null,null,"M'Cycle & P'Cycle","Cars","LGV & PSV 2Axle","OGV1 & PSV 3Axle","OGV2","Total",{"$f":"AW4","v":"M'Cycle & P'Cycle"},"Cars","LGV & PSV 2Axle","OGV1 & PSV 3Axle","OGV2","Total","M'Cycle & P'Cycle","Cars","LGV/PSV 2Axle","OGV1/PSV 3Axle","OGV2","Total",{"$f":"BI4","v":"M'Cycle & P'Cycle"},{"$f":"BJ4","v":"Cars"},"LGV/PSV 2Axle","OGV1/PSV 3Axle","OGV2","Total"]
[null,"Direction Options",null,null,null,null,1,"Meadow Street","51.49499,-0.09696",1,"Northbound",{"$f":"IF(K5=\"Northbound\",\"Southbound\",IF(K5=\"Eastbound\",\"Westbound\",IF(K5=\"Southbound\",\"Northbound\",IF(K5=\"Westbound\",\"Eastbound\"))))","v":"Southbound"},"2017-11-17",20,{"$f":"IF(ISBLANK(H5),0,J5&\". \"&H5&\" - \"&I5)","v":"1. Meadow Street - 51.49499,-0.09696"},{"$f":"IF(M5=\"\", \"\", TEXT(M5,\"dddd\"))","v":"Friday"},"2017-11-20","2017-11-21","2017-11-22","2017-11-23","2017-11-17","2017-11-18","2017-11-19","Site 1: Data loss Tue 21st Nov 16:15 - 16:30.",null,null,0,{"$f":"OFFSET('Raw Data'!EJ4,$B$38,$B$37)","v":5},{"$f":"OFFSET('Raw Data'!EK4,$B$38,$B$37)","v":2},{"$f":"OFFSET('Raw Data'!EL4,$B$38,$B$37)","v":1},{"$f":"OFFSET('Raw Data'!EM4,$B$38,$B$37)","v":5},{"$f":"OFFSET('Raw Data'!EN4,$B$38,$B$37)","v":4},{"$f":"OFFSET('Raw Data'!EO4,$B$38,$B$37)","v":4},{"$f":"OFFSET('Raw Data'!EP4,$B$38,$B$37)","v":3},{"$f":"SUM(AB5:AF5)/5","v":3.4},{"$f":"SUM(AB5:AH5)/7","v":3.4285714285714284},"00:00",{"$f":"IF(AL$3=TRUE,AB5,\"\")","v":5},{"$f":"IF(AM$3=TRUE,AC5,\"\")","v":2},1,5,4,4,3,{"$f":"IF(AS$3=TRUE,AI5,\"\")","v":3.4},{"$f":"IF(AT$3=TRUE,AJ5,\"\")","v":3.4285714285714284},null,null,null,null,null,null,null,null,null,null,null,null,null,null,null,null,null,null,null,null,"PC & MC","PC & MC","PC & MC","PC & MC","PC & MC","PC & MC"]
[null,{"$f":"+K3","v":"Northbound"},null,null,null,null,2,"Rockingham Street","51.49637,-0.09528",2,"Northbound","Southbound","2017-11-17",20,{"$f":"IF(ISBLANK(H6),0,J6&\". \"&H6&\" - \"&I6)","v":"2. Rockingham Street - 51.49637,-0.09528"},{"$f":"IF(M6=\"\", \"\", TEXT(M6,\"dddd\"))","v":"Friday"},"2017-11-20","2017-11-21","2017-11-22","2017-11-23","2017-11-17","2017-11-18","2017-11-19","Site 2: No incidents",null,null,15,{"$f":"OFFSET('Raw Data'!EJ5,$B$38,$B$37)","v":4},{"$f":"OFFSET('Raw Data'!EK5,$B$38,$B$37)","v":4},{"$f":"OFFSET('Raw Data'!EL5,$B$38,$B$37)","v":6},{"$f":"OFFSET('Raw Data'!EM5,$B$38,$B$37)","v":3},{"$f":"OFFSET('Raw Data'!EN5,$B$38,$B$37)","v":3},{"$f":"OFFSET('Raw Data'!EO5,$B$38,$B$37)","v":8},{"$f":"OFFSET('Raw Data'!EP5,$B$38,$B$37)","v":7},{"$f":"SUM(AB6:AF6)/5","v":4},5,{"$f":"AK5+\"00:15\"","v":"00:15:00"},{"$f":"IF(AL$3=TRUE,AB6,\"\")","v":4},{"$f":"IF(AM$3=TRUE,AC6,\"\")","v":4},{"$f":"IF(AN$3=TRUE,AD6,\"\")","v":6},{"$f":"IF(AO$3=TRUE,AE6,\"\")","v":3},{"$f":"IF(AP$3=TRUE,AF6,\"\")","v":3},{"$f":"IF(AQ$3=TRUE,AG6,\"\")","v":8},{"$f":"IF(AR$3=TRUE,AH6,\"\")","v":7},{"$f":"IF(AS$3=TRUE,AI6,\"\")","v":4},{"$f":"IF(AT$3=TRUE,AJ6,\"\")","v":5},null,"Volume",{"$f":"SUM(OFFSET('Raw Data'!DR4, Input_Details!$B$12, 0):OFFSET('Raw Data'!DR675, Input_Details!$B$12, 0))","v":1925},{"$f":"SUM(OFFSET('Raw Data'!DS4, Input_Details!$B$12, 0):OFFSET('Raw Data'!DS675, Input_Details!$B$12, 0))","v":2406},{"$f":"SUM(OFFSET('Raw Data'!DT4, Input_Details!$B$12, 0):OFFSET('Raw Data'!DT675, Input_Details!$B$12, 0))","v":222},{"$f":"SUM(OFFSET('Raw Data'!DU4, Input_Details!$B$12, 0):OFFSET('Raw Data'!DU675, Input_Details!$B$12, 0))","v":22},{"$f":"SUM(OFFSET('Raw Data'!DV4, Input_Details!$B$12, 0):OFFSET('Raw Data'!DV675, Input_Details!$B$12, 0))","v":229},{"$f":"SUM(OFFSET('Raw Data'!DW4, Input_Details!$B$12, 0):OFFSET('Raw Data'!DW675, Input_Details!$B$12, 0))","v":4804},{"$f":"SUM(OFFSET('Raw Data'!DX4, Input_Details!$B$12, 0):OFFSET('Raw Data'!DX675, Input_Details!$B$12, 0))","v":2155},{"$f":"SUM(OFFSET('Raw Data'!DY4, Input_Details!$B$12, 0):OFFSET('Raw Data'!DY675, Input_Details!$B$12, 0))","v":2416},{"$f":"SUM(OFFSET('Raw Data'!DZ4, Input_Details!$B$12, 0):OFFSET('Raw Data'!DZ675, Input_Details!$B$12, 0))","v":220},{"$f":"SUM(OFFSET('Raw Data'!EA4, Input_Details!$B$12, 0):OFFSET('Raw Data'!EA675, Input_Details!$B$12, 0))","v":15},{"$f":"SUM(OFFSET('Raw Data'!EB4, Input_Details!$B$12, 0):OFFSET('Raw Data'!EB675, Input_Details!$B$12, 0))","v":228},{"$f":"SUM(OFFSET('Raw Data'!EC4, Input_Details!$B$12, 0):OFFSET('Raw Data'!EC675, Input_Details!$B$12, 0))","v":5034},{"$f":"SUM(AW6,BC6)","v":4080},4822,442,37,457,9838,{"$f":"IF(Input_Details!$B$4=1, Input_Details!AW6, IF(Input_Details!$B$4=2, Input_Details!BC6, Input_Details!BI6))","v":1925},{"$f":"IF(Input_Details!$B$4=1, Input_Details!AX6, IF(Input_Details!$B$4=2, Input_Details!BD6, Input_Details!BJ6))","v":2406},{"$f":"IF(Input_Details!$B$4=1, Input_Details!AY6, IF(Input_Details!$B$4=2, Input_Details!BE6, Input_Details!BK6))","v":222},{"$f":"IF(Input_Details!$B$4=1, Input_Details!AZ6, IF(Input_Details!$B$4=2, Input_Details!BF6, Input_Details!BL6))","v":22},{"$f":"IF(Input_Details!$B$4=1, Input_Details!BA6, IF(Input_Details!$B$4=2, Input_Details!BG6, Input_Details!BM6))","v":229},{"$f":"SUM(BO6:BS6)","v":4804}]
[null,{"$f":"+L3","v":"Southbound"},null,null,null,null,3,"Falmouth Street","51.49566,-0.09463",3,"Northbound","Southbound","2017-11-17",20,"3. Falmouth Street - 51.49566,-0.09463","Friday","2017-11-20","2017-11-21","2017-11-22","2017-11-23","2017-11-17","2017-11-18","2017-11-19","Site 3:\nNo incidents",null,null,30,{"$f":"OFFSET('Raw Data'!EJ6,$B$38,$B$37)","v":4},{"$f":"OFFSET('Raw Data'!EK6,$B$38,$B$37)","v":0},{"$f":"OFFSET('Raw Data'!EL6,$B$38,$B$37)","v":3},{"$f":"OFFSET('Raw Data'!EM6,$B$38,$B$37)","v":1},{"$f":"OFFSET('Raw Data'!EN6,$B$38,$B$37)","v":1},{"$f":"OFFSET('Raw Data'!EO6,$B$38,$B$37)","v":6},{"$f":"OFFSET('Raw Data'!EP6,$B$38,$B$37)","v":10},1.8,3.5714285714285716,{"$f":"AK6+\"00:15\"","v":"00:30:00"},4,0,3,1,1,6,10,1.8,3.5714285714285716,null,"(%)",{"$f":"AW6/$BB$6","v":0.40070774354704414},{"$f":"AX6/$BB$6","v":0.50083263946711076},4.6211490424646132E-2,4.5795170691090761E-3,4.7668609492089925E-2,null,{"$f":"BC6/$BH$6","v":0.42808899483512119},{"$f":"BD6/$BH$6","v":0.47993643226062771},4.3702820818434643E-2,2.9797377830750892E-3,4.5292014302741358E-2,null,{"$f":"BI6/$BN$6","v":0.41471843870705427},{"$f":"BJ6/$BN$6","v":0.4901402724130921},4.4927830859930878E-2,3.7609270176865218E-3,4.645253100223623E-2,null,{"$f":"IF(Input_Details!$B$4=1, Input_Details!AW7, IF(Input_Details!$B$4=2, Input_Details!BC7, Input_Details!BI7))","v":0.40070774354704414},{"$f":"IF(Input_Details!$B$4=1, Input_Details!AX7, IF(Input_Details!$B$4=2, Input_Details!BD7, Input_Details!BJ7))","v":0.50083263946711076},{"$f":"IF(Input_Details!$B$4=1, Input_Details!AY7, IF(Input_Details!$B$4=2, Input_Details!BE7, Input_Details!BK7))","v":4.6211490424646132E-2},{"$f":"IF(Input_Details!$B$4=1, Input_Details!AZ7, IF(Input_Details!$B$4=2, Input_Details!BF7, Input_Details!BL7))","v":4.5795170691090761E-3},{"$f":"IF(Input_Details!$B$4=1, Input_Details!BA7, IF(Input_Details!$B$4=2, Input_Details!BG7, Input_Details!BM7))","v":4.7668609492089925E-2}]
[null,{"$f":"IF(OR(B6=\"-\", B7=\"-\"), \"-\", \"Combined\")","v":"Combined"},null,null,null,null,4,"Brockham Street","51.49801,-0.09446",4,"Northbound","Southbound","2017-11-17",20,"4. Brockham Street - 51.49801,-0.09446","Friday","2017-11-20","2017-11-21","2017-11-22","2017-11-23","2017-11-17","2017-11-18","2017-11-19","Site 4: Data loss Tue 21st Nov 12:30 until Wed 22nd Nov 08:30.",null,null,45,{"$f":"OFFSET('Raw Data'!EJ7,$B$38,$B$37)","v":0},{"$f":"OFFSET('Raw Data'!EK7,$B$38,$B$37)","v":0},{"$f":"OFFSET('Raw Data'!EL7,$B$38,$B$37)","v":4},{"$f":"OFFSET('Raw Data'!EM7,$B$38,$B$37)","v":1},{"$f":"OFFSET('Raw Data'!EN7,$B$38,$B$37)","v":8},{"$f":"OFFSET('Raw Data'!EO7,$B$38,$B$37)","v":4},{"$f":"OFFSET('Raw Data'!EP7,$B$38,$B$37)","v":7},2.6,3.4285714285714284,"00:45:00",0,0,4,1,8,4,7,2.6,3.4285714285714284]
[null,null,null,null,null,null,5,"Swan Street","51.49881,-0.09521",5,"Northbound","Southbound","2017-11-17",20,"5. Swan Street - 51.49881,-0.09521","Friday","2017-11-20","2017-11-21","2017-11-22","2017-11-23","2017-11-17","2017-11-18","2017-11-19","Site 5:\nNo incidents",null,null,100,{"$f":"OFFSET('Raw Data'!EJ8,$B$38,$B$37)","v":2},{"$f":"OFFSET('Raw Data'!EK8,$B$38,$B$37)","v":1},{"$f":"OFFSET('Raw Data'!EL8,$B$38,$B$37)","v":1},{"$f":"OFFSET('Raw Data'!EM8,$B$38,$B$37)","v":0},{"$f":"OFFSET('Raw Data'!EN8,$B$38,$B$37)","v":1},{"$f":"OFFSET('Raw Data'!EO8,$B$38,$B$37)","v":4},{"$f":"OFFSET('Raw Data'!EP8,$B$38,$B$37)","v":3},1,1.7142857142857142,"01:00:00",2,1,1,0,1,4,3,1,1.7142857142857142,null,null,{"$f":"K3","v":"Northbound"},null,null,null,null,null,null,{"$f":"L3","v":"Southbound"},null,null,null,null,null,null,"COMBINED",null,null,null,null,null,null,"DROPDOWN MENU SELECTION"]
[null,"Current Data Row Reference (vol)","Vol Sum Dir (Avg)",null,null,null,6,"Avonmouth Street","51.49805,-0.09771",6,"Northbound",{"$f":"IF(K10=\"Northbound\",\"Southbound\",IF(K10=\"Eastbound\",\"Westbound\",IF(K10=\"Southbound\",\"Northbound\",IF(K10=\"Westbound\",\"Eastbound\"))))","v":"Southbound"},"2017-11-17",20,"6. Avonmouth Street - 51.49805,-0.09771","Friday","2017-11-20","2017-11-21","2017-11-22","2017-11-23","2017-11-17","2017-11-18","2017-11-26","Site 6: Data loss Sun 26th Nov 13:15 - 13:30.",null,null,115,{"$f":"OFFSET('Raw Data'!EJ9,$B$38,$B$37)","v":2},{"$f":"OFFSET('Raw Data'!EK9,$B$38,$B$37)","v":0},{"$f":"OFFSET('Raw Data'!EL9,$B$38,$B$37)","v":3},{"$f":"OFFSET('Raw Data'!EM9,$B$38,$B$37)","v":2},{"$f":"OFFSET('Raw Data'!EN9,$B$38,$B$37)","v":1},{"$f":"OFFSET('Raw Data'!EO9,$B$38,$B$37)","v":5},{"$f":"OFFSET('Raw Data'!EP9,$B$38,$B$37)","v":6},1.6,2.7142857142857144,"01:15:00",2,0,3,2,1,5,6,1.6,2.7142857142857144,null,null,"Mon","Tue","Wed","Thu","Fri","Sat","Sun","Mon","Tue","Wed","Thu","Fri","Sat","Sun","Mon","Tue","Wed","Thu","Fri","Sat","Sun","Mon","Tue","Wed","Thu","Fri","Sat","Sun"]
[null,{"$f":"SUM(B4-1)*7","v":0},{"$f":"SUM(B4-1)*6","v":0},null,null,null,7,null,null,null,null,null,null,null,null,null,null,null,null,null,null,null,null,null,null,null,130,{"$f":"OFFSET('Raw Data'!EJ10,$B$38,$B$37)","v":1},{"$f":"OFFSET('Raw Data'!EK10,$B$38,$B$37)","v":0},{"$f":"OFFSET('Raw Data'!EL10,$B$38,$B$37)","v":0},{"$f":"OFFSET('Raw Data'!EM10,$B$38,$B$37)","v":1},{"$f":"OFFSET('Raw Data'!EN10,$B$38,$B$37)","v":3},{"$f":"OFFSET('Raw Data'!EO10,$B$38,$B$37)","v":1},{"$f":"OFFSET('Raw Data'!EP10,$B$38,$B$37)","v":2},1,1.1428571428571428,"01:30:00",1,0,0,1,3,1,2,1,1.1428571428571428,null,"Avg speed",{"$f":"AVERAGE(OFFSET('Raw Data'!$AN$4, $B$12, 0):OFFSET('Raw Data'!$AN$99,$B$12, 0))","v":14.26477272727273},{"$f":"AVERAGE(OFFSET('Raw Data'!$AN$100, $B$12, 0):OFFSET('Raw Data'!$AN$195,$B$12, 0))","v":14.429113924050625},{"$f":"AVERAGE(OFFSET('Raw Data'!$AN$196, $B$12, 0):OFFSET('Raw Data'!$AN$291,$B$12, 0))","v":14.692307692307697},{"$f":"AVERAGE(OFFSET('Raw Data'!$AN$292, $B$12, 0):OFFSET('Raw Data'!$AN$387,$B$12, 0))","v":14.430681818181823},{"$f":"AVERAGE(OFFSET('Raw Data'!$AN$388, $B$12, 0):OFFSET('Raw Data'!$AN$483,$B$12, 0))","v":15.405555555555555},{"$f":"AVERAGE(OFFSET('Raw Data'!$AN$484, $B$12, 0):OFFSET('Raw Data'!$AN$579,$B$12, 0))","v":14.652127659574465},{"$f":"AVERAGE(OFFSET('Raw Data'!$AN$580, $B$12, 0):OFFSET('Raw Data'!$AN$675,$B$12, 0))","v":15.146315789473682},{"$f":"AVERAGE(OFFSET('Raw Data'!$CA$4, $B$12, 0):OFFSET('Raw Data'!$CA$99,$B$12, 0))","v":13.857500000000005},{"$f":"AVERAGE(OFFSET('Raw Data'!$CA$100, $B$12, 0):OFFSET('Raw Data'!$CA$195,$B$12, 0))","v":14.092405063291139},{"$f":"AVERAGE(OFFSET('Raw Data'!$CA$196, $B$12, 0):OFFSET('Raw Data'!$CA$291,$B$12, 0))","v":14.031521739130431},{"$f":"AVERAGE(OFFSET('Raw Data'!$CA$292, $B$12, 0):OFFSET('Raw Data'!$CA$387,$B$12, 0))","v":15.054216867469888},{"$f":"AVERAGE(OFFSET('Raw Data'!$CA$388, $B$12, 0):OFFSET('Raw Data'!$CA$483,$B$12, 0))","v":14.763529411764704},{"$f":"AVERAGE(OFFSET('Raw Data'!$CA$484, $B$12, 0):OFFSET('Raw Data'!$CA$579,$B$12, 0))","v":14.650549450549459},{"$f":"AVERAGE(OFFSET('Raw Data'!$CA$580, $B$12, 0):OFFSET('Raw Data'!$CA$675,$B$12, 0))","v":15.139560439560437},{"$f":"AVERAGE(OFFSET('Raw Data'!$DN$4, $B$12, 0):OFFSET('Raw Data'!$DN$99,$B$12, 0))","v":14.085822275811202},{"$f":"AVERAGE(OFFSET('Raw Data'!$DN$100, $B$12, 0):OFFSET('Raw Data'!$DN$195,$B$12, 0))","v":14.165834508177998},{"$f":"AVERAGE(OFFSET('Raw Data'!$DN$196, $B$12, 0):OFFSET('Raw Data'!$DN$291,$B$12, 0))","v":14.253762619337314},{"$f":"AVERAGE(OFFSET('Raw Data'!$DN$292, $B$12, 0):OFFSET('Raw Data'!$DN$387,$B$12, 0))","v":14.623478336458051},{"$f":"AVERAGE(OFFSET('Raw Data'!$DN$388, $B$12, 0):OFFSET('Raw Data'!$DN$483,$B$12, 0))","v":15.073012835672724},{"$f":"AVERAGE(OFFSET('Raw Data'!$DN$484, $B$12, 0):OFFSET('Raw Data'!$DN$579,$B$12, 0))","v":14.657817653694194},{"$f":"AVERAGE(OFFSET('Raw Data'!$DN$580, $B$12, 0):OFFSET('Raw Data'!$DN$675,$B$12, 0))","v":15.145524407638476},{"$f":"IF(Input_Details!$B$4=1, Input_Details!AW11, IF(Input_Details!$B$4=2, Input_Details!BD11, Input_Details!BK11))","v":14.26477272727273},{"$f":"IF(Input_Details!$B$4=1, Input_Details!AX11, IF(Input_Details!$B$4=2, Input_Details!BE11, Input_Details!BL11))","v":14.429113924050625},{"$f":"IF(Input_Details!$B$4=1, Input_Details!AY11, IF(Input_Details!$B$4=2, Input_Details!BF11, Input_Details!BM11))","v":14.692307692307697},{"$f":"IF(Input_Details!$B$4=1, Input_Details!AZ11, IF(Input_Details!$B$4=2, Input_Details!BG11, Input_Details!BN11))","v":14.430681818181823},{"$f":"IF(Input_Details!$B$4=1, Input_Details!BA11, IF(Input_Details!$B$4=2, Input_Details!BH11, Input_Details!BO11))","v":15.405555555555555},{"$f":"IF(Input_Details!$B$4=1, Input_Details!BB11, IF(Input_Details!$B$4=2, Input_Details!BI11, Input_Details!BP11))","v":14.652127659574465},{"$f":"IF(Input_Details!$B$4=1, Input_Details!BC11, IF(Input_Details!$B$4=2, Input_Details!BJ11, Input_Details!BQ11))","v":15.146315789473682}]
[null,{"$f":"SUM($G$3-1)*864","v":0},{"$f":"SUM($G$3-1)*864","v":0},null,null,null,8,null,null,null,null,null,null,null,null,null,null,null,null,null,null,null,null,null,null,null,145,{"$f":"OFFSET('Raw Data'!EJ11,$B$38,$B$37)","v":1},{"$f":"OFFSET('Raw Data'!EK11,$B$38,$B$37)","v":0},{"$f":"OFFSET('Raw Data'!EL11,$B$38,$B$37)","v":1},{"$f":"OFFSET('Raw Data'!EM11,$B$38,$B$37)","v":1},{"$f":"OFFSET('Raw Data'!EN11,$B$38,$B$37)","v":4},{"$f":"OFFSET('Raw Data'!EO11,$B$38,$B$37)","v":8},{"$f":"OFFSET('Raw Data'!EP11,$B$38,$B$37)","v":3},1.4,2.5714285714285716,"01:45:00",1,0,1,1,4,8,3,1.4,2.5714285714285716]
[null,null,null,null,null,null,9,null,null,null,null,null,null,null,null,null,null,null,null,null,null,null,null,null,null,null,200,{"$f":"OFFSET('Raw Data'!EJ12,$B$38,$B$37)","v":0},{"$f":"OFFSET('Raw Data'!EK12,$B$38,$B$37)","v":0},{"$f":"OFFSET('Raw Data'!EL12,$B$38,$B$37)","v":3},{"$f":"OFFSET('Raw Data'!EM12,$B$38,$B$37)","v":2},{"$f":"OFFSET('Raw Data'!EN12,$B$38,$B$37)","v":2},{"$f":"OFFSET('Raw Data'!EO12,$B$38,$B$37)","v":7},{"$f":"OFFSET('Raw Data'!EP12,$B$38,$B$37)","v":6},1.4,2.8571428571428572,"02:00:00",0,0,3,2,2,7,6,1.4,2.8571428571428572,null,null,"7D - avg speed","7-D 85th","7D avg, no. speeding","7D TOT"]
[null,null,null,null,null,null,10,null,null,null,null,null,null,null,null,null,null,null,null,null,null,null,null,null,null,null,215,{"$f":"OFFSET('Raw Data'!EJ13,$B$38,$B$37)","v":0},{"$f":"OFFSET('Raw Data'!EK13,$B$38,$B$37)","v":0},{"$f":"OFFSET('Raw Data'!EL13,$B$38,$B$37)","v":3},{"$f":"OFFSET('Raw Data'!EM13,$B$38,$B$37)","v":1},{"$f":"OFFSET('Raw Data'!EN13,$B$38,$B$37)","v":2},{"$f":"OFFSET('Raw Data'!EO13,$B$38,$B$37)","v":7},{"$f":"OFFSET('Raw Data'!EP13,$B$38,$B$37)","v":4},1.2,2.4285714285714284,"02:15:00",0,0,3,1,2,7,4,1.2,2.4285714285714284,null,"PRI",{"$f":"IFERROR(AVERAGE(OFFSET('Raw Data'!$AN$772, $B$12, 0):OFFSET('Raw Data'!$AN867,$B$12, 0)), \"-\")","v":14.781728670634919},{"$f":"IFERROR(AVERAGE(OFFSET('Raw Data'!$AO$772, $B$12, 0):OFFSET('Raw Data'!$AO$867,$B$12, 0)), \"-\")","v":17.111099290780142},{"$f":"IFERROR(SUM(OFFSET('Raw Data'!$T$772,$B$12,VLOOKUP(Input_Details!$N$3, 'Speed Summary'!$AF$3:$AG$12, 2,0)-1):OFFSET('Raw Data'!$AM$867, $B$12, 0)), \"-\")","v":52.261904761904809},{"$f":"IFERROR(SUM(OFFSET('Raw Data'!$T$772, $B$12, 0):OFFSET('Raw Data'!$AM$867, $B$12, 0)), \"-\")","v":687.21428571428555}]
[null,"Day Options",null,null,null,null,11,null,null,null,null,null,null,null,null,null,null,null,null,null,null,null,null,null,null,null,230,{"$f":"OFFSET('Raw Data'!EJ14,$B$38,$B$37)","v":1},{"$f":"OFFSET('Raw Data'!EK14,$B$38,$B$37)","v":0},{"$f":"OFFSET('Raw Data'!EL14,$B$38,$B$37)","v":2},{"$f":"OFFSET('Raw Data'!EM14,$B$38,$B$37)","v":2},{"$f":"OFFSET('Raw Data'!EN14,$B$38,$B$37)","v":0},{"$f":"OFFSET('Raw Data'!EO14,$B$38,$B$37)","v":7},{"$f":"OFFSET('Raw Data'!EP14,$B$38,$B$37)","v":3},1,2.1428571428571428,"02:30:00",1,0,2,2,0,7,3,1,2.1428571428571428,null,"SEC",{"$f":"IFERROR(AVERAGE(OFFSET('Raw Data'!$CA$772, $B$12, 0):OFFSET('Raw Data'!$CA$867,$B$12, 0)), \"-\")","v":14.599719742063494},{"$f":"IFERROR(AVERAGE(OFFSET('Raw Data'!$CB$772, $B$12, 0):OFFSET('Raw Data'!$CB$867,$B$12, 0)), \"-\")","v":16.729969474969479},{"$f":"IFERROR(SUM(OFFSET('Raw Data'!$BG$772,$B$12,VLOOKUP(Input_Details!$N$3, 'Speed Summary'!$AF$3:$AG$12, 2,0)-1):OFFSET('Raw Data'!$BZ$867, $B$12, 0)), \"-\")","v":58.28571428571432},{"$f":"IFERROR(SUM(OFFSET('Raw Data'!$BG$772, $B$12, 0):OFFSET('Raw Data'!$BZ$867, $B$12, 0)), \"-\")","v":720.47619047619003}]
[null,"Monday",null,null,null,null,12,null,null,null,null,null,null,null,null,null,null,null,null,null,null,null,null,null,null,null,245,{"$f":"OFFSET('Raw Data'!EJ15,$B$38,$B$37)","v":1},{"$f":"OFFSET('Raw Data'!EK15,$B$38,$B$37)","v":0},{"$f":"OFFSET('Raw Data'!EL15,$B$38,$B$37)","v":2},{"$f":"OFFSET('Raw Data'!EM15,$B$38,$B$37)","v":0},{"$f":"OFFSET('Raw Data'!EN15,$B$38,$B$37)","v":0},{"$f":"OFFSET('Raw Data'!EO15,$B$38,$B$37)","v":1},{"$f":"OFFSET('Raw Data'!EP15,$B$38,$B$37)","v":2},0.6,0.8571428571428571,"02:45:00",1,0,2,0,0,1,2,0.6,0.8571428571428571,null,"COM",{"$f":"IFERROR(AVERAGE(OFFSET('Raw Data'!$DN$772, $B$12, 0):OFFSET('Raw Data'!$DN$867,$B$12, 0)), \"-\")","v":14.625670291941695},{"$f":"IFERROR(AVERAGE(OFFSET('Raw Data'!$DO$772, $B$12, 0):OFFSET('Raw Data'!$DO$867,$B$12, 0)), \"-\")","v":16.747712724434038},{"$f":"IFERROR(SUM(OFFSET('Raw Data'!$CT$772,$B$12,VLOOKUP(Input_Details!$N$3, 'Speed Summary'!$AF$3:$AG$12, 2,0)-1):OFFSET('Raw Data'!$DM$867, $B$12, 0)), \"-\")","v":101},{"$f":"IFERROR(SUM(OFFSET('Raw Data'!$CT$772, $B$12, 0):OFFSET('Raw Data'!$DM$867, $B$12, 0)), \"-\")","v":1398}]
[null,"Tuesday",null,null,null,null,13,null,null,null,null,null,null,null,null,null,null,null,null,null,null,null,null,null,null,null,300,{"$f":"OFFSET('Raw Data'!EJ16,$B$38,$B$37)","v":1},{"$f":"OFFSET('Raw Data'!EK16,$B$38,$B$37)","v":0},{"$f":"OFFSET('Raw Data'!EL16,$B$38,$B$37)","v":1},{"$f":"OFFSET('Raw Data'!EM16,$B$38,$B$37)","v":1},{"$f":"OFFSET('Raw Data'!EN16,$B$38,$B$37)","v":0},{"$f":"OFFSET('Raw Data'!EO16,$B$38,$B$37)","v":0},{"$f":"OFFSET('Raw Data'!EP16,$B$38,$B$37)","v":5},0.6,1.1428571428571428,"03:00:00",1,0,1,1,0,0,5,0.6,1.1428571428571428]
[null,"Wednesday",null,null,null,null,14,null,null,null,null,null,null,null,null,null,null,null,null,null,null,null,null,null,null,null,315,{"$f":"OFFSET('Raw Data'!EJ17,$B$38,$B$37)","v":0},{"$f":"OFFSET('Raw Data'!EK17,$B$38,$B$37)","v":0},{"$f":"OFFSET('Raw Data'!EL17,$B$38,$B$37)","v":3},{"$f":"OFFSET('Raw Data'!EM17,$B$38,$B$37)","v":2},{"$f":"OFFSET('Raw Data'!EN17,$B$38,$B$37)","v":2},{"$f":"OFFSET('Raw Data'!EO17,$B$38,$B$37)","v":3},{"$f":"OFFSET('Raw Data'!EP17,$B$38,$B$37)","v":3},1.4,1.8571428571428572,"03:15:00",0,0,3,2,2,3,3,1.4,1.8571428571428572]
[null,"Thursday",null,null,null,null,15,null,null,null,null,null,null,null,null,null,null,null,null,null,null,null,null,null,null,null,330,{"$f":"OFFSET('Raw Data'!EJ18,$B$38,$B$37)","v":1},{"$f":"OFFSET('Raw Data'!EK18,$B$38,$B$37)","v":0},{"$f":"OFFSET('Raw Data'!EL18,$B$38,$B$37)","v":0},{"$f":"OFFSET('Raw Data'!EM18,$B$38,$B$37)","v":0},{"$f":"OFFSET('Raw Data'!EN18,$B$38,$B$37)","v":1},{"$f":"OFFSET('Raw Data'!EO18,$B$38,$B$37)","v":1},{"$f":"OFFSET('Raw Data'!EP18,$B$38,$B$37)","v":5},0.4,1.1428571428571428,"03:30:00",1,0,0,0,1,1,5,0.4,1.1428571428571428]
[null,"Friday",null,null,null,null,16,null,null,null,null,null,null,null,null,null,null,null,null,null,null,null,null,null,null,null,345,{"$f":"OFFSET('Raw Data'!EJ19,$B$38,$B$37)","v":1},{"$f":"OFFSET('Raw Data'!EK19,$B$38,$B$37)","v":1},{"$f":"OFFSET('Raw Data'!EL19,$B$38,$B$37)","v":0},{"$f":"OFFSET('Raw Data'!EM19,$B$38,$B$37)","v":0},{"$f":"OFFSET('Raw Data'!EN19,$B$38,$B$37)","v":0},{"$f":"OFFSET('Raw Data'!EO19,$B$38,$B$37)","v":1},{"$f":"OFFSET('Raw Data'!EP19,$B$38,$B$37)","v":5},0.4,1.1428571428571428,"03:45:00",1,1,0,0,0,1,5,0.4,1.1428571428571428]
[null,"Saturday",null,null,null,null,17,null,null,null,null,null,null,null,null,null,null,null,null,null,null,null,null,null,null,null,400,{"$f":"OFFSET('Raw Data'!EJ20,$B$38,$B$37)","v":0},{"$f":"OFFSET('Raw Data'!EK20,$B$38,$B$37)","v":0},{"$f":"OFFSET('Raw Data'!EL20,$B$38,$B$37)","v":1},{"$f":"OFFSET('Raw Data'!EM20,$B$38,$B$37)","v":2},{"$f":"OFFSET('Raw Data'!EN20,$B$38,$B$37)","v":1},{"$f":"OFFSET('Raw Data'!EO20,$B$38,$B$37)","v":1},{"$f":"OFFSET('Raw Data'!EP20,$B$38,$B$37)","v":2},0.8,1,"04:00:00",0,0,1,2,1,1,2,0.8,1]
[null,"Sunday",null,null,null,null,18,null,null,null,null,null,null,null,null,null,null,null,null,null,null,null,null,null,null,null,415,{"$f":"OFFSET('Raw Data'!EJ21,$B$38,$B$37)","v":0},{"$f":"OFFSET('Raw Data'!EK21,$B$38,$B$37)","v":0},{"$f":"OFFSET('Raw Data'!EL21,$B$38,$B$37)","v":0},{"$f":"OFFSET('Raw Data'!EM21,$B$38,$B$37)","v":1},{"$f":"OFFSET('Raw Data'!EN21,$B$38,$B$37)","v":1},{"$f":"OFFSET('Raw Data'!EO21,$B$38,$B$37)","v":3},{"$f":"OFFSET('Raw Data'!EP21,$B$38,$B$37)","v":2},0.4,1,"04:15:00",0,0,0,1,1,3,2,0.4,1]
[null,"Weekday Average",null,null,null,null,19,null,null,null,null,null,null,null,null,null,null,null,null,null,null,null,null,null,null,null,430,{"$f":"OFFSET('Raw Data'!EJ22,$B$38,$B$37)","v":0},{"$f":"OFFSET('Raw Data'!EK22,$B$38,$B$37)","v":0},{"$f":"OFFSET('Raw Data'!EL22,$B$38,$B$37)","v":3},{"$f":"OFFSET('Raw Data'!EM22,$B$38,$B$37)","v":0},{"$f":"OFFSET('Raw Data'!EN22,$B$38,$B$37)","v":0},{"$f":"OFFSET('Raw Data'!EO22,$B$38,$B$37)","v":1},{"$f":"OFFSET('Raw Data'!EP22,$B$38,$B$37)","v":3},0.6,1,"04:30:00",0,0,3,0,0,1,3,0.6,1]
[null,"7-Day Average",null,null,null,null,20,null,null,null,null,null,null,null,null,null,null,null,null,null,null,null,null,null,null,null,445,{"$f":"OFFSET('Raw Data'!EJ23,$B$38,$B$37)","v":0},{"$f":"OFFSET('Raw Data'!EK23,$B$38,$B$37)","v":0},{"$f":"OFFSET('Raw Data'!EL23,$B$38,$B$37)","v":2},{"$f":"OFFSET('Raw Data'!EM23,$B$38,$B$37)","v":0},{"$f":"OFFSET('Raw Data'!EN23,$B$38,$B$37)","v":0},{"$f":"OFFSET('Raw Data'!EO23,$B$38,$B$37)","v":0},{"$f":"OFFSET('Raw Data'!EP23,$B$38,$B$37)","v":4},0.4,0.8571428571428571,"04:45:00",0,0,2,0,0,0,4,0.4,0.8571428571428571]
[null,8,null,null,null,null,null,null,null,null,null,null,null,null,null,null,null,null,null,null,null,null,null,null,null,null,500,{"$f":"OFFSET('Raw Data'!EJ24,$B$38,$B$37)","v":2},{"$f":"OFFSET('Raw Data'!EK24,$B$38,$B$37)","v":3},{"$f":"OFFSET('Raw Data'!EL24,$B$38,$B$37)","v":1},{"$f":"OFFSET('Raw Data'!EM24,$B$38,$B$37)","v":1},{"$f":"OFFSET('Raw Data'!EN24,$B$38,$B$37)","v":3},{"$f":"OFFSET('Raw Data'!EO24,$B$38,$B$37)","v":2},{"$f":"OFFSET('Raw Data'!EP24,$B$38,$B$37)","v":2},2,2,"05:00:00",2,3,1,1,3,2,2,2,2]
[null,null,null,null,null,null,null,"Input_Plans Details - alter if less site plans are needed than the no. of sites",null,null,null,null,null,null,null,null,null,null,null,null,null,null,null,null,null,null,515,{"$f":"OFFSET('Raw Data'!EJ25,$B$38,$B$37)","v":1},{"$f":"OFFSET('Raw Data'!EK25,$B$38,$B$37)","v":2},{"$f":"OFFSET('Raw Data'!EL25,$B$38,$B$37)","v":2},{"$f":"OFFSET('Raw Data'!EM25,$B$38,$B$37)","v":1},{"$f":"OFFSET('Raw Data'!EN25,$B$38,$B$37)","v":4},{"$f":"OFFSET('Raw Data'!EO25,$B$38,$B$37)","v":3},{"$f":"OFFSET('Raw Data'!EP25,$B$38,$B$37)","v":2},2,2.1428571428571428,{"$f":"AK25+\"00:15\"","v":"05:15:00"},{"$f":"IF(AL$3=TRUE,AB26,\"\")","v":1},2,2,1,4,3,2,2,2.1428571428571428]
[null,"Current Data Row Reference (Classes)",null,null,null,null,null,"Road","Location","Site No.",null,null,null,null,"\"Select Site…\"",null,null,null,null,null,null,null,null,null,null,null,530,{"$f":"OFFSET('Raw Data'!EJ26,$B$38,$B$37)","v":2},{"$f":"OFFSET('Raw Data'!EK26,$B$38,$B$37)","v":2},{"$f":"OFFSET('Raw Data'!EL26,$B$38,$B$37)","v":3},{"$f":"OFFSET('Raw Data'!EM26,$B$38,$B$37)","v":4},{"$f":"OFFSET('Raw Data'!EN26,$B$38,$B$37)","v":1},{"$f":"OFFSET('Raw Data'!EO26,$B$38,$B$37)","v":1},{"$f":"OFFSET('Raw Data'!EP26,$B$38,$B$37)","v":3},2.4,2.2857142857142856,{"$f":"AK26+\"00:15\"","v":"05:30:00"},2,2,3,4,1,1,3,2.4,2.2857142857142856]
[null,{"$f":"SUM(B25-1)*96","v":672},null,null,null,null,null,{"$f":"IF(H5=\"\", \"\", H5)","v":"Meadow Street"},{"$f":"IF(I5=\"\", \"\", I5)","v":"51.49499,-0.09696"},1,null,null,null,null,{"$f":"IF(H28=\"\", \"\",J28&\". \"&H28&\" - \"&I28)","v":"1. Meadow Street - 51.49499,-0.09696"},null,null,null,null,null,null,null,null,null,null,null,545,{"$f":"OFFSET('Raw Data'!EJ27,$B$38,$B$37)","v":7},{"$f":"OFFSET('Raw Data'!EK27,$B$38,$B$37)","v":2},{"$f":"OFFSET('Raw Data'!EL27,$B$38,$B$37)","v":1},{"$f":"OFFSET('Raw Data'!EM27,$B$38,$B$37)","v":3},{"$f":"OFFSET('Raw Data'!EN27,$B$38,$B$37)","v":2},{"$f":"OFFSET('Raw Data'!EO27,$B$38,$B$37)","v":3},{"$f":"OFFSET('Raw Data'!EP27,$B$38,$B$37)","v":1},3,2.7142857142857144,"05:45:00",7,2,1,3,2,3,1,3,2.7142857142857144]
[null,{"$f":"SUM(($G$3-1)*864)+B28","v":672},null,null,null,null,null,{"$f":"IF(H6=\"\", \"\", H6)","v":"Rockingham Street"},"51.49637,-0.09528",2,null,null,null,null,{"$f":"IF(H29=\"\", \"\",J29&\". \"&H29&\" - \"&I29)","v":"2. Rockingham Street - 51.49637,-0.09528"},null,null,null,null,null,null,null,null,null,null,null,600,{"$f":"OFFSET('Raw Data'!EJ28,$B$38,$B$37)","v":3},{"$f":"OFFSET('Raw Data'!EK28,$B$38,$B$37)","v":2},{"$f":"OFFSET('Raw Data'!EL28,$B$38,$B$37)","v":4},{"$f":"OFFSET('Raw Data'!EM28,$B$38,$B$37)","v":1},{"$f":"OFFSET('Raw Data'!EN28,$B$38,$B$37)","v":2},{"$f":"OFFSET('Raw Data'!EO28,$B$38,$B$37)","v":2},{"$f":"OFFSET('Raw Data'!EP28,$B$38,$B$37)","v":0},{"$f":"SUM(AB29:AF29)/5","v":2.4},{"$f":"SUM(AB29:AH29)/7","v":2},"06:00:00",3,2,4,1,2,2,0,2.4,2]
[null,null,null,null,null,null,null,{"$f":"IF(H7=\"\", \"\", H7)","v":"Falmouth Street"},"51.49566,-0.09463",3,null,null,null,null,"3. Falmouth Street - 51.49566,-0.09463",null,null,null,null,null,null,null,null,null,null,null,615,{"$f":"OFFSET('Raw Data'!EJ29,$B$38,$B$37)","v":6},{"$f":"OFFSET('Raw Data'!EK29,$B$38,$B$37)","v":2},{"$f":"OFFSET('Raw Data'!EL29,$B$38,$B$37)","v":3},{"$f":"OFFSET('Raw Data'!EM29,$B$38,$B$37)","v":2},{"$f":"OFFSET('Raw Data'!EN29,$B$38,$B$37)","v":3},{"$f":"OFFSET('Raw Data'!EO29,$B$38,$B$37)","v":5},{"$f":"OFFSET('Raw Data'!EP29,$B$38,$B$37)","v":3},3.2,3.4285714285714284,"06:15:00",6,2,3,2,3,5,3,3.2,3.4285714285714284]
[null,"Current Data Row Reference (Speed)",null,null,null,null,null,{"$f":"IF(H8=\"\", \"\", H8)","v":"Brockham Street"},"51.49801,-0.09446",4,null,null,null,null,"4. Brockham Street - 51.49801,-0.09446",null,null,null,null,null,null,null,null,null,null,null,630,{"$f":"OFFSET('Raw Data'!EJ30,$B$38,$B$37)","v":5},{"$f":"OFFSET('Raw Data'!EK30,$B$38,$B$37)","v":6},{"$f":"OFFSET('Raw Data'!EL30,$B$38,$B$37)","v":6},{"$f":"OFFSET('Raw Data'!EM30,$B$38,$B$37)","v":5},{"$f":"OFFSET('Raw Data'!EN30,$B$38,$B$37)","v":2},{"$f":"OFFSET('Raw Data'!EO30,$B$38,$B$37)","v":4},{"$f":"OFFSET('Raw Data'!EP30,$B$38,$B$37)","v":2},4.8,4.2857142857142856,"06:30:00",5,6,6,5,2,4,2,4.8,4.2857142857142856]
[null,{"$f":"SUM(B4-1)*39","v":0},null,null,null,null,null,{"$f":"IF(H9=\"\", \"\", H9)","v":"Swan Street"},"51.49881,-0.09521",5,null,null,null,null,"5. Swan Street - 51.49881,-0.09521",null,null,null,null,null,null,null,null,null,null,null,645,{"$f":"OFFSET('Raw Data'!EJ31,$B$38,$B$37)","v":7},{"$f":"OFFSET('Raw Data'!EK31,$B$38,$B$37)","v":8},{"$f":"OFFSET('Raw Data'!EL31,$B$38,$B$37)","v":13},{"$f":"OFFSET('Raw Data'!EM31,$B$38,$B$37)","v":10},{"$f":"OFFSET('Raw Data'!EN31,$B$38,$B$37)","v":5},{"$f":"OFFSET('Raw Data'!EO31,$B$38,$B$37)","v":5},{"$f":"OFFSET('Raw Data'!EP31,$B$38,$B$37)","v":1},8.6,7,"06:45:00",7,8,13,10,5,5,1,8.6,7]
[null,{"$f":"SUM(B25-1)*96","v":672},null,null,null,null,null,{"$f":"IF(H10=\"\", \"\", H10)","v":"Avonmouth Street"},"51.49805,-0.09771",6,null,null,null,null,"6. Avonmouth Street - 51.49805,-0.09771",null,null,null,null,null,null,null,null,null,null,null,700,{"$f":"OFFSET('Raw Data'!EJ32,$B$38,$B$37)","v":4},{"$f":"OFFSET('Raw Data'!EK32,$B$38,$B$37)","v":8},{"$f":"OFFSET('Raw Data'!EL32,$B$38,$B$37)","v":13},{"$f":"OFFSET('Raw Data'!EM32,$B$38,$B$37)","v":10},{"$f":"OFFSET('Raw Data'!EN32,$B$38,$B$37)","v":8},{"$f":"OFFSET('Raw Data'!EO32,$B$38,$B$37)","v":2},{"$f":"OFFSET('Raw Data'!EP32,$B$38,$B$37)","v":1},8.6,6.5714285714285712,"07:00:00",4,8,13,10,8,2,1,8.6,6.5714285714285712]
[null,{"$f":"SUM(B33+B12)","v":672},null,null,null,null,null,{"$f":"IF(H11=\"\", \"\", H11)","v":""},"","",null,null,null,null,"",null,null,null,null,null,null,null,null,null,null,null,715,{"$f":"OFFSET('Raw Data'!EJ33,$B$38,$B$37)","v":14},{"$f":"OFFSET('Raw Data'!EK33,$B$38,$B$37)","v":12},{"$f":"OFFSET('Raw Data'!EL33,$B$38,$B$37)","v":14},{"$f":"OFFSET('Raw Data'!EM33,$B$38,$B$37)","v":16},{"$f":"OFFSET('Raw Data'!EN33,$B$38,$B$37)","v":6},{"$f":"OFFSET('Raw Data'!EO33,$B$38,$B$37)","v":2},{"$f":"OFFSET('Raw Data'!EP33,$B$38,$B$37)","v":2},12.4,9.4285714285714288,"07:15:00",14,12,14,16,6,2,2,12.4,9.4285714285714288]
[null,null,null,null,null,null,null,{"$f":"IF(H12=\"\", \"\", H12)","v":""},"","",null,null,null,null,"",null,null,null,null,null,null,null,null,null,null,null,730,{"$f":"OFFSET('Raw Data'!EJ34,$B$38,$B$37)","v":20},{"$f":"OFFSET('Raw Data'!EK34,$B$38,$B$37)","v":19},{"$f":"OFFSET('Raw Data'!EL34,$B$38,$B$37)","v":19},{"$f":"OFFSET('Raw Data'!EM34,$B$38,$B$37)","v":16},{"$f":"OFFSET('Raw Data'!EN34,$B$38,$B$37)","v":18},{"$f":"OFFSET('Raw Data'!EO34,$B$38,$B$37)","v":5},{"$f":"OFFSET('Raw Data'!EP34,$B$38,$B$37)","v":2},18.399999999999999,14.142857142857142,"07:30:00",20,19,19,16,18,5,2,18.399999999999999,14.142857142857142]
[null,"Current Data Row Reference (Vol Graph)",null,null,null,null,null,{"$f":"IF(H13=\"\", \"\", H13)","v":""},"","",null,null,null,null,"",null,null,null,null,null,null,null,null,null,null,null,745,{"$f":"OFFSET('Raw Data'!EJ35,$B$38,$B$37)","v":21},{"$f":"OFFSET('Raw Data'!EK35,$B$38,$B$37)","v":34},{"$f":"OFFSET('Raw Data'!EL35,$B$38,$B$37)","v":32},{"$f":"OFFSET('Raw Data'!EM35,$B$38,$B$37)","v":26},{"$f":"OFFSET('Raw Data'!EN35,$B$38,$B$37)","v":26},{"$f":"OFFSET('Raw Data'!EO35,$B$38,$B$37)","v":4},{"$f":"OFFSET('Raw Data'!EP35,$B$38,$B$37)","v":2},27.8,20.714285714285715,"07:45:00",21,34,32,26,26,4,2,27.8,20.714285714285715]
[null,{"$f":"+B11","v":0},null,null,null,null,null,{"$f":"IF(H14=\"\", \"\", H14)","v":""},"","",null,null,null,null,"",null,null,null,null,null,null,null,null,null,null,null,800,{"$f":"OFFSET('Raw Data'!EJ36,$B$38,$B$37)","v":36},{"$f":"OFFSET('Raw Data'!EK36,$B$38,$B$37)","v":38},{"$f":"OFFSET('Raw Data'!EL36,$B$38,$B$37)","v":30},{"$f":"OFFSET('Raw Data'!EM36,$B$38,$B$37)","v":28},{"$f":"OFFSET('Raw Data'!EN36,$B$38,$B$37)","v":15},{"$f":"OFFSET('Raw Data'!EO36,$B$38,$B$37)","v":3},{"$f":"OFFSET('Raw Data'!EP36,$B$38,$B$37)","v":2},29.4,21.714285714285715,"08:00:00",36,38,30,28,15,3,2,29.4,21.714285714285715]
[null,{"$f":"+B12","v":0},null,null,null,null,null,null,null,null,null,null,null,null,null,null,null,null,null,null,null,null,null,null,null,null,815,{"$f":"OFFSET('Raw Data'!EJ37,$B$38,$B$37)","v":42},{"$f":"OFFSET('Raw Data'!EK37,$B$38,$B$37)","v":52},{"$f":"OFFSET('Raw Data'!EL37,$B$38,$B$37)","v":36},{"$f":"OFFSET('Raw Data'!EM37,$B$38,$B$37)","v":37},{"$f":"OFFSET('Raw Data'!EN37,$B$38,$B$37)","v":42},{"$f":"OFFSET('Raw Data'!EO37,$B$38,$B$37)","v":3},{"$f":"OFFSET('Raw Data'!EP37,$B$38,$B$37)","v":3},41.8,30.714285714285715,"08:15:00",42,52,36,37,42,3,3,41.8,30.714285714285715]
[null,null,null,null,null,null,null,null,null,null,null,null,null,null,null,null,null,null,null,null,null,null,null,null,null,null,830,{"$f":"OFFSET('Raw Data'!EJ38,$B$38,$B$37)","v":46},{"$f":"OFFSET('Raw Data'!EK38,$B$38,$B$37)","v":51},{"$f":"OFFSET('Raw Data'!EL38,$B$38,$B$37)","v":47},{"$f":"OFFSET('Raw Data'!EM38,$B$38,$B$37)","v":41},{"$f":"OFFSET('Raw Data'!EN38,$B$38,$B$37)","v":30},{"$f":"OFFSET('Raw Data'!EO38,$B$38,$B$37)","v":4},{"$f":"OFFSET('Raw Data'!EP38,$B$38,$B$37)","v":8},43,32.428571428571431,"08:30:00",46,51,47,41,30,4,8,43,32.428571428571431]
[null,null,null,null,null,null,null,null,null,null,null,null,null,null,null,null,null,null,null,null,null,null,null,null,null,null,845,{"$f":"OFFSET('Raw Data'!EJ39,$B$38,$B$37)","v":45},{"$f":"OFFSET('Raw Data'!EK39,$B$38,$B$37)","v":44},{"$f":"OFFSET('Raw Data'!EL39,$B$38,$B$37)","v":54},{"$f":"OFFSET('Raw Data'!EM39,$B$38,$B$37)","v":41},{"$f":"OFFSET('Raw Data'!EN39,$B$38,$B$37)","v":36},{"$f":"OFFSET('Raw Data'!EO39,$B$38,$B$37)","v":2},{"$f":"OFFSET('Raw Data'!EP39,$B$38,$B$37)","v":3},44,32.142857142857146,"08:45:00",45,44,54,41,36,2,3,44,32.142857142857146]
[null,null,null,null,null,null,null,null,null,null,null,null,null,null,null,null,null,null,null,null,null,null,null,null,null,null,900,{"$f":"OFFSET('Raw Data'!EJ40,$B$38,$B$37)","v":32},{"$f":"OFFSET('Raw Data'!EK40,$B$38,$B$37)","v":35},{"$f":"OFFSET('Raw Data'!EL40,$B$38,$B$37)","v":47},{"$f":"OFFSET('Raw Data'!EM40,$B$38,$B$37)","v":31},{"$f":"OFFSET('Raw Data'!EN40,$B$38,$B$37)","v":35},{"$f":"OFFSET('Raw Data'!EO40,$B$38,$B$37)","v":4},{"$f":"OFFSET('Raw Data'!EP40,$B$38,$B$37)","v":4},36,26.857142857142858,"09:00:00",32,35,47,31,35,4,4,36,26.857142857142858]
[null,null,null,null,null,null,null,null,null,null,null,null,null,null,null,null,null,null,null,null,null,null,null,null,null,null,915,{"$f":"OFFSET('Raw Data'!EJ41,$B$38,$B$37)","v":27},{"$f":"OFFSET('Raw Data'!EK41,$B$38,$B$37)","v":37},{"$f":"OFFSET('Raw Data'!EL41,$B$38,$B$37)","v":28},{"$f":"OFFSET('Raw Data'!EM41,$B$38,$B$37)","v":29},{"$f":"OFFSET('Raw Data'!EN41,$B$38,$B$37)","v":18},{"$f":"OFFSET('Raw Data'!EO41,$B$38,$B$37)","v":9},{"$f":"OFFSET('Raw Data'!EP41,$B$38,$B$37)","v":4},27.8,21.714285714285715,"09:15:00",27,37,28,29,18,9,4,27.8,21.714285714285715]
[null,null,null,null,null,null,null,null,null,null,null,null,null,null,null,null,null,null,null,null,null,null,null,null,null,null,930,{"$f":"OFFSET('Raw Data'!EJ42,$B$38,$B$37)","v":24},{"$f":"OFFSET('Raw Data'!EK42,$B$38,$B$37)","v":27},{"$f":"OFFSET('Raw Data'!EL42,$B$38,$B$37)","v":27},{"$f":"OFFSET('Raw Data'!EM42,$B$38,$B$37)","v":23},{"$f":"OFFSET('Raw Data'!EN42,$B$38,$B$37)","v":22},{"$f":"OFFSET('Raw Data'!EO42,$B$38,$B$37)","v":9},{"$f":"OFFSET('Raw Data'!EP42,$B$38,$B$37)","v":4},24.6,19.428571428571427,"09:30:00",24,27,27,23,22,9,4,24.6,19.428571428571427]
[null,null,null,null,null,null,null,null,null,null,null,null,null,null,null,null,null,null,null,null,null,null,null,null,null,null,945,{"$f":"OFFSET('Raw Data'!EJ43,$B$38,$B$37)","v":16},{"$f":"OFFSET('Raw Data'!EK43,$B$38,$B$37)","v":15},{"$f":"OFFSET('Raw Data'!EL43,$B$38,$B$37)","v":19},{"$f":"OFFSET('Raw Data'!EM43,$B$38,$B$37)","v":17},{"$f":"OFFSET('Raw Data'!EN43,$B$38,$B$37)","v":21},{"$f":"OFFSET('Raw Data'!EO43,$B$38,$B$37)","v":12},{"$f":"OFFSET('Raw Data'!EP43,$B$38,$B$37)","v":9},17.600000000000001,15.571428571428571,"09:45:00",16,15,19,17,21,12,9,17.600000000000001,15.571428571428571]
[null,null,null,null,null,null,null,null,null,null,null,null,null,null,null,null,null,null,null,null,null,null,null,null,null,null,1000,{"$f":"OFFSET('Raw Data'!EJ44,$B$38,$B$37)","v":12},{"$f":"OFFSET('Raw Data'!EK44,$B$38,$B$37)","v":18},{"$f":"OFFSET('Raw Data'!EL44,$B$38,$B$37)","v":10},{"$f":"OFFSET('Raw Data'!EM44,$B$38,$B$37)","v":17},{"$f":"OFFSET('Raw Data'!EN44,$B$38,$B$37)","v":5},{"$f":"OFFSET('Raw Data'!EO44,$B$38,$B$37)","v":12},{"$f":"OFFSET('Raw Data'!EP44,$B$38,$B$37)","v":4},12.4,11.142857142857142,"10:00:00",12,18,10,17,5,12,4,12.4,11.142857142857142]
[null,null,null,null,null,null,null,null,null,null,null,null,null,null,null,null,null,null,null,null,null,null,null,null,null,null,1015,{"$f":"OFFSET('Raw Data'!EJ45,$B$38,$B$37)","v":9},{"$f":"OFFSET('Raw Data'!EK45,$B$38,$B$37)","v":9},{"$f":"OFFSET('Raw Data'!EL45,$B$38,$B$37)","v":4},{"$f":"OFFSET('Raw Data'!EM45,$B$38,$B$37)","v":3},{"$f":"OFFSET('Raw Data'!EN45,$B$38,$B$37)","v":6},{"$f":"OFFSET('Raw Data'!EO45,$B$38,$B$37)","v":15},{"$f":"OFFSET('Raw Data'!EP45,$B$38,$B$37)","v":4},6.2,7.1428571428571432,"10:15:00",9,9,4,3,6,15,4,6.2,7.1428571428571432]
[null,null,null,null,null,null,null,null,null,null,null,null,null,null,null,null,null,null,null,null,null,null,null,null,null,null,1030,{"$f":"OFFSET('Raw Data'!EJ46,$B$38,$B$37)","v":8},{"$f":"OFFSET('Raw Data'!EK46,$B$38,$B$37)","v":9},{"$f":"OFFSET('Raw Data'!EL46,$B$38,$B$37)","v":7},{"$f":"OFFSET('Raw Data'!EM46,$B$38,$B$37)","v":10},{"$f":"OFFSET('Raw Data'!EN46,$B$38,$B$37)","v":8},{"$f":"OFFSET('Raw Data'!EO46,$B$38,$B$37)","v":4},{"$f":"OFFSET('Raw Data'!EP46,$B$38,$B$37)","v":4},8.4,7.1428571428571432,"10:30:00",8,9,7,10,8,4,4,8.4,7.1428571428571432]
[null,null,null,null,null,null,null,null,null,null,null,null,null,null,null,null,null,null,null,null,null,null,null,null,null,null,1045,{"$f":"OFFSET('Raw Data'!EJ47,$B$38,$B$37)","v":5},{"$f":"OFFSET('Raw Data'!EK47,$B$38,$B$37)","v":5},{"$f":"OFFSET('Raw Data'!EL47,$B$38,$B$37)","v":11},{"$f":"OFFSET('Raw Data'!EM47,$B$38,$B$37)","v":4},{"$f":"OFFSET('Raw Data'!EN47,$B$38,$B$37)","v":11},{"$f":"OFFSET('Raw Data'!EO47,$B$38,$B$37)","v":9},{"$f":"OFFSET('Raw Data'!EP47,$B$38,$B$37)","v":5},7.2,7.1428571428571432,{"$f":"AK47+\"00:15\"","v":"10:45:00"},5,5,11,4,11,9,5,7.2,7.1428571428571432]
[null,null,null,null,null,null,null,null,null,null,null,null,null,null,null,null,null,null,null,null,null,null,null,null,null,null,1100,{"$f":"OFFSET('Raw Data'!EJ48,$B$38,$B$37)","v":4},{"$f":"OFFSET('Raw Data'!EK48,$B$38,$B$37)","v":4},{"$f":"OFFSET('Raw Data'!EL48,$B$38,$B$37)","v":9},{"$f":"OFFSET('Raw Data'!EM48,$B$38,$B$37)","v":15},{"$f":"OFFSET('Raw Data'!EN48,$B$38,$B$37)","v":9},{"$f":"OFFSET('Raw Data'!EO48,$B$38,$B$37)","v":8},{"$f":"OFFSET('Raw Data'!EP48,$B$38,$B$37)","v":5},8.1999999999999993,7.7142857142857144,"11:00:00",4,4,9,15,9,8,5,8.1999999999999993,7.7142857142857144]
[null,null,null,null,null,null,null,null,null,null,null,null,null,null,null,null,null,null,null,null,null,null,null,null,null,null,1115,{"$f":"OFFSET('Raw Data'!EJ49,$B$38,$B$37)","v":4},{"$f":"OFFSET('Raw Data'!EK49,$B$38,$B$37)","v":6},{"$f":"OFFSET('Raw Data'!EL49,$B$38,$B$37)","v":14},{"$f":"OFFSET('Raw Data'!EM49,$B$38,$B$37)","v":1},{"$f":"OFFSET('Raw Data'!EN49,$B$38,$B$37)","v":5},{"$f":"OFFSET('Raw Data'!EO49,$B$38,$B$37)","v":7},{"$f":"OFFSET('Raw Data'!EP49,$B$38,$B$37)","v":3},6,5.7142857142857144,"11:15:00",4,6,14,1,5,7,3,6,5.7142857142857144]
[null,null,null,null,null,null,null,null,null,null,null,null,null,null,null,null,null,null,null,null,null,null,null,null,null,null,1130,{"$f":"OFFSET('Raw Data'!EJ50,$B$38,$B$37)","v":8},{"$f":"OFFSET('Raw Data'!EK50,$B$38,$B$37)","v":7},{"$f":"OFFSET('Raw Data'!EL50,$B$38,$B$37)","v":9},{"$f":"OFFSET('Raw Data'!EM50,$B$38,$B$37)","v":4},{"$f":"OFFSET('Raw Data'!EN50,$B$38,$B$37)","v":6},{"$f":"OFFSET('Raw Data'!EO50,$B$38,$B$37)","v":8},{"$f":"OFFSET('Raw Data'!EP50,$B$38,$B$37)","v":10},6.8,7.4285714285714288,"11:30:00",8,7,9,4,6,8,10,6.8,7.4285714285714288]
[null,null,null,null,null,null,null,null,null,null,null,null,null,null,null,null,null,null,null,null,null,null,null,null,null,null,1145,{"$f":"OFFSET('Raw Data'!EJ51,$B$38,$B$37)","v":5},{"$f":"OFFSET('Raw Data'!EK51,$B$38,$B$37)","v":4},{"$f":"OFFSET('Raw Data'!EL51,$B$38,$B$37)","v":5},{"$f":"OFFSET('Raw Data'!EM51,$B$38,$B$37)","v":9},{"$f":"OFFSET('Raw Data'!EN51,$B$38,$B$37)","v":6},{"$f":"OFFSET('Raw Data'!EO51,$B$38,$B$37)","v":7},{"$f":"OFFSET('Raw Data'!EP51,$B$38,$B$37)","v":7},5.8,6.1428571428571432,"11:45:00",5,4,5,9,6,7,7,5.8,6.1428571428571432]
[null,null,null,null,null,null,null,null,null,null,null,null,null,null,null,null,null,null,null,null,null,null,null,null,null,null,1200,{"$f":"OFFSET('Raw Data'!EJ52,$B$38,$B$37)","v":10},{"$f":"OFFSET('Raw Data'!EK52,$B$38,$B$37)","v":5},{"$f":"OFFSET('Raw Data'!EL52,$B$38,$B$37)","v":5},{"$f":"OFFSET('Raw Data'!EM52,$B$38,$B$37)","v":4},{"$f":"OFFSET('Raw Data'!EN52,$B$38,$B$37)","v":9},{"$f":"OFFSET('Raw Data'!EO52,$B$38,$B$37)","v":8},{"$f":"OFFSET('Raw Data'!EP52,$B$38,$B$37)","v":8},6.6,7,"12:00:00",10,5,5,4,9,8,8,6.6,7]
[null,null,null,null,null,null,null,null,null,null,null,null,null,null,null,null,null,null,null,null,null,null,null,null,null,null,1215,{"$f":"OFFSET('Raw Data'!EJ53,$B$38,$B$37)","v":9},{"$f":"OFFSET('Raw Data'!EK53,$B$38,$B$37)","v":4},{"$f":"OFFSET('Raw Data'!EL53,$B$38,$B$37)","v":9},{"$f":"OFFSET('Raw Data'!EM53,$B$38,$B$37)","v":7},{"$f":"OFFSET('Raw Data'!EN53,$B$38,$B$37)","v":8},{"$f":"OFFSET('Raw Data'!EO53,$B$38,$B$37)","v":6},{"$f":"OFFSET('Raw Data'!EP53,$B$38,$B$37)","v":5},7.4,6.8571428571428568,"12:15:00",9,4,9,7,8,6,5,7.4,6.8571428571428568]
[null,null,null,null,null,null,null,null,null,null,null,null,null,null,null,null,null,null,null,null,null,null,null,null,null,null,1230,{"$f":"OFFSET('Raw Data'!EJ54,$B$38,$B$37)","v":8},{"$f":"OFFSET('Raw Data'!EK54,$B$38,$B$37)","v":4},{"$f":"OFFSET('Raw Data'!EL54,$B$38,$B$37)","v":4},{"$f":"OFFSET('Raw Data'!EM54,$B$38,$B$37)","v":6},{"$f":"OFFSET('Raw Data'!EN54,$B$38,$B$37)","v":8},{"$f":"OFFSET('Raw Data'!EO54,$B$38,$B$37)","v":9},{"$f":"OFFSET('Raw Data'!EP54,$B$38,$B$37)","v":6},6,6.4285714285714288,"12:30:00",8,4,4,6,8,9,6,6,6.4285714285714288]
[null,null,null,null,null,null,null,null,null,null,null,null,null,null,null,null,null,null,null,null,null,null,null,null,null,null,1245,{"$f":"OFFSET('Raw Data'!EJ55,$B$38,$B$37)","v":7},{"$f":"OFFSET('Raw Data'!EK55,$B$38,$B$37)","v":7},{"$f":"OFFSET('Raw Data'!EL55,$B$38,$B$37)","v":4},{"$f":"OFFSET('Raw Data'!EM55,$B$38,$B$37)","v":7},{"$f":"OFFSET('Raw Data'!EN55,$B$38,$B$37)","v":14},{"$f":"OFFSET('Raw Data'!EO55,$B$38,$B$37)","v":12},{"$f":"OFFSET('Raw Data'!EP55,$B$38,$B$37)","v":10},7.8,8.7142857142857135,"12:45:00",7,7,4,7,14,12,10,7.8,8.7142857142857135]
[null,null,null,null,null,null,null,null,null,null,null,null,null,null,null,null,null,null,null,null,null,null,null,null,null,null,1300,{"$f":"OFFSET('Raw Data'!EJ56,$B$38,$B$37)","v":8},{"$f":"OFFSET('Raw Data'!EK56,$B$38,$B$37)","v":7},{"$f":"OFFSET('Raw Data'!EL56,$B$38,$B$37)","v":9},{"$f":"OFFSET('Raw Data'!EM56,$B$38,$B$37)","v":8},{"$f":"OFFSET('Raw Data'!EN56,$B$38,$B$37)","v":17},{"$f":"OFFSET('Raw Data'!EO56,$B$38,$B$37)","v":8},{"$f":"OFFSET('Raw Data'!EP56,$B$38,$B$37)","v":5},9.8000000000000007,8.8571428571428577,"13:00:00",8,7,9,8,17,8,5,9.8000000000000007,8.8571428571428577]
[null,null,null,null,null,null,null,null,null,null,null,null,null,null,null,null,null,null,null,null,null,null,null,null,null,null,1315,{"$f":"OFFSET('Raw Data'!EJ57,$B$38,$B$37)","v":9},{"$f":"OFFSET('Raw Data'!EK57,$B$38,$B$37)","v":5},{"$f":"OFFSET('Raw Data'!EL57,$B$38,$B$37)","v":6},{"$f":"OFFSET('Raw Data'!EM57,$B$38,$B$37)","v":7},{"$f":"OFFSET('Raw Data'!EN57,$B$38,$B$37)","v":10},{"$f":"OFFSET('Raw Data'!EO57,$B$38,$B$37)","v":9},{"$f":"OFFSET('Raw Data'!EP57,$B$38,$B$37)","v":11},7.4,8.1428571428571423,"13:15:00",9,5,6,7,10,9,11,7.4,8.1428571428571423]
[null,null,null,null,null,null,null,null,null,null,null,null,null,null,null,null,null,null,null,null,null,null,null,null,null,null,1330,{"$f":"OFFSET('Raw Data'!EJ58,$B$38,$B$37)","v":7},{"$f":"OFFSET('Raw Data'!EK58,$B$38,$B$37)","v":5},{"$f":"OFFSET('Raw Data'!EL58,$B$38,$B$37)","v":8},{"$f":"OFFSET('Raw Data'!EM58,$B$38,$B$37)","v":5},{"$f":"OFFSET('Raw Data'!EN58,$B$38,$B$37)","v":8},{"$f":"OFFSET('Raw Data'!EO58,$B$38,$B$37)","v":9},{"$f":"OFFSET('Raw Data'!EP58,$B$38,$B$37)","v":11},6.6,7.5714285714285712,"13:30:00",7,5,8,5,8,9,11,6.6,7.5714285714285712]
[null,null,null,null,null,null,null,null,null,null,null,null,null,null,null,null,null,null,null,null,null,null,null,null,null,null,1345,{"$f":"OFFSET('Raw Data'!EJ59,$B$38,$B$37)","v":4},{"$f":"OFFSET('Raw Data'!EK59,$B$38,$B$37)","v":8},{"$f":"OFFSET('Raw Data'!EL59,$B$38,$B$37)","v":5},{"$f":"OFFSET('Raw Data'!EM59,$B$38,$B$37)","v":6},{"$f":"OFFSET('Raw Data'!EN59,$B$38,$B$37)","v":5},{"$f":"OFFSET('Raw Data'!EO59,$B$38,$B$37)","v":8},{"$f":"OFFSET('Raw Data'!EP59,$B$38,$B$37)","v":11},5.6,6.7142857142857144,"13:45:00",4,8,5,6,5,8,11,5.6,6.7142857142857144]
[null,null,null,null,null,null,null,null,null,null,null,null,null,null,null,null,null,null,null,null,null,null,null,null,null,null,1400,{"$f":"OFFSET('Raw Data'!EJ60,$B$38,$B$37)","v":4},{"$f":"OFFSET('Raw Data'!EK60,$B$38,$B$37)","v":4},{"$f":"OFFSET('Raw Data'!EL60,$B$38,$B$37)","v":4},{"$f":"OFFSET('Raw Data'!EM60,$B$38,$B$37)","v":3},{"$f":"OFFSET('Raw Data'!EN60,$B$38,$B$37)","v":5},{"$f":"OFFSET('Raw Data'!EO60,$B$38,$B$37)","v":9},{"$f":"OFFSET('Raw Data'!EP60,$B$38,$B$37)","v":12},4,5.8571428571428568,"14:00:00",4,4,4,3,5,9,12,4,5.8571428571428568]
[null,null,null,null,null,null,null,null,null,null,null,null,null,null,null,null,null,null,null,null,null,null,null,null,null,null,1415,{"$f":"OFFSET('Raw Data'!EJ61,$B$38,$B$37)","v":6},{"$f":"OFFSET('Raw Data'!EK61,$B$38,$B$37)","v":4},{"$f":"OFFSET('Raw Data'!EL61,$B$38,$B$37)","v":6},{"$f":"OFFSET('Raw Data'!EM61,$B$38,$B$37)","v":4},{"$f":"OFFSET('Raw Data'!EN61,$B$38,$B$37)","v":5},{"$f":"OFFSET('Raw Data'!EO61,$B$38,$B$37)","v":7},{"$f":"OFFSET('Raw Data'!EP61,$B$38,$B$37)","v":6},5,5.4285714285714288,"14:15:00",6,4,6,4,5,7,6,5,5.4285714285714288]
[null,null,null,null,null,null,null,null,null,null,null,null,null,null,null,null,null,null,null,null,null,null,null,null,null,null,1430,{"$f":"OFFSET('Raw Data'!EJ62,$B$38,$B$37)","v":6},{"$f":"OFFSET('Raw Data'!EK62,$B$38,$B$37)","v":6},{"$f":"OFFSET('Raw Data'!EL62,$B$38,$B$37)","v":8},{"$f":"OFFSET('Raw Data'!EM62,$B$38,$B$37)","v":2},{"$f":"OFFSET('Raw Data'!EN62,$B$38,$B$37)","v":7},{"$f":"OFFSET('Raw Data'!EO62,$B$38,$B$37)","v":8},{"$f":"OFFSET('Raw Data'!EP62,$B$38,$B$37)","v":10},5.8,6.7142857142857144,"14:30:00",6,6,8,2,7,8,10,5.8,6.7142857142857144]
[null,null,null,null,null,null,null,null,null,null,null,null,null,null,null,null,null,null,null,null,null,null,null,null,null,null,1445,{"$f":"OFFSET('Raw Data'!EJ63,$B$38,$B$37)","v":10},{"$f":"OFFSET('Raw Data'!EK63,$B$38,$B$37)","v":7},{"$f":"OFFSET('Raw Data'!EL63,$B$38,$B$37)","v":0},{"$f":"OFFSET('Raw Data'!EM63,$B$38,$B$37)","v":3},{"$f":"OFFSET('Raw Data'!EN63,$B$38,$B$37)","v":3},{"$f":"OFFSET('Raw Data'!EO63,$B$38,$B$37)","v":10},{"$f":"OFFSET('Raw Data'!EP63,$B$38,$B$37)","v":5},4.5999999999999996,5.4285714285714288,"14:45:00",10,7,0,3,3,10,5,4.5999999999999996,5.4285714285714288]
[null,null,null,null,null,null,null,null,null,null,null,null,null,null,null,null,null,null,null,null,null,null,null,null,null,null,1500,{"$f":"OFFSET('Raw Data'!EJ64,$B$38,$B$37)","v":5},{"$f":"OFFSET('Raw Data'!EK64,$B$38,$B$37)","v":3},{"$f":"OFFSET('Raw Data'!EL64,$B$38,$B$37)","v":6},{"$f":"OFFSET('Raw Data'!EM64,$B$38,$B$37)","v":5},{"$f":"OFFSET('Raw Data'!EN64,$B$38,$B$37)","v":5},{"$f":"OFFSET('Raw Data'!EO64,$B$38,$B$37)","v":5},{"$f":"OFFSET('Raw Data'!EP64,$B$38,$B$37)","v":12},4.8,5.8571428571428568,"15:00:00",5,3,6,5,5,5,12,4.8,5.8571428571428568]
[null,null,null,null,null,null,null,null,null,null,null,null,null,null,null,null,null,null,null,null,null,null,null,null,null,null,1515,{"$f":"OFFSET('Raw Data'!EJ65,$B$38,$B$37)","v":7},{"$f":"OFFSET('Raw Data'!EK65,$B$38,$B$37)","v":5},{"$f":"OFFSET('Raw Data'!EL65,$B$38,$B$37)","v":5},{"$f":"OFFSET('Raw Data'!EM65,$B$38,$B$37)","v":6},{"$f":"OFFSET('Raw Data'!EN65,$B$38,$B$37)","v":5},{"$f":"OFFSET('Raw Data'!EO65,$B$38,$B$37)","v":2},{"$f":"OFFSET('Raw Data'!EP65,$B$38,$B$37)","v":9},5.6,5.5714285714285712,"15:15:00",7,5,5,6,5,2,9,5.6,5.5714285714285712]
[null,null,null,null,null,null,null,null,null,null,null,null,null,null,null,null,null,null,null,null,null,null,null,null,null,null,1530,{"$f":"OFFSET('Raw Data'!EJ66,$B$38,$B$37)","v":7},{"$f":"OFFSET('Raw Data'!EK66,$B$38,$B$37)","v":7},{"$f":"OFFSET('Raw Data'!EL66,$B$38,$B$37)","v":5},{"$f":"OFFSET('Raw Data'!EM66,$B$38,$B$37)","v":7},{"$f":"OFFSET('Raw Data'!EN66,$B$38,$B$37)","v":4},{"$f":"OFFSET('Raw Data'!EO66,$B$38,$B$37)","v":10},{"$f":"OFFSET('Raw Data'!EP66,$B$38,$B$37)","v":6},6,6.5714285714285712,"15:30:00",7,7,5,7,4,10,6,6,6.5714285714285712]
[null,null,null,null,null,null,null,null,null,null,null,null,null,null,null,null,null,null,null,null,null,null,null,null,null,null,1545,{"$f":"OFFSET('Raw Data'!EJ67,$B$38,$B$37)","v":9},{"$f":"OFFSET('Raw Data'!EK67,$B$38,$B$37)","v":6},{"$f":"OFFSET('Raw Data'!EL67,$B$38,$B$37)","v":6},{"$f":"OFFSET('Raw Data'!EM67,$B$38,$B$37)","v":5},{"$f":"OFFSET('Raw Data'!EN67,$B$38,$B$37)","v":9},{"$f":"OFFSET('Raw Data'!EO67,$B$38,$B$37)","v":4},{"$f":"OFFSET('Raw Data'!EP67,$B$38,$B$37)","v":10},7,7,"15:45:00",9,6,6,5,9,4,10,7,7]
[null,null,null,null,null,null,null,null,null,null,null,null,null,null,null,null,null,null,null,null,null,null,null,null,null,null,1600,{"$f":"OFFSET('Raw Data'!EJ68,$B$38,$B$37)","v":6},{"$f":"OFFSET('Raw Data'!EK68,$B$38,$B$37)","v":5},{"$f":"OFFSET('Raw Data'!EL68,$B$38,$B$37)","v":3},{"$f":"OFFSET('Raw Data'!EM68,$B$38,$B$37)","v":3},{"$f":"OFFSET('Raw Data'!EN68,$B$38,$B$37)","v":4},{"$f":"OFFSET('Raw Data'!EO68,$B$38,$B$37)","v":4},{"$f":"OFFSET('Raw Data'!EP68,$B$38,$B$37)","v":13},4.2,5.4285714285714288,"16:00:00",6,5,3,3,4,4,13,4.2,5.4285714285714288]
[null,null,null,null,null,null,null,null,null,null,null,null,null,null,null,null,null,null,null,null,null,null,null,null,null,null,1615,{"$f":"OFFSET('Raw Data'!EJ69,$B$38,$B$37)","v":6},{"$f":"OFFSET('Raw Data'!EK69,$B$38,$B$37)","v":"-"},{"$f":"OFFSET('Raw Data'!EL69,$B$38,$B$37)","v":5},{"$f":"OFFSET('Raw Data'!EM69,$B$38,$B$37)","v":4},{"$f":"OFFSET('Raw Data'!EN69,$B$38,$B$37)","v":7},{"$f":"OFFSET('Raw Data'!EO69,$B$38,$B$37)","v":9},{"$f":"OFFSET('Raw Data'!EP69,$B$38,$B$37)","v":8},4.4000000000000004,5.5714285714285712,"16:15:00",{"$f":"IF(AL$3=TRUE,AB70,\"\")","v":6},{"$f":"IF(AM$3=TRUE,AC70,\"\")","v":"-"},{"$f":"IF(AN$3=TRUE,AD70,\"\")","v":5},{"$f":"IF(AO$3=TRUE,AE70,\"\")","v":4},{"$f":"IF(AP$3=TRUE,AF70,\"\")","v":7},{"$f":"IF(AQ$3=TRUE,AG70,\"\")","v":9},{"$f":"IF(AR$3=TRUE,AH70,\"\")","v":8},{"$f":"IF(AS$3=TRUE,AI70,\"\")","v":4.4000000000000004},{"$f":"IF(AT$3=TRUE,AJ70,\"\")","v":5.5714285714285712}]
[null,null,null,null,null,null,null,null,null,null,null,null,null,null,null,null,null,null,null,null,null,null,null,null,null,null,1630,{"$f":"OFFSET('Raw Data'!EJ70,$B$38,$B$37)","v":8},{"$f":"OFFSET('Raw Data'!EK70,$B$38,$B$37)","v":3},{"$f":"OFFSET('Raw Data'!EL70,$B$38,$B$37)","v":9},{"$f":"OFFSET('Raw Data'!EM70,$B$38,$B$37)","v":8},{"$f":"OFFSET('Raw Data'!EN70,$B$38,$B$37)","v":7},{"$f":"OFFSET('Raw Data'!EO70,$B$38,$B$37)","v":9},{"$f":"OFFSET('Raw Data'!EP70,$B$38,$B$37)","v":12},7,8,{"$f":"AK70+\"00:15\"","v":"16:30:00"},8,3,9,8,7,9,12,7,8]
[null,null,null,null,null,null,null,null,null,null,null,null,null,null,null,null,null,null,null,null,null,null,null,null,null,null,1645,{"$f":"OFFSET('Raw Data'!EJ71,$B$38,$B$37)","v":7},{"$f":"OFFSET('Raw Data'!EK71,$B$38,$B$37)","v":10},{"$f":"OFFSET('Raw Data'!EL71,$B$38,$B$37)","v":2},{"$f":"OFFSET('Raw Data'!EM71,$B$38,$B$37)","v":12},{"$f":"OFFSET('Raw Data'!EN71,$B$38,$B$37)","v":4},{"$f":"OFFSET('Raw Data'!EO71,$B$38,$B$37)","v":8},{"$f":"OFFSET('Raw Data'!EP71,$B$38,$B$37)","v":8},7,7.2857142857142856,"16:45:00",7,10,2,12,4,8,8,7,7.2857142857142856]
[null,null,null,null,null,null,null,null,null,null,null,null,null,null,null,null,null,null,null,null,null,null,null,null,null,null,1700,{"$f":"OFFSET('Raw Data'!EJ72,$B$38,$B$37)","v":5},{"$f":"OFFSET('Raw Data'!EK72,$B$38,$B$37)","v":4},{"$f":"OFFSET('Raw Data'!EL72,$B$38,$B$37)","v":4},{"$f":"OFFSET('Raw Data'!EM72,$B$38,$B$37)","v":12},{"$f":"OFFSET('Raw Data'!EN72,$B$38,$B$37)","v":3},{"$f":"OFFSET('Raw Data'!EO72,$B$38,$B$37)","v":12},{"$f":"OFFSET('Raw Data'!EP72,$B$38,$B$37)","v":7},5.6,6.7142857142857144,"17:00:00",5,4,4,12,3,12,7,5.6,6.7142857142857144]
[null,null,null,null,null,null,null,null,null,null,null,null,null,null,null,null,null,null,null,null,null,null,null,null,null,null,1715,{"$f":"OFFSET('Raw Data'!EJ73,$B$38,$B$37)","v":7},{"$f":"OFFSET('Raw Data'!EK73,$B$38,$B$37)","v":5},{"$f":"OFFSET('Raw Data'!EL73,$B$38,$B$37)","v":3},{"$f":"OFFSET('Raw Data'!EM73,$B$38,$B$37)","v":2},{"$f":"OFFSET('Raw Data'!EN73,$B$38,$B$37)","v":2},{"$f":"OFFSET('Raw Data'!EO73,$B$38,$B$37)","v":8},{"$f":"OFFSET('Raw Data'!EP73,$B$38,$B$37)","v":5},3.8,4.5714285714285712,"17:15:00",7,5,3,2,2,8,5,3.8,4.5714285714285712]
[null,null,null,null,null,null,null,null,null,null,null,null,null,null,null,null,null,null,null,null,null,null,null,null,null,null,1730,{"$f":"OFFSET('Raw Data'!EJ74,$B$38,$B$37)","v":10},{"$f":"OFFSET('Raw Data'!EK74,$B$38,$B$37)","v":9},{"$f":"OFFSET('Raw Data'!EL74,$B$38,$B$37)","v":7},{"$f":"OFFSET('Raw Data'!EM74,$B$38,$B$37)","v":5},{"$f":"OFFSET('Raw Data'!EN74,$B$38,$B$37)","v":7},{"$f":"OFFSET('Raw Data'!EO74,$B$38,$B$37)","v":7},{"$f":"OFFSET('Raw Data'!EP74,$B$38,$B$37)","v":6},7.6,7.2857142857142856,"17:30:00",10,9,7,5,7,7,6,7.6,7.2857142857142856]
[null,null,null,null,null,null,null,null,null,null,null,null,null,null,null,null,null,null,null,null,null,null,null,null,null,null,1745,{"$f":"OFFSET('Raw Data'!EJ75,$B$38,$B$37)","v":6},{"$f":"OFFSET('Raw Data'!EK75,$B$38,$B$37)","v":10},{"$f":"OFFSET('Raw Data'!EL75,$B$38,$B$37)","v":11},{"$f":"OFFSET('Raw Data'!EM75,$B$38,$B$37)","v":4},{"$f":"OFFSET('Raw Data'!EN75,$B$38,$B$37)","v":4},{"$f":"OFFSET('Raw Data'!EO75,$B$38,$B$37)","v":6},{"$f":"OFFSET('Raw Data'!EP75,$B$38,$B$37)","v":5},7,6.5714285714285712,"17:45:00",6,10,11,4,4,6,5,7,6.5714285714285712]
[null,null,null,null,null,null,null,null,null,null,null,null,null,null,null,null,null,null,null,null,null,null,null,null,null,null,1800,{"$f":"OFFSET('Raw Data'!EJ76,$B$38,$B$37)","v":4},{"$f":"OFFSET('Raw Data'!EK76,$B$38,$B$37)","v":12},{"$f":"OFFSET('Raw Data'!EL76,$B$38,$B$37)","v":5},{"$f":"OFFSET('Raw Data'!EM76,$B$38,$B$37)","v":9},{"$f":"OFFSET('Raw Data'!EN76,$B$38,$B$37)","v":13},{"$f":"OFFSET('Raw Data'!EO76,$B$38,$B$37)","v":3},{"$f":"OFFSET('Raw Data'!EP76,$B$38,$B$37)","v":12},8.6,8.2857142857142865,"18:00:00",4,12,5,9,13,3,12,8.6,8.2857142857142865]
[null,null,null,null,null,null,null,null,null,null,null,null,null,null,null,null,null,null,null,null,null,null,null,null,null,null,1815,{"$f":"OFFSET('Raw Data'!EJ77,$B$38,$B$37)","v":10},{"$f":"OFFSET('Raw Data'!EK77,$B$38,$B$37)","v":8},{"$f":"OFFSET('Raw Data'!EL77,$B$38,$B$37)","v":7},{"$f":"OFFSET('Raw Data'!EM77,$B$38,$B$37)","v":2},{"$f":"OFFSET('Raw Data'!EN77,$B$38,$B$37)","v":7},{"$f":"OFFSET('Raw Data'!EO77,$B$38,$B$37)","v":13},{"$f":"OFFSET('Raw Data'!EP77,$B$38,$B$37)","v":5},6.8,7.4285714285714288,"18:15:00",10,8,7,2,7,13,5,6.8,7.4285714285714288]
[null,null,null,null,null,null,null,null,null,null,null,null,null,null,null,null,null,null,null,null,null,null,null,null,null,null,1830,{"$f":"OFFSET('Raw Data'!EJ78,$B$38,$B$37)","v":6},{"$f":"OFFSET('Raw Data'!EK78,$B$38,$B$37)","v":8},{"$f":"OFFSET('Raw Data'!EL78,$B$38,$B$37)","v":6},{"$f":"OFFSET('Raw Data'!EM78,$B$38,$B$37)","v":5},{"$f":"OFFSET('Raw Data'!EN78,$B$38,$B$37)","v":13},{"$f":"OFFSET('Raw Data'!EO78,$B$38,$B$37)","v":15},{"$f":"OFFSET('Raw Data'!EP78,$B$38,$B$37)","v":13},7.6,9.4285714285714288,"18:30:00",6,8,6,5,13,15,13,7.6,9.4285714285714288]
[null,null,null,null,null,null,null,null,null,null,null,null,null,null,null,null,null,null,null,null,null,null,null,null,null,null,1845,{"$f":"OFFSET('Raw Data'!EJ79,$B$38,$B$37)","v":5},{"$f":"OFFSET('Raw Data'!EK79,$B$38,$B$37)","v":13},{"$f":"OFFSET('Raw Data'!EL79,$B$38,$B$37)","v":4},{"$f":"OFFSET('Raw Data'!EM79,$B$38,$B$37)","v":7},{"$f":"OFFSET('Raw Data'!EN79,$B$38,$B$37)","v":10},{"$f":"OFFSET('Raw Data'!EO79,$B$38,$B$37)","v":11},{"$f":"OFFSET('Raw Data'!EP79,$B$38,$B$37)","v":11},7.8,8.7142857142857135,"18:45:00",5,13,4,7,10,11,11,7.8,8.7142857142857135]
[null,null,null,null,null,null,null,null,null,null,null,null,null,null,null,null,null,null,null,null,null,null,null,null,null,null,1900,{"$f":"OFFSET('Raw Data'!EJ80,$B$38,$B$37)","v":9},{"$f":"OFFSET('Raw Data'!EK80,$B$38,$B$37)","v":5},{"$f":"OFFSET('Raw Data'!EL80,$B$38,$B$37)","v":11},{"$f":"OFFSET('Raw Data'!EM80,$B$38,$B$37)","v":4},{"$f":"OFFSET('Raw Data'!EN80,$B$38,$B$37)","v":5},{"$f":"OFFSET('Raw Data'!EO80,$B$38,$B$37)","v":13},{"$f":"OFFSET('Raw Data'!EP80,$B$38,$B$37)","v":13},6.8,8.5714285714285712,"19:00:00",9,5,11,4,5,13,13,6.8,8.5714285714285712]
[null,null,null,null,null,null,null,null,null,null,null,null,null,null,null,null,null,null,null,null,null,null,null,null,null,null,1915,{"$f":"OFFSET('Raw Data'!EJ81,$B$38,$B$37)","v":9},{"$f":"OFFSET('Raw Data'!EK81,$B$38,$B$37)","v":9},{"$f":"OFFSET('Raw Data'!EL81,$B$38,$B$37)","v":12},{"$f":"OFFSET('Raw Data'!EM81,$B$38,$B$37)","v":1},{"$f":"OFFSET('Raw Data'!EN81,$B$38,$B$37)","v":10},{"$f":"OFFSET('Raw Data'!EO81,$B$38,$B$37)","v":6},{"$f":"OFFSET('Raw Data'!EP81,$B$38,$B$37)","v":9},8.1999999999999993,8,"19:15:00",9,9,12,1,10,6,9,8.1999999999999993,8]
[null,null,null,null,null,null,null,null,null,null,null,null,null,null,null,null,null,null,null,null,null,null,null,null,null,null,1930,{"$f":"OFFSET('Raw Data'!EJ82,$B$38,$B$37)","v":7},{"$f":"OFFSET('Raw Data'!EK82,$B$38,$B$37)","v":8},{"$f":"OFFSET('Raw Data'!EL82,$B$38,$B$37)","v":3},{"$f":"OFFSET('Raw Data'!EM82,$B$38,$B$37)","v":4},{"$f":"OFFSET('Raw Data'!EN82,$B$38,$B$37)","v":8},{"$f":"OFFSET('Raw Data'!EO82,$B$38,$B$37)","v":9},{"$f":"OFFSET('Raw Data'!EP82,$B$38,$B$37)","v":11},6,7.1428571428571432,"19:30:00",7,8,3,4,8,9,11,6,7.1428571428571432]
[null,null,null,null,null,null,null,null,null,null,null,null,null,null,null,null,null,null,null,null,null,null,null,null,null,null,1945,{"$f":"OFFSET('Raw Data'!EJ83,$B$38,$B$37)","v":12},{"$f":"OFFSET('Raw Data'!EK83,$B$38,$B$37)","v":9},{"$f":"OFFSET('Raw Data'!EL83,$B$38,$B$37)","v":8},{"$f":"OFFSET('Raw Data'!EM83,$B$38,$B$37)","v":3},{"$f":"OFFSET('Raw Data'!EN83,$B$38,$B$37)","v":6},{"$f":"OFFSET('Raw Data'!EO83,$B$38,$B$37)","v":9},{"$f":"OFFSET('Raw Data'!EP83,$B$38,$B$37)","v":13},7.6,8.5714285714285712,"19:45:00",12,9,8,3,6,9,13,7.6,8.5714285714285712]
[null,null,null,null,null,null,null,null,null,null,null,null,null,null,null,null,null,null,null,null,null,null,null,null,null,null,2000,{"$f":"OFFSET('Raw Data'!EJ84,$B$38,$B$37)","v":4},{"$f":"OFFSET('Raw Data'!EK84,$B$38,$B$37)","v":6},{"$f":"OFFSET('Raw Data'!EL84,$B$38,$B$37)","v":2},{"$f":"OFFSET('Raw Data'!EM84,$B$38,$B$37)","v":2},{"$f":"OFFSET('Raw Data'!EN84,$B$38,$B$37)","v":9},{"$f":"OFFSET('Raw Data'!EO84,$B$38,$B$37)","v":7},{"$f":"OFFSET('Raw Data'!EP84,$B$38,$B$37)","v":7},4.5999999999999996,5.2857142857142856,"20:00:00",4,6,2,2,9,7,7,4.5999999999999996,5.2857142857142856]
[null,null,null,null,null,null,null,null,null,null,null,null,null,null,null,null,null,null,null,null,null,null,null,null,null,null,2015,{"$f":"OFFSET('Raw Data'!EJ85,$B$38,$B$37)","v":9},{"$f":"OFFSET('Raw Data'!EK85,$B$38,$B$37)","v":3},{"$f":"OFFSET('Raw Data'!EL85,$B$38,$B$37)","v":4},{"$f":"OFFSET('Raw Data'!EM85,$B$38,$B$37)","v":2},{"$f":"OFFSET('Raw Data'!EN85,$B$38,$B$37)","v":9},{"$f":"OFFSET('Raw Data'!EO85,$B$38,$B$37)","v":11},{"$f":"OFFSET('Raw Data'!EP85,$B$38,$B$37)","v":8},5.4,6.5714285714285712,"20:15:00",9,3,4,2,9,11,8,5.4,6.5714285714285712]
[null,null,null,null,null,null,null,null,null,null,null,null,null,null,null,null,null,null,null,null,null,null,null,null,null,null,2030,{"$f":"OFFSET('Raw Data'!EJ86,$B$38,$B$37)","v":6},{"$f":"OFFSET('Raw Data'!EK86,$B$38,$B$37)","v":6},{"$f":"OFFSET('Raw Data'!EL86,$B$38,$B$37)","v":5},{"$f":"OFFSET('Raw Data'!EM86,$B$38,$B$37)","v":2},{"$f":"OFFSET('Raw Data'!EN86,$B$38,$B$37)","v":2},{"$f":"OFFSET('Raw Data'!EO86,$B$38,$B$37)","v":8},{"$f":"OFFSET('Raw Data'!EP86,$B$38,$B$37)","v":6},4.2,5,"20:30:00",6,6,5,2,2,8,6,4.2,5]
[null,null,null,null,null,null,null,null,null,null,null,null,null,null,null,null,null,null,null,null,null,null,null,null,null,null,2045,{"$f":"OFFSET('Raw Data'!EJ87,$B$38,$B$37)","v":4},{"$f":"OFFSET('Raw Data'!EK87,$B$38,$B$37)","v":4},{"$f":"OFFSET('Raw Data'!EL87,$B$38,$B$37)","v":3},{"$f":"OFFSET('Raw Data'!EM87,$B$38,$B$37)","v":4},{"$f":"OFFSET('Raw Data'!EN87,$B$38,$B$37)","v":6},{"$f":"OFFSET('Raw Data'!EO87,$B$38,$B$37)","v":11},{"$f":"OFFSET('Raw Data'!EP87,$B$38,$B$37)","v":11},4.2,6.1428571428571432,"20:45:00",4,4,3,4,6,11,11,4.2,6.1428571428571432]
[null,null,null,null,null,null,null,null,null,null,null,null,null,null,null,null,null,null,null,null,null,null,null,null,null,null,2100,{"$f":"OFFSET('Raw Data'!EJ88,$B$38,$B$37)","v":7},{"$f":"OFFSET('Raw Data'!EK88,$B$38,$B$37)","v":1},{"$f":"OFFSET('Raw Data'!EL88,$B$38,$B$37)","v":6},{"$f":"OFFSET('Raw Data'!EM88,$B$38,$B$37)","v":1},{"$f":"OFFSET('Raw Data'!EN88,$B$38,$B$37)","v":10},{"$f":"OFFSET('Raw Data'!EO88,$B$38,$B$37)","v":11},{"$f":"OFFSET('Raw Data'!EP88,$B$38,$B$37)","v":4},5,5.7142857142857144,"21:00:00",7,1,6,1,10,11,4,5,5.7142857142857144]
[null,null,null,null,null,null,null,null,null,null,null,null,null,null,null,null,null,null,null,null,null,null,null,null,null,null,2115,{"$f":"OFFSET('Raw Data'!EJ89,$B$38,$B$37)","v":3},{"$f":"OFFSET('Raw Data'!EK89,$B$38,$B$37)","v":8},{"$f":"OFFSET('Raw Data'!EL89,$B$38,$B$37)","v":4},{"$f":"OFFSET('Raw Data'!EM89,$B$38,$B$37)","v":3},{"$f":"OFFSET('Raw Data'!EN89,$B$38,$B$37)","v":9},{"$f":"OFFSET('Raw Data'!EO89,$B$38,$B$37)","v":5},{"$f":"OFFSET('Raw Data'!EP89,$B$38,$B$37)","v":9},5.4,5.8571428571428568,"21:15:00",3,8,4,3,9,5,9,5.4,5.8571428571428568]
[null,null,null,null,null,null,null,null,null,null,null,null,null,null,null,null,null,null,null,null,null,null,null,null,null,null,2130,{"$f":"OFFSET('Raw Data'!EJ90,$B$38,$B$37)","v":3},{"$f":"OFFSET('Raw Data'!EK90,$B$38,$B$37)","v":4},{"$f":"OFFSET('Raw Data'!EL90,$B$38,$B$37)","v":2},{"$f":"OFFSET('Raw Data'!EM90,$B$38,$B$37)","v":2},{"$f":"OFFSET('Raw Data'!EN90,$B$38,$B$37)","v":6},{"$f":"OFFSET('Raw Data'!EO90,$B$38,$B$37)","v":11},{"$f":"OFFSET('Raw Data'!EP90,$B$38,$B$37)","v":3},3.4,4.4285714285714288,"21:30:00",3,4,2,2,6,11,3,3.4,4.4285714285714288]
[null,null,null,null,null,null,null,null,null,null,null,null,null,null,null,null,null,null,null,null,null,null,null,null,null,null,2145,{"$f":"OFFSET('Raw Data'!EJ91,$B$38,$B$37)","v":7},{"$f":"OFFSET('Raw Data'!EK91,$B$38,$B$37)","v":7},{"$f":"OFFSET('Raw Data'!EL91,$B$38,$B$37)","v":4},{"$f":"OFFSET('Raw Data'!EM91,$B$38,$B$37)","v":3},{"$f":"OFFSET('Raw Data'!EN91,$B$38,$B$37)","v":1},{"$f":"OFFSET('Raw Data'!EO91,$B$38,$B$37)","v":8},{"$f":"OFFSET('Raw Data'!EP91,$B$38,$B$37)","v":6},4.4000000000000004,5.1428571428571432,"21:45:00",7,7,4,3,1,8,6,4.4000000000000004,5.1428571428571432]
[null,null,null,null,null,null,null,null,null,null,null,null,null,null,null,null,null,null,null,null,null,null,null,null,null,null,2200,{"$f":"OFFSET('Raw Data'!EJ92,$B$38,$B$37)","v":4},{"$f":"OFFSET('Raw Data'!EK92,$B$38,$B$37)","v":1},{"$f":"OFFSET('Raw Data'!EL92,$B$38,$B$37)","v":5},{"$f":"OFFSET('Raw Data'!EM92,$B$38,$B$37)","v":0},{"$f":"OFFSET('Raw Data'!EN92,$B$38,$B$37)","v":4},{"$f":"OFFSET('Raw Data'!EO92,$B$38,$B$37)","v":13},{"$f":"OFFSET('Raw Data'!EP92,$B$38,$B$37)","v":4},{"$f":"SUM(AB93:AF93)/5","v":2.8},{"$f":"SUM(AB93:AH93)/7","v":4.4285714285714288},"22:00:00",4,1,5,0,4,13,4,2.8,4.4285714285714288]
[null,null,null,null,null,null,null,null,null,null,null,null,null,null,null,null,null,null,null,null,null,null,null,null,null,null,2215,{"$f":"OFFSET('Raw Data'!EJ93,$B$38,$B$37)","v":2},{"$f":"OFFSET('Raw Data'!EK93,$B$38,$B$37)","v":6},{"$f":"OFFSET('Raw Data'!EL93,$B$38,$B$37)","v":4},{"$f":"OFFSET('Raw Data'!EM93,$B$38,$B$37)","v":3},{"$f":"OFFSET('Raw Data'!EN93,$B$38,$B$37)","v":10},{"$f":"OFFSET('Raw Data'!EO93,$B$38,$B$37)","v":2},{"$f":"OFFSET('Raw Data'!EP93,$B$38,$B$37)","v":7},5,4.8571428571428568,"22:15:00",2,6,4,3,10,2,7,5,4.8571428571428568]
[null,null,null,null,null,null,null,null,null,null,null,null,null,null,null,null,null,null,null,null,null,null,null,null,null,null,2230,{"$f":"OFFSET('Raw Data'!EJ94,$B$38,$B$37)","v":4},{"$f":"OFFSET('Raw Data'!EK94,$B$38,$B$37)","v":5},{"$f":"OFFSET('Raw Data'!EL94,$B$38,$B$37)","v":8},{"$f":"OFFSET('Raw Data'!EM94,$B$38,$B$37)","v":1},{"$f":"OFFSET('Raw Data'!EN94,$B$38,$B$37)","v":12},{"$f":"OFFSET('Raw Data'!EO94,$B$38,$B$37)","v":3},{"$f":"OFFSET('Raw Data'!EP94,$B$38,$B$37)","v":7},6,5.7142857142857144,"22:30:00",4,5,8,1,12,3,7,6,5.7142857142857144]
[null,null,null,null,null,null,null,null,null,null,null,null,null,null,null,null,null,null,null,null,null,null,null,null,null,null,2245,{"$f":"OFFSET('Raw Data'!EJ95,$B$38,$B$37)","v":5},{"$f":"OFFSET('Raw Data'!EK95,$B$38,$B$37)","v":2},{"$f":"OFFSET('Raw Data'!EL95,$B$38,$B$37)","v":4},{"$f":"OFFSET('Raw Data'!EM95,$B$38,$B$37)","v":1},{"$f":"OFFSET('Raw Data'!EN95,$B$38,$B$37)","v":11},{"$f":"OFFSET('Raw Data'!EO95,$B$38,$B$37)","v":7},{"$f":"OFFSET('Raw Data'!EP95,$B$38,$B$37)","v":5},4.5999999999999996,5,"22:45:00",5,2,4,1,11,7,5,4.5999999999999996,5]
[null,null,null,null,null,null,null,null,null,null,null,null,null,null,null,null,null,null,null,null,null,null,null,null,null,null,2300,{"$f":"OFFSET('Raw Data'!EJ96,$B$38,$B$37)","v":5},{"$f":"OFFSET('Raw Data'!EK96,$B$38,$B$37)","v":1},{"$f":"OFFSET('Raw Data'!EL96,$B$38,$B$37)","v":3},{"$f":"OFFSET('Raw Data'!EM96,$B$38,$B$37)","v":0},{"$f":"OFFSET('Raw Data'!EN96,$B$38,$B$37)","v":9},{"$f":"OFFSET('Raw Data'!EO96,$B$38,$B$37)","v":7},{"$f":"OFFSET('Raw Data'!EP96,$B$38,$B$37)","v":14},3.6,5.5714285714285712,"23:00:00",5,1,3,0,9,7,14,3.6,5.5714285714285712]
[null,null,null,null,null,null,null,null,null,null,null,null,null,null,null,null,null,null,null,null,null,null,null,null,null,null,2315,{"$f":"OFFSET('Raw Data'!EJ97,$B$38,$B$37)","v":1},{"$f":"OFFSET('Raw Data'!EK97,$B$38,$B$37)","v":2},{"$f":"OFFSET('Raw Data'!EL97,$B$38,$B$37)","v":5},{"$f":"OFFSET('Raw Data'!EM97,$B$38,$B$37)","v":1},{"$f":"OFFSET('Raw Data'!EN97,$B$38,$B$37)","v":5},{"$f":"OFFSET('Raw Data'!EO97,$B$38,$B$37)","v":11},{"$f":"OFFSET('Raw Data'!EP97,$B$38,$B$37)","v":10},2.8,5,"23:15:00",1,2,5,1,5,11,10,2.8,5]
[null,null,null,null,null,null,null,null,null,null,null,null,null,null,null,null,null,null,null,null,null,null,null,null,null,null,2330,{"$f":"OFFSET('Raw Data'!EJ98,$B$38,$B$37)","v":3},{"$f":"OFFSET('Raw Data'!EK98,$B$38,$B$37)","v":3},{"$f":"OFFSET('Raw Data'!EL98,$B$38,$B$37)","v":2},{"$f":"OFFSET('Raw Data'!EM98,$B$38,$B$37)","v":1},{"$f":"OFFSET('Raw Data'!EN98,$B$38,$B$37)","v":8},{"$f":"OFFSET('Raw Data'!EO98,$B$38,$B$37)","v":6},{"$f":"OFFSET('Raw Data'!EP98,$B$38,$B$37)","v":3},3.4,3.7142857142857144,"23:30:00",3,3,2,1,8,6,3,3.4,3.7142857142857144]
[null,null,null,null,null,null,null,null,null,null,null,null,null,null,null,null,null,null,null,null,null,null,null,null,null,null,2345,{"$f":"OFFSET('Raw Data'!EJ99,$B$38,$B$37)","v":5},{"$f":"OFFSET('Raw Data'!EK99,$B$38,$B$37)","v":1},{"$f":"OFFSET('Raw Data'!EL99,$B$38,$B$37)","v":4},{"$f":"OFFSET('Raw Data'!EM99,$B$38,$B$37)","v":1},{"$f":"OFFSET('Raw Data'!EN99,$B$38,$B$37)","v":7},{"$f":"OFFSET('Raw Data'!EO99,$B$38,$B$37)","v":5},{"$f":"OFFSET('Raw Data'!EP99,$B$38,$B$37)","v":3},3.6,3.7142857142857144,"23:45:00",5,1,4,1,7,5,3,3.6,3.7142857142857144]

{"sheet":"Input_Plans","index":1,"n_rows":11,"n_cols":2,"rows_kept":11,"cut":false,"hidden":true,"merged":[]}
["Please select…","Site Picture"]
[{"$f":"Input_Details!O28","v":"1. Meadow Street - 51.49499,-0.09696"},"Picture 1"]
[{"$f":"Input_Details!O29","v":"2. Rockingham Street - 51.49637,-0.09528"},"Picture 2"]
[{"$f":"Input_Details!O30","v":"3. Falmouth Street - 51.49566,-0.09463"},"Picture 3"]
[{"$f":"Input_Details!O31","v":"4. Brockham Street - 51.49801,-0.09446"},"Picture 4"]
[{"$f":"Input_Details!O32","v":"5. Swan Street - 51.49881,-0.09521"},"Picture 5"]
[{"$f":"Input_Details!O33","v":"6. Avonmouth Street - 51.49805,-0.09771"},"Picture 6"]
[{"$f":"Input_Details!O34","v":""},"Picture 7"]
[{"$f":"Input_Details!O35","v":""},"Picture 8"]
[{"$f":"Input_Details!O36","v":""},"Picture 9"]
[{"$f":"Input_Details!O37","v":""},"Picture 10"]

{"sheet":"Raw Data","index":2,"n_rows":8643,"n_cols":160,"rows_kept":562,"cut":true,"hidden":false,"merged":[[0,153,0,159],[0,146,0,152],[0,139,0,145],[1,129,2,129],[1,130,2,130],[1,131,2,131],[1,132,2,132],[1,133,2,133],[1,136,2,136],[0,127,0,132],[0,133,0,138],[1,137,2,137],[1,135,2,135],[1,134,2,134],[1,138,2,138],[1,7,1,18],[1,85,1,96],[0,117,1,120],[1,123,2,123],[0,121,0,126],[1,97,1,116],[1,121,2,121],[1,122,2,122],[1,124,2,124],[1,125,2,125],[1,126,2,126],[0,85,0,116],[1,46,1,57],[0,4,0,42],[0,43,0,81],[1,58,1,77],[1,78,1,81],[1,128,2,128],[1,39,1,42],[1,19,1,38],[1,127,2,127]],"bounds":{"rows_first":250,"rows_last":62,"rows_between":250,"halvings":3}}
[null,null,null,null,"PRIMARY DATA",null,null,null,null,null,null,null,null,null,null,null,null,null,null,null,null,null,null,null,null,null,null,null,null,null,null,null,null,null,null,null,null,null,null,null,null,null,null,"SECONDARY DATA",null,null,null,null,null,null,null,null,null,null,null,null,null,null,null,null,null,null,null,null,null,null,null,null,null,null,null,null,null,null,null,null,null,null,null,null,null,null,null,null,null,"COMBINED DATA",null,null,null,null,null,null,null,null,null,null,null,null,null,null,null,null,null,null,null,null,null,null,null,null,null,null,null,null,null,null,null,"Speed",null,null,null,"PRIMARY DATA Class Grouping",null,null,null,null,null,"SECONDARY DATA Class Grouping",null,null,null,null,null,"COMBINED Class Grouping",null,null,null,null,null,"PRIMARY DATA Weekly Summary",null,null,null,null,null,null,"SECONDARY DATA Weekly Summary",null,null,null,null,null,null,"COMBINED DATA Weekly Summary"]
[null,null,null,null,null,null,null,"Volume Counts - Vehicle Classification Breakdown",null,null,null,null,null,null,null,null,null,null,null,"Volume Counts - Vehicle Speed Bin Breakdown",null,null,null,null,null,null,null,null,null,null,null,null,null,null,null,null,null,null,null,"Speed Statistics",null,null,null,null,null,null,"Volume Counts - Vehicle Classification Breakdown",null,null,null,null,null,null,null,null,null,null,null,"Volume Counts - Vehicle Speed Bin Breakdown",null,null,null,null,null,null,null,null,null,null,null,null,null,null,null,null,null,null,null,"Speed Statistics",null,null,null,null,null,null,"Vehicle Classification",null,null,null,null,null,null,null,null,null,null,null,"Vehicle Speed Bins",null,null,null,null,null,null,null,null,null,null,null,null,null,null,null,null,null,null,null,null,null,null,null,"PC + MC","Cars","LGV, R2 & PSV 2Axle","OGV1 & PSV 3Axle","OGV2","Total",{"$f":"DR2","v":"PC + MC"},{"$f":"DS2","v":"Cars"},"LGV, R2 & PSV 2Axle","OGV1 & PSV 3Axle","OGV2","Total","PC + MC","Cars","LGV, R2 & PSV 2Axle","OGV1 & PSV 3Axle","OGV2","Total"]
["Site No.","Date","Road Name","Location","Primary Direction","Day","Time","PC & MC","Car","Short \nTowing","R2","R3","R4","A3","A4","A5","A6+","BD","DRT","0-10","10-15","15-20","20-25","25-30","30-35","35-40","40-45","45-50","50-55","55-60","60-65","65-70","70-75","75-80","80-85","85-90","90-95","95-100","100+","Ave","85%ile","Min","Max","Secondary Direction","Day","Time",{"$f":"H3","v":"PC & MC"},{"$f":"I3","v":"Car"},"Short \nTowing","R2","R3","R4","A3","A4","A5","A6+","BD","DRT","0-10","10-15","15-20","20-25","25-30","30-35","35-40","40-45","45-50","50-55","55-60","60-65","65-70","70-75","75-80","80-85","85-90","90-95","95-100","100+","Ave","85%ile","Min","Max",null,null,null,{"$f":"H3","v":"PC & MC"},{"$f":"I3","v":"Car"},"Short \nTowing","R2","R3","R4","A3","A4","A5","A6+","BD","DRT","0-10","10-15","15-20","20-25","25-30","30-35","35-40","40-45","45-50","50-55","55-60","60-65","65-70","70-75","75-80","80-85","85-90","90-95","95-100","100+","Ave","85%ile","Min","Max",null,null,null,null,null,null,null,null,null,null,null,null,null,null,null,null,null,null,"Mon","Tue","Wed","Thu","Fri","Sat","Sun","Mon","Tue","Wed","Thu","Fri","Sat","Sun","Mon","Tue","Wed","Thu","Fri","Sat","Sun"]
[{"$f":"Input_Details!$J$5","v":1},{"$f":"OFFSET(Input_Details!$Q$4,MATCH($A4, Input_Details!$J$5:$J$24, 0), 0)","v":"2017-11-20"},{"$f":"INDEX(Input_Details!$H$5:$H$24, MATCH($A4, Input_Details!$J$5:$J$24, 0), 0)","v":"Meadow Street"},{"$f":"INDEX(Input_Details!$I$5:$I$24, MATCH($A4, Input_Details!$J$5:$J$24, 0), 0)","v":"51.49499,-0.09696"},{"$f":"INDEX(Input_Details!$K$5:$K$24, MATCH($A4, Input_Details!$J$5:$J$24, 0), 0)","v":"Northbound"},"Mon","00:00:00",1,4,0,0,0,0,0,0,0,0,0,0,0,1,3,1,0,0,0,0,0,0,0,0,0,0,0,0,0,0,0,0,18,"-",13.9,20.9,{"$f":"INDEX(Input_Details!$L$5:$L$24, MATCH($A4, Input_Details!$J$5:$J$24, 0), 0)","v":"Southbound"},"Mon","00:00:00",0,1,0,0,0,0,0,0,0,0,0,0,0,1,0,0,0,0,0,0,0,0,0,0,0,0,0,0,0,0,0,0,13.3,"-",13.3,13.3,null,"Mon","00:00:00",{"$f":"IF(OR(H4=\"\", AU4=\"\"), \"-\",SUM(H4+AU4))","v":1},{"$f":"IF(OR(I4=\"\", AV4=\"\"), \"-\",SUM(I4+AV4))","v":5},{"$f":"IF(OR(J4=\"\", AW4=\"\"), \"-\",SUM(J4+AW4))","v":0},{"$f":"IF(OR(K4=\"\", AX4=\"\"), \"-\",SUM(K4+AX4))","v":0},{"$f":"IF(OR(L4=\"\", AY4=\"\"), \"-\",SUM(L4+AY4))","v":0},{"$f":"IF(OR(M4=\"\", AZ4=\"\"), \"-\",SUM(M4+AZ4))","v":0},{"$f":"IF(OR(N4=\"\", BA4=\"\"), \"-\",SUM(N4+BA4))","v":0},{"$f":"IF(OR(O4=\"\", BB4=\"\"), \"-\",SUM(O4+BB4))","v":0},{"$f":"IF(OR(P4=\"\", BC4=\"\"), \"-\",SUM(P4+BC4))","v":0},{"$f":"IF(OR(Q4=\"\", BD4=\"\"), \"-\",SUM(Q4+BD4))","v":0},{"$f":"IF(OR(R4=\"\", BE4=\"\"), \"-\",SUM(R4+BE4))","v":0},{"$f":"IF(OR(S4=\"\", BF4=\"\"), \"-\",SUM(S4+BF4))","v":0},{"$f":"IF(OR(T4=\"\", BG4=\"\"), \"-\",SUM(T4+BG4))","v":0},{"$f":"IF(OR(U4=\"\", BH4=\"\"), \"-\",SUM(U4+BH4))","v":2},{"$f":"IF(OR(V4=\"\", BI4=\"\"), \"-\",SUM(V4+BI4))","v":3},{"$f":"IF(OR(W4=\"\", BJ4=\"\"), \"-\",SUM(W4+BJ4))","v":1},{"$f":"IF(OR(X4=\"\", BK4=\"\"), \"-\",SUM(X4+BK4))","v":0},{"$f":"IF(OR(Y4=\"\", BL4=\"\"), \"-\",SUM(Y4+BL4))","v":0},{"$f":"IF(OR(Z4=\"\", BM4=\"\"), \"-\",SUM(Z4+BM4))","v":0},{"$f":"IF(OR(AA4=\"\", BN4=\"\"), \"-\",SUM(AA4+BN4))","v":0},{"$f":"IF(OR(AB4=\"\", BO4=\"\"), \"-\",SUM(AB4+BO4))","v":0},{"$f":"IF(OR(AC4=\"\", BP4=\"\"), \"-\",SUM(AC4+BP4))","v":0},{"$f":"IF(OR(AD4=\"\", BQ4=\"\"), \"-\",SUM(AD4+BQ4))","v":0},{"$f":"IF(OR(AE4=\"\", BR4=\"\"), \"-\",SUM(AE4+BR4))","v":0},{"$f":"IF(OR(AF4=\"\", BS4=\"\"), \"-\",SUM(AF4+BS4))","v":0},{"$f":"IF(OR(AG4=\"\", BT4=\"\"), \"-\",SUM(AG4+BT4))","v":0},{"$f":"IF(OR(AH4=\"\", BU4=\"\"), \"-\",SUM(AH4+BU4))","v":0},{"$f":"IF(OR(AI4=\"\", BV4=\"\"), \"-\",SUM(AI4+BV4))","v":0},{"$f":"IF(OR(AJ4=\"\", BW4=\"\"), \"-\",SUM(AJ4+BW4))","v":0},{"$f":"IF(OR(AK4=\"\", BX4=\"\"), \"-\",SUM(AK4+BX4))","v":0},{"$f":"IF(OR(AL4=\"\", BY4=\"\"), \"-\",SUM(AL4+BY4))","v":0},{"$f":"IF(OR(AM4=\"\", BZ4=\"\"), \"-\",SUM(AM4+BZ4))","v":0},{"$f":"IF(OR(DW4=\"-\", EC4=\"-\", EI4=\"-\", EI4=0),\"-\",IF(OR(DW4=\"-\", DW4=0),CA4,IF(EC4=0,AN4,SUM((AN4*DW4),(CA4*EC4))/EI4)))","v":17.216666666666665},{"$f":"IFERROR(IF(OR(DW4=\"-\", EC4=\"-\", EI4=\"-\", EI4=0), \"-\", IF(AO4=\"-\", CB4, AVERAGE(AO4,CB4))), \"-\")","v":"-"},{"$f":"IF(OR(DW4=\"-\", EC4=\"-\",EI4=\"-\", EI4=0),\"-\",MIN(AP4,CC4))","v":13.3},{"$f":"IF(OR(DW4=\"-\", EC4=\"-\",EI4=\"-\", EI4=0),\"-\",MAX(AQ4,CD4))","v":20.9},{"$f":"IF(H4=\"\", \"-\", H4)","v":1},{"$f":"IF(DR4=\"-\", \"-\", SUM(I4:J4))","v":4},{"$f":"IF(DR4=\"-\", \"-\", K4)","v":0},{"$f":"IF(DR4=\"-\", \"-\", L4)","v":0},{"$f":"IF(DR4=\"-\", \"-\", SUM(M4:S4))","v":0},{"$f":"IF(DR4=\"-\", \"-\", SUM(H4:S4))","v":5},{"$f":"IF(AU4=\"\", \"-\", AU4)","v":0},{"$f":"IF(DX4=\"-\", \"-\", SUM(AV4:AW4))","v":1},{"$f":"IF(DX4=\"-\", \"-\", AX4)","v":0},{"$f":"IF(DX4=\"-\", \"-\", AY4)","v":0},{"$f":"IF(DX4=\"-\", \"-\", SUM(AZ4:BF4))","v":0},{"$f":"IF(DX4=\"-\", \"-\", SUM(AU4:BF4))","v":1},{"$f":"IF(OR(DR4=\"-\", DX4=\"-\"), \"-\", SUM(DR4,DX4))","v":1},{"$f":"IF(OR(DS4=\"-\", DY4=\"-\"), \"-\", SUM(DS4,DY4))","v":5},{"$f":"IF(OR(DT4=\"-\", DZ4=\"-\"), \"-\", SUM(DT4,DZ4))","v":0},{"$f":"IF(OR(DU4=\"-\", EA4=\"-\"), \"-\", SUM(DU4,EA4))","v":0},{"$f":"IF(OR(DV4=\"-\", EB4=\"-\"), \"-\", SUM(DV4,EB4))","v":0},{"$f":"IF(OR(DW4=\"-\", EC4=\"-\"), \"-\", SUM(DW4,EC4))","v":6},{"$f":"+DW4","v":5},{"$f":"+DW100","v":2},{"$f":"+DW196","v":1},{"$f":"+DW292","v":5},{"$f":"+DW388","v":4},{"$f":"+DW484","v":4},{"$f":"+DW580","v":3},{"$f":"+EC4","v":1},{"$f":"+EC100","v":3},{"$f":"+EC196","v":6},{"$f":"+EC292","v":3},{"$f":"+EC388","v":7},{"$f":"+EC484","v":7},{"$f":"+EC580","v":6},{"$f":"IF(OR(EJ4=\"-\", EQ4=\"-\"), \"-\", SUM(EJ4,EQ4))","v":6},{"$f":"IF(OR(EK4=\"-\", ER4=\"-\"), \"-\", SUM(EK4,ER4))","v":5},{"$f":"IF(OR(EL4=\"-\", ES4=\"-\"), \"-\", SUM(EL4,ES4))","v":7},{"$f":"IF(OR(EM4=\"-\", ET4=\"-\"), \"-\", SUM(EM4,ET4))","v":8},{"$f":"IF(OR(EN4=\"-\", EU4=\"-\"), \"-\", SUM(EN4,EU4))","v":11},{"$f":"IF(OR(EO4=\"-\", EV4=\"-\"), \"-\", SUM(EO4,EV4))","v":11},{"$f":"IF(OR(EP4=\"-\", EW4=\"-\"), \"-\", SUM(EP4,EW4))","v":9}]
[{"$f":"A4","v":1},{"$f":"OFFSET(Input_Details!$Q$4,MATCH($A5, Input_Details!$J$5:$J$24, 0), 0)","v":"2017-11-20"},{"$f":"INDEX(Input_Details!$H$5:$H$24, MATCH($A5, Input_Details!$J$5:$J$24, 0), 0)","v":"Meadow Street"},{"$f":"INDEX(Input_Details!$I$5:$I$24, MATCH($A5, Input_Details!$J$5:$J$24, 0), 0)","v":"51.49499,-0.09696"},{"$f":"INDEX(Input_Details!$K$5:$K$24, MATCH($A5, Input_Details!$J$5:$J$24, 0), 0)","v":"Northbound"},{"$f":"+F4","v":"Mon"},"00:15:00",0,4,0,0,0,0,0,0,0,0,0,0,0,3,1,0,0,0,0,0,0,0,0,0,0,0,0,0,0,0,0,0,13.4,"-",11.5,17.5,{"$f":"INDEX(Input_Details!$L$5:$L$24, MATCH($A5, Input_Details!$J$5:$J$24, 0), 0)","v":"Southbound"},"Mon","00:15:00",0,3,0,0,0,0,0,0,0,0,0,0,0,1,0,2,0,0,0,0,0,0,0,0,0,0,0,0,0,0,0,0,17.899999999999999,"-",13.3,20.3,null,"Mon","00:15:00",{"$f":"IF(OR(H5=\"\", AU5=\"\"), \"-\",SUM(H5+AU5))","v":0},7,0,0,0,0,0,0,0,0,0,0,0,4,1,2,0,0,0,0,0,0,0,0,0,0,0,0,0,0,0,0,{"$f":"IF(OR(DW5=\"-\", EC5=\"-\", EI5=\"-\", EI5=0),\"-\",IF(OR(DW5=\"-\", DW5=0),CA5,IF(EC5=0,AN5,SUM((AN5*DW5),(CA5*EC5))/EI5)))","v":15.328571428571427},{"$f":"IFERROR(IF(OR(DW5=\"-\", EC5=\"-\", EI5=\"-\", EI5=0), \"-\", IF(AO5=\"-\", CB5, AVERAGE(AO5,CB5))), \"-\")","v":"-"},{"$f":"IF(OR(DW5=\"-\", EC5=\"-\",EI5=\"-\", EI5=0),\"-\",MIN(AP5,CC5))","v":11.5},{"$f":"IF(OR(DW5=\"-\", EC5=\"-\",EI5=\"-\", EI5=0),\"-\",MAX(AQ5,CD5))","v":20.3},0,4,0,0,0,4,{"$f":"IF(AU5=\"\", \"-\", AU5)","v":0},{"$f":"IF(DX5=\"-\", \"-\", SUM(AV5:AW5))","v":3},{"$f":"IF(DX5=\"-\", \"-\", AX5)","v":0},{"$f":"IF(DX5=\"-\", \"-\", AY5)","v":0},{"$f":"IF(DX5=\"-\", \"-\", SUM(AZ5:BF5))","v":0},{"$f":"IF(DX5=\"-\", \"-\", SUM(AU5:BF5))","v":3},{"$f":"IF(OR(DR5=\"-\", DX5=\"-\"), \"-\", SUM(DR5,DX5))","v":0},7,0,0,0,7,{"$f":"+DW5","v":4},{"$f":"+DW101","v":4},{"$f":"+DW197","v":6},{"$f":"+DW293","v":3},{"$f":"+DW389","v":3},{"$f":"+DW485","v":8},{"$f":"+DW581","v":7},{"$f":"+EC5","v":3},{"$f":"+EC101","v":2},{"$f":"+EC197","v":2},{"$f":"+EC293","v":5},{"$f":"+EC389","v":1},{"$f":"+EC485","v":9},{"$f":"+EC581","v":5},{"$f":"IF(OR(EJ5=\"-\", EQ5=\"-\"), \"-\", SUM(EJ5,EQ5))","v":7},6,8,8,4,17,12]
[1,{"$f":"OFFSET(Input_Details!$Q$4,MATCH($A6, Input_Details!$J$5:$J$24, 0), 0)","v":"2017-11-20"},{"$f":"INDEX(Input_Details!$H$5:$H$24, MATCH($A6, Input_Details!$J$5:$J$24, 0), 0)","v":"Meadow Street"},{"$f":"INDEX(Input_Details!$I$5:$I$24, MATCH($A6, Input_Details!$J$5:$J$24, 0), 0)","v":"51.49499,-0.09696"},{"$f":"INDEX(Input_Details!$K$5:$K$24, MATCH($A6, Input_Details!$J$5:$J$24, 0), 0)","v":"Northbound"},"Mon","00:30:00",0,4,0,0,0,0,0,0,0,0,0,0,1,1,2,0,0,0,0,0,0,0,0,0,0,0,0,0,0,0,0,0,13.2,"-",4.2,18.5,{"$f":"INDEX(Input_Details!$L$5:$L$24, MATCH($A6, Input_Details!$J$5:$J$24, 0), 0)","v":"Southbound"},"Mon","00:30:00",0,1,0,0,0,0,0,0,0,0,0,0,1,0,0,0,0,0,0,0,0,0,0,0,0,0,0,0,0,0,0,0,4.2,"-",4.2,4.2,null,"Mon","00:30:00",0,5,0,0,0,0,0,0,0,0,0,0,2,1,2,0,0,0,0,0,0,0,0,0,0,0,0,0,0,0,0,0,11.4,"-",4.2,18.5,0,4,0,0,0,4,0,1,0,0,0,1,0,5,0,0,0,5,4,0,3,1,1,6,10,1,0,2,1,3,6,7,5,0,5,2,4,12,17]
[1,{"$f":"OFFSET(Input_Details!$Q$4,MATCH($A7, Input_Details!$J$5:$J$24, 0), 0)","v":"2017-11-20"},{"$f":"INDEX(Input_Details!$H$5:$H$24, MATCH($A7, Input_Details!$J$5:$J$24, 0), 0)","v":"Meadow Street"},{"$f":"INDEX(Input_Details!$I$5:$I$24, MATCH($A7, Input_Details!$J$5:$J$24, 0), 0)","v":"51.49499,-0.09696"},{"$f":"INDEX(Input_Details!$K$5:$K$24, MATCH($A7, Input_Details!$J$5:$J$24, 0), 0)","v":"Northbound"},"Mon","00:45:00",0,0,0,0,0,0,0,0,0,0,0,0,0,0,0,0,0,0,0,0,0,0,0,0,0,0,0,0,0,0,0,0,"-","-","-","-",{"$f":"INDEX(Input_Details!$L$5:$L$24, MATCH($A7, Input_Details!$J$5:$J$24, 0), 0)","v":"Southbound"},"Mon","00:45:00",1,1,0,0,0,0,0,0,0,0,0,0,0,1,1,0,0,0,0,0,0,0,0,0,0,0,0,0,0,0,0,0,14.9,"-",12.9,16.899999999999999,null,"Mon","00:45:00",1,1,0,0,0,0,0,0,0,0,0,0,0,1,1,0,0,0,0,0,0,0,0,0,0,0,0,0,0,0,0,0,14.9,"-",12.9,16.899999999999999,0,0,0,0,0,0,1,1,0,0,0,2,1,1,0,0,0,2,0,0,4,1,8,4,7,2,0,3,0,3,3,3,2,0,7,1,11,7,10]
[1,{"$f":"OFFSET(Input_Details!$Q$4,MATCH($A8, Input_Details!$J$5:$J$24, 0), 0)","v":"2017-11-20"},{"$f":"INDEX(Input_Details!$H$5:$H$24, MATCH($A8, Input_Details!$J$5:$J$24, 0), 0)","v":"Meadow Street"},{"$f":"INDEX(Input_Details!$I$5:$I$24, MATCH($A8, Input_Details!$J$5:$J$24, 0), 0)","v":"51.49499,-0.09696"},{"$f":"INDEX(Input_Details!$K$5:$K$24, MATCH($A8, Input_Details!$J$5:$J$24, 0), 0)","v":"Northbound"},"Mon","01:00:00",0,2,0,0,0,0,0,0,0,0,0,0,0,1,1,0,0,0,0,0,0,0,0,0,0,0,0,0,0,0,0,0,15.5,"-",13.6,17.5,{"$f":"INDEX(Input_Details!$L$5:$L$24, MATCH($A8, Input_Details!$J$5:$J$24, 0), 0)","v":"Southbound"},"Mon","01:00:00",0,2,0,0,0,0,0,0,0,0,0,0,0,1,1,0,0,0,0,0,0,0,0,0,0,0,0,0,0,0,0,0,16,"-",14.5,17.600000000000001,null,"Mon","01:00:00",0,4,0,0,0,0,0,0,0,0,0,0,0,2,2,0,0,0,0,0,0,0,0,0,0,0,0,0,0,0,0,0,15.75,"-",13.6,17.600000000000001,0,2,0,0,0,2,0,2,0,0,0,2,0,4,0,0,0,4,2,1,1,0,1,4,3,2,0,2,0,1,3,2,4,1,3,0,2,7,5]
[1,{"$f":"OFFSET(Input_Details!$Q$4,MATCH($A9, Input_Details!$J$5:$J$24, 0), 0)","v":"2017-11-20"},{"$f":"INDEX(Input_Details!$H$5:$H$24, MATCH($A9, Input_Details!$J$5:$J$24, 0), 0)","v":"Meadow Street"},{"$f":"INDEX(Input_Details!$I$5:$I$24, MATCH($A9, Input_Details!$J$5:$J$24, 0), 0)","v":"51.49499,-0.09696"},{"$f":"INDEX(Input_Details!$K$5:$K$24, MATCH($A9, Input_Details!$J$5:$J$24, 0), 0)","v":"Northbound"},"Mon","01:15:00",0,2,0,0,0,0,0,0,0,0,0,0,1,1,0,0,0,0,0,0,0,0,0,0,0,0,0,0,0,0,0,0,8.3000000000000007,"-",4.9000000000000004,11.7,{"$f":"INDEX(Input_Details!$L$5:$L$24, MATCH($A9, Input_Details!$J$5:$J$24, 0), 0)","v":"Southbound"},"Mon","01:15:00",0,3,0,0,0,0,0,0,0,0,0,0,0,3,0,0,0,0,0,0,0,0,0,0,0,0,0,0,0,0,0,0,14.3,"-",13.8,14.5,null,"Mon","01:15:00",0,5,0,0,0,0,0,0,0,0,0,0,1,4,0,0,0,0,0,0,0,0,0,0,0,0,0,0,0,0,0,0,11.900000000000002,"-",4.9000000000000004,14.5,0,2,0,0,0,2,0,3,0,0,0,3,0,5,0,0,0,5,2,0,3,2,1,5,6,3,1,2,1,2,2,1,5,1,5,3,3,7,7]
[1,{"$f":"OFFSET(Input_Details!$Q$4,MATCH($A10, Input_Details!$J$5:$J$24, 0), 0)","v":"2017-11-20"},{"$f":"INDEX(Input_Details!$H$5:$H$24, MATCH($A10, Input_Details!$J$5:$J$24, 0), 0)","v":"Meadow Street"},{"$f":"INDEX(Input_Details!$I$5:$I$24, MATCH($A10, Input_Details!$J$5:$J$24, 0), 0)","v":"51.49499,-0.09696"},{"$f":"INDEX(Input_Details!$K$5:$K$24, MATCH($A10, Input_Details!$J$5:$J$24, 0), 0)","v":"Northbound"},"Mon","01:30:00",0,1,0,0,0,0,0,0,0,0,0,0,0,0,1,0,0,0,0,0,0,0,0,0,0,0,0,0,0,0,0,0,18.399999999999999,"-",18.399999999999999,18.399999999999999,{"$f":"INDEX(Input_Details!$L$5:$L$24, MATCH($A10, Input_Details!$J$5:$J$24, 0), 0)","v":"Southbound"},"Mon","01:30:00",0,0,0,0,0,0,0,0,0,0,0,0,0,0,0,0,0,0,0,0,0,0,0,0,0,0,0,0,0,0,0,0,"-","-","-","-",null,"Mon","01:30:00",0,1,0,0,0,0,0,0,0,0,0,0,0,0,1,0,0,0,0,0,0,0,0,0,0,0,0,0,0,0,0,0,18.399999999999999,"-",18.399999999999999,18.399999999999999,0,1,0,0,0,1,0,0,0,0,0,0,0,1,0,0,0,1,1,0,0,1,3,1,2,0,1,3,1,0,1,1,1,1,3,2,3,2,3]
[1,{"$f":"OFFSET(Input_Details!$Q$4,MATCH($A11, Input_Details!$J$5:$J$24, 0), 0)","v":"2017-11-20"},{"$f":"INDEX(Input_Details!$H$5:$H$24, MATCH($A11, Input_Details!$J$5:$J$24, 0), 0)","v":"Meadow Street"},{"$f":"INDEX(Input_Details!$I$5:$I$24, MATCH($A11, Input_Details!$J$5:$J$24, 0), 0)","v":"51.49499,-0.09696"},{"$f":"INDEX(Input_Details!$K$5:$K$24, MATCH($A11, Input_Details!$J$5:$J$24, 0), 0)","v":"Northbound"},"Mon","01:45:00",0,0,0,1,0,0,0,0,0,0,0,0,0,1,0,0,0,0,0,0,0,0,0,0,0,0,0,0,0,0,0,0,11.7,"-",11.7,11.7,{"$f":"INDEX(Input_Details!$L$5:$L$24, MATCH($A11, Input_Details!$J$5:$J$24, 0), 0)","v":"Southbound"},"Mon","01:45:00",0,1,0,0,0,0,0,0,0,0,0,0,0,0,1,0,0,0,0,0,0,0,0,0,0,0,0,0,0,0,0,0,16.5,"-",16.5,16.5,null,"Mon","01:45:00",0,1,0,1,0,0,0,0,0,0,0,0,0,1,1,0,0,0,0,0,0,0,0,0,0,0,0,0,0,0,0,0,14.1,"-",11.7,16.5,0,0,1,0,0,1,0,1,0,0,0,1,0,1,1,0,0,2,1,0,1,1,4,8,3,1,0,1,0,2,1,2,2,0,2,1,6,9,5]
[1,{"$f":"OFFSET(Input_Details!$Q$4,MATCH($A12, Input_Details!$J$5:$J$24, 0), 0)","v":"2017-11-20"},{"$f":"INDEX(Input_Details!$H$5:$H$24, MATCH($A12, Input_Details!$J$5:$J$24, 0), 0)","v":"Meadow Street"},{"$f":"INDEX(Input_Details!$I$5:$I$24, MATCH($A12, Input_Details!$J$5:$J$24, 0), 0)","v":"51.49499,-0.09696"},{"$f":"INDEX(Input_Details!$K$5:$K$24, MATCH($A12, Input_Details!$J$5:$J$24, 0), 0)","v":"Northbound"},"Mon","02:00:00",0,0,0,0,0,0,0,0,0,0,0,0,0,0,0,0,0,0,0,0,0,0,0,0,0,0,0,0,0,0,0,0,"-","-","-","-",{"$f":"INDEX(Input_Details!$L$5:$L$24, MATCH($A12, Input_Details!$J$5:$J$24, 0), 0)","v":"Southbound"},"Mon","02:00:00",0,0,0,0,0,0,0,0,0,0,0,0,0,0,0,0,0,0,0,0,0,0,0,0,0,0,0,0,0,0,0,0,"-","-","-","-",null,"Mon","02:00:00",0,0,0,0,0,0,0,0,0,0,0,0,0,0,0,0,0,0,0,0,0,0,0,0,0,0,0,0,0,0,0,0,"-","-","-","-",0,0,0,0,0,0,0,0,0,0,0,0,0,0,0,0,0,0,0,0,3,2,2,7,6,0,0,2,2,3,2,5,0,0,5,4,5,9,11]
[1,{"$f":"OFFSET(Input_Details!$Q$4,MATCH($A13, Input_Details!$J$5:$J$24, 0), 0)","v":"2017-11-20"},{"$f":"INDEX(Input_Details!$H$5:$H$24, MATCH($A13, Input_Details!$J$5:$J$24, 0), 0)","v":"Meadow Street"},{"$f":"INDEX(Input_Details!$I$5:$I$24, MATCH($A13, Input_Details!$J$5:$J$24, 0), 0)","v":"51.49499,-0.09696"},{"$f":"INDEX(Input_Details!$K$5:$K$24, MATCH($A13, Input_Details!$J$5:$J$24, 0), 0)","v":"Northbound"},"Mon","02:15:00",0,0,0,0,0,0,0,0,0,0,0,0,0,0,0,0,0,0,0,0,0,0,0,0,0,0,0,0,0,0,0,0,"-","-","-","-",{"$f":"INDEX(Input_Details!$L$5:$L$24, MATCH($A13, Input_Details!$J$5:$J$24, 0), 0)","v":"Southbound"},"Mon","02:15:00",0,0,0,0,0,0,0,0,0,0,0,0,0,0,0,0,0,0,0,0,0,0,0,0,0,0,0,0,0,0,0,0,"-","-","-","-",null,"Mon","02:15:00",0,0,0,0,0,0,0,0,0,0,0,0,0,0,0,0,0,0,0,0,0,0,0,0,0,0,0,0,0,0,0,0,"-","-","-","-",0,0,0,0,0,0,0,0,0,0,0,0,0,0,0,0,0,0,0,0,3,1,2,7,4,0,0,1,0,1,2,3,0,0,4,1,3,9,7]
[1,{"$f":"OFFSET(Input_Details!$Q$4,MATCH($A14, Input_Details!$J$5:$J$24, 0), 0)","v":"2017-11-20"},{"$f":"INDEX(Input_Details!$H$5:$H$24, MATCH($A14, Input_Details!$J$5:$J$24, 0), 0)","v":"Meadow Street"},{"$f":"INDEX(Input_Details!$I$5:$I$24, MATCH($A14, Input_Details!$J$5:$J$24, 0), 0)","v":"51.49499,-0.09696"},{"$f":"INDEX(Input_Details!$K$5:$K$24, MATCH($A14, Input_Details!$J$5:$J$24, 0), 0)","v":"Northbound"},"Mon","02:30:00",0,1,0,0,0,0,0,0,0,0,0,0,0,1,0,0,0,0,0,0,0,0,0,0,0,0,0,0,0,0,0,0,12.6,"-",12.6,12.6,{"$f":"INDEX(Input_Details!$L$5:$L$24, MATCH($A14, Input_Details!$J$5:$J$24, 0), 0)","v":"Southbound"},"Mon","02:30:00",0,0,0,0,0,0,0,0,0,0,0,0,0,0,0,0,0,0,0,0,0,0,0,0,0,0,0,0,0,0,0,0,"-","-","-","-",null,"Mon","02:30:00",0,1,0,0,0,0,0,0,0,0,0,0,0,1,0,0,0,0,0,0,0,0,0,0,0,0,0,0,0,0,0,0,12.6,"-",12.6,12.6,0,1,0,0,0,1,0,0,0,0,0,0,0,1,0,0,0,1,1,0,2,2,0,7,3,0,1,1,0,0,3,3,1,1,3,2,0,10,6]
[1,{"$f":"OFFSET(Input_Details!$Q$4,MATCH($A15, Input_Details!$J$5:$J$24, 0), 0)","v":"2017-11-20"},{"$f":"INDEX(Input_Details!$H$5:$H$24, MATCH($A15, Input_Details!$J$5:$J$24, 0), 0)","v":"Meadow Street"},{"$f":"INDEX(Input_Details!$I$5:$I$24, MATCH($A15, Input_Details!$J$5:$J$24, 0), 0)","v":"51.49499,-0.09696"},{"$f":"INDEX(Input_Details!$K$5:$K$24, MATCH($A15, Input_Details!$J$5:$J$24, 0), 0)","v":"Northbound"},"Mon","02:45:00",0,1,0,0,0,0,0,0,0,0,0,0,0,0,1,0,0,0,0,0,0,0,0,0,0,0,0,0,0,0,0,0,18,"-",18,18,{"$f":"INDEX(Input_Details!$L$5:$L$24, MATCH($A15, Input_Details!$J$5:$J$24, 0), 0)","v":"Southbound"},"Mon","02:45:00",0,0,0,0,0,0,0,0,0,0,0,0,0,0,0,0,0,0,0,0,0,0,0,0,0,0,0,0,0,0,0,0,"-","-","-","-",null,"Mon","02:45:00",0,1,0,0,0,0,0,0,0,0,0,0,0,0,1,0,0,0,0,0,0,0,0,0,0,0,0,0,0,0,0,0,18,"-",18,18,0,1,0,0,0,1,0,0,0,0,0,0,0,1,0,0,0,1,1,0,2,0,0,1,2,0,0,2,1,0,2,3,1,0,4,1,0,3,5]
[1,{"$f":"OFFSET(Input_Details!$Q$4,MATCH($A16, Input_Details!$J$5:$J$24, 0), 0)","v":"2017-11-20"},{"$f":"INDEX(Input_Details!$H$5:$H$24, MATCH($A16, Input_Details!$J$5:$J$24, 0), 0)","v":"Meadow Street"},{"$f":"INDEX(Input_Details!$I$5:$I$24, MATCH($A16, Input_Details!$J$5:$J$24, 0), 0)","v":"51.49499,-0.09696"},{"$f":"INDEX(Input_Details!$K$5:$K$24, MATCH($A16, Input_Details!$J$5:$J$24, 0), 0)","v":"Northbound"},"Mon","03:00:00",1,0,0,0,0,0,0,0,0,0,0,0,0,1,0,0,0,0,0,0,0,0,0,0,0,0,0,0,0,0,0,0,11,"-",11,11,{"$f":"INDEX(Input_Details!$L$5:$L$24, MATCH($A16, Input_Details!$J$5:$J$24, 0), 0)","v":"Southbound"},"Mon","03:00:00",0,0,0,0,0,0,0,0,0,0,0,0,0,0,0,0,0,0,0,0,0,0,0,0,0,0,0,0,0,0,0,0,"-","-","-","-",null,"Mon","03:00:00",1,0,0,0,0,0,0,0,0,0,0,0,0,1,0,0,0,0,0,0,0,0,0,0,0,0,0,0,0,0,0,0,11,"-",11,11,1,0,0,0,0,1,0,0,0,0,0,0,1,0,0,0,0,1,1,0,1,1,0,0,5,0,0,1,0,0,2,2,1,0,2,1,0,2,7]
[1,{"$f":"OFFSET(Input_Details!$Q$4,MATCH($A17, Input_Details!$J$5:$J$24, 0), 0)","v":"2017-11-20"},{"$f":"INDEX(Input_Details!$H$5:$H$24, MATCH($A17, Input_Details!$J$5:$J$24, 0), 0)","v":"Meadow Street"},{"$f":"INDEX(Input_Details!$I$5:$I$24, MATCH($A17, Input_Details!$J$5:$J$24, 0), 0)","v":"51.49499,-0.09696"},{"$f":"INDEX(Input_Details!$K$5:$K$24, MATCH($A17, Input_Details!$J$5:$J$24, 0), 0)","v":"Northbound"},"Mon","03:15:00",0,0,0,0,0,0,0,0,0,0,0,0,0,0,0,0,0,0,0,0,0,0,0,0,0,0,0,0,0,0,0,0,"-","-","-","-",{"$f":"INDEX(Input_Details!$L$5:$L$24, MATCH($A17, Input_Details!$J$5:$J$24, 0), 0)","v":"Southbound"},"Mon","03:15:00",0,0,0,0,0,0,0,0,0,0,0,0,0,0,0,0,0,0,0,0,0,0,0,0,0,0,0,0,0,0,0,0,"-","-","-","-",null,"Mon","03:15:00",0,0,0,0,0,0,0,0,0,0,0,0,0,0,0,0,0,0,0,0,0,0,0,0,0,0,0,0,0,0,0,0,"-","-","-","-",0,0,0,0,0,0,0,0,0,0,0,0,0,0,0,0,0,0,0,0,3,2,2,3,3,0,0,1,1,1,0,2,0,0,4,3,3,3,5]
[1,{"$f":"OFFSET(Input_Details!$Q$4,MATCH($A18, Input_Details!$J$5:$J$24, 0), 0)","v":"2017-11-20"},{"$f":"INDEX(Input_Details!$H$5:$H$24, MATCH($A18, Input_Details!$J$5:$J$24, 0), 0)","v":"Meadow Street"},{"$f":"INDEX(Input_Details!$I$5:$I$24, MATCH($A18, Input_Details!$J$5:$J$24, 0), 0)","v":"51.49499,-0.09696"},{"$f":"INDEX(Input_Details!$K$5:$K$24, MATCH($A18, Input_Details!$J$5:$J$24, 0), 0)","v":"Northbound"},"Mon","03:30:00",0,1,0,0,0,0,0,0,0,0,0,0,0,0,1,0,0,0,0,0,0,0,0,0,0,0,0,0,0,0,0,0,15.5,"-",15.5,15.5,{"$f":"INDEX(Input_Details!$L$5:$L$24, MATCH($A18, Input_Details!$J$5:$J$24, 0), 0)","v":"Southbound"},"Mon","03:30:00",0,0,0,0,0,0,0,0,0,0,0,0,0,0,0,0,0,0,0,0,0,0,0,0,0,0,0,0,0,0,0,0,"-","-","-","-",null,"Mon","03:30:00",0,1,0,0,0,0,0,0,0,0,0,0,0,0,1,0,0,0,0,0,0,0,0,0,0,0,0,0,0,0,0,0,15.5,"-",15.5,15.5,0,1,0,0,0,1,0,0,0,0,0,0,0,1,0,0,0,1,1,0,0,0,1,1,5,0,1,2,0,0,4,4,1,1,2,0,1,5,9]
[1,{"$f":"OFFSET(Input_Details!$Q$4,MATCH($A19, Input_Details!$J$5:$J$24, 0), 0)","v":"2017-11-20"},{"$f":"INDEX(Input_Details!$H$5:$H$24, MATCH($A19, Input_Details!$J$5:$J$24, 0), 0)","v":"Meadow Street"},{"$f":"INDEX(Input_Details!$I$5:$I$24, MATCH($A19, Input_Details!$J$5:$J$24, 0), 0)","v":"51.49499,-0.09696"},{"$f":"INDEX(Input_Details!$K$5:$K$24, MATCH($A19, Input_Details!$J$5:$J$24, 0), 0)","v":"Northbound"},"Mon","03:45:00",1,0,0,0,0,0,0,0,0,0,0,0,0,0,0,1,0,0,0,0,0,0,0,0,0,0,0,0,0,0,0,0,21.5,"-",21.5,21.5,{"$f":"INDEX(Input_Details!$L$5:$L$24, MATCH($A19, Input_Details!$J$5:$J$24, 0), 0)","v":"Southbound"},"Mon","03:45:00",0,1,0,0,0,0,0,0,0,0,0,0,0,0,1,0,0,0,0,0,0,0,0,0,0,0,0,0,0,0,0,0,17.8,"-",17.8,17.8,null,"Mon","03:45:00",1,1,0,0,0,0,0,0,0,0,0,0,0,0,1,1,0,0,0,0,0,0,0,0,0,0,0,0,0,0,0,0,19.649999999999999,"-",17.8,21.5,1,0,0,0,0,1,0,1,0,0,0,1,1,1,0,0,0,2,1,1,0,0,0,1,5,1,2,3,2,0,1,6,2,3,3,2,0,2,11]
[1,{"$f":"OFFSET(Input_Details!$Q$4,MATCH($A20, Input_Details!$J$5:$J$24, 0), 0)","v":"2017-11-20"},{"$f":"INDEX(Input_Details!$H$5:$H$24, MATCH($A20, Input_Details!$J$5:$J$24, 0), 0)","v":"Meadow Street"},{"$f":"INDEX(Input_Details!$I$5:$I$24, MATCH($A20, Input_Details!$J$5:$J$24, 0), 0)","v":"51.49499,-0.09696"},{"$f":"INDEX(Input_Details!$K$5:$K$24, MATCH($A20, Input_Details!$J$5:$J$24, 0), 0)","v":"Northbound"},"Mon","04:00:00",0,0,0,0,0,0,0,0,0,0,0,0,0,0,0,0,0,0,0,0,0,0,0,0,0,0,0,0,0,0,0,0,"-","-","-","-",{"$f":"INDEX(Input_Details!$L$5:$L$24, MATCH($A20, Input_Details!$J$5:$J$24, 0), 0)","v":"Southbound"},"Mon","04:00:00",0,0,0,0,0,0,0,0,0,0,0,0,0,0,0,0,0,0,0,0,0,0,0,0,0,0,0,0,0,0,0,0,"-","-","-","-",null,"Mon","04:00:00",0,0,0,0,0,0,0,0,0,0,0,0,0,0,0,0,0,0,0,0,0,0,0,0,0,0,0,0,0,0,0,0,"-","-","-","-",0,0,0,0,0,0,0,0,0,0,0,0,0,0,0,0,0,0,0,0,1,2,1,1,2,0,1,1,1,2,1,2,0,1,2,3,3,2,4]
[1,{"$f":"OFFSET(Input_Details!$Q$4,MATCH($A21, Input_Details!$J$5:$J$24, 0), 0)","v":"2017-11-20"},{"$f":"INDEX(Input_Details!$H$5:$H$24, MATCH($A21, Input_Details!$J$5:$J$24, 0), 0)","v":"Meadow Street"},{"$f":"INDEX(Input_Details!$I$5:$I$24, MATCH($A21, Input_Details!$J$5:$J$24, 0), 0)","v":"51.49499,-0.09696"},{"$f":"INDEX(Input_Details!$K$5:$K$24, MATCH($A21, Input_Details!$J$5:$J$24, 0), 0)","v":"Northbound"},"Mon","04:15:00",0,0,0,0,0,0,0,0,0,0,0,0,0,0,0,0,0,0,0,0,0,0,0,0,0,0,0,0,0,0,0,0,"-","-","-","-",{"$f":"INDEX(Input_Details!$L$5:$L$24, MATCH($A21, Input_Details!$J$5:$J$24, 0), 0)","v":"Southbound"},"Mon","04:15:00",0,0,0,0,0,0,0,0,0,0,0,0,0,0,0,0,0,0,0,0,0,0,0,0,0,0,0,0,0,0,0,0,"-","-","-","-",null,"Mon","04:15:00",0,0,0,0,0,0,0,0,0,0,0,0,0,0,0,0,0,0,0,0,0,0,0,0,0,0,0,0,0,0,0,0,"-","-","-","-",0,0,0,0,0,0,0,0,0,0,0,0,0,0,0,0,0,0,0,0,0,1,1,3,2,0,0,0,1,1,1,0,0,0,0,2,2,4,2]
[1,{"$f":"OFFSET(Input_Details!$Q$4,MATCH($A22, Input_Details!$J$5:$J$24, 0), 0)","v":"2017-11-20"},{"$f":"INDEX(Input_Details!$H$5:$H$24, MATCH($A22, Input_Details!$J$5:$J$24, 0), 0)","v":"Meadow Street"},{"$f":"INDEX(Input_Details!$I$5:$I$24, MATCH($A22, Input_Details!$J$5:$J$24, 0), 0)","v":"51.49499,-0.09696"},{"$f":"INDEX(Input_Details!$K$5:$K$24, MATCH($A22, Input_Details!$J$5:$J$24, 0), 0)","v":"Northbound"},"Mon","04:30:00",0,0,0,0,0,0,0,0,0,0,0,0,0,0,0,0,0,0,0,0,0,0,0,0,0,0,0,0,0,0,0,0,"-","-","-","-",{"$f":"INDEX(Input_Details!$L$5:$L$24, MATCH($A22, Input_Details!$J$5:$J$24, 0), 0)","v":"Southbound"},"Mon","04:30:00",0,0,0,0,0,0,0,0,0,0,0,0,0,0,0,0,0,0,0,0,0,0,0,0,0,0,0,0,0,0,0,0,"-","-","-","-",null,"Mon","04:30:00",0,0,0,0,0,0,0,0,0,0,0,0,0,0,0,0,0,0,0,0,0,0,0,0,0,0,0,0,0,0,0,0,"-","-","-","-",0,0,0,0,0,0,0,0,0,0,0,0,0,0,0,0,0,0,0,0,3,0,0,1,3,0,0,2,0,0,1,2,0,0,5,0,0,2,5]
[1,{"$f":"OFFSET(Input_Details!$Q$4,MATCH($A23, Input_Details!$J$5:$J$24, 0), 0)","v":"2017-11-20"},{"$f":"INDEX(Input_Details!$H$5:$H$24, MATCH($A23, Input_Details!$J$5:$J$24, 0), 0)","v":"Meadow Street"},{"$f":"INDEX(Input_Details!$I$5:$I$24, MATCH($A23, Input_Details!$J$5:$J$24, 0), 0)","v":"51.49499,-0.09696"},{"$f":"INDEX(Input_Details!$K$5:$K$24, MATCH($A23, Input_Details!$J$5:$J$24, 0), 0)","v":"Northbound"},"Mon","04:45:00",0,0,0,0,0,0,0,0,0,0,0,0,0,0,0,0,0,0,0,0,0,0,0,0,0,0,0,0,0,0,0,0,"-","-","-","-",{"$f":"INDEX(Input_Details!$L$5:$L$24, MATCH($A23, Input_Details!$J$5:$J$24, 0), 0)","v":"Southbound"},"Mon","04:45:00",0,0,0,0,0,0,0,0,0,0,0,0,0,0,0,0,0,0,0,0,0,0,0,0,0,0,0,0,0,0,0,0,"-","-","-","-",null,"Mon","04:45:00",0,0,0,0,0,0,0,0,0,0,0,0,0,0,0,0,0,0,0,0,0,0,0,0,0,0,0,0,0,0,0,0,"-","-","-","-",0,0,0,0,0,0,0,0,0,0,0,0,0,0,0,0,0,0,0,0,2,0,0,0,4,0,0,0,0,0,1,1,0,0,2,0,0,1,5]
[1,{"$f":"OFFSET(Input_Details!$Q$4,MATCH($A24, Input_Details!$J$5:$J$24, 0), 0)","v":"2017-11-20"},{"$f":"INDEX(Input_Details!$H$5:$H$24, MATCH($A24, Input_Details!$J$5:$J$24, 0), 0)","v":"Meadow Street"},{"$f":"INDEX(Input_Details!$I$5:$I$24, MATCH($A24, Input_Details!$J$5:$J$24, 0), 0)","v":"51.49499,-0.09696"},{"$f":"INDEX(Input_Details!$K$5:$K$24, MATCH($A24, Input_Details!$J$5:$J$24, 0), 0)","v":"Northbound"},"Mon","05:00:00",0,2,0,0,0,0,0,0,0,0,0,0,0,0,1,1,0,0,0,0,0,0,0,0,0,0,0,0,0,0,0,0,20.2,"-",18.5,21.8,{"$f":"INDEX(Input_Details!$L$5:$L$24, MATCH($A24, Input_Details!$J$5:$J$24, 0), 0)","v":"Southbound"},"Mon","05:00:00",0,0,0,0,0,0,0,0,0,0,0,0,0,0,0,0,0,0,0,0,0,0,0,0,0,0,0,0,0,0,0,0,"-","-","-","-",null,"Mon","05:00:00",0,2,0,0,0,0,0,0,0,0,0,0,0,0,1,1,0,0,0,0,0,0,0,0,0,0,0,0,0,0,0,0,20.2,"-",18.5,21.8,0,2,0,0,0,2,0,0,0,0,0,0,0,2,0,0,0,2,2,3,1,1,3,2,2,0,0,1,0,0,1,0,2,3,2,1,3,3,2]
[1,{"$f":"OFFSET(Input_Details!$Q$4,MATCH($A25, Input_Details!$J$5:$J$24, 0), 0)","v":"2017-11-20"},{"$f":"INDEX(Input_Details!$H$5:$H$24, MATCH($A25, Input_Details!$J$5:$J$24, 0), 0)","v":"Meadow Street"},{"$f":"INDEX(Input_Details!$I$5:$I$24, MATCH($A25, Input_Details!$J$5:$J$24, 0), 0)","v":"51.49499,-0.09696"},{"$f":"INDEX(Input_Details!$K$5:$K$24, MATCH($A25, Input_Details!$J$5:$J$24, 0), 0)","v":"Northbound"},"Mon","05:15:00",0,0,0,1,0,0,0,0,0,0,0,0,0,1,0,0,0,0,0,0,0,0,0,0,0,0,0,0,0,0,0,0,12.4,"-",12.4,12.4,{"$f":"INDEX(Input_Details!$L$5:$L$24, MATCH($A25, Input_Details!$J$5:$J$24, 0), 0)","v":"Southbound"},"Mon","05:15:00",0,0,0,1,0,0,0,0,0,0,0,0,0,1,0,0,0,0,0,0,0,0,0,0,0,0,0,0,0,0,0,0,10.199999999999999,"-",10.199999999999999,10.199999999999999,null,"Mon","05:15:00",0,0,0,2,0,0,0,0,0,0,0,0,0,2,0,0,0,0,0,0,0,0,0,0,0,0,0,0,0,0,0,0,11.3,"-",10.199999999999999,12.4,0,0,1,0,0,1,0,0,1,0,0,1,0,0,2,0,0,2,1,2,2,1,4,3,2,1,0,1,2,1,3,1,2,2,3,3,5,6,3]
[1,{"$f":"OFFSET(Input_Details!$Q$4,MATCH($A26, Input_Details!$J$5:$J$24, 0), 0)","v":"2017-11-20"},{"$f":"INDEX(Input_Details!$H$5:$H$24, MATCH($A26, Input_Details!$J$5:$J$24, 0), 0)","v":"Meadow Street"},{"$f":"INDEX(Input_Details!$I$5:$I$24, MATCH($A26, Input_Details!$J$5:$J$24, 0), 0)","v":"51.49499,-0.09696"},{"$f":"INDEX(Input_Details!$K$5:$K$24, MATCH($A26, Input_Details!$J$5:$J$24, 0), 0)","v":"Northbound"},"Mon","05:30:00",1,1,0,0,0,0,0,0,0,0,0,0,1,1,0,0,0,0,0,0,0,0,0,0,0,0,0,0,0,0,0,0,10.6,"-",9.6999999999999993,11.5,{"$f":"INDEX(Input_Details!$L$5:$L$24, MATCH($A26, Input_Details!$J$5:$J$24, 0), 0)","v":"Southbound"},"Mon","05:30:00",0,0,0,0,0,0,0,0,0,0,0,0,0,0,0,0,0,0,0,0,0,0,0,0,0,0,0,0,0,0,0,0,"-","-","-","-",null,"Mon","05:30:00",1,1,0,0,0,0,0,0,0,0,0,0,1,1,0,0,0,0,0,0,0,0,0,0,0,0,0,0,0,0,0,0,10.6,"-",9.6999999999999993,11.5,1,1,0,0,0,2,0,0,0,0,0,0,1,1,0,0,0,2,2,2,3,4,1,1,3,0,0,0,0,0,2,1,2,2,3,4,1,3,4]
[1,{"$f":"OFFSET(Input_Details!$Q$4,MATCH($A27, Input_Details!$J$5:$J$24, 0), 0)","v":"2017-11-20"},{"$f":"INDEX(Input_Details!$H$5:$H$24, MATCH($A27, Input_Details!$J$5:$J$24, 0), 0)","v":"Meadow Street"},{"$f":"INDEX(Input_Details!$I$5:$I$24, MATCH($A27, Input_Details!$J$5:$J$24, 0), 0)","v":"51.49499,-0.09696"},{"$f":"INDEX(Input_Details!$K$5:$K$24, MATCH($A27, Input_Details!$J$5:$J$24, 0), 0)","v":"Northbound"},"Mon","05:45:00",3,2,0,2,0,0,0,0,0,0,0,0,0,4,2,1,0,0,0,0,0,0,0,0,0,0,0,0,0,0,0,0,16.100000000000001,"-",11.8,21.7,{"$f":"INDEX(Input_Details!$L$5:$L$24, MATCH($A27, Input_Details!$J$5:$J$24, 0), 0)","v":"Southbound"},"Mon","05:45:00",0,0,0,0,0,0,0,0,0,0,0,0,0,0,0,0,0,0,0,0,0,0,0,0,0,0,0,0,0,0,0,0,"-","-","-","-",null,"Mon","05:45:00",3,2,0,2,0,0,0,0,0,0,0,0,0,4,2,1,0,0,0,0,0,0,0,0,0,0,0,0,0,0,0,0,16.100000000000001,"-",11.8,21.7,3,2,2,0,0,7,0,0,0,0,0,0,3,2,2,0,0,7,7,2,1,3,2,3,1,0,2,1,2,1,0,0,7,4,2,5,3,3,1]
[1,{"$f":"OFFSET(Input_Details!$Q$4,MATCH($A28, Input_Details!$J$5:$J$24, 0), 0)","v":"2017-11-20"},{"$f":"INDEX(Input_Details!$H$5:$H$24, MATCH($A28, Input_Details!$J$5:$J$24, 0), 0)","v":"Meadow Street"},{"$f":"INDEX(Input_Details!$I$5:$I$24, MATCH($A28, Input_Details!$J$5:$J$24, 0), 0)","v":"51.49499,-0.09696"},{"$f":"INDEX(Input_Details!$K$5:$K$24, MATCH($A28, Input_Details!$J$5:$J$24, 0), 0)","v":"Northbound"},"Mon","06:00:00",2,1,0,0,0,0,0,0,0,0,0,0,0,3,0,0,0,0,0,0,0,0,0,0,0,0,0,0,0,0,0,0,12.6,"-",11,14.2,{"$f":"INDEX(Input_Details!$L$5:$L$24, MATCH($A28, Input_Details!$J$5:$J$24, 0), 0)","v":"Southbound"},"Mon","06:00:00",0,1,0,0,0,0,0,0,0,0,0,0,0,0,0,1,0,0,0,0,0,0,0,0,0,0,0,0,0,0,0,0,21.4,"-",21.4,21.4,null,"Mon","06:00:00",2,2,0,0,0,0,0,0,0,0,0,0,0,3,0,1,0,0,0,0,0,0,0,0,0,0,0,0,0,0,0,0,14.799999999999999,"-",11,21.4,2,1,0,0,0,3,0,1,0,0,0,1,2,2,0,0,0,4,3,2,4,1,2,2,0,1,1,1,0,2,1,2,4,3,5,1,4,3,2]
[1,{"$f":"OFFSET(Input_Details!$Q$4,MATCH($A29, Input_Details!$J$5:$J$24, 0), 0)","v":"2017-11-20"},{"$f":"INDEX(Input_Details!$H$5:$H$24, MATCH($A29, Input_Details!$J$5:$J$24, 0), 0)","v":"Meadow Street"},{"$f":"INDEX(Input_Details!$I$5:$I$24, MATCH($A29, Input_Details!$J$5:$J$24, 0), 0)","v":"51.49499,-0.09696"},{"$f":"INDEX(Input_Details!$K$5:$K$24, MATCH($A29, Input_Details!$J$5:$J$24, 0), 0)","v":"Northbound"},"Mon","06:15:00",1,5,0,0,0,0,0,0,0,0,0,0,0,4,1,1,0,0,0,0,0,0,0,0,0,0,0,0,0,0,0,0,15,"-",10.1,21.7,{"$f":"INDEX(Input_Details!$L$5:$L$24, MATCH($A29, Input_Details!$J$5:$J$24, 0), 0)","v":"Southbound"},"Mon","06:15:00",0,4,0,0,0,0,0,0,0,0,0,0,2,1,1,0,0,0,0,0,0,0,0,0,0,0,0,0,0,0,0,0,11.8,"-",8.1999999999999993,16,null,"Mon","06:15:00",1,9,0,0,0,0,0,0,0,0,0,0,2,5,2,1,0,0,0,0,0,0,0,0,0,0,0,0,0,0,0,0,13.719999999999999,"-",8.1999999999999993,21.7,1,5,0,0,0,6,0,4,0,0,0,4,1,9,0,0,0,10,6,2,3,2,3,5,3,4,2,1,0,2,1,2,10,4,4,2,5,6,5]
[1,{"$f":"OFFSET(Input_Details!$Q$4,MATCH($A30, Input_Details!$J$5:$J$24, 0), 0)","v":"2017-11-20"},{"$f":"INDEX(Input_Details!$H$5:$H$24, MATCH($A30, Input_Details!$J$5:$J$24, 0), 0)","v":"Meadow Street"},{"$f":"INDEX(Input_Details!$I$5:$I$24, MATCH($A30, Input_Details!$J$5:$J$24, 0), 0)","v":"51.49499,-0.09696"},{"$f":"INDEX(Input_Details!$K$5:$K$24, MATCH($A30, Input_Details!$J$5:$J$24, 0), 0)","v":"Northbound"},"Mon","06:30:00",3,2,0,0,0,0,0,0,0,0,0,0,0,4,1,0,0,0,0,0,0,0,0,0,0,0,0,0,0,0,0,0,13.8,"-",11.4,18.2,{"$f":"INDEX(Input_Details!$L$5:$L$24, MATCH($A30, Input_Details!$J$5:$J$24, 0), 0)","v":"Southbound"},"Mon","06:30:00",0,0,0,0,0,0,0,0,0,0,0,0,0,0,0,0,0,0,0,0,0,0,0,0,0,0,0,0,0,0,0,0,"-","-","-","-",null,"Mon","06:30:00",3,2,0,0,0,0,0,0,0,0,0,0,0,4,1,0,0,0,0,0,0,0,0,0,0,0,0,0,0,0,0,0,13.8,"-",11.4,18.2,3,2,0,0,0,5,0,0,0,0,0,0,3,2,0,0,0,5,5,6,6,5,2,4,2,0,3,3,2,2,1,3,5,9,9,7,4,5,5]
[1,{"$f":"OFFSET(Input_Details!$Q$4,MATCH($A31, Input_Details!$J$5:$J$24, 0), 0)","v":"2017-11-20"},{"$f":"INDEX(Input_Details!$H$5:$H$24, MATCH($A31, Input_Details!$J$5:$J$24, 0), 0)","v":"Meadow Street"},{"$f":"INDEX(Input_Details!$I$5:$I$24, MATCH($A31, Input_Details!$J$5:$J$24, 0), 0)","v":"51.49499,-0.09696"},{"$f":"INDEX(Input_Details!$K$5:$K$24, MATCH($A31, Input_Details!$J$5:$J$24, 0), 0)","v":"Northbound"},"Mon","06:45:00",5,1,0,1,0,0,0,0,0,0,0,0,0,5,1,1,0,0,0,0,0,0,0,0,0,0,0,0,0,0,0,0,14.7,"-",11.8,21.2,{"$f":"INDEX(Input_Details!$L$5:$L$24, MATCH($A31, Input_Details!$J$5:$J$24, 0), 0)","v":"Southbound"},"Mon","06:45:00",0,1,0,0,0,0,0,0,0,0,0,0,1,0,0,0,0,0,0,0,0,0,0,0,0,0,0,0,0,0,0,0,8.6999999999999993,"-",8.6999999999999993,8.6999999999999993,null,"Mon","06:45:00",5,2,0,1,0,0,0,0,0,0,0,0,1,5,1,1,0,0,0,0,0,0,0,0,0,0,0,0,0,0,0,0,13.95,"-",8.6999999999999993,21.2,5,1,1,0,0,7,0,1,0,0,0,1,5,2,1,0,0,8,7,8,13,10,5,5,1,1,3,2,4,3,0,3,8,11,15,14,8,5,4]
[1,{"$f":"OFFSET(Input_Details!$Q$4,MATCH($A32, Input_Details!$J$5:$J$24, 0), 0)","v":"2017-11-20"},{"$f":"INDEX(Input_Details!$H$5:$H$24, MATCH($A32, Input_Details!$J$5:$J$24, 0), 0)","v":"Meadow Street"},{"$f":"INDEX(Input_Details!$I$5:$I$24, MATCH($A32, Input_Details!$J$5:$J$24, 0), 0)","v":"51.49499,-0.09696"},{"$f":"INDEX(Input_Details!$K$5:$K$24, MATCH($A32, Input_Details!$J$5:$J$24, 0), 0)","v":"Northbound"},"Mon","07:00:00",4,0,0,0,0,0,0,0,0,0,0,0,0,4,0,0,0,0,0,0,0,0,0,0,0,0,0,0,0,0,0,0,12.5,"-",11.5,13.6,{"$f":"INDEX(Input_Details!$L$5:$L$24, MATCH($A32, Input_Details!$J$5:$J$24, 0), 0)","v":"Southbound"},"Mon","07:00:00",2,2,0,0,0,0,0,0,0,0,0,0,0,2,2,0,0,0,0,0,0,0,0,0,0,0,0,0,0,0,0,0,14.5,"-",12.6,16.7,null,"Mon","07:00:00",6,2,0,0,0,0,0,0,0,0,0,0,0,6,2,0,0,0,0,0,0,0,0,0,0,0,0,0,0,0,0,0,13.5,"-",11.5,16.7,4,0,0,0,0,4,2,2,0,0,0,4,6,2,0,0,0,8,4,8,13,10,8,2,1,4,2,3,6,0,4,2,8,10,16,16,8,6,3]
[1,{"$f":"OFFSET(Input_Details!$Q$4,MATCH($A33, Input_Details!$J$5:$J$24, 0), 0)","v":"2017-11-20"},{"$f":"INDEX(Input_Details!$H$5:$H$24, MATCH($A33, Input_Details!$J$5:$J$24, 0), 0)","v":"Meadow Street"},{"$f":"INDEX(Input_Details!$I$5:$I$24, MATCH($A33, Input_Details!$J$5:$J$24, 0), 0)","v":"51.49499,-0.09696"},{"$f":"INDEX(Input_Details!$K$5:$K$24, MATCH($A33, Input_Details!$J$5:$J$24, 0), 0)","v":"Northbound"},"Mon","07:15:00",11,3,0,0,0,0,0,0,0,0,0,0,0,13,1,0,0,0,0,0,0,0,0,0,0,0,0,0,0,0,0,0,13.5,14.3,10.8,16.2,{"$f":"INDEX(Input_Details!$L$5:$L$24, MATCH($A33, Input_Details!$J$5:$J$24, 0), 0)","v":"Southbound"},"Mon","07:15:00",0,3,0,0,0,0,0,0,0,0,0,0,0,3,0,0,0,0,0,0,0,0,0,0,0,0,0,0,0,0,0,0,13.5,"-",13.2,14,null,"Mon","07:15:00",11,6,0,0,0,0,0,0,0,0,0,0,0,16,1,0,0,0,0,0,0,0,0,0,0,0,0,0,0,0,0,0,13.5,14.3,10.8,16.2,11,3,0,0,0,14,0,3,0,0,0,3,11,6,0,0,0,17,14,12,14,16,6,2,2,3,2,2,4,1,3,2,17,14,16,20,7,5,4]
[1,{"$f":"OFFSET(Input_Details!$Q$4,MATCH($A34, Input_Details!$J$5:$J$24, 0), 0)","v":"2017-11-20"},{"$f":"INDEX(Input_Details!$H$5:$H$24, MATCH($A34, Input_Details!$J$5:$J$24, 0), 0)","v":"Meadow Street"},{"$f":"INDEX(Input_Details!$I$5:$I$24, MATCH($A34, Input_Details!$J$5:$J$24, 0), 0)","v":"51.49499,-0.09696"},{"$f":"INDEX(Input_Details!$K$5:$K$24, MATCH($A34, Input_Details!$J$5:$J$24, 0), 0)","v":"Northbound"},"Mon","07:30:00",14,5,0,0,0,1,0,0,0,0,0,0,1,16,2,1,0,0,0,0,0,0,0,0,0,0,0,0,0,0,0,0,13.6,14.8,8.9,22.8,{"$f":"INDEX(Input_Details!$L$5:$L$24, MATCH($A34, Input_Details!$J$5:$J$24, 0), 0)","v":"Southbound"},"Mon","07:30:00",1,4,0,0,0,0,0,0,0,0,0,0,0,1,0,4,0,0,0,0,0,0,0,0,0,0,0,0,0,0,0,0,19.5,"-",12.2,22.6,null,"Mon","07:30:00",15,9,0,0,0,1,0,0,0,0,0,0,1,17,2,5,0,0,0,0,0,0,0,0,0,0,0,0,0,0,0,0,14.78,14.8,8.9,22.8,14,5,0,0,1,20,1,4,0,0,0,5,15,9,0,0,1,25,20,19,19,16,18,5,2,5,0,2,3,3,0,0,25,19,21,19,21,5,2]
[1,{"$f":"OFFSET(Input_Details!$Q$4,MATCH($A35, Input_Details!$J$5:$J$24, 0), 0)","v":"2017-11-20"},{"$f":"INDEX(Input_Details!$H$5:$H$24, MATCH($A35, Input_Details!$J$5:$J$24, 0), 0)","v":"Meadow Street"},{"$f":"INDEX(Input_Details!$I$5:$I$24, MATCH($A35, Input_Details!$J$5:$J$24, 0), 0)","v":"51.49499,-0.09696"},{"$f":"INDEX(Input_Details!$K$5:$K$24, MATCH($A35, Input_Details!$J$5:$J$24, 0), 0)","v":"Northbound"},"Mon","07:45:00",13,1,0,1,1,5,0,0,0,0,0,0,1,16,4,0,0,0,0,0,0,0,0,0,0,0,0,0,0,0,0,0,13.2,15.7,5.9,16.2,{"$f":"INDEX(Input_Details!$L$5:$L$24, MATCH($A35, Input_Details!$J$5:$J$24, 0), 0)","v":"Southbound"},"Mon","07:45:00",2,1,0,1,0,0,0,0,0,0,0,0,0,2,1,1,0,0,0,0,0,0,0,0,0,0,0,0,0,0,0,0,15.9,"-",11.5,21,null,"Mon","07:45:00",15,2,0,2,1,5,0,0,0,0,0,0,1,18,5,1,0,0,0,0,0,0,0,0,0,0,0,0,0,0,0,0,13.632,15.7,5.9,21,13,1,1,1,5,21,2,1,1,0,0,4,15,2,2,1,5,25,21,34,32,26,26,4,2,4,8,5,3,5,3,2,25,42,37,29,31,7,4]
[1,{"$f":"OFFSET(Input_Details!$Q$4,MATCH($A36, Input_Details!$J$5:$J$24, 0), 0)","v":"2017-11-20"},{"$f":"INDEX(Input_Details!$H$5:$H$24, MATCH($A36, Input_Details!$J$5:$J$24, 0), 0)","v":"Meadow Street"},{"$f":"INDEX(Input_Details!$I$5:$I$24, MATCH($A36, Input_Details!$J$5:$J$24, 0), 0)","v":"51.49499,-0.09696"},{"$f":"INDEX(Input_Details!$K$5:$K$24, MATCH($A36, Input_Details!$J$5:$J$24, 0), 0)","v":"Northbound"},"Mon","08:00:00",24,6,0,0,0,6,0,0,0,0,0,0,1,34,1,0,0,0,0,0,0,0,0,0,0,0,0,0,0,0,0,0,12.8,14.3,8.6999999999999993,15.4,{"$f":"INDEX(Input_Details!$L$5:$L$24, MATCH($A36, Input_Details!$J$5:$J$24, 0), 0)","v":"Southbound"},"Mon","08:00:00",2,5,0,0,0,0,0,0,0,0,0,0,1,3,3,0,0,0,0,0,0,0,0,0,0,0,0,0,0,0,0,0,13.3,"-",5.7,18.399999999999999,null,"Mon","08:00:00",26,11,0,0,0,6,0,0,0,0,0,0,2,37,4,0,0,0,0,0,0,0,0,0,0,0,0,0,0,0,0,0,12.881395348837209,14.3,5.7,18.399999999999999,24,6,0,0,6,36,2,5,0,0,0,7,26,11,0,0,6,43,36,38,30,28,15,3,2,7,6,4,3,4,1,2,43,44,34,31,19,4,4]
[1,{"$f":"OFFSET(Input_Details!$Q$4,MATCH($A37, Input_Details!$J$5:$J$24, 0), 0)","v":"2017-11-20"},{"$f":"INDEX(Input_Details!$H$5:$H$24, MATCH($A37, Input_Details!$J$5:$J$24, 0), 0)","v":"Meadow Street"},{"$f":"INDEX(Input_Details!$I$5:$I$24, MATCH($A37, Input_Details!$J$5:$J$24, 0), 0)","v":"51.49499,-0.09696"},{"$f":"INDEX(Input_Details!$K$5:$K$24, MATCH($A37, Input_Details!$J$5:$J$24, 0), 0)","v":"Northbound"},{"$f":"+F36","v":"Mon"},"08:15:00",27,7,0,3,1,4,0,0,0,0,0,0,0,36,6,0,0,0,0,0,0,0,0,0,0,0,0,0,0,0,0,0,13.1,14.8,10.199999999999999,17.7,{"$f":"INDEX(Input_Details!$L$5:$L$24, MATCH($A37, Input_Details!$J$5:$J$24, 0), 0)","v":"Southbound"},"Mon","08:15:00",0,4,0,0,0,0,0,0,0,0,0,0,0,3,1,0,0,0,0,0,0,0,0,0,0,0,0,0,0,0,0,0,14.7,"-",13,19.100000000000001,null,"Mon","08:15:00",27,11,0,3,1,4,0,0,0,0,0,0,0,39,7,0,0,0,0,0,0,0,0,0,0,0,0,0,0,0,0,0,13.239130434782606,14.8,10.199999999999999,19.100000000000001,27,7,3,1,4,42,0,4,0,0,0,4,27,11,3,1,4,46,42,52,36,37,42,3,3,4,4,0,6,5,0,3,46,56,36,43,47,3,6]
[1,{"$f":"OFFSET(Input_Details!$Q$4,MATCH($A38, Input_Details!$J$5:$J$24, 0), 0)","v":"2017-11-20"},{"$f":"INDEX(Input_Details!$H$5:$H$24, MATCH($A38, Input_Details!$J$5:$J$24, 0), 0)","v":"Meadow Street"},{"$f":"INDEX(Input_Details!$I$5:$I$24, MATCH($A38, Input_Details!$J$5:$J$24, 0), 0)","v":"51.49499,-0.09696"},{"$f":"INDEX(Input_Details!$K$5:$K$24, MATCH($A38, Input_Details!$J$5:$J$24, 0), 0)","v":"Northbound"},"Mon","08:30:00",23,13,0,0,0,6,0,0,1,3,0,0,2,36,7,1,0,0,0,0,0,0,0,0,0,0,0,0,0,0,0,0,13.6,15,9.8000000000000007,20.399999999999999,{"$f":"INDEX(Input_Details!$L$5:$L$24, MATCH($A38, Input_Details!$J$5:$J$24, 0), 0)","v":"Southbound"},"Mon","08:30:00",0,6,0,1,0,0,0,0,0,0,0,0,0,3,4,0,0,0,0,0,0,0,0,0,0,0,0,0,0,0,0,0,15.8,"-",14.8,17.7,null,"Mon","08:30:00",23,19,0,1,0,6,0,0,1,3,0,0,2,39,11,1,0,0,0,0,0,0,0,0,0,0,0,0,0,0,0,0,13.89056603773585,15,9.8000000000000007,20.399999999999999,23,13,0,0,10,46,0,6,1,0,0,7,23,19,1,0,10,53,46,51,47,41,30,4,8,7,7,5,6,3,3,3,53,58,52,47,33,7,11]
[1,{"$f":"OFFSET(Input_Details!$Q$4,MATCH($A39, Input_Details!$J$5:$J$24, 0), 0)","v":"2017-11-20"},{"$f":"INDEX(Input_Details!$H$5:$H$24, MATCH($A39, Input_Details!$J$5:$J$24, 0), 0)","v":"Meadow Street"},{"$f":"INDEX(Input_Details!$I$5:$I$24, MATCH($A39, Input_Details!$J$5:$J$24, 0), 0)","v":"51.49499,-0.09696"},{"$f":"INDEX(Input_Details!$K$5:$K$24, MATCH($A39, Input_Details!$J$5:$J$24, 0), 0)","v":"Northbound"},"Mon","08:45:00",31,8,0,0,0,3,0,0,0,1,0,2,0,40,4,1,0,0,0,0,0,0,0,0,0,0,0,0,0,0,0,0,13.5,14.5,10.7,20.100000000000001,{"$f":"INDEX(Input_Details!$L$5:$L$24, MATCH($A39, Input_Details!$J$5:$J$24, 0), 0)","v":"Southbound"},"Mon","08:45:00",0,7,0,0,0,0,0,0,0,0,0,0,0,4,3,0,0,0,0,0,0,0,0,0,0,0,0,0,0,0,0,0,14.1,"-",12.2,16.100000000000001,null,"Mon","08:45:00",31,15,0,0,0,3,0,0,0,1,0,2,0,44,7,1,0,0,0,0,0,0,0,0,0,0,0,0,0,0,0,0,13.580769230769231,14.5,10.7,20.100000000000001,31,8,0,0,6,45,0,7,0,0,0,7,31,15,0,0,6,52,45,44,54,41,36,2,3,7,6,6,4,7,10,4,52,50,60,45,43,12,7]
[1,{"$f":"OFFSET(Input_Details!$Q$4,MATCH($A40, Input_Details!$J$5:$J$24, 0), 0)","v":"2017-11-20"},{"$f":"INDEX(Input_Details!$H$5:$H$24, MATCH($A40, Input_Details!$J$5:$J$24, 0), 0)","v":"Meadow Street"},{"$f":"INDEX(Input_Details!$I$5:$I$24, MATCH($A40, Input_Details!$J$5:$J$24, 0), 0)","v":"51.49499,-0.09696"},{"$f":"INDEX(Input_Details!$K$5:$K$24, MATCH($A40, Input_Details!$J$5:$J$24, 0), 0)","v":"Northbound"},"Mon","09:00:00",17,7,0,2,0,1,0,0,0,2,1,2,1,26,4,1,0,0,0,0,0,0,0,0,0,0,0,0,0,0,0,0,13.7,15,7.8,20.5,{"$f":"INDEX(Input_Details!$L$5:$L$24, MATCH($A40, Input_Details!$J$5:$J$24, 0), 0)","v":"Southbound"},"Mon","09:00:00",1,3,0,0,0,0,0,0,0,0,0,0,1,3,0,0,0,0,0,0,0,0,0,0,0,0,0,0,0,0,0,0,11.9,"-",9.8000000000000007,13.5,null,"Mon","09:00:00",18,10,0,2,0,1,0,0,0,2,1,2,2,29,4,1,0,0,0,0,0,0,0,0,0,0,0,0,0,0,0,0,13.5,15,7.8,20.5,17,7,2,0,6,32,1,3,0,0,0,4,18,10,2,0,6,36,32,35,47,31,35,4,4,4,10,10,10,9,7,1,36,45,57,41,44,11,5]
[1,{"$f":"OFFSET(Input_Details!$Q$4,MATCH($A41, Input_Details!$J$5:$J$24, 0), 0)","v":"2017-11-20"},{"$f":"INDEX(Input_Details!$H$5:$H$24, MATCH($A41, Input_Details!$J$5:$J$24, 0), 0)","v":"Meadow Street"},{"$f":"INDEX(Input_Details!$I$5:$I$24, MATCH($A41, Input_Details!$J$5:$J$24, 0), 0)","v":"51.49499,-0.09696"},{"$f":"INDEX(Input_Details!$K$5:$K$24, MATCH($A41, Input_Details!$J$5:$J$24, 0), 0)","v":"Northbound"},"Mon","09:15:00",16,6,0,1,0,3,0,0,0,0,0,1,2,20,5,0,0,0,0,0,0,0,0,0,0,0,0,0,0,0,0,0,13.4,15,9.4,19,{"$f":"INDEX(Input_Details!$L$5:$L$24, MATCH($A41, Input_Details!$J$5:$J$24, 0), 0)","v":"Southbound"},"Mon","09:15:00",0,6,0,0,0,0,0,0,0,0,0,0,1,4,1,0,0,0,0,0,0,0,0,0,0,0,0,0,0,0,0,0,11.7,"-",7.4,15.4,null,"Mon","09:15:00",16,12,0,1,0,3,0,0,0,0,0,1,3,24,6,0,0,0,0,0,0,0,0,0,0,0,0,0,0,0,0,0,13.090909090909092,15,7.4,19,16,6,1,0,4,27,0,6,0,0,0,6,16,12,1,0,4,33,27,37,28,29,18,9,4,6,8,2,5,4,7,3,33,45,30,34,22,16,7]
[1,{"$f":"OFFSET(Input_Details!$Q$4,MATCH($A42, Input_Details!$J$5:$J$24, 0), 0)","v":"2017-11-20"},{"$f":"INDEX(Input_Details!$H$5:$H$24, MATCH($A42, Input_Details!$J$5:$J$24, 0), 0)","v":"Meadow Street"},{"$f":"INDEX(Input_Details!$I$5:$I$24, MATCH($A42, Input_Details!$J$5:$J$24, 0), 0)","v":"51.49499,-0.09696"},{"$f":"INDEX(Input_Details!$K$5:$K$24, MATCH($A42, Input_Details!$J$5:$J$24, 0), 0)","v":"Northbound"},"Mon","09:30:00",16,6,0,1,0,1,0,0,0,0,0,0,5,13,5,1,0,0,0,0,0,0,0,0,0,0,0,0,0,0,0,0,12.2,15.4,2.8,21.5,{"$f":"INDEX(Input_Details!$L$5:$L$24, MATCH($A42, Input_Details!$J$5:$J$24, 0), 0)","v":"Southbound"},"Mon","09:30:00",1,4,0,0,0,0,0,0,0,0,0,0,2,3,0,0,0,0,0,0,0,0,0,0,0,0,0,0,0,0,0,0,10.199999999999999,"-",2.8,14.6,null,"Mon","09:30:00",17,10,0,1,0,1,0,0,0,0,0,0,7,16,5,1,0,0,0,0,0,0,0,0,0,0,0,0,0,0,0,0,11.855172413793102,15.4,2.8,21.5,16,6,1,0,1,24,1,4,0,0,0,5,17,10,1,0,1,29,24,27,27,23,22,9,4,5,6,3,4,6,1,3,29,33,30,27,28,10,7]
[1,{"$f":"OFFSET(Input_Details!$Q$4,MATCH($A43, Input_Details!$J$5:$J$24, 0), 0)","v":"2017-11-20"},{"$f":"INDEX(Input_Details!$H$5:$H$24, MATCH($A43, Input_Details!$J$5:$J$24, 0), 0)","v":"Meadow Street"},{"$f":"INDEX(Input_Details!$I$5:$I$24, MATCH($A43, Input_Details!$J$5:$J$24, 0), 0)","v":"51.49499,-0.09696"},{"$f":"INDEX(Input_Details!$K$5:$K$24, MATCH($A43, Input_Details!$J$5:$J$24, 0), 0)","v":"Northbound"},"Mon","09:45:00",8,7,0,0,0,1,0,0,0,0,0,0,1,8,7,0,0,0,0,0,0,0,0,0,0,0,0,0,0,0,0,0,14.5,17.2,8,19,{"$f":"INDEX(Input_Details!$L$5:$L$24, MATCH($A43, Input_Details!$J$5:$J$24, 0), 0)","v":"Southbound"},"Mon","09:45:00",0,2,0,0,0,0,0,0,0,0,0,0,0,1,1,0,0,0,0,0,0,0,0,0,0,0,0,0,0,0,0,0,13.9,"-",10.8,17,null,"Mon","09:45:00",8,9,0,0,0,1,0,0,0,0,0,0,1,9,8,0,0,0,0,0,0,0,0,0,0,0,0,0,0,0,0,0,14.433333333333334,17.2,8,19,8,7,0,0,1,16,0,2,0,0,0,2,8,9,0,0,1,18,16,15,19,17,21,12,9,2,3,3,5,5,7,1,18,18,22,22,26,19,10]
[1,{"$f":"OFFSET(Input_Details!$Q$4,MATCH($A44, Input_Details!$J$5:$J$24, 0), 0)","v":"2017-11-20"},{"$f":"INDEX(Input_Details!$H$5:$H$24, MATCH($A44, Input_Details!$J$5:$J$24, 0), 0)","v":"Meadow Street"},{"$f":"INDEX(Input_Details!$I$5:$I$24, MATCH($A44, Input_Details!$J$5:$J$24, 0), 0)","v":"51.49499,-0.09696"},{"$f":"INDEX(Input_Details!$K$5:$K$24, MATCH($A44, Input_Details!$J$5:$J$24, 0), 0)","v":"Northbound"},"Mon","10:00:00",8,4,0,0,0,0,0,0,0,0,0,0,1,8,1,2,0,0,0,0,0,0,0,0,0,0,0,0,0,0,0,0,13.8,15,7,21,{"$f":"INDEX(Input_Details!$L$5:$L$24, MATCH($A44, Input_Details!$J$5:$J$24, 0), 0)","v":"Southbound"},"Mon","10:00:00",2,3,0,1,0,0,0,0,0,0,0,0,1,1,3,1,0,0,0,0,0,0,0,0,0,0,0,0,0,0,0,0,16.600000000000001,"-",10,24.7,null,"Mon","10:00:00",10,7,0,1,0,0,0,0,0,0,0,0,2,9,4,3,0,0,0,0,0,0,0,0,0,0,0,0,0,0,0,0,14.733333333333336,15,7,24.7,8,4,0,0,0,12,2,3,1,0,0,6,10,7,1,0,0,18,12,18,10,17,5,12,4,6,5,3,2,7,6,2,18,23,13,19,12,18,6]
[1,{"$f":"OFFSET(Input_Details!$Q$4,MATCH($A45, Input_Details!$J$5:$J$24, 0), 0)","v":"2017-11-20"},{"$f":"INDEX(Input_Details!$H$5:$H$24, MATCH($A45, Input_Details!$J$5:$J$24, 0), 0)","v":"Meadow Street"},{"$f":"INDEX(Input_Details!$I$5:$I$24, MATCH($A45, Input_Details!$J$5:$J$24, 0), 0)","v":"51.49499,-0.09696"},{"$f":"INDEX(Input_Details!$K$5:$K$24, MATCH($A45, Input_Details!$J$5:$J$24, 0), 0)","v":"Northbound"},"Mon","10:15:00",6,2,0,1,0,0,0,0,0,0,0,0,0,8,1,0,0,0,0,0,0,0,0,0,0,0,0,0,0,0,0,0,14,"-",11.6,19.399999999999999,{"$f":"INDEX(Input_Details!$L$5:$L$24, MATCH($A45, Input_Details!$J$5:$J$24, 0), 0)","v":"Southbound"},"Mon","10:15:00",1,3,0,0,0,0,0,0,0,0,0,0,0,1,1,2,0,0,0,0,0,0,0,0,0,0,0,0,0,0,0,0,18.100000000000001,"-",13.8,21.2,null,"Mon","10:15:00",7,5,0,1,0,0,0,0,0,0,0,0,0,9,2,2,0,0,0,0,0,0,0,0,0,0,0,0,0,0,0,0,15.261538461538462,"-",11.6,21.2,6,2,1,0,0,9,1,3,0,0,0,4,7,5,1,0,0,13,9,9,4,3,6,15,4,4,8,5,7,7,4,4,13,17,9,10,13,19,8]
[1,{"$f":"OFFSET(Input_Details!$Q$4,MATCH($A46, Input_Details!$J$5:$J$24, 0), 0)","v":"2017-11-20"},{"$f":"INDEX(Input_Details!$H$5:$H$24, MATCH($A46, Input_Details!$J$5:$J$24, 0), 0)","v":"Meadow Street"},{"$f":"INDEX(Input_Details!$I$5:$I$24, MATCH($A46, Input_Details!$J$5:$J$24, 0), 0)","v":"51.49499,-0.09696"},{"$f":"INDEX(Input_Details!$K$5:$K$24, MATCH($A46, Input_Details!$J$5:$J$24, 0), 0)","v":"Northbound"},"Mon","10:30:00",4,2,0,2,0,0,0,0,0,0,0,0,0,4,4,0,0,0,0,0,0,0,0,0,0,0,0,0,0,0,0,0,15.1,"-",12.5,19.399999999999999,{"$f":"INDEX(Input_Details!$L$5:$L$24, MATCH($A46, Input_Details!$J$5:$J$24, 0), 0)","v":"Southbound"},"Mon","10:30:00",0,3,0,0,0,0,0,0,0,0,0,0,1,0,2,0,0,0,0,0,0,0,0,0,0,0,0,0,0,0,0,0,14.5,"-",7.6,18.3,null,"Mon","10:30:00",4,5,0,2,0,0,0,0,0,0,0,0,1,4,6,0,0,0,0,0,0,0,0,0,0,0,0,0,0,0,0,0,14.936363636363637,"-",7.6,19.399999999999999,4,2,2,0,0,8,0,3,0,0,0,3,4,5,2,0,0,11,8,9,7,10,8,4,4,3,3,5,5,4,3,0,11,12,12,15,12,7,4]
[1,{"$f":"OFFSET(Input_Details!$Q$4,MATCH($A47, Input_Details!$J$5:$J$24, 0), 0)","v":"2017-11-20"},{"$f":"INDEX(Input_Details!$H$5:$H$24, MATCH($A47, Input_Details!$J$5:$J$24, 0), 0)","v":"Meadow Street"},{"$f":"INDEX(Input_Details!$I$5:$I$24, MATCH($A47, Input_Details!$J$5:$J$24, 0), 0)","v":"51.49499,-0.09696"},{"$f":"INDEX(Input_Details!$K$5:$K$24, MATCH($A47, Input_Details!$J$5:$J$24, 0), 0)","v":"Northbound"},"Mon","10:45:00",5,0,0,0,0,0,0,0,0,0,0,0,1,3,1,0,0,0,0,0,0,0,0,0,0,0,0,0,0,0,0,0,12.5,"-",9.3000000000000007,15.5,{"$f":"INDEX(Input_Details!$L$5:$L$24, MATCH($A47, Input_Details!$J$5:$J$24, 0), 0)","v":"Southbound"},"Mon","10:45:00",3,4,0,0,0,0,0,0,0,0,0,0,1,4,1,1,0,0,0,0,0,0,0,0,0,0,0,0,0,0,0,0,13.7,"-",8.9,20.399999999999999,null,"Mon","10:45:00",8,4,0,0,0,0,0,0,0,0,0,0,2,7,2,1,0,0,0,0,0,0,0,0,0,0,0,0,0,0,0,0,13.199999999999998,"-",8.9,20.399999999999999,5,0,0,0,0,5,3,4,0,0,0,7,8,4,0,0,0,12,5,5,11,4,11,9,5,7,5,6,6,5,2,5,12,10,17,10,16,11,10]
[1,{"$f":"OFFSET(Input_Details!$Q$4,MATCH($A48, Input_Details!$J$5:$J$24, 0), 0)","v":"2017-11-20"},{"$f":"INDEX(Input_Details!$H$5:$H$24, MATCH($A48, Input_Details!$J$5:$J$24, 0), 0)","v":"Meadow Street"},{"$f":"INDEX(Input_Details!$I$5:$I$24, MATCH($A48, Input_Details!$J$5:$J$24, 0), 0)","v":"51.49499,-0.09696"},{"$f":"INDEX(Input_Details!$K$5:$K$24, MATCH($A48, Input_Details!$J$5:$J$24, 0), 0)","v":"Northbound"},"Mon","11:00:00",2,2,0,0,0,0,0,0,0,0,0,0,1,2,1,0,0,0,0,0,0,0,0,0,0,0,0,0,0,0,0,0,12.6,"-",8.1999999999999993,19,{"$f":"INDEX(Input_Details!$L$5:$L$24, MATCH($A48, Input_Details!$J$5:$J$24, 0), 0)","v":"Southbound"},"Mon","11:00:00",3,3,0,1,0,0,0,0,0,0,0,0,2,1,2,2,0,0,0,0,0,0,0,0,0,0,0,0,0,0,0,0,16.100000000000001,"-",8.5,23.3,null,"Mon","11:00:00",5,5,0,1,0,0,0,0,0,0,0,0,3,3,3,2,0,0,0,0,0,0,0,0,0,0,0,0,0,0,0,0,14.82727272727273,"-",8.1999999999999993,23.3,2,2,0,0,0,4,3,3,1,0,0,7,5,5,1,0,0,11,4,4,9,15,9,8,5,7,7,8,7,4,5,5,11,11,17,22,13,13,10]
[1,{"$f":"OFFSET(Input_Details!$Q$4,MATCH($A49, Input_Details!$J$5:$J$24, 0), 0)","v":"2017-11-20"},{"$f":"INDEX(Input_Details!$H$5:$H$24, MATCH($A49, Input_Details!$J$5:$J$24, 0), 0)","v":"Meadow Street"},{"$f":"INDEX(Input_Details!$I$5:$I$24, MATCH($A49, Input_Details!$J$5:$J$24, 0), 0)","v":"51.49499,-0.09696"},{"$f":"INDEX(Input_Details!$K$5:$K$24, MATCH($A49, Input_Details!$J$5:$J$24, 0), 0)","v":"Northbound"},"Mon","11:15:00",1,3,0,0,0,0,0,0,0,0,0,0,1,2,0,0,1,0,0,0,0,0,0,0,0,0,0,0,0,0,0,0,15,"-",9,25.4,{"$f":"INDEX(Input_Details!$L$5:$L$24, MATCH($A49, Input_Details!$J$5:$J$24, 0), 0)","v":"Southbound"},"Mon","11:15:00",0,2,0,0,0,0,0,0,0,0,0,0,1,0,1,0,0,0,0,0,0,0,0,0,0,0,0,0,0,0,0,0,9.9,"-",4.5999999999999996,15.1,null,"Mon","11:15:00",1,5,0,0,0,0,0,0,0,0,0,0,2,2,1,0,1,0,0,0,0,0,0,0,0,0,0,0,0,0,0,0,13.299999999999999,"-",4.5999999999999996,25.4,1,3,0,0,0,4,0,2,0,0,0,2,1,5,0,0,0,6,4,6,14,1,5,7,3,2,5,1,7,5,6,5,6,11,15,8,10,13,8]
[1,{"$f":"OFFSET(Input_Details!$Q$4,MATCH($A50, Input_Details!$J$5:$J$24, 0), 0)","v":"2017-11-20"},{"$f":"INDEX(Input_Details!$H$5:$H$24, MATCH($A50, Input_Details!$J$5:$J$24, 0), 0)","v":"Meadow Street"},{"$f":"INDEX(Input_Details!$I$5:$I$24, MATCH($A50, Input_Details!$J$5:$J$24, 0), 0)","v":"51.49499,-0.09696"},{"$f":"INDEX(Input_Details!$K$5:$K$24, MATCH($A50, Input_Details!$J$5:$J$24, 0), 0)","v":"Northbound"},"Mon","11:30:00",2,4,0,2,0,0,0,0,0,0,0,0,0,5,3,0,0,0,0,0,0,0,0,0,0,0,0,0,0,0,0,0,14.7,"-",11.3,17.600000000000001,{"$f":"INDEX(Input_Details!$L$5:$L$24, MATCH($A50, Input_Details!$J$5:$J$24, 0), 0)","v":"Southbound"},"Mon","11:30:00",4,6,0,0,0,0,0,0,0,0,0,0,1,5,3,1,0,0,0,0,0,0,0,0,0,0,0,0,0,0,0,0,14.2,"-",8.6999999999999993,22.2,null,"Mon","11:30:00",6,10,0,2,0,0,0,0,0,0,0,0,1,10,6,1,0,0,0,0,0,0,0,0,0,0,0,0,0,0,0,0,14.422222222222224,"-",8.6999999999999993,22.2,2,4,2,0,0,8,4,6,0,0,0,10,6,10,2,0,0,18,8,7,9,4,6,8,10,10,4,4,8,7,4,7,18,11,13,12,13,12,17]
[1,{"$f":"OFFSET(Input_Details!$Q$4,MATCH($A51, Input_Details!$J$5:$J$24, 0), 0)","v":"2017-11-20"},{"$f":"INDEX(Input_Details!$H$5:$H$24, MATCH($A51, Input_Details!$J$5:$J$24, 0), 0)","v":"Meadow Street"},{"$f":"INDEX(Input_Details!$I$5:$I$24, MATCH($A51, Input_Details!$J$5:$J$24, 0), 0)","v":"51.49499,-0.09696"},{"$f":"INDEX(Input_Details!$K$5:$K$24, MATCH($A51, Input_Details!$J$5:$J$24, 0), 0)","v":"Northbound"},"Mon","11:45:00",2,3,0,0,0,0,0,0,0,0,0,0,0,3,2,0,0,0,0,0,0,0,0,0,0,0,0,0,0,0,0,0,14.4,"-",12.9,15.5,{"$f":"INDEX(Input_Details!$L$5:$L$24, MATCH($A51, Input_Details!$J$5:$J$24, 0), 0)","v":"Southbound"},"Mon","11:45:00",0,2,0,0,0,0,0,0,0,0,0,0,0,0,1,1,0,0,0,0,0,0,0,0,0,0,0,0,0,0,0,0,18.600000000000001,"-",16.600000000000001,20.5,null,"Mon","11:45:00",2,5,0,0,0,0,0,0,0,0,0,0,0,3,3,1,0,0,0,0,0,0,0,0,0,0,0,0,0,0,0,0,15.6,"-",12.9,20.5,2,3,0,0,0,5,0,2,0,0,0,2,2,5,0,0,0,7,5,4,5,9,6,7,7,2,4,7,9,3,9,2,7,8,12,18,9,16,9]
[1,{"$f":"OFFSET(Input_Details!$Q$4,MATCH($A52, Input_Details!$J$5:$J$24, 0), 0)","v":"2017-11-20"},{"$f":"INDEX(Input_Details!$H$5:$H$24, MATCH($A52, Input_Details!$J$5:$J$24, 0), 0)","v":"Meadow Street"},{"$f":"INDEX(Input_Details!$I$5:$I$24, MATCH($A52, Input_Details!$J$5:$J$24, 0), 0)","v":"51.49499,-0.09696"},{"$f":"INDEX(Input_Details!$K$5:$K$24, MATCH($A52, Input_Details!$J$5:$J$24, 0), 0)","v":"Northbound"},"Mon","12:00:00",0,5,0,4,0,1,0,0,0,0,0,0,2,4,2,2,0,0,0,0,0,0,0,0,0,0,0,0,0,0,0,0,14.6,"-",6,21.9,{"$f":"INDEX(Input_Details!$L$5:$L$24, MATCH($A52, Input_Details!$J$5:$J$24, 0), 0)","v":"Southbound"},"Mon","12:00:00",1,3,0,0,0,0,0,0,0,0,0,0,0,1,3,0,0,0,0,0,0,0,0,0,0,0,0,0,0,0,0,0,16.3,"-",13.7,19.7,null,"Mon","12:00:00",1,8,0,4,0,1,0,0,0,0,0,0,2,5,5,2,0,0,0,0,0,0,0,0,0,0,0,0,0,0,0,0,15.085714285714285,"-",6,21.9,0,5,4,0,1,10,1,3,0,0,0,4,1,8,4,0,1,14,10,5,5,4,9,8,8,4,1,8,1,9,4,5,14,6,13,5,18,12,13]
[1,{"$f":"OFFSET(Input_Details!$Q$4,MATCH($A53, Input_Details!$J$5:$J$24, 0), 0)","v":"2017-11-20"},{"$f":"INDEX(Input_Details!$H$5:$H$24, MATCH($A53, Input_Details!$J$5:$J$24, 0), 0)","v":"Meadow Street"},{"$f":"INDEX(Input_Details!$I$5:$I$24, MATCH($A53, Input_Details!$J$5:$J$24, 0), 0)","v":"51.49499,-0.09696"},{"$f":"INDEX(Input_Details!$K$5:$K$24, MATCH($A53, Input_Details!$J$5:$J$24, 0), 0)","v":"Northbound"},"Mon","12:15:00",4,3,0,2,0,0,0,0,0,0,0,0,1,6,1,1,0,0,0,0,0,0,0,0,0,0,0,0,0,0,0,0,13.2,"-",6.2,20.3,{"$f":"INDEX(Input_Details!$L$5:$L$24, MATCH($A53, Input_Details!$J$5:$J$24, 0), 0)","v":"Southbound"},"Mon","12:15:00",1,2,0,1,0,0,0,0,0,0,0,0,0,2,2,0,0,0,0,0,0,0,0,0,0,0,0,0,0,0,0,0,13.9,"-",10.5,16.7,null,"Mon","12:15:00",5,5,0,3,0,0,0,0,0,0,0,0,1,8,3,1,0,0,0,0,0,0,0,0,0,0,0,0,0,0,0,0,13.415384615384616,"-",6.2,20.3,4,3,2,0,0,9,1,2,1,0,0,4,5,5,3,0,0,13,9,4,9,7,8,6,5,4,7,7,3,3,3,3,13,11,16,10,11,9,8]
[1,{"$f":"OFFSET(Input_Details!$Q$4,MATCH($A54, Input_Details!$J$5:$J$24, 0), 0)","v":"2017-11-20"},{"$f":"INDEX(Input_Details!$H$5:$H$24, MATCH($A54, Input_Details!$J$5:$J$24, 0), 0)","v":"Meadow Street"},{"$f":"INDEX(Input_Details!$I$5:$I$24, MATCH($A54, Input_Details!$J$5:$J$24, 0), 0)","v":"51.49499,-0.09696"},{"$f":"INDEX(Input_Details!$K$5:$K$24, MATCH($A54, Input_Details!$J$5:$J$24, 0), 0)","v":"Northbound"},"Mon","12:30:00",2,4,0,2,0,0,0,0,0,0,0,0,1,5,1,1,0,0,0,0,0,0,0,0,0,0,0,0,0,0,0,0,12.8,"-",6.5,20.6,{"$f":"INDEX(Input_Details!$L$5:$L$24, MATCH($A54, Input_Details!$J$5:$J$24, 0), 0)","v":"Southbound"},"Mon","12:30:00",2,3,0,2,0,0,0,0,0,0,0,0,2,4,0,1,0,0,0,0,0,0,0,0,0,0,0,0,0,0,0,0,13.9,"-",9.3000000000000007,22,null,"Mon","12:30:00",4,7,0,4,0,0,0,0,0,0,0,0,3,9,1,2,0,0,0,0,0,0,0,0,0,0,0,0,0,0,0,0,13.313333333333333,"-",6.5,22,2,4,2,0,0,8,2,3,2,0,0,7,4,7,4,0,0,15,8,4,4,6,8,9,6,7,6,8,7,3,1,3,15,10,12,13,11,10,9]
[1,{"$f":"OFFSET(Input_Details!$Q$4,MATCH($A55, Input_Details!$J$5:$J$24, 0), 0)","v":"2017-11-20"},{"$f":"INDEX(Input_Details!$H$5:$H$24, MATCH($A55, Input_Details!$J$5:$J$24, 0), 0)","v":"Meadow Street"},{"$f":"INDEX(Input_Details!$I$5:$I$24, MATCH($A55, Input_Details!$J$5:$J$24, 0), 0)","v":"51.49499,-0.09696"},{"$f":"INDEX(Input_Details!$K$5:$K$24, MATCH($A55, Input_Details!$J$5:$J$24, 0), 0)","v":"Northbound"},"Mon","12:45:00",2,5,0,0,0,0,0,0,0,0,0,0,0,4,2,1,0,0,0,0,0,0,0,0,0,0,0,0,0,0,0,0,15.2,"-",10.199999999999999,24.5,{"$f":"INDEX(Input_Details!$L$5:$L$24, MATCH($A55, Input_Details!$J$5:$J$24, 0), 0)","v":"Southbound"},"Mon","12:45:00",0,4,0,1,0,0,0,0,0,0,0,0,0,2,2,1,0,0,0,0,0,0,0,0,0,0,0,0,0,0,0,0,17.2,"-",13.9,21.9,null,"Mon","12:45:00",2,9,0,1,0,0,0,0,0,0,0,0,0,6,4,2,0,0,0,0,0,0,0,0,0,0,0,0,0,0,0,0,16.033333333333331,"-",10.199999999999999,24.5,2,5,0,0,0,7,0,4,1,0,0,5,2,9,1,0,0,12,7,7,4,7,14,12,10,5,6,5,5,5,9,3,12,13,9,12,19,21,13]
[1,{"$f":"OFFSET(Input_Details!$Q$4,MATCH($A56, Input_Details!$J$5:$J$24, 0), 0)","v":"2017-11-20"},{"$f":"INDEX(Input_Details!$H$5:$H$24, MATCH($A56, Input_Details!$J$5:$J$24, 0), 0)","v":"Meadow Street"},{"$f":"INDEX(Input_Details!$I$5:$I$24, MATCH($A56, Input_Details!$J$5:$J$24, 0), 0)","v":"51.49499,-0.09696"},{"$f":"INDEX(Input_Details!$K$5:$K$24, MATCH($A56, Input_Details!$J$5:$J$24, 0), 0)","v":"Northbound"},"Mon","13:00:00",1,6,0,1,0,0,0,0,0,0,0,0,2,1,5,0,0,0,0,0,0,0,0,0,0,0,0,0,0,0,0,0,14.4,"-",6.7,19,{"$f":"INDEX(Input_Details!$L$5:$L$24, MATCH($A56, Input_Details!$J$5:$J$24, 0), 0)","v":"Southbound"},"Mon","13:00:00",2,2,0,1,0,0,0,0,0,0,0,0,1,2,2,0,0,0,0,0,0,0,0,0,0,0,0,0,0,0,0,0,13.7,"-",7.6,17.8,null,"Mon","13:00:00",3,8,0,2,0,0,0,0,0,0,0,0,3,3,7,0,0,0,0,0,0,0,0,0,0,0,0,0,0,0,0,0,14.13076923076923,"-",6.7,19,1,6,1,0,0,8,2,2,1,0,0,5,3,8,2,0,0,13,8,7,9,8,17,8,5,5,5,5,9,5,4,8,13,12,14,17,22,12,13]
[1,{"$f":"OFFSET(Input_Details!$Q$4,MATCH($A57, Input_Details!$J$5:$J$24, 0), 0)","v":"2017-11-20"},{"$f":"INDEX(Input_Details!$H$5:$H$24, MATCH($A57, Input_Details!$J$5:$J$24, 0), 0)","v":"Meadow Street"},{"$f":"INDEX(Input_Details!$I$5:$I$24, MATCH($A57, Input_Details!$J$5:$J$24, 0), 0)","v":"51.49499,-0.09696"},{"$f":"INDEX(Input_Details!$K$5:$K$24, MATCH($A57, Input_Details!$J$5:$J$24, 0), 0)","v":"Northbound"},"Mon","13:15:00",2,7,0,0,0,0,0,0,0,0,0,0,0,5,2,1,1,0,0,0,0,0,0,0,0,0,0,0,0,0,0,0,16.7,"-",11.2,26.3,{"$f":"INDEX(Input_Details!$L$5:$L$24, MATCH($A57, Input_Details!$J$5:$J$24, 0), 0)","v":"Southbound"},"Mon","13:15:00",2,3,0,1,1,0,0,0,0,0,0,0,1,4,1,1,0,0,0,0,0,0,0,0,0,0,0,0,0,0,0,0,13.9,"-",9.6,20.399999999999999,null,"Mon","13:15:00",4,10,0,1,1,0,0,0,0,0,0,0,1,9,3,2,1,0,0,0,0,0,0,0,0,0,0,0,0,0,0,0,15.474999999999998,"-",9.6,26.3,2,7,0,0,0,9,2,3,1,1,0,7,4,10,1,1,0,16,9,5,6,7,10,9,11,7,6,9,7,8,10,7,16,11,15,14,18,19,18]
[1,{"$f":"OFFSET(Input_Details!$Q$4,MATCH($A58, Input_Details!$J$5:$J$24, 0), 0)","v":"2017-11-20"},{"$f":"INDEX(Input_Details!$H$5:$H$24, MATCH($A58, Input_Details!$J$5:$J$24, 0), 0)","v":"Meadow Street"},{"$f":"INDEX(Input_Details!$I$5:$I$24, MATCH($A58, Input_Details!$J$5:$J$24, 0), 0)","v":"51.49499,-0.09696"},{"$f":"INDEX(Input_Details!$K$5:$K$24, MATCH($A58, Input_Details!$J$5:$J$24, 0), 0)","v":"Northbound"},"Mon","13:30:00",4,3,0,0,0,0,0,0,0,0,0,0,0,5,2,0,0,0,0,0,0,0,0,0,0,0,0,0,0,0,0,0,14.2,"-",11.7,18.100000000000001,{"$f":"INDEX(Input_Details!$L$5:$L$24, MATCH($A58, Input_Details!$J$5:$J$24, 0), 0)","v":"Southbound"},"Mon","13:30:00",2,1,0,0,0,0,0,0,0,0,0,0,1,1,1,0,0,0,0,0,0,0,0,0,0,0,0,0,0,0,0,0,12.6,"-",8.9,15.7,null,"Mon","13:30:00",6,4,0,0,0,0,0,0,0,0,0,0,1,6,3,0,0,0,0,0,0,0,0,0,0,0,0,0,0,0,0,0,13.719999999999999,"-",8.9,18.100000000000001,4,3,0,0,0,7,2,1,0,0,0,3,6,4,0,0,0,10,7,5,8,5,8,9,11,3,11,8,10,18,8,11,10,16,16,15,26,17,22]
[1,{"$f":"OFFSET(Input_Details!$Q$4,MATCH($A59, Input_Details!$J$5:$J$24, 0), 0)","v":"2017-11-20"},{"$f":"INDEX(Input_Details!$H$5:$H$24, MATCH($A59, Input_Details!$J$5:$J$24, 0), 0)","v":"Meadow Street"},{"$f":"INDEX(Input_Details!$I$5:$I$24, MATCH($A59, Input_Details!$J$5:$J$24, 0), 0)","v":"51.49499,-0.09696"},{"$f":"INDEX(Input_Details!$K$5:$K$24, MATCH($A59, Input_Details!$J$5:$J$24, 0), 0)","v":"Northbound"},"Mon","13:45:00",0,2,0,2,0,0,0,0,0,0,0,0,1,1,1,0,1,0,0,0,0,0,0,0,0,0,0,0,0,0,0,0,16.399999999999999,"-",6.8,26.2,{"$f":"INDEX(Input_Details!$L$5:$L$24, MATCH($A59, Input_Details!$J$5:$J$24, 0), 0)","v":"Southbound"},"Mon","13:45:00",2,1,0,0,0,0,0,0,0,0,0,0,1,1,1,0,0,0,0,0,0,0,0,0,0,0,0,0,0,0,0,0,12.9,"-",9.9,16.5,null,"Mon","13:45:00",2,3,0,2,0,0,0,0,0,0,0,0,2,2,2,0,1,0,0,0,0,0,0,0,0,0,0,0,0,0,0,0,14.9,"-",6.8,26.2,0,2,2,0,0,4,2,1,0,0,0,3,2,3,2,0,0,7,4,8,5,6,5,8,11,3,6,6,4,7,4,12,7,14,11,10,12,12,23]
[1,{"$f":"OFFSET(Input_Details!$Q$4,MATCH($A60, Input_Details!$J$5:$J$24, 0), 0)","v":"2017-11-20"},{"$f":"INDEX(Input_Details!$H$5:$H$24, MATCH($A60, Input_Details!$J$5:$J$24, 0), 0)","v":"Meadow Street"},{"$f":"INDEX(Input_Details!$I$5:$I$24, MATCH($A60, Input_Details!$J$5:$J$24, 0), 0)","v":"51.49499,-0.09696"},{"$f":"INDEX(Input_Details!$K$5:$K$24, MATCH($A60, Input_Details!$J$5:$J$24, 0), 0)","v":"Northbound"},"Mon","14:00:00",1,3,0,0,0,0,0,0,0,0,0,0,0,2,2,0,0,0,0,0,0,0,0,0,0,0,0,0,0,0,0,0,14.7,"-",11.5,16.899999999999999,{"$f":"INDEX(Input_Details!$L$5:$L$24, MATCH($A60, Input_Details!$J$5:$J$24, 0), 0)","v":"Southbound"},"Mon","14:00:00",0,7,0,1,0,0,0,0,0,0,0,0,1,2,4,1,0,0,0,0,0,0,0,0,0,0,0,0,0,0,0,0,15.3,"-",7.6,20.399999999999999,null,"Mon","14:00:00",1,10,0,1,0,0,0,0,0,0,0,0,1,4,6,1,0,0,0,0,0,0,0,0,0,0,0,0,0,0,0,0,15.1,"-",7.6,20.399999999999999,1,3,0,0,0,4,0,7,1,0,0,8,1,10,1,0,0,12,4,4,4,3,5,9,12,8,6,4,4,13,9,8,12,10,8,7,18,18,20]
[1,{"$f":"OFFSET(Input_Details!$Q$4,MATCH($A61, Input_Details!$J$5:$J$24, 0), 0)","v":"2017-11-20"},{"$f":"INDEX(Input_Details!$H$5:$H$24, MATCH($A61, Input_Details!$J$5:$J$24, 0), 0)","v":"Meadow Street"},{"$f":"INDEX(Input_Details!$I$5:$I$24, MATCH($A61, Input_Details!$J$5:$J$24, 0), 0)","v":"51.49499,-0.09696"},{"$f":"INDEX(Input_Details!$K$5:$K$24, MATCH($A61, Input_Details!$J$5:$J$24, 0), 0)","v":"Northbound"},"Mon","14:15:00",0,4,0,2,0,0,0,0,0,0,0,0,3,1,1,1,0,0,0,0,0,0,0,0,0,0,0,0,0,0,0,0,12.9,"-",6.4,23.2,{"$f":"INDEX(Input_Details!$L$5:$L$24, MATCH($A61, Input_Details!$J$5:$J$24, 0), 0)","v":"Southbound"},"Mon","14:15:00",1,3,0,0,0,0,0,0,0,0,0,0,1,2,1,0,0,0,0,0,0,0,0,0,0,0,0,0,0,0,0,0,13.6,"-",10,18.600000000000001,null,"Mon","14:15:00",1,7,0,2,0,0,0,0,0,0,0,0,4,3,2,1,0,0,0,0,0,0,0,0,0,0,0,0,0,0,0,0,13.180000000000001,"-",6.4,23.2,0,4,2,0,0,6,1,3,0,0,0,4,1,7,2,0,0,10,6,4,6,4,5,7,6,4,6,11,4,16,4,7,10,10,17,8,21,11,13]
[1,{"$f":"OFFSET(Input_Details!$Q$4,MATCH($A62, Input_Details!$J$5:$J$24, 0), 0)","v":"2017-11-20"},{"$f":"INDEX(Input_Details!$H$5:$H$24, MATCH($A62, Input_Details!$J$5:$J$24, 0), 0)","v":"Meadow Street"},{"$f":"INDEX(Input_Details!$I$5:$I$24, MATCH($A62, Input_Details!$J$5:$J$24, 0), 0)","v":"51.49499,-0.09696"},{"$f":"INDEX(Input_Details!$K$5:$K$24, MATCH($A62, Input_Details!$J$5:$J$24, 0), 0)","v":"Northbound"},"Mon","14:30:00",2,4,0,0,0,0,0,0,0,0,0,0,0,2,1,2,1,0,0,0,0,0,0,0,0,0,0,0,0,0,0,0,19.100000000000001,"-",11.3,25.6,{"$f":"INDEX(Input_Details!$L$5:$L$24, MATCH($A62, Input_Details!$J$5:$J$24, 0), 0)","v":"Southbound"},"Mon","14:30:00",3,5,0,2,0,0,0,0,0,0,0,0,1,4,2,3,0,0,0,0,0,0,0,0,0,0,0,0,0,0,0,0,15.6,"-",9.8000000000000007,22.7,null,"Mon","14:30:00",5,9,0,2,0,0,0,0,0,0,0,0,1,6,3,5,1,0,0,0,0,0,0,0,0,0,0,0,0,0,0,0,16.912500000000001,"-",9.8000000000000007,25.6,2,4,0,0,0,6,3,5,2,0,0,10,5,9,2,0,0,16,6,6,8,2,7,8,10,10,13,5,7,13,5,13,16,19,13,9,20,13,23]
[1,{"$f":"OFFSET(Input_Details!$Q$4,MATCH($A63, Input_Details!$J$5:$J$24, 0), 0)","v":"2017-11-20"},{"$f":"INDEX(Input_Details!$H$5:$H$24, MATCH($A63, Input_Details!$J$5:$J$24, 0), 0)","v":"Meadow Street"},{"$f":"INDEX(Input_Details!$I$5:$I$24, MATCH($A63, Input_Details!$J$5:$J$24, 0), 0)","v":"51.49499,-0.09696"},{"$f":"INDEX(Input_Details!$K$5:$K$24, MATCH($A63, Input_Details!$J$5:$J$24, 0), 0)","v":"Northbound"},"Mon","14:45:00",2,6,0,2,0,0,0,0,0,0,0,0,0,6,3,1,0,0,0,0,0,0,0,0,0,0,0,0,0,0,0,0,14.8,"-",10.199999999999999,21.5,{"$f":"INDEX(Input_Details!$L$5:$L$24, MATCH($A63, Input_Details!$J$5:$J$24, 0), 0)","v":"Southbound"},"Mon","14:45:00",0,5,0,0,0,0,0,0,0,0,0,0,0,3,1,1,0,0,0,0,0,0,0,0,0,0,0,0,0,0,0,0,14.8,"-",10,20.5,null,"Mon","14:45:00",2,11,0,2,0,0,0,0,0,0,0,0,0,9,4,2,0,0,0,0,0,0,0,0,0,0,0,0,0,0,0,0,14.8,"-",10,21.5,2,6,2,0,0,10,0,5,0,0,0,5,2,11,2,0,0,15,10,7,0,3,3,10,5,5,11,11,5,13,9,6,15,18,11,8,16,19,11]
[1,{"$f":"OFFSET(Input_Details!$Q$4,MATCH($A64, Input_Details!$J$5:$J$24, 0), 0)","v":"2017-11-20"},{"$f":"INDEX(Input_Details!$H$5:$H$24, MATCH($A64, Input_Details!$J$5:$J$24, 0), 0)","v":"Meadow Street"},{"$f":"INDEX(Input_Details!$I$5:$I$24, MATCH($A64, Input_Details!$J$5:$J$24, 0), 0)","v":"51.49499,-0.09696"},{"$f":"INDEX(Input_Details!$K$5:$K$24, MATCH($A64, Input_Details!$J$5:$J$24, 0), 0)","v":"Northbound"},"Mon","15:00:00",1,3,0,1,0,0,0,0,0,0,0,0,3,0,2,0,0,0,0,0,0,0,0,0,0,0,0,0,0,0,0,0,12.5,"-",9.1999999999999993,18.5,{"$f":"INDEX(Input_Details!$L$5:$L$24, MATCH($A64, Input_Details!$J$5:$J$24, 0), 0)","v":"Southbound"},"Mon","15:00:00",3,9,0,1,0,0,0,0,0,0,0,0,1,4,7,1,0,0,0,0,0,0,0,0,0,0,0,0,0,0,0,0,15.5,17.899999999999999,6.7,23.1,null,"Mon","15:00:00",4,12,0,2,0,0,0,0,0,0,0,0,4,4,9,1,0,0,0,0,0,0,0,0,0,0,0,0,0,0,0,0,14.666666666666666,17.899999999999999,6.7,23.1,1,3,1,0,0,5,3,9,1,0,0,13,4,12,2,0,0,18,5,3,6,5,5,5,12,13,10,17,14,9,10,2,18,13,23,19,14,15,14]
[1,{"$f":"OFFSET(Input_Details!$Q$4,MATCH($A65, Input_Details!$J$5:$J$24, 0), 0)","v":"2017-11-20"},{"$f":"INDEX(Input_Details!$H$5:$H$24, MATCH($A65, Input_Details!$J$5:$J$24, 0), 0)","v":"Meadow Street"},{"$f":"INDEX(Input_Details!$I$5:$I$24, MATCH($A65, Input_Details!$J$5:$J$24, 0), 0)","v":"51.49499,-0.09696"},{"$f":"INDEX(Input_Details!$K$5:$K$24, MATCH($A65, Input_Details!$J$5:$J$24, 0), 0)","v":"Northbound"},"Mon","15:15:00",0,5,0,2,0,0,0,0,0,0,0,0,1,2,4,0,0,0,0,0,0,0,0,0,0,0,0,0,0,0,0,0,14.2,"-",8.3000000000000007,17.600000000000001,{"$f":"INDEX(Input_Details!$L$5:$L$24, MATCH($A65, Input_Details!$J$5:$J$24, 0), 0)","v":"Southbound"},"Mon","15:15:00",3,5,0,1,0,0,0,0,0,0,0,0,0,4,5,0,0,0,0,0,0,0,0,0,0,0,0,0,0,0,0,0,15,"-",10.8,17.600000000000001,null,"Mon","15:15:00",3,10,0,3,0,0,0,0,0,0,0,0,1,6,9,0,0,0,0,0,0,0,0,0,0,0,0,0,0,0,0,0,14.649999999999999,"-",8.3000000000000007,17.600000000000001,0,5,2,0,0,7,3,5,1,0,0,9,3,10,3,0,0,16,7,5,5,6,5,2,9,9,2,9,10,9,2,9,16,7,14,16,14,4,18]
[1,{"$f":"OFFSET(Input_Details!$Q$4,MATCH($A66, Input_Details!$J$5:$J$24, 0), 0)","v":"2017-11-20"},{"$f":"INDEX(Input_Details!$H$5:$H$24, MATCH($A66, Input_Details!$J$5:$J$24, 0), 0)","v":"Meadow Street"},{"$f":"INDEX(Input_Details!$I$5:$I$24, MATCH($A66, Input_Details!$J$5:$J$24, 0), 0)","v":"51.49499,-0.09696"},{"$f":"INDEX(Input_Details!$K$5:$K$24, MATCH($A66, Input_Details!$J$5:$J$24, 0), 0)","v":"Northbound"},"Mon","15:30:00",3,4,0,0,0,0,0,0,0,0,0,0,0,5,1,1,0,0,0,0,0,0,0,0,0,0,0,0,0,0,0,0,13.5,"-",11.1,21.5,{"$f":"INDEX(Input_Details!$L$5:$L$24, MATCH($A66, Input_Details!$J$5:$J$24, 0), 0)","v":"Southbound"},"Mon","15:30:00",9,7,0,2,0,0,0,0,0,0,0,0,1,14,3,0,0,0,0,0,0,0,0,0,0,0,0,0,0,0,0,0,13,13.9,8.6999999999999993,19.8,null,"Mon","15:30:00",12,11,0,2,0,0,0,0,0,0,0,0,1,19,4,1,0,0,0,0,0,0,0,0,0,0,0,0,0,0,0,0,13.14,13.9,8.6999999999999993,21.5,3,4,0,0,0,7,9,7,2,0,0,18,12,11,2,0,0,25,7,7,5,7,4,10,6,18,7,4,6,7,7,8,25,14,9,13,11,17,14]
[1,{"$f":"OFFSET(Input_Details!$Q$4,MATCH($A67, Input_Details!$J$5:$J$24, 0), 0)","v":"2017-11-20"},{"$f":"INDEX(Input_Details!$H$5:$H$24, MATCH($A67, Input_Details!$J$5:$J$24, 0), 0)","v":"Meadow Street"},{"$f":"INDEX(Input_Details!$I$5:$I$24, MATCH($A67, Input_Details!$J$5:$J$24, 0), 0)","v":"51.49499,-0.09696"},{"$f":"INDEX(Input_Details!$K$5:$K$24, MATCH($A67, Input_Details!$J$5:$J$24, 0), 0)","v":"Northbound"},"Mon","15:45:00",5,2,0,2,0,0,0,0,0,0,0,0,0,4,4,1,0,0,0,0,0,0,0,0,0,0,0,0,0,0,0,0,15.6,"-",10.4,20.2,{"$f":"INDEX(Input_Details!$L$5:$L$24, MATCH($A67, Input_Details!$J$5:$J$24, 0), 0)","v":"Southbound"},"Mon","15:45:00",6,5,0,1,0,0,0,0,0,0,0,0,0,6,4,2,0,0,0,0,0,0,0,0,0,0,0,0,0,0,0,0,15.9,19.5,10.7,21.7,null,"Mon","15:45:00",11,7,0,3,0,0,0,0,0,0,0,0,0,10,8,3,0,0,0,0,0,0,0,0,0,0,0,0,0,0,0,0,15.771428571428574,19.5,10.4,21.7,5,2,2,0,0,9,6,5,1,0,0,12,11,7,3,0,0,21,9,6,6,5,9,4,10,12,9,5,8,10,9,7,21,15,11,13,19,13,17]
[1,{"$f":"OFFSET(Input_Details!$Q$4,MATCH($A68, Input_Details!$J$5:$J$24, 0), 0)","v":"2017-11-20"},{"$f":"INDEX(Input_Details!$H$5:$H$24, MATCH($A68, Input_Details!$J$5:$J$24, 0), 0)","v":"Meadow Street"},{"$f":"INDEX(Input_Details!$I$5:$I$24, MATCH($A68, Input_Details!$J$5:$J$24, 0), 0)","v":"51.49499,-0.09696"},{"$f":"INDEX(Input_Details!$K$5:$K$24, MATCH($A68, Input_Details!$J$5:$J$24, 0), 0)","v":"Northbound"},"Mon","16:00:00",0,5,0,1,0,0,0,0,0,0,0,0,1,3,2,0,0,0,0,0,0,0,0,0,0,0,0,0,0,0,0,0,13.3,"-",6.8,18.100000000000001,{"$f":"INDEX(Input_Details!$L$5:$L$24, MATCH($A68, Input_Details!$J$5:$J$24, 0), 0)","v":"Southbound"},"Mon","16:00:00",4,10,0,2,0,0,0,0,0,0,0,0,3,5,7,1,0,0,0,0,0,0,0,0,0,0,0,0,0,0,0,0,14.7,19.5,7.9,20.9,null,"Mon","16:00:00",4,{"$f":"IF(OR(I68=\"\", AV68=\"\"), \"-\",SUM(I68+AV68))","v":15},{"$f":"IF(OR(J68=\"\", AW68=\"\"), \"-\",SUM(J68+AW68))","v":0},{"$f":"IF(OR(K68=\"\", AX68=\"\"), \"-\",SUM(K68+AX68))","v":3},{"$f":"IF(OR(L68=\"\", AY68=\"\"), \"-\",SUM(L68+AY68))","v":0},{"$f":"IF(OR(M68=\"\", AZ68=\"\"), \"-\",SUM(M68+AZ68))","v":0},{"$f":"IF(OR(N68=\"\", BA68=\"\"), \"-\",SUM(N68+BA68))","v":0},{"$f":"IF(OR(O68=\"\", BB68=\"\"), \"-\",SUM(O68+BB68))","v":0},{"$f":"IF(OR(P68=\"\", BC68=\"\"), \"-\",SUM(P68+BC68))","v":0},{"$f":"IF(OR(Q68=\"\", BD68=\"\"), \"-\",SUM(Q68+BD68))","v":0},{"$f":"IF(OR(R68=\"\", BE68=\"\"), \"-\",SUM(R68+BE68))","v":0},{"$f":"IF(OR(S68=\"\", BF68=\"\"), \"-\",SUM(S68+BF68))","v":0},{"$f":"IF(OR(T68=\"\", BG68=\"\"), \"-\",SUM(T68+BG68))","v":4},{"$f":"IF(OR(U68=\"\", BH68=\"\"), \"-\",SUM(U68+BH68))","v":8},{"$f":"IF(OR(V68=\"\", BI68=\"\"), \"-\",SUM(V68+BI68))","v":9},{"$f":"IF(OR(W68=\"\", BJ68=\"\"), \"-\",SUM(W68+BJ68))","v":1},{"$f":"IF(OR(X68=\"\", BK68=\"\"), \"-\",SUM(X68+BK68))","v":0},{"$f":"IF(OR(Y68=\"\", BL68=\"\"), \"-\",SUM(Y68+BL68))","v":0},{"$f":"IF(OR(Z68=\"\", BM68=\"\"), \"-\",SUM(Z68+BM68))","v":0},{"$f":"IF(OR(AA68=\"\", BN68=\"\"), \"-\",SUM(AA68+BN68))","v":0},{"$f":"IF(OR(AB68=\"\", BO68=\"\"), \"-\",SUM(AB68+BO68))","v":0},{"$f":"IF(OR(AC68=\"\", BP68=\"\"), \"-\",SUM(AC68+BP68))","v":0},{"$f":"IF(OR(AD68=\"\", BQ68=\"\"), \"-\",SUM(AD68+BQ68))","v":0},{"$f":"IF(OR(AE68=\"\", BR68=\"\"), \"-\",SUM(AE68+BR68))","v":0},{"$f":"IF(OR(AF68=\"\", BS68=\"\"), \"-\",SUM(AF68+BS68))","v":0},{"$f":"IF(OR(AG68=\"\", BT68=\"\"), \"-\",SUM(AG68+BT68))","v":0},{"$f":"IF(OR(AH68=\"\", BU68=\"\"), \"-\",SUM(AH68+BU68))","v":0},{"$f":"IF(OR(AI68=\"\", BV68=\"\"), \"-\",SUM(AI68+BV68))","v":0},{"$f":"IF(OR(AJ68=\"\", BW68=\"\"), \"-\",SUM(AJ68+BW68))","v":0},{"$f":"IF(OR(AK68=\"\", BX68=\"\"), \"-\",SUM(AK68+BX68))","v":0},{"$f":"IF(OR(AL68=\"\", BY68=\"\"), \"-\",SUM(AL68+BY68))","v":0},{"$f":"IF(OR(AM68=\"\", BZ68=\"\"), \"-\",SUM(AM68+BZ68))","v":0},14.318181818181818,19.5,6.8,20.9,{"$f":"IF(H68=\"\", \"-\", H68)","v":0},{"$f":"IF(DR68=\"-\", \"-\", SUM(I68:J68))","v":5},{"$f":"IF(DR68=\"-\", \"-\", K68)","v":1},{"$f":"IF(DR68=\"-\", \"-\", L68)","v":0},{"$f":"IF(DR68=\"-\", \"-\", SUM(M68:S68))","v":0},{"$f":"IF(DR68=\"-\", \"-\", SUM(H68:S68))","v":6},4,10,2,0,0,16,4,{"$f":"IF(OR(DS68=\"-\", DY68=\"-\"), \"-\", SUM(DS68,DY68))","v":15},{"$f":"IF(OR(DT68=\"-\", DZ68=\"-\"), \"-\", SUM(DT68,DZ68))","v":3},{"$f":"IF(OR(DU68=\"-\", EA68=\"-\"), \"-\", SUM(DU68,EA68))","v":0},{"$f":"IF(OR(DV68=\"-\", EB68=\"-\"), \"-\", SUM(DV68,EB68))","v":0},{"$f":"IF(OR(DW68=\"-\", EC68=\"-\"), \"-\", SUM(DW68,EC68))","v":22},6,5,3,3,4,4,13,16,10,11,9,8,4,7,22,{"$f":"IF(OR(EK68=\"-\", ER68=\"-\"), \"-\", SUM(EK68,ER68))","v":15},{"$f":"IF(OR(EL68=\"-\", ES68=\"-\"), \"-\", SUM(EL68,ES68))","v":14},{"$f":"IF(OR(EM68=\"-\", ET68=\"-\"), \"-\", SUM(EM68,ET68))","v":12},{"$f":"IF(OR(EN68=\"-\", EU68=\"-\"), \"-\", SUM(EN68,EU68))","v":12},{"$f":"IF(OR(EO68=\"-\", EV68=\"-\"), \"-\", SUM(EO68,EV68))","v":8},{"$f":"IF(OR(EP68=\"-\", EW68=\"-\"), \"-\", SUM(EP68,EW68))","v":20}]
[{"$f":"A68","v":1},{"$f":"OFFSET(Input_Details!$Q$4,MATCH($A69, Input_Details!$J$5:$J$24, 0), 0)","v":"2017-11-20"},{"$f":"INDEX(Input_Details!$H$5:$H$24, MATCH($A69, Input_Details!$J$5:$J$24, 0), 0)","v":"Meadow Street"},{"$f":"INDEX(Input_Details!$I$5:$I$24, MATCH($A69, Input_Details!$J$5:$J$24, 0), 0)","v":"51.49499,-0.09696"},{"$f":"INDEX(Input_Details!$K$5:$K$24, MATCH($A69, Input_Details!$J$5:$J$24, 0), 0)","v":"Northbound"},{"$f":"+F68","v":"Mon"},"16:15:00",3,3,0,0,0,0,0,0,0,0,0,0,1,3,1,1,0,0,0,0,0,0,0,0,0,0,0,0,0,0,0,0,13.7,"-",9.1,20.100000000000001,{"$f":"INDEX(Input_Details!$L$5:$L$24, MATCH($A69, Input_Details!$J$5:$J$24, 0), 0)","v":"Southbound"},"Mon","16:15:00",1,4,0,0,0,0,0,0,0,0,0,0,2,1,2,0,0,0,0,0,0,0,0,0,0,0,0,0,0,0,0,0,12.7,"-",6.6,19.8,null,"Mon","16:15:00",{"$f":"IF(OR(H69=\"\", AU69=\"\"), \"-\",SUM(H69+AU69))","v":4},7,0,0,0,0,0,0,0,0,0,0,3,4,3,1,0,0,0,0,0,0,0,0,0,0,0,0,0,0,0,0,{"$f":"IF(OR(DW69=\"-\", EC69=\"-\", EI69=\"-\", EI69=0),\"-\",IF(OR(DW69=\"-\", DW69=0),CA69,IF(EC69=0,AN69,SUM((AN69*DW69),(CA69*EC69))/EI69)))","v":13.245454545454544},{"$f":"IFERROR(IF(OR(DW69=\"-\", EC69=\"-\", EI69=\"-\", EI69=0), \"-\", IF(AO69=\"-\", CB69, AVERAGE(AO69,CB69))), \"-\")","v":"-"},{"$f":"IF(OR(DW69=\"-\", EC69=\"-\",EI69=\"-\", EI69=0),\"-\",MIN(AP69,CC69))","v":6.6},{"$f":"IF(OR(DW69=\"-\", EC69=\"-\",EI69=\"-\", EI69=0),\"-\",MAX(AQ69,CD69))","v":20.100000000000001},3,3,0,0,0,6,{"$f":"IF(AU69=\"\", \"-\", AU69)","v":1},{"$f":"IF(DX69=\"-\", \"-\", SUM(AV69:AW69))","v":4},{"$f":"IF(DX69=\"-\", \"-\", AX69)","v":0},{"$f":"IF(DX69=\"-\", \"-\", AY69)","v":0},{"$f":"IF(DX69=\"-\", \"-\", SUM(AZ69:BF69))","v":0},{"$f":"IF(DX69=\"-\", \"-\", SUM(AU69:BF69))","v":5},{"$f":"IF(OR(DR69=\"-\", DX69=\"-\"), \"-\", SUM(DR69,DX69))","v":4},7,0,0,0,11,{"$f":"+DW69","v":6},{"$f":"+DW165","v":"-"},{"$f":"+DW261","v":5},{"$f":"+DW357","v":4},{"$f":"+DW453","v":7},{"$f":"+DW549","v":9},{"$f":"+DW645","v":8},{"$f":"+EC69","v":5},{"$f":"+EC165","v":"-"},{"$f":"+EC261","v":8},{"$f":"+EC357","v":10},{"$f":"+EC453","v":15},{"$f":"+EC549","v":8},{"$f":"+EC645","v":10},{"$f":"IF(OR(EJ69=\"-\", EQ69=\"-\"), \"-\", SUM(EJ69,EQ69))","v":11},"-",13,14,22,17,18]
[1,{"$f":"OFFSET(Input_Details!$Q$4,MATCH($A70, Input_Details!$J$5:$J$24, 0), 0)","v":"2017-11-20"},{"$f":"INDEX(Input_Details!$H$5:$H$24, MATCH($A70, Input_Details!$J$5:$J$24, 0), 0)","v":"Meadow Street"},{"$f":"INDEX(Input_Details!$I$5:$I$24, MATCH($A70, Input_Details!$J$5:$J$24, 0), 0)","v":"51.49499,-0.09696"},{"$f":"INDEX(Input_Details!$K$5:$K$24, MATCH($A70, Input_Details!$J$5:$J$24, 0), 0)","v":"Northbound"},"Mon","16:30:00",2,3,0,3,0,0,0,0,0,0,0,0,0,1,5,2,0,0,0,0,0,0,0,0,0,0,0,0,0,0,0,0,17,"-",11.2,20.399999999999999,{"$f":"INDEX(Input_Details!$L$5:$L$24, MATCH($A70, Input_Details!$J$5:$J$24, 0), 0)","v":"Southbound"},"Mon","16:30:00",14,3,0,1,0,1,0,0,0,0,0,0,3,9,6,0,1,0,0,0,0,0,0,0,0,0,0,0,0,0,0,0,13.9,16.100000000000001,7.8,28.9,null,"Mon","16:30:00",16,6,0,4,0,1,0,0,0,0,0,0,3,10,11,2,1,0,0,0,0,0,0,0,0,0,0,0,0,0,0,0,14.81851851851852,16.100000000000001,7.8,28.9,2,3,3,0,0,8,14,3,1,0,1,19,16,6,4,0,1,27,8,3,9,8,7,9,12,19,9,18,13,15,8,8,27,12,27,21,22,17,20]
[1,{"$f":"OFFSET(Input_Details!$Q$4,MATCH($A71, Input_Details!$J$5:$J$24, 0), 0)","v":"2017-11-20"},{"$f":"INDEX(Input_Details!$H$5:$H$24, MATCH($A71, Input_Details!$J$5:$J$24, 0), 0)","v":"Meadow Street"},{"$f":"INDEX(Input_Details!$I$5:$I$24, MATCH($A71, Input_Details!$J$5:$J$24, 0), 0)","v":"51.49499,-0.09696"},{"$f":"INDEX(Input_Details!$K$5:$K$24, MATCH($A71, Input_Details!$J$5:$J$24, 0), 0)","v":"Northbound"},"Mon","16:45:00",2,5,0,0,0,0,0,0,0,0,0,0,0,1,4,1,1,0,0,0,0,0,0,0,0,0,0,0,0,0,0,0,18.399999999999999,"-",11.9,26.1,{"$f":"INDEX(Input_Details!$L$5:$L$24, MATCH($A71, Input_Details!$J$5:$J$24, 0), 0)","v":"Southbound"},"Mon","16:45:00",4,5,0,1,0,0,0,0,0,0,0,0,3,2,5,0,0,0,0,0,0,0,0,0,0,0,0,0,0,0,0,0,13.5,"-",8.6,18.3,null,"Mon","16:45:00",6,10,0,1,0,0,0,0,0,0,0,0,3,3,9,1,1,0,0,0,0,0,0,0,0,0,0,0,0,0,0,0,15.517647058823528,"-",8.6,26.1,2,5,0,0,0,7,4,5,1,0,0,10,6,10,1,0,0,17,7,10,2,12,4,8,8,10,19,14,28,16,7,11,17,29,16,40,20,15,19]
[1,{"$f":"OFFSET(Input_Details!$Q$4,MATCH($A72, Input_Details!$J$5:$J$24, 0), 0)","v":"2017-11-20"},{"$f":"INDEX(Input_Details!$H$5:$H$24, MATCH($A72, Input_Details!$J$5:$J$24, 0), 0)","v":"Meadow Street"},{"$f":"INDEX(Input_Details!$I$5:$I$24, MATCH($A72, Input_Details!$J$5:$J$24, 0), 0)","v":"51.49499,-0.09696"},{"$f":"INDEX(Input_Details!$K$5:$K$24, MATCH($A72, Input_Details!$J$5:$J$24, 0), 0)","v":"Northbound"},"Mon","17:00:00",3,2,0,0,0,0,0,0,0,0,0,0,0,5,0,0,0,0,0,0,0,0,0,0,0,0,0,0,0,0,0,0,11.9,"-",10.7,13.6,{"$f":"INDEX(Input_Details!$L$5:$L$24, MATCH($A72, Input_Details!$J$5:$J$24, 0), 0)","v":"Southbound"},"Mon","17:00:00",6,5,0,0,0,0,0,0,0,0,0,0,0,10,1,0,0,0,0,0,0,0,0,0,0,0,0,0,0,0,0,0,12.1,12.8,10.6,16.3,null,"Mon","17:00:00",9,7,0,0,0,0,0,0,0,0,0,0,0,15,1,0,0,0,0,0,0,0,0,0,0,0,0,0,0,0,0,0,12.0375,12.8,10.6,16.3,3,2,0,0,0,5,6,5,0,0,0,11,9,7,0,0,0,16,5,4,4,12,3,12,7,11,16,22,19,12,9,13,16,20,26,31,15,21,20]
[1,{"$f":"OFFSET(Input_Details!$Q$4,MATCH($A73, Input_Details!$J$5:$J$24, 0), 0)","v":"2017-11-20"},{"$f":"INDEX(Input_Details!$H$5:$H$24, MATCH($A73, Input_Details!$J$5:$J$24, 0), 0)","v":"Meadow Street"},{"$f":"INDEX(Input_Details!$I$5:$I$24, MATCH($A73, Input_Details!$J$5:$J$24, 0), 0)","v":"51.49499,-0.09696"},{"$f":"INDEX(Input_Details!$K$5:$K$24, MATCH($A73, Input_Details!$J$5:$J$24, 0), 0)","v":"Northbound"},"Mon","17:15:00",4,3,0,0,0,0,0,0,0,0,0,0,0,7,0,0,0,0,0,0,0,0,0,0,0,0,0,0,0,0,0,0,12,"-",10.199999999999999,14.1,{"$f":"INDEX(Input_Details!$L$5:$L$24, MATCH($A73, Input_Details!$J$5:$J$24, 0), 0)","v":"Southbound"},"Mon","17:15:00",17,8,0,0,0,2,0,0,0,0,0,0,5,18,4,0,0,0,0,0,0,0,0,0,0,0,0,0,0,0,0,0,12.4,14.8,8.5,17,null,"Mon","17:15:00",21,11,0,0,0,2,0,0,0,0,0,0,5,25,4,0,0,0,0,0,0,0,0,0,0,0,0,0,0,0,0,0,12.31764705882353,14.8,8.5,17,4,3,0,0,0,7,17,8,0,0,2,27,21,11,0,0,2,34,7,5,3,2,2,8,5,27,26,20,23,21,13,13,34,31,23,25,23,21,18]
[1,{"$f":"OFFSET(Input_Details!$Q$4,MATCH($A74, Input_Details!$J$5:$J$24, 0), 0)","v":"2017-11-20"},{"$f":"INDEX(Input_Details!$H$5:$H$24, MATCH($A74, Input_Details!$J$5:$J$24, 0), 0)","v":"Meadow Street"},{"$f":"INDEX(Input_Details!$I$5:$I$24, MATCH($A74, Input_Details!$J$5:$J$24, 0), 0)","v":"51.49499,-0.09696"},{"$f":"INDEX(Input_Details!$K$5:$K$24, MATCH($A74, Input_Details!$J$5:$J$24, 0), 0)","v":"Northbound"},"Mon","17:30:00",5,4,0,1,0,0,0,0,0,0,0,0,3,4,2,1,0,0,0,0,0,0,0,0,0,0,0,0,0,0,0,0,12.7,"-",8.6,20.399999999999999,{"$f":"INDEX(Input_Details!$L$5:$L$24, MATCH($A74, Input_Details!$J$5:$J$24, 0), 0)","v":"Southbound"},"Mon","17:30:00",17,7,0,0,0,2,0,0,0,1,0,0,6,19,2,0,0,0,0,0,0,0,0,0,0,0,0,0,0,0,0,0,12.1,14.1,9.1,18.100000000000001,null,"Mon","17:30:00",22,11,0,1,0,2,0,0,0,1,0,0,9,23,4,1,0,0,0,0,0,0,0,0,0,0,0,0,0,0,0,0,12.262162162162161,14.1,8.6,20.399999999999999,5,4,1,0,0,10,17,7,0,0,3,27,22,11,1,0,3,37,10,9,7,5,7,7,6,27,24,31,34,29,10,7,37,33,38,39,36,17,13]
[1,{"$f":"OFFSET(Input_Details!$Q$4,MATCH($A75, Input_Details!$J$5:$J$24, 0), 0)","v":"2017-11-20"},{"$f":"INDEX(Input_Details!$H$5:$H$24, MATCH($A75, Input_Details!$J$5:$J$24, 0), 0)","v":"Meadow Street"},{"$f":"INDEX(Input_Details!$I$5:$I$24, MATCH($A75, Input_Details!$J$5:$J$24, 0), 0)","v":"51.49499,-0.09696"},{"$f":"INDEX(Input_Details!$K$5:$K$24, MATCH($A75, Input_Details!$J$5:$J$24, 0), 0)","v":"Northbound"},"Mon","17:45:00",3,3,0,0,0,0,0,0,0,0,0,0,0,4,1,1,0,0,0,0,0,0,0,0,0,0,0,0,0,0,0,0,15.1,"-",11.9,21.5,{"$f":"INDEX(Input_Details!$L$5:$L$24, MATCH($A75, Input_Details!$J$5:$J$24, 0), 0)","v":"Southbound"},"Mon","17:45:00",26,6,0,0,0,0,0,0,0,0,0,0,0,25,5,1,1,0,0,0,0,0,0,0,0,0,0,0,0,0,0,0,14.2,15.4,10.4,27.9,null,"Mon","17:45:00",29,9,0,0,0,0,0,0,0,0,0,0,0,29,6,2,1,0,0,0,0,0,0,0,0,0,0,0,0,0,0,0,14.342105263157896,15.4,10.4,27.9,3,3,0,0,0,6,26,6,0,0,0,32,29,9,0,0,0,38,6,10,11,4,4,6,5,32,41,36,29,26,8,12,38,51,47,33,30,14,17]
[1,{"$f":"OFFSET(Input_Details!$Q$4,MATCH($A76, Input_Details!$J$5:$J$24, 0), 0)","v":"2017-11-20"},{"$f":"INDEX(Input_Details!$H$5:$H$24, MATCH($A76, Input_Details!$J$5:$J$24, 0), 0)","v":"Meadow Street"},{"$f":"INDEX(Input_Details!$I$5:$I$24, MATCH($A76, Input_Details!$J$5:$J$24, 0), 0)","v":"51.49499,-0.09696"},{"$f":"INDEX(Input_Details!$K$5:$K$24, MATCH($A76, Input_Details!$J$5:$J$24, 0), 0)","v":"Northbound"},"Mon","18:00:00",2,2,0,0,0,0,0,0,0,0,0,0,0,2,2,0,0,0,0,0,0,0,0,0,0,0,0,0,0,0,0,0,15.2,"-",11.1,19.7,{"$f":"INDEX(Input_Details!$L$5:$L$24, MATCH($A76, Input_Details!$J$5:$J$24, 0), 0)","v":"Southbound"},"Mon","18:00:00",27,2,0,0,0,2,0,0,0,3,1,0,4,25,6,0,0,0,0,0,0,0,0,0,0,0,0,0,0,0,0,0,12.7,15.2,8.1,18.399999999999999,null,"Mon","18:00:00",29,4,0,0,0,2,0,0,0,3,1,0,4,27,8,0,0,0,0,0,0,0,0,0,0,0,0,0,0,0,0,0,12.956410256410257,15.2,8.1,19.7,2,2,0,0,0,4,27,2,0,0,6,35,29,4,0,0,6,39,4,12,5,9,13,3,12,35,48,31,49,26,10,12,39,60,36,58,39,13,24]
[1,{"$f":"OFFSET(Input_Details!$Q$4,MATCH($A77, Input_Details!$J$5:$J$24, 0), 0)","v":"2017-11-20"},{"$f":"INDEX(Input_Details!$H$5:$H$24, MATCH($A77, Input_Details!$J$5:$J$24, 0), 0)","v":"Meadow Street"},{"$f":"INDEX(Input_Details!$I$5:$I$24, MATCH($A77, Input_Details!$J$5:$J$24, 0), 0)","v":"51.49499,-0.09696"},{"$f":"INDEX(Input_Details!$K$5:$K$24, MATCH($A77, Input_Details!$J$5:$J$24, 0), 0)","v":"Northbound"},"Mon","18:15:00",5,5,0,0,0,0,0,0,0,0,0,0,2,4,2,2,0,0,0,0,0,0,0,0,0,0,0,0,0,0,0,0,15,"-",7.9,23.5,{"$f":"INDEX(Input_Details!$L$5:$L$24, MATCH($A77, Input_Details!$J$5:$J$24, 0), 0)","v":"Southbound"},"Mon","18:15:00",17,9,0,0,0,4,0,0,0,1,2,0,4,22,7,0,0,0,0,0,0,0,0,0,0,0,0,0,0,0,0,0,12.9,15,7.1,19.100000000000001,null,"Mon","18:15:00",22,14,0,0,0,4,0,0,0,1,2,0,6,26,9,2,0,0,0,0,0,0,0,0,0,0,0,0,0,0,0,0,13.388372093023257,15,7.1,23.5,5,5,0,0,0,10,17,9,0,0,7,33,22,14,0,0,7,43,10,8,7,2,7,13,5,33,41,45,41,35,14,3,43,49,52,43,42,27,8]
[1,{"$f":"OFFSET(Input_Details!$Q$4,MATCH($A78, Input_Details!$J$5:$J$24, 0), 0)","v":"2017-11-20"},{"$f":"INDEX(Input_Details!$H$5:$H$24, MATCH($A78, Input_Details!$J$5:$J$24, 0), 0)","v":"Meadow Street"},{"$f":"INDEX(Input_Details!$I$5:$I$24, MATCH($A78, Input_Details!$J$5:$J$24, 0), 0)","v":"51.49499,-0.09696"},{"$f":"INDEX(Input_Details!$K$5:$K$24, MATCH($A78, Input_Details!$J$5:$J$24, 0), 0)","v":"Northbound"},"Mon","18:30:00",2,4,0,0,0,0,0,0,0,0,0,0,1,1,4,0,0,0,0,0,0,0,0,0,0,0,0,0,0,0,0,0,15.1,"-",9.5,17.8,{"$f":"INDEX(Input_Details!$L$5:$L$24, MATCH($A78, Input_Details!$J$5:$J$24, 0), 0)","v":"Southbound"},"Mon","18:30:00",20,5,0,0,1,6,0,0,0,3,2,1,3,30,4,0,1,0,0,0,0,0,0,0,0,0,0,0,0,0,0,0,12.8,14.1,4.5,27.5,null,"Mon","18:30:00",22,9,0,0,1,6,0,0,0,3,2,1,4,31,8,0,1,0,0,0,0,0,0,0,0,0,0,0,0,0,0,0,13.113636363636363,14.1,4.5,27.5,2,4,0,0,0,6,20,5,0,1,12,38,22,9,0,1,12,44,6,8,6,5,13,15,13,38,38,26,46,29,11,8,44,46,32,51,42,26,21]
[1,{"$f":"OFFSET(Input_Details!$Q$4,MATCH($A79, Input_Details!$J$5:$J$24, 0), 0)","v":"2017-11-20"},{"$f":"INDEX(Input_Details!$H$5:$H$24, MATCH($A79, Input_Details!$J$5:$J$24, 0), 0)","v":"Meadow Street"},{"$f":"INDEX(Input_Details!$I$5:$I$24, MATCH($A79, Input_Details!$J$5:$J$24, 0), 0)","v":"51.49499,-0.09696"},{"$f":"INDEX(Input_Details!$K$5:$K$24, MATCH($A79, Input_Details!$J$5:$J$24, 0), 0)","v":"Northbound"},"Mon","18:45:00",1,3,0,0,0,1,0,0,0,0,0,0,0,5,0,0,0,0,0,0,0,0,0,0,0,0,0,0,0,0,0,0,11.6,"-",10.6,12.9,{"$f":"INDEX(Input_Details!$L$5:$L$24, MATCH($A79, Input_Details!$J$5:$J$24, 0), 0)","v":"Southbound"},"Mon","18:45:00",27,4,0,0,0,5,0,0,0,0,0,0,4,26,6,0,0,0,0,0,0,0,0,0,0,0,0,0,0,0,0,0,12.7,15,9.5,17.899999999999999,null,"Mon","18:45:00",28,7,0,0,0,6,0,0,0,0,0,0,4,31,6,0,0,0,0,0,0,0,0,0,0,0,0,0,0,0,0,0,12.565853658536586,15,9.5,17.899999999999999,1,3,0,0,1,5,27,4,0,0,5,36,28,7,0,0,6,41,5,13,4,7,10,11,11,36,33,32,40,22,9,6,41,46,36,47,32,20,17]
[1,{"$f":"OFFSET(Input_Details!$Q$4,MATCH($A80, Input_Details!$J$5:$J$24, 0), 0)","v":"2017-11-20"},{"$f":"INDEX(Input_Details!$H$5:$H$24, MATCH($A80, Input_Details!$J$5:$J$24, 0), 0)","v":"Meadow Street"},{"$f":"INDEX(Input_Details!$I$5:$I$24, MATCH($A80, Input_Details!$J$5:$J$24, 0), 0)","v":"51.49499,-0.09696"},{"$f":"INDEX(Input_Details!$K$5:$K$24, MATCH($A80, Input_Details!$J$5:$J$24, 0), 0)","v":"Northbound"},"Mon","19:00:00",2,6,0,1,0,0,0,0,0,0,0,0,1,6,2,0,0,0,0,0,0,0,0,0,0,0,0,0,0,0,0,0,13.2,"-",4.7,16.7,{"$f":"INDEX(Input_Details!$L$5:$L$24, MATCH($A80, Input_Details!$J$5:$J$24, 0), 0)","v":"Southbound"},"Mon","19:00:00",17,7,0,0,1,3,0,0,0,0,0,0,3,18,7,0,0,0,0,0,0,0,0,0,0,0,0,0,0,0,0,0,13.5,16.100000000000001,4.7,19.5,null,"Mon","19:00:00",19,13,0,1,1,3,0,0,0,0,0,0,4,24,9,0,0,0,0,0,0,0,0,0,0,0,0,0,0,0,0,0,13.427027027027027,16.100000000000001,4.7,19.5,2,6,1,0,0,9,17,7,0,1,3,28,19,13,1,1,3,37,9,5,11,4,5,13,13,28,26,21,39,23,7,16,37,31,32,43,28,20,29]
[1,{"$f":"OFFSET(Input_Details!$Q$4,MATCH($A81, Input_Details!$J$5:$J$24, 0), 0)","v":"2017-11-20"},{"$f":"INDEX(Input_Details!$H$5:$H$24, MATCH($A81, Input_Details!$J$5:$J$24, 0), 0)","v":"Meadow Street"},{"$f":"INDEX(Input_Details!$I$5:$I$24, MATCH($A81, Input_Details!$J$5:$J$24, 0), 0)","v":"51.49499,-0.09696"},{"$f":"INDEX(Input_Details!$K$5:$K$24, MATCH($A81, Input_Details!$J$5:$J$24, 0), 0)","v":"Northbound"},"Mon","19:15:00",0,9,0,0,0,0,0,0,0,0,0,0,1,5,3,0,0,0,0,0,0,0,0,0,0,0,0,0,0,0,0,0,13.8,"-",9.6999999999999993,18.600000000000001,{"$f":"INDEX(Input_Details!$L$5:$L$24, MATCH($A81, Input_Details!$J$5:$J$24, 0), 0)","v":"Southbound"},"Mon","19:15:00",18,5,0,0,0,1,0,0,0,1,0,0,0,17,7,1,0,0,0,0,0,0,0,0,0,0,0,0,0,0,0,0,14.1,15.9,10.4,24.9,null,"Mon","19:15:00",18,14,0,0,0,1,0,0,0,1,0,0,1,22,10,1,0,0,0,0,0,0,0,0,0,0,0,0,0,0,0,0,14.020588235294117,15.9,9.6999999999999993,24.9,0,9,0,0,0,9,18,5,0,0,2,25,18,14,0,0,2,34,9,9,12,1,10,6,9,25,27,18,33,17,8,10,34,36,30,34,27,14,19]
[1,{"$f":"OFFSET(Input_Details!$Q$4,MATCH($A82, Input_Details!$J$5:$J$24, 0), 0)","v":"2017-11-20"},{"$f":"INDEX(Input_Details!$H$5:$H$24, MATCH($A82, Input_Details!$J$5:$J$24, 0), 0)","v":"Meadow Street"},{"$f":"INDEX(Input_Details!$I$5:$I$24, MATCH($A82, Input_Details!$J$5:$J$24, 0), 0)","v":"51.49499,-0.09696"},{"$f":"INDEX(Input_Details!$K$5:$K$24, MATCH($A82, Input_Details!$J$5:$J$24, 0), 0)","v":"Northbound"},"Mon","19:30:00",0,7,0,0,0,0,0,0,0,0,0,0,2,3,2,0,0,0,0,0,0,0,0,0,0,0,0,0,0,0,0,0,12.8,"-",4.2,18.600000000000001,{"$f":"INDEX(Input_Details!$L$5:$L$24, MATCH($A82, Input_Details!$J$5:$J$24, 0), 0)","v":"Southbound"},"Mon","19:30:00",22,4,0,0,0,0,0,0,0,0,0,0,2,23,1,0,0,0,0,0,0,0,0,0,0,0,0,0,0,0,0,0,12.1,13.6,4.2,16.399999999999999,null,"Mon","19:30:00",22,11,0,0,0,0,0,0,0,0,0,0,4,26,3,0,0,0,0,0,0,0,0,0,0,0,0,0,0,0,0,0,12.248484848484848,13.6,4.2,18.600000000000001,0,7,0,0,0,7,22,4,0,0,0,26,22,11,0,0,0,33,7,8,3,4,8,9,11,26,25,22,33,22,3,6,33,33,25,37,30,12,17]
[1,{"$f":"OFFSET(Input_Details!$Q$4,MATCH($A83, Input_Details!$J$5:$J$24, 0), 0)","v":"2017-11-20"},{"$f":"INDEX(Input_Details!$H$5:$H$24, MATCH($A83, Input_Details!$J$5:$J$24, 0), 0)","v":"Meadow Street"},{"$f":"INDEX(Input_Details!$I$5:$I$24, MATCH($A83, Input_Details!$J$5:$J$24, 0), 0)","v":"51.49499,-0.09696"},{"$f":"INDEX(Input_Details!$K$5:$K$24, MATCH($A83, Input_Details!$J$5:$J$24, 0), 0)","v":"Northbound"},"Mon","19:45:00",0,11,0,1,0,0,0,0,0,0,0,0,3,6,1,2,0,0,0,0,0,0,0,0,0,0,0,0,0,0,0,0,13.2,17.7,4.5,24.1,{"$f":"INDEX(Input_Details!$L$5:$L$24, MATCH($A83, Input_Details!$J$5:$J$24, 0), 0)","v":"Southbound"},"Mon","19:45:00",11,9,0,0,0,2,0,0,0,1,0,0,3,18,2,0,0,0,0,0,0,0,0,0,0,0,0,0,0,0,0,0,12.5,14.3,8.9,15.6,null,"Mon","19:45:00",11,20,0,1,0,2,0,0,0,1,0,0,6,24,3,2,0,0,0,0,0,0,0,0,0,0,0,0,0,0,0,0,12.74,16,4.5,24.1,0,11,1,0,0,12,11,9,0,0,3,23,11,20,1,0,3,35,12,9,8,3,6,9,13,23,20,19,19,14,6,14,35,29,27,22,20,15,27]
[1,{"$f":"OFFSET(Input_Details!$Q$4,MATCH($A84, Input_Details!$J$5:$J$24, 0), 0)","v":"2017-11-20"},{"$f":"INDEX(Input_Details!$H$5:$H$24, MATCH($A84, Input_Details!$J$5:$J$24, 0), 0)","v":"Meadow Street"},{"$f":"INDEX(Input_Details!$I$5:$I$24, MATCH($A84, Input_Details!$J$5:$J$24, 0), 0)","v":"51.49499,-0.09696"},{"$f":"INDEX(Input_Details!$K$5:$K$24, MATCH($A84, Input_Details!$J$5:$J$24, 0), 0)","v":"Northbound"},"Mon","20:00:00",0,4,0,0,0,0,0,0,0,0,0,0,0,3,0,1,0,0,0,0,0,0,0,0,0,0,0,0,0,0,0,0,15.7,"-",11.5,21.7,{"$f":"INDEX(Input_Details!$L$5:$L$24, MATCH($A84, Input_Details!$J$5:$J$24, 0), 0)","v":"Southbound"},"Mon","20:00:00",16,6,0,0,0,0,0,0,0,0,0,0,4,13,3,2,0,0,0,0,0,0,0,0,0,0,0,0,0,0,0,0,12.8,15.4,8.4,20.7,null,"Mon","20:00:00",16,10,0,0,0,0,0,0,0,0,0,0,4,16,3,3,0,0,0,0,0,0,0,0,0,0,0,0,0,0,0,0,13.246153846153847,15.4,8.4,21.7,0,4,0,0,0,4,16,6,0,0,0,22,16,10,0,0,0,26,4,6,2,2,9,7,7,22,21,10,19,17,11,7,26,27,12,21,26,18,14]
[1,{"$f":"OFFSET(Input_Details!$Q$4,MATCH($A85, Input_Details!$J$5:$J$24, 0), 0)","v":"2017-11-20"},{"$f":"INDEX(Input_Details!$H$5:$H$24, MATCH($A85, Input_Details!$J$5:$J$24, 0), 0)","v":"Meadow Street"},{"$f":"INDEX(Input_Details!$I$5:$I$24, MATCH($A85, Input_Details!$J$5:$J$24, 0), 0)","v":"51.49499,-0.09696"},{"$f":"INDEX(Input_Details!$K$5:$K$24, MATCH($A85, Input_Details!$J$5:$J$24, 0), 0)","v":"Northbound"},"Mon","20:15:00",1,8,0,0,0,0,0,0,0,0,0,0,4,3,1,1,0,0,0,0,0,0,0,0,0,0,0,0,0,0,0,0,10.9,"-",4.0999999999999996,22.1,{"$f":"INDEX(Input_Details!$L$5:$L$24, MATCH($A85, Input_Details!$J$5:$J$24, 0), 0)","v":"Southbound"},"Mon","20:15:00",10,6,0,0,0,0,0,0,0,0,0,0,6,7,3,0,0,0,0,0,0,0,0,0,0,0,0,0,0,0,0,0,11.7,15.4,4.0999999999999996,17.899999999999999,null,"Mon","20:15:00",11,14,0,0,0,0,0,0,0,0,0,0,10,10,4,1,0,0,0,0,0,0,0,0,0,0,0,0,0,0,0,0,11.412000000000001,15.4,4.0999999999999996,22.1,1,8,0,0,0,9,10,6,0,0,0,16,11,14,0,0,0,25,9,3,4,2,9,11,8,16,4,13,23,8,9,7,25,7,17,25,17,20,15]
[1,{"$f":"OFFSET(Input_Details!$Q$4,MATCH($A86, Input_Details!$J$5:$J$24, 0), 0)","v":"2017-11-20"},{"$f":"INDEX(Input_Details!$H$5:$H$24, MATCH($A86, Input_Details!$J$5:$J$24, 0), 0)","v":"Meadow Street"},{"$f":"INDEX(Input_Details!$I$5:$I$24, MATCH($A86, Input_Details!$J$5:$J$24, 0), 0)","v":"51.49499,-0.09696"},{"$f":"INDEX(Input_Details!$K$5:$K$24, MATCH($A86, Input_Details!$J$5:$J$24, 0), 0)","v":"Northbound"},"Mon","20:30:00",2,4,0,0,0,0,0,0,0,0,0,0,1,1,1,3,0,0,0,0,0,0,0,0,0,0,0,0,0,0,0,0,17.5,"-",8.1,23.6,{"$f":"INDEX(Input_Details!$L$5:$L$24, MATCH($A86, Input_Details!$J$5:$J$24, 0), 0)","v":"Southbound"},"Mon","20:30:00",9,5,0,0,0,1,0,0,0,0,0,0,3,5,5,2,0,0,0,0,0,0,0,0,0,0,0,0,0,0,0,0,13.7,19.5,8.9,21.4,null,"Mon","20:30:00",11,9,0,0,0,1,0,0,0,0,0,0,4,6,6,5,0,0,0,0,0,0,0,0,0,0,0,0,0,0,0,0,14.785714285714286,19.5,8.1,23.6,2,4,0,0,0,6,9,5,0,0,1,15,11,9,0,0,1,21,6,6,5,2,2,8,6,15,15,11,29,3,8,7,21,21,16,31,5,16,13]
[1,{"$f":"OFFSET(Input_Details!$Q$4,MATCH($A87, Input_Details!$J$5:$J$24, 0), 0)","v":"2017-11-20"},{"$f":"INDEX(Input_Details!$H$5:$H$24, MATCH($A87, Input_Details!$J$5:$J$24, 0), 0)","v":"Meadow Street"},{"$f":"INDEX(Input_Details!$I$5:$I$24, MATCH($A87, Input_Details!$J$5:$J$24, 0), 0)","v":"51.49499,-0.09696"},{"$f":"INDEX(Input_Details!$K$5:$K$24, MATCH($A87, Input_Details!$J$5:$J$24, 0), 0)","v":"Northbound"},"Mon","20:45:00",1,3,0,0,0,0,0,0,0,0,0,0,0,2,0,1,1,0,0,0,0,0,0,0,0,0,0,0,0,0,0,0,18.100000000000001,"-",11.7,27.5,{"$f":"INDEX(Input_Details!$L$5:$L$24, MATCH($A87, Input_Details!$J$5:$J$24, 0), 0)","v":"Southbound"},"Mon","20:45:00",5,2,0,0,0,1,0,0,0,0,0,0,2,5,1,0,0,0,0,0,0,0,0,0,0,0,0,0,0,0,0,0,12.3,"-",9.1999999999999993,17.600000000000001,null,"Mon","20:45:00",6,5,0,0,0,1,0,0,0,0,0,0,2,7,1,1,1,0,0,0,0,0,0,0,0,0,0,0,0,0,0,0,14.233333333333334,"-",9.1999999999999993,27.5,1,3,0,0,0,4,5,2,0,0,1,8,6,5,0,0,1,12,4,4,3,4,6,11,11,8,8,19,26,8,6,9,12,12,22,30,14,17,20]
[1,{"$f":"OFFSET(Input_Details!$Q$4,MATCH($A88, Input_Details!$J$5:$J$24, 0), 0)","v":"2017-11-20"},{"$f":"INDEX(Input_Details!$H$5:$H$24, MATCH($A88, Input_Details!$J$5:$J$24, 0), 0)","v":"Meadow Street"},{"$f":"INDEX(Input_Details!$I$5:$I$24, MATCH($A88, Input_Details!$J$5:$J$24, 0), 0)","v":"51.49499,-0.09696"},{"$f":"INDEX(Input_Details!$K$5:$K$24, MATCH($A88, Input_Details!$J$5:$J$24, 0), 0)","v":"Northbound"},"Mon","21:00:00",2,4,0,1,0,0,0,0,0,0,0,0,1,2,3,1,0,0,0,0,0,0,0,0,0,0,0,0,0,0,0,0,15.2,"-",8.6999999999999993,23.6,{"$f":"INDEX(Input_Details!$L$5:$L$24, MATCH($A88, Input_Details!$J$5:$J$24, 0), 0)","v":"Southbound"},"Mon","21:00:00",6,6,0,0,0,0,0,0,0,0,0,0,0,7,3,1,1,0,0,0,0,0,0,0,0,0,0,0,0,0,0,0,14.8,17.2,10.199999999999999,26.4,null,"Mon","21:00:00",8,10,0,1,0,0,0,0,0,0,0,0,1,9,6,2,1,0,0,0,0,0,0,0,0,0,0,0,0,0,0,0,14.947368421052632,17.2,8.6999999999999993,26.4,2,4,1,0,0,7,6,6,0,0,0,12,8,10,1,0,0,19,7,1,6,1,10,11,4,12,7,12,19,1,13,8,19,8,18,20,11,24,12]
[1,{"$f":"OFFSET(Input_Details!$Q$4,MATCH($A89, Input_Details!$J$5:$J$24, 0), 0)","v":"2017-11-20"},{"$f":"INDEX(Input_Details!$H$5:$H$24, MATCH($A89, Input_Details!$J$5:$J$24, 0), 0)","v":"Meadow Street"},{"$f":"INDEX(Input_Details!$I$5:$I$24, MATCH($A89, Input_Details!$J$5:$J$24, 0), 0)","v":"51.49499,-0.09696"},{"$f":"INDEX(Input_Details!$K$5:$K$24, MATCH($A89, Input_Details!$J$5:$J$24, 0), 0)","v":"Northbound"},"Mon","21:15:00",0,3,0,0,0,0,0,0,0,0,0,0,1,2,0,0,0,0,0,0,0,0,0,0,0,0,0,0,0,0,0,0,10.6,"-",7.8,13.6,{"$f":"INDEX(Input_Details!$L$5:$L$24, MATCH($A89, Input_Details!$J$5:$J$24, 0), 0)","v":"Southbound"},"Mon","21:15:00",5,7,0,0,0,0,0,0,0,0,0,0,1,7,4,0,0,0,0,0,0,0,0,0,0,0,0,0,0,0,0,0,13.5,15.9,9.1999999999999993,19,null,"Mon","21:15:00",5,10,0,0,0,0,0,0,0,0,0,0,2,9,4,0,0,0,0,0,0,0,0,0,0,0,0,0,0,0,0,0,12.92,15.9,7.8,19,0,3,0,0,0,3,5,7,0,0,0,12,5,10,0,0,0,15,3,8,4,3,9,5,9,12,7,4,19,9,8,6,15,15,8,22,18,13,15]
[1,{"$f":"OFFSET(Input_Details!$Q$4,MATCH($A90, Input_Details!$J$5:$J$24, 0), 0)","v":"2017-11-20"},{"$f":"INDEX(Input_Details!$H$5:$H$24, MATCH($A90, Input_Details!$J$5:$J$24, 0), 0)","v":"Meadow Street"},{"$f":"INDEX(Input_Details!$I$5:$I$24, MATCH($A90, Input_Details!$J$5:$J$24, 0), 0)","v":"51.49499,-0.09696"},{"$f":"INDEX(Input_Details!$K$5:$K$24, MATCH($A90, Input_Details!$J$5:$J$24, 0), 0)","v":"Northbound"},"Mon","21:30:00",0,3,0,0,0,0,0,0,0,0,0,0,0,3,0,0,0,0,0,0,0,0,0,0,0,0,0,0,0,0,0,0,12.4,"-",10.3,14,{"$f":"INDEX(Input_Details!$L$5:$L$24, MATCH($A90, Input_Details!$J$5:$J$24, 0), 0)","v":"Southbound"},"Mon","21:30:00",5,3,0,0,0,0,0,0,0,0,0,0,1,5,2,0,0,0,0,0,0,0,0,0,0,0,0,0,0,0,0,0,14.1,"-",10,17.2,null,"Mon","21:30:00",5,6,0,0,0,0,0,0,0,0,0,0,1,8,2,0,0,0,0,0,0,0,0,0,0,0,0,0,0,0,0,0,13.636363636363637,"-",10,17.2,0,3,0,0,0,3,5,3,0,0,0,8,5,6,0,0,0,11,3,4,2,2,6,11,3,8,13,2,24,12,6,11,11,17,4,26,18,17,14]
[1,{"$f":"OFFSET(Input_Details!$Q$4,MATCH($A91, Input_Details!$J$5:$J$24, 0), 0)","v":"2017-11-20"},{"$f":"INDEX(Input_Details!$H$5:$H$24, MATCH($A91, Input_Details!$J$5:$J$24, 0), 0)","v":"Meadow Street"},{"$f":"INDEX(Input_Details!$I$5:$I$24, MATCH($A91, Input_Details!$J$5:$J$24, 0), 0)","v":"51.49499,-0.09696"},{"$f":"INDEX(Input_Details!$K$5:$K$24, MATCH($A91, Input_Details!$J$5:$J$24, 0), 0)","v":"Northbound"},"Mon","21:45:00",1,6,0,0,0,0,0,0,0,0,0,0,3,2,2,0,0,0,0,0,0,0,0,0,0,0,0,0,0,0,0,0,11.6,"-",3.4,18.100000000000001,{"$f":"INDEX(Input_Details!$L$5:$L$24, MATCH($A91, Input_Details!$J$5:$J$24, 0), 0)","v":"Southbound"},"Mon","21:45:00",3,4,0,0,0,0,0,0,0,0,0,0,2,5,0,0,0,0,0,0,0,0,0,0,0,0,0,0,0,0,0,0,10.1,"-",8.1999999999999993,11.2,null,"Mon","21:45:00",4,10,0,0,0,0,0,0,0,0,0,0,5,7,2,0,0,0,0,0,0,0,0,0,0,0,0,0,0,0,0,0,10.85,"-",3.4,18.100000000000001,1,6,0,0,0,7,3,4,0,0,0,7,4,10,0,0,0,14,7,7,4,3,1,8,6,7,9,12,20,9,4,5,14,16,16,23,10,12,11]
[1,{"$f":"OFFSET(Input_Details!$Q$4,MATCH($A92, Input_Details!$J$5:$J$24, 0), 0)","v":"2017-11-20"},{"$f":"INDEX(Input_Details!$H$5:$H$24, MATCH($A92, Input_Details!$J$5:$J$24, 0), 0)","v":"Meadow Street"},{"$f":"INDEX(Input_Details!$I$5:$I$24, MATCH($A92, Input_Details!$J$5:$J$24, 0), 0)","v":"51.49499,-0.09696"},{"$f":"INDEX(Input_Details!$K$5:$K$24, MATCH($A92, Input_Details!$J$5:$J$24, 0), 0)","v":"Northbound"},"Mon","22:00:00",1,3,0,0,0,0,0,0,0,0,0,0,0,1,3,0,0,0,0,0,0,0,0,0,0,0,0,0,0,0,0,0,15.1,"-",11.4,17.3,{"$f":"INDEX(Input_Details!$L$5:$L$24, MATCH($A92, Input_Details!$J$5:$J$24, 0), 0)","v":"Southbound"},"Mon","22:00:00",1,4,0,0,0,0,0,0,0,0,0,0,1,2,2,0,0,0,0,0,0,0,0,0,0,0,0,0,0,0,0,0,12.9,"-",6.9,17.7,null,"Mon","22:00:00",2,7,0,0,0,0,0,0,0,0,0,0,1,3,5,0,0,0,0,0,0,0,0,0,0,0,0,0,0,0,0,0,13.877777777777778,"-",6.9,17.7,1,3,0,0,0,4,1,4,0,0,0,5,2,7,0,0,0,9,4,1,5,0,4,13,4,5,10,9,12,8,5,4,9,11,14,12,12,18,8]
[1,{"$f":"OFFSET(Input_Details!$Q$4,MATCH($A93, Input_Details!$J$5:$J$24, 0), 0)","v":"2017-11-20"},{"$f":"INDEX(Input_Details!$H$5:$H$24, MATCH($A93, Input_Details!$J$5:$J$24, 0), 0)","v":"Meadow Street"},{"$f":"INDEX(Input_Details!$I$5:$I$24, MATCH($A93, Input_Details!$J$5:$J$24, 0), 0)","v":"51.49499,-0.09696"},{"$f":"INDEX(Input_Details!$K$5:$K$24, MATCH($A93, Input_Details!$J$5:$J$24, 0), 0)","v":"Northbound"},"Mon","22:15:00",1,1,0,0,0,0,0,0,0,0,0,0,0,1,0,1,0,0,0,0,0,0,0,0,0,0,0,0,0,0,0,0,17,"-",10.8,23.2,{"$f":"INDEX(Input_Details!$L$5:$L$24, MATCH($A93, Input_Details!$J$5:$J$24, 0), 0)","v":"Southbound"},"Mon","22:15:00",3,3,0,0,0,0,0,0,0,0,0,0,1,4,1,0,0,0,0,0,0,0,0,0,0,0,0,0,0,0,0,0,12.4,"-",9.9,15.3,null,"Mon","22:15:00",4,4,0,0,0,0,0,0,0,0,0,0,1,5,1,1,0,0,0,0,0,0,0,0,0,0,0,0,0,0,0,0,13.55,"-",9.9,23.2,1,1,0,0,0,2,3,3,0,0,0,6,4,4,0,0,0,8,2,6,4,3,10,2,7,6,7,7,10,7,9,8,8,13,11,13,17,11,15]
[1,{"$f":"OFFSET(Input_Details!$Q$4,MATCH($A94, Input_Details!$J$5:$J$24, 0), 0)","v":"2017-11-20"},{"$f":"INDEX(Input_Details!$H$5:$H$24, MATCH($A94, Input_Details!$J$5:$J$24, 0), 0)","v":"Meadow Street"},{"$f":"INDEX(Input_Details!$I$5:$I$24, MATCH($A94, Input_Details!$J$5:$J$24, 0), 0)","v":"51.49499,-0.09696"},{"$f":"INDEX(Input_Details!$K$5:$K$24, MATCH($A94, Input_Details!$J$5:$J$24, 0), 0)","v":"Northbound"},"Mon","22:30:00",1,3,0,0,0,0,0,0,0,0,0,0,1,1,1,1,0,0,0,0,0,0,0,0,0,0,0,0,0,0,0,0,14.9,"-",5.8,22.5,{"$f":"INDEX(Input_Details!$L$5:$L$24, MATCH($A94, Input_Details!$J$5:$J$24, 0), 0)","v":"Southbound"},"Mon","22:30:00",2,3,0,0,0,0,0,0,0,0,0,0,0,3,1,1,0,0,0,0,0,0,0,0,0,0,0,0,0,0,0,0,15.4,"-",12.4,20.2,null,"Mon","22:30:00",3,6,0,0,0,0,0,0,0,0,0,0,1,4,2,2,0,0,0,0,0,0,0,0,0,0,0,0,0,0,0,0,15.177777777777777,"-",5.8,22.5,1,3,0,0,0,4,2,3,0,0,0,5,3,6,0,0,0,9,4,5,8,1,12,3,7,5,8,14,10,6,6,5,9,13,22,11,18,9,12]
[1,{"$f":"OFFSET(Input_Details!$Q$4,MATCH($A95, Input_Details!$J$5:$J$24, 0), 0)","v":"2017-11-20"},{"$f":"INDEX(Input_Details!$H$5:$H$24, MATCH($A95, Input_Details!$J$5:$J$24, 0), 0)","v":"Meadow Street"},{"$f":"INDEX(Input_Details!$I$5:$I$24, MATCH($A95, Input_Details!$J$5:$J$24, 0), 0)","v":"51.49499,-0.09696"},{"$f":"INDEX(Input_Details!$K$5:$K$24, MATCH($A95, Input_Details!$J$5:$J$24, 0), 0)","v":"Northbound"},"Mon","22:45:00",2,3,0,0,0,0,0,0,0,0,0,0,1,1,2,1,0,0,0,0,0,0,0,0,0,0,0,0,0,0,0,0,15.6,"-",8.3000000000000007,21.8,{"$f":"INDEX(Input_Details!$L$5:$L$24, MATCH($A95, Input_Details!$J$5:$J$24, 0), 0)","v":"Southbound"},"Mon","22:45:00",4,0,0,0,0,0,0,0,0,0,0,0,0,3,0,1,0,0,0,0,0,0,0,0,0,0,0,0,0,0,0,0,13.9,"-",10.5,22.4,null,"Mon","22:45:00",6,3,0,0,0,0,0,0,0,0,0,0,1,4,2,2,0,0,0,0,0,0,0,0,0,0,0,0,0,0,0,0,14.844444444444443,"-",8.3000000000000007,22.4,2,3,0,0,0,5,4,0,0,0,0,4,6,3,0,0,0,9,5,2,4,1,11,7,5,4,6,8,10,5,11,7,9,8,12,11,16,18,12]
[1,{"$f":"OFFSET(Input_Details!$Q$4,MATCH($A96, Input_Details!$J$5:$J$24, 0), 0)","v":"2017-11-20"},{"$f":"INDEX(Input_Details!$H$5:$H$24, MATCH($A96, Input_Details!$J$5:$J$24, 0), 0)","v":"Meadow Street"},{"$f":"INDEX(Input_Details!$I$5:$I$24, MATCH($A96, Input_Details!$J$5:$J$24, 0), 0)","v":"51.49499,-0.09696"},{"$f":"INDEX(Input_Details!$K$5:$K$24, MATCH($A96, Input_Details!$J$5:$J$24, 0), 0)","v":"Northbound"},"Mon","23:00:00",1,4,0,0,0,0,0,0,0,0,0,0,0,3,1,0,1,0,0,0,0,0,0,0,0,0,0,0,0,0,0,0,16.2,"-",11.5,25.1,{"$f":"INDEX(Input_Details!$L$5:$L$24, MATCH($A96, Input_Details!$J$5:$J$24, 0), 0)","v":"Southbound"},"Mon","23:00:00",2,3,0,0,0,0,0,0,0,0,0,0,1,3,1,0,0,0,0,0,0,0,0,0,0,0,0,0,0,0,0,0,12.4,"-",9.6,16.8,null,"Mon","23:00:00",3,7,0,0,0,0,0,0,0,0,0,0,1,6,2,0,1,0,0,0,0,0,0,0,0,0,0,0,0,0,0,0,14.3,"-",9.6,25.1,1,4,0,0,0,5,2,3,0,0,0,5,3,7,0,0,0,10,5,1,3,0,9,7,14,5,5,4,15,10,4,12,10,6,7,15,19,11,26]
[1,{"$f":"OFFSET(Input_Details!$Q$4,MATCH($A97, Input_Details!$J$5:$J$24, 0), 0)","v":"2017-11-20"},{"$f":"INDEX(Input_Details!$H$5:$H$24, MATCH($A97, Input_Details!$J$5:$J$24, 0), 0)","v":"Meadow Street"},{"$f":"INDEX(Input_Details!$I$5:$I$24, MATCH($A97, Input_Details!$J$5:$J$24, 0), 0)","v":"51.49499,-0.09696"},{"$f":"INDEX(Input_Details!$K$5:$K$24, MATCH($A97, Input_Details!$J$5:$J$24, 0), 0)","v":"Northbound"},"Mon","23:15:00",1,0,0,0,0,0,0,0,0,0,0,0,0,1,0,0,0,0,0,0,0,0,0,0,0,0,0,0,0,0,0,0,10.1,"-",10.1,10.1,{"$f":"INDEX(Input_Details!$L$5:$L$24, MATCH($A97, Input_Details!$J$5:$J$24, 0), 0)","v":"Southbound"},"Mon","23:15:00",4,1,0,0,0,0,0,0,0,0,0,0,1,3,1,0,0,0,0,0,0,0,0,0,0,0,0,0,0,0,0,0,12,"-",8.6999999999999993,16.3,null,"Mon","23:15:00",5,1,0,0,0,0,0,0,0,0,0,0,1,4,1,0,0,0,0,0,0,0,0,0,0,0,0,0,0,0,0,0,11.683333333333332,"-",8.6999999999999993,16.3,1,0,0,0,0,1,4,1,0,0,0,5,5,1,0,0,0,6,1,2,5,1,5,11,10,5,6,5,7,10,9,4,6,8,10,8,15,20,14]
[1,{"$f":"OFFSET(Input_Details!$Q$4,MATCH($A98, Input_Details!$J$5:$J$24, 0), 0)","v":"2017-11-20"},{"$f":"INDEX(Input_Details!$H$5:$H$24, MATCH($A98, Input_Details!$J$5:$J$24, 0), 0)","v":"Meadow Street"},{"$f":"INDEX(Input_Details!$I$5:$I$24, MATCH($A98, Input_Details!$J$5:$J$24, 0), 0)","v":"51.49499,-0.09696"},{"$f":"INDEX(Input_Details!$K$5:$K$24, MATCH($A98, Input_Details!$J$5:$J$24, 0), 0)","v":"Northbound"},"Mon","23:30:00",0,3,0,0,0,0,0,0,0,0,0,0,0,0,1,2,0,0,0,0,0,0,0,0,0,0,0,0,0,0,0,0,19.7,"-",17.100000000000001,21.7,{"$f":"INDEX(Input_Details!$L$5:$L$24, MATCH($A98, Input_Details!$J$5:$J$24, 0), 0)","v":"Southbound"},"Mon","23:30:00",2,2,0,0,0,0,0,0,0,0,0,0,1,1,2,0,0,0,0,0,0,0,0,0,0,0,0,0,0,0,0,0,13.6,"-",9.4,15.9,null,"Mon","23:30:00",2,5,0,0,0,0,0,0,0,0,0,0,1,1,3,2,0,0,0,0,0,0,0,0,0,0,0,0,0,0,0,0,16.214285714285715,"-",9.4,21.7,0,3,0,0,0,3,2,2,0,0,0,4,2,5,0,0,0,7,3,3,2,1,8,6,3,4,4,4,19,6,9,8,7,7,6,20,14,15,11]
[1,{"$f":"OFFSET(Input_Details!$Q$4,MATCH($A99, Input_Details!$J$5:$J$24, 0), 0)","v":"2017-11-20"},{"$f":"INDEX(Input_Details!$H$5:$H$24, MATCH($A99, Input_Details!$J$5:$J$24, 0), 0)","v":"Meadow Street"},{"$f":"INDEX(Input_Details!$I$5:$I$24, MATCH($A99, Input_Details!$J$5:$J$24, 0), 0)","v":"51.49499,-0.09696"},{"$f":"INDEX(Input_Details!$K$5:$K$24, MATCH($A99, Input_Details!$J$5:$J$24, 0), 0)","v":"Northbound"},"Mon","23:45:00",0,5,0,0,0,0,0,0,0,0,0,0,1,3,1,0,0,0,0,0,0,0,0,0,0,0,0,0,0,0,0,0,11.7,"-",4.8,15.6,{"$f":"INDEX(Input_Details!$L$5:$L$24, MATCH($A99, Input_Details!$J$5:$J$24, 0), 0)","v":"Southbound"},"Mon","23:45:00",1,0,0,0,0,0,0,0,0,0,0,0,0,1,0,0,0,0,0,0,0,0,0,0,0,0,0,0,0,0,0,0,13.3,"-",13.3,13.3,null,"Mon","23:45:00",1,5,0,0,0,0,0,0,0,0,0,0,1,4,1,0,0,0,0,0,0,0,0,0,0,0,0,0,0,0,0,0,11.966666666666667,"-",4.8,15.6,0,5,0,0,0,5,1,0,0,0,0,1,1,5,0,0,0,6,5,1,4,1,7,5,3,1,4,2,12,8,6,7,6,5,6,13,15,11,10]
[1,{"$f":"OFFSET(Input_Details!$Q$4,MATCH($A100, Input_Details!$J$5:$J$24, 0), 1)","v":"2017-11-21"},{"$f":"INDEX(Input_Details!$H$5:$H$24, MATCH($A100, Input_Details!$J$5:$J$24, 0), 0)","v":"Meadow Street"},{"$f":"INDEX(Input_Details!$I$5:$I$24, MATCH($A100, Input_Details!$J$5:$J$24, 0), 0)","v":"51.49499,-0.09696"},{"$f":"INDEX(Input_Details!$K$5:$K$24, MATCH($A100, Input_Details!$J$5:$J$24, 0), 0)","v":"Northbound"},"Tues","00:00:00",1,1,0,0,0,0,0,0,0,0,0,0,0,1,1,0,0,0,0,0,0,0,0,0,0,0,0,0,0,0,0,0,16.399999999999999,"-",14.8,17.899999999999999,{"$f":"INDEX(Input_Details!$L$5:$L$24, MATCH($A100, Input_Details!$J$5:$J$24, 0), 0)","v":"Southbound"},"Tues","00:00:00",2,1,0,0,0,0,0,0,0,0,0,0,0,2,0,1,0,0,0,0,0,0,0,0,0,0,0,0,0,0,0,0,15.9,"-",11.9,23,null,"Tues","00:00:00",3,2,0,0,0,0,0,0,0,0,0,0,0,3,1,1,0,0,0,0,0,0,0,0,0,0,0,0,0,0,0,0,16.100000000000001,"-",11.9,23,1,1,0,0,0,2,2,1,0,0,0,3,3,2,0,0,0,5]
[1,{"$f":"OFFSET(Input_Details!$Q$4,MATCH($A101, Input_Details!$J$5:$J$24, 0), 1)","v":"2017-11-21"},{"$f":"INDEX(Input_Details!$H$5:$H$24, MATCH($A101, Input_Details!$J$5:$J$24, 0), 0)","v":"Meadow Street"},{"$f":"INDEX(Input_Details!$I$5:$I$24, MATCH($A101, Input_Details!$J$5:$J$24, 0), 0)","v":"51.49499,-0.09696"},{"$f":"INDEX(Input_Details!$K$5:$K$24, MATCH($A101, Input_Details!$J$5:$J$24, 0), 0)","v":"Northbound"},"Tues","00:15:00",0,4,0,0,0,0,0,0,0,0,0,0,0,0,4,0,0,0,0,0,0,0,0,0,0,0,0,0,0,0,0,0,18.399999999999999,"-",17,19.899999999999999,{"$f":"INDEX(Input_Details!$L$5:$L$24, MATCH($A101, Input_Details!$J$5:$J$24, 0), 0)","v":"Southbound"},"Tues","00:15:00",1,1,0,0,0,0,0,0,0,0,0,0,0,0,0,2,0,0,0,0,0,0,0,0,0,0,0,0,0,0,0,0,24.4,"-",24.2,24.7,null,"Tues","00:15:00",1,5,0,0,0,0,0,0,0,0,0,0,0,0,4,2,0,0,0,0,0,0,0,0,0,0,0,0,0,0,0,0,20.399999999999999,"-",17,24.7,0,4,0,0,0,4,1,1,0,0,0,2,1,5,0,0,0,6]
[1,{"$f":"OFFSET(Input_Details!$Q$4,MATCH($A102, Input_Details!$J$5:$J$24, 0), 1)","v":"2017-11-21"},{"$f":"INDEX(Input_Details!$H$5:$H$24, MATCH($A102, Input_Details!$J$5:$J$24, 0), 0)","v":"Meadow Street"},{"$f":"INDEX(Input_Details!$I$5:$I$24, MATCH($A102, Input_Details!$J$5:$J$24, 0), 0)","v":"51.49499,-0.09696"},{"$f":"INDEX(Input_Details!$K$5:$K$24, MATCH($A102, Input_Details!$J$5:$J$24, 0), 0)","v":"Northbound"},"Tues","00:30:00",0,0,0,0,0,0,0,0,0,0,0,0,0,0,0,0,0,0,0,0,0,0,0,0,0,0,0,0,0,0,0,0,"-","-","-","-",{"$f":"INDEX(Input_Details!$L$5:$L$24, MATCH($A102, Input_Details!$J$5:$J$24, 0), 0)","v":"Southbound"},"Tues","00:30:00",0,0,0,0,0,0,0,0,0,0,0,0,0,0,0,0,0,0,0,0,0,0,0,0,0,0,0,0,0,0,0,0,"-","-","-","-",null,"Tues","00:30:00",0,0,0,0,0,0,0,0,0,0,0,0,0,0,0,0,0,0,0,0,0,0,0,0,0,0,0,0,0,0,0,0,"-","-","-","-",0,0,0,0,0,0,0,0,0,0,0,0,0,0,0,0,0,0]
[1,{"$f":"OFFSET(Input_Details!$Q$4,MATCH($A103, Input_Details!$J$5:$J$24, 0), 1)","v":"2017-11-21"},{"$f":"INDEX(Input_Details!$H$5:$H$24, MATCH($A103, Input_Details!$J$5:$J$24, 0), 0)","v":"Meadow Street"},{"$f":"INDEX(Input_Details!$I$5:$I$24, MATCH($A103, Input_Details!$J$5:$J$24, 0), 0)","v":"51.49499,-0.09696"},{"$f":"INDEX(Input_Details!$K$5:$K$24, MATCH($A103, Input_Details!$J$5:$J$24, 0), 0)","v":"Northbound"},"Tues","00:45:00",0,0,0,0,0,0,0,0,0,0,0,0,0,0,0,0,0,0,0,0,0,0,0,0,0,0,0,0,0,0,0,0,"-","-","-","-",{"$f":"INDEX(Input_Details!$L$5:$L$24, MATCH($A103, Input_Details!$J$5:$J$24, 0), 0)","v":"Southbound"},"Tues","00:45:00",0,0,0,0,0,0,0,0,0,0,0,0,0,0,0,0,0,0,0,0,0,0,0,0,0,0,0,0,0,0,0,0,"-","-","-","-",null,"Tues","00:45:00",0,0,0,0,0,0,0,0,0,0,0,0,0,0,0,0,0,0,0,0,0,0,0,0,0,0,0,0,0,0,0,0,"-","-","-","-",0,0,0,0,0,0,0,0,0,0,0,0,0,0,0,0,0,0]
[1,{"$f":"OFFSET(Input_Details!$Q$4,MATCH($A104, Input_Details!$J$5:$J$24, 0), 1)","v":"2017-11-21"},{"$f":"INDEX(Input_Details!$H$5:$H$24, MATCH($A104, Input_Details!$J$5:$J$24, 0), 0)","v":"Meadow Street"},{"$f":"INDEX(Input_Details!$I$5:$I$24, MATCH($A104, Input_Details!$J$5:$J$24, 0), 0)","v":"51.49499,-0.09696"},{"$f":"INDEX(Input_Details!$K$5:$K$24, MATCH($A104, Input_Details!$J$5:$J$24, 0), 0)","v":"Northbound"},"Tues","01:00:00",0,1,0,0,0,0,0,0,0,0,0,0,0,0,1,0,0,0,0,0,0,0,0,0,0,0,0,0,0,0,0,0,16.399999999999999,"-",16.399999999999999,16.399999999999999,{"$f":"INDEX(Input_Details!$L$5:$L$24, MATCH($A104, Input_Details!$J$5:$J$24, 0), 0)","v":"Southbound"},"Tues","01:00:00",0,0,0,0,0,0,0,0,0,0,0,0,0,0,0,0,0,0,0,0,0,0,0,0,0,0,0,0,0,0,0,0,"-","-","-","-",null,"Tues","01:00:00",0,1,0,0,0,0,0,0,0,0,0,0,0,0,1,0,0,0,0,0,0,0,0,0,0,0,0,0,0,0,0,0,16.399999999999999,"-",16.399999999999999,16.399999999999999,0,1,0,0,0,1,0,0,0,0,0,0,0,1,0,0,0,1]
[1,{"$f":"OFFSET(Input_Details!$Q$4,MATCH($A105, Input_Details!$J$5:$J$24, 0), 1)","v":"2017-11-21"},{"$f":"INDEX(Input_Details!$H$5:$H$24, MATCH($A105, Input_Details!$J$5:$J$24, 0), 0)","v":"Meadow Street"},{"$f":"INDEX(Input_Details!$I$5:$I$24, MATCH($A105, Input_Details!$J$5:$J$24, 0), 0)","v":"51.49499,-0.09696"},{"$f":"INDEX(Input_Details!$K$5:$K$24, MATCH($A105, Input_Details!$J$5:$J$24, 0), 0)","v":"Northbound"},"Tues","01:15:00",0,0,0,0,0,0,0,0,0,0,0,0,0,0,0,0,0,0,0,0,0,0,0,0,0,0,0,0,0,0,0,0,"-","-","-","-",{"$f":"INDEX(Input_Details!$L$5:$L$24, MATCH($A105, Input_Details!$J$5:$J$24, 0), 0)","v":"Southbound"},"Tues","01:15:00",1,0,0,0,0,0,0,0,0,0,0,0,0,1,0,0,0,0,0,0,0,0,0,0,0,0,0,0,0,0,0,0,11.3,"-",11.3,11.3,null,"Tues","01:15:00",1,0,0,0,0,0,0,0,0,0,0,0,0,1,0,0,0,0,0,0,0,0,0,0,0,0,0,0,0,0,0,0,11.3,"-",11.3,11.3,0,0,0,0,0,0,1,0,0,0,0,1,1,0,0,0,0,1]
[1,{"$f":"OFFSET(Input_Details!$Q$4,MATCH($A106, Input_Details!$J$5:$J$24, 0), 1)","v":"2017-11-21"},{"$f":"INDEX(Input_Details!$H$5:$H$24, MATCH($A106, Input_Details!$J$5:$J$24, 0), 0)","v":"Meadow Street"},{"$f":"INDEX(Input_Details!$I$5:$I$24, MATCH($A106, Input_Details!$J$5:$J$24, 0), 0)","v":"51.49499,-0.09696"},{"$f":"INDEX(Input_Details!$K$5:$K$24, MATCH($A106, Input_Details!$J$5:$J$24, 0), 0)","v":"Northbound"},"Tues","01:30:00",0,0,0,0,0,0,0,0,0,0,0,0,0,0,0,0,0,0,0,0,0,0,0,0,0,0,0,0,0,0,0,0,"-","-","-","-",{"$f":"INDEX(Input_Details!$L$5:$L$24, MATCH($A106, Input_Details!$J$5:$J$24, 0), 0)","v":"Southbound"},"Tues","01:30:00",0,1,0,0,0,0,0,0,0,0,0,0,0,1,0,0,0,0,0,0,0,0,0,0,0,0,0,0,0,0,0,0,13.9,"-",13.9,13.9,null,"Tues","01:30:00",0,1,0,0,0,0,0,0,0,0,0,0,0,1,0,0,0,0,0,0,0,0,0,0,0,0,0,0,0,0,0,0,13.9,"-",13.9,13.9,0,0,0,0,0,0,0,1,0,0,0,1,0,1,0,0,0,1]
[1,{"$f":"OFFSET(Input_Details!$Q$4,MATCH($A107, Input_Details!$J$5:$J$24, 0), 1)","v":"2017-11-21"},{"$f":"INDEX(Input_Details!$H$5:$H$24, MATCH($A107, Input_Details!$J$5:$J$24, 0), 0)","v":"Meadow Street"},{"$f":"INDEX(Input_Details!$I$5:$I$24, MATCH($A107, Input_Details!$J$5:$J$24, 0), 0)","v":"51.49499,-0.09696"},{"$f":"INDEX(Input_Details!$K$5:$K$24, MATCH($A107, Input_Details!$J$5:$J$24, 0), 0)","v":"Northbound"},"Tues","01:45:00",0,0,0,0,0,0,0,0,0,0,0,0,0,0,0,0,0,0,0,0,0,0,0,0,0,0,0,0,0,0,0,0,"-","-","-","-",{"$f":"INDEX(Input_Details!$L$5:$L$24, MATCH($A107, Input_Details!$J$5:$J$24, 0), 0)","v":"Southbound"},"Tues","01:45:00",0,0,0,0,0,0,0,0,0,0,0,0,0,0,0,0,0,0,0,0,0,0,0,0,0,0,0,0,0,0,0,0,"-","-","-","-",null,"Tues","01:45:00",0,0,0,0,0,0,0,0,0,0,0,0,0,0,0,0,0,0,0,0,0,0,0,0,0,0,0,0,0,0,0,0,"-","-","-","-",0,0,0,0,0,0,0,0,0,0,0,0,0,0,0,0,0,0]
[1,{"$f":"OFFSET(Input_Details!$Q$4,MATCH($A108, Input_Details!$J$5:$J$24, 0), 1)","v":"2017-11-21"},{"$f":"INDEX(Input_Details!$H$5:$H$24, MATCH($A108, Input_Details!$J$5:$J$24, 0), 0)","v":"Meadow Street"},{"$f":"INDEX(Input_Details!$I$5:$I$24, MATCH($A108, Input_Details!$J$5:$J$24, 0), 0)","v":"51.49499,-0.09696"},{"$f":"INDEX(Input_Details!$K$5:$K$24, MATCH($A108, Input_Details!$J$5:$J$24, 0), 0)","v":"Northbound"},"Tues","02:00:00",0,0,0,0,0,0,0,0,0,0,0,0,0,0,0,0,0,0,0,0,0,0,0,0,0,0,0,0,0,0,0,0,"-","-","-","-",{"$f":"INDEX(Input_Details!$L$5:$L$24, MATCH($A108, Input_Details!$J$5:$J$24, 0), 0)","v":"Southbound"},"Tues","02:00:00",0,0,0,0,0,0,0,0,0,0,0,0,0,0,0,0,0,0,0,0,0,0,0,0,0,0,0,0,0,0,0,0,"-","-","-","-",null,"Tues","02:00:00",0,0,0,0,0,0,0,0,0,0,0,0,0,0,0,0,0,0,0,0,0,0,0,0,0,0,0,0,0,0,0,0,"-","-","-","-",0,0,0,0,0,0,0,0,0,0,0,0,0,0,0,0,0,0]
[1,{"$f":"OFFSET(Input_Details!$Q$4,MATCH($A109, Input_Details!$J$5:$J$24, 0), 1)","v":"2017-11-21"},{"$f":"INDEX(Input_Details!$H$5:$H$24, MATCH($A109, Input_Details!$J$5:$J$24, 0), 0)","v":"Meadow Street"},{"$f":"INDEX(Input_Details!$I$5:$I$24, MATCH($A109, Input_Details!$J$5:$J$24, 0), 0)","v":"51.49499,-0.09696"},{"$f":"INDEX(Input_Details!$K$5:$K$24, MATCH($A109, Input_Details!$J$5:$J$24, 0), 0)","v":"Northbound"},"Tues","02:15:00",0,0,0,0,0,0,0,0,0,0,0,0,0,0,0,0,0,0,0,0,0,0,0,0,0,0,0,0,0,0,0,0,"-","-","-","-",{"$f":"INDEX(Input_Details!$L$5:$L$24, MATCH($A109, Input_Details!$J$5:$J$24, 0), 0)","v":"Southbound"},"Tues","02:15:00",0,0,0,0,0,0,0,0,0,0,0,0,0,0,0,0,0,0,0,0,0,0,0,0,0,0,0,0,0,0,0,0,"-","-","-","-",null,"Tues","02:15:00",0,0,0,0,0,0,0,0,0,0,0,0,0,0,0,0,0,0,0,0,0,0,0,0,0,0,0,0,0,0,0,0,"-","-","-","-",0,0,0,0,0,0,0,0,0,0,0,0,0,0,0,0,0,0]
[1,{"$f":"OFFSET(Input_Details!$Q$4,MATCH($A110, Input_Details!$J$5:$J$24, 0), 1)","v":"2017-11-21"},{"$f":"INDEX(Input_Details!$H$5:$H$24, MATCH($A110, Input_Details!$J$5:$J$24, 0), 0)","v":"Meadow Street"},{"$f":"INDEX(Input_Details!$I$5:$I$24, MATCH($A110, Input_Details!$J$5:$J$24, 0), 0)","v":"51.49499,-0.09696"},{"$f":"INDEX(Input_Details!$K$5:$K$24, MATCH($A110, Input_Details!$J$5:$J$24, 0), 0)","v":"Northbound"},"Tues","02:30:00",0,0,0,0,0,0,0,0,0,0,0,0,0,0,0,0,0,0,0,0,0,0,0,0,0,0,0,0,0,0,0,0,"-","-","-","-",{"$f":"INDEX(Input_Details!$L$5:$L$24, MATCH($A110, Input_Details!$J$5:$J$24, 0), 0)","v":"Southbound"},"Tues","02:30:00",1,0,0,0,0,0,0,0,0,0,0,0,0,1,0,0,0,0,0,0,0,0,0,0,0,0,0,0,0,0,0,0,13.5,"-",13.5,13.5,null,"Tues","02:30:00",1,0,0,0,0,0,0,0,0,0,0,0,0,1,0,0,0,0,0,0,0,0,0,0,0,0,0,0,0,0,0,0,13.5,"-",13.5,13.5,0,0,0,0,0,0,1,0,0,0,0,1,1,0,0,0,0,1]
[1,{"$f":"OFFSET(Input_Details!$Q$4,MATCH($A111, Input_Details!$J$5:$J$24, 0), 1)","v":"2017-11-21"},{"$f":"INDEX(Input_Details!$H$5:$H$24, MATCH($A111, Input_Details!$J$5:$J$24, 0), 0)","v":"Meadow Street"},{"$f":"INDEX(Input_Details!$I$5:$I$24, MATCH($A111, Input_Details!$J$5:$J$24, 0), 0)","v":"51.49499,-0.09696"},{"$f":"INDEX(Input_Details!$K$5:$K$24, MATCH($A111, Input_Details!$J$5:$J$24, 0), 0)","v":"Northbound"},"Tues","02:45:00",0,0,0,0,0,0,0,0,0,0,0,0,0,0,0,0,0,0,0,0,0,0,0,0,0,0,0,0,0,0,0,0,"-","-","-","-",{"$f":"INDEX(Input_Details!$L$5:$L$24, MATCH($A111, Input_Details!$J$5:$J$24, 0), 0)","v":"Southbound"},"Tues","02:45:00",0,0,0,0,0,0,0,0,0,0,0,0,0,0,0,0,0,0,0,0,0,0,0,0,0,0,0,0,0,0,0,0,"-","-","-","-",null,"Tues","02:45:00",0,0,0,0,0,0,0,0,0,0,0,0,0,0,0,0,0,0,0,0,0,0,0,0,0,0,0,0,0,0,0,0,"-","-","-","-",0,0,0,0,0,0,0,0,0,0,0,0,0,0,0,0,0,0]
[1,{"$f":"OFFSET(Input_Details!$Q$4,MATCH($A112, Input_Details!$J$5:$J$24, 0), 1)","v":"2017-11-21"},{"$f":"INDEX(Input_Details!$H$5:$H$24, MATCH($A112, Input_Details!$J$5:$J$24, 0), 0)","v":"Meadow Street"},{"$f":"INDEX(Input_Details!$I$5:$I$24, MATCH($A112, Input_Details!$J$5:$J$24, 0), 0)","v":"51.49499,-0.09696"},{"$f":"INDEX(Input_Details!$K$5:$K$24, MATCH($A112, Input_Details!$J$5:$J$24, 0), 0)","v":"Northbound"},"Tues","03:00:00",0,0,0,0,0,0,0,0,0,0,0,0,0,0,0,0,0,0,0,0,0,0,0,0,0,0,0,0,0,0,0,0,"-","-","-","-",{"$f":"INDEX(Input_Details!$L$5:$L$24, MATCH($A112, Input_Details!$J$5:$J$24, 0), 0)","v":"Southbound"},"Tues","03:00:00",0,0,0,0,0,0,0,0,0,0,0,0,0,0,0,0,0,0,0,0,0,0,0,0,0,0,0,0,0,0,0,0,"-","-","-","-",null,"Tues","03:00:00",0,0,0,0,0,0,0,0,0,0,0,0,0,0,0,0,0,0,0,0,0,0,0,0,0,0,0,0,0,0,0,0,"-","-","-","-",0,0,0,0,0,0,0,0,0,0,0,0,0,0,0,0,0,0]
[1,{"$f":"OFFSET(Input_Details!$Q$4,MATCH($A113, Input_Details!$J$5:$J$24, 0), 1)","v":"2017-11-21"},{"$f":"INDEX(Input_Details!$H$5:$H$24, MATCH($A113, Input_Details!$J$5:$J$24, 0), 0)","v":"Meadow Street"},{"$f":"INDEX(Input_Details!$I$5:$I$24, MATCH($A113, Input_Details!$J$5:$J$24, 0), 0)","v":"51.49499,-0.09696"},{"$f":"INDEX(Input_Details!$K$5:$K$24, MATCH($A113, Input_Details!$J$5:$J$24, 0), 0)","v":"Northbound"},"Tues","03:15:00",0,0,0,0,0,0,0,0,0,0,0,0,0,0,0,0,0,0,0,0,0,0,0,0,0,0,0,0,0,0,0,0,"-","-","-","-",{"$f":"INDEX(Input_Details!$L$5:$L$24, MATCH($A113, Input_Details!$J$5:$J$24, 0), 0)","v":"Southbound"},"Tues","03:15:00",0,0,0,0,0,0,0,0,0,0,0,0,0,0,0,0,0,0,0,0,0,0,0,0,0,0,0,0,0,0,0,0,"-","-","-","-",null,"Tues","03:15:00",0,0,0,0,0,0,0,0,0,0,0,0,0,0,0,0,0,0,0,0,0,0,0,0,0,0,0,0,0,0,0,0,"-","-","-","-",0,0,0,0,0,0,0,0,0,0,0,0,0,0,0,0,0,0]
[1,{"$f":"OFFSET(Input_Details!$Q$4,MATCH($A114, Input_Details!$J$5:$J$24, 0), 1)","v":"2017-11-21"},{"$f":"INDEX(Input_Details!$H$5:$H$24, MATCH($A114, Input_Details!$J$5:$J$24, 0), 0)","v":"Meadow Street"},{"$f":"INDEX(Input_Details!$I$5:$I$24, MATCH($A114, Input_Details!$J$5:$J$24, 0), 0)","v":"51.49499,-0.09696"},{"$f":"INDEX(Input_Details!$K$5:$K$24, MATCH($A114, Input_Details!$J$5:$J$24, 0), 0)","v":"Northbound"},"Tues","03:30:00",0,0,0,0,0,0,0,0,0,0,0,0,0,0,0,0,0,0,0,0,0,0,0,0,0,0,0,0,0,0,0,0,"-","-","-","-",{"$f":"INDEX(Input_Details!$L$5:$L$24, MATCH($A114, Input_Details!$J$5:$J$24, 0), 0)","v":"Southbound"},"Tues","03:30:00",0,0,0,1,0,0,0,0,0,0,0,0,0,1,0,0,0,0,0,0,0,0,0,0,0,0,0,0,0,0,0,0,14.7,"-",14.7,14.7,null,"Tues","03:30:00",0,0,0,1,0,0,0,0,0,0,0,0,0,1,0,0,0,0,0,0,0,0,0,0,0,0,0,0,0,0,0,0,14.7,"-",14.7,14.7,0,0,0,0,0,0,0,0,1,0,0,1,0,0,1,0,0,1]
[1,{"$f":"OFFSET(Input_Details!$Q$4,MATCH($A115, Input_Details!$J$5:$J$24, 0), 1)","v":"2017-11-21"},{"$f":"INDEX(Input_Details!$H$5:$H$24, MATCH($A115, Input_Details!$J$5:$J$24, 0), 0)","v":"Meadow Street"},{"$f":"INDEX(Input_Details!$I$5:$I$24, MATCH($A115, Input_Details!$J$5:$J$24, 0), 0)","v":"51.49499,-0.09696"},{"$f":"INDEX(Input_Details!$K$5:$K$24, MATCH($A115, Input_Details!$J$5:$J$24, 0), 0)","v":"Northbound"},"Tues","03:45:00",0,1,0,0,0,0,0,0,0,0,0,0,0,0,1,0,0,0,0,0,0,0,0,0,0,0,0,0,0,0,0,0,18.5,"-",18.5,18.5,{"$f":"INDEX(Input_Details!$L$5:$L$24, MATCH($A115, Input_Details!$J$5:$J$24, 0), 0)","v":"Southbound"},"Tues","03:45:00",0,2,0,0,0,0,0,0,0,0,0,0,0,0,2,0,0,0,0,0,0,0,0,0,0,0,0,0,0,0,0,0,19,"-",18.600000000000001,19.399999999999999,null,"Tues","03:45:00",0,3,0,0,0,0,0,0,0,0,0,0,0,0,3,0,0,0,0,0,0,0,0,0,0,0,0,0,0,0,0,0,18.833333333333332,"-",18.5,19.399999999999999,0,1,0,0,0,1,0,2,0,0,0,2,0,3,0,0,0,3]
[1,{"$f":"OFFSET(Input_Details!$Q$4,MATCH($A116, Input_Details!$J$5:$J$24, 0), 1)","v":"2017-11-21"},{"$f":"INDEX(Input_Details!$H$5:$H$24, MATCH($A116, Input_Details!$J$5:$J$24, 0), 0)","v":"Meadow Street"},{"$f":"INDEX(Input_Details!$I$5:$I$24, MATCH($A116, Input_Details!$J$5:$J$24, 0), 0)","v":"51.49499,-0.09696"},{"$f":"INDEX(Input_Details!$K$5:$K$24, MATCH($A116, Input_Details!$J$5:$J$24, 0), 0)","v":"Northbound"},"Tues","04:00:00",0,0,0,0,0,0,0,0,0,0,0,0,0,0,0,0,0,0,0,0,0,0,0,0,0,0,0,0,0,0,0,0,"-","-","-","-",{"$f":"INDEX(Input_Details!$L$5:$L$24, MATCH($A116, Input_Details!$J$5:$J$24, 0), 0)","v":"Southbound"},"Tues","04:00:00",0,1,0,0,0,0,0,0,0,0,0,0,0,0,1,0,0,0,0,0,0,0,0,0,0,0,0,0,0,0,0,0,19.100000000000001,"-",19.100000000000001,19.100000000000001,null,"Tues","04:00:00",0,1,0,0,0,0,0,0,0,0,0,0,0,0,1,0,0,0,0,0,0,0,0,0,0,0,0,0,0,0,0,0,19.100000000000001,"-",19.100000000000001,19.100000000000001,0,0,0,0,0,0,0,1,0,0,0,1,0,1,0,0,0,1]
[1,{"$f":"OFFSET(Input_Details!$Q$4,MATCH($A117, Input_Details!$J$5:$J$24, 0), 1)","v":"2017-11-21"},{"$f":"INDEX(Input_Details!$H$5:$H$24, MATCH($A117, Input_Details!$J$5:$J$24, 0), 0)","v":"Meadow Street"},{"$f":"INDEX(Input_Details!$I$5:$I$24, MATCH($A117, Input_Details!$J$5:$J$24, 0), 0)","v":"51.49499,-0.09696"},{"$f":"INDEX(Input_Details!$K$5:$K$24, MATCH($A117, Input_Details!$J$5:$J$24, 0), 0)","v":"Northbound"},"Tues","04:15:00",0,0,0,0,0,0,0,0,0,0,0,0,0,0,0,0,0,0,0,0,0,0,0,0,0,0,0,0,0,0,0,0,"-","-","-","-",{"$f":"INDEX(Input_Details!$L$5:$L$24, MATCH($A117, Input_Details!$J$5:$J$24, 0), 0)","v":"Southbound"},"Tues","04:15:00",0,0,0,0,0,0,0,0,0,0,0,0,0,0,0,0,0,0,0,0,0,0,0,0,0,0,0,0,0,0,0,0,"-","-","-","-",null,"Tues","04:15:00",0,0,0,0,0,0,0,0,0,0,0,0,0,0,0,0,0,0,0,0,0,0,0,0,0,0,0,0,0,0,0,0,"-","-","-","-",0,0,0,0,0,0,0,0,0,0,0,0,0,0,0,0,0,0]
[1,{"$f":"OFFSET(Input_Details!$Q$4,MATCH($A118, Input_Details!$J$5:$J$24, 0), 1)","v":"2017-11-21"},{"$f":"INDEX(Input_Details!$H$5:$H$24, MATCH($A118, Input_Details!$J$5:$J$24, 0), 0)","v":"Meadow Street"},{"$f":"INDEX(Input_Details!$I$5:$I$24, MATCH($A118, Input_Details!$J$5:$J$24, 0), 0)","v":"51.49499,-0.09696"},{"$f":"INDEX(Input_Details!$K$5:$K$24, MATCH($A118, Input_Details!$J$5:$J$24, 0), 0)","v":"Northbound"},"Tues","04:30:00",0,0,0,0,0,0,0,0,0,0,0,0,0,0,0,0,0,0,0,0,0,0,0,0,0,0,0,0,0,0,0,0,"-","-","-","-",{"$f":"INDEX(Input_Details!$L$5:$L$24, MATCH($A118, Input_Details!$J$5:$J$24, 0), 0)","v":"Southbound"},"Tues","04:30:00",0,0,0,0,0,0,0,0,0,0,0,0,0,0,0,0,0,0,0,0,0,0,0,0,0,0,0,0,0,0,0,0,"-","-","-","-",null,"Tues","04:30:00",0,0,0,0,0,0,0,0,0,0,0,0,0,0,0,0,0,0,0,0,0,0,0,0,0,0,0,0,0,0,0,0,"-","-","-","-",0,0,0,0,0,0,0,0,0,0,0,0,0,0,0,0,0,0]
[1,{"$f":"OFFSET(Input_Details!$Q$4,MATCH($A119, Input_Details!$J$5:$J$24, 0), 1)","v":"2017-11-21"},{"$f":"INDEX(Input_Details!$H$5:$H$24, MATCH($A119, Input_Details!$J$5:$J$24, 0), 0)","v":"Meadow Street"},{"$f":"INDEX(Input_Details!$I$5:$I$24, MATCH($A119, Input_Details!$J$5:$J$24, 0), 0)","v":"51.49499,-0.09696"},{"$f":"INDEX(Input_Details!$K$5:$K$24, MATCH($A119, Input_Details!$J$5:$J$24, 0), 0)","v":"Northbound"},"Tues","04:45:00",0,0,0,0,0,0,0,0,0,0,0,0,0,0,0,0,0,0,0,0,0,0,0,0,0,0,0,0,0,0,0,0,"-","-","-","-",{"$f":"INDEX(Input_Details!$L$5:$L$24, MATCH($A119, Input_Details!$J$5:$J$24, 0), 0)","v":"Southbound"},"Tues","04:45:00",0,0,0,0,0,0,0,0,0,0,0,0,0,0,0,0,0,0,0,0,0,0,0,0,0,0,0,0,0,0,0,0,"-","-","-","-",null,"Tues","04:45:00",0,0,0,0,0,0,0,0,0,0,0,0,0,0,0,0,0,0,0,0,0,0,0,0,0,0,0,0,0,0,0,0,"-","-","-","-",0,0,0,0,0,0,0,0,0,0,0,0,0,0,0,0,0,0]
[1,{"$f":"OFFSET(Input_Details!$Q$4,MATCH($A120, Input_Details!$J$5:$J$24, 0), 1)","v":"2017-11-21"},{"$f":"INDEX(Input_Details!$H$5:$H$24, MATCH($A120, Input_Details!$J$5:$J$24, 0), 0)","v":"Meadow Street"},{"$f":"INDEX(Input_Details!$I$5:$I$24, MATCH($A120, Input_Details!$J$5:$J$24, 0), 0)","v":"51.49499,-0.09696"},{"$f":"INDEX(Input_Details!$K$5:$K$24, MATCH($A120, Input_Details!$J$5:$J$24, 0), 0)","v":"Northbound"},"Tues","05:00:00",0,3,0,0,0,0,0,0,0,0,0,0,0,1,2,0,0,0,0,0,0,0,0,0,0,0,0,0,0,0,0,0,17.3,"-",14.1,19.8,{"$f":"INDEX(Input_Details!$L$5:$L$24, MATCH($A120, Input_Details!$J$5:$J$24, 0), 0)","v":"Southbound"},"Tues","05:00:00",0,0,0,0,0,0,0,0,0,0,0,0,0,0,0,0,0,0,0,0,0,0,0,0,0,0,0,0,0,0,0,0,"-","-","-","-",null,"Tues","05:00:00",0,3,0,0,0,0,0,0,0,0,0,0,0,1,2,0,0,0,0,0,0,0,0,0,0,0,0,0,0,0,0,0,17.3,"-",14.1,19.8,0,3,0,0,0,3,0,0,0,0,0,0,0,3,0,0,0,3]
[1,{"$f":"OFFSET(Input_Details!$Q$4,MATCH($A121, Input_Details!$J$5:$J$24, 0), 1)","v":"2017-11-21"},{"$f":"INDEX(Input_Details!$H$5:$H$24, MATCH($A121, Input_Details!$J$5:$J$24, 0), 0)","v":"Meadow Street"},{"$f":"INDEX(Input_Details!$I$5:$I$24, MATCH($A121, Input_Details!$J$5:$J$24, 0), 0)","v":"51.49499,-0.09696"},{"$f":"INDEX(Input_Details!$K$5:$K$24, MATCH($A121, Input_Details!$J$5:$J$24, 0), 0)","v":"Northbound"},"Tues","05:15:00",1,1,0,0,0,0,0,0,0,0,0,0,0,2,0,0,0,0,0,0,0,0,0,0,0,0,0,0,0,0,0,0,14.2,"-",13.9,14.6,{"$f":"INDEX(Input_Details!$L$5:$L$24, MATCH($A121, Input_Details!$J$5:$J$24, 0), 0)","v":"Southbound"},"Tues","05:15:00",0,0,0,0,0,0,0,0,0,0,0,0,0,0,0,0,0,0,0,0,0,0,0,0,0,0,0,0,0,0,0,0,"-","-","-","-",null,"Tues","05:15:00",1,1,0,0,0,0,0,0,0,0,0,0,0,2,0,0,0,0,0,0,0,0,0,0,0,0,0,0,0,0,0,0,14.2,"-",13.9,14.6,1,1,0,0,0,2,0,0,0,0,0,0,1,1,0,0,0,2]
[1,{"$f":"OFFSET(Input_Details!$Q$4,MATCH($A122, Input_Details!$J$5:$J$24, 0), 1)","v":"2017-11-21"},{"$f":"INDEX(Input_Details!$H$5:$H$24, MATCH($A122, Input_Details!$J$5:$J$24, 0), 0)","v":"Meadow Street"},{"$f":"INDEX(Input_Details!$I$5:$I$24, MATCH($A122, Input_Details!$J$5:$J$24, 0), 0)","v":"51.49499,-0.09696"},{"$f":"INDEX(Input_Details!$K$5:$K$24, MATCH($A122, Input_Details!$J$5:$J$24, 0), 0)","v":"Northbound"},"Tues","05:30:00",1,0,0,1,0,0,0,0,0,0,0,0,0,1,1,0,0,0,0,0,0,0,0,0,0,0,0,0,0,0,0,0,15.9,"-",12.5,19.2,{"$f":"INDEX(Input_Details!$L$5:$L$24, MATCH($A122, Input_Details!$J$5:$J$24, 0), 0)","v":"Southbound"},"Tues","05:30:00",0,0,0,0,0,0,0,0,0,0,0,0,0,0,0,0,0,0,0,0,0,0,0,0,0,0,0,0,0,0,0,0,"-","-","-","-",null,"Tues","05:30:00",1,0,0,1,0,0,0,0,0,0,0,0,0,1,1,0,0,0,0,0,0,0,0,0,0,0,0,0,0,0,0,0,15.9,"-",12.5,19.2,1,0,1,0,0,2,0,0,0,0,0,0,1,0,1,0,0,2]
[1,{"$f":"OFFSET(Input_Details!$Q$4,MATCH($A123, Input_Details!$J$5:$J$24, 0), 1)","v":"2017-11-21"},{"$f":"INDEX(Input_Details!$H$5:$H$24, MATCH($A123, Input_Details!$J$5:$J$24, 0), 0)","v":"Meadow Street"},{"$f":"INDEX(Input_Details!$I$5:$I$24, MATCH($A123, Input_Details!$J$5:$J$24, 0), 0)","v":"51.49499,-0.09696"},{"$f":"INDEX(Input_Details!$K$5:$K$24, MATCH($A123, Input_Details!$J$5:$J$24, 0), 0)","v":"Northbound"},"Tues","05:45:00",1,0,0,1,0,0,0,0,0,0,0,0,0,2,0,0,0,0,0,0,0,0,0,0,0,0,0,0,0,0,0,0,14,"-",13.5,14.5,{"$f":"INDEX(Input_Details!$L$5:$L$24, MATCH($A123, Input_Details!$J$5:$J$24, 0), 0)","v":"Southbound"},"Tues","05:45:00",0,2,0,0,0,0,0,0,0,0,0,0,0,2,0,0,0,0,0,0,0,0,0,0,0,0,0,0,0,0,0,0,11,"-",10.4,11.6,null,"Tues","05:45:00",1,2,0,1,0,0,0,0,0,0,0,0,0,4,0,0,0,0,0,0,0,0,0,0,0,0,0,0,0,0,0,0,12.5,"-",10.4,14.5,1,0,1,0,0,2,0,2,0,0,0,2,1,2,1,0,0,4]
[1,{"$f":"OFFSET(Input_Details!$Q$4,MATCH($A124, Input_Details!$J$5:$J$24, 0), 1)","v":"2017-11-21"},{"$f":"INDEX(Input_Details!$H$5:$H$24, MATCH($A124, Input_Details!$J$5:$J$24, 0), 0)","v":"Meadow Street"},{"$f":"INDEX(Input_Details!$I$5:$I$24, MATCH($A124, Input_Details!$J$5:$J$24, 0), 0)","v":"51.49499,-0.09696"},{"$f":"INDEX(Input_Details!$K$5:$K$24, MATCH($A124, Input_Details!$J$5:$J$24, 0), 0)","v":"Northbound"},"Tues","06:00:00",2,0,0,0,0,0,0,0,0,0,0,0,0,2,0,0,0,0,0,0,0,0,0,0,0,0,0,0,0,0,0,0,12.4,"-",12.3,12.5,{"$f":"INDEX(Input_Details!$L$5:$L$24, MATCH($A124, Input_Details!$J$5:$J$24, 0), 0)","v":"Southbound"},"Tues","06:00:00",0,1,0,0,0,0,0,0,0,0,0,0,0,1,0,0,0,0,0,0,0,0,0,0,0,0,0,0,0,0,0,0,11.1,"-",11.1,11.1,null,"Tues","06:00:00",2,1,0,0,0,0,0,0,0,0,0,0,0,3,0,0,0,0,0,0,0,0,0,0,0,0,0,0,0,0,0,0,11.966666666666667,"-",11.1,12.5,2,0,0,0,0,2,0,1,0,0,0,1,2,1,0,0,0,3]
[1,{"$f":"OFFSET(Input_Details!$Q$4,MATCH($A125, Input_Details!$J$5:$J$24, 0), 1)","v":"2017-11-21"},{"$f":"INDEX(Input_Details!$H$5:$H$24, MATCH($A125, Input_Details!$J$5:$J$24, 0), 0)","v":"Meadow Street"},{"$f":"INDEX(Input_Details!$I$5:$I$24, MATCH($A125, Input_Details!$J$5:$J$24, 0), 0)","v":"51.49499,-0.09696"},{"$f":"INDEX(Input_Details!$K$5:$K$24, MATCH($A125, Input_Details!$J$5:$J$24, 0), 0)","v":"Northbound"},"Tues","06:15:00",0,2,0,0,0,0,0,0,0,0,0,0,0,1,1,0,0,0,0,0,0,0,0,0,0,0,0,0,0,0,0,0,16.3,"-",14.9,17.7,{"$f":"INDEX(Input_Details!$L$5:$L$24, MATCH($A125, Input_Details!$J$5:$J$24, 0), 0)","v":"Southbound"},"Tues","06:15:00",0,2,0,0,0,0,0,0,0,0,0,0,0,1,1,0,0,0,0,0,0,0,0,0,0,0,0,0,0,0,0,0,15.1,"-",11.3,18.8,null,"Tues","06:15:00",0,4,0,0,0,0,0,0,0,0,0,0,0,2,2,0,0,0,0,0,0,0,0,0,0,0,0,0,0,0,0,0,15.7,"-",11.3,18.8,0,2,0,0,0,2,0,2,0,0,0,2,0,4,0,0,0,4]
[1,{"$f":"OFFSET(Input_Details!$Q$4,MATCH($A126, Input_Details!$J$5:$J$24, 0), 1)","v":"2017-11-21"},{"$f":"INDEX(Input_Details!$H$5:$H$24, MATCH($A126, Input_Details!$J$5:$J$24, 0), 0)","v":"Meadow Street"},{"$f":"INDEX(Input_Details!$I$5:$I$24, MATCH($A126, Input_Details!$J$5:$J$24, 0), 0)","v":"51.49499,-0.09696"},{"$f":"INDEX(Input_Details!$K$5:$K$24, MATCH($A126, Input_Details!$J$5:$J$24, 0), 0)","v":"Northbound"},"Tues","06:30:00",4,1,0,1,0,0,0,0,0,0,0,0,1,4,0,1,0,0,0,0,0,0,0,0,0,0,0,0,0,0,0,0,12.9,"-",6.7,20.8,{"$f":"INDEX(Input_Details!$L$5:$L$24, MATCH($A126, Input_Details!$J$5:$J$24, 0), 0)","v":"Southbound"},"Tues","06:30:00",0,3,0,0,0,0,0,0,0,0,0,0,0,1,2,0,0,0,0,0,0,0,0,0,0,0,0,0,0,0,0,0,16.399999999999999,"-",14.1,18.399999999999999,null,"Tues","06:30:00",4,4,0,1,0,0,0,0,0,0,0,0,1,5,2,1,0,0,0,0,0,0,0,0,0,0,0,0,0,0,0,0,14.066666666666666,"-",6.7,20.8,4,1,1,0,0,6,0,3,0,0,0,3,4,4,1,0,0,9]
[1,{"$f":"OFFSET(Input_Details!$Q$4,MATCH($A127, Input_Details!$J$5:$J$24, 0), 1)","v":"2017-11-21"},{"$f":"INDEX(Input_Details!$H$5:$H$24, MATCH($A127, Input_Details!$J$5:$J$24, 0), 0)","v":"Meadow Street"},{"$f":"INDEX(Input_Details!$I$5:$I$24, MATCH($A127, Input_Details!$J$5:$J$24, 0), 0)","v":"51.49499,-0.09696"},{"$f":"INDEX(Input_Details!$K$5:$K$24, MATCH($A127, Input_Details!$J$5:$J$24, 0), 0)","v":"Northbound"},"Tues","06:45:00",7,0,0,1,0,0,0,0,0,0,0,0,1,6,1,0,0,0,0,0,0,0,0,0,0,0,0,0,0,0,0,0,11.8,"-",9.3000000000000007,16.100000000000001,{"$f":"INDEX(Input_Details!$L$5:$L$24, MATCH($A127, Input_Details!$J$5:$J$24, 0), 0)","v":"Southbound"},"Tues","06:45:00",1,2,0,0,0,0,0,0,0,0,0,0,0,2,1,0,0,0,0,0,0,0,0,0,0,0,0,0,0,0,0,0,13.6,"-",11.6,16.2,null,"Tues","06:45:00",8,2,0,1,0,0,0,0,0,0,0,0,1,8,2,0,0,0,0,0,0,0,0,0,0,0,0,0,0,0,0,0,12.290909090909089,"-",9.3000000000000007,16.2,7,0,1,0,0,8,1,2,0,0,0,3,8,2,1,0,0,11]
[1,{"$f":"OFFSET(Input_Details!$Q$4,MATCH($A128, Input_Details!$J$5:$J$24, 0), 1)","v":"2017-11-21"},{"$f":"INDEX(Input_Details!$H$5:$H$24, MATCH($A128, Input_Details!$J$5:$J$24, 0), 0)","v":"Meadow Street"},{"$f":"INDEX(Input_Details!$I$5:$I$24, MATCH($A128, Input_Details!$J$5:$J$24, 0), 0)","v":"51.49499,-0.09696"},{"$f":"INDEX(Input_Details!$K$5:$K$24, MATCH($A128, Input_Details!$J$5:$J$24, 0), 0)","v":"Northbound"},"Tues","07:00:00",6,2,0,0,0,0,0,0,0,0,0,0,0,5,3,0,0,0,0,0,0,0,0,0,0,0,0,0,0,0,0,0,13.3,"-",10.1,16.2,{"$f":"INDEX(Input_Details!$L$5:$L$24, MATCH($A128, Input_Details!$J$5:$J$24, 0), 0)","v":"Southbound"},"Tues","07:00:00",0,2,0,0,0,0,0,0,0,0,0,0,0,1,1,0,0,0,0,0,0,0,0,0,0,0,0,0,0,0,0,0,13.8,"-",11.3,16.2,null,"Tues","07:00:00",6,4,0,0,0,0,0,0,0,0,0,0,0,6,4,0,0,0,0,0,0,0,0,0,0,0,0,0,0,0,0,0,13.4,"-",10.1,16.2,6,2,0,0,0,8,0,2,0,0,0,2,6,4,0,0,0,10]
[1,{"$f":"OFFSET(Input_Details!$Q$4,MATCH($A129, Input_Details!$J$5:$J$24, 0), 1)","v":"2017-11-21"},{"$f":"INDEX(Input_Details!$H$5:$H$24, MATCH($A129, Input_Details!$J$5:$J$24, 0), 0)","v":"Meadow Street"},{"$f":"INDEX(Input_Details!$I$5:$I$24, MATCH($A129, Input_Details!$J$5:$J$24, 0), 0)","v":"51.49499,-0.09696"},{"$f":"INDEX(Input_Details!$K$5:$K$24, MATCH($A129, Input_Details!$J$5:$J$24, 0), 0)","v":"Northbound"},"Tues","07:15:00",10,2,0,0,0,0,0,0,0,0,0,0,1,11,0,0,0,0,0,0,0,0,0,0,0,0,0,0,0,0,0,0,12.6,13.4,9.1999999999999993,14.8,{"$f":"INDEX(Input_Details!$L$5:$L$24, MATCH($A129, Input_Details!$J$5:$J$24, 0), 0)","v":"Southbound"},"Tues","07:15:00",0,2,0,0,0,0,0,0,0,0,0,0,0,2,0,0,0,0,0,0,0,0,0,0,0,0,0,0,0,0,0,0,12.8,"-",12.4,13.1,null,"Tues","07:15:00",10,4,0,0,0,0,0,0,0,0,0,0,1,13,0,0,0,0,0,0,0,0,0,0,0,0,0,0,0,0,0,0,12.628571428571428,13.4,9.1999999999999993,14.8,10,2,0,0,0,12,0,2,0,0,0,2,10,4,0,0,0,14]
[1,{"$f":"OFFSET(Input_Details!$Q$4,MATCH($A130, Input_Details!$J$5:$J$24, 0), 1)","v":"2017-11-21"},{"$f":"INDEX(Input_Details!$H$5:$H$24, MATCH($A130, Input_Details!$J$5:$J$24, 0), 0)","v":"Meadow Street"},{"$f":"INDEX(Input_Details!$I$5:$I$24, MATCH($A130, Input_Details!$J$5:$J$24, 0), 0)","v":"51.49499,-0.09696"},{"$f":"INDEX(Input_Details!$K$5:$K$24, MATCH($A130, Input_Details!$J$5:$J$24, 0), 0)","v":"Northbound"},"Tues","07:30:00",17,1,0,0,0,1,0,0,0,0,0,0,0,13,6,0,0,0,0,0,0,0,0,0,0,0,0,0,0,0,0,0,13.8,15.9,10.7,17.3,{"$f":"INDEX(Input_Details!$L$5:$L$24, MATCH($A130, Input_Details!$J$5:$J$24, 0), 0)","v":"Southbound"},"Tues","07:30:00",0,0,0,0,0,0,0,0,0,0,0,0,0,0,0,0,0,0,0,0,0,0,0,0,0,0,0,0,0,0,0,0,"-","-","-","-",null,"Tues","07:30:00",17,1,0,0,0,1,0,0,0,0,0,0,0,13,6,0,0,0,0,0,0,0,0,0,0,0,0,0,0,0,0,0,13.8,15.9,10.7,17.3,17,1,0,0,1,19,0,0,0,0,0,0,17,1,0,0,1,19]
[1,{"$f":"OFFSET(Input_Details!$Q$4,MATCH($A131, Input_Details!$J$5:$J$24, 0), 1)","v":"2017-11-21"},{"$f":"INDEX(Input_Details!$H$5:$H$24, MATCH($A131, Input_Details!$J$5:$J$24, 0), 0)","v":"Meadow Street"},{"$f":"INDEX(Input_Details!$I$5:$I$24, MATCH($A131, Input_Details!$J$5:$J$24, 0), 0)","v":"51.49499,-0.09696"},{"$f":"INDEX(Input_Details!$K$5:$K$24, MATCH($A131, Input_Details!$J$5:$J$24, 0), 0)","v":"Northbound"},"Tues","07:45:00",27,5,0,0,0,2,0,0,0,0,0,0,0,29,4,1,0,0,0,0,0,0,0,0,0,0,0,0,0,0,0,0,13.7,14.8,10.5,22.7,{"$f":"INDEX(Input_Details!$L$5:$L$24, MATCH($A131, Input_Details!$J$5:$J$24, 0), 0)","v":"Southbound"},"Tues","07:45:00",1,6,0,1,0,0,0,0,0,0,0,0,1,4,2,1,0,0,0,0,0,0,0,0,0,0,0,0,0,0,0,0,14.1,"-",8.9,21.1,null,"Tues","07:45:00",28,11,0,1,0,2,0,0,0,0,0,0,1,33,6,2,0,0,0,0,0,0,0,0,0,0,0,0,0,0,0,0,13.776190476190473,14.8,8.9,22.7,27,5,0,0,2,34,1,6,1,0,0,8,28,11,1,0,2,42]
[1,{"$f":"OFFSET(Input_Details!$Q$4,MATCH($A132, Input_Details!$J$5:$J$24, 0), 1)","v":"2017-11-21"},{"$f":"INDEX(Input_Details!$H$5:$H$24, MATCH($A132, Input_Details!$J$5:$J$24, 0), 0)","v":"Meadow Street"},{"$f":"INDEX(Input_Details!$I$5:$I$24, MATCH($A132, Input_Details!$J$5:$J$24, 0), 0)","v":"51.49499,-0.09696"},{"$f":"INDEX(Input_Details!$K$5:$K$24, MATCH($A132, Input_Details!$J$5:$J$24, 0), 0)","v":"Northbound"},"Tues","08:00:00",25,7,0,1,0,3,0,0,1,1,0,0,1,32,5,0,0,0,0,0,0,0,0,0,0,0,0,0,0,0,0,0,13.1,14.5,9.8000000000000007,18,{"$f":"INDEX(Input_Details!$L$5:$L$24, MATCH($A132, Input_Details!$J$5:$J$24, 0), 0)","v":"Southbound"},"Tues","08:00:00",2,4,0,0,0,0,0,0,0,0,0,0,1,5,0,0,0,0,0,0,0,0,0,0,0,0,0,0,0,0,0,0,11.5,"-",8.8000000000000007,13.3,null,"Tues","08:00:00",27,{"$f":"IF(OR(I132=\"\", AV132=\"\"), \"-\",SUM(I132+AV132))","v":11},{"$f":"IF(OR(J132=\"\", AW132=\"\"), \"-\",SUM(J132+AW132))","v":0},{"$f":"IF(OR(K132=\"\", AX132=\"\"), \"-\",SUM(K132+AX132))","v":1},{"$f":"IF(OR(L132=\"\", AY132=\"\"), \"-\",SUM(L132+AY132))","v":0},{"$f":"IF(OR(M132=\"\", AZ132=\"\"), \"-\",SUM(M132+AZ132))","v":3},{"$f":"IF(OR(N132=\"\", BA132=\"\"), \"-\",SUM(N132+BA132))","v":0},{"$f":"IF(OR(O132=\"\", BB132=\"\"), \"-\",SUM(O132+BB132))","v":0},{"$f":"IF(OR(P132=\"\", BC132=\"\"), \"-\",SUM(P132+BC132))","v":1},{"$f":"IF(OR(Q132=\"\", BD132=\"\"), \"-\",SUM(Q132+BD132))","v":1},{"$f":"IF(OR(R132=\"\", BE132=\"\"), \"-\",SUM(R132+BE132))","v":0},{"$f":"IF(OR(S132=\"\", BF132=\"\"), \"-\",SUM(S132+BF132))","v":0},{"$f":"IF(OR(T132=\"\", BG132=\"\"), \"-\",SUM(T132+BG132))","v":2},{"$f":"IF(OR(U132=\"\", BH132=\"\"), \"-\",SUM(U132+BH132))","v":37},{"$f":"IF(OR(V132=\"\", BI132=\"\"), \"-\",SUM(V132+BI132))","v":5},{"$f":"IF(OR(W132=\"\", BJ132=\"\"), \"-\",SUM(W132+BJ132))","v":0},{"$f":"IF(OR(X132=\"\", BK132=\"\"), \"-\",SUM(X132+BK132))","v":0},{"$f":"IF(OR(Y132=\"\", BL132=\"\"), \"-\",SUM(Y132+BL132))","v":0},{"$f":"IF(OR(Z132=\"\", BM132=\"\"), \"-\",SUM(Z132+BM132))","v":0},{"$f":"IF(OR(AA132=\"\", BN132=\"\"), \"-\",SUM(AA132+BN132))","v":0},{"$f":"IF(OR(AB132=\"\", BO132=\"\"), \"-\",SUM(AB132+BO132))","v":0},{"$f":"IF(OR(AC132=\"\", BP132=\"\"), \"-\",SUM(AC132+BP132))","v":0},{"$f":"IF(OR(AD132=\"\", BQ132=\"\"), \"-\",SUM(AD132+BQ132))","v":0},{"$f":"IF(OR(AE132=\"\", BR132=\"\"), \"-\",SUM(AE132+BR132))","v":0},{"$f":"IF(OR(AF132=\"\", BS132=\"\"), \"-\",SUM(AF132+BS132))","v":0},{"$f":"IF(OR(AG132=\"\", BT132=\"\"), \"-\",SUM(AG132+BT132))","v":0},{"$f":"IF(OR(AH132=\"\", BU132=\"\"), \"-\",SUM(AH132+BU132))","v":0},{"$f":"IF(OR(AI132=\"\", BV132=\"\"), \"-\",SUM(AI132+BV132))","v":0},{"$f":"IF(OR(AJ132=\"\", BW132=\"\"), \"-\",SUM(AJ132+BW132))","v":0},{"$f":"IF(OR(AK132=\"\", BX132=\"\"), \"-\",SUM(AK132+BX132))","v":0},{"$f":"IF(OR(AL132=\"\", BY132=\"\"), \"-\",SUM(AL132+BY132))","v":0},{"$f":"IF(OR(AM132=\"\", BZ132=\"\"), \"-\",SUM(AM132+BZ132))","v":0},12.881818181818181,14.5,8.8000000000000007,18,{"$f":"IF(H132=\"\", \"-\", H132)","v":25},{"$f":"IF(DR132=\"-\", \"-\", SUM(I132:J132))","v":7},{"$f":"IF(DR132=\"-\", \"-\", K132)","v":1},{"$f":"IF(DR132=\"-\", \"-\", L132)","v":0},{"$f":"IF(DR132=\"-\", \"-\", SUM(M132:S132))","v":5},{"$f":"IF(DR132=\"-\", \"-\", SUM(H132:S132))","v":38},2,4,0,0,0,6,27,{"$f":"IF(OR(DS132=\"-\", DY132=\"-\"), \"-\", SUM(DS132,DY132))","v":11},{"$f":"IF(OR(DT132=\"-\", DZ132=\"-\"), \"-\", SUM(DT132,DZ132))","v":1},{"$f":"IF(OR(DU132=\"-\", EA132=\"-\"), \"-\", SUM(DU132,EA132))","v":0},{"$f":"IF(OR(DV132=\"-\", EB132=\"-\"), \"-\", SUM(DV132,EB132))","v":5},{"$f":"IF(OR(DW132=\"-\", EC132=\"-\"), \"-\", SUM(DW132,EC132))","v":44}]
[{"$f":"A132","v":1},{"$f":"OFFSET(Input_Details!$Q$4,MATCH($A133, Input_Details!$J$5:$J$24, 0), 1)","v":"2017-11-21"},{"$f":"INDEX(Input_Details!$H$5:$H$24, MATCH($A133, Input_Details!$J$5:$J$24, 0), 0)","v":"Meadow Street"},{"$f":"INDEX(Input_Details!$I$5:$I$24, MATCH($A133, Input_Details!$J$5:$J$24, 0), 0)","v":"51.49499,-0.09696"},{"$f":"INDEX(Input_Details!$K$5:$K$24, MATCH($A133, Input_Details!$J$5:$J$24, 0), 0)","v":"Northbound"},"Tues","08:15:00",37,7,0,3,0,3,0,0,0,1,1,0,1,40,10,1,0,0,0,0,0,0,0,0,0,0,0,0,0,0,0,0,13.6,15.4,6.1,21.9,{"$f":"INDEX(Input_Details!$L$5:$L$24, MATCH($A133, Input_Details!$J$5:$J$24, 0), 0)","v":"Southbound"},"Tues","08:15:00",0,1,0,3,0,0,0,0,0,0,0,0,0,3,0,1,0,0,0,0,0,0,0,0,0,0,0,0,0,0,0,0,15.7,"-",12.7,22.8,null,"Tues","08:15:00",{"$f":"IF(OR(H133=\"\", AU133=\"\"), \"-\",SUM(H133+AU133))","v":37},8,0,6,0,3,0,0,0,1,1,0,1,43,10,2,0,0,0,0,0,0,0,0,0,0,0,0,0,0,0,0,{"$f":"IF(OR(DW133=\"-\", EC133=\"-\", EI133=\"-\", EI133=0),\"-\",IF(OR(DW133=\"-\", DW133=0),CA133,IF(EC133=0,AN133,SUM((AN133*DW133),(CA133*EC133))/EI133)))","v":13.749999999999998},{"$f":"IFERROR(IF(OR(DW133=\"-\", EC133=\"-\", EI133=\"-\", EI133=0), \"-\", IF(AO133=\"-\", CB133, AVERAGE(AO133,CB133))), \"-\")","v":15.4},{"$f":"IF(OR(DW133=\"-\", EC133=\"-\",EI133=\"-\", EI133=0),\"-\",MIN(AP133,CC133))","v":6.1},{"$f":"IF(OR(DW133=\"-\", EC133=\"-\",EI133=\"-\", EI133=0),\"-\",MAX(AQ133,CD133))","v":22.8},37,7,3,0,5,52,{"$f":"IF(AU133=\"\", \"-\", AU133)","v":0},{"$f":"IF(DX133=\"-\", \"-\", SUM(AV133:AW133))","v":1},{"$f":"IF(DX133=\"-\", \"-\", AX133)","v":3},{"$f":"IF(DX133=\"-\", \"-\", AY133)","v":0},{"$f":"IF(DX133=\"-\", \"-\", SUM(AZ133:BF133))","v":0},{"$f":"IF(DX133=\"-\", \"-\", SUM(AU133:BF133))","v":4},{"$f":"IF(OR(DR133=\"-\", DX133=\"-\"), \"-\", SUM(DR133,DX133))","v":37},8,6,0,5,56]
[1,{"$f":"OFFSET(Input_Details!$Q$4,MATCH($A134, Input_Details!$J$5:$J$24, 0), 1)","v":"2017-11-21"},{"$f":"INDEX(Input_Details!$H$5:$H$24, MATCH($A134, Input_Details!$J$5:$J$24, 0), 0)","v":"Meadow Street"},{"$f":"INDEX(Input_Details!$I$5:$I$24, MATCH($A134, Input_Details!$J$5:$J$24, 0), 0)","v":"51.49499,-0.09696"},{"$f":"INDEX(Input_Details!$K$5:$K$24, MATCH($A134, Input_Details!$J$5:$J$24, 0), 0)","v":"Northbound"},"Tues","08:30:00",25,10,0,1,0,11,0,0,0,2,1,1,1,42,7,1,0,0,0,0,0,0,0,0,0,0,0,0,0,0,0,0,13.5,14.8,6.8,21.2,{"$f":"INDEX(Input_Details!$L$5:$L$24, MATCH($A134, Input_Details!$J$5:$J$24, 0), 0)","v":"Southbound"},"Tues","08:30:00",0,5,0,2,0,0,0,0,0,0,0,0,2,3,1,1,0,0,0,0,0,0,0,0,0,0,0,0,0,0,0,0,12.4,"-",5.3,20.100000000000001,null,"Tues","08:30:00",25,15,0,3,0,11,0,0,0,2,1,1,3,45,8,2,0,0,0,0,0,0,0,0,0,0,0,0,0,0,0,0,13.367241379310345,14.8,5.3,21.2,25,10,1,0,15,51,0,5,2,0,0,7,25,15,3,0,15,58]
[1,{"$f":"OFFSET(Input_Details!$Q$4,MATCH($A135, Input_Details!$J$5:$J$24, 0), 1)","v":"2017-11-21"},{"$f":"INDEX(Input_Details!$H$5:$H$24, MATCH($A135, Input_Details!$J$5:$J$24, 0), 0)","v":"Meadow Street"},{"$f":"INDEX(Input_Details!$I$5:$I$24, MATCH($A135, Input_Details!$J$5:$J$24, 0), 0)","v":"51.49499,-0.09696"},{"$f":"INDEX(Input_Details!$K$5:$K$24, MATCH($A135, Input_Details!$J$5:$J$24, 0), 0)","v":"Northbound"},"Tues","08:45:00",25,10,0,1,1,4,0,0,0,3,0,0,1,37,5,1,0,0,0,0,0,0,0,0,0,0,0,0,0,0,0,0,13.4,14.8,9.8000000000000007,22.4,{"$f":"INDEX(Input_Details!$L$5:$L$24, MATCH($A135, Input_Details!$J$5:$J$24, 0), 0)","v":"Southbound"},"Tues","08:45:00",0,6,0,0,0,0,0,0,0,0,0,0,1,3,2,0,0,0,0,0,0,0,0,0,0,0,0,0,0,0,0,0,13.7,"-",9.8000000000000007,15.9,null,"Tues","08:45:00",25,16,0,1,1,4,0,0,0,3,0,0,2,40,7,1,0,0,0,0,0,0,0,0,0,0,0,0,0,0,0,0,13.436,14.8,9.8000000000000007,22.4,25,10,1,1,7,44,0,6,0,0,0,6,25,16,1,1,7,50]
[1,{"$f":"OFFSET(Input_Details!$Q$4,MATCH($A136, Input_Details!$J$5:$J$24, 0), 1)","v":"2017-11-21"},{"$f":"INDEX(Input_Details!$H$5:$H$24, MATCH($A136, Input_Details!$J$5:$J$24, 0), 0)","v":"Meadow Street"},{"$f":"INDEX(Input_Details!$I$5:$I$24, MATCH($A136, Input_Details!$J$5:$J$24, 0), 0)","v":"51.49499,-0.09696"},{"$f":"INDEX(Input_Details!$K$5:$K$24, MATCH($A136, Input_Details!$J$5:$J$24, 0), 0)","v":"Northbound"},"Tues","09:00:00",21,7,0,0,0,6,0,0,1,0,0,0,1,27,7,0,0,0,0,0,0,0,0,0,0,0,0,0,0,0,0,0,13.6,15,9.5,18.2,{"$f":"INDEX(Input_Details!$L$5:$L$24, MATCH($A136, Input_Details!$J$5:$J$24, 0), 0)","v":"Southbound"},"Tues","09:00:00",3,6,0,0,1,0,0,0,0,0,0,0,1,7,2,0,0,0,0,0,0,0,0,0,0,0,0,0,0,0,0,0,12.6,"-",4.5999999999999996,18.7,null,"Tues","09:00:00",24,13,0,0,1,6,0,0,1,0,0,0,2,34,9,0,0,0,0,0,0,0,0,0,0,0,0,0,0,0,0,0,13.377777777777778,15,4.5999999999999996,18.7,21,7,0,0,7,35,3,6,0,1,0,10,24,13,0,1,7,45]
[1,{"$f":"OFFSET(Input_Details!$Q$4,MATCH($A137, Input_Details!$J$5:$J$24, 0), 1)","v":"2017-11-21"},{"$f":"INDEX(Input_Details!$H$5:$H$24, MATCH($A137, Input_Details!$J$5:$J$24, 0), 0)","v":"Meadow Street"},{"$f":"INDEX(Input_Details!$I$5:$I$24, MATCH($A137, Input_Details!$J$5:$J$24, 0), 0)","v":"51.49499,-0.09696"},{"$f":"INDEX(Input_Details!$K$5:$K$24, MATCH($A137, Input_Details!$J$5:$J$24, 0), 0)","v":"Northbound"},"Tues","09:15:00",27,4,0,0,0,5,0,0,0,0,0,1,0,27,8,2,0,0,0,0,0,0,0,0,0,0,0,0,0,0,0,0,14.1,16.100000000000001,10.8,21.3,{"$f":"INDEX(Input_Details!$L$5:$L$24, MATCH($A137, Input_Details!$J$5:$J$24, 0), 0)","v":"Southbound"},"Tues","09:15:00",2,4,0,2,0,0,0,0,0,0,0,0,0,6,0,2,0,0,0,0,0,0,0,0,0,0,0,0,0,0,0,0,14.2,"-",10.9,21.4,null,"Tues","09:15:00",29,8,0,2,0,5,0,0,0,0,0,1,0,33,8,4,0,0,0,0,0,0,0,0,0,0,0,0,0,0,0,0,14.117777777777777,16.100000000000001,10.8,21.4,27,4,0,0,6,37,2,4,2,0,0,8,29,8,2,0,6,45]
[1,{"$f":"OFFSET(Input_Details!$Q$4,MATCH($A138, Input_Details!$J$5:$J$24, 0), 1)","v":"2017-11-21"},{"$f":"INDEX(Input_Details!$H$5:$H$24, MATCH($A138, Input_Details!$J$5:$J$24, 0), 0)","v":"Meadow Street"},{"$f":"INDEX(Input_Details!$I$5:$I$24, MATCH($A138, Input_Details!$J$5:$J$24, 0), 0)","v":"51.49499,-0.09696"},{"$f":"INDEX(Input_Details!$K$5:$K$24, MATCH($A138, Input_Details!$J$5:$J$24, 0), 0)","v":"Northbound"},"Tues","09:30:00",13,5,0,0,0,6,0,0,0,1,2,0,1,22,4,0,0,0,0,0,0,0,0,0,0,0,0,0,0,0,0,0,13.2,14.8,9.5,18.600000000000001,{"$f":"INDEX(Input_Details!$L$5:$L$24, MATCH($A138, Input_Details!$J$5:$J$24, 0), 0)","v":"Southbound"},"Tues","09:30:00",0,6,0,0,0,0,0,0,0,0,0,0,1,2,2,1,0,0,0,0,0,0,0,0,0,0,0,0,0,0,0,0,16.2,"-",8,24.5,null,"Tues","09:30:00",13,11,0,0,0,6,0,0,0,1,2,0,2,24,6,1,0,0,0,0,0,0,0,0,0,0,0,0,0,0,0,0,13.745454545454544,14.8,8,24.5,13,5,0,0,9,27,0,6,0,0,0,6,13,11,0,0,9,33]
[1,{"$f":"OFFSET(Input_Details!$Q$4,MATCH($A139, Input_Details!$J$5:$J$24, 0), 1)","v":"2017-11-21"},{"$f":"INDEX(Input_Details!$H$5:$H$24, MATCH($A139, Input_Details!$J$5:$J$24, 0), 0)","v":"Meadow Street"},{"$f":"INDEX(Input_Details!$I$5:$I$24, MATCH($A139, Input_Details!$J$5:$J$24, 0), 0)","v":"51.49499,-0.09696"},{"$f":"INDEX(Input_Details!$K$5:$K$24, MATCH($A139, Input_Details!$J$5:$J$24, 0), 0)","v":"Northbound"},"Tues","09:45:00",11,3,0,1,0,0,0,0,0,0,0,0,0,13,2,0,0,0,0,0,0,0,0,0,0,0,0,0,0,0,0,0,13.4,14.1,10.3,18.5,{"$f":"INDEX(Input_Details!$L$5:$L$24, MATCH($A139, Input_Details!$J$5:$J$24, 0), 0)","v":"Southbound"},"Tues","09:45:00",2,1,0,0,0,0,0,0,0,0,0,0,0,3,0,0,0,0,0,0,0,0,0,0,0,0,0,0,0,0,0,0,12.4,"-",11.2,13.8,null,"Tues","09:45:00",13,4,0,1,0,0,0,0,0,0,0,0,0,16,2,0,0,0,0,0,0,0,0,0,0,0,0,0,0,0,0,0,13.233333333333333,14.1,10.3,18.5,11,3,1,0,0,15,2,1,0,0,0,3,13,4,1,0,0,18]
[1,{"$f":"OFFSET(Input_Details!$Q$4,MATCH($A140, Input_Details!$J$5:$J$24, 0), 1)","v":"2017-11-21"},{"$f":"INDEX(Input_Details!$H$5:$H$24, MATCH($A140, Input_Details!$J$5:$J$24, 0), 0)","v":"Meadow Street"},{"$f":"INDEX(Input_Details!$I$5:$I$24, MATCH($A140, Input_Details!$J$5:$J$24, 0), 0)","v":"51.49499,-0.09696"},{"$f":"INDEX(Input_Details!$K$5:$K$24, MATCH($A140, Input_Details!$J$5:$J$24, 0), 0)","v":"Northbound"},"Tues","10:00:00",9,6,0,1,0,2,0,0,0,0,0,0,1,8,7,2,0,0,0,0,0,0,0,0,0,0,0,0,0,0,0,0,15.6,18.600000000000001,9.6999999999999993,21.8,{"$f":"INDEX(Input_Details!$L$5:$L$24, MATCH($A140, Input_Details!$J$5:$J$24, 0), 0)","v":"Southbound"},"Tues","10:00:00",1,4,0,0,0,0,0,0,0,0,0,0,0,1,2,2,0,0,0,0,0,0,0,0,0,0,0,0,0,0,0,0,17.600000000000001,"-",13.1,21.2,null,"Tues","10:00:00",10,10,0,1,0,2,0,0,0,0,0,0,1,9,9,4,0,0,0,0,0,0,0,0,0,0,0,0,0,0,0,0,16.034782608695654,18.600000000000001,9.6999999999999993,21.8,9,6,1,0,2,18,1,4,0,0,0,5,10,10,1,0,2,23]
[1,{"$f":"OFFSET(Input_Details!$Q$4,MATCH($A141, Input_Details!$J$5:$J$24, 0), 1)","v":"2017-11-21"},{"$f":"INDEX(Input_Details!$H$5:$H$24, MATCH($A141, Input_Details!$J$5:$J$24, 0), 0)","v":"Meadow Street"},{"$f":"INDEX(Input_Details!$I$5:$I$24, MATCH($A141, Input_Details!$J$5:$J$24, 0), 0)","v":"51.49499,-0.09696"},{"$f":"INDEX(Input_Details!$K$5:$K$24, MATCH($A141, Input_Details!$J$5:$J$24, 0), 0)","v":"Northbound"},"Tues","10:15:00",5,3,0,1,0,0,0,0,0,0,0,0,0,9,0,0,0,0,0,0,0,0,0,0,0,0,0,0,0,0,0,0,12.8,"-",11,14.6,{"$f":"INDEX(Input_Details!$L$5:$L$24, MATCH($A141, Input_Details!$J$5:$J$24, 0), 0)","v":"Southbound"},"Tues","10:15:00",0,8,0,0,0,0,0,0,0,0,0,0,0,0,8,0,0,0,0,0,0,0,0,0,0,0,0,0,0,0,0,0,17.399999999999999,"-",15.2,19.8,null,"Tues","10:15:00",5,11,0,1,0,0,0,0,0,0,0,0,0,9,8,0,0,0,0,0,0,0,0,0,0,0,0,0,0,0,0,0,14.96470588235294,"-",11,19.8,5,3,1,0,0,9,0,8,0,0,0,8,5,11,1,0,0,17]
[1,{"$f":"OFFSET(Input_Details!$Q$4,MATCH($A142, Input_Details!$J$5:$J$24, 0), 1)","v":"2017-11-21"},{"$f":"INDEX(Input_Details!$H$5:$H$24, MATCH($A142, Input_Details!$J$5:$J$24, 0), 0)","v":"Meadow Street"},{"$f":"INDEX(Input_Details!$I$5:$I$24, MATCH($A142, Input_Details!$J$5:$J$24, 0), 0)","v":"51.49499,-0.09696"},{"$f":"INDEX(Input_Details!$K$5:$K$24, MATCH($A142, Input_Details!$J$5:$J$24, 0), 0)","v":"Northbound"},"Tues","10:30:00",5,4,0,0,0,0,0,0,0,0,0,0,0,5,4,0,0,0,0,0,0,0,0,0,0,0,0,0,0,0,0,0,15.5,"-",11.7,19.3,{"$f":"INDEX(Input_Details!$L$5:$L$24, MATCH($A142, Input_Details!$J$5:$J$24, 0), 0)","v":"Southbound"},"Tues","10:30:00",1,1,0,1,0,0,0,0,0,0,0,0,0,2,1,0,0,0,0,0,0,0,0,0,0,0,0,0,0,0,0,0,13.7,"-",10.7,16.100000000000001,null,"Tues","10:30:00",6,5,0,1,0,0,0,0,0,0,0,0,0,7,5,0,0,0,0,0,0,0,0,0,0,0,0,0,0,0,0,0,15.049999999999999,"-",10.7,19.3,5,4,0,0,0,9,1,1,1,0,0,3,6,5,1,0,0,12]
[1,{"$f":"OFFSET(Input_Details!$Q$4,MATCH($A143, Input_Details!$J$5:$J$24, 0), 1)","v":"2017-11-21"},{"$f":"INDEX(Input_Details!$H$5:$H$24, MATCH($A143, Input_Details!$J$5:$J$24, 0), 0)","v":"Meadow Street"},{"$f":"INDEX(Input_Details!$I$5:$I$24, MATCH($A143, Input_Details!$J$5:$J$24, 0), 0)","v":"51.49499,-0.09696"},{"$f":"INDEX(Input_Details!$K$5:$K$24, MATCH($A143, Input_Details!$J$5:$J$24, 0), 0)","v":"Northbound"},"Tues","10:45:00",1,4,0,0,0,0,0,0,0,0,0,0,0,5,0,0,0,0,0,0,0,0,0,0,0,0,0,0,0,0,0,0,13.6,"-",12.8,14.2,{"$f":"INDEX(Input_Details!$L$5:$L$24, MATCH($A143, Input_Details!$J$5:$J$24, 0), 0)","v":"Southbound"},"Tues","10:45:00",1,4,0,0,0,0,0,0,0,0,0,0,1,2,2,0,0,0,0,0,0,0,0,0,0,0,0,0,0,0,0,0,13.7,"-",6.4,17.7,null,"Tues","10:45:00",2,8,0,0,0,0,0,0,0,0,0,0,1,7,2,0,0,0,0,0,0,0,0,0,0,0,0,0,0,0,0,0,13.65,"-",6.4,17.7,1,4,0,0,0,5,1,4,0,0,0,5,2,8,0,0,0,10]
[1,{"$f":"OFFSET(Input_Details!$Q$4,MATCH($A144, Input_Details!$J$5:$J$24, 0), 1)","v":"2017-11-21"},{"$f":"INDEX(Input_Details!$H$5:$H$24, MATCH($A144, Input_Details!$J$5:$J$24, 0), 0)","v":"Meadow Street"},{"$f":"INDEX(Input_Details!$I$5:$I$24, MATCH($A144, Input_Details!$J$5:$J$24, 0), 0)","v":"51.49499,-0.09696"},{"$f":"INDEX(Input_Details!$K$5:$K$24, MATCH($A144, Input_Details!$J$5:$J$24, 0), 0)","v":"Northbound"},"Tues","11:00:00",1,2,0,0,0,1,0,0,0,0,0,0,1,3,0,0,0,0,0,0,0,0,0,0,0,0,0,0,0,0,0,0,12,"-",7.1,14.8,{"$f":"INDEX(Input_Details!$L$5:$L$24, MATCH($A144, Input_Details!$J$5:$J$24, 0), 0)","v":"Southbound"},"Tues","11:00:00",0,7,0,0,0,0,0,0,0,0,0,0,0,5,2,0,0,0,0,0,0,0,0,0,0,0,0,0,0,0,0,0,13.7,"-",10.5,18.399999999999999,null,"Tues","11:00:00",1,9,0,0,0,1,0,0,0,0,0,0,1,8,2,0,0,0,0,0,0,0,0,0,0,0,0,0,0,0,0,0,13.08181818181818,"-",7.1,18.399999999999999,1,2,0,0,1,4,0,7,0,0,0,7,1,9,0,0,1,11]
[1,{"$f":"OFFSET(Input_Details!$Q$4,MATCH($A145, Input_Details!$J$5:$J$24, 0), 1)","v":"2017-11-21"},{"$f":"INDEX(Input_Details!$H$5:$H$24, MATCH($A145, Input_Details!$J$5:$J$24, 0), 0)","v":"Meadow Street"},{"$f":"INDEX(Input_Details!$I$5:$I$24, MATCH($A145, Input_Details!$J$5:$J$24, 0), 0)","v":"51.49499,-0.09696"},{"$f":"INDEX(Input_Details!$K$5:$K$24, MATCH($A145, Input_Details!$J$5:$J$24, 0), 0)","v":"Northbound"},"Tues","11:15:00",3,3,0,0,0,0,0,0,0,0,0,0,0,4,1,1,0,0,0,0,0,0,0,0,0,0,0,0,0,0,0,0,15.6,"-",12.3,22.1,{"$f":"INDEX(Input_Details!$L$5:$L$24, MATCH($A145, Input_Details!$J$5:$J$24, 0), 0)","v":"Southbound"},"Tues","11:15:00",2,2,0,1,0,0,0,0,0,0,0,0,0,3,1,1,0,0,0,0,0,0,0,0,0,0,0,0,0,0,0,0,15.4,"-",12,20.100000000000001,null,"Tues","11:15:00",5,5,0,1,0,0,0,0,0,0,0,0,0,7,2,2,0,0,0,0,0,0,0,0,0,0,0,0,0,0,0,0,15.509090909090908,"-",12,22.1,3,3,0,0,0,6,2,2,1,0,0,5,5,5,1,0,0,11]
[1,{"$f":"OFFSET(Input_Details!$Q$4,MATCH($A146, Input_Details!$J$5:$J$24, 0), 1)","v":"2017-11-21"},{"$f":"INDEX(Input_Details!$H$5:$H$24, MATCH($A146, Input_Details!$J$5:$J$24, 0), 0)","v":"Meadow Street"},{"$f":"INDEX(Input_Details!$I$5:$I$24, MATCH($A146, Input_Details!$J$5:$J$24, 0), 0)","v":"51.49499,-0.09696"},{"$f":"INDEX(Input_Details!$K$5:$K$24, MATCH($A146, Input_Details!$J$5:$J$24, 0), 0)","v":"Northbound"},"Tues","11:30:00",2,4,0,1,0,0,0,0,0,0,0,0,1,4,2,0,0,0,0,0,0,0,0,0,0,0,0,0,0,0,0,0,12.9,"-",8.9,16.399999999999999,{"$f":"INDEX(Input_Details!$L$5:$L$24, MATCH($A146, Input_Details!$J$5:$J$24, 0), 0)","v":"Southbound"},"Tues","11:30:00",1,1,0,2,0,0,0,0,0,0,0,0,0,3,1,0,0,0,0,0,0,0,0,0,0,0,0,0,0,0,0,0,14.4,"-",12.7,16.8,null,"Tues","11:30:00",3,5,0,3,0,0,0,0,0,0,0,0,1,7,3,0,0,0,0,0,0,0,0,0,0,0,0,0,0,0,0,0,13.445454545454545,"-",8.9,16.8,2,4,1,0,0,7,1,1,2,0,0,4,3,5,3,0,0,11]
[1,{"$f":"OFFSET(Input_Details!$Q$4,MATCH($A147, Input_Details!$J$5:$J$24, 0), 1)","v":"2017-11-21"},{"$f":"INDEX(Input_Details!$H$5:$H$24, MATCH($A147, Input_Details!$J$5:$J$24, 0), 0)","v":"Meadow Street"},{"$f":"INDEX(Input_Details!$I$5:$I$24, MATCH($A147, Input_Details!$J$5:$J$24, 0), 0)","v":"51.49499,-0.09696"},{"$f":"INDEX(Input_Details!$K$5:$K$24, MATCH($A147, Input_Details!$J$5:$J$24, 0), 0)","v":"Northbound"},"Tues","11:45:00",1,3,0,0,0,0,0,0,0,0,0,0,1,1,1,1,0,0,0,0,0,0,0,0,0,0,0,0,0,0,0,0,14.8,"-",8.1,21.9,{"$f":"INDEX(Input_Details!$L$5:$L$24, MATCH($A147, Input_Details!$J$5:$J$24, 0), 0)","v":"Southbound"},"Tues","11:45:00",0,4,0,0,0,0,0,0,0,0,0,0,0,4,0,0,0,0,0,0,0,0,0,0,0,0,0,0,0,0,0,0,12.9,"-",12.3,13.9,null,"Tues","11:45:00",1,7,0,0,0,0,0,0,0,0,0,0,1,5,1,1,0,0,0,0,0,0,0,0,0,0,0,0,0,0,0,0,13.850000000000001,"-",8.1,21.9,1,3,0,0,0,4,0,4,0,0,0,4,1,7,0,0,0,8]
[1,{"$f":"OFFSET(Input_Details!$Q$4,MATCH($A148, Input_Details!$J$5:$J$24, 0), 1)","v":"2017-11-21"},{"$f":"INDEX(Input_Details!$H$5:$H$24, MATCH($A148, Input_Details!$J$5:$J$24, 0), 0)","v":"Meadow Street"},{"$f":"INDEX(Input_Details!$I$5:$I$24, MATCH($A148, Input_Details!$J$5:$J$24, 0), 0)","v":"51.49499,-0.09696"},{"$f":"INDEX(Input_Details!$K$5:$K$24, MATCH($A148, Input_Details!$J$5:$J$24, 0), 0)","v":"Northbound"},"Tues","12:00:00",3,2,0,0,0,0,0,0,0,0,0,0,1,3,1,0,0,0,0,0,0,0,0,0,0,0,0,0,0,0,0,0,12.8,"-",9.8000000000000007,15.4,{"$f":"INDEX(Input_Details!$L$5:$L$24, MATCH($A148, Input_Details!$J$5:$J$24, 0), 0)","v":"Southbound"},"Tues","12:00:00",1,0,0,0,0,0,0,0,0,0,0,0,0,1,0,0,0,0,0,0,0,0,0,0,0,0,0,0,0,0,0,0,12.7,"-",12.7,12.7,null,"Tues","12:00:00",4,2,0,0,0,0,0,0,0,0,0,0,1,4,1,0,0,0,0,0,0,0,0,0,0,0,0,0,0,0,0,0,12.783333333333333,"-",9.8000000000000007,15.4,3,2,0,0,0,5,1,0,0,0,0,1,4,2,0,0,0,6]
[1,{"$f":"OFFSET(Input_Details!$Q$4,MATCH($A149, Input_Details!$J$5:$J$24, 0), 1)","v":"2017-11-21"},{"$f":"INDEX(Input_Details!$H$5:$H$24, MATCH($A149, Input_Details!$J$5:$J$24, 0), 0)","v":"Meadow Street"},{"$f":"INDEX(Input_Details!$I$5:$I$24, MATCH($A149, Input_Details!$J$5:$J$24, 0), 0)","v":"51.49499,-0.09696"},{"$f":"INDEX(Input_Details!$K$5:$K$24, MATCH($A149, Input_Details!$J$5:$J$24, 0), 0)","v":"Northbound"},"Tues","12:15:00",2,2,0,0,0,0,0,0,0,0,0,0,1,3,0,0,0,0,0,0,0,0,0,0,0,0,0,0,0,0,0,0,10.5,"-",2.9,14.8,{"$f":"INDEX(Input_Details!$L$5:$L$24, MATCH($A149, Input_Details!$J$5:$J$24, 0), 0)","v":"Southbound"},"Tues","12:15:00",4,2,0,1,0,0,0,0,0,0,0,0,2,2,3,0,0,0,0,0,0,0,0,0,0,0,0,0,0,0,0,0,11.3,"-",3.4,16.899999999999999,null,"Tues","12:15:00",6,4,0,1,0,0,0,0,0,0,0,0,3,5,3,0,0,0,0,0,0,0,0,0,0,0,0,0,0,0,0,0,11.00909090909091,"-",2.9,16.899999999999999,2,2,0,0,0,4,4,2,1,0,0,7,6,4,1,0,0,11]
[1,{"$f":"OFFSET(Input_Details!$Q$4,MATCH($A150, Input_Details!$J$5:$J$24, 0), 1)","v":"2017-11-21"},{"$f":"INDEX(Input_Details!$H$5:$H$24, MATCH($A150, Input_Details!$J$5:$J$24, 0), 0)","v":"Meadow Street"},{"$f":"INDEX(Input_Details!$I$5:$I$24, MATCH($A150, Input_Details!$J$5:$J$24, 0), 0)","v":"51.49499,-0.09696"},{"$f":"INDEX(Input_Details!$K$5:$K$24, MATCH($A150, Input_Details!$J$5:$J$24, 0), 0)","v":"Northbound"},"Tues","12:30:00",2,2,0,0,0,0,0,0,0,0,0,0,0,2,2,0,0,0,0,0,0,0,0,0,0,0,0,0,0,0,0,0,14.9,"-",11.9,19,{"$f":"INDEX(Input_Details!$L$5:$L$24, MATCH($A150, Input_Details!$J$5:$J$24, 0), 0)","v":"Southbound"},"Tues","12:30:00",4,2,0,0,0,0,0,0,0,0,0,0,0,5,0,1,0,0,0,0,0,0,0,0,0,0,0,0,0,0,0,0,13.8,"-",10.8,22.2,null,"Tues","12:30:00",6,4,0,0,0,0,0,0,0,0,0,0,0,7,2,1,0,0,0,0,0,0,0,0,0,0,0,0,0,0,0,0,14.24,"-",10.8,22.2,2,2,0,0,0,4,4,2,0,0,0,6,6,4,0,0,0,10]
[1,{"$f":"OFFSET(Input_Details!$Q$4,MATCH($A151, Input_Details!$J$5:$J$24, 0), 1)","v":"2017-11-21"},{"$f":"INDEX(Input_Details!$H$5:$H$24, MATCH($A151, Input_Details!$J$5:$J$24, 0), 0)","v":"Meadow Street"},{"$f":"INDEX(Input_Details!$I$5:$I$24, MATCH($A151, Input_Details!$J$5:$J$24, 0), 0)","v":"51.49499,-0.09696"},{"$f":"INDEX(Input_Details!$K$5:$K$24, MATCH($A151, Input_Details!$J$5:$J$24, 0), 0)","v":"Northbound"},"Tues","12:45:00",2,5,0,0,0,0,0,0,0,0,0,0,0,1,5,1,0,0,0,0,0,0,0,0,0,0,0,0,0,0,0,0,16.399999999999999,"-",10.1,21.4,{"$f":"INDEX(Input_Details!$L$5:$L$24, MATCH($A151, Input_Details!$J$5:$J$24, 0), 0)","v":"Southbound"},"Tues","12:45:00",2,4,0,0,0,0,0,0,0,0,0,0,1,3,1,1,0,0,0,0,0,0,0,0,0,0,0,0,0,0,0,0,13.3,"-",8,20.5,null,"Tues","12:45:00",4,9,0,0,0,0,0,0,0,0,0,0,1,4,6,2,0,0,0,0,0,0,0,0,0,0,0,0,0,0,0,0,14.969230769230769,"-",8,21.4,2,5,0,0,0,7,2,4,0,0,0,6,4,9,0,0,0,13]
[1,{"$f":"OFFSET(Input_Details!$Q$4,MATCH($A152, Input_Details!$J$5:$J$24, 0), 1)","v":"2017-11-21"},{"$f":"INDEX(Input_Details!$H$5:$H$24, MATCH($A152, Input_Details!$J$5:$J$24, 0), 0)","v":"Meadow Street"},{"$f":"INDEX(Input_Details!$I$5:$I$24, MATCH($A152, Input_Details!$J$5:$J$24, 0), 0)","v":"51.49499,-0.09696"},{"$f":"INDEX(Input_Details!$K$5:$K$24, MATCH($A152, Input_Details!$J$5:$J$24, 0), 0)","v":"Northbound"},"Tues","13:00:00",1,6,0,0,0,0,0,0,0,0,0,0,1,2,4,0,0,0,0,0,0,0,0,0,0,0,0,0,0,0,0,0,14.5,"-",9.1,17,{"$f":"INDEX(Input_Details!$L$5:$L$24, MATCH($A152, Input_Details!$J$5:$J$24, 0), 0)","v":"Southbound"},"Tues","13:00:00",2,3,0,0,0,0,0,0,0,0,0,0,0,3,1,1,0,0,0,0,0,0,0,0,0,0,0,0,0,0,0,0,14.9,"-",11,20.399999999999999,null,"Tues","13:00:00",3,9,0,0,0,0,0,0,0,0,0,0,1,5,5,1,0,0,0,0,0,0,0,0,0,0,0,0,0,0,0,0,14.666666666666666,"-",9.1,20.399999999999999,1,6,0,0,0,7,2,3,0,0,0,5,3,9,0,0,0,12]
[1,{"$f":"OFFSET(Input_Details!$Q$4,MATCH($A153, Input_Details!$J$5:$J$24, 0), 1)","v":"2017-11-21"},{"$f":"INDEX(Input_Details!$H$5:$H$24, MATCH($A153, Input_Details!$J$5:$J$24, 0), 0)","v":"Meadow Street"},{"$f":"INDEX(Input_Details!$I$5:$I$24, MATCH($A153, Input_Details!$J$5:$J$24, 0), 0)","v":"51.49499,-0.09696"},{"$f":"INDEX(Input_Details!$K$5:$K$24, MATCH($A153, Input_Details!$J$5:$J$24, 0), 0)","v":"Northbound"},"Tues","13:15:00",1,3,0,1,0,0,0,0,0,0,0,0,0,3,2,0,0,0,0,0,0,0,0,0,0,0,0,0,0,0,0,0,15,"-",12.9,17.399999999999999,{"$f":"INDEX(Input_Details!$L$5:$L$24, MATCH($A153, Input_Details!$J$5:$J$24, 0), 0)","v":"Southbound"},"Tues","13:15:00",0,3,0,3,0,0,0,0,0,0,0,0,0,1,2,3,0,0,0,0,0,0,0,0,0,0,0,0,0,0,0,0,18.8,"-",11.4,23.2,null,"Tues","13:15:00",1,6,0,4,0,0,0,0,0,0,0,0,0,4,4,3,0,0,0,0,0,0,0,0,0,0,0,0,0,0,0,0,17.072727272727274,"-",11.4,23.2,1,3,1,0,0,5,0,3,3,0,0,6,1,6,4,0,0,11]
[1,{"$f":"OFFSET(Input_Details!$Q$4,MATCH($A154, Input_Details!$J$5:$J$24, 0), 1)","v":"2017-11-21"},{"$f":"INDEX(Input_Details!$H$5:$H$24, MATCH($A154, Input_Details!$J$5:$J$24, 0), 0)","v":"Meadow Street"},{"$f":"INDEX(Input_Details!$I$5:$I$24, MATCH($A154, Input_Details!$J$5:$J$24, 0), 0)","v":"51.49499,-0.09696"},{"$f":"INDEX(Input_Details!$K$5:$K$24, MATCH($A154, Input_Details!$J$5:$J$24, 0), 0)","v":"Northbound"},"Tues","13:30:00",2,2,0,1,0,0,0,0,0,0,0,0,0,3,1,1,0,0,0,0,0,0,0,0,0,0,0,0,0,0,0,0,15.2,"-",11.3,20.5,{"$f":"INDEX(Input_Details!$L$5:$L$24, MATCH($A154, Input_Details!$J$5:$J$24, 0), 0)","v":"Southbound"},"Tues","13:30:00",6,4,0,1,0,0,0,0,0,0,0,0,0,8,3,0,0,0,0,0,0,0,0,0,0,0,0,0,0,0,0,0,13.9,15.9,10.6,19.600000000000001,null,"Tues","13:30:00",8,6,0,2,0,0,0,0,0,0,0,0,0,11,4,1,0,0,0,0,0,0,0,0,0,0,0,0,0,0,0,0,14.30625,15.9,10.6,20.5,2,2,1,0,0,5,6,4,1,0,0,11,8,6,2,0,0,16]
[1,{"$f":"OFFSET(Input_Details!$Q$4,MATCH($A155, Input_Details!$J$5:$J$24, 0), 1)","v":"2017-11-21"},{"$f":"INDEX(Input_Details!$H$5:$H$24, MATCH($A155, Input_Details!$J$5:$J$24, 0), 0)","v":"Meadow Street"},{"$f":"INDEX(Input_Details!$I$5:$I$24, MATCH($A155, Input_Details!$J$5:$J$24, 0), 0)","v":"51.49499,-0.09696"},{"$f":"INDEX(Input_Details!$K$5:$K$24, MATCH($A155, Input_Details!$J$5:$J$24, 0), 0)","v":"Northbound"},"Tues","13:45:00",2,5,0,1,0,0,0,0,0,0,0,0,1,4,1,2,0,0,0,0,0,0,0,0,0,0,0,0,0,0,0,0,14.2,"-",2.8,21.6,{"$f":"INDEX(Input_Details!$L$5:$L$24, MATCH($A155, Input_Details!$J$5:$J$24, 0), 0)","v":"Southbound"},"Tues","13:45:00",5,1,0,0,0,0,0,0,0,0,0,0,2,3,1,0,0,0,0,0,0,0,0,0,0,0,0,0,0,0,0,0,10.8,"-",2.8,16.7,null,"Tues","13:45:00",7,6,0,1,0,0,0,0,0,0,0,0,3,7,2,2,0,0,0,0,0,0,0,0,0,0,0,0,0,0,0,0,12.742857142857144,"-",2.8,21.6,2,5,1,0,0,8,5,1,0,0,0,6,7,6,1,0,0,14]
[1,{"$f":"OFFSET(Input_Details!$Q$4,MATCH($A156, Input_Details!$J$5:$J$24, 0), 1)","v":"2017-11-21"},{"$f":"INDEX(Input_Details!$H$5:$H$24, MATCH($A156, Input_Details!$J$5:$J$24, 0), 0)","v":"Meadow Street"},{"$f":"INDEX(Input_Details!$I$5:$I$24, MATCH($A156, Input_Details!$J$5:$J$24, 0), 0)","v":"51.49499,-0.09696"},{"$f":"INDEX(Input_Details!$K$5:$K$24, MATCH($A156, Input_Details!$J$5:$J$24, 0), 0)","v":"Northbound"},"Tues","14:00:00",3,1,0,0,0,0,0,0,0,0,0,0,0,3,1,0,0,0,0,0,0,0,0,0,0,0,0,0,0,0,0,0,13.7,"-",12.1,18,{"$f":"INDEX(Input_Details!$L$5:$L$24, MATCH($A156, Input_Details!$J$5:$J$24, 0), 0)","v":"Southbound"},"Tues","14:00:00",2,4,0,0,0,0,0,0,0,0,0,0,1,1,1,3,0,0,0,0,0,0,0,0,0,0,0,0,0,0,0,0,17.2,"-",9.9,21.6,null,"Tues","14:00:00",5,5,0,0,0,0,0,0,0,0,0,0,1,4,2,3,0,0,0,0,0,0,0,0,0,0,0,0,0,0,0,0,15.8,"-",9.9,21.6,3,1,0,0,0,4,2,4,0,0,0,6,5,5,0,0,0,10]
[1,{"$f":"OFFSET(Input_Details!$Q$4,MATCH($A157, Input_Details!$J$5:$J$24, 0), 1)","v":"2017-11-21"},{"$f":"INDEX(Input_Details!$H$5:$H$24, MATCH($A157, Input_Details!$J$5:$J$24, 0), 0)","v":"Meadow Street"},{"$f":"INDEX(Input_Details!$I$5:$I$24, MATCH($A157, Input_Details!$J$5:$J$24, 0), 0)","v":"51.49499,-0.09696"},{"$f":"INDEX(Input_Details!$K$5:$K$24, MATCH($A157, Input_Details!$J$5:$J$24, 0), 0)","v":"Northbound"},"Tues","14:15:00",2,1,0,1,0,0,0,0,0,0,0,0,1,1,1,1,0,0,0,0,0,0,0,0,0,0,0,0,0,0,0,0,13.3,"-",4.8,22.1,{"$f":"INDEX(Input_Details!$L$5:$L$24, MATCH($A157, Input_Details!$J$5:$J$24, 0), 0)","v":"Southbound"},"Tues","14:15:00",1,5,0,0,0,0,0,0,0,0,0,0,0,3,3,0,0,0,0,0,0,0,0,0,0,0,0,0,0,0,0,0,15.7,"-",12.7,19.100000000000001,null,"Tues","14:15:00",3,6,0,1,0,0,0,0,0,0,0,0,1,4,4,1,0,0,0,0,0,0,0,0,0,0,0,0,0,0,0,0,14.739999999999998,"-",4.8,22.1,2,1,1,0,0,4,1,5,0,0,0,6,3,6,1,0,0,10]
[1,{"$f":"OFFSET(Input_Details!$Q$4,MATCH($A158, Input_Details!$J$5:$J$24, 0), 1)","v":"2017-11-21"},{"$f":"INDEX(Input_Details!$H$5:$H$24, MATCH($A158, Input_Details!$J$5:$J$24, 0), 0)","v":"Meadow Street"},{"$f":"INDEX(Input_Details!$I$5:$I$24, MATCH($A158, Input_Details!$J$5:$J$24, 0), 0)","v":"51.49499,-0.09696"},{"$f":"INDEX(Input_Details!$K$5:$K$24, MATCH($A158, Input_Details!$J$5:$J$24, 0), 0)","v":"Northbound"},"Tues","14:30:00",2,4,0,0,0,0,0,0,0,0,0,0,1,3,2,0,0,0,0,0,0,0,0,0,0,0,0,0,0,0,0,0,13.8,"-",9.5,17.5,{"$f":"INDEX(Input_Details!$L$5:$L$24, MATCH($A158, Input_Details!$J$5:$J$24, 0), 0)","v":"Southbound"},"Tues","14:30:00",8,2,0,3,0,0,0,0,0,0,0,0,1,4,6,2,0,0,0,0,0,0,0,0,0,0,0,0,0,0,0,0,16,19.2,9.4,23.1,null,"Tues","14:30:00",10,6,0,3,0,0,0,0,0,0,0,0,2,7,8,2,0,0,0,0,0,0,0,0,0,0,0,0,0,0,0,0,15.305263157894737,19.2,9.4,23.1,2,4,0,0,0,6,8,2,3,0,0,13,10,6,3,0,0,19]
[1,{"$f":"OFFSET(Input_Details!$Q$4,MATCH($A159, Input_Details!$J$5:$J$24, 0), 1)","v":"2017-11-21"},{"$f":"INDEX(Input_Details!$H$5:$H$24, MATCH($A159, Input_Details!$J$5:$J$24, 0), 0)","v":"Meadow Street"},{"$f":"INDEX(Input_Details!$I$5:$I$24, MATCH($A159, Input_Details!$J$5:$J$24, 0), 0)","v":"51.49499,-0.09696"},{"$f":"INDEX(Input_Details!$K$5:$K$24, MATCH($A159, Input_Details!$J$5:$J$24, 0), 0)","v":"Northbound"},"Tues","14:45:00",2,5,0,0,0,0,0,0,0,0,0,0,1,4,2,0,0,0,0,0,0,0,0,0,0,0,0,0,0,0,0,0,13.4,"-",8.1999999999999993,18.100000000000001,{"$f":"INDEX(Input_Details!$L$5:$L$24, MATCH($A159, Input_Details!$J$5:$J$24, 0), 0)","v":"Southbound"},"Tues","14:45:00",7,3,0,1,0,0,0,0,0,0,0,0,1,9,1,0,0,0,0,0,0,0,0,0,0,0,0,0,0,0,0,0,12.2,14.3,8.1,16,null,"Tues","14:45:00",9,8,0,1,0,0,0,0,0,0,0,0,2,13,3,0,0,0,0,0,0,0,0,0,0,0,0,0,0,0,0,0,12.666666666666666,14.3,8.1,18.100000000000001,2,5,0,0,0,7,7,3,1,0,0,11,9,8,1,0,0,18]
[1,{"$f":"OFFSET(Input_Details!$Q$4,MATCH($A160, Input_Details!$J$5:$J$24, 0), 1)","v":"2017-11-21"},{"$f":"INDEX(Input_Details!$H$5:$H$24, MATCH($A160, Input_Details!$J$5:$J$24, 0), 0)","v":"Meadow Street"},{"$f":"INDEX(Input_Details!$I$5:$I$24, MATCH($A160, Input_Details!$J$5:$J$24, 0), 0)","v":"51.49499,-0.09696"},{"$f":"INDEX(Input_Details!$K$5:$K$24, MATCH($A160, Input_Details!$J$5:$J$24, 0), 0)","v":"Northbound"},"Tues","15:00:00",0,1,0,2,0,0,0,0,0,0,0,0,2,1,0,0,0,0,0,0,0,0,0,0,0,0,0,0,0,0,0,0,10.5,"-",9.3000000000000007,12.9,{"$f":"INDEX(Input_Details!$L$5:$L$24, MATCH($A160, Input_Details!$J$5:$J$24, 0), 0)","v":"Southbound"},"Tues","15:00:00",3,7,0,0,0,0,0,0,0,0,0,0,0,5,3,2,0,0,0,0,0,0,0,0,0,0,0,0,0,0,0,0,15.5,"-",11.5,23,null,"Tues","15:00:00",3,8,0,2,0,0,0,0,0,0,0,0,2,6,3,2,0,0,0,0,0,0,0,0,0,0,0,0,0,0,0,0,14.346153846153847,"-",9.3000000000000007,23,0,1,2,0,0,3,3,7,0,0,0,10,3,8,2,0,0,13]
[1,{"$f":"OFFSET(Input_Details!$Q$4,MATCH($A161, Input_Details!$J$5:$J$24, 0), 1)","v":"2017-11-21"},{"$f":"INDEX(Input_Details!$H$5:$H$24, MATCH($A161, Input_Details!$J$5:$J$24, 0), 0)","v":"Meadow Street"},{"$f":"INDEX(Input_Details!$I$5:$I$24, MATCH($A161, Input_Details!$J$5:$J$24, 0), 0)","v":"51.49499,-0.09696"},{"$f":"INDEX(Input_Details!$K$5:$K$24, MATCH($A161, Input_Details!$J$5:$J$24, 0), 0)","v":"Northbound"},"Tues","15:15:00",1,4,0,0,0,0,0,0,0,0,0,0,1,4,0,0,0,0,0,0,0,0,0,0,0,0,0,0,0,0,0,0,11.6,"-",7.4,14.6,{"$f":"INDEX(Input_Details!$L$5:$L$24, MATCH($A161, Input_Details!$J$5:$J$24, 0), 0)","v":"Southbound"},"Tues","15:15:00",0,1,0,1,0,0,0,0,0,0,0,0,0,1,1,0,0,0,0,0,0,0,0,0,0,0,0,0,0,0,0,0,13.7,"-",11.2,16.3,null,"Tues","15:15:00",1,5,0,1,0,0,0,0,0,0,0,0,1,5,1,0,0,0,0,0,0,0,0,0,0,0,0,0,0,0,0,0,12.200000000000001,"-",7.4,16.3,1,4,0,0,0,5,0,1,1,0,0,2,1,5,1,0,0,7]
[1,{"$f":"OFFSET(Input_Details!$Q$4,MATCH($A162, Input_Details!$J$5:$J$24, 0), 1)","v":"2017-11-21"},{"$f":"INDEX(Input_Details!$H$5:$H$24, MATCH($A162, Input_Details!$J$5:$J$24, 0), 0)","v":"Meadow Street"},{"$f":"INDEX(Input_Details!$I$5:$I$24, MATCH($A162, Input_Details!$J$5:$J$24, 0), 0)","v":"51.49499,-0.09696"},{"$f":"INDEX(Input_Details!$K$5:$K$24, MATCH($A162, Input_Details!$J$5:$J$24, 0), 0)","v":"Northbound"},"Tues","15:30:00",1,4,0,2,0,0,0,0,0,0,0,0,0,1,3,2,1,0,0,0,0,0,0,0,0,0,0,0,0,0,0,0,19.2,"-",10.3,26.7,{"$f":"INDEX(Input_Details!$L$5:$L$24, MATCH($A162, Input_Details!$J$5:$J$24, 0), 0)","v":"Southbound"},"Tues","15:30:00",2,3,0,2,0,0,0,0,0,0,0,0,1,0,6,0,0,0,0,0,0,0,0,0,0,0,0,0,0,0,0,0,15.9,"-",9.3000000000000007,19.899999999999999,null,"Tues","15:30:00",3,7,0,4,0,0,0,0,0,0,0,0,1,1,9,2,1,0,0,0,0,0,0,0,0,0,0,0,0,0,0,0,17.55,"-",9.3000000000000007,26.7,1,4,2,0,0,7,2,3,2,0,0,7,3,7,4,0,0,14]
[1,{"$f":"OFFSET(Input_Details!$Q$4,MATCH($A163, Input_Details!$J$5:$J$24, 0), 1)","v":"2017-11-21"},{"$f":"INDEX(Input_Details!$H$5:$H$24, MATCH($A163, Input_Details!$J$5:$J$24, 0), 0)","v":"Meadow Street"},{"$f":"INDEX(Input_Details!$I$5:$I$24, MATCH($A163, Input_Details!$J$5:$J$24, 0), 0)","v":"51.49499,-0.09696"},{"$f":"INDEX(Input_Details!$K$5:$K$24, MATCH($A163, Input_Details!$J$5:$J$24, 0), 0)","v":"Northbound"},"Tues","15:45:00",1,5,0,0,0,0,0,0,0,0,0,0,1,1,4,0,0,0,0,0,0,0,0,0,0,0,0,0,0,0,0,0,15.9,"-",9.4,19.8,{"$f":"INDEX(Input_Details!$L$5:$L$24, MATCH($A163, Input_Details!$J$5:$J$24, 0), 0)","v":"Southbound"},"Tues","15:45:00",5,4,0,0,0,0,0,0,0,0,0,0,1,5,3,0,0,0,0,0,0,0,0,0,0,0,0,0,0,0,0,0,13.9,"-",8.6,19.2,null,"Tues","15:45:00",6,9,0,0,0,0,0,0,0,0,0,0,2,6,7,0,0,0,0,0,0,0,0,0,0,0,0,0,0,0,0,0,14.7,"-",8.6,19.8,1,5,0,0,0,6,5,4,0,0,0,9,6,9,0,0,0,15]
[1,{"$f":"OFFSET(Input_Details!$Q$4,MATCH($A164, Input_Details!$J$5:$J$24, 0), 1)","v":"2017-11-21"},{"$f":"INDEX(Input_Details!$H$5:$H$24, MATCH($A164, Input_Details!$J$5:$J$24, 0), 0)","v":"Meadow Street"},{"$f":"INDEX(Input_Details!$I$5:$I$24, MATCH($A164, Input_Details!$J$5:$J$24, 0), 0)","v":"51.49499,-0.09696"},{"$f":"INDEX(Input_Details!$K$5:$K$24, MATCH($A164, Input_Details!$J$5:$J$24, 0), 0)","v":"Northbound"},"Tues","16:00:00",1,3,0,1,0,0,0,0,0,0,0,0,0,2,2,0,1,0,0,0,0,0,0,0,0,0,0,0,0,0,0,0,18.100000000000001,"-",13.2,29.8,{"$f":"INDEX(Input_Details!$L$5:$L$24, MATCH($A164, Input_Details!$J$5:$J$24, 0), 0)","v":"Southbound"},"Tues","16:00:00",3,6,0,1,0,0,0,0,0,0,0,0,0,6,4,0,0,0,0,0,0,0,0,0,0,0,0,0,0,0,0,0,14.1,"-",10.7,17.7,null,"Tues","16:00:00",4,9,0,2,0,0,0,0,0,0,0,0,0,8,6,0,1,0,0,0,0,0,0,0,0,0,0,0,0,0,0,0,15.433333333333334,"-",10.7,29.8,1,3,1,0,0,5,3,6,1,0,0,10,4,9,2,0,0,15]
[1,{"$f":"OFFSET(Input_Details!$Q$4,MATCH($A165, Input_Details!$J$5:$J$24, 0), 1)","v":"2017-11-21"},{"$f":"INDEX(Input_Details!$H$5:$H$24, MATCH($A165, Input_Details!$J$5:$J$24, 0), 0)","v":"Meadow Street"},{"$f":"INDEX(Input_Details!$I$5:$I$24, MATCH($A165, Input_Details!$J$5:$J$24, 0), 0)","v":"51.49499,-0.09696"},{"$f":"INDEX(Input_Details!$K$5:$K$24, MATCH($A165, Input_Details!$J$5:$J$24, 0), 0)","v":"Northbound"},"Tues","16:15:00",null,null,null,null,null,null,null,null,null,null,null,null,null,null,null,null,null,null,null,null,null,null,null,null,null,null,null,null,null,null,null,null,null,null,null,null,{"$f":"INDEX(Input_Details!$L$5:$L$24, MATCH($A165, Input_Details!$J$5:$J$24, 0), 0)","v":"Southbound"},"Tues","16:15:00",null,null,null,null,null,null,null,null,null,null,null,null,null,null,null,null,null,null,null,null,null,null,null,null,null,null,null,null,null,null,null,null,null,null,null,null,null,"Tues","16:15:00","-","-","-","-","-","-","-","-","-","-","-","-","-","-","-","-","-","-","-","-","-","-","-","-","-","-","-","-","-","-","-","-","-","-","-","-","-","-","-","-","-","-","-","-","-","-","-","-","-","-","-","-","-","-"]
[1,{"$f":"OFFSET(Input_Details!$Q$4,MATCH($A166, Input_Details!$J$5:$J$24, 0), 1)","v":"2017-11-21"},{"$f":"INDEX(Input_Details!$H$5:$H$24, MATCH($A166, Input_Details!$J$5:$J$24, 0), 0)","v":"Meadow Street"},{"$f":"INDEX(Input_Details!$I$5:$I$24, MATCH($A166, Input_Details!$J$5:$J$24, 0), 0)","v":"51.49499,-0.09696"},{"$f":"INDEX(Input_Details!$K$5:$K$24, MATCH($A166, Input_Details!$J$5:$J$24, 0), 0)","v":"Northbound"},"Tues","16:30:00",1,1,0,1,0,0,0,0,0,0,0,0,0,2,0,1,0,0,0,0,0,0,0,0,0,0,0,0,0,0,0,0,15.8,"-",10.9,22.6,{"$f":"INDEX(Input_Details!$L$5:$L$24, MATCH($A166, Input_Details!$J$5:$J$24, 0), 0)","v":"Southbound"},"Tues","16:30:00",5,3,0,1,0,0,0,0,0,0,0,0,0,7,2,0,0,0,0,0,0,0,0,0,0,0,0,0,0,0,0,0,12.4,"-",10.1,16.3,null,"Tues","16:30:00",6,4,0,2,0,0,0,0,0,0,0,0,0,9,2,1,0,0,0,0,0,0,0,0,0,0,0,0,0,0,0,0,13.25,"-",10.1,22.6,1,1,1,0,0,3,5,3,1,0,0,9,6,4,2,0,0,12]
[1,{"$f":"OFFSET(Input_Details!$Q$4,MATCH($A167, Input_Details!$J$5:$J$24, 0), 1)","v":"2017-11-21"},{"$f":"INDEX(Input_Details!$H$5:$H$24, MATCH($A167, Input_Details!$J$5:$J$24, 0), 0)","v":"Meadow Street"},{"$f":"INDEX(Input_Details!$I$5:$I$24, MATCH($A167, Input_Details!$J$5:$J$24, 0), 0)","v":"51.49499,-0.09696"},{"$f":"INDEX(Input_Details!$K$5:$K$24, MATCH($A167, Input_Details!$J$5:$J$24, 0), 0)","v":"Northbound"},"Tues","16:45:00",2,7,0,1,0,0,0,0,0,0,0,0,0,3,6,1,0,0,0,0,0,0,0,0,0,0,0,0,0,0,0,0,16.3,"-",10.6,21.2,{"$f":"INDEX(Input_Details!$L$5:$L$24, MATCH($A167, Input_Details!$J$5:$J$24, 0), 0)","v":"Southbound"},"Tues","16:45:00",13,4,0,0,0,2,0,0,0,0,0,0,2,15,2,0,0,0,0,0,0,0,0,0,0,0,0,0,0,0,0,0,12.6,14.3,7.7,17.899999999999999,null,"Tues","16:45:00",15,11,0,1,0,2,0,0,0,0,0,0,2,18,8,1,0,0,0,0,0,0,0,0,0,0,0,0,0,0,0,0,13.875862068965516,14.3,7.7,21.2,2,7,1,0,0,10,13,4,0,0,2,19,15,11,1,0,2,29]
[1,{"$f":"OFFSET(Input_Details!$Q$4,MATCH($A168, Input_Details!$J$5:$J$24, 0), 1)","v":"2017-11-21"},{"$f":"INDEX(Input_Details!$H$5:$H$24, MATCH($A168, Input_Details!$J$5:$J$24, 0), 0)","v":"Meadow Street"},{"$f":"INDEX(Input_Details!$I$5:$I$24, MATCH($A168, Input_Details!$J$5:$J$24, 0), 0)","v":"51.49499,-0.09696"},{"$f":"INDEX(Input_Details!$K$5:$K$24, MATCH($A168, Input_Details!$J$5:$J$24, 0), 0)","v":"Northbound"},"Tues","17:00:00",1,3,0,0,0,0,0,0,0,0,0,0,0,1,1,2,0,0,0,0,0,0,0,0,0,0,0,0,0,0,0,0,18.100000000000001,"-",14.9,21.1,{"$f":"INDEX(Input_Details!$L$5:$L$24, MATCH($A168, Input_Details!$J$5:$J$24, 0), 0)","v":"Southbound"},"Tues","17:00:00",9,7,0,0,0,0,0,0,0,0,0,0,0,8,5,3,0,0,0,0,0,0,0,0,0,0,0,0,0,0,0,0,15.9,20.6,11.5,21.9,null,"Tues","17:00:00",10,10,0,0,0,0,0,0,0,0,0,0,0,9,6,5,0,0,0,0,0,0,0,0,0,0,0,0,0,0,0,0,16.34,20.6,11.5,21.9,1,3,0,0,0,4,9,7,0,0,0,16,10,10,0,0,0,20]
[1,{"$f":"OFFSET(Input_Details!$Q$4,MATCH($A169, Input_Details!$J$5:$J$24, 0), 1)","v":"2017-11-21"},{"$f":"INDEX(Input_Details!$H$5:$H$24, MATCH($A169, Input_Details!$J$5:$J$24, 0), 0)","v":"Meadow Street"},{"$f":"INDEX(Input_Details!$I$5:$I$24, MATCH($A169, Input_Details!$J$5:$J$24, 0), 0)","v":"51.49499,-0.09696"},{"$f":"INDEX(Input_Details!$K$5:$K$24, MATCH($A169, Input_Details!$J$5:$J$24, 0), 0)","v":"Northbound"},"Tues","17:15:00",2,3,0,0,0,0,0,0,0,0,0,0,0,4,0,1,0,0,0,0,0,0,0,0,0,0,0,0,0,0,0,0,15.5,"-",12.3,22.1,{"$f":"INDEX(Input_Details!$L$5:$L$24, MATCH($A169, Input_Details!$J$5:$J$24, 0), 0)","v":"Southbound"},"Tues","17:15:00",17,5,0,1,0,3,0,0,0,0,0,0,1,20,5,0,0,0,0,0,0,0,0,0,0,0,0,0,0,0,0,0,13.1,15.7,9.3000000000000007,18.5,null,"Tues","17:15:00",19,8,0,1,0,3,0,0,0,0,0,0,1,24,5,1,0,0,0,0,0,0,0,0,0,0,0,0,0,0,0,0,13.487096774193548,15.7,9.3000000000000007,22.1,2,3,0,0,0,5,17,5,1,0,3,26,19,8,1,0,3,31]
[1,{"$f":"OFFSET(Input_Details!$Q$4,MATCH($A170, Input_Details!$J$5:$J$24, 0), 1)","v":"2017-11-21"},{"$f":"INDEX(Input_Details!$H$5:$H$24, MATCH($A170, Input_Details!$J$5:$J$24, 0), 0)","v":"Meadow Street"},{"$f":"INDEX(Input_Details!$I$5:$I$24, MATCH($A170, Input_Details!$J$5:$J$24, 0), 0)","v":"51.49499,-0.09696"},{"$f":"INDEX(Input_Details!$K$5:$K$24, MATCH($A170, Input_Details!$J$5:$J$24, 0), 0)","v":"Northbound"},"Tues","17:30:00",2,7,0,0,0,0,0,0,0,0,0,0,1,5,3,0,0,0,0,0,0,0,0,0,0,0,0,0,0,0,0,0,13.8,"-",9.3000000000000007,19.600000000000001,{"$f":"INDEX(Input_Details!$L$5:$L$24, MATCH($A170, Input_Details!$J$5:$J$24, 0), 0)","v":"Southbound"},"Tues","17:30:00",13,5,0,0,0,5,0,0,0,1,0,0,4,18,2,0,0,0,0,0,0,0,0,0,0,0,0,0,0,0,0,0,12.2,13.9,6.3,16.7,null,"Tues","17:30:00",15,12,0,0,0,5,0,0,0,1,0,0,5,23,5,0,0,0,0,0,0,0,0,0,0,0,0,0,0,0,0,0,12.636363636363635,13.9,6.3,19.600000000000001,2,7,0,0,0,9,13,5,0,0,6,24,15,12,0,0,6,33]
[1,{"$f":"OFFSET(Input_Details!$Q$4,MATCH($A171, Input_Details!$J$5:$J$24, 0), 1)","v":"2017-11-21"},{"$f":"INDEX(Input_Details!$H$5:$H$24, MATCH($A171, Input_Details!$J$5:$J$24, 0), 0)","v":"Meadow Street"},{"$f":"INDEX(Input_Details!$I$5:$I$24, MATCH($A171, Input_Details!$J$5:$J$24, 0), 0)","v":"51.49499,-0.09696"},{"$f":"INDEX(Input_Details!$K$5:$K$24, MATCH($A171, Input_Details!$J$5:$J$24, 0), 0)","v":"Northbound"},"Tues","17:45:00",4,5,0,1,0,0,0,0,0,0,0,0,2,4,4,0,0,0,0,0,0,0,0,0,0,0,0,0,0,0,0,0,13.1,"-",8.6,16.3,{"$f":"INDEX(Input_Details!$L$5:$L$24, MATCH($A171, Input_Details!$J$5:$J$24, 0), 0)","v":"Southbound"},"Tues","17:45:00",24,11,0,0,1,4,0,0,0,1,0,0,3,23,15,0,0,0,0,0,0,0,0,0,0,0,0,0,0,0,0,0,13.8,15.9,9.4,18.100000000000001,null,"Tues","17:45:00",28,16,0,1,1,4,0,0,0,1,0,0,5,27,19,0,0,0,0,0,0,0,0,0,0,0,0,0,0,0,0,0,13.662745098039217,15.9,8.6,18.100000000000001,4,5,1,0,0,10,24,11,0,1,5,41,28,16,1,1,5,51]
[1,{"$f":"OFFSET(Input_Details!$Q$4,MATCH($A172, Input_Details!$J$5:$J$24, 0), 1)","v":"2017-11-21"},{"$f":"INDEX(Input_Details!$H$5:$H$24, MATCH($A172, Input_Details!$J$5:$J$24, 0), 0)","v":"Meadow Street"},{"$f":"INDEX(Input_Details!$I$5:$I$24, MATCH($A172, Input_Details!$J$5:$J$24, 0), 0)","v":"51.49499,-0.09696"},{"$f":"INDEX(Input_Details!$K$5:$K$24, MATCH($A172, Input_Details!$J$5:$J$24, 0), 0)","v":"Northbound"},"Tues","18:00:00",3,8,0,1,0,0,0,0,0,0,0,0,1,7,3,1,0,0,0,0,0,0,0,0,0,0,0,0,0,0,0,0,13.2,15.7,6.9,20.6,{"$f":"INDEX(Input_Details!$L$5:$L$24, MATCH($A172, Input_Details!$J$5:$J$24, 0), 0)","v":"Southbound"},"Tues","18:00:00",27,8,1,1,0,8,0,0,0,3,0,0,5,36,7,0,0,0,0,0,0,0,0,0,0,0,0,0,0,0,0,0,12.9,14.8,8.1999999999999993,18.7,null,"Tues","18:00:00",30,16,1,2,0,8,0,0,0,3,0,0,6,43,10,1,0,0,0,0,0,0,0,0,0,0,0,0,0,0,0,0,12.96,15.25,6.9,20.6,3,8,1,0,0,12,27,9,1,0,11,48,30,17,2,0,11,60]
[1,{"$f":"OFFSET(Input_Details!$Q$4,MATCH($A173, Input_Details!$J$5:$J$24, 0), 1)","v":"2017-11-21"},{"$f":"INDEX(Input_Details!$H$5:$H$24, MATCH($A173, Input_Details!$J$5:$J$24, 0), 0)","v":"Meadow Street"},{"$f":"INDEX(Input_Details!$I$5:$I$24, MATCH($A173, Input_Details!$J$5:$J$24, 0), 0)","v":"51.49499,-0.09696"},{"$f":"INDEX(Input_Details!$K$5:$K$24, MATCH($A173, Input_Details!$J$5:$J$24, 0), 0)","v":"Northbound"},"Tues","18:15:00",2,6,0,0,0,0,0,0,0,0,0,0,0,5,2,1,0,0,0,0,0,0,0,0,0,0,0,0,0,0,0,0,15.3,"-",10.5,20.9,{"$f":"INDEX(Input_Details!$L$5:$L$24, MATCH($A173, Input_Details!$J$5:$J$24, 0), 0)","v":"Southbound"},"Tues","18:15:00",26,7,0,0,1,5,0,0,0,2,0,0,2,31,7,1,0,0,0,0,0,0,0,0,0,0,0,0,0,0,0,0,13.2,15.4,8.1999999999999993,20.2,null,"Tues","18:15:00",28,13,0,0,1,5,0,0,0,2,0,0,2,36,9,2,0,0,0,0,0,0,0,0,0,0,0,0,0,0,0,0,13.542857142857141,15.4,8.1999999999999993,20.9,2,6,0,0,0,8,26,7,0,1,7,41,28,13,0,1,7,49]
[1,{"$f":"OFFSET(Input_Details!$Q$4,MATCH($A174, Input_Details!$J$5:$J$24, 0), 1)","v":"2017-11-21"},{"$f":"INDEX(Input_Details!$H$5:$H$24, MATCH($A174, Input_Details!$J$5:$J$24, 0), 0)","v":"Meadow Street"},{"$f":"INDEX(Input_Details!$I$5:$I$24, MATCH($A174, Input_Details!$J$5:$J$24, 0), 0)","v":"51.49499,-0.09696"},{"$f":"INDEX(Input_Details!$K$5:$K$24, MATCH($A174, Input_Details!$J$5:$J$24, 0), 0)","v":"Northbound"},"Tues","18:30:00",4,2,0,1,0,1,0,0,0,0,0,0,2,5,1,0,0,0,0,0,0,0,0,0,0,0,0,0,0,0,0,0,12.1,"-",6.9,18,{"$f":"INDEX(Input_Details!$L$5:$L$24, MATCH($A174, Input_Details!$J$5:$J$24, 0), 0)","v":"Southbound"},"Tues","18:30:00",26,5,0,0,0,6,0,0,1,0,0,0,1,29,6,2,0,0,0,0,0,0,0,0,0,0,0,0,0,0,0,0,13.5,15.4,9.8000000000000007,23,null,"Tues","18:30:00",30,7,0,1,0,7,0,0,1,0,0,0,3,34,7,2,0,0,0,0,0,0,0,0,0,0,0,0,0,0,0,0,13.256521739130434,15.4,6.9,23,4,2,1,0,1,8,26,5,0,0,7,38,30,7,1,0,8,46]
[1,{"$f":"OFFSET(Input_Details!$Q$4,MATCH($A175, Input_Details!$J$5:$J$24, 0), 1)","v":"2017-11-21"},{"$f":"INDEX(Input_Details!$H$5:$H$24, MATCH($A175, Input_Details!$J$5:$J$24, 0), 0)","v":"Meadow Street"},{"$f":"INDEX(Input_Details!$I$5:$I$24, MATCH($A175, Input_Details!$J$5:$J$24, 0), 0)","v":"51.49499,-0.09696"},{"$f":"INDEX(Input_Details!$K$5:$K$24, MATCH($A175, Input_Details!$J$5:$J$24, 0), 0)","v":"Northbound"},"Tues","18:45:00",7,5,0,1,0,0,0,0,0,0,0,0,2,9,1,1,0,0,0,0,0,0,0,0,0,0,0,0,0,0,0,0,12.9,14.8,6.2,21.4,{"$f":"INDEX(Input_Details!$L$5:$L$24, MATCH($A175, Input_Details!$J$5:$J$24, 0), 0)","v":"Southbound"},"Tues","18:45:00",22,5,0,1,0,5,0,0,0,0,0,0,3,23,6,1,0,0,0,0,0,0,0,0,0,0,0,0,0,0,0,0,13.7,17.399999999999999,7.1,23.6,null,"Tues","18:45:00",29,10,0,2,0,5,0,0,0,0,0,0,5,32,7,2,0,0,0,0,0,0,0,0,0,0,0,0,0,0,0,0,13.473913043478261,16.100000000000001,6.2,23.6,7,5,1,0,0,13,22,5,1,0,5,33,29,10,2,0,5,46]
[1,{"$f":"OFFSET(Input_Details!$Q$4,MATCH($A176, Input_Details!$J$5:$J$24, 0), 1)","v":"2017-11-21"},{"$f":"INDEX(Input_Details!$H$5:$H$24, MATCH($A176, Input_Details!$J$5:$J$24, 0), 0)","v":"Meadow Street"},{"$f":"INDEX(Input_Details!$I$5:$I$24, MATCH($A176, Input_Details!$J$5:$J$24, 0), 0)","v":"51.49499,-0.09696"},{"$f":"INDEX(Input_Details!$K$5:$K$24, MATCH($A176, Input_Details!$J$5:$J$24, 0), 0)","v":"Northbound"},"Tues","19:00:00",0,5,0,0,0,0,0,0,0,0,0,0,0,3,1,1,0,0,0,0,0,0,0,0,0,0,0,0,0,0,0,0,15.3,"-",11,20.7,{"$f":"INDEX(Input_Details!$L$5:$L$24, MATCH($A176, Input_Details!$J$5:$J$24, 0), 0)","v":"Southbound"},"Tues","19:00:00",15,5,0,1,1,4,0,0,0,0,0,0,2,19,4,1,0,0,0,0,0,0,0,0,0,0,0,0,0,0,0,0,13.3,15.4,9.6,23.6,null,"Tues","19:00:00",15,10,0,1,1,4,0,0,0,0,0,0,2,22,5,2,0,0,0,0,0,0,0,0,0,0,0,0,0,0,0,0,13.622580645161291,15.4,9.6,23.6,0,5,0,0,0,5,15,5,1,1,4,26,15,10,1,1,4,31]
[1,{"$f":"OFFSET(Input_Details!$Q$4,MATCH($A177, Input_Details!$J$5:$J$24, 0), 1)","v":"2017-11-21"},{"$f":"INDEX(Input_Details!$H$5:$H$24, MATCH($A177, Input_Details!$J$5:$J$24, 0), 0)","v":"Meadow Street"},{"$f":"INDEX(Input_Details!$I$5:$I$24, MATCH($A177, Input_Details!$J$5:$J$24, 0), 0)","v":"51.49499,-0.09696"},{"$f":"INDEX(Input_Details!$K$5:$K$24, MATCH($A177, Input_Details!$J$5:$J$24, 0), 0)","v":"Northbound"},"Tues","19:15:00",4,5,0,0,0,0,0,0,0,0,0,0,1,6,1,1,0,0,0,0,0,0,0,0,0,0,0,0,0,0,0,0,14.5,"-",8.6,22.6,{"$f":"INDEX(Input_Details!$L$5:$L$24, MATCH($A177, Input_Details!$J$5:$J$24, 0), 0)","v":"Southbound"},"Tues","19:15:00",20,4,0,0,0,2,0,0,0,1,0,0,2,18,7,0,0,0,0,0,0,0,0,0,0,0,0,0,0,0,0,0,13.3,15.4,9.4,17.399999999999999,null,"Tues","19:15:00",24,9,0,0,0,2,0,0,0,1,0,0,3,24,8,1,0,0,0,0,0,0,0,0,0,0,0,0,0,0,0,0,13.600000000000001,15.4,8.6,22.6,4,5,0,0,0,9,20,4,0,0,3,27,24,9,0,0,3,36]
[1,{"$f":"OFFSET(Input_Details!$Q$4,MATCH($A178, Input_Details!$J$5:$J$24, 0), 1)","v":"2017-11-21"},{"$f":"INDEX(Input_Details!$H$5:$H$24, MATCH($A178, Input_Details!$J$5:$J$24, 0), 0)","v":"Meadow Street"},{"$f":"INDEX(Input_Details!$I$5:$I$24, MATCH($A178, Input_Details!$J$5:$J$24, 0), 0)","v":"51.49499,-0.09696"},{"$f":"INDEX(Input_Details!$K$5:$K$24, MATCH($A178, Input_Details!$J$5:$J$24, 0), 0)","v":"Northbound"},"Tues","19:30:00",4,4,0,0,0,0,0,0,0,0,0,0,2,3,3,0,0,0,0,0,0,0,0,0,0,0,0,0,0,0,0,0,13.3,"-",9.3000000000000007,17.399999999999999,{"$f":"INDEX(Input_Details!$L$5:$L$24, MATCH($A178, Input_Details!$J$5:$J$24, 0), 0)","v":"Southbound"},"Tues","19:30:00",9,8,0,1,0,7,0,0,0,0,0,0,2,20,3,0,0,0,0,0,0,0,0,0,0,0,0,0,0,0,0,0,12.9,14.8,7.9,19,null,"Tues","19:30:00",13,12,0,1,0,7,0,0,0,0,0,0,4,23,6,0,0,0,0,0,0,0,0,0,0,0,0,0,0,0,0,0,12.996969696969696,14.8,7.9,19,4,4,0,0,0,8,9,8,1,0,7,25,13,12,1,0,7,33]
[1,{"$f":"OFFSET(Input_Details!$Q$4,MATCH($A179, Input_Details!$J$5:$J$24, 0), 1)","v":"2017-11-21"},{"$f":"INDEX(Input_Details!$H$5:$H$24, MATCH($A179, Input_Details!$J$5:$J$24, 0), 0)","v":"Meadow Street"},{"$f":"INDEX(Input_Details!$I$5:$I$24, MATCH($A179, Input_Details!$J$5:$J$24, 0), 0)","v":"51.49499,-0.09696"},{"$f":"INDEX(Input_Details!$K$5:$K$24, MATCH($A179, Input_Details!$J$5:$J$24, 0), 0)","v":"Northbound"},"Tues","19:45:00",1,5,0,3,0,0,0,0,0,0,0,0,0,7,2,0,0,0,0,0,0,0,0,0,0,0,0,0,0,0,0,0,14,"-",12.2,17.2,{"$f":"INDEX(Input_Details!$L$5:$L$24, MATCH($A179, Input_Details!$J$5:$J$24, 0), 0)","v":"Southbound"},"Tues","19:45:00",14,4,0,0,0,2,0,0,0,0,0,0,1,17,2,0,0,0,0,0,0,0,0,0,0,0,0,0,0,0,0,0,12.6,13.6,8.8000000000000007,15.5,null,"Tues","19:45:00",15,9,0,3,0,2,0,0,0,0,0,0,1,24,4,0,0,0,0,0,0,0,0,0,0,0,0,0,0,0,0,0,13.03448275862069,13.6,8.8000000000000007,17.2,1,5,3,0,0,9,14,4,0,0,2,20,15,9,3,0,2,29]
[1,{"$f":"OFFSET(Input_Details!$Q$4,MATCH($A180, Input_Details!$J$5:$J$24, 0), 1)","v":"2017-11-21"},{"$f":"INDEX(Input_Details!$H$5:$H$24, MATCH($A180, Input_Details!$J$5:$J$24, 0), 0)","v":"Meadow Street"},{"$f":"INDEX(Input_Details!$I$5:$I$24, MATCH($A180, Input_Details!$J$5:$J$24, 0), 0)","v":"51.49499,-0.09696"},{"$f":"INDEX(Input_Details!$K$5:$K$24, MATCH($A180, Input_Details!$J$5:$J$24, 0), 0)","v":"Northbound"},"Tues","20:00:00",0,6,0,0,0,0,0,0,0,0,0,0,0,1,3,2,0,0,0,0,0,0,0,0,0,0,0,0,0,0,0,0,17.8,"-",10.4,23.3,{"$f":"INDEX(Input_Details!$L$5:$L$24, MATCH($A180, Input_Details!$J$5:$J$24, 0), 0)","v":"Southbound"},"Tues","20:00:00",11,9,0,0,0,1,0,0,0,0,0,0,2,13,4,2,0,0,0,0,0,0,0,0,0,0,0,0,0,0,0,0,13.9,19.7,6.9,22.9,null,"Tues","20:00:00",11,15,0,0,0,1,0,0,0,0,0,0,2,14,7,4,0,0,0,0,0,0,0,0,0,0,0,0,0,0,0,0,14.766666666666667,19.7,6.9,23.3,0,6,0,0,0,6,11,9,0,0,1,21,11,15,0,0,1,27]
[1,{"$f":"OFFSET(Input_Details!$Q$4,MATCH($A181, Input_Details!$J$5:$J$24, 0), 1)","v":"2017-11-21"},{"$f":"INDEX(Input_Details!$H$5:$H$24, MATCH($A181, Input_Details!$J$5:$J$24, 0), 0)","v":"Meadow Street"},{"$f":"INDEX(Input_Details!$I$5:$I$24, MATCH($A181, Input_Details!$J$5:$J$24, 0), 0)","v":"51.49499,-0.09696"},{"$f":"INDEX(Input_Details!$K$5:$K$24, MATCH($A181, Input_Details!$J$5:$J$24, 0), 0)","v":"Northbound"},"Tues","20:15:00",1,2,0,0,0,0,0,0,0,0,0,0,1,1,0,1,0,0,0,0,0,0,0,0,0,0,0,0,0,0,0,0,14.4,"-",9.6,21.6,{"$f":"INDEX(Input_Details!$L$5:$L$24, MATCH($A181, Input_Details!$J$5:$J$24, 0), 0)","v":"Southbound"},"Tues","20:15:00",3,1,0,0,0,0,0,0,0,0,0,0,1,3,0,0,0,0,0,0,0,0,0,0,0,0,0,0,0,0,0,0,11.5,"-",8.3000000000000007,13.2,null,"Tues","20:15:00",4,3,0,0,0,0,0,0,0,0,0,0,2,4,0,1,0,0,0,0,0,0,0,0,0,0,0,0,0,0,0,0,12.742857142857144,"-",8.3000000000000007,21.6,1,2,0,0,0,3,3,1,0,0,0,4,4,3,0,0,0,7]
[1,{"$f":"OFFSET(Input_Details!$Q$4,MATCH($A182, Input_Details!$J$5:$J$24, 0), 1)","v":"2017-11-21"},{"$f":"INDEX(Input_Details!$H$5:$H$24, MATCH($A182, Input_Details!$J$5:$J$24, 0), 0)","v":"Meadow Street"},{"$f":"INDEX(Input_Details!$I$5:$I$24, MATCH($A182, Input_Details!$J$5:$J$24, 0), 0)","v":"51.49499,-0.09696"},{"$f":"INDEX(Input_Details!$K$5:$K$24, MATCH($A182, Input_Details!$J$5:$J$24, 0), 0)","v":"Northbound"},"Tues","20:30:00",0,6,0,0,0,0,0,0,0,0,0,0,1,2,2,1,0,0,0,0,0,0,0,0,0,0,0,0,0,0,0,0,14.8,"-",8.9,21,{"$f":"INDEX(Input_Details!$L$5:$L$24, MATCH($A182, Input_Details!$J$5:$J$24, 0), 0)","v":"Southbound"},"Tues","20:30:00",7,3,0,1,0,4,0,0,0,0,0,0,2,11,2,0,0,0,0,0,0,0,0,0,0,0,0,0,0,0,0,0,13,13.6,9.5,18.399999999999999,null,"Tues","20:30:00",7,9,0,1,0,4,0,0,0,0,0,0,3,13,4,1,0,0,0,0,0,0,0,0,0,0,0,0,0,0,0,0,13.514285714285714,13.6,8.9,21,0,6,0,0,0,6,7,3,1,0,4,15,7,9,1,0,4,21]
[1,{"$f":"OFFSET(Input_Details!$Q$4,MATCH($A183, Input_Details!$J$5:$J$24, 0), 1)","v":"2017-11-21"},{"$f":"INDEX(Input_Details!$H$5:$H$24, MATCH($A183, Input_Details!$J$5:$J$24, 0), 0)","v":"Meadow Street"},{"$f":"INDEX(Input_Details!$I$5:$I$24, MATCH($A183, Input_Details!$J$5:$J$24, 0), 0)","v":"51.49499,-0.09696"},{"$f":"INDEX(Input_Details!$K$5:$K$24, MATCH($A183, Input_Details!$J$5:$J$24, 0), 0)","v":"Northbound"},"Tues","20:45:00",1,3,0,0,0,0,0,0,0,0,0,0,1,3,0,0,0,0,0,0,0,0,0,0,0,0,0,0,0,0,0,0,11.3,"-",8.6,14.3,{"$f":"INDEX(Input_Details!$L$5:$L$24, MATCH($A183, Input_Details!$J$5:$J$24, 0), 0)","v":"Southbound"},"Tues","20:45:00",6,2,0,0,0,0,0,0,0,0,0,0,0,5,3,0,0,0,0,0,0,0,0,0,0,0,0,0,0,0,0,0,14.8,"-",11.8,18.899999999999999,null,"Tues","20:45:00",7,5,0,0,0,0,0,0,0,0,0,0,1,8,3,0,0,0,0,0,0,0,0,0,0,0,0,0,0,0,0,0,13.633333333333335,"-",8.6,18.899999999999999,1,3,0,0,0,4,6,2,0,0,0,8,7,5,0,0,0,12]
[1,{"$f":"OFFSET(Input_Details!$Q$4,MATCH($A184, Input_Details!$J$5:$J$24, 0), 1)","v":"2017-11-21"},{"$f":"INDEX(Input_Details!$H$5:$H$24, MATCH($A184, Input_Details!$J$5:$J$24, 0), 0)","v":"Meadow Street"},{"$f":"INDEX(Input_Details!$I$5:$I$24, MATCH($A184, Input_Details!$J$5:$J$24, 0), 0)","v":"51.49499,-0.09696"},{"$f":"INDEX(Input_Details!$K$5:$K$24, MATCH($A184, Input_Details!$J$5:$J$24, 0), 0)","v":"Northbound"},"Tues","21:00:00",0,1,0,0,0,0,0,0,0,0,0,0,1,0,0,0,0,0,0,0,0,0,0,0,0,0,0,0,0,0,0,0,8.4,"-",8.4,8.4,{"$f":"INDEX(Input_Details!$L$5:$L$24, MATCH($A184, Input_Details!$J$5:$J$24, 0), 0)","v":"Southbound"},"Tues","21:00:00",3,4,0,0,0,0,0,0,0,0,0,0,2,3,2,0,0,0,0,0,0,0,0,0,0,0,0,0,0,0,0,0,13.6,"-",7.7,18.399999999999999,null,"Tues","21:00:00",3,5,0,0,0,0,0,0,0,0,0,0,3,3,2,0,0,0,0,0,0,0,0,0,0,0,0,0,0,0,0,0,12.950000000000001,"-",7.7,18.399999999999999,0,1,0,0,0,1,3,4,0,0,0,7,3,5,0,0,0,8]
[1,{"$f":"OFFSET(Input_Details!$Q$4,MATCH($A185, Input_Details!$J$5:$J$24, 0), 1)","v":"2017-11-21"},{"$f":"INDEX(Input_Details!$H$5:$H$24, MATCH($A185, Input_Details!$J$5:$J$24, 0), 0)","v":"Meadow Street"},{"$f":"INDEX(Input_Details!$I$5:$I$24, MATCH($A185, Input_Details!$J$5:$J$24, 0), 0)","v":"51.49499,-0.09696"},{"$f":"INDEX(Input_Details!$K$5:$K$24, MATCH($A185, Input_Details!$J$5:$J$24, 0), 0)","v":"Northbound"},"Tues","21:15:00",1,7,0,0,0,0,0,0,0,0,0,0,2,3,1,2,0,0,0,0,0,0,0,0,0,0,0,0,0,0,0,0,13.8,"-",4.0999999999999996,21.5,{"$f":"INDEX(Input_Details!$L$5:$L$24, MATCH($A185, Input_Details!$J$5:$J$24, 0), 0)","v":"Southbound"},"Tues","21:15:00",3,4,0,0,0,0,0,0,0,0,0,0,3,3,1,0,0,0,0,0,0,0,0,0,0,0,0,0,0,0,0,0,11.1,"-",4.0999999999999996,20,null,"Tues","21:15:00",4,11,0,0,0,0,0,0,0,0,0,0,5,6,2,2,0,0,0,0,0,0,0,0,0,0,0,0,0,0,0,0,12.540000000000001,"-",4.0999999999999996,21.5,1,7,0,0,0,8,3,4,0,0,0,7,4,11,0,0,0,15]
[1,{"$f":"OFFSET(Input_Details!$Q$4,MATCH($A186, Input_Details!$J$5:$J$24, 0), 1)","v":"2017-11-21"},{"$f":"INDEX(Input_Details!$H$5:$H$24, MATCH($A186, Input_Details!$J$5:$J$24, 0), 0)","v":"Meadow Street"},{"$f":"INDEX(Input_Details!$I$5:$I$24, MATCH($A186, Input_Details!$J$5:$J$24, 0), 0)","v":"51.49499,-0.09696"},{"$f":"INDEX(Input_Details!$K$5:$K$24, MATCH($A186, Input_Details!$J$5:$J$24, 0), 0)","v":"Northbound"},"Tues","21:30:00",2,2,0,0,0,0,0,0,0,0,0,0,2,1,1,0,0,0,0,0,0,0,0,0,0,0,0,0,0,0,0,0,11.9,"-",8.4,19.2,{"$f":"INDEX(Input_Details!$L$5:$L$24, MATCH($A186, Input_Details!$J$5:$J$24, 0), 0)","v":"Southbound"},"Tues","21:30:00",9,4,0,0,0,0,0,0,0,0,0,0,4,5,2,2,0,0,0,0,0,0,0,0,0,0,0,0,0,0,0,0,13.3,16.8,7.8,23,null,"Tues","21:30:00",11,6,0,0,0,0,0,0,0,0,0,0,6,6,3,2,0,0,0,0,0,0,0,0,0,0,0,0,0,0,0,0,12.970588235294118,16.8,7.8,23,2,2,0,0,0,4,9,4,0,0,0,13,11,6,0,0,0,17]
[1,{"$f":"OFFSET(Input_Details!$Q$4,MATCH($A187, Input_Details!$J$5:$J$24, 0), 1)","v":"2017-11-21"},{"$f":"INDEX(Input_Details!$H$5:$H$24, MATCH($A187, Input_Details!$J$5:$J$24, 0), 0)","v":"Meadow Street"},{"$f":"INDEX(Input_Details!$I$5:$I$24, MATCH($A187, Input_Details!$J$5:$J$24, 0), 0)","v":"51.49499,-0.09696"},{"$f":"INDEX(Input_Details!$K$5:$K$24, MATCH($A187, Input_Details!$J$5:$J$24, 0), 0)","v":"Northbound"},"Tues","21:45:00",3,4,0,0,0,0,0,0,0,0,0,0,1,4,2,0,0,0,0,0,0,0,0,0,0,0,0,0,0,0,0,0,12.6,"-",8.1999999999999993,17.600000000000001,{"$f":"INDEX(Input_Details!$L$5:$L$24, MATCH($A187, Input_Details!$J$5:$J$24, 0), 0)","v":"Southbound"},"Tues","21:45:00",6,3,0,0,0,0,0,0,0,0,0,0,1,6,1,1,0,0,0,0,0,0,0,0,0,0,0,0,0,0,0,0,13.9,"-",9.5,20.3,null,"Tues","21:45:00",9,7,0,0,0,0,0,0,0,0,0,0,2,10,3,1,0,0,0,0,0,0,0,0,0,0,0,0,0,0,0,0,13.331250000000001,"-",8.1999999999999993,20.3,3,4,0,0,0,7,6,3,0,0,0,9,9,7,0,0,0,16]
[1,{"$f":"OFFSET(Input_Details!$Q$4,MATCH($A188, Input_Details!$J$5:$J$24, 0), 1)","v":"2017-11-21"},{"$f":"INDEX(Input_Details!$H$5:$H$24, MATCH($A188, Input_Details!$J$5:$J$24, 0), 0)","v":"Meadow Street"},{"$f":"INDEX(Input_Details!$I$5:$I$24, MATCH($A188, Input_Details!$J$5:$J$24, 0), 0)","v":"51.49499,-0.09696"},{"$f":"INDEX(Input_Details!$K$5:$K$24, MATCH($A188, Input_Details!$J$5:$J$24, 0), 0)","v":"Northbound"},"Tues","22:00:00",0,1,0,0,0,0,0,0,0,0,0,0,0,0,1,0,0,0,0,0,0,0,0,0,0,0,0,0,0,0,0,0,18.600000000000001,"-",18.600000000000001,18.600000000000001,{"$f":"INDEX(Input_Details!$L$5:$L$24, MATCH($A188, Input_Details!$J$5:$J$24, 0), 0)","v":"Southbound"},"Tues","22:00:00",8,2,0,0,0,0,0,0,0,0,0,0,3,7,0,0,0,0,0,0,0,0,0,0,0,0,0,0,0,0,0,0,10.7,"-",7.9,12.8,null,"Tues","22:00:00",8,3,0,0,0,0,0,0,0,0,0,0,3,7,1,0,0,0,0,0,0,0,0,0,0,0,0,0,0,0,0,0,11.418181818181818,"-",7.9,18.600000000000001,0,1,0,0,0,1,8,2,0,0,0,10,8,3,0,0,0,11]
[1,{"$f":"OFFSET(Input_Details!$Q$4,MATCH($A189, Input_Details!$J$5:$J$24, 0), 1)","v":"2017-11-21"},{"$f":"INDEX(Input_Details!$H$5:$H$24, MATCH($A189, Input_Details!$J$5:$J$24, 0), 0)","v":"Meadow Street"},{"$f":"INDEX(Input_Details!$I$5:$I$24, MATCH($A189, Input_Details!$J$5:$J$24, 0), 0)","v":"51.49499,-0.09696"},{"$f":"INDEX(Input_Details!$K$5:$K$24, MATCH($A189, Input_Details!$J$5:$J$24, 0), 0)","v":"Northbound"},"Tues","22:15:00",3,3,0,0,0,0,0,0,0,0,0,0,2,4,0,0,0,0,0,0,0,0,0,0,0,0,0,0,0,0,0,0,9.8000000000000007,"-",2.6,14.9,{"$f":"INDEX(Input_Details!$L$5:$L$24, MATCH($A189, Input_Details!$J$5:$J$24, 0), 0)","v":"Southbound"},"Tues","22:15:00",3,4,0,0,0,0,0,0,0,0,0,0,0,4,2,1,0,0,0,0,0,0,0,0,0,0,0,0,0,0,0,0,15,"-",10.6,22,null,"Tues","22:15:00",6,7,0,0,0,0,0,0,0,0,0,0,2,8,2,1,0,0,0,0,0,0,0,0,0,0,0,0,0,0,0,0,12.600000000000001,"-",2.6,22,3,3,0,0,0,6,3,4,0,0,0,7,6,7,0,0,0,13]
[1,{"$f":"OFFSET(Input_Details!$Q$4,MATCH($A190, Input_Details!$J$5:$J$24, 0), 1)","v":"2017-11-21"},{"$f":"INDEX(Input_Details!$H$5:$H$24, MATCH($A190, Input_Details!$J$5:$J$24, 0), 0)","v":"Meadow Street"},{"$f":"INDEX(Input_Details!$I$5:$I$24, MATCH($A190, Input_Details!$J$5:$J$24, 0), 0)","v":"51.49499,-0.09696"},{"$f":"INDEX(Input_Details!$K$5:$K$24, MATCH($A190, Input_Details!$J$5:$J$24, 0), 0)","v":"Northbound"},"Tues","22:30:00",0,5,0,0,0,0,0,0,0,0,0,0,0,3,2,0,0,0,0,0,0,0,0,0,0,0,0,0,0,0,0,0,15.2,"-",11.2,19.8,{"$f":"INDEX(Input_Details!$L$5:$L$24, MATCH($A190, Input_Details!$J$5:$J$24, 0), 0)","v":"Southbound"},"Tues","22:30:00",4,4,0,0,0,0,0,0,0,0,0,0,0,6,2,0,0,0,0,0,0,0,0,0,0,0,0,0,0,0,0,0,14.2,"-",11.6,18.100000000000001,null,"Tues","22:30:00",4,9,0,0,0,0,0,0,0,0,0,0,0,9,4,0,0,0,0,0,0,0,0,0,0,0,0,0,0,0,0,0,14.584615384615384,"-",11.2,19.8,0,5,0,0,0,5,4,4,0,0,0,8,4,9,0,0,0,13]
[1,{"$f":"OFFSET(Input_Details!$Q$4,MATCH($A191, Input_Details!$J$5:$J$24, 0), 1)","v":"2017-11-21"},{"$f":"INDEX(Input_Details!$H$5:$H$24, MATCH($A191, Input_Details!$J$5:$J$24, 0), 0)","v":"Meadow Street"},{"$f":"INDEX(Input_Details!$I$5:$I$24, MATCH($A191, Input_Details!$J$5:$J$24, 0), 0)","v":"51.49499,-0.09696"},{"$f":"INDEX(Input_Details!$K$5:$K$24, MATCH($A191, Input_Details!$J$5:$J$24, 0), 0)","v":"Northbound"},"Tues","22:45:00",0,2,0,0,0,0,0,0,0,0,0,0,0,0,2,0,0,0,0,0,0,0,0,0,0,0,0,0,0,0,0,0,17.8,"-",17.5,18.2,{"$f":"INDEX(Input_Details!$L$5:$L$24, MATCH($A191, Input_Details!$J$5:$J$24, 0), 0)","v":"Southbound"},"Tues","22:45:00",2,4,0,0,0,0,0,0,0,0,0,0,0,3,1,2,0,0,0,0,0,0,0,0,0,0,0,0,0,0,0,0,17.3,"-",10.9,24.9,null,"Tues","22:45:00",2,6,0,0,0,0,0,0,0,0,0,0,0,3,3,2,0,0,0,0,0,0,0,0,0,0,0,0,0,0,0,0,17.425000000000001,"-",10.9,24.9,0,2,0,0,0,2,2,4,0,0,0,6,2,6,0,0,0,8]
[1,{"$f":"OFFSET(Input_Details!$Q$4,MATCH($A192, Input_Details!$J$5:$J$24, 0), 1)","v":"2017-11-21"},{"$f":"INDEX(Input_Details!$H$5:$H$24, MATCH($A192, Input_Details!$J$5:$J$24, 0), 0)","v":"Meadow Street"},{"$f":"INDEX(Input_Details!$I$5:$I$24, MATCH($A192, Input_Details!$J$5:$J$24, 0), 0)","v":"51.49499,-0.09696"},{"$f":"INDEX(Input_Details!$K$5:$K$24, MATCH($A192, Input_Details!$J$5:$J$24, 0), 0)","v":"Northbound"},"Tues","23:00:00",0,1,0,0,0,0,0,0,0,0,0,0,0,1,0,0,0,0,0,0,0,0,0,0,0,0,0,0,0,0,0,0,14.3,"-",14.3,14.3,{"$f":"INDEX(Input_Details!$L$5:$L$24, MATCH($A192, Input_Details!$J$5:$J$24, 0), 0)","v":"Southbound"},"Tues","23:00:00",4,1,0,0,0,0,0,0,0,0,0,0,3,1,1,0,0,0,0,0,0,0,0,0,0,0,0,0,0,0,0,0,10.8,"-",7.8,16.100000000000001,null,"Tues","23:00:00",4,2,0,0,0,0,0,0,0,0,0,0,3,2,1,0,0,0,0,0,0,0,0,0,0,0,0,0,0,0,0,0,11.383333333333333,"-",7.8,16.100000000000001,0,1,0,0,0,1,4,1,0,0,0,5,4,2,0,0,0,6]
[1,{"$f":"OFFSET(Input_Details!$Q$4,MATCH($A193, Input_Details!$J$5:$J$24, 0), 1)","v":"2017-11-21"},{"$f":"INDEX(Input_Details!$H$5:$H$24, MATCH($A193, Input_Details!$J$5:$J$24, 0), 0)","v":"Meadow Street"},{"$f":"INDEX(Input_Details!$I$5:$I$24, MATCH($A193, Input_Details!$J$5:$J$24, 0), 0)","v":"51.49499,-0.09696"},{"$f":"INDEX(Input_Details!$K$5:$K$24, MATCH($A193, Input_Details!$J$5:$J$24, 0), 0)","v":"Northbound"},"Tues","23:15:00",0,2,0,0,0,0,0,0,0,0,0,0,0,0,2,0,0,0,0,0,0,0,0,0,0,0,0,0,0,0,0,0,19.100000000000001,"-",18.399999999999999,19.7,{"$f":"INDEX(Input_Details!$L$5:$L$24, MATCH($A193, Input_Details!$J$5:$J$24, 0), 0)","v":"Southbound"},"Tues","23:15:00",5,1,0,0,0,0,0,0,0,0,0,0,1,3,2,0,0,0,0,0,0,0,0,0,0,0,0,0,0,0,0,0,13.3,"-",8.6999999999999993,15.7,null,"Tues","23:15:00",5,3,0,0,0,0,0,0,0,0,0,0,1,3,4,0,0,0,0,0,0,0,0,0,0,0,0,0,0,0,0,0,14.750000000000002,"-",8.6999999999999993,19.7,0,2,0,0,0,2,5,1,0,0,0,6,5,3,0,0,0,8]
[1,{"$f":"OFFSET(Input_Details!$Q$4,MATCH($A194, Input_Details!$J$5:$J$24, 0), 1)","v":"2017-11-21"},{"$f":"INDEX(Input_Details!$H$5:$H$24, MATCH($A194, Input_Details!$J$5:$J$24, 0), 0)","v":"Meadow Street"},{"$f":"INDEX(Input_Details!$I$5:$I$24, MATCH($A194, Input_Details!$J$5:$J$24, 0), 0)","v":"51.49499,-0.09696"},{"$f":"INDEX(Input_Details!$K$5:$K$24, MATCH($A194, Input_Details!$J$5:$J$24, 0), 0)","v":"Northbound"},"Tues","23:30:00",0,3,0,0,0,0,0,0,0,0,0,0,0,1,2,0,0,0,0,0,0,0,0,0,0,0,0,0,0,0,0,0,16.3,"-",13.7,19.100000000000001,{"$f":"INDEX(Input_Details!$L$5:$L$24, MATCH($A194, Input_Details!$J$5:$J$24, 0), 0)","v":"Southbound"},"Tues","23:30:00",2,2,0,0,0,0,0,0,0,0,0,0,1,1,2,0,0,0,0,0,0,0,0,0,0,0,0,0,0,0,0,0,15.2,"-",9.8000000000000007,19.5,null,"Tues","23:30:00",2,5,0,0,0,0,0,0,0,0,0,0,1,2,4,0,0,0,0,0,0,0,0,0,0,0,0,0,0,0,0,0,15.671428571428573,"-",9.8000000000000007,19.5,0,3,0,0,0,3,2,2,0,0,0,4,2,5,0,0,0,7]
[1,{"$f":"OFFSET(Input_Details!$Q$4,MATCH($A195, Input_Details!$J$5:$J$24, 0), 1)","v":"2017-11-21"},{"$f":"INDEX(Input_Details!$H$5:$H$24, MATCH($A195, Input_Details!$J$5:$J$24, 0), 0)","v":"Meadow Street"},{"$f":"INDEX(Input_Details!$I$5:$I$24, MATCH($A195, Input_Details!$J$5:$J$24, 0), 0)","v":"51.49499,-0.09696"},{"$f":"INDEX(Input_Details!$K$5:$K$24, MATCH($A195, Input_Details!$J$5:$J$24, 0), 0)","v":"Northbound"},"Tues","23:45:00",0,1,0,0,0,0,0,0,0,0,0,0,0,0,1,0,0,0,0,0,0,0,0,0,0,0,0,0,0,0,0,0,19,"-",19,19,{"$f":"INDEX(Input_Details!$L$5:$L$24, MATCH($A195, Input_Details!$J$5:$J$24, 0), 0)","v":"Southbound"},"Tues","23:45:00",2,2,0,0,0,0,0,0,0,0,0,0,0,2,1,1,0,0,0,0,0,0,0,0,0,0,0,0,0,0,0,0,15.4,"-",11,22.3,null,"Tues","23:45:00",2,3,0,0,0,0,0,0,0,0,0,0,0,2,2,1,0,0,0,0,0,0,0,0,0,0,0,0,0,0,0,0,16.119999999999997,"-",11,22.3,0,1,0,0,0,1,2,2,0,0,0,4,2,3,0,0,0,5]
[1,{"$f":"OFFSET(Input_Details!$Q$4,MATCH($A196, Input_Details!$J$5:$J$24, 0), 2)","v":"2017-11-22"},{"$f":"INDEX(Input_Details!$H$5:$H$24, MATCH($A196, Input_Details!$J$5:$J$24, 0), 0)","v":"Meadow Street"},{"$f":"INDEX(Input_Details!$I$5:$I$24, MATCH($A196, Input_Details!$J$5:$J$24, 0), 0)","v":"51.49499,-0.09696"},{"$f":"INDEX(Input_Details!$K$5:$K$24, MATCH($A196, Input_Details!$J$5:$J$24, 0), 0)","v":"Northbound"},"Wed","00:00:00",0,0,0,1,0,0,0,0,0,0,0,0,1,0,0,0,0,0,0,0,0,0,0,0,0,0,0,0,0,0,0,0,7.9,"-",7.9,7.9,{"$f":"INDEX(Input_Details!$L$5:$L$24, MATCH($A196, Input_Details!$J$5:$J$24, 0), 0)","v":"Southbound"},"Wed","00:00:00",3,2,0,0,0,1,0,0,0,0,0,0,0,4,2,0,0,0,0,0,0,0,0,0,0,0,0,0,0,0,0,0,13.4,"-",10.1,18.8,null,"Wed","00:00:00",3,{"$f":"IF(OR(I196=\"\", AV196=\"\"), \"-\",SUM(I196+AV196))","v":2},{"$f":"IF(OR(J196=\"\", AW196=\"\"), \"-\",SUM(J196+AW196))","v":0},{"$f":"IF(OR(K196=\"\", AX196=\"\"), \"-\",SUM(K196+AX196))","v":1},{"$f":"IF(OR(L196=\"\", AY196=\"\"), \"-\",SUM(L196+AY196))","v":0},{"$f":"IF(OR(M196=\"\", AZ196=\"\"), \"-\",SUM(M196+AZ196))","v":1},{"$f":"IF(OR(N196=\"\", BA196=\"\"), \"-\",SUM(N196+BA196))","v":0},{"$f":"IF(OR(O196=\"\", BB196=\"\"), \"-\",SUM(O196+BB196))","v":0},{"$f":"IF(OR(P196=\"\", BC196=\"\"), \"-\",SUM(P196+BC196))","v":0},{"$f":"IF(OR(Q196=\"\", BD196=\"\"), \"-\",SUM(Q196+BD196))","v":0},{"$f":"IF(OR(R196=\"\", BE196=\"\"), \"-\",SUM(R196+BE196))","v":0},{"$f":"IF(OR(S196=\"\", BF196=\"\"), \"-\",SUM(S196+BF196))","v":0},{"$f":"IF(OR(T196=\"\", BG196=\"\"), \"-\",SUM(T196+BG196))","v":1},{"$f":"IF(OR(U196=\"\", BH196=\"\"), \"-\",SUM(U196+BH196))","v":4},{"$f":"IF(OR(V196=\"\", BI196=\"\"), \"-\",SUM(V196+BI196))","v":2},{"$f":"IF(OR(W196=\"\", BJ196=\"\"), \"-\",SUM(W196+BJ196))","v":0},{"$f":"IF(OR(X196=\"\", BK196=\"\"), \"-\",SUM(X196+BK196))","v":0},{"$f":"IF(OR(Y196=\"\", BL196=\"\"), \"-\",SUM(Y196+BL196))","v":0},{"$f":"IF(OR(Z196=\"\", BM196=\"\"), \"-\",SUM(Z196+BM196))","v":0},{"$f":"IF(OR(AA196=\"\", BN196=\"\"), \"-\",SUM(AA196+BN196))","v":0},{"$f":"IF(OR(AB196=\"\", BO196=\"\"), \"-\",SUM(AB196+BO196))","v":0},{"$f":"IF(OR(AC196=\"\", BP196=\"\"), \"-\",SUM(AC196+BP196))","v":0},{"$f":"IF(OR(AD196=\"\", BQ196=\"\"), \"-\",SUM(AD196+BQ196))","v":0},{"$f":"IF(OR(AE196=\"\", BR196=\"\"), \"-\",SUM(AE196+BR196))","v":0},{"$f":"IF(OR(AF196=\"\", BS196=\"\"), \"-\",SUM(AF196+BS196))","v":0},{"$f":"IF(OR(AG196=\"\", BT196=\"\"), \"-\",SUM(AG196+BT196))","v":0},{"$f":"IF(OR(AH196=\"\", BU196=\"\"), \"-\",SUM(AH196+BU196))","v":0},{"$f":"IF(OR(AI196=\"\", BV196=\"\"), \"-\",SUM(AI196+BV196))","v":0},{"$f":"IF(OR(AJ196=\"\", BW196=\"\"), \"-\",SUM(AJ196+BW196))","v":0},{"$f":"IF(OR(AK196=\"\", BX196=\"\"), \"-\",SUM(AK196+BX196))","v":0},{"$f":"IF(OR(AL196=\"\", BY196=\"\"), \"-\",SUM(AL196+BY196))","v":0},{"$f":"IF(OR(AM196=\"\", BZ196=\"\"), \"-\",SUM(AM196+BZ196))","v":0},12.614285714285716,"-",7.9,18.8,{"$f":"IF(H196=\"\", \"-\", H196)","v":0},{"$f":"IF(DR196=\"-\", \"-\", SUM(I196:J196))","v":0},{"$f":"IF(DR196=\"-\", \"-\", K196)","v":1},{"$f":"IF(DR196=\"-\", \"-\", L196)","v":0},{"$f":"IF(DR196=\"-\", \"-\", SUM(M196:S196))","v":0},{"$f":"IF(DR196=\"-\", \"-\", SUM(H196:S196))","v":1},3,2,0,0,1,6,3,{"$f":"IF(OR(DS196=\"-\", DY196=\"-\"), \"-\", SUM(DS196,DY196))","v":2},{"$f":"IF(OR(DT196=\"-\", DZ196=\"-\"), \"-\", SUM(DT196,DZ196))","v":1},{"$f":"IF(OR(DU196=\"-\", EA196=\"-\"), \"-\", SUM(DU196,EA196))","v":0},{"$f":"IF(OR(DV196=\"-\", EB196=\"-\"), \"-\", SUM(DV196,EB196))","v":1},{"$f":"IF(OR(DW196=\"-\", EC196=\"-\"), \"-\", SUM(DW196,EC196))","v":7}]
[{"$f":"A196","v":1},{"$f":"OFFSET(Input_Details!$Q$4,MATCH($A197, Input_Details!$J$5:$J$24, 0), 2)","v":"2017-11-22"},{"$f":"INDEX(Input_Details!$H$5:$H$24, MATCH($A197, Input_Details!$J$5:$J$24, 0), 0)","v":"Meadow Street"},{"$f":"INDEX(Input_Details!$I$5:$I$24, MATCH($A197, Input_Details!$J$5:$J$24, 0), 0)","v":"51.49499,-0.09696"},{"$f":"INDEX(Input_Details!$K$5:$K$24, MATCH($A197, Input_Details!$J$5:$J$24, 0), 0)","v":"Northbound"},"Wed","00:15:00",2,4,0,0,0,0,0,0,0,0,0,0,2,2,0,1,0,1,0,0,0,0,0,0,0,0,0,0,0,0,0,0,15.5,"-",9.4,31.6,{"$f":"INDEX(Input_Details!$L$5:$L$24, MATCH($A197, Input_Details!$J$5:$J$24, 0), 0)","v":"Southbound"},"Wed","00:15:00",0,2,0,0,0,0,0,0,0,0,0,0,0,2,0,0,0,0,0,0,0,0,0,0,0,0,0,0,0,0,0,0,14.6,"-",14.2,14.9,null,"Wed","00:15:00",{"$f":"IF(OR(H197=\"\", AU197=\"\"), \"-\",SUM(H197+AU197))","v":2},6,0,0,0,0,0,0,0,0,0,0,2,4,0,1,0,1,0,0,0,0,0,0,0,0,0,0,0,0,0,0,{"$f":"IF(OR(DW197=\"-\", EC197=\"-\", EI197=\"-\", EI197=0),\"-\",IF(OR(DW197=\"-\", DW197=0),CA197,IF(EC197=0,AN197,SUM((AN197*DW197),(CA197*EC197))/EI197)))","v":15.275},{"$f":"IFERROR(IF(OR(DW197=\"-\", EC197=\"-\", EI197=\"-\", EI197=0), \"-\", IF(AO197=\"-\", CB197, AVERAGE(AO197,CB197))), \"-\")","v":"-"},{"$f":"IF(OR(DW197=\"-\", EC197=\"-\",EI197=\"-\", EI197=0),\"-\",MIN(AP197,CC197))","v":9.4},{"$f":"IF(OR(DW197=\"-\", EC197=\"-\",EI197=\"-\", EI197=0),\"-\",MAX(AQ197,CD197))","v":31.6},2,4,0,0,0,6,{"$f":"IF(AU197=\"\", \"-\", AU197)","v":0},{"$f":"IF(DX197=\"-\", \"-\", SUM(AV197:AW197))","v":2},{"$f":"IF(DX197=\"-\", \"-\", AX197)","v":0},{"$f":"IF(DX197=\"-\", \"-\", AY197)","v":0},{"$f":"IF(DX197=\"-\", \"-\", SUM(AZ197:BF197))","v":0},{"$f":"IF(DX197=\"-\", \"-\", SUM(AU197:BF197))","v":2},{"$f":"IF(OR(DR197=\"-\", DX197=\"-\"), \"-\", SUM(DR197,DX197))","v":2},6,0,0,0,8]
[1,{"$f":"OFFSET(Input_Details!$Q$4,MATCH($A198, Input_Details!$J$5:$J$24, 0), 2)","v":"2017-11-22"},{"$f":"INDEX(Input_Details!$H$5:$H$24, MATCH($A198, Input_Details!$J$5:$J$24, 0), 0)","v":"Meadow Street"},{"$f":"INDEX(Input_Details!$I$5:$I$24, MATCH($A198, Input_Details!$J$5:$J$24, 0), 0)","v":"51.49499,-0.09696"},{"$f":"INDEX(Input_Details!$K$5:$K$24, MATCH($A198, Input_Details!$J$5:$J$24, 0), 0)","v":"Northbound"},"Wed","00:30:00",0,3,0,0,0,0,0,0,0,0,0,0,0,0,3,0,0,0,0,0,0,0,0,0,0,0,0,0,0,0,0,0,17.600000000000001,"-",16,19.399999999999999,{"$f":"INDEX(Input_Details!$L$5:$L$24, MATCH($A198, Input_Details!$J$5:$J$24, 0), 0)","v":"Southbound"},"Wed","00:30:00",0,2,0,0,0,0,0,0,0,0,0,0,0,1,1,0,0,0,0,0,0,0,0,0,0,0,0,0,0,0,0,0,16.3,"-",14.2,18.399999999999999,null,"Wed","00:30:00",0,5,0,0,0,0,0,0,0,0,0,0,0,1,4,0,0,0,0,0,0,0,0,0,0,0,0,0,0,0,0,0,17.080000000000002,"-",14.2,19.399999999999999,0,3,0,0,0,3,0,2,0,0,0,2,0,5,0,0,0,5]
[1,{"$f":"OFFSET(Input_Details!$Q$4,MATCH($A199, Input_Details!$J$5:$J$24, 0), 2)","v":"2017-11-22"},{"$f":"INDEX(Input_Details!$H$5:$H$24, MATCH($A199, Input_Details!$J$5:$J$24, 0), 0)","v":"Meadow Street"},{"$f":"INDEX(Input_Details!$I$5:$I$24, MATCH($A199, Input_Details!$J$5:$J$24, 0), 0)","v":"51.49499,-0.09696"},{"$f":"INDEX(Input_Details!$K$5:$K$24, MATCH($A199, Input_Details!$J$5:$J$24, 0), 0)","v":"Northbound"},"Wed","00:45:00",1,3,0,0,0,0,0,0,0,0,0,0,0,1,1,2,0,0,0,0,0,0,0,0,0,0,0,0,0,0,0,0,18.8,"-",10.199999999999999,23.2,{"$f":"INDEX(Input_Details!$L$5:$L$24, MATCH($A199, Input_Details!$J$5:$J$24, 0), 0)","v":"Southbound"},"Wed","00:45:00",3,0,0,0,0,0,0,0,0,0,0,0,0,2,0,0,1,0,0,0,0,0,0,0,0,0,0,0,0,0,0,0,16.8,"-",10.1,28.2,null,"Wed","00:45:00",4,3,0,0,0,0,0,0,0,0,0,0,0,3,1,2,1,0,0,0,0,0,0,0,0,0,0,0,0,0,0,0,17.942857142857143,"-",10.1,28.2,1,3,0,0,0,4,3,0,0,0,0,3,4,3,0,0,0,7]
[1,{"$f":"OFFSET(Input_Details!$Q$4,MATCH($A200, Input_Details!$J$5:$J$24, 0), 2)","v":"2017-11-22"},{"$f":"INDEX(Input_Details!$H$5:$H$24, MATCH($A200, Input_Details!$J$5:$J$24, 0), 0)","v":"Meadow Street"},{"$f":"INDEX(Input_Details!$I$5:$I$24, MATCH($A200, Input_Details!$J$5:$J$24, 0), 0)","v":"51.49499,-0.09696"},{"$f":"INDEX(Input_Details!$K$5:$K$24, MATCH($A200, Input_Details!$J$5:$J$24, 0), 0)","v":"Northbound"},"Wed","01:00:00",0,1,0,0,0,0,0,0,0,0,0,0,0,0,1,0,0,0,0,0,0,0,0,0,0,0,0,0,0,0,0,0,17.8,"-",17.8,17.8,{"$f":"INDEX(Input_Details!$L$5:$L$24, MATCH($A200, Input_Details!$J$5:$J$24, 0), 0)","v":"Southbound"},"Wed","01:00:00",1,1,0,0,0,0,0,0,0,0,0,0,0,0,2,0,0,0,0,0,0,0,0,0,0,0,0,0,0,0,0,0,18.600000000000001,"-",17.600000000000001,19.600000000000001,null,"Wed","01:00:00",1,2,0,0,0,0,0,0,0,0,0,0,0,0,3,0,0,0,0,0,0,0,0,0,0,0,0,0,0,0,0,0,18.333333333333332,"-",17.600000000000001,19.600000000000001,0,1,0,0,0,1,1,1,0,0,0,2,1,2,0,0,0,3]
[1,{"$f":"OFFSET(Input_Details!$Q$4,MATCH($A201, Input_Details!$J$5:$J$24, 0), 2)","v":"2017-11-22"},{"$f":"INDEX(Input_Details!$H$5:$H$24, MATCH($A201, Input_Details!$J$5:$J$24, 0), 0)","v":"Meadow Street"},{"$f":"INDEX(Input_Details!$I$5:$I$24, MATCH($A201, Input_Details!$J$5:$J$24, 0), 0)","v":"51.49499,-0.09696"},{"$f":"INDEX(Input_Details!$K$5:$K$24, MATCH($A201, Input_Details!$J$5:$J$24, 0), 0)","v":"Northbound"},"Wed","01:15:00",0,3,0,0,0,0,0,0,0,0,0,0,0,1,2,0,0,0,0,0,0,0,0,0,0,0,0,0,0,0,0,0,14.9,"-",13.2,16.100000000000001,{"$f":"INDEX(Input_Details!$L$5:$L$24, MATCH($A201, Input_Details!$J$5:$J$24, 0), 0)","v":"Southbound"},"Wed","01:15:00",1,1,0,0,0,0,0,0,0,0,0,0,1,0,1,0,0,0,0,0,0,0,0,0,0,0,0,0,0,0,0,0,12.9,"-",7.9,17.899999999999999,null,"Wed","01:15:00",1,4,0,0,0,0,0,0,0,0,0,0,1,1,3,0,0,0,0,0,0,0,0,0,0,0,0,0,0,0,0,0,14.1,"-",7.9,17.899999999999999,0,3,0,0,0,3,1,1,0,0,0,2,1,4,0,0,0,5]
[1,{"$f":"OFFSET(Input_Details!$Q$4,MATCH($A202, Input_Details!$J$5:$J$24, 0), 2)","v":"2017-11-22"},{"$f":"INDEX(Input_Details!$H$5:$H$24, MATCH($A202, Input_Details!$J$5:$J$24, 0), 0)","v":"Meadow Street"},{"$f":"INDEX(Input_Details!$I$5:$I$24, MATCH($A202, Input_Details!$J$5:$J$24, 0), 0)","v":"51.49499,-0.09696"},{"$f":"INDEX(Input_Details!$K$5:$K$24, MATCH($A202, Input_Details!$J$5:$J$24, 0), 0)","v":"Northbound"},"Wed","01:30:00",0,0,0,0,0,0,0,0,0,0,0,0,0,0,0,0,0,0,0,0,0,0,0,0,0,0,0,0,0,0,0,0,"-","-","-","-",{"$f":"INDEX(Input_Details!$L$5:$L$24, MATCH($A202, Input_Details!$J$5:$J$24, 0), 0)","v":"Southbound"},"Wed","01:30:00",0,2,0,1,0,0,0,0,0,0,0,0,0,2,1,0,0,0,0,0,0,0,0,0,0,0,0,0,0,0,0,0,13.8,"-",12.4,15.1,null,"Wed","01:30:00",0,2,0,1,0,0,0,0,0,0,0,0,0,2,1,0,0,0,0,0,0,0,0,0,0,0,0,0,0,0,0,0,13.8,"-",12.4,15.1,0,0,0,0,0,0,0,2,1,0,0,3,0,2,1,0,0,3]
[1,{"$f":"OFFSET(Input_Details!$Q$4,MATCH($A203, Input_Details!$J$5:$J$24, 0), 2)","v":"2017-11-22"},{"$f":"INDEX(Input_Details!$H$5:$H$24, MATCH($A203, Input_Details!$J$5:$J$24, 0), 0)","v":"Meadow Street"},{"$f":"INDEX(Input_Details!$I$5:$I$24, MATCH($A203, Input_Details!$J$5:$J$24, 0), 0)","v":"51.49499,-0.09696"},{"$f":"INDEX(Input_Details!$K$5:$K$24, MATCH($A203, Input_Details!$J$5:$J$24, 0), 0)","v":"Northbound"},"Wed","01:45:00",1,0,0,0,0,0,0,0,0,0,0,0,0,1,0,0,0,0,0,0,0,0,0,0,0,0,0,0,0,0,0,0,11,"-",11,11,{"$f":"INDEX(Input_Details!$L$5:$L$24, MATCH($A203, Input_Details!$J$5:$J$24, 0), 0)","v":"Southbound"},"Wed","01:45:00",0,1,0,0,0,0,0,0,0,0,0,0,0,0,1,0,0,0,0,0,0,0,0,0,0,0,0,0,0,0,0,0,18.600000000000001,"-",18.600000000000001,18.600000000000001,null,"Wed","01:45:00",1,1,0,0,0,0,0,0,0,0,0,0,0,1,1,0,0,0,0,0,0,0,0,0,0,0,0,0,0,0,0,0,14.8,"-",11,18.600000000000001,1,0,0,0,0,1,0,1,0,0,0,1,1,1,0,0,0,2]
[1,{"$f":"OFFSET(Input_Details!$Q$4,MATCH($A204, Input_Details!$J$5:$J$24, 0), 2)","v":"2017-11-22"},{"$f":"INDEX(Input_Details!$H$5:$H$24, MATCH($A204, Input_Details!$J$5:$J$24, 0), 0)","v":"Meadow Street"},{"$f":"INDEX(Input_Details!$I$5:$I$24, MATCH($A204, Input_Details!$J$5:$J$24, 0), 0)","v":"51.49499,-0.09696"},{"$f":"INDEX(Input_Details!$K$5:$K$24, MATCH($A204, Input_Details!$J$5:$J$24, 0), 0)","v":"Northbound"},"Wed","02:00:00",0,3,0,0,0,0,0,0,0,0,0,0,0,1,1,1,0,0,0,0,0,0,0,0,0,0,0,0,0,0,0,0,18.7,"-",14,25,{"$f":"INDEX(Input_Details!$L$5:$L$24, MATCH($A204, Input_Details!$J$5:$J$24, 0), 0)","v":"Southbound"},"Wed","02:00:00",0,2,0,0,0,0,0,0,0,0,0,0,0,1,1,0,0,0,0,0,0,0,0,0,0,0,0,0,0,0,0,0,15.1,"-",12.6,17.600000000000001,null,"Wed","02:00:00",0,5,0,0,0,0,0,0,0,0,0,0,0,2,2,1,0,0,0,0,0,0,0,0,0,0,0,0,0,0,0,0,17.259999999999998,"-",12.6,25,0,3,0,0,0,3,0,2,0,0,0,2,0,5,0,0,0,5]
[1,{"$f":"OFFSET(Input_Details!$Q$4,MATCH($A205, Input_Details!$J$5:$J$24, 0), 2)","v":"2017-11-22"},{"$f":"INDEX(Input_Details!$H$5:$H$24, MATCH($A205, Input_Details!$J$5:$J$24, 0), 0)","v":"Meadow Street"},{"$f":"INDEX(Input_Details!$I$5:$I$24, MATCH($A205, Input_Details!$J$5:$J$24, 0), 0)","v":"51.49499,-0.09696"},{"$f":"INDEX(Input_Details!$K$5:$K$24, MATCH($A205, Input_Details!$J$5:$J$24, 0), 0)","v":"Northbound"},"Wed","02:15:00",0,3,0,0,0,0,0,0,0,0,0,0,1,0,2,0,0,0,0,0,0,0,0,0,0,0,0,0,0,0,0,0,13.4,"-",5.7,18.8,{"$f":"INDEX(Input_Details!$L$5:$L$24, MATCH($A205, Input_Details!$J$5:$J$24, 0), 0)","v":"Southbound"},"Wed","02:15:00",1,0,0,0,0,0,0,0,0,0,0,0,1,0,0,0,0,0,0,0,0,0,0,0,0,0,0,0,0,0,0,0,9.8000000000000007,"-",9.8000000000000007,9.8000000000000007,null,"Wed","02:15:00",1,3,0,0,0,0,0,0,0,0,0,0,2,0,2,0,0,0,0,0,0,0,0,0,0,0,0,0,0,0,0,0,12.5,"-",5.7,18.8,0,3,0,0,0,3,1,0,0,0,0,1,1,3,0,0,0,4]
[1,{"$f":"OFFSET(Input_Details!$Q$4,MATCH($A206, Input_Details!$J$5:$J$24, 0), 2)","v":"2017-11-22"},{"$f":"INDEX(Input_Details!$H$5:$H$24, MATCH($A206, Input_Details!$J$5:$J$24, 0), 0)","v":"Meadow Street"},{"$f":"INDEX(Input_Details!$I$5:$I$24, MATCH($A206, Input_Details!$J$5:$J$24, 0), 0)","v":"51.49499,-0.09696"},{"$f":"INDEX(Input_Details!$K$5:$K$24, MATCH($A206, Input_Details!$J$5:$J$24, 0), 0)","v":"Northbound"},"Wed","02:30:00",0,2,0,0,0,0,0,0,0,0,0,0,0,1,0,1,0,0,0,0,0,0,0,0,0,0,0,0,0,0,0,0,16.5,"-",12.7,20.3,{"$f":"INDEX(Input_Details!$L$5:$L$24, MATCH($A206, Input_Details!$J$5:$J$24, 0), 0)","v":"Southbound"},"Wed","02:30:00",1,0,0,0,0,0,0,0,0,0,0,0,0,1,0,0,0,0,0,0,0,0,0,0,0,0,0,0,0,0,0,0,13.8,"-",13.8,13.8,null,"Wed","02:30:00",1,2,0,0,0,0,0,0,0,0,0,0,0,2,0,1,0,0,0,0,0,0,0,0,0,0,0,0,0,0,0,0,15.6,"-",12.7,20.3,0,2,0,0,0,2,1,0,0,0,0,1,1,2,0,0,0,3]
[1,{"$f":"OFFSET(Input_Details!$Q$4,MATCH($A207, Input_Details!$J$5:$J$24, 0), 2)","v":"2017-11-22"},{"$f":"INDEX(Input_Details!$H$5:$H$24, MATCH($A207, Input_Details!$J$5:$J$24, 0), 0)","v":"Meadow Street"},{"$f":"INDEX(Input_Details!$I$5:$I$24, MATCH($A207, Input_Details!$J$5:$J$24, 0), 0)","v":"51.49499,-0.09696"},{"$f":"INDEX(Input_Details!$K$5:$K$24, MATCH($A207, Input_Details!$J$5:$J$24, 0), 0)","v":"Northbound"},"Wed","02:45:00",1,1,0,0,0,0,0,0,0,0,0,0,0,2,0,0,0,0,0,0,0,0,0,0,0,0,0,0,0,0,0,0,12.3,"-",10.5,14,{"$f":"INDEX(Input_Details!$L$5:$L$24, MATCH($A207, Input_Details!$J$5:$J$24, 0), 0)","v":"Southbound"},"Wed","02:45:00",0,2,0,0,0,0,0,0,0,0,0,0,0,2,0,0,0,0,0,0,0,0,0,0,0,0,0,0,0,0,0,0,12.3,"-",12,12.7,null,"Wed","02:45:00",1,3,0,0,0,0,0,0,0,0,0,0,0,4,0,0,0,0,0,0,0,0,0,0,0,0,0,0,0,0,0,0,12.3,"-",10.5,14,1,1,0,0,0,2,0,2,0,0,0,2,1,3,0,0,0,4]
[1,{"$f":"OFFSET(Input_Details!$Q$4,MATCH($A208, Input_Details!$J$5:$J$24, 0), 2)","v":"2017-11-22"},{"$f":"INDEX(Input_Details!$H$5:$H$24, MATCH($A208, Input_Details!$J$5:$J$24, 0), 0)","v":"Meadow Street"},{"$f":"INDEX(Input_Details!$I$5:$I$24, MATCH($A208, Input_Details!$J$5:$J$24, 0), 0)","v":"51.49499,-0.09696"},{"$f":"INDEX(Input_Details!$K$5:$K$24, MATCH($A208, Input_Details!$J$5:$J$24, 0), 0)","v":"Northbound"},"Wed","03:00:00",0,1,0,0,0,0,0,0,0,0,0,0,0,1,0,0,0,0,0,0,0,0,0,0,0,0,0,0,0,0,0,0,13.5,"-",13.5,13.5,{"$f":"INDEX(Input_Details!$L$5:$L$24, MATCH($A208, Input_Details!$J$5:$J$24, 0), 0)","v":"Southbound"},"Wed","03:00:00",1,0,0,0,0,0,0,0,0,0,0,0,0,0,0,1,0,0,0,0,0,0,0,0,0,0,0,0,0,0,0,0,20.5,"-",20.5,20.5,null,"Wed","03:00:00",1,1,0,0,0,0,0,0,0,0,0,0,0,1,0,1,0,0,0,0,0,0,0,0,0,0,0,0,0,0,0,0,17,"-",13.5,20.5,0,1,0,0,0,1,1,0,0,0,0,1,1,1,0,0,0,2]
[1,{"$f":"OFFSET(Input_Details!$Q$4,MATCH($A209, Input_Details!$J$5:$J$24, 0), 2)","v":"2017-11-22"},{"$f":"INDEX(Input_Details!$H$5:$H$24, MATCH($A209, Input_Details!$J$5:$J$24, 0), 0)","v":"Meadow Street"},{"$f":"INDEX(Input_Details!$I$5:$I$24, MATCH($A209, Input_Details!$J$5:$J$24, 0), 0)","v":"51.49499,-0.09696"},{"$f":"INDEX(Input_Details!$K$5:$K$24, MATCH($A209, Input_Details!$J$5:$J$24, 0), 0)","v":"Northbound"},"Wed","03:15:00",0,3,0,0,0,0,0,0,0,0,0,0,0,1,1,1,0,0,0,0,0,0,0,0,0,0,0,0,0,0,0,0,18.100000000000001,"-",13.2,23,{"$f":"INDEX(Input_Details!$L$5:$L$24, MATCH($A209, Input_Details!$J$5:$J$24, 0), 0)","v":"Southbound"},"Wed","03:15:00",0,1,0,0,0,0,0,0,0,0,0,0,0,0,1,0,0,0,0,0,0,0,0,0,0,0,0,0,0,0,0,0,16.600000000000001,"-",16.600000000000001,16.600000000000001,null,"Wed","03:15:00",0,4,0,0,0,0,0,0,0,0,0,0,0,1,2,1,0,0,0,0,0,0,0,0,0,0,0,0,0,0,0,0,17.725000000000001,"-",13.2,23,0,3,0,0,0,3,0,1,0,0,0,1,0,4,0,0,0,4]
[1,{"$f":"OFFSET(Input_Details!$Q$4,MATCH($A210, Input_Details!$J$5:$J$24, 0), 2)","v":"2017-11-22"},{"$f":"INDEX(Input_Details!$H$5:$H$24, MATCH($A210, Input_Details!$J$5:$J$24, 0), 0)","v":"Meadow Street"},{"$f":"INDEX(Input_Details!$I$5:$I$24, MATCH($A210, Input_Details!$J$5:$J$24, 0), 0)","v":"51.49499,-0.09696"},{"$f":"INDEX(Input_Details!$K$5:$K$24, MATCH($A210, Input_Details!$J$5:$J$24, 0), 0)","v":"Northbound"},"Wed","03:30:00",0,0,0,0,0,0,0,0,0,0,0,0,0,0,0,0,0,0,0,0,0,0,0,0,0,0,0,0,0,0,0,0,"-","-","-","-",{"$f":"INDEX(Input_Details!$L$5:$L$24, MATCH($A210, Input_Details!$J$5:$J$24, 0), 0)","v":"Southbound"},"Wed","03:30:00",0,1,0,1,0,0,0,0,0,0,0,0,1,0,1,0,0,0,0,0,0,0,0,0,0,0,0,0,0,0,0,0,12.8,"-",9.6,16,null,"Wed","03:30:00",0,1,0,1,0,0,0,0,0,0,0,0,1,0,1,0,0,0,0,0,0,0,0,0,0,0,0,0,0,0,0,0,12.8,"-",9.6,16,0,0,0,0,0,0,0,1,1,0,0,2,0,1,1,0,0,2]
[1,{"$f":"OFFSET(Input_Details!$Q$4,MATCH($A211, Input_Details!$J$5:$J$24, 0), 2)","v":"2017-11-22"},{"$f":"INDEX(Input_Details!$H$5:$H$24, MATCH($A211, Input_Details!$J$5:$J$24, 0), 0)","v":"Meadow Street"},{"$f":"INDEX(Input_Details!$I$5:$I$24, MATCH($A211, Input_Details!$J$5:$J$24, 0), 0)","v":"51.49499,-0.09696"},{"$f":"INDEX(Input_Details!$K$5:$K$24, MATCH($A211, Input_Details!$J$5:$J$24, 0), 0)","v":"Northbound"},"Wed","03:45:00",0,0,0,0,0,0,0,0,0,0,0,0,0,0,0,0,0,0,0,0,0,0,0,0,0,0,0,0,0,0,0,0,"-","-","-","-",{"$f":"INDEX(Input_Details!$L$5:$L$24, MATCH($A211, Input_Details!$J$5:$J$24, 0), 0)","v":"Southbound"},"Wed","03:45:00",0,3,0,0,0,0,0,0,0,0,0,0,1,1,0,1,0,0,0,0,0,0,0,0,0,0,0,0,0,0,0,0,13.2,"-",6.1,22.5,null,"Wed","03:45:00",0,3,0,0,0,0,0,0,0,0,0,0,1,1,0,1,0,0,0,0,0,0,0,0,0,0,0,0,0,0,0,0,13.2,"-",6.1,22.5,0,0,0,0,0,0,0,3,0,0,0,3,0,3,0,0,0,3]
[1,{"$f":"OFFSET(Input_Details!$Q$4,MATCH($A212, Input_Details!$J$5:$J$24, 0), 2)","v":"2017-11-22"},{"$f":"INDEX(Input_Details!$H$5:$H$24, MATCH($A212, Input_Details!$J$5:$J$24, 0), 0)","v":"Meadow Street"},{"$f":"INDEX(Input_Details!$I$5:$I$24, MATCH($A212, Input_Details!$J$5:$J$24, 0), 0)","v":"51.49499,-0.09696"},{"$f":"INDEX(Input_Details!$K$5:$K$24, MATCH($A212, Input_Details!$J$5:$J$24, 0), 0)","v":"Northbound"},"Wed","04:00:00",0,1,0,0,0,0,0,0,0,0,0,0,0,1,0,0,0,0,0,0,0,0,0,0,0,0,0,0,0,0,0,0,12.9,"-",12.9,12.9,{"$f":"INDEX(Input_Details!$L$5:$L$24, MATCH($A212, Input_Details!$J$5:$J$24, 0), 0)","v":"Southbound"},"Wed","04:00:00",0,0,0,0,1,0,0,0,0,0,0,0,0,0,1,0,0,0,0,0,0,0,0,0,0,0,0,0,0,0,0,0,18.899999999999999,"-",18.899999999999999,18.899999999999999,null,"Wed","04:00:00",0,1,0,0,1,0,0,0,0,0,0,0,0,1,1,0,0,0,0,0,0,0,0,0,0,0,0,0,0,0,0,0,15.899999999999999,"-",12.9,18.899999999999999,0,1,0,0,0,1,0,0,0,1,0,1,0,1,0,1,0,2]
[1,{"$f":"OFFSET(Input_Details!$Q$4,MATCH($A213, Input_Details!$J$5:$J$24, 0), 2)","v":"2017-11-22"},{"$f":"INDEX(Input_Details!$H$5:$H$24, MATCH($A213, Input_Details!$J$5:$J$24, 0), 0)","v":"Meadow Street"},{"$f":"INDEX(Input_Details!$I$5:$I$24, MATCH($A213, Input_Details!$J$5:$J$24, 0), 0)","v":"51.49499,-0.09696"},{"$f":"INDEX(Input_Details!$K$5:$K$24, MATCH($A213, Input_Details!$J$5:$J$24, 0), 0)","v":"Northbound"},"Wed","04:15:00",0,0,0,0,0,0,0,0,0,0,0,0,0,0,0,0,0,0,0,0,0,0,0,0,0,0,0,0,0,0,0,0,"-","-","-","-",{"$f":"INDEX(Input_Details!$L$5:$L$24, MATCH($A213, Input_Details!$J$5:$J$24, 0), 0)","v":"Southbound"},"Wed","04:15:00",0,0,0,0,0,0,0,0,0,0,0,0,0,0,0,0,0,0,0,0,0,0,0,0,0,0,0,0,0,0,0,0,"-","-","-","-",null,"Wed","04:15:00",0,0,0,0,0,0,0,0,0,0,0,0,0,0,0,0,0,0,0,0,0,0,0,0,0,0,0,0,0,0,0,0,"-","-","-","-",0,0,0,0,0,0,0,0,0,0,0,0,0,0,0,0,0,0]
[1,{"$f":"OFFSET(Input_Details!$Q$4,MATCH($A214, Input_Details!$J$5:$J$24, 0), 2)","v":"2017-11-22"},{"$f":"INDEX(Input_Details!$H$5:$H$24, MATCH($A214, Input_Details!$J$5:$J$24, 0), 0)","v":"Meadow Street"},{"$f":"INDEX(Input_Details!$I$5:$I$24, MATCH($A214, Input_Details!$J$5:$J$24, 0), 0)","v":"51.49499,-0.09696"},{"$f":"INDEX(Input_Details!$K$5:$K$24, MATCH($A214, Input_Details!$J$5:$J$24, 0), 0)","v":"Northbound"},"Wed","04:30:00",1,2,0,0,0,0,0,0,0,0,0,0,1,1,1,0,0,0,0,0,0,0,0,0,0,0,0,0,0,0,0,0,12.8,"-",8.4,15.5,{"$f":"INDEX(Input_Details!$L$5:$L$24, MATCH($A214, Input_Details!$J$5:$J$24, 0), 0)","v":"Southbound"},"Wed","04:30:00",0,2,0,0,0,0,0,0,0,0,0,0,0,1,1,0,0,0,0,0,0,0,0,0,0,0,0,0,0,0,0,0,15.6,"-",13.5,17.7,null,"Wed","04:30:00",1,4,0,0,0,0,0,0,0,0,0,0,1,2,2,0,0,0,0,0,0,0,0,0,0,0,0,0,0,0,0,0,13.920000000000002,"-",8.4,17.7,1,2,0,0,0,3,0,2,0,0,0,2,1,4,0,0,0,5]
[1,{"$f":"OFFSET(Input_Details!$Q$4,MATCH($A215, Input_Details!$J$5:$J$24, 0), 2)","v":"2017-11-22"},{"$f":"INDEX(Input_Details!$H$5:$H$24, MATCH($A215, Input_Details!$J$5:$J$24, 0), 0)","v":"Meadow Street"},{"$f":"INDEX(Input_Details!$I$5:$I$24, MATCH($A215, Input_Details!$J$5:$J$24, 0), 0)","v":"51.49499,-0.09696"},{"$f":"INDEX(Input_Details!$K$5:$K$24, MATCH($A215, Input_Details!$J$5:$J$24, 0), 0)","v":"Northbound"},"Wed","04:45:00",0,1,0,0,1,0,0,0,0,0,0,0,0,0,2,0,0,0,0,0,0,0,0,0,0,0,0,0,0,0,0,0,19,"-",18,19.899999999999999,{"$f":"INDEX(Input_Details!$L$5:$L$24, MATCH($A215, Input_Details!$J$5:$J$24, 0), 0)","v":"Southbound"},"Wed","04:45:00",0,0,0,0,0,0,0,0,0,0,0,0,0,0,0,0,0,0,0,0,0,0,0,0,0,0,0,0,0,0,0,0,"-","-","-","-",null,"Wed","04:45:00",0,1,0,0,1,0,0,0,0,0,0,0,0,0,2,0,0,0,0,0,0,0,0,0,0,0,0,0,0,0,0,0,19,"-",18,19.899999999999999,0,1,0,1,0,2,0,0,0,0,0,0,0,1,0,1,0,2]
[1,{"$f":"OFFSET(Input_Details!$Q$4,MATCH($A216, Input_Details!$J$5:$J$24, 0), 2)","v":"2017-11-22"},{"$f":"INDEX(Input_Details!$H$5:$H$24, MATCH($A216, Input_Details!$J$5:$J$24, 0), 0)","v":"Meadow Street"},{"$f":"INDEX(Input_Details!$I$5:$I$24, MATCH($A216, Input_Details!$J$5:$J$24, 0), 0)","v":"51.49499,-0.09696"},{"$f":"INDEX(Input_Details!$K$5:$K$24, MATCH($A216, Input_Details!$J$5:$J$24, 0), 0)","v":"Northbound"},"Wed","05:00:00",0,1,0,0,0,0,0,0,0,0,0,0,0,1,0,0,0,0,0,0,0,0,0,0,0,0,0,0,0,0,0,0,12.6,"-",12.6,12.6,{"$f":"INDEX(Input_Details!$L$5:$L$24, MATCH($A216, Input_Details!$J$5:$J$24, 0), 0)","v":"Southbound"},"Wed","05:00:00",0,1,0,0,0,0,0,0,0,0,0,0,1,0,0,0,0,0,0,0,0,0,0,0,0,0,0,0,0,0,0,0,6.6,"-",6.6,6.6,null,"Wed","05:00:00",0,2,0,0,0,0,0,0,0,0,0,0,1,1,0,0,0,0,0,0,0,0,0,0,0,0,0,0,0,0,0,0,9.6,"-",6.6,12.6,0,1,0,0,0,1,0,1,0,0,0,1,0,2,0,0,0,2]
[1,{"$f":"OFFSET(Input_Details!$Q$4,MATCH($A217, Input_Details!$J$5:$J$24, 0), 2)","v":"2017-11-22"},{"$f":"INDEX(Input_Details!$H$5:$H$24, MATCH($A217, Input_Details!$J$5:$J$24, 0), 0)","v":"Meadow Street"},{"$f":"INDEX(Input_Details!$I$5:$I$24, MATCH($A217, Input_Details!$J$5:$J$24, 0), 0)","v":"51.49499,-0.09696"},{"$f":"INDEX(Input_Details!$K$5:$K$24, MATCH($A217, Input_Details!$J$5:$J$24, 0), 0)","v":"Northbound"},"Wed","05:15:00",0,2,0,0,0,0,0,0,0,0,0,0,0,0,1,1,0,0,0,0,0,0,0,0,0,0,0,0,0,0,0,0,18.8,"-",17.399999999999999,20.2,{"$f":"INDEX(Input_Details!$L$5:$L$24, MATCH($A217, Input_Details!$J$5:$J$24, 0), 0)","v":"Southbound"},"Wed","05:15:00",0,1,0,0,0,0,0,0,0,0,0,0,0,0,1,0,0,0,0,0,0,0,0,0,0,0,0,0,0,0,0,0,18.5,"-",18.5,18.5,null,"Wed","05:15:00",0,3,0,0,0,0,0,0,0,0,0,0,0,0,2,1,0,0,0,0,0,0,0,0,0,0,0,0,0,0,0,0,18.7,"-",17.399999999999999,20.2,0,2,0,0,0,2,0,1,0,0,0,1,0,3,0,0,0,3]
[1,{"$f":"OFFSET(Input_Details!$Q$4,MATCH($A218, Input_Details!$J$5:$J$24, 0), 2)","v":"2017-11-22"},{"$f":"INDEX(Input_Details!$H$5:$H$24, MATCH($A218, Input_Details!$J$5:$J$24, 0), 0)","v":"Meadow Street"},{"$f":"INDEX(Input_Details!$I$5:$I$24, MATCH($A218, Input_Details!$J$5:$J$24, 0), 0)","v":"51.49499,-0.09696"},{"$f":"INDEX(Input_Details!$K$5:$K$24, MATCH($A218, Input_Details!$J$5:$J$24, 0), 0)","v":"Northbound"},"Wed","05:30:00",2,1,0,0,0,0,0,0,0,0,0,0,0,3,0,0,0,0,0,0,0,0,0,0,0,0,0,0,0,0,0,0,12.8,"-",12.2,13.3,{"$f":"INDEX(Input_Details!$L$5:$L$24, MATCH($A218, Input_Details!$J$5:$J$24, 0), 0)","v":"Southbound"},"Wed","05:30:00",0,0,0,0,0,0,0,0,0,0,0,0,0,0,0,0,0,0,0,0,0,0,0,0,0,0,0,0,0,0,0,0,"-","-","-","-",null,"Wed","05:30:00",2,1,0,0,0,0,0,0,0,0,0,0,0,3,0,0,0,0,0,0,0,0,0,0,0,0,0,0,0,0,0,0,12.8,"-",12.2,13.3,2,1,0,0,0,3,0,0,0,0,0,0,2,1,0,0,0,3]
[1,{"$f":"OFFSET(Input_Details!$Q$4,MATCH($A219, Input_Details!$J$5:$J$24, 0), 2)","v":"2017-11-22"},{"$f":"INDEX(Input_Details!$H$5:$H$24, MATCH($A219, Input_Details!$J$5:$J$24, 0), 0)","v":"Meadow Street"},{"$f":"INDEX(Input_Details!$I$5:$I$24, MATCH($A219, Input_Details!$J$5:$J$24, 0), 0)","v":"51.49499,-0.09696"},{"$f":"INDEX(Input_Details!$K$5:$K$24, MATCH($A219, Input_Details!$J$5:$J$24, 0), 0)","v":"Northbound"},"Wed","05:45:00",0,0,0,1,0,0,0,0,0,0,0,0,0,0,0,1,0,0,0,0,0,0,0,0,0,0,0,0,0,0,0,0,20.3,"-",20.3,20.3,{"$f":"INDEX(Input_Details!$L$5:$L$24, MATCH($A219, Input_Details!$J$5:$J$24, 0), 0)","v":"Southbound"},"Wed","05:45:00",0,1,0,0,0,0,0,0,0,0,0,0,1,0,0,0,0,0,0,0,0,0,0,0,0,0,0,0,0,0,0,0,9.6,"-",9.6,9.6,null,"Wed","05:45:00",0,1,0,1,0,0,0,0,0,0,0,0,1,0,0,1,0,0,0,0,0,0,0,0,0,0,0,0,0,0,0,0,14.95,"-",9.6,20.3,0,0,1,0,0,1,0,1,0,0,0,1,0,1,1,0,0,2]
[1,{"$f":"OFFSET(Input_Details!$Q$4,MATCH($A220, Input_Details!$J$5:$J$24, 0), 2)","v":"2017-11-22"},{"$f":"INDEX(Input_Details!$H$5:$H$24, MATCH($A220, Input_Details!$J$5:$J$24, 0), 0)","v":"Meadow Street"},{"$f":"INDEX(Input_Details!$I$5:$I$24, MATCH($A220, Input_Details!$J$5:$J$24, 0), 0)","v":"51.49499,-0.09696"},{"$f":"INDEX(Input_Details!$K$5:$K$24, MATCH($A220, Input_Details!$J$5:$J$24, 0), 0)","v":"Northbound"},"Wed","06:00:00",3,1,0,0,0,0,0,0,0,0,0,0,0,4,0,0,0,0,0,0,0,0,0,0,0,0,0,0,0,0,0,0,13.2,"-",11.9,14.2,{"$f":"INDEX(Input_Details!$L$5:$L$24, MATCH($A220, Input_Details!$J$5:$J$24, 0), 0)","v":"Southbound"},"Wed","06:00:00",0,1,0,0,0,0,0,0,0,0,0,0,0,1,0,0,0,0,0,0,0,0,0,0,0,0,0,0,0,0,0,0,12.2,"-",12.2,12.2,null,"Wed","06:00:00",3,2,0,0,0,0,0,0,0,0,0,0,0,5,0,0,0,0,0,0,0,0,0,0,0,0,0,0,0,0,0,0,13,"-",11.9,14.2,3,1,0,0,0,4,0,1,0,0,0,1,3,2,0,0,0,5]
[1,{"$f":"OFFSET(Input_Details!$Q$4,MATCH($A221, Input_Details!$J$5:$J$24, 0), 2)","v":"2017-11-22"},{"$f":"INDEX(Input_Details!$H$5:$H$24, MATCH($A221, Input_Details!$J$5:$J$24, 0), 0)","v":"Meadow Street"},{"$f":"INDEX(Input_Details!$I$5:$I$24, MATCH($A221, Input_Details!$J$5:$J$24, 0), 0)","v":"51.49499,-0.09696"},{"$f":"INDEX(Input_Details!$K$5:$K$24, MATCH($A221, Input_Details!$J$5:$J$24, 0), 0)","v":"Northbound"},"Wed","06:15:00",1,1,0,1,0,0,0,0,0,0,0,0,0,1,1,1,0,0,0,0,0,0,0,0,0,0,0,0,0,0,0,0,18.3,"-",13.2,22.1,{"$f":"INDEX(Input_Details!$L$5:$L$24, MATCH($A221, Input_Details!$J$5:$J$24, 0), 0)","v":"Southbound"},"Wed","06:15:00",0,1,0,0,0,0,0,0,0,0,0,0,0,0,0,1,0,0,0,0,0,0,0,0,0,0,0,0,0,0,0,0,20.100000000000001,"-",20.100000000000001,20.100000000000001,null,"Wed","06:15:00",1,2,0,1,0,0,0,0,0,0,0,0,0,1,1,2,0,0,0,0,0,0,0,0,0,0,0,0,0,0,0,0,18.75,"-",13.2,22.1,1,1,1,0,0,3,0,1,0,0,0,1,1,2,1,0,0,4]
[1,{"$f":"OFFSET(Input_Details!$Q$4,MATCH($A222, Input_Details!$J$5:$J$24, 0), 2)","v":"2017-11-22"},{"$f":"INDEX(Input_Details!$H$5:$H$24, MATCH($A222, Input_Details!$J$5:$J$24, 0), 0)","v":"Meadow Street"},{"$f":"INDEX(Input_Details!$I$5:$I$24, MATCH($A222, Input_Details!$J$5:$J$24, 0), 0)","v":"51.49499,-0.09696"},{"$f":"INDEX(Input_Details!$K$5:$K$24, MATCH($A222, Input_Details!$J$5:$J$24, 0), 0)","v":"Northbound"},"Wed","06:30:00",3,3,0,0,0,0,0,0,0,0,0,0,1,3,0,2,0,0,0,0,0,0,0,0,0,0,0,0,0,0,0,0,16.2,"-",8.9,23.5,{"$f":"INDEX(Input_Details!$L$5:$L$24, MATCH($A222, Input_Details!$J$5:$J$24, 0), 0)","v":"Southbound"},"Wed","06:30:00",1,2,0,0,0,0,0,0,0,0,0,0,0,3,0,0,0,0,0,0,0,0,0,0,0,0,0,0,0,0,0,0,12.6,"-",11.1,14,null,"Wed","06:30:00",4,5,0,0,0,0,0,0,0,0,0,0,1,6,0,2,0,0,0,0,0,0,0,0,0,0,0,0,0,0,0,0,15,"-",8.9,23.5,3,3,0,0,0,6,1,2,0,0,0,3,4,5,0,0,0,9]
[1,{"$f":"OFFSET(Input_Details!$Q$4,MATCH($A223, Input_Details!$J$5:$J$24, 0), 2)","v":"2017-11-22"},{"$f":"INDEX(Input_Details!$H$5:$H$24, MATCH($A223, Input_Details!$J$5:$J$24, 0), 0)","v":"Meadow Street"},{"$f":"INDEX(Input_Details!$I$5:$I$24, MATCH($A223, Input_Details!$J$5:$J$24, 0), 0)","v":"51.49499,-0.09696"},{"$f":"INDEX(Input_Details!$K$5:$K$24, MATCH($A223, Input_Details!$J$5:$J$24, 0), 0)","v":"Northbound"},"Wed","06:45:00",12,0,0,1,0,0,0,0,0,0,0,0,3,7,3,0,0,0,0,0,0,0,0,0,0,0,0,0,0,0,0,0,12.8,15.9,7.3,17.8,{"$f":"INDEX(Input_Details!$L$5:$L$24, MATCH($A223, Input_Details!$J$5:$J$24, 0), 0)","v":"Southbound"},"Wed","06:45:00",0,1,0,0,0,1,0,0,0,0,0,0,0,1,1,0,0,0,0,0,0,0,0,0,0,0,0,0,0,0,0,0,13.2,"-",10.5,15.9,null,"Wed","06:45:00",12,1,0,1,0,1,0,0,0,0,0,0,3,8,4,0,0,0,0,0,0,0,0,0,0,0,0,0,0,0,0,0,12.853333333333333,15.9,7.3,17.8,12,0,1,0,0,13,0,1,0,0,1,2,12,1,1,0,1,15]
[1,{"$f":"OFFSET(Input_Details!$Q$4,MATCH($A224, Input_Details!$J$5:$J$24, 0), 2)","v":"2017-11-22"},{"$f":"INDEX(Input_Details!$H$5:$H$24, MATCH($A224, Input_Details!$J$5:$J$24, 0), 0)","v":"Meadow Street"},{"$f":"INDEX(Input_Details!$I$5:$I$24, MATCH($A224, Input_Details!$J$5:$J$24, 0), 0)","v":"51.49499,-0.09696"},{"$f":"INDEX(Input_Details!$K$5:$K$24, MATCH($A224, Input_Details!$J$5:$J$24, 0), 0)","v":"Northbound"},"Wed","07:00:00",11,0,0,1,0,1,0,0,0,0,0,0,0,11,1,1,0,0,0,0,0,0,0,0,0,0,0,0,0,0,0,0,13.4,13.2,11.4,20.6,{"$f":"INDEX(Input_Details!$L$5:$L$24, MATCH($A224, Input_Details!$J$5:$J$24, 0), 0)","v":"Southbound"},"Wed","07:00:00",0,3,0,0,0,0,0,0,0,0,0,0,1,1,1,0,0,0,0,0,0,0,0,0,0,0,0,0,0,0,0,0,12.1,"-",5.4,19.600000000000001,null,"Wed","07:00:00",11,3,0,1,0,1,0,0,0,0,0,0,1,12,2,1,0,0,0,0,0,0,0,0,0,0,0,0,0,0,0,0,13.15625,13.2,5.4,20.6,11,0,1,0,1,13,0,3,0,0,0,3,11,3,1,0,1,16]
[1,{"$f":"OFFSET(Input_Details!$Q$4,MATCH($A225, Input_Details!$J$5:$J$24, 0), 2)","v":"2017-11-22"},{"$f":"INDEX(Input_Details!$H$5:$H$24, MATCH($A225, Input_Details!$J$5:$J$24, 0), 0)","v":"Meadow Street"},{"$f":"INDEX(Input_Details!$I$5:$I$24, MATCH($A225, Input_Details!$J$5:$J$24, 0), 0)","v":"51.49499,-0.09696"},{"$f":"INDEX(Input_Details!$K$5:$K$24, MATCH($A225, Input_Details!$J$5:$J$24, 0), 0)","v":"Northbound"},"Wed","07:15:00",7,5,0,0,0,2,0,0,0,0,0,0,0,10,2,2,0,0,0,0,0,0,0,0,0,0,0,0,0,0,0,0,14.4,16.8,11.4,22.6,{"$f":"INDEX(Input_Details!$L$5:$L$24, MATCH($A225, Input_Details!$J$5:$J$24, 0), 0)","v":"Southbound"},"Wed","07:15:00",0,1,0,1,0,0,0,0,0,0,0,0,0,2,0,0,0,0,0,0,0,0,0,0,0,0,0,0,0,0,0,0,11.1,"-",10.4,11.9,null,"Wed","07:15:00",7,6,0,1,0,2,0,0,0,0,0,0,0,12,2,2,0,0,0,0,0,0,0,0,0,0,0,0,0,0,0,0,13.987499999999999,16.8,10.4,22.6,7,5,0,0,2,14,0,1,1,0,0,2,7,6,1,0,2,16]
[1,{"$f":"OFFSET(Input_Details!$Q$4,MATCH($A226, Input_Details!$J$5:$J$24, 0), 2)","v":"2017-11-22"},{"$f":"INDEX(Input_Details!$H$5:$H$24, MATCH($A226, Input_Details!$J$5:$J$24, 0), 0)","v":"Meadow Street"},{"$f":"INDEX(Input_Details!$I$5:$I$24, MATCH($A226, Input_Details!$J$5:$J$24, 0), 0)","v":"51.49499,-0.09696"},{"$f":"INDEX(Input_Details!$K$5:$K$24, MATCH($A226, Input_Details!$J$5:$J$24, 0), 0)","v":"Northbound"},"Wed","07:30:00",14,4,0,0,0,1,0,0,0,0,0,0,1,12,6,0,0,0,0,0,0,0,0,0,0,0,0,0,0,0,0,0,13.9,16.100000000000001,9.9,17.3,{"$f":"INDEX(Input_Details!$L$5:$L$24, MATCH($A226, Input_Details!$J$5:$J$24, 0), 0)","v":"Southbound"},"Wed","07:30:00",0,2,0,0,0,0,0,0,0,0,0,0,0,2,0,0,0,0,0,0,0,0,0,0,0,0,0,0,0,0,0,0,13.5,"-",13.4,13.6,null,"Wed","07:30:00",14,6,0,0,0,1,0,0,0,0,0,0,1,14,6,0,0,0,0,0,0,0,0,0,0,0,0,0,0,0,0,0,13.861904761904762,16.100000000000001,9.9,17.3,14,4,0,0,1,19,0,2,0,0,0,2,14,6,0,0,1,21]
[1,{"$f":"OFFSET(Input_Details!$Q$4,MATCH($A227, Input_Details!$J$5:$J$24, 0), 2)","v":"2017-11-22"},{"$f":"INDEX(Input_Details!$H$5:$H$24, MATCH($A227, Input_Details!$J$5:$J$24, 0), 0)","v":"Meadow Street"},{"$f":"INDEX(Input_Details!$I$5:$I$24, MATCH($A227, Input_Details!$J$5:$J$24, 0), 0)","v":"51.49499,-0.09696"},{"$f":"INDEX(Input_Details!$K$5:$K$24, MATCH($A227, Input_Details!$J$5:$J$24, 0), 0)","v":"Northbound"},"Wed","07:45:00",21,6,0,0,1,4,0,0,0,0,0,0,1,24,6,1,0,0,0,0,0,0,0,0,0,0,0,0,0,0,0,0,13.7,15.4,6.9,20.399999999999999,{"$f":"INDEX(Input_Details!$L$5:$L$24, MATCH($A227, Input_Details!$J$5:$J$24, 0), 0)","v":"Southbound"},"Wed","07:45:00",2,3,0,0,0,0,0,0,0,0,0,0,0,2,3,0,0,0,0,0,0,0,0,0,0,0,0,0,0,0,0,0,14.9,"-",11.3,18.7,null,"Wed","07:45:00",23,9,0,0,1,4,0,0,0,0,0,0,1,26,9,1,0,0,0,0,0,0,0,0,0,0,0,0,0,0,0,0,13.862162162162161,15.4,6.9,20.399999999999999,21,6,0,1,4,32,2,3,0,0,0,5,23,9,0,1,4,37]
[1,{"$f":"OFFSET(Input_Details!$Q$4,MATCH($A228, Input_Details!$J$5:$J$24, 0), 2)","v":"2017-11-22"},{"$f":"INDEX(Input_Details!$H$5:$H$24, MATCH($A228, Input_Details!$J$5:$J$24, 0), 0)","v":"Meadow Street"},{"$f":"INDEX(Input_Details!$I$5:$I$24, MATCH($A228, Input_Details!$J$5:$J$24, 0), 0)","v":"51.49499,-0.09696"},{"$f":"INDEX(Input_Details!$K$5:$K$24, MATCH($A228, Input_Details!$J$5:$J$24, 0), 0)","v":"Northbound"},"Wed","08:00:00",24,3,0,2,0,1,0,0,0,0,0,0,2,19,9,0,0,0,0,0,0,0,0,0,0,0,0,0,0,0,0,0,13.2,15.7,6.5,16.7,{"$f":"INDEX(Input_Details!$L$5:$L$24, MATCH($A228, Input_Details!$J$5:$J$24, 0), 0)","v":"Southbound"},"Wed","08:00:00",1,2,0,1,0,0,0,0,0,0,0,0,1,3,0,0,0,0,0,0,0,0,0,0,0,0,0,0,0,0,0,0,11.3,"-",6.5,13.8,null,"Wed","08:00:00",25,5,0,3,0,1,0,0,0,0,0,0,3,22,9,0,0,0,0,0,0,0,0,0,0,0,0,0,0,0,0,0,12.976470588235294,15.7,6.5,16.7,24,3,2,0,1,30,1,2,1,0,0,4,25,5,3,0,1,34]
[1,{"$f":"OFFSET(Input_Details!$Q$4,MATCH($A229, Input_Details!$J$5:$J$24, 0), 2)","v":"2017-11-22"},{"$f":"INDEX(Input_Details!$H$5:$H$24, MATCH($A229, Input_Details!$J$5:$J$24, 0), 0)","v":"Meadow Street"},{"$f":"INDEX(Input_Details!$I$5:$I$24, MATCH($A229, Input_Details!$J$5:$J$24, 0), 0)","v":"51.49499,-0.09696"},{"$f":"INDEX(Input_Details!$K$5:$K$24, MATCH($A229, Input_Details!$J$5:$J$24, 0), 0)","v":"Northbound"},"Wed","08:15:00",24,3,0,2,0,6,0,0,0,1,0,0,0,29,6,1,0,0,0,0,0,0,0,0,0,0,0,0,0,0,0,0,13.7,15.4,10.199999999999999,24.6,{"$f":"INDEX(Input_Details!$L$5:$L$24, MATCH($A229, Input_Details!$J$5:$J$24, 0), 0)","v":"Southbound"},"Wed","08:15:00",0,0,0,0,0,0,0,0,0,0,0,0,0,0,0,0,0,0,0,0,0,0,0,0,0,0,0,0,0,0,0,0,"-","-","-","-",null,"Wed","08:15:00",24,3,0,2,0,6,0,0,0,1,0,0,0,29,6,1,0,0,0,0,0,0,0,0,0,0,0,0,0,0,0,0,13.7,15.4,10.199999999999999,24.6,24,3,2,0,7,36,0,0,0,0,0,0,24,3,2,0,7,36]
[1,{"$f":"OFFSET(Input_Details!$Q$4,MATCH($A230, Input_Details!$J$5:$J$24, 0), 2)","v":"2017-11-22"},{"$f":"INDEX(Input_Details!$H$5:$H$24, MATCH($A230, Input_Details!$J$5:$J$24, 0), 0)","v":"Meadow Street"},{"$f":"INDEX(Input_Details!$I$5:$I$24, MATCH($A230, Input_Details!$J$5:$J$24, 0), 0)","v":"51.49499,-0.09696"},{"$f":"INDEX(Input_Details!$K$5:$K$24, MATCH($A230, Input_Details!$J$5:$J$24, 0), 0)","v":"Northbound"},"Wed","08:30:00",35,8,0,0,0,3,0,0,0,1,0,0,0,40,7,0,0,0,0,0,0,0,0,0,0,0,0,0,0,0,0,0,13.9,14.8,11.4,18.2,{"$f":"INDEX(Input_Details!$L$5:$L$24, MATCH($A230, Input_Details!$J$5:$J$24, 0), 0)","v":"Southbound"},"Wed","08:30:00",1,3,0,1,0,0,0,0,0,0,0,0,0,3,2,0,0,0,0,0,0,0,0,0,0,0,0,0,0,0,0,0,13.6,"-",10.1,16.2,null,"Wed","08:30:00",36,11,0,1,0,3,0,0,0,1,0,0,0,43,9,0,0,0,0,0,0,0,0,0,0,0,0,0,0,0,0,0,13.871153846153847,14.8,10.1,18.2,35,8,0,0,4,47,1,3,1,0,0,5,36,11,1,0,4,52]
[1,{"$f":"OFFSET(Input_Details!$Q$4,MATCH($A231, Input_Details!$J$5:$J$24, 0), 2)","v":"2017-11-22"},{"$f":"INDEX(Input_Details!$H$5:$H$24, MATCH($A231, Input_Details!$J$5:$J$24, 0), 0)","v":"Meadow Street"},{"$f":"INDEX(Input_Details!$I$5:$I$24, MATCH($A231, Input_Details!$J$5:$J$24, 0), 0)","v":"51.49499,-0.09696"},{"$f":"INDEX(Input_Details!$K$5:$K$24, MATCH($A231, Input_Details!$J$5:$J$24, 0), 0)","v":"Northbound"},"Wed","08:45:00",36,8,0,0,2,5,0,0,0,2,1,0,0,38,16,0,0,0,0,0,0,0,0,0,0,0,0,0,0,0,0,0,14.2,15.9,11.3,18.5,{"$f":"INDEX(Input_Details!$L$5:$L$24, MATCH($A231, Input_Details!$J$5:$J$24, 0), 0)","v":"Southbound"},"Wed","08:45:00",2,4,0,0,0,0,0,0,0,0,0,0,0,4,2,0,0,0,0,0,0,0,0,0,0,0,0,0,0,0,0,0,12.9,"-",10.6,15.9,null,"Wed","08:45:00",38,12,0,0,2,5,0,0,0,2,1,0,0,42,18,0,0,0,0,0,0,0,0,0,0,0,0,0,0,0,0,0,14.069999999999999,15.9,10.6,18.5,36,8,0,2,8,54,2,4,0,0,0,6,38,12,0,2,8,60]
[1,{"$f":"OFFSET(Input_Details!$Q$4,MATCH($A232, Input_Details!$J$5:$J$24, 0), 2)","v":"2017-11-22"},{"$f":"INDEX(Input_Details!$H$5:$H$24, MATCH($A232, Input_Details!$J$5:$J$24, 0), 0)","v":"Meadow Street"},{"$f":"INDEX(Input_Details!$I$5:$I$24, MATCH($A232, Input_Details!$J$5:$J$24, 0), 0)","v":"51.49499,-0.09696"},{"$f":"INDEX(Input_Details!$K$5:$K$24, MATCH($A232, Input_Details!$J$5:$J$24, 0), 0)","v":"Northbound"},"Wed","09:00:00",28,7,1,1,0,8,0,0,0,2,0,0,1,39,7,0,0,0,0,0,0,0,0,0,0,0,0,0,0,0,0,0,13.3,14.8,6,19.399999999999999,{"$f":"INDEX(Input_Details!$L$5:$L$24, MATCH($A232, Input_Details!$J$5:$J$24, 0), 0)","v":"Southbound"},"Wed","09:00:00",2,8,0,0,0,0,0,0,0,0,0,0,1,4,4,1,0,0,0,0,0,0,0,0,0,0,0,0,0,0,0,0,15.3,"-",9.4,21.6,null,"Wed","09:00:00",30,15,1,1,0,8,0,0,0,2,0,0,2,43,11,1,0,0,0,0,0,0,0,0,0,0,0,0,0,0,0,0,13.650877192982456,14.8,6,21.6,28,8,1,0,10,47,2,8,0,0,0,10,30,16,1,0,10,57]
[1,{"$f":"OFFSET(Input_Details!$Q$4,MATCH($A233, Input_Details!$J$5:$J$24, 0), 2)","v":"2017-11-22"},{"$f":"INDEX(Input_Details!$H$5:$H$24, MATCH($A233, Input_Details!$J$5:$J$24, 0), 0)","v":"Meadow Street"},{"$f":"INDEX(Input_Details!$I$5:$I$24, MATCH($A233, Input_Details!$J$5:$J$24, 0), 0)","v":"51.49499,-0.09696"},{"$f":"INDEX(Input_Details!$K$5:$K$24, MATCH($A233, Input_Details!$J$5:$J$24, 0), 0)","v":"Northbound"},"Wed","09:15:00",20,3,0,0,0,4,0,0,0,0,0,1,0,20,8,0,0,0,0,0,0,0,0,0,0,0,0,0,0,0,0,0,14.2,15.2,11.2,17.8,{"$f":"INDEX(Input_Details!$L$5:$L$24, MATCH($A233, Input_Details!$J$5:$J$24, 0), 0)","v":"Southbound"},"Wed","09:15:00",0,2,0,0,0,0,0,0,0,0,0,0,0,0,2,0,0,0,0,0,0,0,0,0,0,0,0,0,0,0,0,0,18.5,"-",17.3,19.7,null,"Wed","09:15:00",20,5,0,0,0,4,0,0,0,0,0,1,0,20,10,0,0,0,0,0,0,0,0,0,0,0,0,0,0,0,0,0,14.486666666666666,15.2,11.2,19.7,20,3,0,0,5,28,0,2,0,0,0,2,20,5,0,0,5,30]
[1,{"$f":"OFFSET(Input_Details!$Q$4,MATCH($A234, Input_Details!$J$5:$J$24, 0), 2)","v":"2017-11-22"},{"$f":"INDEX(Input_Details!$H$5:$H$24, MATCH($A234, Input_Details!$J$5:$J$24, 0), 0)","v":"Meadow Street"},{"$f":"INDEX(Input_Details!$I$5:$I$24, MATCH($A234, Input_Details!$J$5:$J$24, 0), 0)","v":"51.49499,-0.09696"},{"$f":"INDEX(Input_Details!$K$5:$K$24, MATCH($A234, Input_Details!$J$5:$J$24, 0), 0)","v":"Northbound"},"Wed","09:30:00",17,3,0,2,0,5,0,0,0,0,0,0,2,21,2,1,1,0,0,0,0,0,0,0,0,0,0,0,0,0,0,0,13.7,14.8,8.6,25.2,{"$f":"INDEX(Input_Details!$L$5:$L$24, MATCH($A234, Input_Details!$J$5:$J$24, 0), 0)","v":"Southbound"},"Wed","09:30:00",0,2,0,1,0,0,0,0,0,0,0,0,0,1,2,0,0,0,0,0,0,0,0,0,0,0,0,0,0,0,0,0,15.4,"-",12.9,18,null,"Wed","09:30:00",17,5,0,3,0,5,0,0,0,0,0,0,2,22,4,1,1,0,0,0,0,0,0,0,0,0,0,0,0,0,0,0,13.87,14.8,8.6,25.2,17,3,2,0,5,27,0,2,1,0,0,3,17,5,3,0,5,30]
[1,{"$f":"OFFSET(Input_Details!$Q$4,MATCH($A235, Input_Details!$J$5:$J$24, 0), 2)","v":"2017-11-22"},{"$f":"INDEX(Input_Details!$H$5:$H$24, MATCH($A235, Input_Details!$J$5:$J$24, 0), 0)","v":"Meadow Street"},{"$f":"INDEX(Input_Details!$I$5:$I$24, MATCH($A235, Input_Details!$J$5:$J$24, 0), 0)","v":"51.49499,-0.09696"},{"$f":"INDEX(Input_Details!$K$5:$K$24, MATCH($A235, Input_Details!$J$5:$J$24, 0), 0)","v":"Northbound"},"Wed","09:45:00",15,4,0,0,0,0,0,0,0,0,0,0,0,14,5,0,0,0,0,0,0,0,0,0,0,0,0,0,0,0,0,0,13.9,15.4,10.1,19.5,{"$f":"INDEX(Input_Details!$L$5:$L$24, MATCH($A235, Input_Details!$J$5:$J$24, 0), 0)","v":"Southbound"},"Wed","09:45:00",0,2,0,1,0,0,0,0,0,0,0,0,1,0,1,0,1,0,0,0,0,0,0,0,0,0,0,0,0,0,0,0,17.3,"-",8.5,25,null,"Wed","09:45:00",15,6,0,1,0,0,0,0,0,0,0,0,1,14,6,0,1,0,0,0,0,0,0,0,0,0,0,0,0,0,0,0,14.363636363636363,15.4,8.5,25,15,4,0,0,0,19,0,2,1,0,0,3,15,6,1,0,0,22]
[1,{"$f":"OFFSET(Input_Details!$Q$4,MATCH($A236, Input_Details!$J$5:$J$24, 0), 2)","v":"2017-11-22"},{"$f":"INDEX(Input_Details!$H$5:$H$24, MATCH($A236, Input_Details!$J$5:$J$24, 0), 0)","v":"Meadow Street"},{"$f":"INDEX(Input_Details!$I$5:$I$24, MATCH($A236, Input_Details!$J$5:$J$24, 0), 0)","v":"51.49499,-0.09696"},{"$f":"INDEX(Input_Details!$K$5:$K$24, MATCH($A236, Input_Details!$J$5:$J$24, 0), 0)","v":"Northbound"},"Wed","10:00:00",10,0,0,0,0,0,0,0,0,0,0,0,1,8,1,0,0,0,0,0,0,0,0,0,0,0,0,0,0,0,0,0,12,"-",4,15.6,{"$f":"INDEX(Input_Details!$L$5:$L$24, MATCH($A236, Input_Details!$J$5:$J$24, 0), 0)","v":"Southbound"},"Wed","10:00:00",0,2,0,1,0,0,0,0,0,0,0,0,0,1,2,0,0,0,0,0,0,0,0,0,0,0,0,0,0,0,0,0,16.3,"-",11.9,19,null,"Wed","10:00:00",10,2,0,1,0,0,0,0,0,0,0,0,1,9,3,0,0,0,0,0,0,0,0,0,0,0,0,0,0,0,0,0,12.992307692307692,"-",4,19,10,0,0,0,0,10,0,2,1,0,0,3,10,2,1,0,0,13]
[1,{"$f":"OFFSET(Input_Details!$Q$4,MATCH($A237, Input_Details!$J$5:$J$24, 0), 2)","v":"2017-11-22"},{"$f":"INDEX(Input_Details!$H$5:$H$24, MATCH($A237, Input_Details!$J$5:$J$24, 0), 0)","v":"Meadow Street"},{"$f":"INDEX(Input_Details!$I$5:$I$24, MATCH($A237, Input_Details!$J$5:$J$24, 0), 0)","v":"51.49499,-0.09696"},{"$f":"INDEX(Input_Details!$K$5:$K$24, MATCH($A237, Input_Details!$J$5:$J$24, 0), 0)","v":"Northbound"},"Wed","10:15:00",2,2,0,0,0,0,0,0,0,0,0,0,0,4,0,0,0,0,0,0,0,0,0,0,0,0,0,0,0,0,0,0,13.8,"-",12.6,14.9,{"$f":"INDEX(Input_Details!$L$5:$L$24, MATCH($A237, Input_Details!$J$5:$J$24, 0), 0)","v":"Southbound"},"Wed","10:15:00",1,4,0,0,0,0,0,0,0,0,0,0,0,1,4,0,0,0,0,0,0,0,0,0,0,0,0,0,0,0,0,0,15.5,"-",10.9,19.899999999999999,null,"Wed","10:15:00",3,6,0,0,0,0,0,0,0,0,0,0,0,5,4,0,0,0,0,0,0,0,0,0,0,0,0,0,0,0,0,0,14.744444444444444,"-",10.9,19.899999999999999,2,2,0,0,0,4,1,4,0,0,0,5,3,6,0,0,0,9]
[1,{"$f":"OFFSET(Input_Details!$Q$4,MATCH($A238, Input_Details!$J$5:$J$24, 0), 2)","v":"2017-11-22"},{"$f":"INDEX(Input_Details!$H$5:$H$24, MATCH($A238, Input_Details!$J$5:$J$24, 0), 0)","v":"Meadow Street"},{"$f":"INDEX(Input_Details!$I$5:$I$24, MATCH($A238, Input_Details!$J$5:$J$24, 0), 0)","v":"51.49499,-0.09696"},{"$f":"INDEX(Input_Details!$K$5:$K$24, MATCH($A238, Input_Details!$J$5:$J$24, 0), 0)","v":"Northbound"},"Wed","10:30:00",6,1,0,0,0,0,0,0,0,0,0,0,0,5,2,0,0,0,0,0,0,0,0,0,0,0,0,0,0,0,0,0,14.5,"-",12.8,17.399999999999999,{"$f":"INDEX(Input_Details!$L$5:$L$24, MATCH($A238, Input_Details!$J$5:$J$24, 0), 0)","v":"Southbound"},"Wed","10:30:00",0,4,0,1,0,0,0,0,0,0,0,0,0,1,2,2,0,0,0,0,0,0,0,0,0,0,0,0,0,0,0,0,17,"-",11.5,21.5,null,"Wed","10:30:00",6,5,0,1,0,0,0,0,0,0,0,0,0,6,4,2,0,0,0,0,0,0,0,0,0,0,0,0,0,0,0,0,15.541666666666666,"-",11.5,21.5,6,1,0,0,0,7,0,4,1,0,0,5,6,5,1,0,0,12]
[1,{"$f":"OFFSET(Input_Details!$Q$4,MATCH($A239, Input_Details!$J$5:$J$24, 0), 2)","v":"2017-11-22"},{"$f":"INDEX(Input_Details!$H$5:$H$24, MATCH($A239, Input_Details!$J$5:$J$24, 0), 0)","v":"Meadow Street"},{"$f":"INDEX(Input_Details!$I$5:$I$24, MATCH($A239, Input_Details!$J$5:$J$24, 0), 0)","v":"51.49499,-0.09696"},{"$f":"INDEX(Input_Details!$K$5:$K$24, MATCH($A239, Input_Details!$J$5:$J$24, 0), 0)","v":"Northbound"},"Wed","10:45:00",7,2,0,2,0,0,0,0,0,0,0,0,0,8,2,1,0,0,0,0,0,0,0,0,0,0,0,0,0,0,0,0,14.5,15.7,10.3,24.1,{"$f":"INDEX(Input_Details!$L$5:$L$24, MATCH($A239, Input_Details!$J$5:$J$24, 0), 0)","v":"Southbound"},"Wed","10:45:00",1,3,0,2,0,0,0,0,0,0,0,0,0,4,1,1,0,0,0,0,0,0,0,0,0,0,0,0,0,0,0,0,14.6,"-",10.1,20.2,null,"Wed","10:45:00",8,5,0,4,0,0,0,0,0,0,0,0,0,12,3,2,0,0,0,0,0,0,0,0,0,0,0,0,0,0,0,0,14.535294117647059,15.7,10.1,24.1,7,2,2,0,0,11,1,3,2,0,0,6,8,5,4,0,0,17]
[1,{"$f":"OFFSET(Input_Details!$Q$4,MATCH($A240, Input_Details!$J$5:$J$24, 0), 2)","v":"2017-11-22"},{"$f":"INDEX(Input_Details!$H$5:$H$24, MATCH($A240, Input_Details!$J$5:$J$24, 0), 0)","v":"Meadow Street"},{"$f":"INDEX(Input_Details!$I$5:$I$24, MATCH($A240, Input_Details!$J$5:$J$24, 0), 0)","v":"51.49499,-0.09696"},{"$f":"INDEX(Input_Details!$K$5:$K$24, MATCH($A240, Input_Details!$J$5:$J$24, 0), 0)","v":"Northbound"},"Wed","11:00:00",2,6,0,1,0,0,0,0,0,0,0,0,0,5,4,0,0,0,0,0,0,0,0,0,0,0,0,0,0,0,0,0,15,"-",10.3,19.7,{"$f":"INDEX(Input_Details!$L$5:$L$24, MATCH($A240, Input_Details!$J$5:$J$24, 0), 0)","v":"Southbound"},"Wed","11:00:00",1,6,0,1,0,0,0,0,0,0,0,0,0,4,2,2,0,0,0,0,0,0,0,0,0,0,0,0,0,0,0,0,16.2,"-",10.1,23.6,null,"Wed","11:00:00",3,12,0,2,0,0,0,0,0,0,0,0,0,9,6,2,0,0,0,0,0,0,0,0,0,0,0,0,0,0,0,0,15.564705882352943,"-",10.1,23.6,2,6,1,0,0,9,1,6,1,0,0,8,3,12,2,0,0,17]
[1,{"$f":"OFFSET(Input_Details!$Q$4,MATCH($A241, Input_Details!$J$5:$J$24, 0), 2)","v":"2017-11-22"},{"$f":"INDEX(Input_Details!$H$5:$H$24, MATCH($A241, Input_Details!$J$5:$J$24, 0), 0)","v":"Meadow Street"},{"$f":"INDEX(Input_Details!$I$5:$I$24, MATCH($A241, Input_Details!$J$5:$J$24, 0), 0)","v":"51.49499,-0.09696"},{"$f":"INDEX(Input_Details!$K$5:$K$24, MATCH($A241, Input_Details!$J$5:$J$24, 0), 0)","v":"Northbound"},"Wed","11:15:00",7,5,0,2,0,0,0,0,0,0,0,0,2,7,3,1,1,0,0,0,0,0,0,0,0,0,0,0,0,0,0,0,14.2,19,9.6999999999999993,26.1,{"$f":"INDEX(Input_Details!$L$5:$L$24, MATCH($A241, Input_Details!$J$5:$J$24, 0), 0)","v":"Southbound"},"Wed","11:15:00",0,0,0,1,0,0,0,0,0,0,0,0,0,0,1,0,0,0,0,0,0,0,0,0,0,0,0,0,0,0,0,0,17.899999999999999,"-",17.899999999999999,17.899999999999999,null,"Wed","11:15:00",7,5,0,3,0,0,0,0,0,0,0,0,2,7,4,1,1,0,0,0,0,0,0,0,0,0,0,0,0,0,0,0,14.446666666666665,19,9.6999999999999993,26.1,7,5,2,0,0,14,0,0,1,0,0,1,7,5,3,0,0,15]
[1,{"$f":"OFFSET(Input_Details!$Q$4,MATCH($A242, Input_Details!$J$5:$J$24, 0), 2)","v":"2017-11-22"},{"$f":"INDEX(Input_Details!$H$5:$H$24, MATCH($A242, Input_Details!$J$5:$J$24, 0), 0)","v":"Meadow Street"},{"$f":"INDEX(Input_Details!$I$5:$I$24, MATCH($A242, Input_Details!$J$5:$J$24, 0), 0)","v":"51.49499,-0.09696"},{"$f":"INDEX(Input_Details!$K$5:$K$24, MATCH($A242, Input_Details!$J$5:$J$24, 0), 0)","v":"Northbound"},"Wed","11:30:00",6,1,0,1,0,0,0,1,0,0,0,0,0,6,3,0,0,0,0,0,0,0,0,0,0,0,0,0,0,0,0,0,14.2,"-",10.6,19.899999999999999,{"$f":"INDEX(Input_Details!$L$5:$L$24, MATCH($A242, Input_Details!$J$5:$J$24, 0), 0)","v":"Southbound"},"Wed","11:30:00",1,2,0,1,0,0,0,0,0,0,0,0,0,1,3,0,0,0,0,0,0,0,0,0,0,0,0,0,0,0,0,0,16.100000000000001,"-",14,19.3,null,"Wed","11:30:00",7,3,0,2,0,0,0,1,0,0,0,0,0,7,6,0,0,0,0,0,0,0,0,0,0,0,0,0,0,0,0,0,14.784615384615384,"-",10.6,19.899999999999999,6,1,1,0,1,9,1,2,1,0,0,4,7,3,2,0,1,13]
[1,{"$f":"OFFSET(Input_Details!$Q$4,MATCH($A243, Input_Details!$J$5:$J$24, 0), 2)","v":"2017-11-22"},{"$f":"INDEX(Input_Details!$H$5:$H$24, MATCH($A243, Input_Details!$J$5:$J$24, 0), 0)","v":"Meadow Street"},{"$f":"INDEX(Input_Details!$I$5:$I$24, MATCH($A243, Input_Details!$J$5:$J$24, 0), 0)","v":"51.49499,-0.09696"},{"$f":"INDEX(Input_Details!$K$5:$K$24, MATCH($A243, Input_Details!$J$5:$J$24, 0), 0)","v":"Northbound"},"Wed","11:45:00",3,2,0,0,0,0,0,0,0,0,0,0,0,1,3,1,0,0,0,0,0,0,0,0,0,0,0,0,0,0,0,0,16.100000000000001,"-",10.7,21.5,{"$f":"INDEX(Input_Details!$L$5:$L$24, MATCH($A243, Input_Details!$J$5:$J$24, 0), 0)","v":"Southbound"},"Wed","11:45:00",3,3,0,1,0,0,0,0,0,0,0,0,0,4,1,1,0,1,0,0,0,0,0,0,0,0,0,0,0,0,0,0,17.7,"-",12.2,33.1,null,"Wed","11:45:00",6,5,0,1,0,0,0,0,0,0,0,0,0,5,4,2,0,1,0,0,0,0,0,0,0,0,0,0,0,0,0,0,17.033333333333331,"-",10.7,33.1,3,2,0,0,0,5,3,3,1,0,0,7,6,5,1,0,0,12]
[1,{"$f":"OFFSET(Input_Details!$Q$4,MATCH($A244, Input_Details!$J$5:$J$24, 0), 2)","v":"2017-11-22"},{"$f":"INDEX(Input_Details!$H$5:$H$24, MATCH($A244, Input_Details!$J$5:$J$24, 0), 0)","v":"Meadow Street"},{"$f":"INDEX(Input_Details!$I$5:$I$24, MATCH($A244, Input_Details!$J$5:$J$24, 0), 0)","v":"51.49499,-0.09696"},{"$f":"INDEX(Input_Details!$K$5:$K$24, MATCH($A244, Input_Details!$J$5:$J$24, 0), 0)","v":"Northbound"},"Wed","12:00:00",1,4,0,0,0,0,0,0,0,0,0,0,0,2,1,2,0,0,0,0,0,0,0,0,0,0,0,0,0,0,0,0,17.7,"-",12.6,21.8,{"$f":"INDEX(Input_Details!$L$5:$L$24, MATCH($A244, Input_Details!$J$5:$J$24, 0), 0)","v":"Southbound"},"Wed","12:00:00",4,4,0,0,0,0,0,0,0,0,0,0,2,3,1,2,0,0,0,0,0,0,0,0,0,0,0,0,0,0,0,0,14.2,"-",9.1,21.4,null,"Wed","12:00:00",5,8,0,0,0,0,0,0,0,0,0,0,2,5,2,4,0,0,0,0,0,0,0,0,0,0,0,0,0,0,0,0,15.546153846153846,"-",9.1,21.8,1,4,0,0,0,5,4,4,0,0,0,8,5,8,0,0,0,13]
[1,{"$f":"OFFSET(Input_Details!$Q$4,MATCH($A245, Input_Details!$J$5:$J$24, 0), 2)","v":"2017-11-22"},{"$f":"INDEX(Input_Details!$H$5:$H$24, MATCH($A245, Input_Details!$J$5:$J$24, 0), 0)","v":"Meadow Street"},{"$f":"INDEX(Input_Details!$I$5:$I$24, MATCH($A245, Input_Details!$J$5:$J$24, 0), 0)","v":"51.49499,-0.09696"},{"$f":"INDEX(Input_Details!$K$5:$K$24, MATCH($A245, Input_Details!$J$5:$J$24, 0), 0)","v":"Northbound"},"Wed","12:15:00",6,2,0,1,0,0,0,0,0,0,0,0,1,4,3,1,0,0,0,0,0,0,0,0,0,0,0,0,0,0,0,0,14,"-",8.1999999999999993,20.5,{"$f":"INDEX(Input_Details!$L$5:$L$24, MATCH($A245, Input_Details!$J$5:$J$24, 0), 0)","v":"Southbound"},"Wed","12:15:00",2,4,0,1,0,0,0,0,0,0,0,0,1,3,2,1,0,0,0,0,0,0,0,0,0,0,0,0,0,0,0,0,14.9,"-",9.6,20.399999999999999,null,"Wed","12:15:00",8,6,0,2,0,0,0,0,0,0,0,0,2,7,5,2,0,0,0,0,0,0,0,0,0,0,0,0,0,0,0,0,14.393750000000001,"-",8.1999999999999993,20.5,6,2,1,0,0,9,2,4,1,0,0,7,8,6,2,0,0,16]
[1,{"$f":"OFFSET(Input_Details!$Q$4,MATCH($A246, Input_Details!$J$5:$J$24, 0), 2)","v":"2017-11-22"},{"$f":"INDEX(Input_Details!$H$5:$H$24, MATCH($A246, Input_Details!$J$5:$J$24, 0), 0)","v":"Meadow Street"},{"$f":"INDEX(Input_Details!$I$5:$I$24, MATCH($A246, Input_Details!$J$5:$J$24, 0), 0)","v":"51.49499,-0.09696"},{"$f":"INDEX(Input_Details!$K$5:$K$24, MATCH($A246, Input_Details!$J$5:$J$24, 0), 0)","v":"Northbound"},"Wed","12:30:00",1,1,0,1,0,1,0,0,0,0,0,0,0,3,1,0,0,0,0,0,0,0,0,0,0,0,0,0,0,0,0,0,12.2,"-",11,15.4,{"$f":"INDEX(Input_Details!$L$5:$L$24, MATCH($A246, Input_Details!$J$5:$J$24, 0), 0)","v":"Southbound"},"Wed","12:30:00",1,4,0,2,0,1,0,0,0,0,0,0,1,5,2,0,0,0,0,0,0,0,0,0,0,0,0,0,0,0,0,0,13.1,"-",8.6999999999999993,17.600000000000001,null,"Wed","12:30:00",2,5,0,3,0,2,0,0,0,0,0,0,1,8,3,0,0,0,0,0,0,0,0,0,0,0,0,0,0,0,0,0,12.799999999999999,"-",8.6999999999999993,17.600000000000001,1,1,1,0,1,4,1,4,2,0,1,8,2,5,3,0,2,12]
[1,{"$f":"OFFSET(Input_Details!$Q$4,MATCH($A247, Input_Details!$J$5:$J$24, 0), 2)","v":"2017-11-22"},{"$f":"INDEX(Input_Details!$H$5:$H$24, MATCH($A247, Input_Details!$J$5:$J$24, 0), 0)","v":"Meadow Street"},{"$f":"INDEX(Input_Details!$I$5:$I$24, MATCH($A247, Input_Details!$J$5:$J$24, 0), 0)","v":"51.49499,-0.09696"},{"$f":"INDEX(Input_Details!$K$5:$K$24, MATCH($A247, Input_Details!$J$5:$J$24, 0), 0)","v":"Northbound"},"Wed","12:45:00",3,0,0,1,0,0,0,0,0,0,0,0,0,4,0,0,0,0,0,0,0,0,0,0,0,0,0,0,0,0,0,0,12.4,"-",10.8,14.2,{"$f":"INDEX(Input_Details!$L$5:$L$24, MATCH($A247, Input_Details!$J$5:$J$24, 0), 0)","v":"Southbound"},"Wed","12:45:00",3,1,0,1,0,0,0,0,0,0,0,0,0,4,1,0,0,0,0,0,0,0,0,0,0,0,0,0,0,0,0,0,12.5,"-",10.6,15.7,null,"Wed","12:45:00",6,1,0,2,0,0,0,0,0,0,0,0,0,8,1,0,0,0,0,0,0,0,0,0,0,0,0,0,0,0,0,0,12.455555555555556,"-",10.6,15.7,3,0,1,0,0,4,3,1,1,0,0,5,6,1,2,0,0,9]
[1,{"$f":"OFFSET(Input_Details!$Q$4,MATCH($A248, Input_Details!$J$5:$J$24, 0), 2)","v":"2017-11-22"},{"$f":"INDEX(Input_Details!$H$5:$H$24, MATCH($A248, Input_Details!$J$5:$J$24, 0), 0)","v":"Meadow Street"},{"$f":"INDEX(Input_Details!$I$5:$I$24, MATCH($A248, Input_Details!$J$5:$J$24, 0), 0)","v":"51.49499,-0.09696"},{"$f":"INDEX(Input_Details!$K$5:$K$24, MATCH($A248, Input_Details!$J$5:$J$24, 0), 0)","v":"Northbound"},"Wed","13:00:00",3,4,0,2,0,0,0,0,0,0,0,0,0,3,4,2,0,0,0,0,0,0,0,0,0,0,0,0,0,0,0,0,16.2,"-",10.3,22,{"$f":"INDEX(Input_Details!$L$5:$L$24, MATCH($A248, Input_Details!$J$5:$J$24, 0), 0)","v":"Southbound"},"Wed","13:00:00",1,4,0,0,0,0,0,0,0,0,0,0,0,3,1,1,0,0,0,0,0,0,0,0,0,0,0,0,0,0,0,0,15.3,"-",11.4,21.6,null,"Wed","13:00:00",4,8,0,2,0,0,0,0,0,0,0,0,0,6,5,3,0,0,0,0,0,0,0,0,0,0,0,0,0,0,0,0,15.878571428571428,"-",10.3,22,3,4,2,0,0,9,1,4,0,0,0,5,4,8,2,0,0,14]
[1,{"$f":"OFFSET(Input_Details!$Q$4,MATCH($A249, Input_Details!$J$5:$J$24, 0), 2)","v":"2017-11-22"},{"$f":"INDEX(Input_Details!$H$5:$H$24, MATCH($A249, Input_Details!$J$5:$J$24, 0), 0)","v":"Meadow Street"},{"$f":"INDEX(Input_Details!$I$5:$I$24, MATCH($A249, Input_Details!$J$5:$J$24, 0), 0)","v":"51.49499,-0.09696"},{"$f":"INDEX(Input_Details!$K$5:$K$24, MATCH($A249, Input_Details!$J$5:$J$24, 0), 0)","v":"Northbound"},"Wed","13:15:00",3,3,0,0,0,0,0,0,0,0,0,0,1,4,1,0,0,0,0,0,0,0,0,0,0,0,0,0,0,0,0,0,11.7,"-",4,16.7,{"$f":"INDEX(Input_Details!$L$5:$L$24, MATCH($A249, Input_Details!$J$5:$J$24, 0), 0)","v":"Southbound"},"Wed","13:15:00",2,5,0,0,1,1,0,0,0,0,0,0,3,5,1,0,0,0,0,0,0,0,0,0,0,0,0,0,0,0,0,0,10.6,"-",4,19,null,"Wed","13:15:00",5,8,0,0,1,1,0,0,0,0,0,0,4,9,2,0,0,0,0,0,0,0,0,0,0,0,0,0,0,0,0,0,11.039999999999997,"-",4,19,3,3,0,0,0,6,2,5,0,1,1,9,5,8,0,1,1,15]
[1,{"$f":"OFFSET(Input_Details!$Q$4,MATCH($A250, Input_Details!$J$5:$J$24, 0), 2)","v":"2017-11-22"},{"$f":"INDEX(Input_Details!$H$5:$H$24, MATCH($A250, Input_Details!$J$5:$J$24, 0), 0)","v":"Meadow Street"},{"$f":"INDEX(Input_Details!$I$5:$I$24, MATCH($A250, Input_Details!$J$5:$J$24, 0), 0)","v":"51.49499,-0.09696"},{"$f":"INDEX(Input_Details!$K$5:$K$24, MATCH($A250, Input_Details!$J$5:$J$24, 0), 0)","v":"Northbound"},"Wed","13:30:00",3,5,0,0,0,0,0,0,0,0,0,0,1,3,4,0,0,0,0,0,0,0,0,0,0,0,0,0,0,0,0,0,13.9,"-",7.5,19.600000000000001,{"$f":"INDEX(Input_Details!$L$5:$L$24, MATCH($A250, Input_Details!$J$5:$J$24, 0), 0)","v":"Southbound"},"Wed","13:30:00",4,3,0,1,0,0,0,0,0,0,0,0,1,4,2,1,0,0,0,0,0,0,0,0,0,0,0,0,0,0,0,0,14,"-",9.6999999999999993,21.3,null,"Wed","13:30:00",7,8,0,1,0,0,0,0,0,0,0,0,2,7,6,1,0,0,0,0,0,0,0,0,0,0,0,0,0,0,0,0,13.95,"-",7.5,21.3,3,5,0,0,0,8,4,3,1,0,0,8,7,8,1,0,0,16]
[1,{"$f":"OFFSET(Input_Details!$Q$4,MATCH($A254, Input_Details!$J$5:$J$24, 0), 2)","v":"2017-11-22"},{"$f":"INDEX(Input_Details!$H$5:$H$24, MATCH($A254, Input_Details!$J$5:$J$24, 0), 0)","v":"Meadow Street"},{"$f":"INDEX(Input_Details!$I$5:$I$24, MATCH($A254, Input_Details!$J$5:$J$24, 0), 0)","v":"51.49499,-0.09696"},{"$f":"INDEX(Input_Details!$K$5:$K$24, MATCH($A254, Input_Details!$J$5:$J$24, 0), 0)","v":"Northbound"},"Wed","14:30:00",3,3,0,2,0,0,0,0,0,0,0,0,1,6,1,0,0,0,0,0,0,0,0,0,0,0,0,0,0,0,0,0,12.2,"-",2.8,15.5,{"$f":"INDEX(Input_Details!$L$5:$L$24, MATCH($A254, Input_Details!$J$5:$J$24, 0), 0)","v":"Southbound"},"Wed","14:30:00",2,2,0,1,0,0,0,0,0,0,0,0,1,4,0,0,0,0,0,0,0,0,0,0,0,0,0,0,0,0,0,0,10.199999999999999,"-",2.8,13.9,null,"Wed","14:30:00",5,5,0,3,0,0,0,0,0,0,0,0,2,10,1,0,0,0,0,0,0,0,0,0,0,0,0,0,0,0,0,0,11.430769230769231,"-",2.8,15.5,3,3,2,0,0,8,2,2,1,0,0,5,5,5,3,0,0,13]
[1,{"$f":"OFFSET(Input_Details!$Q$4,MATCH($A297, Input_Details!$J$5:$J$24, 0), 3)","v":"2017-11-23"},{"$f":"INDEX(Input_Details!$H$5:$H$24, MATCH($A297, Input_Details!$J$5:$J$24, 0), 0)","v":"Meadow Street"},{"$f":"INDEX(Input_Details!$I$5:$I$24, MATCH($A297, Input_Details!$J$5:$J$24, 0), 0)","v":"51.49499,-0.09696"},{"$f":"INDEX(Input_Details!$K$5:$K$24, MATCH($A297, Input_Details!$J$5:$J$24, 0), 0)","v":"Northbound"},"Thu","01:15:00",0,1,0,1,0,0,0,0,0,0,0,0,0,1,1,0,0,0,0,0,0,0,0,0,0,0,0,0,0,0,0,0,13.2,"-",11.3,15.1,{"$f":"INDEX(Input_Details!$L$5:$L$24, MATCH($A297, Input_Details!$J$5:$J$24, 0), 0)","v":"Southbound"},"Thu","01:15:00",0,0,0,1,0,0,0,0,0,0,0,0,0,0,1,0,0,0,0,0,0,0,0,0,0,0,0,0,0,0,0,0,19.100000000000001,"-",19.100000000000001,19.100000000000001,null,"Thu","01:15:00",0,1,0,2,0,0,0,0,0,0,0,0,0,1,2,0,0,0,0,0,0,0,0,0,0,0,0,0,0,0,0,0,15.166666666666666,"-",11.3,19.100000000000001,0,1,1,0,0,2,0,0,1,0,0,1,0,1,2,0,0,3]
[1,{"$f":"OFFSET(Input_Details!$Q$4,MATCH($A336, Input_Details!$J$5:$J$24, 0), 3)","v":"2017-11-23"},{"$f":"INDEX(Input_Details!$H$5:$H$24, MATCH($A336, Input_Details!$J$5:$J$24, 0), 0)","v":"Meadow Street"},{"$f":"INDEX(Input_Details!$I$5:$I$24, MATCH($A336, Input_Details!$J$5:$J$24, 0), 0)","v":"51.49499,-0.09696"},{"$f":"INDEX(Input_Details!$K$5:$K$24, MATCH($A336, Input_Details!$J$5:$J$24, 0), 0)","v":"Northbound"},"Thu","11:00:00",6,8,0,1,0,0,0,0,0,0,0,0,1,9,4,1,0,0,0,0,0,0,0,0,0,0,0,0,0,0,0,0,14.7,17.7,9.5,21.2,{"$f":"INDEX(Input_Details!$L$5:$L$24, MATCH($A336, Input_Details!$J$5:$J$24, 0), 0)","v":"Southbound"},"Thu","11:00:00",1,5,0,1,0,0,0,0,0,0,0,0,0,2,3,2,0,0,0,0,0,0,0,0,0,0,0,0,0,0,0,0,17.3,"-",12.1,22.6,null,"Thu","11:00:00",7,13,0,2,0,0,0,0,0,0,0,0,1,11,7,3,0,0,0,0,0,0,0,0,0,0,0,0,0,0,0,0,15.527272727272729,17.7,9.5,22.6,6,8,1,0,0,15,1,5,1,0,0,7,7,13,2,0,0,22]
[1,{"$f":"OFFSET(Input_Details!$Q$4,MATCH($A372, Input_Details!$J$5:$J$24, 0), 3)","v":"2017-11-23"},{"$f":"INDEX(Input_Details!$H$5:$H$24, MATCH($A372, Input_Details!$J$5:$J$24, 0), 0)","v":"Meadow Street"},{"$f":"INDEX(Input_Details!$I$5:$I$24, MATCH($A372, Input_Details!$J$5:$J$24, 0), 0)","v":"51.49499,-0.09696"},{"$f":"INDEX(Input_Details!$K$5:$K$24, MATCH($A372, Input_Details!$J$5:$J$24, 0), 0)","v":"Northbound"},"Thu","20:00:00",0,2,0,0,0,0,0,0,0,0,0,0,0,1,1,0,0,0,0,0,0,0,0,0,0,0,0,0,0,0,0,0,14.4,"-",10,18.7,{"$f":"INDEX(Input_Details!$L$5:$L$24, MATCH($A372, Input_Details!$J$5:$J$24, 0), 0)","v":"Southbound"},"Thu","20:00:00",7,8,0,2,0,2,0,0,0,0,0,0,3,6,8,1,1,0,0,0,0,0,0,0,0,0,0,0,0,0,0,0,15.3,18.3,8.8000000000000007,25.5,null,"Thu","20:00:00",7,10,0,2,0,2,0,0,0,0,0,0,3,7,9,1,1,0,0,0,0,0,0,0,0,0,0,0,0,0,0,0,15.214285714285714,18.3,8.8000000000000007,25.5,0,2,0,0,0,2,7,8,2,0,2,19,7,10,2,0,2,21]
[1,{"$f":"OFFSET(Input_Details!$Q$4,MATCH($A386, Input_Details!$J$5:$J$24, 0), 3)","v":"2017-11-23"},{"$f":"INDEX(Input_Details!$H$5:$H$24, MATCH($A386, Input_Details!$J$5:$J$24, 0), 0)","v":"Meadow Street"},{"$f":"INDEX(Input_Details!$I$5:$I$24, MATCH($A386, Input_Details!$J$5:$J$24, 0), 0)","v":"51.49499,-0.09696"},{"$f":"INDEX(Input_Details!$K$5:$K$24, MATCH($A386, Input_Details!$J$5:$J$24, 0), 0)","v":"Northbound"},"Thu","23:30:00",0,1,0,0,0,0,0,0,0,0,0,0,0,0,1,0,0,0,0,0,0,0,0,0,0,0,0,0,0,0,0,0,16.7,"-",16.7,16.7,{"$f":"INDEX(Input_Details!$L$5:$L$24, MATCH($A386, Input_Details!$J$5:$J$24, 0), 0)","v":"Southbound"},"Thu","23:30:00",4,15,0,0,0,0,0,0,0,0,0,0,1,9,9,0,0,0,0,0,0,0,0,0,0,0,0,0,0,0,0,0,14.4,17,8.8000000000000007,19.8,null,"Thu","23:30:00",4,16,0,0,0,0,0,0,0,0,0,0,1,9,10,0,0,0,0,0,0,0,0,0,0,0,0,0,0,0,0,0,14.515000000000001,17,8.8000000000000007,19.8,0,1,0,0,0,1,4,15,0,0,0,19,4,16,0,0,0,20]
[1,{"$f":"OFFSET(Input_Details!$Q$4,MATCH($A425, Input_Details!$J$5:$J$24, 0), 4)","v":"2017-11-17"},{"$f":"INDEX(Input_Details!$H$5:$H$24, MATCH($A425, Input_Details!$J$5:$J$24, 0), 0)","v":"Meadow Street"},{"$f":"INDEX(Input_Details!$I$5:$I$24, MATCH($A425, Input_Details!$J$5:$J$24, 0), 0)","v":"51.49499,-0.09696"},{"$f":"INDEX(Input_Details!$K$5:$K$24, MATCH($A425, Input_Details!$J$5:$J$24, 0), 0)","v":"Northbound"},"Fri","09:15:00",14,4,0,0,0,0,0,0,0,0,0,0,1,14,3,0,0,0,0,0,0,0,0,0,0,0,0,0,0,0,0,0,13.9,14.8,9.5,18,{"$f":"INDEX(Input_Details!$L$5:$L$24, MATCH($A425, Input_Details!$J$5:$J$24, 0), 0)","v":"Southbound"},"Fri","09:15:00",1,2,0,0,0,0,0,1,0,0,0,0,0,2,2,0,0,0,0,0,0,0,0,0,0,0,0,0,0,0,0,0,15.7,"-",13.4,18.8,null,"Fri","09:15:00",15,6,0,0,0,0,0,1,0,0,0,0,1,16,5,0,0,0,0,0,0,0,0,0,0,0,0,0,0,0,0,0,14.227272727272727,14.8,9.5,18.8,14,4,0,0,0,18,1,2,0,0,1,4,15,6,0,0,1,22]
[1,{"$f":"OFFSET(Input_Details!$Q$4,MATCH($A473, Input_Details!$J$5:$J$24, 0), 4)","v":"2017-11-17"},{"$f":"INDEX(Input_Details!$H$5:$H$24, MATCH($A473, Input_Details!$J$5:$J$24, 0), 0)","v":"Meadow Street"},{"$f":"INDEX(Input_Details!$I$5:$I$24, MATCH($A473, Input_Details!$J$5:$J$24, 0), 0)","v":"51.49499,-0.09696"},{"$f":"INDEX(Input_Details!$K$5:$K$24, MATCH($A473, Input_Details!$J$5:$J$24, 0), 0)","v":"Northbound"},"Fri","21:15:00",0,8,0,0,0,1,0,0,0,0,0,0,1,3,5,0,0,0,0,0,0,0,0,0,0,0,0,0,0,0,0,0,14.2,"-",7.8,17,{"$f":"INDEX(Input_Details!$L$5:$L$24, MATCH($A473, Input_Details!$J$5:$J$24, 0), 0)","v":"Southbound"},"Fri","21:15:00",3,5,0,0,0,1,0,0,0,0,0,0,1,5,1,1,1,0,0,0,0,0,0,0,0,0,0,0,0,0,0,0,15.1,"-",7.4,26.5,null,"Fri","21:15:00",3,13,0,0,0,2,0,0,0,0,0,0,2,8,6,1,1,0,0,0,0,0,0,0,0,0,0,0,0,0,0,0,14.649999999999999,"-",7.4,26.5,0,8,0,0,1,9,3,5,0,0,1,9,3,13,0,0,2,18]
[1,{"$f":"OFFSET(Input_Details!$Q$4,MATCH($A508, Input_Details!$J$5:$J$24, 0), 5)","v":"2017-11-18"},{"$f":"INDEX(Input_Details!$H$5:$H$24, MATCH($A508, Input_Details!$J$5:$J$24, 0), 0)","v":"Meadow Street"},{"$f":"INDEX(Input_Details!$I$5:$I$24, MATCH($A508, Input_Details!$J$5:$J$24, 0), 0)","v":"51.49499,-0.09696"},{"$f":"INDEX(Input_Details!$K$5:$K$24, MATCH($A508, Input_Details!$J$5:$J$24, 0), 0)","v":"Northbound"},"Sat","06:00:00",0,2,0,0,0,0,0,0,0,0,0,0,0,2,0,0,0,0,0,0,0,0,0,0,0,0,0,0,0,0,0,0,10.9,"-",10.6,11.3,{"$f":"INDEX(Input_Details!$L$5:$L$24, MATCH($A508, Input_Details!$J$5:$J$24, 0), 0)","v":"Southbound"},"Sat","06:00:00",0,1,0,0,0,0,0,0,0,0,0,0,0,0,1,0,0,0,0,0,0,0,0,0,0,0,0,0,0,0,0,0,19.100000000000001,"-",19.100000000000001,19.100000000000001,null,"Sat","06:00:00",0,3,0,0,0,0,0,0,0,0,0,0,0,2,1,0,0,0,0,0,0,0,0,0,0,0,0,0,0,0,0,0,13.633333333333335,"-",10.6,19.100000000000001,0,2,0,0,0,2,0,1,0,0,0,1,0,3,0,0,0,3]
[1,{"$f":"OFFSET(Input_Details!$Q$4,MATCH($A518, Input_Details!$J$5:$J$24, 0), 5)","v":"2017-11-18"},{"$f":"INDEX(Input_Details!$H$5:$H$24, MATCH($A518, Input_Details!$J$5:$J$24, 0), 0)","v":"Meadow Street"},{"$f":"INDEX(Input_Details!$I$5:$I$24, MATCH($A518, Input_Details!$J$5:$J$24, 0), 0)","v":"51.49499,-0.09696"},{"$f":"INDEX(Input_Details!$K$5:$K$24, MATCH($A518, Input_Details!$J$5:$J$24, 0), 0)","v":"Northbound"},"Sat","08:30:00",2,1,0,1,0,0,0,0,0,0,0,0,0,2,1,1,0,0,0,0,0,0,0,0,0,0,0,0,0,0,0,0,15.8,"-",11.6,21.2,{"$f":"INDEX(Input_Details!$L$5:$L$24, MATCH($A518, Input_Details!$J$5:$J$24, 0), 0)","v":"Southbound"},"Sat","08:30:00",0,3,0,0,0,0,0,0,0,0,0,0,0,0,3,0,0,0,0,0,0,0,0,0,0,0,0,0,0,0,0,0,18.100000000000001,"-",17.7,18.399999999999999,null,"Sat","08:30:00",2,4,0,1,0,0,0,0,0,0,0,0,0,2,4,1,0,0,0,0,0,0,0,0,0,0,0,0,0,0,0,0,16.785714285714285,"-",11.6,21.2,2,1,1,0,0,4,0,3,0,0,0,3,2,4,1,0,0,7]
[1,{"$f":"OFFSET(Input_Details!$Q$4,MATCH($A574, Input_Details!$J$5:$J$24, 0), 5)","v":"2017-11-18"},{"$f":"INDEX(Input_Details!$H$5:$H$24, MATCH($A574, Input_Details!$J$5:$J$24, 0), 0)","v":"Meadow Street"},{"$f":"INDEX(Input_Details!$I$5:$I$24, MATCH($A574, Input_Details!$J$5:$J$24, 0), 0)","v":"51.49499,-0.09696"},{"$f":"INDEX(Input_Details!$K$5:$K$24, MATCH($A574, Input_Details!$J$5:$J$24, 0), 0)","v":"Northbound"},"Sat","22:30:00",0,3,0,0,0,0,0,0,0,0,0,0,1,0,2,0,0,0,0,0,0,0,0,0,0,0,0,0,0,0,0,0,13.5,"-",8.6,16.2,{"$f":"INDEX(Input_Details!$L$5:$L$24, MATCH($A574, Input_Details!$J$5:$J$24, 0), 0)","v":"Southbound"},"Sat","22:30:00",0,6,0,0,0,0,0,0,0,0,0,0,1,3,1,1,0,0,0,0,0,0,0,0,0,0,0,0,0,0,0,0,14.4,"-",6.3,21.7,null,"Sat","22:30:00",0,9,0,0,0,0,0,0,0,0,0,0,2,3,3,1,0,0,0,0,0,0,0,0,0,0,0,0,0,0,0,0,14.100000000000001,"-",6.3,21.7,0,3,0,0,0,3,0,6,0,0,0,6,0,9,0,0,0,9]
[1,{"$f":"OFFSET(Input_Details!$Q$4,MATCH($A597, Input_Details!$J$5:$J$24, 0), 6)","v":"2017-11-19"},{"$f":"INDEX(Input_Details!$H$5:$H$24, MATCH($A597, Input_Details!$J$5:$J$24, 0), 0)","v":"Meadow Street"},{"$f":"INDEX(Input_Details!$I$5:$I$24, MATCH($A597, Input_Details!$J$5:$J$24, 0), 0)","v":"51.49499,-0.09696"},{"$f":"INDEX(Input_Details!$K$5:$K$24, MATCH($A597, Input_Details!$J$5:$J$24, 0), 0)","v":"Northbound"},"Sun","04:15:00",0,2,0,0,0,0,0,0,0,0,0,0,0,2,0,0,0,0,0,0,0,0,0,0,0,0,0,0,0,0,0,0,14.9,"-",14.8,15,{"$f":"INDEX(Input_Details!$L$5:$L$24, MATCH($A597, Input_Details!$J$5:$J$24, 0), 0)","v":"Southbound"},"Sun","04:15:00",0,0,0,0,0,0,0,0,0,0,0,0,0,0,0,0,0,0,0,0,0,0,0,0,0,0,0,0,0,0,0,0,"-","-","-","-",null,"Sun","04:15:00",0,2,0,0,0,0,0,0,0,0,0,0,0,2,0,0,0,0,0,0,0,0,0,0,0,0,0,0,0,0,0,0,14.9,"-",14.8,15,0,2,0,0,0,2,0,0,0,0,0,0,0,2,0,0,0,2]
[1,{"$f":"OFFSET(Input_Details!$Q$4,MATCH($A640, Input_Details!$J$5:$J$24, 0), 6)","v":"2017-11-19"},{"$f":"INDEX(Input_Details!$H$5:$H$24, MATCH($A640, Input_Details!$J$5:$J$24, 0), 0)","v":"Meadow Street"},{"$f":"INDEX(Input_Details!$I$5:$I$24, MATCH($A640, Input_Details!$J$5:$J$24, 0), 0)","v":"51.49499,-0.09696"},{"$f":"INDEX(Input_Details!$K$5:$K$24, MATCH($A640, Input_Details!$J$5:$J$24, 0), 0)","v":"Northbound"},"Sun","15:00:00",5,7,0,0,0,0,0,0,0,0,0,0,1,6,4,1,0,0,0,0,0,0,0,0,0,0,0,0,0,0,0,0,14.6,17.899999999999999,9.3000000000000007,21,{"$f":"INDEX(Input_Details!$L$5:$L$24, MATCH($A640, Input_Details!$J$5:$J$24, 0), 0)","v":"Southbound"},"Sun","15:00:00",0,2,0,0,0,0,0,0,0,0,0,0,0,0,2,0,0,0,0,0,0,0,0,0,0,0,0,0,0,0,0,0,18.2,"-",17.600000000000001,18.7,null,"Sun","15:00:00",5,9,0,0,0,0,0,0,0,0,0,0,1,6,6,1,0,0,0,0,0,0,0,0,0,0,0,0,0,0,0,0,15.114285714285714,17.899999999999999,9.3000000000000007,21,5,7,0,0,0,12,0,2,0,0,0,2,5,9,0,0,0,14]
[1,{"$f":"OFFSET(Input_Details!$Q$4,MATCH($A675, Input_Details!$J$5:$J$24, 0), 6)","v":"2017-11-19"},{"$f":"INDEX(Input_Details!$H$5:$H$24, MATCH($A675, Input_Details!$J$5:$J$24, 0), 0)","v":"Meadow Street"},{"$f":"INDEX(Input_Details!$I$5:$I$24, MATCH($A675, Input_Details!$J$5:$J$24, 0), 0)","v":"51.49499,-0.09696"},{"$f":"INDEX(Input_Details!$K$5:$K$24, MATCH($A675, Input_Details!$J$5:$J$24, 0), 0)","v":"Northbound"},"Sun","23:45:00",0,3,0,0,0,0,0,0,0,0,0,0,0,0,2,1,0,0,0,0,0,0,0,0,0,0,0,0,0,0,0,0,18.899999999999999,"-",15.8,23.2,{"$f":"INDEX(Input_Details!$L$5:$L$24, MATCH($A675, Input_Details!$J$5:$J$24, 0), 0)","v":"Southbound"},"Sun","23:45:00",1,6,0,0,0,0,0,0,0,0,0,0,0,5,2,0,0,0,0,0,0,0,0,0,0,0,0,0,0,0,0,0,13.7,"-",11.1,17.5,null,"Sun","23:45:00",1,9,0,0,0,0,0,0,0,0,0,0,0,5,4,1,0,0,0,0,0,0,0,0,0,0,0,0,0,0,0,0,15.26,"-",11.1,23.2,0,3,0,0,0,3,1,6,0,0,0,7,1,9,0,0,0,10]
[1,"Weekday Average",{"$f":"INDEX(Input_Details!$H$5:$H$24, MATCH($A686, Input_Details!$J$5:$J$24, 0), 0)","v":"Meadow Street"},{"$f":"INDEX(Input_Details!$I$5:$I$24, MATCH($A686, Input_Details!$J$5:$J$24, 0), 0)","v":"51.49499,-0.09696"},{"$f":"INDEX(Input_Details!$K$5:$K$24, MATCH($A686, Input_Details!$J$5:$J$24, 0), 0)","v":"Northbound"},"WD Ave","02:30:00",{"$f":"IF(AND(H14=\"\",H110=\"\",H206=\"\",H302=\"\",H398=\"\"), \"-\", IF(H14+H110+H206+H302+H398=0,0,AVERAGE(H14,H110,H206,H302,H398)))","v":0},0.8,0,0.2,0,0,0,0,0,0,0,0,{"$f":"IF(AND(T14=\"\",T110=\"\",T206=\"\",T302=\"\",T398=\"\"), \"-\", IF(SUM($H686:$S686)=0, 0, IF(T14+T110+T206+T302+T398=0,0,AVERAGE(T14,T110,T206,T302,T398))))","v":0.2},0.4,0.2,0.2,0,0,0,0,0,0,0,0,0,0,0,0,0,0,0,0,{"$f":"IF(SUM(H686:S686)=0,\"-\",AVERAGEIF(G4:G483,$G686,AN4:AN483))","v":14.066666666666668},{"$f":"IFERROR(IF(SUM(H686:S686)=0,\"-\",AVERAGEIF(G4:G483,G686,AO4:AO483)), \"-\")","v":"-"},9.6999999999999993,20.3,{"$f":"INDEX(Input_Details!$L$5:$L$24, MATCH($A686, Input_Details!$J$5:$J$24, 0), 0)","v":"Southbound"},"WD Ave","02:30:00",{"$f":"IF(AND(AU14=\"\",AU110=\"\",AU206=\"\",AU302=\"\",AU398=\"\"), \"-\", IF(AU14+AU110+AU206+AU302+AU398=0,0,AVERAGE(AU14,AU110,AU206,AU302,AU398)))","v":0.4},0,0,0,0,0,0,0,0,0,0,0,{"$f":"IF(AND(BG14=\"\",BG110=\"\",BG206=\"\",BG302=\"\",BG398=\"\"), \"-\", IF(SUM($AU686:$BF686)=0, 0, IF(BG14+BG110+BG206+BG302+BG398=0,0,AVERAGE(BG14,BG110,BG206,BG302,BG398))))","v":0},0.4,0,0,0,0,0,0,0,0,0,0,0,0,0,0,0,0,0,0,{"$f":"IF(SUM(AU686:BF686)=0,\"-\",AVERAGEIF(AT4:AT483,$G686,CA4:CA483))","v":13.65},{"$f":"IFERROR(IF(SUM(AU686:BF686)=0,\"-\",AVERAGEIF(AT4:AT483,AT686,CB4:CB483)), \"-\")","v":"-"},13.5,13.8,null,"WD Ave","02:30:00",{"$f":"IF(AND(CH14=\"-\",CH110=\"-\",CH206=\"-\",CH302=\"-\",CH398=\"-\"), \"-\", ROUND(AVERAGE(CH14,CH110,CH206,CH302,CH398), 0))","v":0},1,0,0,0,0,0,0,0,0,0,0,{"$f":"IF(AND(CT14=\"-\",CT110=\"-\",CT206=\"-\",CT302=\"-\",CT398=\"-\"), \"-\", IF(SUM($CH686:$CS686)=0, 0, ROUND(AVERAGE(CT14,CT110,CT206,CT302,CT398), 0)))","v":0},1,0,0,0,0,0,0,0,0,0,0,0,0,0,0,0,0,0,0,13.947619047619051,"-",9.6999999999999993,20.3,0,0.8,0.2,0,0,1,0.4,0,0,0,0,0.4,0.4,0.8,0.2,0,0,1.4]
[1,"Weekday Average",{"$f":"INDEX(Input_Details!$H$5:$H$24, MATCH($A729, Input_Details!$J$5:$J$24, 0), 0)","v":"Meadow Street"},{"$f":"INDEX(Input_Details!$I$5:$I$24, MATCH($A729, Input_Details!$J$5:$J$24, 0), 0)","v":"51.49499,-0.09696"},{"$f":"INDEX(Input_Details!$K$5:$K$24, MATCH($A729, Input_Details!$J$5:$J$24, 0), 0)","v":"Northbound"},"WD Ave","13:15:00",{"$f":"IF(AND(H57=\"\",H153=\"\",H249=\"\",H345=\"\",H441=\"\"), \"-\", IF(H57+H153+H249+H345+H441=0,0,AVERAGE(H57,H153,H249,H345,H441)))","v":2.6},4.2,0,0.6,0,0,0,0,0,0,0,0,{"$f":"IF(AND(T57=\"\",T153=\"\",T249=\"\",T345=\"\",T441=\"\"), \"-\", IF(SUM($H729:$S729)=0, 0, IF(T57+T153+T249+T345+T441=0,0,AVERAGE(T57,T153,T249,T345,T441))))","v":0.8},3.8,2.4,0.2,0.2,0,0,0,0,0,0,0,0,0,0,0,0,0,0,0,{"$f":"IF(SUM(H729:S729)=0,\"-\",AVERAGEIF(G4:G483,$G729,AN4:AN483))","v":14.16},{"$f":"IFERROR(IF(SUM(H729:S729)=0,\"-\",AVERAGEIF(G4:G483,G729,AO4:AO483)), \"-\")","v":"-"},4,26.3,{"$f":"INDEX(Input_Details!$L$5:$L$24, MATCH($A729, Input_Details!$J$5:$J$24, 0), 0)","v":"Southbound"},"WD Ave","13:15:00",{"$f":"IF(AND(AU57=\"\",AU153=\"\",AU249=\"\",AU345=\"\",AU441=\"\"), \"-\", IF(AU57+AU153+AU249+AU345+AU441=0,0,AVERAGE(AU57,AU153,AU249,AU345,AU441)))","v":1.6},4.2,0,1,0.4,0.2,0,0,0,0,0,0,{"$f":"IF(AND(BG57=\"\",BG153=\"\",BG249=\"\",BG345=\"\",BG441=\"\"), \"-\", IF(SUM($AU729:$BF729)=0, 0, IF(BG57+BG153+BG249+BG345+BG441=0,0,AVERAGE(BG57,BG153,BG249,BG345,BG441))))","v":1},3.2,1.4,1.8,0,0,0,0,0,0,0,0,0,0,0,0,0,0,0,0,{"$f":"IF(SUM(AU729:BF729)=0,\"-\",AVERAGEIF(AT4:AT483,$G729,CA4:CA483))","v":15.14},{"$f":"IFERROR(IF(SUM(AU729:BF729)=0,\"-\",AVERAGEIF(AT4:AT483,AT729,CB4:CB483)), \"-\")","v":"-"},4,24.7,null,"WD Ave","13:15:00",{"$f":"IF(AND(CH57=\"-\",CH153=\"-\",CH249=\"-\",CH345=\"-\",CH441=\"-\"), \"-\", ROUND(AVERAGE(CH57,CH153,CH249,CH345,CH441), 0))","v":4},8,0,2,0,0,0,0,0,0,0,0,{"$f":"IF(AND(CT57=\"-\",CT153=\"-\",CT249=\"-\",CT345=\"-\",CT441=\"-\"), \"-\", IF(SUM($CH729:$CS729)=0, 0, ROUND(AVERAGE(CT57,CT153,CT249,CT345,CT441), 0)))","v":2},7,4,2,0,0,0,0,0,0,0,0,0,0,0,0,0,0,0,0,14.650000000000002,"-",4,26.3,2.6,4.2,0.6,0,0,7.4,1.6,4.2,1,0.4,0.2,7.4000000000000012,4.2,8.4,1.6,0.4,0.2,14.8]
[1,"7-Day Average",{"$f":"INDEX(Input_Details!$H$5:$H$24, MATCH($A776, Input_Details!$J$5:$J$24, 0), 0)","v":"Meadow Street"},{"$f":"INDEX(Input_Details!$I$5:$I$24, MATCH($A776, Input_Details!$J$5:$J$24, 0), 0)","v":"51.49499,-0.09696"},{"$f":"INDEX(Input_Details!$K$5:$K$24, MATCH($A776, Input_Details!$J$5:$J$24, 0), 0)","v":"Northbound"},"7 Day Ave","01:00:00",{"$f":"IF(AND(H8=\"\",H104=\"\",H200=\"\",H296=\"\",H392=\"\",H488=\"\",H584=\"\"), \"-\", IF(H8+H104+H200+H296+H392+H488+H584=0,0,AVERAGE(H8,H104,H200,H296,H392,H488,H584)))","v":0.2857142857142857},1.4285714285714286,0,0,0,0,0,0,0,0,0,0,{"$f":"IF(AND(T8=\"\",T104=\"\",T200=\"\",T296=\"\",T392=\"\",T488=\"\",T584=\"\"), \"-\", IF(SUM($H776:$S776)=0, 0, IF(T8+T104+T200+T296+T392+T488+T584=0,0,AVERAGE(T8,T104,T200,T296,T392,T488,T584))))","v":0.14285714285714285},0.42857142857142855,0.8571428571428571,0.14285714285714285,0.14285714285714285,0,0,0,0,0,0,0,0,0,0,0,0,0,0,0,{"$f":"IF(SUM(H776:S776)=0,\"-\",AVERAGEIF(G4:G675,$G776,AN4:AN675))","v":17.566666666666666},{"$f":"IFERROR(IF(SUM(H776:S776)=0,\"-\",AVERAGEIF(G4:G675,G776,AO4:AO675)), \"-\")","v":"-"},8.3000000000000007,25.2,{"$f":"INDEX(Input_Details!$L$5:$L$24, MATCH($A776, Input_Details!$J$5:$J$24, 0), 0)","v":"Southbound"},"7 Day Ave","01:00:00",{"$f":"IF(AND(AU8=\"\",AU104=\"\",AU200=\"\",AU296=\"\",AU392=\"\",AU488=\"\",AU584=\"\"), \"-\", IF(AU8+AU104+AU200+AU296+AU392+AU488+AU584=0,0,AVERAGE(AU8,AU104,AU200,AU296,AU392,AU488,AU584)))","v":0.2857142857142857},1.1428571428571428,0,0,0,0,0,0,0,0,0,0,{"$f":"IF(AND(BG8=\"\",BG104=\"\",BG200=\"\",BG296=\"\",BG392=\"\",BG488=\"\",BG584=\"\"), \"-\", IF(SUM($AU776:$BF776)=0, 0, IF(BG8+BG104+BG200+BG296+BG392+BG488+BG584=0,0,AVERAGE(BG8,BG104,BG200,BG296,BG392,BG488,BG584))))","v":0.2857142857142857},0.42857142857142855,0.7142857142857143,0,0,0,0,0,0,0,0,0,0,0,0,0,0,0,0,0,{"$f":"IF(SUM(AU776:BF776)=0,\"-\",AVERAGEIF(AT4:AT675,$G776,CA4:CA675))","v":15.02},{"$f":"IFERROR(IF(SUM(AU776:BF776)=0,\"-\",AVERAGEIF(AT4:AT675,AT776,CB4:CB675)), \"-\")","v":"-"},6.3,19.600000000000001,null,"7 Day Ave","01:00:00",{"$f":"IF(AND(CH8=\"-\",CH104=\"-\",CH200=\"-\",CH296=\"-\",CH392=\"-\",CH488=\"-\",CH584=\"-\"), \"-\", ROUND(AVERAGE(CH8,CH104,CH200,CH296,CH392,CH488,CH584),0))","v":1},3,0,0,0,0,0,0,0,0,0,0,{"$f":"IF(AND(CT8=\"-\",CT104=\"-\",CT200=\"-\",CT296=\"-\",CT392=\"-\",CT488=\"-\",CT584=\"-\"), \"-\", IF(SUM($CH776:$CS776)=0, 0, ROUND(AVERAGE(CT8,CT104,CT200,CT296,CT392,CT488,CT584),0)))","v":0},1,2,0,0,0,0,0,0,0,0,0,0,0,0,0,0,0,0,0,16.40909090909091,"-",6.3,25.2,0.2857142857142857,1.4285714285714286,0,0,0,1.7142857142857144,0.2857142857142857,1.1428571428571428,0,0,0,1.4285714285714284,0.5714285714285714,2.5714285714285712,0,0,0,3.1428571428571428]
[1,"7-Day Average",{"$f":"INDEX(Input_Details!$H$5:$H$24, MATCH($A812, Input_Details!$J$5:$J$24, 0), 0)","v":"Meadow Street"},{"$f":"INDEX(Input_Details!$I$5:$I$24, MATCH($A812, Input_Details!$J$5:$J$24, 0), 0)","v":"51.49499,-0.09696"},{"$f":"INDEX(Input_Details!$K$5:$K$24, MATCH($A812, Input_Details!$J$5:$J$24, 0), 0)","v":"Northbound"},"7 Day Ave","10:00:00",{"$f":"IF(AND(H44=\"\",H140=\"\",H236=\"\",H332=\"\",H428=\"\",H524=\"\",H620=\"\"), \"-\", IF(H44+H140+H236+H332+H428+H524+H620=0,0,AVERAGE(H44,H140,H236,H332,H428,H524,H620)))","v":6.2857142857142856},4.4285714285714288,0,0.14285714285714285,0,0.2857142857142857,0,0,0,0,0,0,{"$f":"IF(AND(T44=\"\",T140=\"\",T236=\"\",T332=\"\",T428=\"\",T524=\"\",T620=\"\"), \"-\", IF(SUM($H812:$S812)=0, 0, IF(T44+T140+T236+T332+T428+T524+T620=0,0,AVERAGE(T44,T140,T236,T332,T428,T524,T620))))","v":1},6.2857142857142856,3.1428571428571428,0.5714285714285714,0.14285714285714285,0,0,0,0,0,0,0,0,0,0,0,0,0,0,0,{"$f":"IF(SUM(H812:S812)=0,\"-\",AVERAGEIF(G4:G675,$G812,AN4:AN675))","v":14.428571428571429},{"$f":"IFERROR(IF(SUM(H812:S812)=0,\"-\",AVERAGEIF(G4:G675,G812,AO4:AO675)), \"-\")","v":16.3},4,26,{"$f":"INDEX(Input_Details!$L$5:$L$24, MATCH($A812, Input_Details!$J$5:$J$24, 0), 0)","v":"Southbound"},"7 Day Ave","10:00:00",{"$f":"IF(AND(AU44=\"\",AU140=\"\",AU236=\"\",AU332=\"\",AU428=\"\",AU524=\"\",AU620=\"\"), \"-\", IF(AU44+AU140+AU236+AU332+AU428+AU524+AU620=0,0,AVERAGE(AU44,AU140,AU236,AU332,AU428,AU524,AU620)))","v":0.8571428571428571},3.1428571428571428,0,0.42857142857142855,0,0,0,0,0,0,0,0,{"$f":"IF(AND(BG44=\"\",BG140=\"\",BG236=\"\",BG332=\"\",BG428=\"\",BG524=\"\",BG620=\"\"), \"-\", IF(SUM($AU812:$BF812)=0, 0, IF(BG44+BG140+BG236+BG332+BG428+BG524+BG620=0,0,AVERAGE(BG44,BG140,BG236,BG332,BG428,BG524,BG620))))","v":0.14285714285714285},1.7142857142857142,2.1428571428571428,0.42857142857142855,0,0,0,0,0,0,0,0,0,0,0,0,0,0,0,0,{"$f":"IF(SUM(AU812:BF812)=0,\"-\",AVERAGEIF(AT4:AT675,$G812,CA4:CA675))","v":15.757142857142858},{"$f":"IFERROR(IF(SUM(AU812:BF812)=0,\"-\",AVERAGEIF(AT4:AT675,AT812,CB4:CB675)), \"-\")","v":"-"},10,24.7,null,"7 Day Ave","10:00:00",{"$f":"IF(AND(CH44=\"-\",CH140=\"-\",CH236=\"-\",CH332=\"-\",CH428=\"-\",CH524=\"-\",CH620=\"-\"), \"-\", ROUND(AVERAGE(CH44,CH140,CH236,CH332,CH428,CH524,CH620),0))","v":7},8,0,1,0,0,0,0,0,0,0,0,{"$f":"IF(AND(CT44=\"-\",CT140=\"-\",CT236=\"-\",CT332=\"-\",CT428=\"-\",CT524=\"-\",CT620=\"-\"), \"-\", IF(SUM($CH812:$CS812)=0, 0, ROUND(AVERAGE(CT44,CT140,CT236,CT332,CT428,CT524,CT620),0)))","v":1},8,5,1,0,0,0,0,0,0,0,0,0,0,0,0,0,0,0,0,14.806422018348623,16.3,4,26,6.2857142857142856,4.4285714285714288,0.14285714285714285,0,0.2857142857142857,11.142857142857144,0.8571428571428571,3.1428571428571428,0.42857142857142855,0,0,4.4285714285714288,7.1428571428571423,7.5714285714285712,0.5714285714285714,0,0.2857142857142857,15.571428571428573]
[1,"7-Day Average",{"$f":"INDEX(Input_Details!$H$5:$H$24, MATCH($A818, Input_Details!$J$5:$J$24, 0), 0)","v":"Meadow Street"},{"$f":"INDEX(Input_Details!$I$5:$I$24, MATCH($A818, Input_Details!$J$5:$J$24, 0), 0)","v":"51.49499,-0.09696"},{"$f":"INDEX(Input_Details!$K$5:$K$24, MATCH($A818, Input_Details!$J$5:$J$24, 0), 0)","v":"Northbound"},"7 Day Ave","11:30:00",{"$f":"IF(AND(H50=\"\",H146=\"\",H242=\"\",H338=\"\",H434=\"\",H530=\"\",H626=\"\"), \"-\", IF(H50+H146+H242+H338+H434+H530+H626=0,0,AVERAGE(H50,H146,H242,H338,H434,H530,H626)))","v":2.7142857142857144},3.7142857142857144,0,0.8571428571428571,0,0,0,0.14285714285714285,0,0,0,0,{"$f":"IF(AND(T50=\"\",T146=\"\",T242=\"\",T338=\"\",T434=\"\",T530=\"\",T626=\"\"), \"-\", IF(SUM($H818:$S818)=0, 0, IF(T50+T146+T242+T338+T434+T530+T626=0,0,AVERAGE(T50,T146,T242,T338,T434,T530,T626))))","v":0.7142857142857143},4,2.4285714285714284,0,0.14285714285714285,0.14285714285714285,0,0,0,0,0,0,0,0,0,0,0,0,0,0,{"$f":"IF(SUM(H818:S818)=0,\"-\",AVERAGEIF(G4:G675,$G818,AN4:AN675))","v":14.442857142857145},{"$f":"IFERROR(IF(SUM(H818:S818)=0,\"-\",AVERAGEIF(G4:G675,G818,AO4:AO675)), \"-\")","v":"-"},7.8,31,{"$f":"INDEX(Input_Details!$L$5:$L$24, MATCH($A818, Input_Details!$J$5:$J$24, 0), 0)","v":"Southbound"},"7 Day Ave","11:30:00",{"$f":"IF(AND(AU50=\"\",AU146=\"\",AU242=\"\",AU338=\"\",AU434=\"\",AU530=\"\",AU626=\"\"), \"-\", IF(AU50+AU146+AU242+AU338+AU434+AU530+AU626=0,0,AVERAGE(AU50,AU146,AU242,AU338,AU434,AU530,AU626)))","v":1.5714285714285714},4,0,0.5714285714285714,0,0.14285714285714285,0,0,0,0,0,0,{"$f":"IF(AND(BG50=\"\",BG146=\"\",BG242=\"\",BG338=\"\",BG434=\"\",BG530=\"\",BG626=\"\"), \"-\", IF(SUM($AU818:$BF818)=0, 0, IF(BG50+BG146+BG242+BG338+BG434+BG530+BG626=0,0,AVERAGE(BG50,BG146,BG242,BG338,BG434,BG530,BG626))))","v":0.7142857142857143},2.5714285714285716,2.1428571428571428,0.7142857142857143,0.14285714285714285,0,0,0,0,0,0,0,0,0,0,0,0,0,0,0,{"$f":"IF(SUM(AU818:BF818)=0,\"-\",AVERAGEIF(AT4:AT675,$G818,CA4:CA675))","v":15.371428571428572},{"$f":"IFERROR(IF(SUM(AU818:BF818)=0,\"-\",AVERAGEIF(AT4:AT675,AT818,CB4:CB675)), \"-\")","v":"-"},4.7,26,null,"7 Day Ave","11:30:00",{"$f":"IF(AND(CH50=\"-\",CH146=\"-\",CH242=\"-\",CH338=\"-\",CH434=\"-\",CH530=\"-\",CH626=\"-\"), \"-\", ROUND(AVERAGE(CH50,CH146,CH242,CH338,CH434,CH530,CH626),0))","v":4},8,0,1,0,0,0,0,0,0,0,0,{"$f":"IF(AND(CT50=\"-\",CT146=\"-\",CT242=\"-\",CT338=\"-\",CT434=\"-\",CT530=\"-\",CT626=\"-\"), \"-\", IF(SUM($CH818:$CS818)=0, 0, ROUND(AVERAGE(CT50,CT146,CT242,CT338,CT434,CT530,CT626),0)))","v":1},7,5,1,0,0,0,0,0,0,0,0,0,0,0,0,0,0,0,0,14.868452380952382,"-",4.7,31,2.7142857142857144,3.7142857142857144,0.8571428571428571,0,0.14285714285714285,7.4285714285714288,1.5714285714285714,4,0.5714285714285714,0,0.14285714285714285,6.2857142857142856,4.2857142857142856,7.7142857142857144,1.4285714285714284,0,0.2857142857142857,13.714285714285715]
[2,{"$f":"OFFSET(Input_Details!$Q$4,MATCH($A877, Input_Details!$J$5:$J$24, 0), 0)","v":"2017-11-20"},{"$f":"INDEX(Input_Details!$H$5:$H$24, MATCH($A877, Input_Details!$J$5:$J$24, 0), 0)","v":"Rockingham Street"},{"$f":"INDEX(Input_Details!$I$5:$I$24, MATCH($A877, Input_Details!$J$5:$J$24, 0), 0)","v":"51.49637,-0.09528"},{"$f":"INDEX(Input_Details!$K$5:$K$24, MATCH($A877, Input_Details!$J$5:$J$24, 0), 0)","v":"Northbound"},"Mon","02:15:00",0,1,0,0,0,0,0,0,0,0,0,0,0,0,0,1,0,0,0,0,0,0,0,0,0,0,0,0,0,0,0,0,21.5,"-",21.5,21.5,{"$f":"INDEX(Input_Details!$L$5:$L$24, MATCH($A877, Input_Details!$J$5:$J$24, 0), 0)","v":"Southbound"},"Mon","02:15:00",0,2,0,0,0,0,0,0,0,0,0,0,0,0,0,0,2,0,0,0,0,0,0,0,0,0,0,0,0,0,0,0,25.7,"-",25.1,26.4,null,"Mon","02:15:00",0,3,0,0,0,0,0,0,0,0,0,0,0,0,0,1,2,0,0,0,0,0,0,0,0,0,0,0,0,0,0,0,24.3,"-",21.5,26.4,0,1,0,0,0,1,0,2,0,0,0,2,0,3,0,0,0,3,1,0,0,0,0,0,2,2,0,1,0,0,2,0,3,0,1,0,0,2,2]
[2,{"$f":"OFFSET(Input_Details!$Q$4,MATCH($A901, Input_Details!$J$5:$J$24, 0), 0)","v":"2017-11-20"},{"$f":"INDEX(Input_Details!$H$5:$H$24, MATCH($A901, Input_Details!$J$5:$J$24, 0), 0)","v":"Rockingham Street"},{"$f":"INDEX(Input_Details!$I$5:$I$24, MATCH($A901, Input_Details!$J$5:$J$24, 0), 0)","v":"51.49637,-0.09528"},{"$f":"INDEX(Input_Details!$K$5:$K$24, MATCH($A901, Input_Details!$J$5:$J$24, 0), 0)","v":"Northbound"},"Mon","08:15:00",0,0,0,0,0,1,0,0,0,0,0,0,0,0,0,0,0,0,0,0,1,0,0,0,0,0,0,0,0,0,0,0,47.5,"-",47.5,47.5,{"$f":"INDEX(Input_Details!$L$5:$L$24, MATCH($A901, Input_Details!$J$5:$J$24, 0), 0)","v":"Southbound"},"Mon","08:15:00",0,3,0,0,0,0,0,0,0,0,0,0,0,0,2,1,0,0,0,0,0,0,0,0,0,0,0,0,0,0,0,0,20.7,"-",18.3,24.5,null,"Mon","08:15:00",0,3,0,0,0,1,0,0,0,0,0,0,0,0,2,1,0,0,0,0,1,0,0,0,0,0,0,0,0,0,0,0,27.4,"-",18.3,47.5,0,{"$f":"IF(DR901=\"-\", \"-\", SUM(I901:J901))","v":0},0,{"$f":"IF(DR901=\"-\", \"-\", L901)","v":0},{"$f":"IF(DR901=\"-\", \"-\", SUM(M901:S901))","v":1},1,0,3,0,{"$f":"IF(DX901=\"-\", \"-\", AY901)","v":0},{"$f":"IF(DX901=\"-\", \"-\", SUM(AZ901:BF901))","v":0},3,0,3,0,0,1,4,1,3,2,1,2,3,0,3,4,1,1,4,0,2,4,7,3,2,6,3,2]
[2,{"$f":"OFFSET(Input_Details!$Q$4,MATCH($A940, Input_Details!$J$5:$J$24, 0), 0)","v":"2017-11-20"},{"$f":"INDEX(Input_Details!$H$5:$H$24, MATCH($A940, Input_Details!$J$5:$J$24, 0), 0)","v":"Rockingham Street"},{"$f":"INDEX(Input_Details!$I$5:$I$24, MATCH($A940, Input_Details!$J$5:$J$24, 0), 0)","v":"51.49637,-0.09528"},{"$f":"INDEX(Input_Details!$K$5:$K$24, MATCH($A940, Input_Details!$J$5:$J$24, 0), 0)","v":"Northbound"},"Mon","18:00:00",0,0,0,0,0,0,0,0,0,0,0,0,0,0,0,0,0,0,0,0,0,0,0,0,0,0,0,0,0,0,0,0,"-","-","-","-",{"$f":"INDEX(Input_Details!$L$5:$L$24, MATCH($A940, Input_Details!$J$5:$J$24, 0), 0)","v":"Southbound"},"Mon","18:00:00",0,0,0,1,0,0,0,0,0,0,0,0,0,0,1,0,0,0,0,0,0,0,0,0,0,0,0,0,0,0,0,0,19.600000000000001,"-",19.600000000000001,19.600000000000001,null,"Mon","18:00:00",0,0,0,1,0,0,0,0,0,0,0,0,0,0,1,0,0,0,0,0,0,0,0,0,0,0,0,0,0,0,0,0,19.600000000000001,"-",19.600000000000001,19.600000000000001,0,0,0,0,0,0,0,0,1,0,0,1,0,0,1,0,0,1,0,3,3,7,2,0,3,1,3,4,7,4,4,2,1,6,7,14,6,4,5]
[2,{"$f":"OFFSET(Input_Details!$Q$4,MATCH($A962, Input_Details!$J$5:$J$24, 0), 0)","v":"2017-11-20"},{"$f":"INDEX(Input_Details!$H$5:$H$24, MATCH($A962, Input_Details!$J$5:$J$24, 0), 0)","v":"Rockingham Street"},{"$f":"INDEX(Input_Details!$I$5:$I$24, MATCH($A962, Input_Details!$J$5:$J$24, 0), 0)","v":"51.49637,-0.09528"},{"$f":"INDEX(Input_Details!$K$5:$K$24, MATCH($A962, Input_Details!$J$5:$J$24, 0), 0)","v":"Northbound"},"Mon","23:30:00",1,1,0,0,0,0,0,0,0,0,0,0,0,0,1,1,0,0,0,0,0,0,0,0,0,0,0,0,0,0,0,0,18.600000000000001,"-",16.399999999999999,20.8,{"$f":"INDEX(Input_Details!$L$5:$L$24, MATCH($A962, Input_Details!$J$5:$J$24, 0), 0)","v":"Southbound"},"Mon","23:30:00",0,2,0,0,0,0,0,0,0,0,0,0,1,0,0,0,1,0,0,0,0,0,0,0,0,0,0,0,0,0,0,0,18.899999999999999,"-",8.1999999999999993,29.6,null,"Mon","23:30:00",1,3,0,0,0,0,0,0,0,0,0,0,1,0,1,1,1,0,0,0,0,0,0,0,0,0,0,0,0,0,0,0,18.75,"-",8.1999999999999993,29.6,1,1,0,0,0,2,0,2,0,0,0,2,1,3,0,0,0,4,2,0,0,1,0,4,3,2,3,0,1,4,6,2,4,3,0,2,4,10,5]
[2,{"$f":"OFFSET(Input_Details!$Q$4,MATCH($A990, Input_Details!$J$5:$J$24, 0), 1)","v":"2017-11-21"},{"$f":"INDEX(Input_Details!$H$5:$H$24, MATCH($A990, Input_Details!$J$5:$J$24, 0), 0)","v":"Rockingham Street"},{"$f":"INDEX(Input_Details!$I$5:$I$24, MATCH($A990, Input_Details!$J$5:$J$24, 0), 0)","v":"51.49637,-0.09528"},{"$f":"INDEX(Input_Details!$K$5:$K$24, MATCH($A990, Input_Details!$J$5:$J$24, 0), 0)","v":"Northbound"},"Tues","06:30:00",0,2,0,0,0,0,0,0,0,0,0,0,0,0,2,0,0,0,0,0,0,0,0,0,0,0,0,0,0,0,0,0,16.7,"-",16,17.3,{"$f":"INDEX(Input_Details!$L$5:$L$24, MATCH($A990, Input_Details!$J$5:$J$24, 0), 0)","v":"Southbound"},"Tues","06:30:00",0,2,0,0,0,0,0,0,0,0,0,0,1,0,1,0,0,0,0,0,0,0,0,0,0,0,0,0,0,0,0,0,13,"-",8.6999999999999993,17.3,null,"Tues","06:30:00",0,4,0,0,0,0,0,0,0,0,0,0,1,0,3,0,0,0,0,0,0,0,0,0,0,0,0,0,0,0,0,0,14.85,"-",8.6999999999999993,17.3,0,2,0,0,0,2,0,2,0,0,0,2,0,4,0,0,0,4]
[2,{"$f":"OFFSET(Input_Details!$Q$4,MATCH($A1029, Input_Details!$J$5:$J$24, 0), 1)","v":"2017-11-21"},{"$f":"INDEX(Input_Details!$H$5:$H$24, MATCH($A1029, Input_Details!$J$5:$J$24, 0), 0)","v":"Rockingham Street"},{"$f":"INDEX(Input_Details!$I$5:$I$24, MATCH($A1029, Input_Details!$J$5:$J$24, 0), 0)","v":"51.49637,-0.09528"},{"$f":"INDEX(Input_Details!$K$5:$K$24, MATCH($A1029, Input_Details!$J$5:$J$24, 0), 0)","v":"Northbound"},"Tues","16:15:00",0,2,0,0,0,0,0,0,0,0,0,0,0,0,1,1,0,0,0,0,0,0,0,0,0,0,0,0,0,0,0,0,22.1,"-",19.899999999999999,24.4,{"$f":"INDEX(Input_Details!$L$5:$L$24, MATCH($A1029, Input_Details!$J$5:$J$24, 0), 0)","v":"Southbound"},"Tues","16:15:00",0,1,0,0,0,0,0,0,0,0,0,0,0,0,1,0,0,0,0,0,0,0,0,0,0,0,0,0,0,0,0,0,16.899999999999999,"-",16.899999999999999,16.899999999999999,null,"Tues","16:15:00",0,3,0,0,0,0,0,0,0,0,0,0,0,0,2,1,0,0,0,0,0,0,0,0,0,0,0,0,0,0,0,0,20.366666666666667,"-",16.899999999999999,24.4,0,2,0,{"$f":"IF(DR1029=\"-\", \"-\", L1029)","v":0},{"$f":"IF(DR1029=\"-\", \"-\", SUM(M1029:S1029))","v":0},2,0,1,0,{"$f":"IF(DX1029=\"-\", \"-\", AY1029)","v":0},{"$f":"IF(DX1029=\"-\", \"-\", SUM(AZ1029:BF1029))","v":0},1,0,3,0,0,0,3]
[2,{"$f":"OFFSET(Input_Details!$Q$4,MATCH($A1063, Input_Details!$J$5:$J$24, 0), 2)","v":"2017-11-22"},{"$f":"INDEX(Input_Details!$H$5:$H$24, MATCH($A1063, Input_Details!$J$5:$J$24, 0), 0)","v":"Rockingham Street"},{"$f":"INDEX(Input_Details!$I$5:$I$24, MATCH($A1063, Input_Details!$J$5:$J$24, 0), 0)","v":"51.49637,-0.09528"},{"$f":"INDEX(Input_Details!$K$5:$K$24, MATCH($A1063, Input_Details!$J$5:$J$24, 0), 0)","v":"Northbound"},"Wed","00:45:00",0,0,0,0,0,0,0,0,0,0,0,0,0,0,0,0,0,0,0,0,0,0,0,0,0,0,0,0,0,0,0,0,"-","-","-","-",{"$f":"INDEX(Input_Details!$L$5:$L$24, MATCH($A1063, Input_Details!$J$5:$J$24, 0), 0)","v":"Southbound"},"Wed","00:45:00",0,0,0,0,0,0,0,0,0,0,0,0,0,0,0,0,0,0,0,0,0,0,0,0,0,0,0,0,0,0,0,0,"-","-","-","-",null,"Wed","00:45:00",0,0,0,0,0,0,0,0,0,0,0,0,0,0,0,0,0,0,0,0,0,0,0,0,0,0,0,0,0,0,0,0,"-","-","-","-",0,0,0,0,0,0,0,0,0,0,0,0,0,0,0,0,0,0]
[2,{"$f":"OFFSET(Input_Details!$Q$4,MATCH($A1112, Input_Details!$J$5:$J$24, 0), 2)","v":"2017-11-22"},{"$f":"INDEX(Input_Details!$H$5:$H$24, MATCH($A1112, Input_Details!$J$5:$J$24, 0), 0)","v":"Rockingham Street"},{"$f":"INDEX(Input_Details!$I$5:$I$24, MATCH($A1112, Input_Details!$J$5:$J$24, 0), 0)","v":"51.49637,-0.09528"},{"$f":"INDEX(Input_Details!$K$5:$K$24, MATCH($A1112, Input_Details!$J$5:$J$24, 0), 0)","v":"Northbound"},"Wed","13:00:00",0,0,0,0,0,0,0,0,0,0,0,0,0,0,0,0,0,0,0,0,0,0,0,0,0,0,0,0,0,0,0,0,"-","-","-","-",{"$f":"INDEX(Input_Details!$L$5:$L$24, MATCH($A1112, Input_Details!$J$5:$J$24, 0), 0)","v":"Southbound"},"Wed","13:00:00",0,1,0,0,0,0,0,0,0,0,0,0,0,0,0,0,1,0,0,0,0,0,0,0,0,0,0,0,0,0,0,0,26.2,"-",26.2,26.2,null,"Wed","13:00:00",0,1,0,0,0,0,0,0,0,0,0,0,0,0,0,0,1,0,0,0,0,0,0,0,0,0,0,0,0,0,0,0,26.2,"-",26.2,26.2,0,0,0,0,0,0,0,1,0,0,0,1,0,1,0,0,0,1]
[2,{"$f":"OFFSET(Input_Details!$Q$4,MATCH($A1118, Input_Details!$J$5:$J$24, 0), 2)","v":"2017-11-22"},{"$f":"INDEX(Input_Details!$H$5:$H$24, MATCH($A1118, Input_Details!$J$5:$J$24, 0), 0)","v":"Rockingham Street"},{"$f":"INDEX(Input_Details!$I$5:$I$24, MATCH($A1118, Input_Details!$J$5:$J$24, 0), 0)","v":"51.49637,-0.09528"},{"$f":"INDEX(Input_Details!$K$5:$K$24, MATCH($A1118, Input_Details!$J$5:$J$24, 0), 0)","v":"Northbound"},"Wed","14:30:00",0,2,0,0,0,0,0,0,0,0,0,0,0,1,1,0,0,0,0,0,0,0,0,0,0,0,0,0,0,0,0,0,15.6,"-",11.3,19.8,{"$f":"INDEX(Input_Details!$L$5:$L$24, MATCH($A1118, Input_Details!$J$5:$J$24, 0), 0)","v":"Southbound"},"Wed","14:30:00",0,2,0,1,0,0,0,0,0,0,0,0,0,1,1,1,0,0,0,0,0,0,0,0,0,0,0,0,0,0,0,0,18.5,"-",13.2,22.8,null,"Wed","14:30:00",0,4,0,1,0,0,0,0,0,0,0,0,0,2,2,1,0,0,0,0,0,0,0,0,0,0,0,0,0,0,0,0,17.34,"-",11.3,22.8,0,2,0,0,0,2,0,2,1,0,0,3,0,4,1,0,0,5]
[2,{"$f":"OFFSET(Input_Details!$Q$4,MATCH($A1164, Input_Details!$J$5:$J$24, 0), 3)","v":"2017-11-23"},{"$f":"INDEX(Input_Details!$H$5:$H$24, MATCH($A1164, Input_Details!$J$5:$J$24, 0), 0)","v":"Rockingham Street"},{"$f":"INDEX(Input_Details!$I$5:$I$24, MATCH($A1164, Input_Details!$J$5:$J$24, 0), 0)","v":"51.49637,-0.09528"},{"$f":"INDEX(Input_Details!$K$5:$K$24, MATCH($A1164, Input_Details!$J$5:$J$24, 0), 0)","v":"Northbound"},"Thu","02:00:00",0,0,0,0,0,0,0,0,0,0,0,0,0,0,0,0,0,0,0,0,0,0,0,0,0,0,0,0,0,0,0,0,"-","-","-","-",{"$f":"INDEX(Input_Details!$L$5:$L$24, MATCH($A1164, Input_Details!$J$5:$J$24, 0), 0)","v":"Southbound"},"Thu","02:00:00",0,0,0,0,0,0,0,0,0,0,0,0,0,0,0,0,0,0,0,0,0,0,0,0,0,0,0,0,0,0,0,0,"-","-","-","-",null,"Thu","02:00:00",0,0,0,0,0,0,0,0,0,0,0,0,0,0,0,0,0,0,0,0,0,0,0,0,0,0,0,0,0,0,0,0,"-","-","-","-",0,0,0,0,0,0,0,0,0,0,0,0,0,0,0,0,0,0]
[2,{"$f":"OFFSET(Input_Details!$Q$4,MATCH($A1201, Input_Details!$J$5:$J$24, 0), 3)","v":"2017-11-23"},{"$f":"INDEX(Input_Details!$H$5:$H$24, MATCH($A1201, Input_Details!$J$5:$J$24, 0), 0)","v":"Rockingham Street"},{"$f":"INDEX(Input_Details!$I$5:$I$24, MATCH($A1201, Input_Details!$J$5:$J$24, 0), 0)","v":"51.49637,-0.09528"},{"$f":"INDEX(Input_Details!$K$5:$K$24, MATCH($A1201, Input_Details!$J$5:$J$24, 0), 0)","v":"Northbound"},"Thu","11:15:00",0,2,0,1,0,0,0,0,0,0,0,0,0,0,1,2,0,0,0,0,0,0,0,0,0,0,0,0,0,0,0,0,20.5,"-",18.600000000000001,22.3,{"$f":"INDEX(Input_Details!$L$5:$L$24, MATCH($A1201, Input_Details!$J$5:$J$24, 0), 0)","v":"Southbound"},"Thu","11:15:00",0,0,0,0,0,0,0,0,0,0,0,0,0,0,0,0,0,0,0,0,0,0,0,0,0,0,0,0,0,0,0,0,"-","-","-","-",null,"Thu","11:15:00",0,2,0,1,0,0,0,0,0,0,0,0,0,0,1,2,0,0,0,0,0,0,0,0,0,0,0,0,0,0,0,0,20.5,"-",18.600000000000001,22.3,0,2,1,0,0,3,0,0,0,0,0,0,0,2,1,0,0,3]
[2,{"$f":"OFFSET(Input_Details!$Q$4,MATCH($A1244, Input_Details!$J$5:$J$24, 0), 3)","v":"2017-11-23"},{"$f":"INDEX(Input_Details!$H$5:$H$24, MATCH($A1244, Input_Details!$J$5:$J$24, 0), 0)","v":"Rockingham Street"},{"$f":"INDEX(Input_Details!$I$5:$I$24, MATCH($A1244, Input_Details!$J$5:$J$24, 0), 0)","v":"51.49637,-0.09528"},{"$f":"INDEX(Input_Details!$K$5:$K$24, MATCH($A1244, Input_Details!$J$5:$J$24, 0), 0)","v":"Northbound"},"Thu","22:00:00",1,1,0,0,0,0,0,0,0,0,0,0,0,0,0,1,0,0,1,0,0,0,0,0,0,0,0,0,0,0,0,0,29.5,"-",22.6,36.299999999999997,{"$f":"INDEX(Input_Details!$L$5:$L$24, MATCH($A1244, Input_Details!$J$5:$J$24, 0), 0)","v":"Southbound"},"Thu","22:00:00",0,4,0,0,0,0,0,0,0,0,0,0,0,1,1,1,0,1,0,0,0,0,0,0,0,0,0,0,0,0,0,0,20.100000000000001,"-",10.1,31.2,null,"Thu","22:00:00",1,5,0,0,0,0,0,0,0,0,0,0,0,1,1,2,0,1,1,0,0,0,0,0,0,0,0,0,0,0,0,0,23.233333333333334,"-",10.1,36.299999999999997,1,1,0,0,0,2,0,4,0,0,0,4,1,5,0,0,0,6]
[2,{"$f":"OFFSET(Input_Details!$Q$4,MATCH($A1265, Input_Details!$J$5:$J$24, 0), 4)","v":"2017-11-17"},{"$f":"INDEX(Input_Details!$H$5:$H$24, MATCH($A1265, Input_Details!$J$5:$J$24, 0), 0)","v":"Rockingham Street"},{"$f":"INDEX(Input_Details!$I$5:$I$24, MATCH($A1265, Input_Details!$J$5:$J$24, 0), 0)","v":"51.49637,-0.09528"},{"$f":"INDEX(Input_Details!$K$5:$K$24, MATCH($A1265, Input_Details!$J$5:$J$24, 0), 0)","v":"Northbound"},"Fri","03:15:00",0,0,0,0,0,0,0,0,0,0,0,0,0,0,0,0,0,0,0,0,0,0,0,0,0,0,0,0,0,0,0,0,"-","-","-","-",{"$f":"INDEX(Input_Details!$L$5:$L$24, MATCH($A1265, Input_Details!$J$5:$J$24, 0), 0)","v":"Southbound"},"Fri","03:15:00",0,0,0,0,0,0,0,0,0,0,0,0,0,0,0,0,0,0,0,0,0,0,0,0,0,0,0,0,0,0,0,0,"-","-","-","-",null,"Fri","03:15:00",0,0,0,0,0,0,0,0,0,0,0,0,0,0,0,0,0,0,0,0,0,0,0,0,0,0,0,0,0,0,0,0,"-","-","-","-",0,0,0,0,0,0,0,0,0,0,0,0,0,0,0,0,0,0]
[2,{"$f":"OFFSET(Input_Details!$Q$4,MATCH($A1290, Input_Details!$J$5:$J$24, 0), 4)","v":"2017-11-17"},{"$f":"INDEX(Input_Details!$H$5:$H$24, MATCH($A1290, Input_Details!$J$5:$J$24, 0), 0)","v":"Rockingham Street"},{"$f":"INDEX(Input_Details!$I$5:$I$24, MATCH($A1290, Input_Details!$J$5:$J$24, 0), 0)","v":"51.49637,-0.09528"},{"$f":"INDEX(Input_Details!$K$5:$K$24, MATCH($A1290, Input_Details!$J$5:$J$24, 0), 0)","v":"Northbound"},"Fri","09:30:00",0,5,0,0,0,0,0,0,0,0,0,0,0,0,1,2,1,0,0,0,1,0,0,0,0,0,0,0,0,0,0,0,26.4,"-",16.8,47.5,{"$f":"INDEX(Input_Details!$L$5:$L$24, MATCH($A1290, Input_Details!$J$5:$J$24, 0), 0)","v":"Southbound"},"Fri","09:30:00",0,1,0,1,0,0,0,0,0,0,0,0,0,0,0,1,1,0,0,0,0,0,0,0,0,0,0,0,0,0,0,0,22.8,"-",20.3,25.3,null,"Fri","09:30:00",0,6,0,1,0,0,0,0,0,0,0,0,0,0,1,3,2,0,0,0,1,0,0,0,0,0,0,0,0,0,0,0,25.37142857142857,"-",16.8,47.5,0,5,0,0,0,5,0,1,1,0,0,2,0,6,1,0,0,7]
[2,{"$f":"OFFSET(Input_Details!$Q$4,MATCH($A1333, Input_Details!$J$5:$J$24, 0), 4)","v":"2017-11-17"},{"$f":"INDEX(Input_Details!$H$5:$H$24, MATCH($A1333, Input_Details!$J$5:$J$24, 0), 0)","v":"Rockingham Street"},{"$f":"INDEX(Input_Details!$I$5:$I$24, MATCH($A1333, Input_Details!$J$5:$J$24, 0), 0)","v":"51.49637,-0.09528"},{"$f":"INDEX(Input_Details!$K$5:$K$24, MATCH($A1333, Input_Details!$J$5:$J$24, 0), 0)","v":"Northbound"},"Fri","20:15:00",0,2,0,0,0,0,0,0,0,0,0,0,0,0,2,0,0,0,0,0,0,0,0,0,0,0,0,0,0,0,0,0,15.8,"-",15.1,16.5,{"$f":"INDEX(Input_Details!$L$5:$L$24, MATCH($A1333, Input_Details!$J$5:$J$24, 0), 0)","v":"Southbound"},"Fri","20:15:00",0,3,0,0,0,0,0,0,0,0,0,0,0,0,1,1,1,0,0,0,0,0,0,0,0,0,0,0,0,0,0,0,21.5,"-",18.7,25.4,null,"Fri","20:15:00",0,5,0,0,0,0,0,0,0,0,0,0,0,0,3,1,1,0,0,0,0,0,0,0,0,0,0,0,0,0,0,0,19.22,"-",15.1,25.4,0,2,0,0,0,2,0,3,0,0,0,3,0,5,0,0,0,5]
[2,{"$f":"OFFSET(Input_Details!$Q$4,MATCH($A1366, Input_Details!$J$5:$J$24, 0), 5)","v":"2017-11-18"},{"$f":"INDEX(Input_Details!$H$5:$H$24, MATCH($A1366, Input_Details!$J$5:$J$24, 0), 0)","v":"Rockingham Street"},{"$f":"INDEX(Input_Details!$I$5:$I$24, MATCH($A1366, Input_Details!$J$5:$J$24, 0), 0)","v":"51.49637,-0.09528"},{"$f":"INDEX(Input_Details!$K$5:$K$24, MATCH($A1366, Input_Details!$J$5:$J$24, 0), 0)","v":"Northbound"},"Sat","04:30:00",0,0,0,0,0,0,0,0,0,0,0,0,0,0,0,0,0,0,0,0,0,0,0,0,0,0,0,0,0,0,0,0,"-","-","-","-",{"$f":"INDEX(Input_Details!$L$5:$L$24, MATCH($A1366, Input_Details!$J$5:$J$24, 0), 0)","v":"Southbound"},"Sat","04:30:00",0,1,0,0,0,0,0,0,0,0,0,0,0,0,1,0,0,0,0,0,0,0,0,0,0,0,0,0,0,0,0,0,19.5,"-",19.5,19.5,null,"Sat","04:30:00",0,1,0,0,0,0,0,0,0,0,0,0,0,0,1,0,0,0,0,0,0,0,0,0,0,0,0,0,0,0,0,0,19.5,"-",19.5,19.5,0,0,0,0,0,0,0,1,0,0,0,1,0,1,0,0,0,1]
[2,{"$f":"OFFSET(Input_Details!$Q$4,MATCH($A1412, Input_Details!$J$5:$J$24, 0), 5)","v":"2017-11-18"},{"$f":"INDEX(Input_Details!$H$5:$H$24, MATCH($A1412, Input_Details!$J$5:$J$24, 0), 0)","v":"Rockingham Street"},{"$f":"INDEX(Input_Details!$I$5:$I$24, MATCH($A1412, Input_Details!$J$5:$J$24, 0), 0)","v":"51.49637,-0.09528"},{"$f":"INDEX(Input_Details!$K$5:$K$24, MATCH($A1412, Input_Details!$J$5:$J$24, 0), 0)","v":"Northbound"},"Sat","16:00:00",0,1,0,0,0,0,0,0,0,0,0,0,0,0,1,0,0,0,0,0,0,0,0,0,0,0,0,0,0,0,0,0,17.600000000000001,"-",17.600000000000001,17.600000000000001,{"$f":"INDEX(Input_Details!$L$5:$L$24, MATCH($A1412, Input_Details!$J$5:$J$24, 0), 0)","v":"Southbound"},"Sat","16:00:00",0,0,0,0,0,0,0,0,0,0,0,0,0,0,0,0,0,0,0,0,0,0,0,0,0,0,0,0,0,0,0,0,"-","-","-","-",null,"Sat","16:00:00",0,1,0,0,0,0,0,0,0,0,0,0,0,0,1,0,0,0,0,0,0,0,0,0,0,0,0,0,0,0,0,0,17.600000000000001,"-",17.600000000000001,17.600000000000001,0,1,0,0,0,1,0,0,0,0,0,0,0,{"$f":"IF(OR(DS1412=\"-\", DY1412=\"-\"), \"-\", SUM(DS1412,DY1412))","v":1},{"$f":"IF(OR(DT1412=\"-\", DZ1412=\"-\"), \"-\", SUM(DT1412,DZ1412))","v":0},{"$f":"IF(OR(DU1412=\"-\", EA1412=\"-\"), \"-\", SUM(DU1412,EA1412))","v":0},{"$f":"IF(OR(DV1412=\"-\", EB1412=\"-\"), \"-\", SUM(DV1412,EB1412))","v":0},{"$f":"IF(OR(DW1412=\"-\", EC1412=\"-\"), \"-\", SUM(DW1412,EC1412))","v":1}]
[2,{"$f":"OFFSET(Input_Details!$Q$4,MATCH($A1422, Input_Details!$J$5:$J$24, 0), 5)","v":"2017-11-18"},{"$f":"INDEX(Input_Details!$H$5:$H$24, MATCH($A1422, Input_Details!$J$5:$J$24, 0), 0)","v":"Rockingham Street"},{"$f":"INDEX(Input_Details!$I$5:$I$24, MATCH($A1422, Input_Details!$J$5:$J$24, 0), 0)","v":"51.49637,-0.09528"},{"$f":"INDEX(Input_Details!$K$5:$K$24, MATCH($A1422, Input_Details!$J$5:$J$24, 0), 0)","v":"Northbound"},"Sat","18:30:00",1,3,0,0,0,0,0,0,0,0,0,0,0,0,3,1,0,0,0,0,0,0,0,0,0,0,0,0,0,0,0,0,19.100000000000001,"-",15.3,24.4,{"$f":"INDEX(Input_Details!$L$5:$L$24, MATCH($A1422, Input_Details!$J$5:$J$24, 0), 0)","v":"Southbound"},"Sat","18:30:00",1,3,0,0,0,0,0,0,0,0,0,0,0,2,1,0,0,1,0,0,0,0,0,0,0,0,0,0,0,0,0,0,18.5,"-",12.4,31.2,null,"Sat","18:30:00",2,6,0,0,0,0,0,0,0,0,0,0,0,2,4,1,0,1,0,0,0,0,0,0,0,0,0,0,0,0,0,0,18.8,"-",12.4,31.2,1,3,0,0,0,4,1,3,0,0,0,4,2,6,0,0,0,8]
[2,{"$f":"OFFSET(Input_Details!$Q$4,MATCH($A1461, Input_Details!$J$5:$J$24, 0), 6)","v":"2017-11-19"},{"$f":"INDEX(Input_Details!$H$5:$H$24, MATCH($A1461, Input_Details!$J$5:$J$24, 0), 0)","v":"Rockingham Street"},{"$f":"INDEX(Input_Details!$I$5:$I$24, MATCH($A1461, Input_Details!$J$5:$J$24, 0), 0)","v":"51.49637,-0.09528"},{"$f":"INDEX(Input_Details!$K$5:$K$24, MATCH($A1461, Input_Details!$J$5:$J$24, 0), 0)","v":"Northbound"},"Sun","04:15:00",0,0,0,0,0,0,0,0,0,0,0,0,0,0,0,0,0,0,0,0,0,0,0,0,0,0,0,0,0,0,0,0,"-","-","-","-",{"$f":"INDEX(Input_Details!$L$5:$L$24, MATCH($A1461, Input_Details!$J$5:$J$24, 0), 0)","v":"Southbound"},"Sun","04:15:00",0,0,0,0,0,0,0,0,0,0,0,0,0,0,0,0,0,0,0,0,0,0,0,0,0,0,0,0,0,0,0,0,"-","-","-","-",null,"Sun","04:15:00",0,0,0,0,0,0,0,0,0,0,0,0,0,0,0,0,0,0,0,0,0,0,0,0,0,0,0,0,0,0,0,0,"-","-","-","-",0,0,0,0,0,0,0,0,0,0,0,0,0,0,0,0,0,0]
[2,{"$f":"OFFSET(Input_Details!$Q$4,MATCH($A1501, Input_Details!$J$5:$J$24, 0), 6)","v":"2017-11-19"},{"$f":"INDEX(Input_Details!$H$5:$H$24, MATCH($A1501, Input_Details!$J$5:$J$24, 0), 0)","v":"Rockingham Street"},{"$f":"INDEX(Input_Details!$I$5:$I$24, MATCH($A1501, Input_Details!$J$5:$J$24, 0), 0)","v":"51.49637,-0.09528"},{"$f":"INDEX(Input_Details!$K$5:$K$24, MATCH($A1501, Input_Details!$J$5:$J$24, 0), 0)","v":"Northbound"},"Sun","14:15:00",0,3,0,0,0,0,0,0,0,0,0,0,0,1,0,1,1,0,0,0,0,0,0,0,0,0,0,0,0,0,0,0,21.4,"-",13.7,27,{"$f":"INDEX(Input_Details!$L$5:$L$24, MATCH($A1501, Input_Details!$J$5:$J$24, 0), 0)","v":"Southbound"},"Sun","14:15:00",0,5,0,0,0,0,0,0,0,0,0,0,0,1,3,0,1,0,0,0,0,0,0,0,0,0,0,0,0,0,0,0,18.8,"-",12.3,28,null,"Sun","14:15:00",0,8,0,0,0,0,0,0,0,0,0,0,0,2,3,1,2,0,0,0,0,0,0,0,0,0,0,0,0,0,0,0,19.774999999999999,"-",12.3,28,0,3,0,0,0,3,0,5,0,0,0,5,0,8,0,0,0,8]
[2,"Weekday Average",{"$f":"INDEX(Input_Details!$H$5:$H$24, MATCH($A1544, Input_Details!$J$5:$J$24, 0), 0)","v":"Rockingham Street"},{"$f":"INDEX(Input_Details!$I$5:$I$24, MATCH($A1544, Input_Details!$J$5:$J$24, 0), 0)","v":"51.49637,-0.09528"},{"$f":"INDEX(Input_Details!$K$5:$K$24, MATCH($A1544, Input_Details!$J$5:$J$24, 0), 0)","v":"Northbound"},"WD Ave","01:00:00",{"$f":"IF(AND(H872=\"\",H968=\"\",H1064=\"\",H1160=\"\",H1256=\"\"), \"-\", IF(H872+H968+H1064+H1160+H1256=0,0,AVERAGE(H872,H968,H1064,H1160,H1256)))","v":0},0.2,0,0,0,0,0,0,0,0,0,0,{"$f":"IF(AND(T872=\"\",T968=\"\",T1064=\"\",T1160=\"\",T1256=\"\"), \"-\", IF(SUM($H1544:$S1544)=0, 0, IF(T872+T968+T1064+T1160+T1256=0,0,AVERAGE(T872,T968,T1064,T1160,T1256))))","v":0},0,0.2,0,0,0,0,0,0,0,0,0,0,0,0,0,0,0,0,0,{"$f":"IF(SUM(H1544:S1544)=0,\"-\",AVERAGEIF(G868:G1347,$G1544,AN868:AN1347))","v":16.600000000000001},{"$f":"IFERROR(IF(SUM(H1544:S1544)=0,\"-\",AVERAGEIF(G868:G1347,G1544,AO868:AO1347)), \"-\")","v":"-"},16.600000000000001,16.600000000000001,{"$f":"INDEX(Input_Details!$L$5:$L$24, MATCH($A1544, Input_Details!$J$5:$J$24, 0), 0)","v":"Southbound"},"WD Ave","01:00:00",{"$f":"IF(AND(AU872=\"\",AU968=\"\",AU1064=\"\",AU1160=\"\",AU1256=\"\"), \"-\", IF(AU872+AU968+AU1064+AU1160+AU1256=0,0,AVERAGE(AU872,AU968,AU1064,AU1160,AU1256)))","v":0.2},0.4,0,0,0,0,0,0,0,0,0,0,{"$f":"IF(AND(BG872=\"\",BG968=\"\",BG1064=\"\",BG1160=\"\",BG1256=\"\"), \"-\", IF(SUM($AU1544:$BF1544)=0, 0, IF(BG872+BG968+BG1064+BG1160+BG1256=0,0,AVERAGE(BG872,BG968,BG1064,BG1160,BG1256))))","v":0},0.2,0.2,0.2,0,0,0,0,0,0,0,0,0,0,0,0,0,0,0,0,{"$f":"IF(SUM(AU1544:BF1544)=0,\"-\",AVERAGEIF(AT868:AT1347,$G1544,CA868:CA1347))","v":16.466666666666669},{"$f":"IFERROR(IF(SUM(AU1544:BF1544)=0,\"-\",AVERAGEIF(AT868:AT1347,AT1544,CB868:CB1347)), \"-\")","v":"-"},13.1,20.3,null,"WD Ave","01:00:00",{"$f":"IF(AND(CH872=\"-\",CH968=\"-\",CH1064=\"-\",CH1160=\"-\",CH1256=\"-\"), \"-\", ROUND(AVERAGE(CH872,CH968,CH1064,CH1160,CH1256), 0))","v":0},1,0,0,0,0,0,0,0,0,0,0,{"$f":"IF(AND(CT872=\"-\",CT968=\"-\",CT1064=\"-\",CT1160=\"-\",CT1256=\"-\"), \"-\", IF(SUM($CH1544:$CS1544)=0, 0, ROUND(AVERAGE(CT872,CT968,CT1064,CT1160,CT1256), 0)))","v":0},0,0,0,0,0,0,0,0,0,0,0,0,0,0,0,0,0,0,0,16.500000000000004,"-",13.1,20.3,0,0.2,0,0,0,0.2,0.2,0.4,0,0,0,0.60000000000000009,0.2,0.60000000000000009,0,0,0,0.8]
[2,"Weekday Average",{"$f":"INDEX(Input_Details!$H$5:$H$24, MATCH($A1550, Input_Details!$J$5:$J$24, 0), 0)","v":"Rockingham Street"},{"$f":"INDEX(Input_Details!$I$5:$I$24, MATCH($A1550, Input_Details!$J$5:$J$24, 0), 0)","v":"51.49637,-0.09528"},{"$f":"INDEX(Input_Details!$K$5:$K$24, MATCH($A1550, Input_Details!$J$5:$J$24, 0), 0)","v":"Northbound"},"WD Ave","02:30:00",{"$f":"IF(AND(H878=\"\",H974=\"\",H1070=\"\",H1166=\"\",H1262=\"\"), \"-\", IF(H878+H974+H1070+H1166+H1262=0,0,AVERAGE(H878,H974,H1070,H1166,H1262)))","v":0},0,0,0,0,0,0,0,0,0,0,0,{"$f":"IF(AND(T878=\"\",T974=\"\",T1070=\"\",T1166=\"\",T1262=\"\"), \"-\", IF(SUM($H1550:$S1550)=0, 0, IF(T878+T974+T1070+T1166+T1262=0,0,AVERAGE(T878,T974,T1070,T1166,T1262))))","v":0},0,0,0,0,0,0,0,0,0,0,0,0,0,0,0,0,0,0,0,{"$f":"IF(SUM(H1550:S1550)=0,\"-\",AVERAGEIF(G868:G1347,$G1550,AN868:AN1347))","v":"-"},{"$f":"IFERROR(IF(SUM(H1550:S1550)=0,\"-\",AVERAGEIF(G868:G1347,G1550,AO868:AO1347)), \"-\")","v":"-"},"-","-",{"$f":"INDEX(Input_Details!$L$5:$L$24, MATCH($A1550, Input_Details!$J$5:$J$24, 0), 0)","v":"Southbound"},"WD Ave","02:30:00",{"$f":"IF(AND(AU878=\"\",AU974=\"\",AU1070=\"\",AU1166=\"\",AU1262=\"\"), \"-\", IF(AU878+AU974+AU1070+AU1166+AU1262=0,0,AVERAGE(AU878,AU974,AU1070,AU1166,AU1262)))","v":0},0,0,0.2,0,0,0,0,0,0,0,0,{"$f":"IF(AND(BG878=\"\",BG974=\"\",BG1070=\"\",BG1166=\"\",BG1262=\"\"), \"-\", IF(SUM($AU1550:$BF1550)=0, 0, IF(BG878+BG974+BG1070+BG1166+BG1262=0,0,AVERAGE(BG878,BG974,BG1070,BG1166,BG1262))))","v":0},0,0.2,0,0,0,0,0,0,0,0,0,0,0,0,0,0,0,0,0,{"$f":"IF(SUM(AU1550:BF1550)=0,\"-\",AVERAGEIF(AT868:AT1347,$G1550,CA868:CA1347))","v":18.399999999999999},{"$f":"IFERROR(IF(SUM(AU1550:BF1550)=0,\"-\",AVERAGEIF(AT868:AT1347,AT1550,CB868:CB1347)), \"-\")","v":"-"},18.399999999999999,18.399999999999999,null,"WD Ave","02:30:00",{"$f":"IF(AND(CH878=\"-\",CH974=\"-\",CH1070=\"-\",CH1166=\"-\",CH1262=\"-\"), \"-\", ROUND(AVERAGE(CH878,CH974,CH1070,CH1166,CH1262), 0))","v":0},0,0,0,0,0,0,0,0,0,0,0,{"$f":"IF(AND(CT878=\"-\",CT974=\"-\",CT1070=\"-\",CT1166=\"-\",CT1262=\"-\"), \"-\", IF(SUM($CH1550:$CS1550)=0, 0, ROUND(AVERAGE(CT878,CT974,CT1070,CT1166,CT1262), 0)))","v":0},0,0,0,0,0,0,0,0,0,0,0,0,0,0,0,0,0,0,0,18.399999999999999,"-",18.399999999999999,18.399999999999999,0,0,0,0,0,0,0,0,0.2,0,0,0.2,0,0,0.2,0,0,0.2]
[2,"Weekday Average",{"$f":"INDEX(Input_Details!$H$5:$H$24, MATCH($A1602, Input_Details!$J$5:$J$24, 0), 0)","v":"Rockingham Street"},{"$f":"INDEX(Input_Details!$I$5:$I$24, MATCH($A1602, Input_Details!$J$5:$J$24, 0), 0)","v":"51.49637,-0.09528"},{"$f":"INDEX(Input_Details!$K$5:$K$24, MATCH($A1602, Input_Details!$J$5:$J$24, 0), 0)","v":"Northbound"},"WD Ave","15:30:00",{"$f":"IF(AND(H930=\"\",H1026=\"\",H1122=\"\",H1218=\"\",H1314=\"\"), \"-\", IF(H930+H1026+H1122+H1218+H1314=0,0,AVERAGE(H930,H1026,H1122,H1218,H1314)))","v":0.4},1.8,0,0.4,0,0.4,0,0,0,0,0,0,{"$f":"IF(AND(T930=\"\",T1026=\"\",T1122=\"\",T1218=\"\",T1314=\"\"), \"-\", IF(SUM($H1602:$S1602)=0, 0, IF(T930+T1026+T1122+T1218+T1314=0,0,AVERAGE(T930,T1026,T1122,T1218,T1314))))","v":0},0.8,0.4,0.8,1,0,0,0,0,0,0,0,0,0,0,0,0,0,0,0,{"$f":"IF(SUM(H1602:S1602)=0,\"-\",AVERAGEIF(G868:G1347,$G1602,AN868:AN1347))","v":21.424999999999997},{"$f":"IFERROR(IF(SUM(H1602:S1602)=0,\"-\",AVERAGEIF(G868:G1347,G1602,AO868:AO1347)), \"-\")","v":"-"},10.4,29.3,{"$f":"INDEX(Input_Details!$L$5:$L$24, MATCH($A1602, Input_Details!$J$5:$J$24, 0), 0)","v":"Southbound"},"WD Ave","15:30:00",{"$f":"IF(AND(AU930=\"\",AU1026=\"\",AU1122=\"\",AU1218=\"\",AU1314=\"\"), \"-\", IF(AU930+AU1026+AU1122+AU1218+AU1314=0,0,AVERAGE(AU930,AU1026,AU1122,AU1218,AU1314)))","v":0.2},2.8,0,0.8,0,0,0,0,0,0,0,0,{"$f":"IF(AND(BG930=\"\",BG1026=\"\",BG1122=\"\",BG1218=\"\",BG1314=\"\"), \"-\", IF(SUM($AU1602:$BF1602)=0, 0, IF(BG930+BG1026+BG1122+BG1218+BG1314=0,0,AVERAGE(BG930,BG1026,BG1122,BG1218,BG1314))))","v":0},0.8,0.2,1,1,0.8,0,0,0,0,0,0,0,0,0,0,0,0,0,0,{"$f":"IF(SUM(AU1602:BF1602)=0,\"-\",AVERAGEIF(AT868:AT1347,$G1602,CA868:CA1347))","v":23.139999999999997},{"$f":"IFERROR(IF(SUM(AU1602:BF1602)=0,\"-\",AVERAGEIF(AT868:AT1347,AT1602,CB868:CB1347)), \"-\")","v":"-"},11.8,34.6,null,"WD Ave","15:30:00",{"$f":"IF(AND(CH930=\"-\",CH1026=\"-\",CH1122=\"-\",CH1218=\"-\",CH1314=\"-\"), \"-\", ROUND(AVERAGE(CH930,CH1026,CH1122,CH1218,CH1314), 0))","v":1},5,0,1,0,0,0,0,0,0,0,0,{"$f":"IF(AND(CT930=\"-\",CT1026=\"-\",CT1122=\"-\",CT1218=\"-\",CT1314=\"-\"), \"-\", IF(SUM($CH1602:$CS1602)=0, 0, ROUND(AVERAGE(CT930,CT1026,CT1122,CT1218,CT1314), 0)))","v":0},2,1,2,2,1,0,0,0,0,0,0,0,0,0,0,0,0,0,0,22.383382352941176,"-",10.4,34.6,0.4,1.8,0.4,0,0.4,3,0.2,2.8,0.8,0,0,3.8,0.60000000000000009,4.5999999999999996,1.2000000000000002,0,0.4,6.8]
[2,"Weekday Average",{"$f":"INDEX(Input_Details!$H$5:$H$24, MATCH($A1633, Input_Details!$J$5:$J$24, 0), 0)","v":"Rockingham Street"},{"$f":"INDEX(Input_Details!$I$5:$I$24, MATCH($A1633, Input_Details!$J$5:$J$24, 0), 0)","v":"51.49637,-0.09528"},{"$f":"INDEX(Input_Details!$K$5:$K$24, MATCH($A1633, Input_Details!$J$5:$J$24, 0), 0)","v":"Northbound"},"WD Ave","23:15:00",{"$f":"IF(AND(H961=\"\",H1057=\"\",H1153=\"\",H1249=\"\",H1345=\"\"), \"-\", IF(H961+H1057+H1153+H1249+H1345=0,0,AVERAGE(H961,H1057,H1153,H1249,H1345)))","v":0},0.8,0,0,0,0,0,0,0,0,0,0,{"$f":"IF(AND(T961=\"\",T1057=\"\",T1153=\"\",T1249=\"\",T1345=\"\"), \"-\", IF(SUM($H1633:$S1633)=0, 0, IF(T961+T1057+T1153+T1249+T1345=0,0,AVERAGE(T961,T1057,T1153,T1249,T1345))))","v":0},0,0.2,0.2,0.4,0,0,0,0,0,0,0,0,0,0,0,0,0,0,0,{"$f":"IF(SUM(H1633:S1633)=0,\"-\",AVERAGEIF(G868:G1347,$G1633,AN868:AN1347))","v":23.133333333333336},{"$f":"IFERROR(IF(SUM(H1633:S1633)=0,\"-\",AVERAGEIF(G868:G1347,G1633,AO868:AO1347)), \"-\")","v":"-"},19.3,26.1,{"$f":"INDEX(Input_Details!$L$5:$L$24, MATCH($A1633, Input_Details!$J$5:$J$24, 0), 0)","v":"Southbound"},"WD Ave","23:15:00",{"$f":"IF(AND(AU961=\"\",AU1057=\"\",AU1153=\"\",AU1249=\"\",AU1345=\"\"), \"-\", IF(AU961+AU1057+AU1153+AU1249+AU1345=0,0,AVERAGE(AU961,AU1057,AU1153,AU1249,AU1345)))","v":0},1.6,0,0,0,0,0,0,0,0,0,0,{"$f":"IF(AND(BG961=\"\",BG1057=\"\",BG1153=\"\",BG1249=\"\",BG1345=\"\"), \"-\", IF(SUM($AU1633:$BF1633)=0, 0, IF(BG961+BG1057+BG1153+BG1249+BG1345=0,0,AVERAGE(BG961,BG1057,BG1153,BG1249,BG1345))))","v":0.2},0.2,0.2,0.8,0,0.2,0,0,0,0,0,0,0,0,0,0,0,0,0,0,{"$f":"IF(SUM(AU1633:BF1633)=0,\"-\",AVERAGEIF(AT868:AT1347,$G1633,CA868:CA1347))","v":20.7},{"$f":"IFERROR(IF(SUM(AU1633:BF1633)=0,\"-\",AVERAGEIF(AT868:AT1347,AT1633,CB868:CB1347)), \"-\")","v":"-"},7.8,34.4,null,"WD Ave","23:15:00",{"$f":"IF(AND(CH961=\"-\",CH1057=\"-\",CH1153=\"-\",CH1249=\"-\",CH1345=\"-\"), \"-\", ROUND(AVERAGE(CH961,CH1057,CH1153,CH1249,CH1345), 0))","v":0},2,0,0,0,0,0,0,0,0,0,0,{"$f":"IF(AND(CT961=\"-\",CT1057=\"-\",CT1153=\"-\",CT1249=\"-\",CT1345=\"-\"), \"-\", IF(SUM($CH1633:$CS1633)=0, 0, ROUND(AVERAGE(CT961,CT1057,CT1153,CT1249,CT1345), 0)))","v":0},0,0,1,0,0,0,0,0,0,0,0,0,0,0,0,0,0,0,0,21.511111111111106,"-",7.8,34.4,0,0.8,0,0,0,0.8,0,1.6,0,0,0,1.6,0,2.4000000000000004,0,0,0,2.4000000000000004]
[2,"7-Day Average",{"$f":"INDEX(Input_Details!$H$5:$H$24, MATCH($A1676, Input_Details!$J$5:$J$24, 0), 0)","v":"Rockingham Street"},{"$f":"INDEX(Input_Details!$I$5:$I$24, MATCH($A1676, Input_Details!$J$5:$J$24, 0), 0)","v":"51.49637,-0.09528"},{"$f":"INDEX(Input_Details!$K$5:$K$24, MATCH($A1676, Input_Details!$J$5:$J$24, 0), 0)","v":"Northbound"},"7 Day Ave","10:00:00",{"$f":"IF(AND(H908=\"\",H1004=\"\",H1100=\"\",H1196=\"\",H1292=\"\",H1388=\"\",H1484=\"\"), \"-\", IF(H908+H1004+H1100+H1196+H1292+H1388+H1484=0,0,AVERAGE(H908,H1004,H1100,H1196,H1292,H1388,H1484)))","v":0.14285714285714285},1.5714285714285714,0,0,0,0.14285714285714285,0,0,0,0,0,0,{"$f":"IF(AND(T908=\"\",T1004=\"\",T1100=\"\",T1196=\"\",T1292=\"\",T1388=\"\",T1484=\"\"), \"-\", IF(SUM($H1676:$S1676)=0, 0, IF(T908+T1004+T1100+T1196+T1292+T1388+T1484=0,0,AVERAGE(T908,T1004,T1100,T1196,T1292,T1388,T1484))))","v":0},0.7142857142857143,0.5714285714285714,0.14285714285714285,0.2857142857142857,0.14285714285714285,0,0,0,0,0,0,0,0,0,0,0,0,0,0,{"$f":"IF(SUM(H1676:S1676)=0,\"-\",AVERAGEIF(G868:G1539,$G1676,AN868:AN1539))","v":17.842857142857145},{"$f":"IFERROR(IF(SUM(H1676:S1676)=0,\"-\",AVERAGEIF(G868:G1539,G1676,AO868:AO1539)), \"-\")","v":"-"},10.3,30,{"$f":"INDEX(Input_Details!$L$5:$L$24, MATCH($A1676, Input_Details!$J$5:$J$24, 0), 0)","v":"Southbound"},"7 Day Ave","10:00:00",{"$f":"IF(AND(AU908=\"\",AU1004=\"\",AU1100=\"\",AU1196=\"\",AU1292=\"\",AU1388=\"\",AU1484=\"\"), \"-\", IF(AU908+AU1004+AU1100+AU1196+AU1292+AU1388+AU1484=0,0,AVERAGE(AU908,AU1004,AU1100,AU1196,AU1292,AU1388,AU1484)))","v":0.14285714285714285},1.5714285714285714,0,0.14285714285714285,0,0,0,0,0,0,0,0,{"$f":"IF(AND(BG908=\"\",BG1004=\"\",BG1100=\"\",BG1196=\"\",BG1292=\"\",BG1388=\"\",BG1484=\"\"), \"-\", IF(SUM($AU1676:$BF1676)=0, 0, IF(BG908+BG1004+BG1100+BG1196+BG1292+BG1388+BG1484=0,0,AVERAGE(BG908,BG1004,BG1100,BG1196,BG1292,BG1388,BG1484))))","v":0},0.14285714285714285,1,0.5714285714285714,0,0.14285714285714285,0,0,0,0,0,0,0,0,0,0,0,0,0,0,{"$f":"IF(SUM(AU1676:BF1676)=0,\"-\",AVERAGEIF(AT868:AT1539,$G1676,CA868:CA1539))","v":18.985714285714288},{"$f":"IFERROR(IF(SUM(AU1676:BF1676)=0,\"-\",AVERAGEIF(AT868:AT1539,AT1676,CB868:CB1539)), \"-\")","v":"-"},11.6,32.799999999999997,null,"7 Day Ave","10:00:00",{"$f":"IF(AND(CH908=\"-\",CH1004=\"-\",CH1100=\"-\",CH1196=\"-\",CH1292=\"-\",CH1388=\"-\",CH1484=\"-\"), \"-\", ROUND(AVERAGE(CH908,CH1004,CH1100,CH1196,CH1292,CH1388,CH1484),0))","v":0},3,0,0,0,0,0,0,0,0,0,0,{"$f":"IF(AND(CT908=\"-\",CT1004=\"-\",CT1100=\"-\",CT1196=\"-\",CT1292=\"-\",CT1388=\"-\",CT1484=\"-\"), \"-\", IF(SUM($CH1676:$CS1676)=0, 0, ROUND(AVERAGE(CT908,CT1004,CT1100,CT1196,CT1292,CT1388,CT1484),0)))","v":0},1,2,1,0,0,0,0,0,0,0,0,0,0,0,0,0,0,0,0,18.414285714285715,"-",10.3,32.799999999999997,0.14285714285714285,1.5714285714285714,0,0,0.14285714285714285,1.857142857142857,0.14285714285714285,1.5714285714285714,0.14285714285714285,0,0,1.857142857142857,0.2857142857142857,3.1428571428571428,0.14285714285714285,0,0.14285714285714285,3.714285714285714]
[2,"7-Day Average",{"$f":"INDEX(Input_Details!$H$5:$H$24, MATCH($A1703, Input_Details!$J$5:$J$24, 0), 0)","v":"Rockingham Street"},{"$f":"INDEX(Input_Details!$I$5:$I$24, MATCH($A1703, Input_Details!$J$5:$J$24, 0), 0)","v":"51.49637,-0.09528"},{"$f":"INDEX(Input_Details!$K$5:$K$24, MATCH($A1703, Input_Details!$J$5:$J$24, 0), 0)","v":"Northbound"},"7 Day Ave","16:45:00",{"$f":"IF(AND(H935=\"\",H1031=\"\",H1127=\"\",H1223=\"\",H1319=\"\",H1415=\"\",H1511=\"\"), \"-\", IF(H935+H1031+H1127+H1223+H1319+H1415+H1511=0,0,AVERAGE(H935,H1031,H1127,H1223,H1319,H1415,H1511)))","v":0.5714285714285714},2.8571428571428572,0,0.42857142857142855,0,0.5714285714285714,0,0,0,0,0,0,{"$f":"IF(AND(T935=\"\",T1031=\"\",T1127=\"\",T1223=\"\",T1319=\"\",T1415=\"\",T1511=\"\"), \"-\", IF(SUM($H1703:$S1703)=0, 0, IF(T935+T1031+T1127+T1223+T1319+T1415+T1511=0,0,AVERAGE(T935,T1031,T1127,T1223,T1319,T1415,T1511))))","v":0},0.42857142857142855,1.1428571428571428,1.2857142857142858,0.8571428571428571,0.14285714285714285,0,0,0.14285714285714285,0,0.14285714285714285,0.14285714285714285,0.14285714285714285,0,0,0,0,0,0,0,{"$f":"IF(SUM(H1703:S1703)=0,\"-\",AVERAGEIF(G868:G1539,$G1703,AN868:AN1539))","v":24.585714285714289},{"$f":"IFERROR(IF(SUM(H1703:S1703)=0,\"-\",AVERAGEIF(G868:G1539,G1703,AO868:AO1539)), \"-\")","v":"-"},12,65.900000000000006,{"$f":"INDEX(Input_Details!$L$5:$L$24, MATCH($A1703, Input_Details!$J$5:$J$24, 0), 0)","v":"Southbound"},"7 Day Ave","16:45:00",{"$f":"IF(AND(AU935=\"\",AU1031=\"\",AU1127=\"\",AU1223=\"\",AU1319=\"\",AU1415=\"\",AU1511=\"\"), \"-\", IF(AU935+AU1031+AU1127+AU1223+AU1319+AU1415+AU1511=0,0,AVERAGE(AU935,AU1031,AU1127,AU1223,AU1319,AU1415,AU1511)))","v":1.1428571428571428},3.5714285714285716,0,0.2857142857142857,0,0,0,0,0,0,0,0,{"$f":"IF(AND(BG935=\"\",BG1031=\"\",BG1127=\"\",BG1223=\"\",BG1319=\"\",BG1415=\"\",BG1511=\"\"), \"-\", IF(SUM($AU1703:$BF1703)=0, 0, IF(BG935+BG1031+BG1127+BG1223+BG1319+BG1415+BG1511=0,0,AVERAGE(BG935,BG1031,BG1127,BG1223,BG1319,BG1415,BG1511))))","v":0.14285714285714285},0.2857142857142857,1.1428571428571428,2.1428571428571428,0.8571428571428571,0.2857142857142857,0.14285714285714285,0,0,0,0,0,0,0,0,0,0,0,0,0,{"$f":"IF(SUM(AU1703:BF1703)=0,\"-\",AVERAGEIF(AT868:AT1539,$G1703,CA868:CA1539))","v":20.400000000000002},{"$f":"IFERROR(IF(SUM(AU1703:BF1703)=0,\"-\",AVERAGEIF(AT868:AT1539,AT1703,CB868:CB1539)), \"-\")","v":33.6},8.9,35.299999999999997,null,"7 Day Ave","16:45:00",{"$f":"IF(AND(CH935=\"-\",CH1031=\"-\",CH1127=\"-\",CH1223=\"-\",CH1319=\"-\",CH1415=\"-\",CH1511=\"-\"), \"-\", ROUND(AVERAGE(CH935,CH1031,CH1127,CH1223,CH1319,CH1415,CH1511),0))","v":2},6,0,1,0,1,0,0,0,0,0,0,{"$f":"IF(AND(CT935=\"-\",CT1031=\"-\",CT1127=\"-\",CT1223=\"-\",CT1319=\"-\",CT1415=\"-\",CT1511=\"-\"), \"-\", IF(SUM($CH1703:$CS1703)=0, 0, ROUND(AVERAGE(CT935,CT1031,CT1127,CT1223,CT1319,CT1415,CT1511),0)))","v":0},1,2,3,2,0,0,0,0,0,0,0,0,0,0,0,0,0,0,0,22.36601731601732,33.6,8.9,65.900000000000006,0.5714285714285714,2.8571428571428572,0.42857142857142855,0,0.5714285714285714,4.4285714285714288,1.1428571428571428,3.5714285714285716,0.2857142857142857,0,0,5,1.7142857142857142,6.4285714285714288,0.71428571428571419,0,0.5714285714285714,9.4285714285714288]
[2,"7-Day Average",{"$f":"INDEX(Input_Details!$H$5:$H$24, MATCH($A1722, Input_Details!$J$5:$J$24, 0), 0)","v":"Rockingham Street"},{"$f":"INDEX(Input_Details!$I$5:$I$24, MATCH($A1722, Input_Details!$J$5:$J$24, 0), 0)","v":"51.49637,-0.09528"},{"$f":"INDEX(Input_Details!$K$5:$K$24, MATCH($A1722, Input_Details!$J$5:$J$24, 0), 0)","v":"Northbound"},"7 Day Ave","21:30:00",{"$f":"IF(AND(H954=\"\",H1050=\"\",H1146=\"\",H1242=\"\",H1338=\"\",H1434=\"\",H1530=\"\"), \"-\", IF(H954+H1050+H1146+H1242+H1338+H1434+H1530=0,0,AVERAGE(H954,H1050,H1146,H1242,H1338,H1434,H1530)))","v":0.42857142857142855},0.7142857142857143,0,0,0,0,0,0,0,0,0,0,{"$f":"IF(AND(T954=\"\",T1050=\"\",T1146=\"\",T1242=\"\",T1338=\"\",T1434=\"\",T1530=\"\"), \"-\", IF(SUM($H1722:$S1722)=0, 0, IF(T954+T1050+T1146+T1242+T1338+T1434+T1530=0,0,AVERAGE(T954,T1050,T1146,T1242,T1338,T1434,T1530))))","v":0},0.2857142857142857,0.14285714285714285,0.5714285714285714,0,0,0.14285714285714285,0,0,0,0,0,0,0,0,0,0,0,0,0,{"$f":"IF(SUM(H1722:S1722)=0,\"-\",AVERAGEIF(G868:G1539,$G1722,AN868:AN1539))","v":22.366666666666671},{"$f":"IFERROR(IF(SUM(H1722:S1722)=0,\"-\",AVERAGEIF(G868:G1539,G1722,AO868:AO1539)), \"-\")","v":"-"},12.3,35.5,{"$f":"INDEX(Input_Details!$L$5:$L$24, MATCH($A1722, Input_Details!$J$5:$J$24, 0), 0)","v":"Southbound"},"7 Day Ave","21:30:00",{"$f":"IF(AND(AU954=\"\",AU1050=\"\",AU1146=\"\",AU1242=\"\",AU1338=\"\",AU1434=\"\",AU1530=\"\"), \"-\", IF(AU954+AU1050+AU1146+AU1242+AU1338+AU1434+AU1530=0,0,AVERAGE(AU954,AU1050,AU1146,AU1242,AU1338,AU1434,AU1530)))","v":0.2857142857142857},1.2857142857142858,0,0.14285714285714285,0,0,0,0,0,0,0,0,{"$f":"IF(AND(BG954=\"\",BG1050=\"\",BG1146=\"\",BG1242=\"\",BG1338=\"\",BG1434=\"\",BG1530=\"\"), \"-\", IF(SUM($AU1722:$BF1722)=0, 0, IF(BG954+BG1050+BG1146+BG1242+BG1338+BG1434+BG1530=0,0,AVERAGE(BG954,BG1050,BG1146,BG1242,BG1338,BG1434,BG1530))))","v":0},0.14285714285714285,0.42857142857142855,0.7142857142857143,0.2857142857142857,0,0.14285714285714285,0,0,0,0,0,0,0,0,0,0,0,0,0,{"$f":"IF(SUM(AU1722:BF1722)=0,\"-\",AVERAGEIF(AT868:AT1539,$G1722,CA868:CA1539))","v":23.228571428571431},{"$f":"IFERROR(IF(SUM(AU1722:BF1722)=0,\"-\",AVERAGEIF(AT868:AT1539,AT1722,CB868:CB1539)), \"-\")","v":"-"},14.9,38.1,null,"7 Day Ave","21:30:00",{"$f":"IF(AND(CH954=\"-\",CH1050=\"-\",CH1146=\"-\",CH1242=\"-\",CH1338=\"-\",CH1434=\"-\",CH1530=\"-\"), \"-\", ROUND(AVERAGE(CH954,CH1050,CH1146,CH1242,CH1338,CH1434,CH1530),0))","v":1},2,0,0,0,0,0,0,0,0,0,0,{"$f":"IF(AND(CT954=\"-\",CT1050=\"-\",CT1146=\"-\",CT1242=\"-\",CT1338=\"-\",CT1434=\"-\",CT1530=\"-\"), \"-\", IF(SUM($CH1722:$CS1722)=0, 0, ROUND(AVERAGE(CT954,CT1050,CT1146,CT1242,CT1338,CT1434,CT1530),0)))","v":0},0,1,1,0,0,0,0,0,0,0,0,0,0,0,0,0,0,0,0,22.883809523809528,"-",12.3,38.1,0.42857142857142855,0.7142857142857143,0,0,0,1.1428571428571428,0.2857142857142857,1.2857142857142858,0.14285714285714285,0,0,1.7142857142857144,0.71428571428571419,2,0.14285714285714285,0,0,2.8571428571428572]
[3,{"$f":"OFFSET(Input_Details!$Q$4,MATCH($A1765, Input_Details!$J$5:$J$24, 0), 0)","v":"2017-11-20"},{"$f":"INDEX(Input_Details!$H$5:$H$24, MATCH($A1765, Input_Details!$J$5:$J$24, 0), 0)","v":"Falmouth Street"},{"$f":"INDEX(Input_Details!$I$5:$I$24, MATCH($A1765, Input_Details!$J$5:$J$24, 0), 0)","v":"51.49566,-0.09463"},{"$f":"INDEX(Input_Details!$K$5:$K$24, MATCH($A1765, Input_Details!$J$5:$J$24, 0), 0)","v":"Northbound"},"Mon","08:15:00",30,7,0,2,0,4,0,0,0,0,0,0,1,31,9,1,1,0,0,0,0,0,0,0,0,0,0,0,0,0,0,0,13.8,15.7,9.1999999999999993,25.6,{"$f":"INDEX(Input_Details!$L$5:$L$24, MATCH($A1765, Input_Details!$J$5:$J$24, 0), 0)","v":"Southbound"},"Mon","08:15:00",2,6,0,1,0,0,0,0,0,0,0,0,0,6,3,0,0,0,0,0,0,0,0,0,0,0,0,0,0,0,0,0,14.7,"-",12.2,18.399999999999999,null,"Mon","08:15:00",32,13,0,3,0,4,0,0,0,0,0,0,1,37,12,1,1,0,0,0,0,0,0,0,0,0,0,0,0,0,0,0,13.95576923076923,15.7,9.1999999999999993,25.6,30,{"$f":"IF(DR1765=\"-\", \"-\", SUM(I1765:J1765))","v":7},2,0,{"$f":"IF(DR1765=\"-\", \"-\", SUM(M1765:S1765))","v":4},43,2,6,1,0,0,9,32,13,3,0,4,52,43,31,22,24,23,5,1,9,1,3,3,3,1,1,52,32,25,27,26,6,2]
[3,{"$f":"OFFSET(Input_Details!$Q$4,MATCH($A1804, Input_Details!$J$5:$J$24, 0), 0)","v":"2017-11-20"},{"$f":"INDEX(Input_Details!$H$5:$H$24, MATCH($A1804, Input_Details!$J$5:$J$24, 0), 0)","v":"Falmouth Street"},{"$f":"INDEX(Input_Details!$I$5:$I$24, MATCH($A1804, Input_Details!$J$5:$J$24, 0), 0)","v":"51.49566,-0.09463"},{"$f":"INDEX(Input_Details!$K$5:$K$24, MATCH($A1804, Input_Details!$J$5:$J$24, 0), 0)","v":"Northbound"},"Mon","18:00:00",2,3,0,0,0,0,0,0,0,0,0,0,0,4,1,0,0,0,0,0,0,0,0,0,0,0,0,0,0,0,0,0,12.6,"-",10.4,18.399999999999999,{"$f":"INDEX(Input_Details!$L$5:$L$24, MATCH($A1804, Input_Details!$J$5:$J$24, 0), 0)","v":"Southbound"},"Mon","18:00:00",12,2,0,3,0,1,0,0,0,0,0,0,1,10,7,0,0,0,0,0,0,0,0,0,0,0,0,0,0,0,0,0,14,16.100000000000001,9.8000000000000007,19.7,null,"Mon","18:00:00",14,5,0,3,0,1,0,0,0,0,0,0,1,14,8,0,0,0,0,0,0,0,0,0,0,0,0,0,0,0,0,0,13.695652173913043,16.100000000000001,9.8000000000000007,19.7,2,3,0,0,0,5,12,2,3,0,1,18,14,5,3,0,1,23,5,6,6,14,8,6,3,18,30,18,35,20,8,6,23,36,24,49,28,14,9]
[3,{"$f":"OFFSET(Input_Details!$Q$4,MATCH($A1844, Input_Details!$J$5:$J$24, 0), 1)","v":"2017-11-21"},{"$f":"INDEX(Input_Details!$H$5:$H$24, MATCH($A1844, Input_Details!$J$5:$J$24, 0), 0)","v":"Falmouth Street"},{"$f":"INDEX(Input_Details!$I$5:$I$24, MATCH($A1844, Input_Details!$J$5:$J$24, 0), 0)","v":"51.49566,-0.09463"},{"$f":"INDEX(Input_Details!$K$5:$K$24, MATCH($A1844, Input_Details!$J$5:$J$24, 0), 0)","v":"Northbound"},"Tues","04:00:00",0,0,0,0,0,0,0,0,0,0,0,0,0,0,0,0,0,0,0,0,0,0,0,0,0,0,0,0,0,0,0,0,"-","-","-","-",{"$f":"INDEX(Input_Details!$L$5:$L$24, MATCH($A1844, Input_Details!$J$5:$J$24, 0), 0)","v":"Southbound"},"Tues","04:00:00",0,0,0,0,0,0,0,0,0,0,0,0,0,0,0,0,0,0,0,0,0,0,0,0,0,0,0,0,0,0,0,0,"-","-","-","-",null,"Tues","04:00:00",0,0,0,0,0,0,0,0,0,0,0,0,0,0,0,0,0,0,0,0,0,0,0,0,0,0,0,0,0,0,0,0,"-","-","-","-",0,0,0,0,0,0,0,0,0,0,0,0,0,0,0,0,0,0]
[3,{"$f":"OFFSET(Input_Details!$Q$4,MATCH($A1854, Input_Details!$J$5:$J$24, 0), 1)","v":"2017-11-21"},{"$f":"INDEX(Input_Details!$H$5:$H$24, MATCH($A1854, Input_Details!$J$5:$J$24, 0), 0)","v":"Falmouth Street"},{"$f":"INDEX(Input_Details!$I$5:$I$24, MATCH($A1854, Input_Details!$J$5:$J$24, 0), 0)","v":"51.49566,-0.09463"},{"$f":"INDEX(Input_Details!$K$5:$K$24, MATCH($A1854, Input_Details!$J$5:$J$24, 0), 0)","v":"Northbound"},"Tues","06:30:00",0,2,0,0,0,0,0,0,0,0,0,0,0,2,0,0,0,0,0,0,0,0,0,0,0,0,0,0,0,0,0,0,11.3,"-",10.3,12.2,{"$f":"INDEX(Input_Details!$L$5:$L$24, MATCH($A1854, Input_Details!$J$5:$J$24, 0), 0)","v":"Southbound"},"Tues","06:30:00",0,4,0,0,0,0,0,0,0,0,0,0,0,4,0,0,0,0,0,0,0,0,0,0,0,0,0,0,0,0,0,0,13.8,"-",12.8,14.4,null,"Tues","06:30:00",0,6,0,0,0,0,0,0,0,0,0,0,0,6,0,0,0,0,0,0,0,0,0,0,0,0,0,0,0,0,0,0,12.966666666666669,"-",10.3,14.4,0,2,0,0,0,2,0,4,0,0,0,4,0,6,0,0,0,6]
[3,{"$f":"OFFSET(Input_Details!$Q$4,MATCH($A1905, Input_Details!$J$5:$J$24, 0), 1)","v":"2017-11-21"},{"$f":"INDEX(Input_Details!$H$5:$H$24, MATCH($A1905, Input_Details!$J$5:$J$24, 0), 0)","v":"Falmouth Street"},{"$f":"INDEX(Input_Details!$I$5:$I$24, MATCH($A1905, Input_Details!$J$5:$J$24, 0), 0)","v":"51.49566,-0.09463"},{"$f":"INDEX(Input_Details!$K$5:$K$24, MATCH($A1905, Input_Details!$J$5:$J$24, 0), 0)","v":"Northbound"},"Tues","19:15:00",1,1,0,0,0,0,0,0,0,0,0,0,0,2,0,0,0,0,0,0,0,0,0,0,0,0,0,0,0,0,0,0,14.5,"-",14.4,14.5,{"$f":"INDEX(Input_Details!$L$5:$L$24, MATCH($A1905, Input_Details!$J$5:$J$24, 0), 0)","v":"Southbound"},"Tues","19:15:00",4,6,0,1,0,0,0,0,0,0,0,0,3,7,1,0,0,0,0,0,0,0,0,0,0,0,0,0,0,0,0,0,11.8,13,9,15.9,null,"Tues","19:15:00",5,7,0,1,0,0,0,0,0,0,0,0,3,9,1,0,0,0,0,0,0,0,0,0,0,0,0,0,0,0,0,0,12.215384615384616,13,9,15.9,1,1,0,0,0,2,4,6,1,0,0,11,5,7,1,0,0,13]
[3,{"$f":"OFFSET(Input_Details!$Q$4,MATCH($A1937, Input_Details!$J$5:$J$24, 0), 2)","v":"2017-11-22"},{"$f":"INDEX(Input_Details!$H$5:$H$24, MATCH($A1937, Input_Details!$J$5:$J$24, 0), 0)","v":"Falmouth Street"},{"$f":"INDEX(Input_Details!$I$5:$I$24, MATCH($A1937, Input_Details!$J$5:$J$24, 0), 0)","v":"51.49566,-0.09463"},{"$f":"INDEX(Input_Details!$K$5:$K$24, MATCH($A1937, Input_Details!$J$5:$J$24, 0), 0)","v":"Northbound"},"Wed","03:15:00",0,0,0,0,0,0,0,0,0,0,0,0,0,0,0,0,0,0,0,0,0,0,0,0,0,0,0,0,0,0,0,0,"-","-","-","-",{"$f":"INDEX(Input_Details!$L$5:$L$24, MATCH($A1937, Input_Details!$J$5:$J$24, 0), 0)","v":"Southbound"},"Wed","03:15:00",0,1,0,0,0,0,0,0,0,0,0,0,0,1,0,0,0,0,0,0,0,0,0,0,0,0,0,0,0,0,0,0,13.6,"-",13.6,13.6,null,"Wed","03:15:00",0,1,0,0,0,0,0,0,0,0,0,0,0,1,0,0,0,0,0,0,0,0,0,0,0,0,0,0,0,0,0,0,13.6,"-",13.6,13.6,0,0,0,0,0,0,0,1,0,0,0,1,0,1,0,0,0,1]
[3,{"$f":"OFFSET(Input_Details!$Q$4,MATCH($A1976, Input_Details!$J$5:$J$24, 0), 2)","v":"2017-11-22"},{"$f":"INDEX(Input_Details!$H$5:$H$24, MATCH($A1976, Input_Details!$J$5:$J$24, 0), 0)","v":"Falmouth Street"},{"$f":"INDEX(Input_Details!$I$5:$I$24, MATCH($A1976, Input_Details!$J$5:$J$24, 0), 0)","v":"51.49566,-0.09463"},{"$f":"INDEX(Input_Details!$K$5:$K$24, MATCH($A1976, Input_Details!$J$5:$J$24, 0), 0)","v":"Northbound"},"Wed","13:00:00",2,1,0,1,0,0,0,0,0,0,0,0,0,4,0,0,0,0,0,0,0,0,0,0,0,0,0,0,0,0,0,0,13.6,"-",12.8,14.4,{"$f":"INDEX(Input_Details!$L$5:$L$24, MATCH($A1976, Input_Details!$J$5:$J$24, 0), 0)","v":"Southbound"},"Wed","13:00:00",2,2,0,0,0,0,0,0,0,0,0,0,0,3,1,0,0,0,0,0,0,0,0,0,0,0,0,0,0,0,0,0,13,"-",11.1,16.399999999999999,null,"Wed","13:00:00",4,3,0,1,0,0,0,0,0,0,0,0,0,7,1,0,0,0,0,0,0,0,0,0,0,0,0,0,0,0,0,0,13.3,"-",11.1,16.399999999999999,2,1,1,0,0,4,2,2,0,0,0,4,4,3,1,0,0,8]
[3,{"$f":"OFFSET(Input_Details!$Q$4,MATCH($A2006, Input_Details!$J$5:$J$24, 0), 2)","v":"2017-11-22"},{"$f":"INDEX(Input_Details!$H$5:$H$24, MATCH($A2006, Input_Details!$J$5:$J$24, 0), 0)","v":"Falmouth Street"},{"$f":"INDEX(Input_Details!$I$5:$I$24, MATCH($A2006, Input_Details!$J$5:$J$24, 0), 0)","v":"51.49566,-0.09463"},{"$f":"INDEX(Input_Details!$K$5:$K$24, MATCH($A2006, Input_Details!$J$5:$J$24, 0), 0)","v":"Northbound"},"Wed","20:30:00",1,0,0,0,0,0,0,0,0,0,0,0,0,0,1,0,0,0,0,0,0,0,0,0,0,0,0,0,0,0,0,0,17,"-",17,17,{"$f":"INDEX(Input_Details!$L$5:$L$24, MATCH($A2006, Input_Details!$J$5:$J$24, 0), 0)","v":"Southbound"},"Wed","20:30:00",1,2,0,1,0,0,0,0,0,0,0,0,0,4,0,0,0,0,0,0,0,0,0,0,0,0,0,0,0,0,0,0,11.9,"-",10.4,13.3,null,"Wed","20:30:00",2,2,0,1,0,0,0,0,0,0,0,0,0,4,1,0,0,0,0,0,0,0,0,0,0,0,0,0,0,0,0,0,12.919999999999998,"-",10.4,17,1,0,0,0,0,1,1,2,1,0,0,4,2,2,1,0,0,5]
[3,{"$f":"OFFSET(Input_Details!$Q$4,MATCH($A2026, Input_Details!$J$5:$J$24, 0), 3)","v":"2017-11-23"},{"$f":"INDEX(Input_Details!$H$5:$H$24, MATCH($A2026, Input_Details!$J$5:$J$24, 0), 0)","v":"Falmouth Street"},{"$f":"INDEX(Input_Details!$I$5:$I$24, MATCH($A2026, Input_Details!$J$5:$J$24, 0), 0)","v":"51.49566,-0.09463"},{"$f":"INDEX(Input_Details!$K$5:$K$24, MATCH($A2026, Input_Details!$J$5:$J$24, 0), 0)","v":"Northbound"},"Thu","01:30:00",0,1,0,0,0,0,0,0,0,0,0,0,0,1,0,0,0,0,0,0,0,0,0,0,0,0,0,0,0,0,0,0,12.2,"-",12.2,12.2,{"$f":"INDEX(Input_Details!$L$5:$L$24, MATCH($A2026, Input_Details!$J$5:$J$24, 0), 0)","v":"Southbound"},"Thu","01:30:00",0,2,0,0,0,0,0,0,0,0,0,0,0,1,1,0,0,0,0,0,0,0,0,0,0,0,0,0,0,0,0,0,15,"-",12.3,17.7,null,"Thu","01:30:00",0,3,0,0,0,0,0,0,0,0,0,0,0,2,1,0,0,0,0,0,0,0,0,0,0,0,0,0,0,0,0,0,14.066666666666668,"-",12.2,17.7,0,1,0,0,0,1,0,2,0,0,0,2,0,3,0,0,0,3]
[3,{"$f":"OFFSET(Input_Details!$Q$4,MATCH($A2065, Input_Details!$J$5:$J$24, 0), 3)","v":"2017-11-23"},{"$f":"INDEX(Input_Details!$H$5:$H$24, MATCH($A2065, Input_Details!$J$5:$J$24, 0), 0)","v":"Falmouth Street"},{"$f":"INDEX(Input_Details!$I$5:$I$24, MATCH($A2065, Input_Details!$J$5:$J$24, 0), 0)","v":"51.49566,-0.09463"},{"$f":"INDEX(Input_Details!$K$5:$K$24, MATCH($A2065, Input_Details!$J$5:$J$24, 0), 0)","v":"Northbound"},"Thu","11:15:00",1,1,0,0,0,0,0,0,0,0,0,0,0,0,2,0,0,0,0,0,0,0,0,0,0,0,0,0,0,0,0,0,17.100000000000001,"-",17.100000000000001,17.100000000000001,{"$f":"INDEX(Input_Details!$L$5:$L$24, MATCH($A2065, Input_Details!$J$5:$J$24, 0), 0)","v":"Southbound"},"Thu","11:15:00",1,4,0,0,0,0,0,0,0,0,0,0,0,5,0,0,0,0,0,0,0,0,0,0,0,0,0,0,0,0,0,0,13.7,"-",13,14.7,null,"Thu","11:15:00",2,5,0,0,0,0,0,0,0,0,0,0,0,5,2,0,0,0,0,0,0,0,0,0,0,0,0,0,0,0,0,0,14.671428571428573,"-",13,17.100000000000001,1,1,0,0,0,2,1,4,0,0,0,5,2,5,0,0,0,7]
[3,{"$f":"OFFSET(Input_Details!$Q$4,MATCH($A2091, Input_Details!$J$5:$J$24, 0), 3)","v":"2017-11-23"},{"$f":"INDEX(Input_Details!$H$5:$H$24, MATCH($A2091, Input_Details!$J$5:$J$24, 0), 0)","v":"Falmouth Street"},{"$f":"INDEX(Input_Details!$I$5:$I$24, MATCH($A2091, Input_Details!$J$5:$J$24, 0), 0)","v":"51.49566,-0.09463"},{"$f":"INDEX(Input_Details!$K$5:$K$24, MATCH($A2091, Input_Details!$J$5:$J$24, 0), 0)","v":"Northbound"},"Thu","17:45:00",1,4,0,0,0,0,0,0,0,0,0,0,0,4,1,0,0,0,0,0,0,0,0,0,0,0,0,0,0,0,0,0,13.2,"-",10.7,15.5,{"$f":"INDEX(Input_Details!$L$5:$L$24, MATCH($A2091, Input_Details!$J$5:$J$24, 0), 0)","v":"Southbound"},"Thu","17:45:00",11,14,0,3,0,0,0,0,0,0,0,0,0,11,16,1,0,0,0,0,0,0,0,0,0,0,0,0,0,0,0,0,15.3,17,12,23.2,null,"Thu","17:45:00",12,18,0,3,0,0,0,0,0,0,0,0,0,15,17,1,0,0,0,0,0,0,0,0,0,0,0,0,0,0,0,0,14.981818181818182,17,10.7,23.2,1,4,0,0,0,5,11,14,3,0,0,28,12,18,3,0,0,33]
[3,{"$f":"OFFSET(Input_Details!$Q$4,MATCH($A2148, Input_Details!$J$5:$J$24, 0), 4)","v":"2017-11-17"},{"$f":"INDEX(Input_Details!$H$5:$H$24, MATCH($A2148, Input_Details!$J$5:$J$24, 0), 0)","v":"Falmouth Street"},{"$f":"INDEX(Input_Details!$I$5:$I$24, MATCH($A2148, Input_Details!$J$5:$J$24, 0), 0)","v":"51.49566,-0.09463"},{"$f":"INDEX(Input_Details!$K$5:$K$24, MATCH($A2148, Input_Details!$J$5:$J$24, 0), 0)","v":"Northbound"},"Fri","08:00:00",12,0,0,0,0,2,0,0,0,0,0,0,1,8,5,0,0,0,0,0,0,0,0,0,0,0,0,0,0,0,0,0,14,15.9,9.1,16.5,{"$f":"INDEX(Input_Details!$L$5:$L$24, MATCH($A2148, Input_Details!$J$5:$J$24, 0), 0)","v":"Southbound"},"Fri","08:00:00",1,2,0,0,0,0,0,0,0,0,0,0,0,0,3,0,0,0,0,0,0,0,0,0,0,0,0,0,0,0,0,0,17.100000000000001,"-",15.9,17.7,null,"Fri","08:00:00",13,2,0,0,0,2,0,0,0,0,0,0,1,8,8,0,0,0,0,0,0,0,0,0,0,0,0,0,0,0,0,0,14.547058823529412,15.9,9.1,17.7,{"$f":"IF(H2148=\"\", \"-\", H2148)","v":12},0,{"$f":"IF(DR2148=\"-\", \"-\", K2148)","v":0},0,2,14,1,2,0,0,0,3,13,2,0,0,2,17]
[3,{"$f":"OFFSET(Input_Details!$Q$4,MATCH($A2154, Input_Details!$J$5:$J$24, 0), 4)","v":"2017-11-17"},{"$f":"INDEX(Input_Details!$H$5:$H$24, MATCH($A2154, Input_Details!$J$5:$J$24, 0), 0)","v":"Falmouth Street"},{"$f":"INDEX(Input_Details!$I$5:$I$24, MATCH($A2154, Input_Details!$J$5:$J$24, 0), 0)","v":"51.49566,-0.09463"},{"$f":"INDEX(Input_Details!$K$5:$K$24, MATCH($A2154, Input_Details!$J$5:$J$24, 0), 0)","v":"Northbound"},"Fri","09:30:00",9,1,0,0,0,2,0,0,0,0,0,0,0,9,3,0,0,0,0,0,0,0,0,0,0,0,0,0,0,0,0,0,14,16.3,11.4,16.7,{"$f":"INDEX(Input_Details!$L$5:$L$24, MATCH($A2154, Input_Details!$J$5:$J$24, 0), 0)","v":"Southbound"},"Fri","09:30:00",1,4,0,0,0,0,0,0,0,0,0,0,0,2,2,0,1,0,0,0,0,0,0,0,0,0,0,0,0,0,0,0,16.399999999999999,"-",10.8,28,null,"Fri","09:30:00",10,5,0,0,0,2,0,0,0,0,0,0,0,11,5,0,1,0,0,0,0,0,0,0,0,0,0,0,0,0,0,0,14.705882352941176,16.3,10.8,28,9,1,0,0,2,12,1,4,0,0,0,5,10,5,0,0,2,17]
[3,{"$f":"OFFSET(Input_Details!$Q$4,MATCH($A2192, Input_Details!$J$5:$J$24, 0), 4)","v":"2017-11-17"},{"$f":"INDEX(Input_Details!$H$5:$H$24, MATCH($A2192, Input_Details!$J$5:$J$24, 0), 0)","v":"Falmouth Street"},{"$f":"INDEX(Input_Details!$I$5:$I$24, MATCH($A2192, Input_Details!$J$5:$J$24, 0), 0)","v":"51.49566,-0.09463"},{"$f":"INDEX(Input_Details!$K$5:$K$24, MATCH($A2192, Input_Details!$J$5:$J$24, 0), 0)","v":"Northbound"},"Fri","19:00:00",2,4,0,0,0,0,0,0,0,0,0,0,1,5,0,0,0,0,0,0,0,0,0,0,0,0,0,0,0,0,0,0,11.8,"-",8.8000000000000007,14.2,{"$f":"INDEX(Input_Details!$L$5:$L$24, MATCH($A2192, Input_Details!$J$5:$J$24, 0), 0)","v":"Southbound"},"Fri","19:00:00",7,3,0,0,0,0,0,0,0,0,0,0,0,6,4,0,0,0,0,0,0,0,0,0,0,0,0,0,0,0,0,0,14.5,"-",11.9,17.399999999999999,null,"Fri","19:00:00",9,7,0,0,0,0,0,0,0,0,0,0,1,11,4,0,0,0,0,0,0,0,0,0,0,0,0,0,0,0,0,0,13.487500000000001,"-",8.8000000000000007,17.399999999999999,2,4,0,0,0,6,7,3,0,0,0,10,9,7,0,0,0,16]
[3,{"$f":"OFFSET(Input_Details!$Q$4,MATCH($A2237, Input_Details!$J$5:$J$24, 0), 5)","v":"2017-11-18"},{"$f":"INDEX(Input_Details!$H$5:$H$24, MATCH($A2237, Input_Details!$J$5:$J$24, 0), 0)","v":"Falmouth Street"},{"$f":"INDEX(Input_Details!$I$5:$I$24, MATCH($A2237, Input_Details!$J$5:$J$24, 0), 0)","v":"51.49566,-0.09463"},{"$f":"INDEX(Input_Details!$K$5:$K$24, MATCH($A2237, Input_Details!$J$5:$J$24, 0), 0)","v":"Northbound"},"Sat","06:15:00",0,0,0,0,0,0,0,0,0,0,0,0,0,0,0,0,0,0,0,0,0,0,0,0,0,0,0,0,0,0,0,0,"-","-","-","-",{"$f":"INDEX(Input_Details!$L$5:$L$24, MATCH($A2237, Input_Details!$J$5:$J$24, 0), 0)","v":"Southbound"},"Sat","06:15:00",0,0,0,0,0,0,0,0,0,0,0,0,0,0,0,0,0,0,0,0,0,0,0,0,0,0,0,0,0,0,0,0,"-","-","-","-",null,"Sat","06:15:00",0,0,0,0,0,0,0,0,0,0,0,0,0,0,0,0,0,0,0,0,0,0,0,0,0,0,0,0,0,0,0,0,"-","-","-","-",0,0,0,0,0,0,0,0,0,0,0,0,0,0,0,0,0,0]
[3,{"$f":"OFFSET(Input_Details!$Q$4,MATCH($A2276, Input_Details!$J$5:$J$24, 0), 5)","v":"2017-11-18"},{"$f":"INDEX(Input_Details!$H$5:$H$24, MATCH($A2276, Input_Details!$J$5:$J$24, 0), 0)","v":"Falmouth Street"},{"$f":"INDEX(Input_Details!$I$5:$I$24, MATCH($A2276, Input_Details!$J$5:$J$24, 0), 0)","v":"51.49566,-0.09463"},{"$f":"INDEX(Input_Details!$K$5:$K$24, MATCH($A2276, Input_Details!$J$5:$J$24, 0), 0)","v":"Northbound"},"Sat","16:00:00",0,6,0,0,0,0,0,0,0,0,0,0,2,4,0,0,0,0,0,0,0,0,0,0,0,0,0,0,0,0,0,0,11.9,"-",8.5,14.6,{"$f":"INDEX(Input_Details!$L$5:$L$24, MATCH($A2276, Input_Details!$J$5:$J$24, 0), 0)","v":"Southbound"},"Sat","16:00:00",0,4,0,0,0,0,0,0,0,0,0,0,0,4,0,0,0,0,0,0,0,0,0,0,0,0,0,0,0,0,0,0,13.3,"-",12,14,null,"Sat","16:00:00",0,10,0,0,0,0,0,0,0,0,0,0,2,8,0,0,0,0,0,0,0,0,0,0,0,0,0,0,0,0,0,0,12.46,"-",8.5,14.6,{"$f":"IF(H2276=\"\", \"-\", H2276)","v":0},6,{"$f":"IF(DR2276=\"-\", \"-\", K2276)","v":0},0,0,6,0,4,0,0,0,4,0,10,0,0,0,10]
[3,{"$f":"OFFSET(Input_Details!$Q$4,MATCH($A2293, Input_Details!$J$5:$J$24, 0), 5)","v":"2017-11-18"},{"$f":"INDEX(Input_Details!$H$5:$H$24, MATCH($A2293, Input_Details!$J$5:$J$24, 0), 0)","v":"Falmouth Street"},{"$f":"INDEX(Input_Details!$I$5:$I$24, MATCH($A2293, Input_Details!$J$5:$J$24, 0), 0)","v":"51.49566,-0.09463"},{"$f":"INDEX(Input_Details!$K$5:$K$24, MATCH($A2293, Input_Details!$J$5:$J$24, 0), 0)","v":"Northbound"},"Sat","20:15:00",1,2,0,0,0,0,0,0,0,0,0,0,0,1,0,2,0,0,0,0,0,0,0,0,0,0,0,0,0,0,0,0,18.600000000000001,"-",13,21.3,{"$f":"INDEX(Input_Details!$L$5:$L$24, MATCH($A2293, Input_Details!$J$5:$J$24, 0), 0)","v":"Southbound"},"Sat","20:15:00",0,5,0,1,0,0,0,0,0,0,0,0,0,2,3,1,0,0,0,0,0,0,0,0,0,0,0,0,0,0,0,0,15.8,"-",11.1,23.2,null,"Sat","20:15:00",1,7,0,1,0,0,0,0,0,0,0,0,0,3,3,3,0,0,0,0,0,0,0,0,0,0,0,0,0,0,0,0,16.733333333333334,"-",11.1,23.2,1,2,0,0,0,3,0,5,1,0,0,6,1,7,1,0,0,9]
[3,{"$f":"OFFSET(Input_Details!$Q$4,MATCH($A2326, Input_Details!$J$5:$J$24, 0), 6)","v":"2017-11-19"},{"$f":"INDEX(Input_Details!$H$5:$H$24, MATCH($A2326, Input_Details!$J$5:$J$24, 0), 0)","v":"Falmouth Street"},{"$f":"INDEX(Input_Details!$I$5:$I$24, MATCH($A2326, Input_Details!$J$5:$J$24, 0), 0)","v":"51.49566,-0.09463"},{"$f":"INDEX(Input_Details!$K$5:$K$24, MATCH($A2326, Input_Details!$J$5:$J$24, 0), 0)","v":"Northbound"},"Sun","04:30:00",0,1,0,0,0,0,0,0,0,0,0,0,0,1,0,0,0,0,0,0,0,0,0,0,0,0,0,0,0,0,0,0,10.7,"-",10.7,10.7,{"$f":"INDEX(Input_Details!$L$5:$L$24, MATCH($A2326, Input_Details!$J$5:$J$24, 0), 0)","v":"Southbound"},"Sun","04:30:00",0,2,0,0,0,0,0,0,0,0,0,0,0,1,1,0,0,0,0,0,0,0,0,0,0,0,0,0,0,0,0,0,15.6,"-",11.9,19.2,null,"Sun","04:30:00",0,3,0,0,0,0,0,0,0,0,0,0,0,2,1,0,0,0,0,0,0,0,0,0,0,0,0,0,0,0,0,0,13.966666666666667,"-",10.7,19.2,0,1,0,0,0,1,0,2,0,0,0,2,0,3,0,0,0,3]
[3,{"$f":"OFFSET(Input_Details!$Q$4,MATCH($A2369, Input_Details!$J$5:$J$24, 0), 6)","v":"2017-11-19"},{"$f":"INDEX(Input_Details!$H$5:$H$24, MATCH($A2369, Input_Details!$J$5:$J$24, 0), 0)","v":"Falmouth Street"},{"$f":"INDEX(Input_Details!$I$5:$I$24, MATCH($A2369, Input_Details!$J$5:$J$24, 0), 0)","v":"51.49566,-0.09463"},{"$f":"INDEX(Input_Details!$K$5:$K$24, MATCH($A2369, Input_Details!$J$5:$J$24, 0), 0)","v":"Northbound"},"Sun","15:15:00",0,0,0,1,0,0,0,0,0,0,0,0,1,0,0,0,0,0,0,0,0,0,0,0,0,0,0,0,0,0,0,0,8.1,"-",8.1,8.1,{"$f":"INDEX(Input_Details!$L$5:$L$24, MATCH($A2369, Input_Details!$J$5:$J$24, 0), 0)","v":"Southbound"},"Sun","15:15:00",1,1,0,1,0,0,0,0,0,0,0,0,1,2,0,0,0,0,0,0,0,0,0,0,0,0,0,0,0,0,0,0,12.2,"-",8.6,14.3,null,"Sun","15:15:00",1,1,0,2,0,0,0,0,0,0,0,0,2,2,0,0,0,0,0,0,0,0,0,0,0,0,0,0,0,0,0,0,11.174999999999999,"-",8.1,14.3,0,0,1,0,0,1,1,1,1,0,0,3,1,1,2,0,0,4]
[3,{"$f":"OFFSET(Input_Details!$Q$4,MATCH($A2394, Input_Details!$J$5:$J$24, 0), 6)","v":"2017-11-19"},{"$f":"INDEX(Input_Details!$H$5:$H$24, MATCH($A2394, Input_Details!$J$5:$J$24, 0), 0)","v":"Falmouth Street"},{"$f":"INDEX(Input_Details!$I$5:$I$24, MATCH($A2394, Input_Details!$J$5:$J$24, 0), 0)","v":"51.49566,-0.09463"},{"$f":"INDEX(Input_Details!$K$5:$K$24, MATCH($A2394, Input_Details!$J$5:$J$24, 0), 0)","v":"Northbound"},"Sun","21:30:00",1,3,0,1,0,0,0,0,0,0,0,0,1,4,0,0,0,0,0,0,0,0,0,0,0,0,0,0,0,0,0,0,11.2,"-",9,12.9,{"$f":"INDEX(Input_Details!$L$5:$L$24, MATCH($A2394, Input_Details!$J$5:$J$24, 0), 0)","v":"Southbound"},"Sun","21:30:00",1,1,0,0,0,0,0,0,0,0,0,0,1,0,1,0,0,0,0,0,0,0,0,0,0,0,0,0,0,0,0,0,12.9,"-",9,16.7,null,"Sun","21:30:00",2,4,0,1,0,0,0,0,0,0,0,0,2,4,1,0,0,0,0,0,0,0,0,0,0,0,0,0,0,0,0,0,11.685714285714285,"-",9,16.7,1,3,1,0,0,5,1,1,0,0,0,2,2,4,1,0,0,7]
[3,"Weekday Average",{"$f":"INDEX(Input_Details!$H$5:$H$24, MATCH($A2448, Input_Details!$J$5:$J$24, 0), 0)","v":"Falmouth Street"},{"$f":"INDEX(Input_Details!$I$5:$I$24, MATCH($A2448, Input_Details!$J$5:$J$24, 0), 0)","v":"51.49566,-0.09463"},{"$f":"INDEX(Input_Details!$K$5:$K$24, MATCH($A2448, Input_Details!$J$5:$J$24, 0), 0)","v":"Northbound"},"WD Ave","11:00:00",{"$f":"IF(AND(H1776=\"\",H1872=\"\",H1968=\"\",H2064=\"\",H2160=\"\"), \"-\", IF(H1776+H1872+H1968+H2064+H2160=0,0,AVERAGE(H1776,H1872,H1968,H2064,H2160)))","v":2.2000000000000002},1.6,0,0.6,0,0,0,0,0,0,0,0,{"$f":"IF(AND(T1776=\"\",T1872=\"\",T1968=\"\",T2064=\"\",T2160=\"\"), \"-\", IF(SUM($H2448:$S2448)=0, 0, IF(T1776+T1872+T1968+T2064+T2160=0,0,AVERAGE(T1776,T1872,T1968,T2064,T2160))))","v":0.6},3.8,0,0,0,0,0,0,0,0,0,0,0,0,0,0,0,0,0,0,{"$f":"IF(SUM(H2448:S2448)=0,\"-\",AVERAGEIF(G1732:G2211,$G2448,AN1732:AN2211))","v":11.84},{"$f":"IFERROR(IF(SUM(H2448:S2448)=0,\"-\",AVERAGEIF(G1732:G2211,G2448,AO1732:AO2211)), \"-\")","v":"-"},9,14.7,{"$f":"INDEX(Input_Details!$L$5:$L$24, MATCH($A2448, Input_Details!$J$5:$J$24, 0), 0)","v":"Southbound"},"WD Ave","11:00:00",{"$f":"IF(AND(AU1776=\"\",AU1872=\"\",AU1968=\"\",AU2064=\"\",AU2160=\"\"), \"-\", IF(AU1776+AU1872+AU1968+AU2064+AU2160=0,0,AVERAGE(AU1776,AU1872,AU1968,AU2064,AU2160)))","v":0.4},1.4,0,0,0,0,0,0,0,0,0,0,{"$f":"IF(AND(BG1776=\"\",BG1872=\"\",BG1968=\"\",BG2064=\"\",BG2160=\"\"), \"-\", IF(SUM($AU2448:$BF2448)=0, 0, IF(BG1776+BG1872+BG1968+BG2064+BG2160=0,0,AVERAGE(BG1776,BG1872,BG1968,BG2064,BG2160))))","v":0},0.6,0.8,0.2,0.2,0,0,0,0,0,0,0,0,0,0,0,0,0,0,0,{"$f":"IF(SUM(AU2448:BF2448)=0,\"-\",AVERAGEIF(AT1732:AT2211,$G2448,CA1732:CA2211))","v":17.649999999999999},{"$f":"IFERROR(IF(SUM(AU2448:BF2448)=0,\"-\",AVERAGEIF(AT1732:AT2211,AT2448,CB1732:CB2211)), \"-\")","v":"-"},12.7,28.4,null,"WD Ave","11:00:00",{"$f":"IF(AND(CH1776=\"-\",CH1872=\"-\",CH1968=\"-\",CH2064=\"-\",CH2160=\"-\"), \"-\", ROUND(AVERAGE(CH1776,CH1872,CH1968,CH2064,CH2160), 0))","v":3},3,0,1,0,0,0,0,0,0,0,0,{"$f":"IF(AND(CT1776=\"-\",CT1872=\"-\",CT1968=\"-\",CT2064=\"-\",CT2160=\"-\"), \"-\", IF(SUM($CH2448:$CS2448)=0, 0, ROUND(AVERAGE(CT1776,CT1872,CT1968,CT2064,CT2160), 0)))","v":1},4,1,0,0,0,0,0,0,0,0,0,0,0,0,0,0,0,0,0,13.526774193548386,"-",9,28.4,2.2000000000000002,1.6,0.6,0,0,4.4000000000000004,0.4,1.4,0,0,0,1.7999999999999998,2.6,3,0.6,0,0,6.2]
[3,"Weekday Average",{"$f":"INDEX(Input_Details!$H$5:$H$24, MATCH($A2458, Input_Details!$J$5:$J$24, 0), 0)","v":"Falmouth Street"},{"$f":"INDEX(Input_Details!$I$5:$I$24, MATCH($A2458, Input_Details!$J$5:$J$24, 0), 0)","v":"51.49566,-0.09463"},{"$f":"INDEX(Input_Details!$K$5:$K$24, MATCH($A2458, Input_Details!$J$5:$J$24, 0), 0)","v":"Northbound"},"WD Ave","13:30:00",{"$f":"IF(AND(H1786=\"\",H1882=\"\",H1978=\"\",H2074=\"\",H2170=\"\"), \"-\", IF(H1786+H1882+H1978+H2074+H2170=0,0,AVERAGE(H1786,H1882,H1978,H2074,H2170)))","v":0.6},2.2000000000000002,0,0.4,0,0,0,0,0,0,0,0,{"$f":"IF(AND(T1786=\"\",T1882=\"\",T1978=\"\",T2074=\"\",T2170=\"\"), \"-\", IF(SUM($H2458:$S2458)=0, 0, IF(T1786+T1882+T1978+T2074+T2170=0,0,AVERAGE(T1786,T1882,T1978,T2074,T2170))))","v":0.2},2.8,0.2,0,0,0,0,0,0,0,0,0,0,0,0,0,0,0,0,0,{"$f":"IF(SUM(H2458:S2458)=0,\"-\",AVERAGEIF(G1732:G2211,$G2458,AN1732:AN2211))","v":13.280000000000001},{"$f":"IFERROR(IF(SUM(H2458:S2458)=0,\"-\",AVERAGEIF(G1732:G2211,G2458,AO1732:AO2211)), \"-\")","v":"-"},9.6,19.100000000000001,{"$f":"INDEX(Input_Details!$L$5:$L$24, MATCH($A2458, Input_Details!$J$5:$J$24, 0), 0)","v":"Southbound"},"WD Ave","13:30:00",{"$f":"IF(AND(AU1786=\"\",AU1882=\"\",AU1978=\"\",AU2074=\"\",AU2170=\"\"), \"-\", IF(AU1786+AU1882+AU1978+AU2074+AU2170=0,0,AVERAGE(AU1786,AU1882,AU1978,AU2074,AU2170)))","v":0.8},6,0,0.4,0,0,0,0,0,0,0,0,{"$f":"IF(AND(BG1786=\"\",BG1882=\"\",BG1978=\"\",BG2074=\"\",BG2170=\"\"), \"-\", IF(SUM($AU2458:$BF2458)=0, 0, IF(BG1786+BG1882+BG1978+BG2074+BG2170=0,0,AVERAGE(BG1786,BG1882,BG1978,BG2074,BG2170))))","v":0.2},4.4000000000000004,2.4,0.2,0,0,0,0,0,0,0,0,0,0,0,0,0,0,0,0,{"$f":"IF(SUM(AU2458:BF2458)=0,\"-\",AVERAGEIF(AT1732:AT2211,$G2458,CA1732:CA2211))","v":14.95},{"$f":"IFERROR(IF(SUM(AU2458:BF2458)=0,\"-\",AVERAGEIF(AT1732:AT2211,AT2458,CB1732:CB2211)), \"-\")","v":16.8},9,23.9,null,"WD Ave","13:30:00",{"$f":"IF(AND(CH1786=\"-\",CH1882=\"-\",CH1978=\"-\",CH2074=\"-\",CH2170=\"-\"), \"-\", ROUND(AVERAGE(CH1786,CH1882,CH1978,CH2074,CH2170), 0))","v":1},8,0,1,0,0,0,0,0,0,0,0,{"$f":"IF(AND(CT1786=\"-\",CT1882=\"-\",CT1978=\"-\",CT2074=\"-\",CT2170=\"-\"), \"-\", IF(SUM($CH2458:$CS2458)=0, 0, ROUND(AVERAGE(CT1786,CT1882,CT1978,CT2074,CT2170), 0)))","v":0},7,3,0,0,0,0,0,0,0,0,0,0,0,0,0,0,0,0,0,14.436153846153848,16.8,9,23.9,0.6,2.2000000000000002,0.4,0,0,3.2,0.8,6,0.4,0,0,7.2,1.4,8.1999999999999993,0.8,0,0,10.4]
[3,"Weekday Average",{"$f":"INDEX(Input_Details!$H$5:$H$24, MATCH($A2495, Input_Details!$J$5:$J$24, 0), 0)","v":"Falmouth Street"},{"$f":"INDEX(Input_Details!$I$5:$I$24, MATCH($A2495, Input_Details!$J$5:$J$24, 0), 0)","v":"51.49566,-0.09463"},{"$f":"INDEX(Input_Details!$K$5:$K$24, MATCH($A2495, Input_Details!$J$5:$J$24, 0), 0)","v":"Northbound"},"WD Ave","22:45:00",{"$f":"IF(AND(H1823=\"\",H1919=\"\",H2015=\"\",H2111=\"\",H2207=\"\"), \"-\", IF(H1823+H1919+H2015+H2111+H2207=0,0,AVERAGE(H1823,H1919,H2015,H2111,H2207)))","v":0.8},1.4,0,0.2,0,0,0,0,0,0,0,0,{"$f":"IF(AND(T1823=\"\",T1919=\"\",T2015=\"\",T2111=\"\",T2207=\"\"), \"-\", IF(SUM($H2495:$S2495)=0, 0, IF(T1823+T1919+T2015+T2111+T2207=0,0,AVERAGE(T1823,T1919,T2015,T2111,T2207))))","v":0.2},1.2,0.8,0.2,0,0,0,0,0,0,0,0,0,0,0,0,0,0,0,0,{"$f":"IF(SUM(H2495:S2495)=0,\"-\",AVERAGEIF(G1732:G2211,$G2495,AN1732:AN2211))","v":14.38},{"$f":"IFERROR(IF(SUM(H2495:S2495)=0,\"-\",AVERAGEIF(G1732:G2211,G2495,AO1732:AO2211)), \"-\")","v":"-"},8.6999999999999993,22,{"$f":"INDEX(Input_Details!$L$5:$L$24, MATCH($A2495, Input_Details!$J$5:$J$24, 0), 0)","v":"Southbound"},"WD Ave","22:45:00",{"$f":"IF(AND(AU1823=\"\",AU1919=\"\",AU2015=\"\",AU2111=\"\",AU2207=\"\"), \"-\", IF(AU1823+AU1919+AU2015+AU2111+AU2207=0,0,AVERAGE(AU1823,AU1919,AU2015,AU2111,AU2207)))","v":2.2000000000000002},1.4,0,0,0,0,0,0,0,0,0,0,{"$f":"IF(AND(BG1823=\"\",BG1919=\"\",BG2015=\"\",BG2111=\"\",BG2207=\"\"), \"-\", IF(SUM($AU2495:$BF2495)=0, 0, IF(BG1823+BG1919+BG2015+BG2111+BG2207=0,0,AVERAGE(BG1823,BG1919,BG2015,BG2111,BG2207))))","v":0.6},2.2000000000000002,0.8,0,0,0,0,0,0,0,0,0,0,0,0,0,0,0,0,0,{"$f":"IF(SUM(AU2495:BF2495)=0,\"-\",AVERAGEIF(AT1732:AT2211,$G2495,CA1732:CA2211))","v":13.74},{"$f":"IFERROR(IF(SUM(AU2495:BF2495)=0,\"-\",AVERAGEIF(AT1732:AT2211,AT2495,CB1732:CB2211)), \"-\")","v":"-"},7.1,19.7,null,"WD Ave","22:45:00",{"$f":"IF(AND(CH1823=\"-\",CH1919=\"-\",CH2015=\"-\",CH2111=\"-\",CH2207=\"-\"), \"-\", ROUND(AVERAGE(CH1823,CH1919,CH2015,CH2111,CH2207), 0))","v":3},3,0,0,0,0,0,0,0,0,0,0,{"$f":"IF(AND(CT1823=\"-\",CT1919=\"-\",CT2015=\"-\",CT2111=\"-\",CT2207=\"-\"), \"-\", IF(SUM($CH2495:$CS2495)=0, 0, ROUND(AVERAGE(CT1823,CT1919,CT2015,CT2111,CT2207), 0)))","v":1},3,2,0,0,0,0,0,0,0,0,0,0,0,0,0,0,0,0,0,13.996,"-",7.1,22,0.8,1.4,0.2,0,0,2.4000000000000004,2.2000000000000002,1.4,0,0,0,3.6,3,2.8,0.2,0,0,6]
[3,"7-Day Average",{"$f":"INDEX(Input_Details!$H$5:$H$24, MATCH($A2537, Input_Details!$J$5:$J$24, 0), 0)","v":"Falmouth Street"},{"$f":"INDEX(Input_Details!$I$5:$I$24, MATCH($A2537, Input_Details!$J$5:$J$24, 0), 0)","v":"51.49566,-0.09463"},{"$f":"INDEX(Input_Details!$K$5:$K$24, MATCH($A2537, Input_Details!$J$5:$J$24, 0), 0)","v":"Northbound"},"7 Day Ave","09:15:00",{"$f":"IF(AND(H1769=\"\",H1865=\"\",H1961=\"\",H2057=\"\",H2153=\"\",H2249=\"\",H2345=\"\"), \"-\", IF(H1769+H1865+H1961+H2057+H2153+H2249+H2345=0,0,AVERAGE(H1769,H1865,H1961,H2057,H2153,H2249,H2345)))","v":12.285714285714286},2.1428571428571428,0,0,0,0.5714285714285714,0,0,0,0,0.14285714285714285,0,{"$f":"IF(AND(T1769=\"\",T1865=\"\",T1961=\"\",T2057=\"\",T2153=\"\",T2249=\"\",T2345=\"\"), \"-\", IF(SUM($H2537:$S2537)=0, 0, IF(T1769+T1865+T1961+T2057+T2153+T2249+T2345=0,0,AVERAGE(T1769,T1865,T1961,T2057,T2153,T2249,T2345))))","v":0.8571428571428571},9.1428571428571423,4.8571428571428568,0.2857142857142857,0,0,0,0,0,0,0,0,0,0,0,0,0,0,0,0,{"$f":"IF(SUM(H2537:S2537)=0,\"-\",AVERAGEIF(G1732:G2403,$G2537,AN1732:AN2403))","v":14.142857142857142},{"$f":"IFERROR(IF(SUM(H2537:S2537)=0,\"-\",AVERAGEIF(G1732:G2403,G2537,AO1732:AO2403)), \"-\")","v":15.940000000000001},8.6,24.8,{"$f":"INDEX(Input_Details!$L$5:$L$24, MATCH($A2537, Input_Details!$J$5:$J$24, 0), 0)","v":"Southbound"},"7 Day Ave","09:15:00",{"$f":"IF(AND(AU1769=\"\",AU1865=\"\",AU1961=\"\",AU2057=\"\",AU2153=\"\",AU2249=\"\",AU2345=\"\"), \"-\", IF(AU1769+AU1865+AU1961+AU2057+AU2153+AU2249+AU2345=0,0,AVERAGE(AU1769,AU1865,AU1961,AU2057,AU2153,AU2249,AU2345)))","v":1.1428571428571428},3.1428571428571428,0,0.14285714285714285,0,0,0,0,0,0,0,0,{"$f":"IF(AND(BG1769=\"\",BG1865=\"\",BG1961=\"\",BG2057=\"\",BG2153=\"\",BG2249=\"\",BG2345=\"\"), \"-\", IF(SUM($AU2537:$BF2537)=0, 0, IF(BG1769+BG1865+BG1961+BG2057+BG2153+BG2249+BG2345=0,0,AVERAGE(BG1769,BG1865,BG1961,BG2057,BG2153,BG2249,BG2345))))","v":0.42857142857142855},2.4285714285714284,1.5714285714285714,0,0,0,0,0,0,0,0,0,0,0,0,0,0,0,0,0,{"$f":"IF(SUM(AU2537:BF2537)=0,\"-\",AVERAGEIF(AT1732:AT2403,$G2537,CA1732:CA2403))","v":14.457142857142856},{"$f":"IFERROR(IF(SUM(AU2537:BF2537)=0,\"-\",AVERAGEIF(AT1732:AT2403,AT2537,CB1732:CB2403)), \"-\")","v":"-"},9.1999999999999993,18.399999999999999,null,"7 Day Ave","09:15:00",{"$f":"IF(AND(CH1769=\"-\",CH1865=\"-\",CH1961=\"-\",CH2057=\"-\",CH2153=\"-\",CH2249=\"-\",CH2345=\"-\"), \"-\", ROUND(AVERAGE(CH1769,CH1865,CH1961,CH2057,CH2153,CH2249,CH2345),0))","v":13},5,0,0,0,1,0,0,0,0,0,0,{"$f":"IF(AND(CT1769=\"-\",CT1865=\"-\",CT1961=\"-\",CT2057=\"-\",CT2153=\"-\",CT2249=\"-\",CT2345=\"-\"), \"-\", IF(SUM($CH2537:$CS2537)=0, 0, ROUND(AVERAGE(CT1769,CT1865,CT1961,CT2057,CT2153,CT2249,CT2345),0)))","v":1},12,6,0,0,0,0,0,0,0,0,0,0,0,0,0,0,0,0,0,14.213972888425443,15.940000000000001,8.6,24.8,12.285714285714286,2.1428571428571428,0,0,0.71428571428571419,15.142857142857142,1.1428571428571428,3.1428571428571428,0.14285714285714285,0,0,4.4285714285714288,13.428571428571429,5.2857142857142856,0.14285714285714285,0,0.71428571428571419,19.571428571428569]
[3,"7-Day Average",{"$f":"INDEX(Input_Details!$H$5:$H$24, MATCH($A2580, Input_Details!$J$5:$J$24, 0), 0)","v":"Falmouth Street"},{"$f":"INDEX(Input_Details!$I$5:$I$24, MATCH($A2580, Input_Details!$J$5:$J$24, 0), 0)","v":"51.49566,-0.09463"},{"$f":"INDEX(Input_Details!$K$5:$K$24, MATCH($A2580, Input_Details!$J$5:$J$24, 0), 0)","v":"Northbound"},"7 Day Ave","20:00:00",{"$f":"IF(AND(H1812=\"\",H1908=\"\",H2004=\"\",H2100=\"\",H2196=\"\",H2292=\"\",H2388=\"\"), \"-\", IF(H1812+H1908+H2004+H2100+H2196+H2292+H2388=0,0,AVERAGE(H1812,H1908,H2004,H2100,H2196,H2292,H2388)))","v":1.8571428571428572},2.5714285714285716,0,0.42857142857142855,0,0.14285714285714285,0,0,0,0,0,0,{"$f":"IF(AND(T1812=\"\",T1908=\"\",T2004=\"\",T2100=\"\",T2196=\"\",T2292=\"\",T2388=\"\"), \"-\", IF(SUM($H2580:$S2580)=0, 0, IF(T1812+T1908+T2004+T2100+T2196+T2292+T2388=0,0,AVERAGE(T1812,T1908,T2004,T2100,T2196,T2292,T2388))))","v":0.5714285714285714},2.8571428571428572,0.7142857142857143,0.2857142857142857,0.42857142857142855,0.14285714285714285,0,0,0,0,0,0,0,0,0,0,0,0,0,0,{"$f":"IF(SUM(H2580:S2580)=0,\"-\",AVERAGEIF(G1732:G2403,$G2580,AN1732:AN2403))","v":14.957142857142857},{"$f":"IFERROR(IF(SUM(H2580:S2580)=0,\"-\",AVERAGEIF(G1732:G2403,G2580,AO1732:AO2403)), \"-\")","v":"-"},7.7,32.6,{"$f":"INDEX(Input_Details!$L$5:$L$24, MATCH($A2580, Input_Details!$J$5:$J$24, 0), 0)","v":"Southbound"},"7 Day Ave","20:00:00",{"$f":"IF(AND(AU1812=\"\",AU1908=\"\",AU2004=\"\",AU2100=\"\",AU2196=\"\",AU2292=\"\",AU2388=\"\"), \"-\", IF(AU1812+AU1908+AU2004+AU2100+AU2196+AU2292+AU2388=0,0,AVERAGE(AU1812,AU1908,AU2004,AU2100,AU2196,AU2292,AU2388)))","v":3.1428571428571428},3.4285714285714284,0,0.8571428571428571,0,0,0,0,0,0,0,0,{"$f":"IF(AND(BG1812=\"\",BG1908=\"\",BG2004=\"\",BG2100=\"\",BG2196=\"\",BG2292=\"\",BG2388=\"\"), \"-\", IF(SUM($AU2580:$BF2580)=0, 0, IF(BG1812+BG1908+BG2004+BG2100+BG2196+BG2292+BG2388=0,0,AVERAGE(BG1812,BG1908,BG2004,BG2100,BG2196,BG2292,BG2388))))","v":0},3.7142857142857144,3.4285714285714284,0.14285714285714285,0.14285714285714285,0,0,0,0,0,0,0,0,0,0,0,0,0,0,0,{"$f":"IF(SUM(AU2580:BF2580)=0,\"-\",AVERAGEIF(AT1732:AT2403,$G2580,CA1732:CA2403))","v":15.328571428571427},{"$f":"IFERROR(IF(SUM(AU2580:BF2580)=0,\"-\",AVERAGEIF(AT1732:AT2403,AT2580,CB1732:CB2403)), \"-\")","v":15.7},11.1,26.7,null,"7 Day Ave","20:00:00",{"$f":"IF(AND(CH1812=\"-\",CH1908=\"-\",CH2004=\"-\",CH2100=\"-\",CH2196=\"-\",CH2292=\"-\",CH2388=\"-\"), \"-\", ROUND(AVERAGE(CH1812,CH1908,CH2004,CH2100,CH2196,CH2292,CH2388),0))","v":5},6,0,1,0,0,0,0,0,0,0,0,{"$f":"IF(AND(CT1812=\"-\",CT1908=\"-\",CT2004=\"-\",CT2100=\"-\",CT2196=\"-\",CT2292=\"-\",CT2388=\"-\"), \"-\", IF(SUM($CH2580:$CS2580)=0, 0, ROUND(AVERAGE(CT1812,CT1908,CT2004,CT2100,CT2196,CT2292,CT2388),0)))","v":1},7,4,0,1,0,0,0,0,0,0,0,0,0,0,0,0,0,0,0,15.179146141215107,15.7,7.7,32.6,1.8571428571428572,2.5714285714285716,0.42857142857142855,0,0.14285714285714285,5.0000000000000009,3.1428571428571428,3.4285714285714284,0.8571428571428571,0,0,7.4285714285714279,5,6,1.2857142857142856,0,0.14285714285714285,12.428571428571429]
[{"$f":"INDEX(Input_Details!$J$5:$J$24, MATCH(A2595, Input_Details!$J$5:$J$24, 0)+1)","v":4},{"$f":"OFFSET(Input_Details!$Q$4,MATCH($A2596, Input_Details!$J$5:$J$24, 0), 0)","v":"2017-11-20"},{"$f":"INDEX(Input_Details!$H$5:$H$24, MATCH($A2596, Input_Details!$J$5:$J$24, 0), 0)","v":"Brockham Street"},{"$f":"INDEX(Input_Details!$I$5:$I$24, MATCH($A2596, Input_Details!$J$5:$J$24, 0), 0)","v":"51.49801,-0.09446"},{"$f":"INDEX(Input_Details!$K$5:$K$24, MATCH($A2596, Input_Details!$J$5:$J$24, 0), 0)","v":"Northbound"},"Mon","00:00:00",0,2,0,0,0,0,0,0,0,0,0,0,0,0,2,0,0,0,0,0,0,0,0,0,0,0,0,0,0,0,0,0,17.899999999999999,"-",17.899999999999999,17.899999999999999,{"$f":"INDEX(Input_Details!$L$5:$L$24, MATCH($A2596, Input_Details!$J$5:$J$24, 0), 0)","v":"Southbound"},"Mon","00:00:00",0,2,0,0,0,0,0,0,0,0,0,0,0,2,0,0,0,0,0,0,0,0,0,0,0,0,0,0,0,0,0,0,11.2,"-",11.2,11.2,null,"Mon","00:00:00",{"$f":"IF(OR(H2596=\"\", AU2596=\"\"), \"-\",SUM(H2596+AU2596))","v":0},{"$f":"IF(OR(I2596=\"\", AV2596=\"\"), \"-\",SUM(I2596+AV2596))","v":4},{"$f":"IF(OR(J2596=\"\", AW2596=\"\"), \"-\",SUM(J2596+AW2596))","v":0},{"$f":"IF(OR(K2596=\"\", AX2596=\"\"), \"-\",SUM(K2596+AX2596))","v":0},{"$f":"IF(OR(L2596=\"\", AY2596=\"\"), \"-\",SUM(L2596+AY2596))","v":0},{"$f":"IF(OR(M2596=\"\", AZ2596=\"\"), \"-\",SUM(M2596+AZ2596))","v":0},{"$f":"IF(OR(N2596=\"\", BA2596=\"\"), \"-\",SUM(N2596+BA2596))","v":0},{"$f":"IF(OR(O2596=\"\", BB2596=\"\"), \"-\",SUM(O2596+BB2596))","v":0},{"$f":"IF(OR(P2596=\"\", BC2596=\"\"), \"-\",SUM(P2596+BC2596))","v":0},{"$f":"IF(OR(Q2596=\"\", BD2596=\"\"), \"-\",SUM(Q2596+BD2596))","v":0},{"$f":"IF(OR(R2596=\"\", BE2596=\"\"), \"-\",SUM(R2596+BE2596))","v":0},{"$f":"IF(OR(S2596=\"\", BF2596=\"\"), \"-\",SUM(S2596+BF2596))","v":0},{"$f":"IF(OR(T2596=\"\", BG2596=\"\"), \"-\",SUM(T2596+BG2596))","v":0},{"$f":"IF(OR(U2596=\"\", BH2596=\"\"), \"-\",SUM(U2596+BH2596))","v":2},{"$f":"IF(OR(V2596=\"\", BI2596=\"\"), \"-\",SUM(V2596+BI2596))","v":2},{"$f":"IF(OR(W2596=\"\", BJ2596=\"\"), \"-\",SUM(W2596+BJ2596))","v":0},{"$f":"IF(OR(X2596=\"\", BK2596=\"\"), \"-\",SUM(X2596+BK2596))","v":0},{"$f":"IF(OR(Y2596=\"\", BL2596=\"\"), \"-\",SUM(Y2596+BL2596))","v":0},{"$f":"IF(OR(Z2596=\"\", BM2596=\"\"), \"-\",SUM(Z2596+BM2596))","v":0},{"$f":"IF(OR(AA2596=\"\", BN2596=\"\"), \"-\",SUM(AA2596+BN2596))","v":0},{"$f":"IF(OR(AB2596=\"\", BO2596=\"\"), \"-\",SUM(AB2596+BO2596))","v":0},{"$f":"IF(OR(AC2596=\"\", BP2596=\"\"), \"-\",SUM(AC2596+BP2596))","v":0},{"$f":"IF(OR(AD2596=\"\", BQ2596=\"\"), \"-\",SUM(AD2596+BQ2596))","v":0},{"$f":"IF(OR(AE2596=\"\", BR2596=\"\"), \"-\",SUM(AE2596+BR2596))","v":0},{"$f":"IF(OR(AF2596=\"\", BS2596=\"\"), \"-\",SUM(AF2596+BS2596))","v":0},{"$f":"IF(OR(AG2596=\"\", BT2596=\"\"), \"-\",SUM(AG2596+BT2596))","v":0},{"$f":"IF(OR(AH2596=\"\", BU2596=\"\"), \"-\",SUM(AH2596+BU2596))","v":0},{"$f":"IF(OR(AI2596=\"\", BV2596=\"\"), \"-\",SUM(AI2596+BV2596))","v":0},{"$f":"IF(OR(AJ2596=\"\", BW2596=\"\"), \"-\",SUM(AJ2596+BW2596))","v":0},{"$f":"IF(OR(AK2596=\"\", BX2596=\"\"), \"-\",SUM(AK2596+BX2596))","v":0},{"$f":"IF(OR(AL2596=\"\", BY2596=\"\"), \"-\",SUM(AL2596+BY2596))","v":0},{"$f":"IF(OR(AM2596=\"\", BZ2596=\"\"), \"-\",SUM(AM2596+BZ2596))","v":0},{"$f":"IF(OR(DW2596=\"-\", EC2596=\"-\", EI2596=\"-\", EI2596=0),\"-\",IF(OR(DW2596=\"-\", DW2596=0),CA2596,IF(EC2596=0,AN2596,SUM((AN2596*DW2596),(CA2596*EC2596))/EI2596)))","v":14.549999999999999},{"$f":"IFERROR(IF(OR(DW2596=\"-\", EC2596=\"-\", EI2596=\"-\", EI2596=0), \"-\", IF(AO2596=\"-\", CB2596, AVERAGE(AO2596,CB2596))), \"-\")","v":"-"},{"$f":"IF(OR(DW2596=\"-\", EC2596=\"-\",EI2596=\"-\", EI2596=0),\"-\",MIN(AP2596,CC2596))","v":11.2},{"$f":"IF(OR(DW2596=\"-\", EC2596=\"-\",EI2596=\"-\", EI2596=0),\"-\",MAX(AQ2596,CD2596))","v":17.899999999999999},{"$f":"IF(H2596=\"\", \"-\", H2596)","v":0},2,{"$f":"IF(DR2596=\"-\", \"-\", K2596)","v":0},0,0,{"$f":"IF(DR2596=\"-\", \"-\", SUM(H2596:S2596))","v":2},{"$f":"IF(AU2596=\"\", \"-\", AU2596)","v":0},{"$f":"IF(DX2596=\"-\", \"-\", SUM(AV2596:AW2596))","v":2},{"$f":"IF(DX2596=\"-\", \"-\", AX2596)","v":0},0,0,{"$f":"IF(DX2596=\"-\", \"-\", SUM(AU2596:BF2596))","v":2},{"$f":"IF(OR(DR2596=\"-\", DX2596=\"-\"), \"-\", SUM(DR2596,DX2596))","v":0},4,0,0,0,4,{"$f":"+DW2596","v":2},{"$f":"+DW2692","v":2},{"$f":"+DW2788","v":"-"},{"$f":"+DW2884","v":2},{"$f":"+DW2980","v":8},{"$f":"+DW3076","v":1},{"$f":"+DW3172","v":4},{"$f":"+EC2596","v":2},{"$f":"+EC2692","v":2},{"$f":"+EC2788","v":"-"},{"$f":"+EC2884","v":0},{"$f":"+EC2980","v":5},{"$f":"+EC3076","v":1},{"$f":"+EC3172","v":2},{"$f":"IF(OR(EJ2596=\"-\", EQ2596=\"-\"), \"-\", SUM(EJ2596,EQ2596))","v":4},{"$f":"IF(OR(EK2596=\"-\", ER2596=\"-\"), \"-\", SUM(EK2596,ER2596))","v":4},{"$f":"IF(OR(EL2596=\"-\", ES2596=\"-\"), \"-\", SUM(EL2596,ES2596))","v":"-"},{"$f":"IF(OR(EM2596=\"-\", ET2596=\"-\"), \"-\", SUM(EM2596,ET2596))","v":2},{"$f":"IF(OR(EN2596=\"-\", EU2596=\"-\"), \"-\", SUM(EN2596,EU2596))","v":13},{"$f":"IF(OR(EO2596=\"-\", EV2596=\"-\"), \"-\", SUM(EO2596,EV2596))","v":2},{"$f":"IF(OR(EP2596=\"-\", EW2596=\"-\"), \"-\", SUM(EP2596,EW2596))","v":6}]
[4,{"$f":"OFFSET(Input_Details!$Q$4,MATCH($A2630, Input_Details!$J$5:$J$24, 0), 0)","v":"2017-11-20"},{"$f":"INDEX(Input_Details!$H$5:$H$24, MATCH($A2630, Input_Details!$J$5:$J$24, 0), 0)","v":"Brockham Street"},{"$f":"INDEX(Input_Details!$I$5:$I$24, MATCH($A2630, Input_Details!$J$5:$J$24, 0), 0)","v":"51.49801,-0.09446"},{"$f":"INDEX(Input_Details!$K$5:$K$24, MATCH($A2630, Input_Details!$J$5:$J$24, 0), 0)","v":"Northbound"},"Mon","08:30:00",2,4,0,0,1,0,0,0,0,0,0,0,0,5,2,0,0,0,0,0,0,0,0,0,0,0,0,0,0,0,0,0,14.1,"-",11.9,18.8,{"$f":"INDEX(Input_Details!$L$5:$L$24, MATCH($A2630, Input_Details!$J$5:$J$24, 0), 0)","v":"Southbound"},"Mon","08:30:00",25,4,0,0,0,1,0,0,0,0,0,0,2,27,1,0,0,0,0,0,0,0,0,0,0,0,0,0,0,0,0,0,12.2,13.9,8.5,18.8,null,"Mon","08:30:00",27,8,0,0,1,1,0,0,0,0,0,0,2,32,3,0,0,0,0,0,0,0,0,0,0,0,0,0,0,0,0,0,12.559459459459459,13.9,8.5,18.8,2,4,0,1,0,7,25,4,0,0,1,30,27,8,0,1,1,37,7,12,4,9,10,2,3,30,48,30,28,21,3,2,37,60,34,37,31,5,5]
[4,{"$f":"OFFSET(Input_Details!$Q$4,MATCH($A2669, Input_Details!$J$5:$J$24, 0), 0)","v":"2017-11-20"},{"$f":"INDEX(Input_Details!$H$5:$H$24, MATCH($A2669, Input_Details!$J$5:$J$24, 0), 0)","v":"Brockham Street"},{"$f":"INDEX(Input_Details!$I$5:$I$24, MATCH($A2669, Input_Details!$J$5:$J$24, 0), 0)","v":"51.49801,-0.09446"},{"$f":"INDEX(Input_Details!$K$5:$K$24, MATCH($A2669, Input_Details!$J$5:$J$24, 0), 0)","v":"Northbound"},"Mon","18:15:00",25,4,0,0,1,0,0,0,0,0,0,0,3,23,4,0,0,0,0,0,0,0,0,0,0,0,0,0,0,0,0,0,13.3,14.8,7.9,18.3,{"$f":"INDEX(Input_Details!$L$5:$L$24, MATCH($A2669, Input_Details!$J$5:$J$24, 0), 0)","v":"Southbound"},"Mon","18:15:00",4,3,0,0,0,0,0,0,0,0,0,0,1,6,0,0,0,0,0,0,0,0,0,0,0,0,0,0,0,0,0,0,12.7,"-",9.6,14.6,null,"Mon","18:15:00",29,7,0,0,1,0,0,0,0,0,0,0,4,29,4,0,0,0,0,0,0,0,0,0,0,0,0,0,0,0,0,0,13.186486486486485,14.8,7.9,18.3,25,4,0,1,0,30,4,3,0,0,0,7,29,7,0,1,0,37,30,"-",19,30,30,4,6,7,"-",3,14,8,5,3,37,"-",22,44,38,9,9]
[4,{"$f":"OFFSET(Input_Details!$Q$4,MATCH($A2708, Input_Details!$J$5:$J$24, 0), 1)","v":"2017-11-21"},{"$f":"INDEX(Input_Details!$H$5:$H$24, MATCH($A2708, Input_Details!$J$5:$J$24, 0), 0)","v":"Brockham Street"},{"$f":"INDEX(Input_Details!$I$5:$I$24, MATCH($A2708, Input_Details!$J$5:$J$24, 0), 0)","v":"51.49801,-0.09446"},{"$f":"INDEX(Input_Details!$K$5:$K$24, MATCH($A2708, Input_Details!$J$5:$J$24, 0), 0)","v":"Northbound"},"Tues","04:00:00",0,0,0,0,1,0,0,0,0,0,0,0,0,0,0,1,0,0,0,0,0,0,0,0,0,0,0,0,0,0,0,0,20.3,"-",20.3,20.3,{"$f":"INDEX(Input_Details!$L$5:$L$24, MATCH($A2708, Input_Details!$J$5:$J$24, 0), 0)","v":"Southbound"},"Tues","04:00:00",0,0,0,0,0,0,0,0,0,0,0,0,0,0,0,0,0,0,0,0,0,0,0,0,0,0,0,0,0,0,0,0,"-","-","-","-",null,"Tues","04:00:00",0,0,0,0,1,0,0,0,0,0,0,0,0,0,0,1,0,0,0,0,0,0,0,0,0,0,0,0,0,0,0,0,20.3,"-",20.3,20.3,0,0,0,1,0,1,0,0,0,0,0,0,0,0,0,1,0,1]
[4,{"$f":"OFFSET(Input_Details!$Q$4,MATCH($A2731, Input_Details!$J$5:$J$24, 0), 1)","v":"2017-11-21"},{"$f":"INDEX(Input_Details!$H$5:$H$24, MATCH($A2731, Input_Details!$J$5:$J$24, 0), 0)","v":"Brockham Street"},{"$f":"INDEX(Input_Details!$I$5:$I$24, MATCH($A2731, Input_Details!$J$5:$J$24, 0), 0)","v":"51.49801,-0.09446"},{"$f":"INDEX(Input_Details!$K$5:$K$24, MATCH($A2731, Input_Details!$J$5:$J$24, 0), 0)","v":"Northbound"},"Tues","09:45:00",3,5,0,0,1,1,0,0,0,0,0,0,2,5,3,0,0,0,0,0,0,0,0,0,0,0,0,0,0,0,0,0,13.5,"-",9.1,18.899999999999999,{"$f":"INDEX(Input_Details!$L$5:$L$24, MATCH($A2731, Input_Details!$J$5:$J$24, 0), 0)","v":"Southbound"},"Tues","09:45:00",13,4,0,0,0,0,0,0,0,0,0,0,4,12,1,0,0,0,0,0,0,0,0,0,0,0,0,0,0,0,0,0,11.5,13.2,8.4,17.7,null,"Tues","09:45:00",16,9,0,0,1,1,0,0,0,0,0,0,6,17,4,0,0,0,0,0,0,0,0,0,0,0,0,0,0,0,0,0,12.24074074074074,13.2,8.4,18.899999999999999,3,5,0,1,1,10,13,4,0,0,0,17,16,9,0,1,1,27]
[4,{"$f":"OFFSET(Input_Details!$Q$4,MATCH($A2758, Input_Details!$J$5:$J$24, 0), 1)","v":"2017-11-21"},{"$f":"INDEX(Input_Details!$H$5:$H$24, MATCH($A2758, Input_Details!$J$5:$J$24, 0), 0)","v":"Brockham Street"},{"$f":"INDEX(Input_Details!$I$5:$I$24, MATCH($A2758, Input_Details!$J$5:$J$24, 0), 0)","v":"51.49801,-0.09446"},{"$f":"INDEX(Input_Details!$K$5:$K$24, MATCH($A2758, Input_Details!$J$5:$J$24, 0), 0)","v":"Northbound"},"Tues","16:30:00",null,null,null,null,null,null,null,null,null,null,null,null,null,null,null,null,null,null,null,null,null,null,null,null,null,null,null,null,null,null,null,null,null,null,null,null,{"$f":"INDEX(Input_Details!$L$5:$L$24, MATCH($A2758, Input_Details!$J$5:$J$24, 0), 0)","v":"Southbound"},"Tues","16:30:00",null,null,null,null,null,null,null,null,null,null,null,null,null,null,null,null,null,null,null,null,null,null,null,null,null,null,null,null,null,null,null,null,null,null,null,null,null,"Tues","16:30:00","-","-","-","-","-","-","-","-","-","-","-","-","-","-","-","-","-","-","-","-","-","-","-","-","-","-","-","-","-","-","-","-","-","-","-","-","-","-","-","-","-","-","-","-","-","-","-","-","-","-","-","-","-","-"]
[4,{"$f":"OFFSET(Input_Details!$Q$4,MATCH($A2801, Input_Details!$J$5:$J$24, 0), 2)","v":"2017-11-22"},{"$f":"INDEX(Input_Details!$H$5:$H$24, MATCH($A2801, Input_Details!$J$5:$J$24, 0), 0)","v":"Brockham Street"},{"$f":"INDEX(Input_Details!$I$5:$I$24, MATCH($A2801, Input_Details!$J$5:$J$24, 0), 0)","v":"51.49801,-0.09446"},{"$f":"INDEX(Input_Details!$K$5:$K$24, MATCH($A2801, Input_Details!$J$5:$J$24, 0), 0)","v":"Northbound"},"Wed","03:15:00",null,null,null,null,null,null,null,null,null,null,null,null,null,null,null,null,null,null,null,null,null,null,null,null,null,null,null,null,null,null,null,null,null,null,null,null,{"$f":"INDEX(Input_Details!$L$5:$L$24, MATCH($A2801, Input_Details!$J$5:$J$24, 0), 0)","v":"Southbound"},"Wed","03:15:00",null,null,null,null,null,null,null,null,null,null,null,null,null,null,null,null,null,null,null,null,null,null,null,null,null,null,null,null,null,null,null,null,null,null,null,null,null,"Wed","03:15:00","-","-","-","-","-","-","-","-","-","-","-","-","-","-","-","-","-","-","-","-","-","-","-","-","-","-","-","-","-","-","-","-","-","-","-","-","-","-","-","-","-","-","-","-","-","-","-","-","-","-","-","-","-","-"]
[4,{"$f":"OFFSET(Input_Details!$Q$4,MATCH($A2832, Input_Details!$J$5:$J$24, 0), 2)","v":"2017-11-22"},{"$f":"INDEX(Input_Details!$H$5:$H$24, MATCH($A2832, Input_Details!$J$5:$J$24, 0), 0)","v":"Brockham Street"},{"$f":"INDEX(Input_Details!$I$5:$I$24, MATCH($A2832, Input_Details!$J$5:$J$24, 0), 0)","v":"51.49801,-0.09446"},{"$f":"INDEX(Input_Details!$K$5:$K$24, MATCH($A2832, Input_Details!$J$5:$J$24, 0), 0)","v":"Northbound"},"Wed","11:00:00",0,3,0,0,0,0,0,0,0,0,0,0,0,0,3,0,0,0,0,0,0,0,0,0,0,0,0,0,0,0,0,0,16.899999999999999,"-",15.6,17.600000000000001,{"$f":"INDEX(Input_Details!$L$5:$L$24, MATCH($A2832, Input_Details!$J$5:$J$24, 0), 0)","v":"Southbound"},"Wed","11:00:00",1,2,0,0,0,0,0,0,0,0,0,0,2,1,0,0,0,0,0,0,0,0,0,0,0,0,0,0,0,0,0,0,10.4,"-",9.1,12.9,null,"Wed","11:00:00",1,5,0,0,0,0,0,0,0,0,0,0,2,1,3,0,0,0,0,0,0,0,0,0,0,0,0,0,0,0,0,0,13.65,"-",9.1,17.600000000000001,0,3,0,0,0,3,1,2,0,0,0,3,1,5,0,0,0,6]
[4,{"$f":"OFFSET(Input_Details!$Q$4,MATCH($A2880, Input_Details!$J$5:$J$24, 0), 2)","v":"2017-11-22"},{"$f":"INDEX(Input_Details!$H$5:$H$24, MATCH($A2880, Input_Details!$J$5:$J$24, 0), 0)","v":"Brockham Street"},{"$f":"INDEX(Input_Details!$I$5:$I$24, MATCH($A2880, Input_Details!$J$5:$J$24, 0), 0)","v":"51.49801,-0.09446"},{"$f":"INDEX(Input_Details!$K$5:$K$24, MATCH($A2880, Input_Details!$J$5:$J$24, 0), 0)","v":"Northbound"},"Wed","23:00:00",0,1,0,0,1,0,0,0,0,0,0,0,0,1,1,0,0,0,0,0,0,0,0,0,0,0,0,0,0,0,0,0,14.3,"-",13.1,15.4,{"$f":"INDEX(Input_Details!$L$5:$L$24, MATCH($A2880, Input_Details!$J$5:$J$24, 0), 0)","v":"Southbound"},"Wed","23:00:00",2,1,0,0,0,0,0,0,0,0,0,0,0,2,0,1,0,0,0,0,0,0,0,0,0,0,0,0,0,0,0,0,14.7,"-",10.1,20.6,null,"Wed","23:00:00",2,2,0,0,1,0,0,0,0,0,0,0,0,3,1,1,0,0,0,0,0,0,0,0,0,0,0,0,0,0,0,0,14.539999999999997,"-",10.1,20.6,0,1,0,1,0,2,2,1,0,0,0,3,2,2,0,1,0,5]
[4,{"$f":"OFFSET(Input_Details!$Q$4,MATCH($A2890, Input_Details!$J$5:$J$24, 0), 3)","v":"2017-11-23"},{"$f":"INDEX(Input_Details!$H$5:$H$24, MATCH($A2890, Input_Details!$J$5:$J$24, 0), 0)","v":"Brockham Street"},{"$f":"INDEX(Input_Details!$I$5:$I$24, MATCH($A2890, Input_Details!$J$5:$J$24, 0), 0)","v":"51.49801,-0.09446"},{"$f":"INDEX(Input_Details!$K$5:$K$24, MATCH($A2890, Input_Details!$J$5:$J$24, 0), 0)","v":"Northbound"},"Thu","01:30:00",0,0,0,0,0,0,0,0,0,0,0,0,0,0,0,0,0,0,0,0,0,0,0,0,0,0,0,0,0,0,0,0,"-","-","-","-",{"$f":"INDEX(Input_Details!$L$5:$L$24, MATCH($A2890, Input_Details!$J$5:$J$24, 0), 0)","v":"Southbound"},"Thu","01:30:00",0,0,0,0,0,0,0,0,0,0,0,0,0,0,0,0,0,0,0,0,0,0,0,0,0,0,0,0,0,0,0,0,"-","-","-","-",null,"Thu","01:30:00",0,0,0,0,0,0,0,0,0,0,0,0,0,0,0,0,0,0,0,0,0,0,0,0,0,0,0,0,0,0,0,0,"-","-","-","-",0,0,0,0,0,0,0,0,0,0,0,0,0,0,0,0,0,0]
[4,{"$f":"OFFSET(Input_Details!$Q$4,MATCH($A2933, Input_Details!$J$5:$J$24, 0), 3)","v":"2017-11-23"},{"$f":"INDEX(Input_Details!$H$5:$H$24, MATCH($A2933, Input_Details!$J$5:$J$24, 0), 0)","v":"Brockham Street"},{"$f":"INDEX(Input_Details!$I$5:$I$24, MATCH($A2933, Input_Details!$J$5:$J$24, 0), 0)","v":"51.49801,-0.09446"},{"$f":"INDEX(Input_Details!$K$5:$K$24, MATCH($A2933, Input_Details!$J$5:$J$24, 0), 0)","v":"Northbound"},"Thu","12:15:00",2,8,0,0,1,0,0,0,0,0,0,0,0,2,7,2,0,0,0,0,0,0,0,0,0,0,0,0,0,0,0,0,18.5,19.7,10.5,21.3,{"$f":"INDEX(Input_Details!$L$5:$L$24, MATCH($A2933, Input_Details!$J$5:$J$24, 0), 0)","v":"Southbound"},"Thu","12:15:00",1,6,1,0,0,0,0,0,0,0,0,0,0,8,0,0,0,0,0,0,0,0,0,0,0,0,0,0,0,0,0,0,11.5,"-",10.1,12,null,"Thu","12:15:00",3,14,1,0,1,0,0,0,0,0,0,0,0,10,7,2,0,0,0,0,0,0,0,0,0,0,0,0,0,0,0,0,15.552631578947368,19.7,10.1,21.3,2,8,0,1,0,11,1,7,0,0,0,8,3,15,0,1,0,19]
[4,{"$f":"OFFSET(Input_Details!$Q$4,MATCH($A2969, Input_Details!$J$5:$J$24, 0), 3)","v":"2017-11-23"},{"$f":"INDEX(Input_Details!$H$5:$H$24, MATCH($A2969, Input_Details!$J$5:$J$24, 0), 0)","v":"Brockham Street"},{"$f":"INDEX(Input_Details!$I$5:$I$24, MATCH($A2969, Input_Details!$J$5:$J$24, 0), 0)","v":"51.49801,-0.09446"},{"$f":"INDEX(Input_Details!$K$5:$K$24, MATCH($A2969, Input_Details!$J$5:$J$24, 0), 0)","v":"Northbound"},"Thu","21:15:00",3,7,0,0,1,1,0,0,0,0,0,0,1,2,9,0,0,0,0,0,0,0,0,0,0,0,0,0,0,0,0,0,15.8,18.3,8.4,19.899999999999999,{"$f":"INDEX(Input_Details!$L$5:$L$24, MATCH($A2969, Input_Details!$J$5:$J$24, 0), 0)","v":"Southbound"},"Thu","21:15:00",1,8,0,0,0,0,0,0,0,0,0,0,1,5,3,0,0,0,0,0,0,0,0,0,0,0,0,0,0,0,0,0,14.1,"-",8.3000000000000007,17.7,null,"Thu","21:15:00",4,15,0,0,1,1,0,0,0,0,0,0,2,7,12,0,0,0,0,0,0,0,0,0,0,0,0,0,0,0,0,0,15.071428571428571,18.3,8.3000000000000007,19.899999999999999,3,7,0,1,1,12,1,8,0,0,0,9,4,15,0,1,1,21]
[4,{"$f":"OFFSET(Input_Details!$Q$4,MATCH($A3012, Input_Details!$J$5:$J$24, 0), 4)","v":"2017-11-17"},{"$f":"INDEX(Input_Details!$H$5:$H$24, MATCH($A3012, Input_Details!$J$5:$J$24, 0), 0)","v":"Brockham Street"},{"$f":"INDEX(Input_Details!$I$5:$I$24, MATCH($A3012, Input_Details!$J$5:$J$24, 0), 0)","v":"51.49801,-0.09446"},{"$f":"INDEX(Input_Details!$K$5:$K$24, MATCH($A3012, Input_Details!$J$5:$J$24, 0), 0)","v":"Northbound"},"Fri","08:00:00",4,5,0,0,1,0,0,0,0,0,0,0,0,9,0,1,0,0,0,0,0,0,0,0,0,0,0,0,0,0,0,0,13.8,"-",10.6,20.5,{"$f":"INDEX(Input_Details!$L$5:$L$24, MATCH($A3012, Input_Details!$J$5:$J$24, 0), 0)","v":"Southbound"},"Fri","08:00:00",13,6,0,0,0,1,0,0,0,0,0,0,2,17,1,0,0,0,0,0,0,0,0,0,0,0,0,0,0,0,0,0,12.4,13.4,9.1999999999999993,15.2,null,"Fri","08:00:00",17,11,0,0,1,1,0,0,0,0,0,0,2,26,1,1,0,0,0,0,0,0,0,0,0,0,0,0,0,0,0,0,12.866666666666667,13.4,9.1999999999999993,20.5,4,5,0,1,0,10,13,6,0,0,1,20,17,{"$f":"IF(OR(DS3012=\"-\", DY3012=\"-\"), \"-\", SUM(DS3012,DY3012))","v":11},{"$f":"IF(OR(DT3012=\"-\", DZ3012=\"-\"), \"-\", SUM(DT3012,DZ3012))","v":0},{"$f":"IF(OR(DU3012=\"-\", EA3012=\"-\"), \"-\", SUM(DU3012,EA3012))","v":1},{"$f":"IF(OR(DV3012=\"-\", EB3012=\"-\"), \"-\", SUM(DV3012,EB3012))","v":1},{"$f":"IF(OR(DW3012=\"-\", EC3012=\"-\"), \"-\", SUM(DW3012,EC3012))","v":30}]
[4,{"$f":"OFFSET(Input_Details!$Q$4,MATCH($A3034, Input_Details!$J$5:$J$24, 0), 4)","v":"2017-11-17"},{"$f":"INDEX(Input_Details!$H$5:$H$24, MATCH($A3034, Input_Details!$J$5:$J$24, 0), 0)","v":"Brockham Street"},{"$f":"INDEX(Input_Details!$I$5:$I$24, MATCH($A3034, Input_Details!$J$5:$J$24, 0), 0)","v":"51.49801,-0.09446"},{"$f":"INDEX(Input_Details!$K$5:$K$24, MATCH($A3034, Input_Details!$J$5:$J$24, 0), 0)","v":"Northbound"},"Fri","13:30:00",4,14,0,0,3,0,0,0,0,0,0,0,2,11,7,1,0,0,0,0,0,0,0,0,0,0,0,0,0,0,0,0,14.2,18.600000000000001,9.4,20.5,{"$f":"INDEX(Input_Details!$L$5:$L$24, MATCH($A3034, Input_Details!$J$5:$J$24, 0), 0)","v":"Southbound"},"Fri","13:30:00",6,11,0,0,0,0,0,0,0,0,0,0,4,8,4,1,0,0,0,0,0,0,0,0,0,0,0,0,0,0,0,0,13.7,17.399999999999999,6.7,21.7,null,"Fri","13:30:00",10,25,0,0,3,0,0,0,0,0,0,0,6,19,11,2,0,0,0,0,0,0,0,0,0,0,0,0,0,0,0,0,13.976315789473682,18,6.7,21.7,4,14,0,3,0,21,6,11,0,0,0,17,10,25,0,3,0,38]
[4,{"$f":"OFFSET(Input_Details!$Q$4,MATCH($A3062, Input_Details!$J$5:$J$24, 0), 4)","v":"2017-11-17"},{"$f":"INDEX(Input_Details!$H$5:$H$24, MATCH($A3062, Input_Details!$J$5:$J$24, 0), 0)","v":"Brockham Street"},{"$f":"INDEX(Input_Details!$I$5:$I$24, MATCH($A3062, Input_Details!$J$5:$J$24, 0), 0)","v":"51.49801,-0.09446"},{"$f":"INDEX(Input_Details!$K$5:$K$24, MATCH($A3062, Input_Details!$J$5:$J$24, 0), 0)","v":"Northbound"},"Fri","20:30:00",1,0,0,0,0,0,0,0,0,0,0,0,0,1,0,0,0,0,0,0,0,0,0,0,0,0,0,0,0,0,0,0,12.3,"-",12.3,12.3,{"$f":"INDEX(Input_Details!$L$5:$L$24, MATCH($A3062, Input_Details!$J$5:$J$24, 0), 0)","v":"Southbound"},"Fri","20:30:00",1,0,0,0,0,0,0,0,0,0,0,0,0,1,0,0,0,0,0,0,0,0,0,0,0,0,0,0,0,0,0,0,11.2,"-",11.2,11.2,null,"Fri","20:30:00",2,0,0,0,0,0,0,0,0,0,0,0,0,2,0,0,0,0,0,0,0,0,0,0,0,0,0,0,0,0,0,0,11.75,"-",11.2,12.3,1,0,0,0,0,1,1,0,0,0,0,1,2,0,0,0,0,2]
[4,{"$f":"OFFSET(Input_Details!$Q$4,MATCH($A3101, Input_Details!$J$5:$J$24, 0), 5)","v":"2017-11-18"},{"$f":"INDEX(Input_Details!$H$5:$H$24, MATCH($A3101, Input_Details!$J$5:$J$24, 0), 0)","v":"Brockham Street"},{"$f":"INDEX(Input_Details!$I$5:$I$24, MATCH($A3101, Input_Details!$J$5:$J$24, 0), 0)","v":"51.49801,-0.09446"},{"$f":"INDEX(Input_Details!$K$5:$K$24, MATCH($A3101, Input_Details!$J$5:$J$24, 0), 0)","v":"Northbound"},"Sat","06:15:00",1,0,0,0,0,0,0,0,0,0,0,0,1,0,0,0,0,0,0,0,0,0,0,0,0,0,0,0,0,0,0,0,9.8000000000000007,"-",9.8000000000000007,9.8000000000000007,{"$f":"INDEX(Input_Details!$L$5:$L$24, MATCH($A3101, Input_Details!$J$5:$J$24, 0), 0)","v":"Southbound"},"Sat","06:15:00",0,0,0,0,0,0,0,0,0,0,0,0,0,0,0,0,0,0,0,0,0,0,0,0,0,0,0,0,0,0,0,0,"-","-","-","-",null,"Sat","06:15:00",1,0,0,0,0,0,0,0,0,0,0,0,1,0,0,0,0,0,0,0,0,0,0,0,0,0,0,0,0,0,0,0,9.8000000000000007,"-",9.8000000000000007,9.8000000000000007,1,0,0,0,0,1,0,0,0,0,0,0,1,0,0,0,0,1]
[4,{"$f":"OFFSET(Input_Details!$Q$4,MATCH($A3135, Input_Details!$J$5:$J$24, 0), 5)","v":"2017-11-18"},{"$f":"INDEX(Input_Details!$H$5:$H$24, MATCH($A3135, Input_Details!$J$5:$J$24, 0), 0)","v":"Brockham Street"},{"$f":"INDEX(Input_Details!$I$5:$I$24, MATCH($A3135, Input_Details!$J$5:$J$24, 0), 0)","v":"51.49801,-0.09446"},{"$f":"INDEX(Input_Details!$K$5:$K$24, MATCH($A3135, Input_Details!$J$5:$J$24, 0), 0)","v":"Northbound"},"Sat","14:45:00",1,4,0,0,0,0,0,0,0,0,0,0,1,3,1,0,0,0,0,0,0,0,0,0,0,0,0,0,0,0,0,0,12.3,"-",9,15.8,{"$f":"INDEX(Input_Details!$L$5:$L$24, MATCH($A3135, Input_Details!$J$5:$J$24, 0), 0)","v":"Southbound"},"Sat","14:45:00",0,2,0,0,0,0,0,0,0,0,0,0,0,2,0,0,0,0,0,0,0,0,0,0,0,0,0,0,0,0,0,0,13.2,"-",12.5,13.9,null,"Sat","14:45:00",1,6,0,0,0,0,0,0,0,0,0,0,1,5,1,0,0,0,0,0,0,0,0,0,0,0,0,0,0,0,0,0,12.557142857142859,"-",9,15.8,1,4,0,0,0,5,0,2,0,0,0,2,1,6,0,0,0,7]
[4,{"$f":"OFFSET(Input_Details!$Q$4,MATCH($A3151, Input_Details!$J$5:$J$24, 0), 5)","v":"2017-11-18"},{"$f":"INDEX(Input_Details!$H$5:$H$24, MATCH($A3151, Input_Details!$J$5:$J$24, 0), 0)","v":"Brockham Street"},{"$f":"INDEX(Input_Details!$I$5:$I$24, MATCH($A3151, Input_Details!$J$5:$J$24, 0), 0)","v":"51.49801,-0.09446"},{"$f":"INDEX(Input_Details!$K$5:$K$24, MATCH($A3151, Input_Details!$J$5:$J$24, 0), 0)","v":"Northbound"},"Sat","18:45:00",0,4,0,0,0,0,0,0,0,0,0,0,0,2,1,0,1,0,0,0,0,0,0,0,0,0,0,0,0,0,0,0,18.2,"-",12.8,30,{"$f":"INDEX(Input_Details!$L$5:$L$24, MATCH($A3151, Input_Details!$J$5:$J$24, 0), 0)","v":"Southbound"},"Sat","18:45:00",3,4,0,0,0,0,0,0,0,0,0,0,0,1,2,3,1,0,0,0,0,0,0,0,0,0,0,0,0,0,0,0,20.8,"-",13.4,30,null,"Sat","18:45:00",3,8,0,0,0,0,0,0,0,0,0,0,0,3,3,3,2,0,0,0,0,0,0,0,0,0,0,0,0,0,0,0,19.854545454545452,"-",12.8,30,0,4,0,0,0,4,3,4,0,0,0,7,3,8,0,0,0,11]
[4,{"$f":"OFFSET(Input_Details!$Q$4,MATCH($A3190, Input_Details!$J$5:$J$24, 0), 6)","v":"2017-11-19"},{"$f":"INDEX(Input_Details!$H$5:$H$24, MATCH($A3190, Input_Details!$J$5:$J$24, 0), 0)","v":"Brockham Street"},{"$f":"INDEX(Input_Details!$I$5:$I$24, MATCH($A3190, Input_Details!$J$5:$J$24, 0), 0)","v":"51.49801,-0.09446"},{"$f":"INDEX(Input_Details!$K$5:$K$24, MATCH($A3190, Input_Details!$J$5:$J$24, 0), 0)","v":"Northbound"},"Sun","04:30:00",0,0,0,0,1,0,0,0,0,0,0,0,0,0,0,1,0,0,0,0,0,0,0,0,0,0,0,0,0,0,0,0,21.9,"-",21.9,21.9,{"$f":"INDEX(Input_Details!$L$5:$L$24, MATCH($A3190, Input_Details!$J$5:$J$24, 0), 0)","v":"Southbound"},"Sun","04:30:00",0,0,0,0,0,0,0,0,0,0,0,0,0,0,0,0,0,0,0,0,0,0,0,0,0,0,0,0,0,0,0,0,"-","-","-","-",null,"Sun","04:30:00",0,0,0,0,1,0,0,0,0,0,0,0,0,0,0,1,0,0,0,0,0,0,0,0,0,0,0,0,0,0,0,0,21.9,"-",21.9,21.9,0,0,0,1,0,1,0,0,0,0,0,0,0,0,0,1,0,1]
[4,{"$f":"OFFSET(Input_Details!$Q$4,MATCH($A3236, Input_Details!$J$5:$J$24, 0), 6)","v":"2017-11-19"},{"$f":"INDEX(Input_Details!$H$5:$H$24, MATCH($A3236, Input_Details!$J$5:$J$24, 0), 0)","v":"Brockham Street"},{"$f":"INDEX(Input_Details!$I$5:$I$24, MATCH($A3236, Input_Details!$J$5:$J$24, 0), 0)","v":"51.49801,-0.09446"},{"$f":"INDEX(Input_Details!$K$5:$K$24, MATCH($A3236, Input_Details!$J$5:$J$24, 0), 0)","v":"Northbound"},"Sun","16:00:00",3,4,0,0,0,0,0,0,0,0,0,0,1,4,1,1,0,0,0,0,0,0,0,0,0,0,0,0,0,0,0,0,12.9,"-",8.9,20.399999999999999,{"$f":"INDEX(Input_Details!$L$5:$L$24, MATCH($A3236, Input_Details!$J$5:$J$24, 0), 0)","v":"Southbound"},"Sun","16:00:00",2,4,0,0,0,0,0,0,0,0,0,0,1,5,0,0,0,0,0,0,0,0,0,0,0,0,0,0,0,0,0,0,10.1,"-",8.6999999999999993,11.2,null,"Sun","16:00:00",5,{"$f":"IF(OR(I3236=\"\", AV3236=\"\"), \"-\",SUM(I3236+AV3236))","v":8},{"$f":"IF(OR(J3236=\"\", AW3236=\"\"), \"-\",SUM(J3236+AW3236))","v":0},{"$f":"IF(OR(K3236=\"\", AX3236=\"\"), \"-\",SUM(K3236+AX3236))","v":0},{"$f":"IF(OR(L3236=\"\", AY3236=\"\"), \"-\",SUM(L3236+AY3236))","v":0},{"$f":"IF(OR(M3236=\"\", AZ3236=\"\"), \"-\",SUM(M3236+AZ3236))","v":0},{"$f":"IF(OR(N3236=\"\", BA3236=\"\"), \"-\",SUM(N3236+BA3236))","v":0},{"$f":"IF(OR(O3236=\"\", BB3236=\"\"), \"-\",SUM(O3236+BB3236))","v":0},{"$f":"IF(OR(P3236=\"\", BC3236=\"\"), \"-\",SUM(P3236+BC3236))","v":0},{"$f":"IF(OR(Q3236=\"\", BD3236=\"\"), \"-\",SUM(Q3236+BD3236))","v":0},{"$f":"IF(OR(R3236=\"\", BE3236=\"\"), \"-\",SUM(R3236+BE3236))","v":0},{"$f":"IF(OR(S3236=\"\", BF3236=\"\"), \"-\",SUM(S3236+BF3236))","v":0},{"$f":"IF(OR(T3236=\"\", BG3236=\"\"), \"-\",SUM(T3236+BG3236))","v":2},{"$f":"IF(OR(U3236=\"\", BH3236=\"\"), \"-\",SUM(U3236+BH3236))","v":9},{"$f":"IF(OR(V3236=\"\", BI3236=\"\"), \"-\",SUM(V3236+BI3236))","v":1},{"$f":"IF(OR(W3236=\"\", BJ3236=\"\"), \"-\",SUM(W3236+BJ3236))","v":1},{"$f":"IF(OR(X3236=\"\", BK3236=\"\"), \"-\",SUM(X3236+BK3236))","v":0},{"$f":"IF(OR(Y3236=\"\", BL3236=\"\"), \"-\",SUM(Y3236+BL3236))","v":0},{"$f":"IF(OR(Z3236=\"\", BM3236=\"\"), \"-\",SUM(Z3236+BM3236))","v":0},{"$f":"IF(OR(AA3236=\"\", BN3236=\"\"), \"-\",SUM(AA3236+BN3236))","v":0},{"$f":"IF(OR(AB3236=\"\", BO3236=\"\"), \"-\",SUM(AB3236+BO3236))","v":0},{"$f":"IF(OR(AC3236=\"\", BP3236=\"\"), \"-\",SUM(AC3236+BP3236))","v":0},{"$f":"IF(OR(AD3236=\"\", BQ3236=\"\"), \"-\",SUM(AD3236+BQ3236))","v":0},{"$f":"IF(OR(AE3236=\"\", BR3236=\"\"), \"-\",SUM(AE3236+BR3236))","v":0},{"$f":"IF(OR(AF3236=\"\", BS3236=\"\"), \"-\",SUM(AF3236+BS3236))","v":0},{"$f":"IF(OR(AG3236=\"\", BT3236=\"\"), \"-\",SUM(AG3236+BT3236))","v":0},{"$f":"IF(OR(AH3236=\"\", BU3236=\"\"), \"-\",SUM(AH3236+BU3236))","v":0},{"$f":"IF(OR(AI3236=\"\", BV3236=\"\"), \"-\",SUM(AI3236+BV3236))","v":0},{"$f":"IF(OR(AJ3236=\"\", BW3236=\"\"), \"-\",SUM(AJ3236+BW3236))","v":0},{"$f":"IF(OR(AK3236=\"\", BX3236=\"\"), \"-\",SUM(AK3236+BX3236))","v":0},{"$f":"IF(OR(AL3236=\"\", BY3236=\"\"), \"-\",SUM(AL3236+BY3236))","v":0},{"$f":"IF(OR(AM3236=\"\", BZ3236=\"\"), \"-\",SUM(AM3236+BZ3236))","v":0},11.607692307692306,"-",8.6999999999999993,20.399999999999999,{"$f":"IF(H3236=\"\", \"-\", H3236)","v":3},{"$f":"IF(DR3236=\"-\", \"-\", SUM(I3236:J3236))","v":4},{"$f":"IF(DR3236=\"-\", \"-\", K3236)","v":0},0,{"$f":"IF(DR3236=\"-\", \"-\", SUM(M3236:S3236))","v":0},{"$f":"IF(DR3236=\"-\", \"-\", SUM(H3236:S3236))","v":7},2,4,0,0,0,6,5,8,0,0,0,13]
[4,"Weekday Average",{"$f":"INDEX(Input_Details!$H$5:$H$24, MATCH($A3273, Input_Details!$J$5:$J$24, 0), 0)","v":"Brockham Street"},{"$f":"INDEX(Input_Details!$I$5:$I$24, MATCH($A3273, Input_Details!$J$5:$J$24, 0), 0)","v":"51.49801,-0.09446"},{"$f":"INDEX(Input_Details!$K$5:$K$24, MATCH($A3273, Input_Details!$J$5:$J$24, 0), 0)","v":"Northbound"},"WD Ave","01:15:00",{"$f":"IF(AND(H2601=\"\",H2697=\"\",H2793=\"\",H2889=\"\",H2985=\"\"), \"-\", IF(H2601+H2697+H2793+H2889+H2985=0,0,AVERAGE(H2601,H2697,H2793,H2889,H2985)))","v":0},0.5,0,0,0,0,0,0,0,0,0,0,{"$f":"IF(AND(T2601=\"\",T2697=\"\",T2793=\"\",T2889=\"\",T2985=\"\"), \"-\", IF(SUM($H3273:$S3273)=0, 0, IF(T2601+T2697+T2793+T2889+T2985=0,0,AVERAGE(T2601,T2697,T2793,T2889,T2985))))","v":0},0,0.5,0,0,0,0,0,0,0,0,0,0,0,0,0,0,0,0,0,{"$f":"IF(SUM(H3273:S3273)=0,\"-\",AVERAGEIF(G2596:G3075,$G3273,AN2596:AN3075))","v":16.45},{"$f":"IFERROR(IF(SUM(H3273:S3273)=0,\"-\",AVERAGEIF(G2596:G3075,G3273,AO2596:AO3075)), \"-\")","v":"-"},15.9,17,{"$f":"INDEX(Input_Details!$L$5:$L$24, MATCH($A3273, Input_Details!$J$5:$J$24, 0), 0)","v":"Southbound"},"WD Ave","01:15:00",{"$f":"IF(AND(AU2601=\"\",AU2697=\"\",AU2793=\"\",AU2889=\"\",AU2985=\"\"), \"-\", IF(AU2601+AU2697+AU2793+AU2889+AU2985=0,0,AVERAGE(AU2601,AU2697,AU2793,AU2889,AU2985)))","v":0.25},0.25,0,0,0,0,0,0,0,0,0,0,{"$f":"IF(AND(BG2601=\"\",BG2697=\"\",BG2793=\"\",BG2889=\"\",BG2985=\"\"), \"-\", IF(SUM($AU3273:$BF3273)=0, 0, IF(BG2601+BG2697+BG2793+BG2889+BG2985=0,0,AVERAGE(BG2601,BG2697,BG2793,BG2889,BG2985))))","v":0.25},0,0.25,0,0,0,0,0,0,0,0,0,0,0,0,0,0,0,0,0,{"$f":"IF(SUM(AU3273:BF3273)=0,\"-\",AVERAGEIF(AT2596:AT3075,$G3273,CA2596:CA3075))","v":12.3},{"$f":"IFERROR(IF(SUM(AU3273:BF3273)=0,\"-\",AVERAGEIF(AT2596:AT3075,AT3273,CB2596:CB3075)), \"-\")","v":"-"},9.4,15.2,null,"WD Ave","01:15:00",{"$f":"IF(AND(CH2601=\"-\",CH2697=\"-\",CH2793=\"-\",CH2889=\"-\",CH2985=\"-\"), \"-\", ROUND(AVERAGE(CH2601,CH2697,CH2793,CH2889,CH2985), 0))","v":0},1,0,0,0,0,0,0,0,0,0,0,{"$f":"IF(AND(CT2601=\"-\",CT2697=\"-\",CT2793=\"-\",CT2889=\"-\",CT2985=\"-\"), \"-\", IF(SUM($CH3273:$CS3273)=0, 0, ROUND(AVERAGE(CT2601,CT2697,CT2793,CT2889,CT2985), 0)))","v":0},0,1,0,0,0,0,0,0,0,0,0,0,0,0,0,0,0,0,0,14.375,"-",9.4,17,0,0.5,0,0,0,0.5,0.25,0.25,0,0,0,0.5,0.25,0.75,0,0,0,1]
[4,"Weekday Average",{"$f":"INDEX(Input_Details!$H$5:$H$24, MATCH($A3312, Input_Details!$J$5:$J$24, 0), 0)","v":"Brockham Street"},{"$f":"INDEX(Input_Details!$I$5:$I$24, MATCH($A3312, Input_Details!$J$5:$J$24, 0), 0)","v":"51.49801,-0.09446"},{"$f":"INDEX(Input_Details!$K$5:$K$24, MATCH($A3312, Input_Details!$J$5:$J$24, 0), 0)","v":"Northbound"},"WD Ave","11:00:00",{"$f":"IF(AND(H2640=\"\",H2736=\"\",H2832=\"\",H2928=\"\",H3024=\"\"), \"-\", IF(H2640+H2736+H2832+H2928+H3024=0,0,AVERAGE(H2640,H2736,H2832,H2928,H3024)))","v":0.4},3.4,0,0,0,0.4,0,0,0,0,0,0,{"$f":"IF(AND(T2640=\"\",T2736=\"\",T2832=\"\",T2928=\"\",T3024=\"\"), \"-\", IF(SUM($H3312:$S3312)=0, 0, IF(T2640+T2736+T2832+T2928+T3024=0,0,AVERAGE(T2640,T2736,T2832,T2928,T3024))))","v":0.2},1.2,2.8,0,0,0,0,0,0,0,0,0,0,0,0,0,0,0,0,0,{"$f":"IF(SUM(H3312:S3312)=0,\"-\",AVERAGEIF(G2596:G3075,$G3312,AN2596:AN3075))","v":15.280000000000001},{"$f":"IFERROR(IF(SUM(H3312:S3312)=0,\"-\",AVERAGEIF(G2596:G3075,G3312,AO2596:AO3075)), \"-\")","v":"-"},9.6,20,{"$f":"INDEX(Input_Details!$L$5:$L$24, MATCH($A3312, Input_Details!$J$5:$J$24, 0), 0)","v":"Southbound"},"WD Ave","11:00:00",{"$f":"IF(AND(AU2640=\"\",AU2736=\"\",AU2832=\"\",AU2928=\"\",AU3024=\"\"), \"-\", IF(AU2640+AU2736+AU2832+AU2928+AU3024=0,0,AVERAGE(AU2640,AU2736,AU2832,AU2928,AU3024)))","v":2.2000000000000002},3,0,0,0.4,0,0,0,0,0,0,0,{"$f":"IF(AND(BG2640=\"\",BG2736=\"\",BG2832=\"\",BG2928=\"\",BG3024=\"\"), \"-\", IF(SUM($AU3312:$BF3312)=0, 0, IF(BG2640+BG2736+BG2832+BG2928+BG3024=0,0,AVERAGE(BG2640,BG2736,BG2832,BG2928,BG3024))))","v":0.6},4,0.8,0,0.2,0,0,0,0,0,0,0,0,0,0,0,0,0,0,0,{"$f":"IF(SUM(AU3312:BF3312)=0,\"-\",AVERAGEIF(AT2596:AT3075,$G3312,CA2596:CA3075))","v":13.319999999999999},{"$f":"IFERROR(IF(SUM(AU3312:BF3312)=0,\"-\",AVERAGEIF(AT2596:AT3075,AT3312,CB2596:CB3075)), \"-\")","v":15.2},8.9,26.5,null,"WD Ave","11:00:00",{"$f":"IF(AND(CH2640=\"-\",CH2736=\"-\",CH2832=\"-\",CH2928=\"-\",CH3024=\"-\"), \"-\", ROUND(AVERAGE(CH2640,CH2736,CH2832,CH2928,CH3024), 0))","v":3},6,0,0,0,0,0,0,0,0,0,0,{"$f":"IF(AND(CT2640=\"-\",CT2736=\"-\",CT2832=\"-\",CT2928=\"-\",CT3024=\"-\"), \"-\", IF(SUM($CH3312:$CS3312)=0, 0, ROUND(AVERAGE(CT2640,CT2736,CT2832,CT2928,CT3024), 0)))","v":1},5,4,0,0,0,0,0,0,0,0,0,0,0,0,0,0,0,0,0,14.159999999999998,15.2,8.9,26.5,0.4,3.4,0,0,0.4,4.2,2.2000000000000002,3,0,0.4,0,5.6000000000000005,2.6,6.4,0,0.4,0.4,9.8000000000000007]
[4,"Weekday Average",{"$f":"INDEX(Input_Details!$H$5:$H$24, MATCH($A3321, Input_Details!$J$5:$J$24, 0), 0)","v":"Brockham Street"},{"$f":"INDEX(Input_Details!$I$5:$I$24, MATCH($A3321, Input_Details!$J$5:$J$24, 0), 0)","v":"51.49801,-0.09446"},{"$f":"INDEX(Input_Details!$K$5:$K$24, MATCH($A3321, Input_Details!$J$5:$J$24, 0), 0)","v":"Northbound"},"WD Ave","13:15:00",{"$f":"IF(AND(H2649=\"\",H2745=\"\",H2841=\"\",H2937=\"\",H3033=\"\"), \"-\", IF(H2649+H2745+H2841+H2937+H3033=0,0,AVERAGE(H2649,H2745,H2841,H2937,H3033)))","v":2.5},6.75,0,0.25,0.75,1.25,0,0,0,0,0,0,{"$f":"IF(AND(T2649=\"\",T2745=\"\",T2841=\"\",T2937=\"\",T3033=\"\"), \"-\", IF(SUM($H3321:$S3321)=0, 0, IF(T2649+T2745+T2841+T2937+T3033=0,0,AVERAGE(T2649,T2745,T2841,T2937,T3033))))","v":1},5.5,4.75,0.25,0,0,0,0,0,0,0,0,0,0,0,0,0,0,0,0,{"$f":"IF(SUM(H3321:S3321)=0,\"-\",AVERAGEIF(G2596:G3075,$G3321,AN2596:AN3075))","v":14.25},{"$f":"IFERROR(IF(SUM(H3321:S3321)=0,\"-\",AVERAGEIF(G2596:G3075,G3321,AO2596:AO3075)), \"-\")","v":15.9},5.2,23.3,{"$f":"INDEX(Input_Details!$L$5:$L$24, MATCH($A3321, Input_Details!$J$5:$J$24, 0), 0)","v":"Southbound"},"WD Ave","13:15:00",{"$f":"IF(AND(AU2649=\"\",AU2745=\"\",AU2841=\"\",AU2937=\"\",AU3033=\"\"), \"-\", IF(AU2649+AU2745+AU2841+AU2937+AU3033=0,0,AVERAGE(AU2649,AU2745,AU2841,AU2937,AU3033)))","v":2.25},4.75,0,0,0.75,0,0,0,0,0,0,0,{"$f":"IF(AND(BG2649=\"\",BG2745=\"\",BG2841=\"\",BG2937=\"\",BG3033=\"\"), \"-\", IF(SUM($AU3321:$BF3321)=0, 0, IF(BG2649+BG2745+BG2841+BG2937+BG3033=0,0,AVERAGE(BG2649,BG2745,BG2841,BG2937,BG3033))))","v":3},3.25,1.25,0.25,0,0,0,0,0,0,0,0,0,0,0,0,0,0,0,0,{"$f":"IF(SUM(AU3321:BF3321)=0,\"-\",AVERAGEIF(AT2596:AT3075,$G3321,CA2596:CA3075))","v":11.750000000000002},{"$f":"IFERROR(IF(SUM(AU3321:BF3321)=0,\"-\",AVERAGEIF(AT2596:AT3075,AT3321,CB2596:CB3075)), \"-\")","v":13.3},5.2,20.3,null,"WD Ave","13:15:00",{"$f":"IF(AND(CH2649=\"-\",CH2745=\"-\",CH2841=\"-\",CH2937=\"-\",CH3033=\"-\"), \"-\", ROUND(AVERAGE(CH2649,CH2745,CH2841,CH2937,CH3033), 0))","v":5},12,0,0,2,1,0,0,0,0,0,0,{"$f":"IF(AND(CT2649=\"-\",CT2745=\"-\",CT2841=\"-\",CT2937=\"-\",CT3033=\"-\"), \"-\", IF(SUM($CH3321:$CS3321)=0, 0, ROUND(AVERAGE(CT2649,CT2745,CT2841,CT2937,CT3033), 0)))","v":4},9,6,1,0,0,0,0,0,0,0,0,0,0,0,0,0,0,0,0,13.243506493506494,14.600000000000001,5.2,23.3,2.5,6.75,0.25,0.75,1.25,11.5,2.25,4.75,0,0.75,0,7.75,4.75,11.5,0.25,1.5,1.25,19.25]
[4,"Weekday Average",{"$f":"INDEX(Input_Details!$H$5:$H$24, MATCH($A3362, Input_Details!$J$5:$J$24, 0), 0)","v":"Brockham Street"},{"$f":"INDEX(Input_Details!$I$5:$I$24, MATCH($A3362, Input_Details!$J$5:$J$24, 0), 0)","v":"51.49801,-0.09446"},{"$f":"INDEX(Input_Details!$K$5:$K$24, MATCH($A3362, Input_Details!$J$5:$J$24, 0), 0)","v":"Northbound"},"WD Ave","23:30:00",{"$f":"IF(AND(H2690=\"\",H2786=\"\",H2882=\"\",H2978=\"\",H3074=\"\"), \"-\", IF(H2690+H2786+H2882+H2978+H3074=0,0,AVERAGE(H2690,H2786,H2882,H2978,H3074)))","v":1},2.25,0,0.25,0.25,0,0,0,0,0,0,0,{"$f":"IF(AND(T2690=\"\",T2786=\"\",T2882=\"\",T2978=\"\",T3074=\"\"), \"-\", IF(SUM($H3362:$S3362)=0, 0, IF(T2690+T2786+T2882+T2978+T3074=0,0,AVERAGE(T2690,T2786,T2882,T2978,T3074))))","v":0},2,1.5,0.25,0,0,0,0,0,0,0,0,0,0,0,0,0,0,0,0,{"$f":"IF(SUM(H3362:S3362)=0,\"-\",AVERAGEIF(G2596:G3075,$G3362,AN2596:AN3075))","v":15.6},{"$f":"IFERROR(IF(SUM(H3362:S3362)=0,\"-\",AVERAGEIF(G2596:G3075,G3362,AO2596:AO3075)), \"-\")","v":"-"},11.1,20.100000000000001,{"$f":"INDEX(Input_Details!$L$5:$L$24, MATCH($A3362, Input_Details!$J$5:$J$24, 0), 0)","v":"Southbound"},"WD Ave","23:30:00",{"$f":"IF(AND(AU2690=\"\",AU2786=\"\",AU2882=\"\",AU2978=\"\",AU3074=\"\"), \"-\", IF(AU2690+AU2786+AU2882+AU2978+AU3074=0,0,AVERAGE(AU2690,AU2786,AU2882,AU2978,AU3074)))","v":0.75},1.5,0,0,0,0,0,0,0,0,0,0,{"$f":"IF(AND(BG2690=\"\",BG2786=\"\",BG2882=\"\",BG2978=\"\",BG3074=\"\"), \"-\", IF(SUM($AU3362:$BF3362)=0, 0, IF(BG2690+BG2786+BG2882+BG2978+BG3074=0,0,AVERAGE(BG2690,BG2786,BG2882,BG2978,BG3074))))","v":0},0.75,1.5,0,0,0,0,0,0,0,0,0,0,0,0,0,0,0,0,0,{"$f":"IF(SUM(AU3362:BF3362)=0,\"-\",AVERAGEIF(AT2596:AT3075,$G3362,CA2596:CA3075))","v":14.566666666666668},{"$f":"IFERROR(IF(SUM(AU3362:BF3362)=0,\"-\",AVERAGEIF(AT2596:AT3075,AT3362,CB2596:CB3075)), \"-\")","v":"-"},10.9,19.899999999999999,null,"WD Ave","23:30:00",{"$f":"IF(AND(CH2690=\"-\",CH2786=\"-\",CH2882=\"-\",CH2978=\"-\",CH3074=\"-\"), \"-\", ROUND(AVERAGE(CH2690,CH2786,CH2882,CH2978,CH3074), 0))","v":2},4,0,0,0,0,0,0,0,0,0,0,{"$f":"IF(AND(CT2690=\"-\",CT2786=\"-\",CT2882=\"-\",CT2978=\"-\",CT3074=\"-\"), \"-\", IF(SUM($CH3362:$CS3362)=0, 0, ROUND(AVERAGE(CT2690,CT2786,CT2882,CT2978,CT3074), 0)))","v":0},3,3,0,0,0,0,0,0,0,0,0,0,0,0,0,0,0,0,0,15.2125,"-",10.9,20.100000000000001,1,2.25,0.25,0.25,0,3.75,0.75,1.5,0,0,0,2.25,1.75,3.75,0.25,0.25,0,6]
[4,"7-Day Average",{"$f":"INDEX(Input_Details!$H$5:$H$24, MATCH($A3401, Input_Details!$J$5:$J$24, 0), 0)","v":"Brockham Street"},{"$f":"INDEX(Input_Details!$I$5:$I$24, MATCH($A3401, Input_Details!$J$5:$J$24, 0), 0)","v":"51.49801,-0.09446"},{"$f":"INDEX(Input_Details!$K$5:$K$24, MATCH($A3401, Input_Details!$J$5:$J$24, 0), 0)","v":"Northbound"},"7 Day Ave","09:15:00",{"$f":"IF(AND(H2633=\"\",H2729=\"\",H2825=\"\",H2921=\"\",H3017=\"\",H3113=\"\",H3209=\"\"), \"-\", IF(H2633+H2729+H2825+H2921+H3017+H3113+H3209=0,0,AVERAGE(H2633,H2729,H2825,H2921,H3017,H3113,H3209)))","v":3},4.7142857142857144,0,0,0.14285714285714285,0.5714285714285714,0,0,0.14285714285714285,0,0,0,{"$f":"IF(AND(T2633=\"\",T2729=\"\",T2825=\"\",T2921=\"\",T3017=\"\",T3113=\"\",T3209=\"\"), \"-\", IF(SUM($H3401:$S3401)=0, 0, IF(T2633+T2729+T2825+T2921+T3017+T3113+T3209=0,0,AVERAGE(T2633,T2729,T2825,T2921,T3017,T3113,T3209))))","v":1},4.4285714285714288,2.7142857142857144,0.42857142857142855,0,0,0,0,0,0,0,0,0,0,0,0,0,0,0,0,{"$f":"IF(SUM(H3401:S3401)=0,\"-\",AVERAGEIF(G2596:G3267,$G3401,AN2596:AN3267))","v":14.183333333333335},{"$f":"IFERROR(IF(SUM(H3401:S3401)=0,\"-\",AVERAGEIF(G2596:G3267,G3401,AO2596:AO3267)), \"-\")","v":15.633333333333333},8.3000000000000007,21.4,{"$f":"INDEX(Input_Details!$L$5:$L$24, MATCH($A3401, Input_Details!$J$5:$J$24, 0), 0)","v":"Southbound"},"7 Day Ave","09:15:00",{"$f":"IF(AND(AU2633=\"\",AU2729=\"\",AU2825=\"\",AU2921=\"\",AU3017=\"\",AU3113=\"\",AU3209=\"\"), \"-\", IF(AU2633+AU2729+AU2825+AU2921+AU3017+AU3113+AU3209=0,0,AVERAGE(AU2633,AU2729,AU2825,AU2921,AU3017,AU3113,AU3209)))","v":12.714285714285714},3.5714285714285716,0,0,0,0.5714285714285714,0,0,0,0,0,0,{"$f":"IF(AND(BG2633=\"\",BG2729=\"\",BG2825=\"\",BG2921=\"\",BG3017=\"\",BG3113=\"\",BG3209=\"\"), \"-\", IF(SUM($AU3401:$BF3401)=0, 0, IF(BG2633+BG2729+BG2825+BG2921+BG3017+BG3113+BG3209=0,0,AVERAGE(BG2633,BG2729,BG2825,BG2921,BG3017,BG3113,BG3209))))","v":2.8571428571428572},12.571428571428571,1.2857142857142858,0.14285714285714285,0,0,0,0,0,0,0,0,0,0,0,0,0,0,0,0,{"$f":"IF(SUM(AU3401:BF3401)=0,\"-\",AVERAGEIF(AT2596:AT3267,$G3401,CA2596:CA3267))","v":11.9},{"$f":"IFERROR(IF(SUM(AU3401:BF3401)=0,\"-\",AVERAGEIF(AT2596:AT3267,AT3401,CB2596:CB3267)), \"-\")","v":14.059999999999999},4.0999999999999996,21.3,null,"7 Day Ave","09:15:00",{"$f":"IF(AND(CH2633=\"-\",CH2729=\"-\",CH2825=\"-\",CH2921=\"-\",CH3017=\"-\",CH3113=\"-\",CH3209=\"-\"), \"-\", ROUND(AVERAGE(CH2633,CH2729,CH2825,CH2921,CH3017,CH3113,CH3209),0))","v":16},8,0,0,0,1,0,0,0,0,0,0,{"$f":"IF(AND(CT2633=\"-\",CT2729=\"-\",CT2825=\"-\",CT2921=\"-\",CT3017=\"-\",CT3113=\"-\",CT3209=\"-\"), \"-\", IF(SUM($CH3401:$CS3401)=0, 0, ROUND(AVERAGE(CT2633,CT2729,CT2825,CT2921,CT3017,CT3113,CT3209),0)))","v":4},17,4,1,0,0,0,0,0,0,0,0,0,0,0,0,0,0,0,0,12.669662921348314,14.846666666666666,4.0999999999999996,21.4,3,4.7142857142857144,0,0.14285714285714285,0.71428571428571419,8.5714285714285712,12.714285714285714,3.5714285714285716,0,0,0.5714285714285714,16.857142857142858,15.714285714285714,8.2857142857142865,0,0.14285714285714285,1.2857142857142856,25.428571428571431]
[4,"7-Day Average",{"$f":"INDEX(Input_Details!$H$5:$H$24, MATCH($A3422, Input_Details!$J$5:$J$24, 0), 0)","v":"Brockham Street"},{"$f":"INDEX(Input_Details!$I$5:$I$24, MATCH($A3422, Input_Details!$J$5:$J$24, 0), 0)","v":"51.49801,-0.09446"},{"$f":"INDEX(Input_Details!$K$5:$K$24, MATCH($A3422, Input_Details!$J$5:$J$24, 0), 0)","v":"Northbound"},"7 Day Ave","14:30:00",{"$f":"IF(AND(H2654=\"\",H2750=\"\",H2846=\"\",H2942=\"\",H3038=\"\",H3134=\"\",H3230=\"\"), \"-\", IF(H2654+H2750+H2846+H2942+H3038+H3134+H3230=0,0,AVERAGE(H2654,H2750,H2846,H2942,H3038,H3134,H3230)))","v":2.5},5.333333333333333,0,0.33333333333333331,1.1666666666666667,0.5,0,0,0,0,0,0,{"$f":"IF(AND(T2654=\"\",T2750=\"\",T2846=\"\",T2942=\"\",T3038=\"\",T3134=\"\",T3230=\"\"), \"-\", IF(SUM($H3422:$S3422)=0, 0, IF(T2654+T2750+T2846+T2942+T3038+T3134+T3230=0,0,AVERAGE(T2654,T2750,T2846,T2942,T3038,T3134,T3230))))","v":1.5},3.1666666666666665,4.833333333333333,0.16666666666666666,0.16666666666666666,0,0,0,0,0,0,0,0,0,0,0,0,0,0,0,{"$f":"IF(SUM(H3422:S3422)=0,\"-\",AVERAGEIF(G2596:G3267,$G3422,AN2596:AN3267))","v":14.866666666666667},{"$f":"IFERROR(IF(SUM(H3422:S3422)=0,\"-\",AVERAGEIF(G2596:G3267,G3422,AO2596:AO3267)), \"-\")","v":17.75},3.9,25.3,{"$f":"INDEX(Input_Details!$L$5:$L$24, MATCH($A3422, Input_Details!$J$5:$J$24, 0), 0)","v":"Southbound"},"7 Day Ave","14:30:00",{"$f":"IF(AND(AU2654=\"\",AU2750=\"\",AU2846=\"\",AU2942=\"\",AU3038=\"\",AU3134=\"\",AU3230=\"\"), \"-\", IF(AU2654+AU2750+AU2846+AU2942+AU3038+AU3134+AU3230=0,0,AVERAGE(AU2654,AU2750,AU2846,AU2942,AU3038,AU3134,AU3230)))","v":1.1666666666666667},3.1666666666666665,0,0,0.16666666666666666,0,0,0,0,0,0,0,{"$f":"IF(AND(BG2654=\"\",BG2750=\"\",BG2846=\"\",BG2942=\"\",BG3038=\"\",BG3134=\"\",BG3230=\"\"), \"-\", IF(SUM($AU3422:$BF3422)=0, 0, IF(BG2654+BG2750+BG2846+BG2942+BG3038+BG3134+BG3230=0,0,AVERAGE(BG2654,BG2750,BG2846,BG2942,BG3038,BG3134,BG3230))))","v":0.66666666666666663},1.3333333333333333,2.3333333333333335,0.16666666666666666,0,0,0,0,0,0,0,0,0,0,0,0,0,0,0,0,{"$f":"IF(SUM(AU3422:BF3422)=0,\"-\",AVERAGEIF(AT2596:AT3267,$G3422,CA2596:CA3267))","v":14.016666666666667},{"$f":"IFERROR(IF(SUM(AU3422:BF3422)=0,\"-\",AVERAGEIF(AT2596:AT3267,AT3422,CB2596:CB3267)), \"-\")","v":"-"},3.9,23.1,null,"7 Day Ave","14:30:00",{"$f":"IF(AND(CH2654=\"-\",CH2750=\"-\",CH2846=\"-\",CH2942=\"-\",CH3038=\"-\",CH3134=\"-\",CH3230=\"-\"), \"-\", ROUND(AVERAGE(CH2654,CH2750,CH2846,CH2942,CH3038,CH3134,CH3230),0))","v":4},9,0,0,1,1,0,0,0,0,0,0,{"$f":"IF(AND(CT2654=\"-\",CT2750=\"-\",CT2846=\"-\",CT2942=\"-\",CT3038=\"-\",CT3134=\"-\",CT3230=\"-\"), \"-\", IF(SUM($CH3422:$CS3422)=0, 0, ROUND(AVERAGE(CT2654,CT2750,CT2846,CT2942,CT3038,CT3134,CT3230),0)))","v":2},5,7,0,0,0,0,0,0,0,0,0,0,0,0,0,0,0,0,0,14.599806201550386,17.75,3.9,25.3,2.5,5.333333333333333,0.33333333333333331,1.1666666666666667,0.5,9.8333333333333321,1.1666666666666667,3.1666666666666665,0,{"$f":"IF(DX3422=\"-\", \"-\", AY3422)","v":0.16666666666666666},0,4.5,3.666666666666667,8.5,0.33333333333333331,1.3333333333333335,0.5,14.333333333333332]
[4,"7-Day Average",{"$f":"INDEX(Input_Details!$H$5:$H$24, MATCH($A3451, Input_Details!$J$5:$J$24, 0), 0)","v":"Brockham Street"},{"$f":"INDEX(Input_Details!$I$5:$I$24, MATCH($A3451, Input_Details!$J$5:$J$24, 0), 0)","v":"51.49801,-0.09446"},{"$f":"INDEX(Input_Details!$K$5:$K$24, MATCH($A3451, Input_Details!$J$5:$J$24, 0), 0)","v":"Northbound"},"7 Day Ave","21:45:00",{"$f":"IF(AND(H2683=\"\",H2779=\"\",H2875=\"\",H2971=\"\",H3067=\"\",H3163=\"\",H3259=\"\"), \"-\", IF(H2683+H2779+H2875+H2971+H3067+H3163+H3259=0,0,AVERAGE(H2683,H2779,H2875,H2971,H3067,H3163,H3259)))","v":2},2.5,0,0,0,0,0,0,0,0,0,0,{"$f":"IF(AND(T2683=\"\",T2779=\"\",T2875=\"\",T2971=\"\",T3067=\"\",T3163=\"\",T3259=\"\"), \"-\", IF(SUM($H3451:$S3451)=0, 0, IF(T2683+T2779+T2875+T2971+T3067+T3163+T3259=0,0,AVERAGE(T2683,T2779,T2875,T2971,T3067,T3163,T3259))))","v":0},2.3333333333333335,2.1666666666666665,0,0,0,0,0,0,0,0,0,0,0,0,0,0,0,0,0,{"$f":"IF(SUM(H3451:S3451)=0,\"-\",AVERAGEIF(G2596:G3267,$G3451,AN2596:AN3267))","v":15.5},{"$f":"IFERROR(IF(SUM(H3451:S3451)=0,\"-\",AVERAGEIF(G2596:G3267,G3451,AO2596:AO3267)), \"-\")","v":"-"},10,19.100000000000001,{"$f":"INDEX(Input_Details!$L$5:$L$24, MATCH($A3451, Input_Details!$J$5:$J$24, 0), 0)","v":"Southbound"},"7 Day Ave","21:45:00",{"$f":"IF(AND(AU2683=\"\",AU2779=\"\",AU2875=\"\",AU2971=\"\",AU3067=\"\",AU3163=\"\",AU3259=\"\"), \"-\", IF(AU2683+AU2779+AU2875+AU2971+AU3067+AU3163+AU3259=0,0,AVERAGE(AU2683,AU2779,AU2875,AU2971,AU3067,AU3163,AU3259)))","v":2.5},2,0,0,0.16666666666666666,0,0,0,0,0,0,0,{"$f":"IF(AND(BG2683=\"\",BG2779=\"\",BG2875=\"\",BG2971=\"\",BG3067=\"\",BG3163=\"\",BG3259=\"\"), \"-\", IF(SUM($AU3451:$BF3451)=0, 0, IF(BG2683+BG2779+BG2875+BG2971+BG3067+BG3163+BG3259=0,0,AVERAGE(BG2683,BG2779,BG2875,BG2971,BG3067,BG3163,BG3259))))","v":0.83333333333333337},1,2.3333333333333335,0.5,0,0,0,0,0,0,0,0,0,0,0,0,0,0,0,0,{"$f":"IF(SUM(AU3451:BF3451)=0,\"-\",AVERAGEIF(AT2596:AT3267,$G3451,CA2596:CA3267))","v":16.066666666666666},{"$f":"IFERROR(IF(SUM(AU3451:BF3451)=0,\"-\",AVERAGEIF(AT2596:AT3267,AT3451,CB2596:CB3267)), \"-\")","v":"-"},8.3000000000000007,24.3,null,"7 Day Ave","21:45:00",{"$f":"IF(AND(CH2683=\"-\",CH2779=\"-\",CH2875=\"-\",CH2971=\"-\",CH3067=\"-\",CH3163=\"-\",CH3259=\"-\"), \"-\", ROUND(AVERAGE(CH2683,CH2779,CH2875,CH2971,CH3067,CH3163,CH3259),0))","v":5},5,0,0,0,0,0,0,0,0,0,0,{"$f":"IF(AND(CT2683=\"-\",CT2779=\"-\",CT2875=\"-\",CT2971=\"-\",CT3067=\"-\",CT3163=\"-\",CT3259=\"-\"), \"-\", IF(SUM($CH3451:$CS3451)=0, 0, ROUND(AVERAGE(CT2683,CT2779,CT2875,CT2971,CT3067,CT3163,CT3259),0)))","v":1},3,5,1,0,0,0,0,0,0,0,0,0,0,0,0,0,0,0,0,15.788484848484847,"-",8.3000000000000007,24.3,2,2.5,0,0,0,4.5,2.5,2,0,0.16666666666666666,0,4.666666666666667,4.5,4.5,0,0.16666666666666666,0,9.1666666666666679]
[5,{"$f":"OFFSET(Input_Details!$Q$4,MATCH($A3494, Input_Details!$J$5:$J$24, 0), 0)","v":"2017-11-20"},{"$f":"INDEX(Input_Details!$H$5:$H$24, MATCH($A3494, Input_Details!$J$5:$J$24, 0), 0)","v":"Swan Street"},{"$f":"INDEX(Input_Details!$I$5:$I$24, MATCH($A3494, Input_Details!$J$5:$J$24, 0), 0)","v":"51.49881,-0.09521"},{"$f":"INDEX(Input_Details!$K$5:$K$24, MATCH($A3494, Input_Details!$J$5:$J$24, 0), 0)","v":"Northbound"},"Mon","08:30:00",7,5,0,0,0,0,0,0,0,0,0,0,1,6,3,2,0,0,0,0,0,0,0,0,0,0,0,0,0,0,0,0,15.4,18.3,8.1999999999999993,24.1,{"$f":"INDEX(Input_Details!$L$5:$L$24, MATCH($A3494, Input_Details!$J$5:$J$24, 0), 0)","v":"Southbound"},"Mon","08:30:00",4,0,0,0,0,0,0,0,0,0,0,0,0,4,0,0,0,0,0,0,0,0,0,0,0,0,0,0,0,0,0,0,13.3,"-",10.3,14.9,null,"Mon","08:30:00",11,5,0,0,0,0,0,0,0,0,0,0,1,10,3,2,0,0,0,0,0,0,0,0,0,0,0,0,0,0,0,0,14.875,18.3,8.1999999999999993,24.1,7,5,0,0,0,12,4,0,0,0,0,4,11,5,0,0,0,16,12,14,17,6,9,6,1,4,9,7,2,2,0,0,16,23,24,8,11,6,1]
[5,{"$f":"OFFSET(Input_Details!$Q$4,MATCH($A3523, Input_Details!$J$5:$J$24, 0), 0)","v":"2017-11-20"},{"$f":"INDEX(Input_Details!$H$5:$H$24, MATCH($A3523, Input_Details!$J$5:$J$24, 0), 0)","v":"Swan Street"},{"$f":"INDEX(Input_Details!$I$5:$I$24, MATCH($A3523, Input_Details!$J$5:$J$24, 0), 0)","v":"51.49881,-0.09521"},{"$f":"INDEX(Input_Details!$K$5:$K$24, MATCH($A3523, Input_Details!$J$5:$J$24, 0), 0)","v":"Northbound"},"Mon","15:45:00",4,8,0,1,0,0,0,0,0,0,0,0,1,3,2,6,1,0,0,0,0,0,0,0,0,0,0,0,0,0,0,0,18.7,23.5,7.9,29.1,{"$f":"INDEX(Input_Details!$L$5:$L$24, MATCH($A3523, Input_Details!$J$5:$J$24, 0), 0)","v":"Southbound"},"Mon","15:45:00",0,0,0,0,0,0,0,0,0,0,0,0,0,0,0,0,0,0,0,0,0,0,0,0,0,0,0,0,0,0,0,0,"-","-","-","-",null,"Mon","15:45:00",4,8,0,1,0,0,0,0,0,0,0,0,1,3,2,6,1,0,0,0,0,0,0,0,0,0,0,0,0,0,0,0,18.7,23.5,7.9,29.1,4,8,1,0,0,13,0,0,0,0,0,0,4,8,1,0,0,13,13,16,17,13,20,11,8,0,2,1,1,1,1,0,13,18,18,14,21,12,8]
[5,{"$f":"OFFSET(Input_Details!$Q$4,MATCH($A3573, Input_Details!$J$5:$J$24, 0), 1)","v":"2017-11-21"},{"$f":"INDEX(Input_Details!$H$5:$H$24, MATCH($A3573, Input_Details!$J$5:$J$24, 0), 0)","v":"Swan Street"},{"$f":"INDEX(Input_Details!$I$5:$I$24, MATCH($A3573, Input_Details!$J$5:$J$24, 0), 0)","v":"51.49881,-0.09521"},{"$f":"INDEX(Input_Details!$K$5:$K$24, MATCH($A3573, Input_Details!$J$5:$J$24, 0), 0)","v":"Northbound"},"Tues","04:15:00",0,1,0,0,0,0,0,0,0,0,0,0,0,0,0,1,0,0,0,0,0,0,0,0,0,0,0,0,0,0,0,0,22.1,"-",22.1,22.1,{"$f":"INDEX(Input_Details!$L$5:$L$24, MATCH($A3573, Input_Details!$J$5:$J$24, 0), 0)","v":"Southbound"},"Tues","04:15:00",0,0,0,0,0,0,0,0,0,0,0,0,0,0,0,0,0,0,0,0,0,0,0,0,0,0,0,0,0,0,0,0,"-","-","-","-",null,"Tues","04:15:00",0,1,0,0,0,0,0,0,0,0,0,0,0,0,0,1,0,0,0,0,0,0,0,0,0,0,0,0,0,0,0,0,22.1,"-",22.1,22.1,0,1,0,0,0,1,0,0,0,0,0,0,0,1,0,0,0,1]
[5,{"$f":"OFFSET(Input_Details!$Q$4,MATCH($A3583, Input_Details!$J$5:$J$24, 0), 1)","v":"2017-11-21"},{"$f":"INDEX(Input_Details!$H$5:$H$24, MATCH($A3583, Input_Details!$J$5:$J$24, 0), 0)","v":"Swan Street"},{"$f":"INDEX(Input_Details!$I$5:$I$24, MATCH($A3583, Input_Details!$J$5:$J$24, 0), 0)","v":"51.49881,-0.09521"},{"$f":"INDEX(Input_Details!$K$5:$K$24, MATCH($A3583, Input_Details!$J$5:$J$24, 0), 0)","v":"Northbound"},"Tues","06:45:00",2,5,0,0,0,0,0,0,0,0,0,0,0,0,3,3,1,0,0,0,0,0,0,0,0,0,0,0,0,0,0,0,21.5,"-",15,28.5,{"$f":"INDEX(Input_Details!$L$5:$L$24, MATCH($A3583, Input_Details!$J$5:$J$24, 0), 0)","v":"Southbound"},"Tues","06:45:00",0,1,0,0,0,0,0,0,0,0,0,0,0,1,0,0,0,0,0,0,0,0,0,0,0,0,0,0,0,0,0,0,10.3,"-",10.3,10.3,null,"Tues","06:45:00",2,6,0,0,0,0,0,0,0,0,0,0,0,1,3,3,1,0,0,0,0,0,0,0,0,0,0,0,0,0,0,0,20.100000000000001,"-",10.3,28.5,2,5,0,0,0,7,0,1,0,0,0,1,2,6,0,0,0,8]
[5,{"$f":"OFFSET(Input_Details!$Q$4,MATCH($A3624, Input_Details!$J$5:$J$24, 0), 1)","v":"2017-11-21"},{"$f":"INDEX(Input_Details!$H$5:$H$24, MATCH($A3624, Input_Details!$J$5:$J$24, 0), 0)","v":"Swan Street"},{"$f":"INDEX(Input_Details!$I$5:$I$24, MATCH($A3624, Input_Details!$J$5:$J$24, 0), 0)","v":"51.49881,-0.09521"},{"$f":"INDEX(Input_Details!$K$5:$K$24, MATCH($A3624, Input_Details!$J$5:$J$24, 0), 0)","v":"Northbound"},"Tues","17:00:00",4,6,0,3,0,1,0,0,0,0,0,0,1,3,5,3,2,0,0,0,0,0,0,0,0,0,0,0,0,0,0,0,18.399999999999999,23.7,9.8000000000000007,28.3,{"$f":"INDEX(Input_Details!$L$5:$L$24, MATCH($A3624, Input_Details!$J$5:$J$24, 0), 0)","v":"Southbound"},"Tues","17:00:00",2,0,0,0,0,0,0,0,0,0,0,0,0,2,0,0,0,0,0,0,0,0,0,0,0,0,0,0,0,0,0,0,11.3,"-",10.6,11.9,null,"Tues","17:00:00",6,6,0,3,0,1,0,0,0,0,0,0,1,5,5,3,2,0,0,0,0,0,0,0,0,0,0,0,0,0,0,0,17.512499999999999,23.7,9.8000000000000007,28.3,4,6,3,0,1,14,2,0,0,0,0,2,6,6,3,0,1,16]
[5,{"$f":"OFFSET(Input_Details!$Q$4,MATCH($A3662, Input_Details!$J$5:$J$24, 0), 2)","v":"2017-11-22"},{"$f":"INDEX(Input_Details!$H$5:$H$24, MATCH($A3662, Input_Details!$J$5:$J$24, 0), 0)","v":"Swan Street"},{"$f":"INDEX(Input_Details!$I$5:$I$24, MATCH($A3662, Input_Details!$J$5:$J$24, 0), 0)","v":"51.49881,-0.09521"},{"$f":"INDEX(Input_Details!$K$5:$K$24, MATCH($A3662, Input_Details!$J$5:$J$24, 0), 0)","v":"Northbound"},"Wed","02:30:00",0,1,0,0,0,0,0,0,0,0,0,0,0,0,0,1,0,0,0,0,0,0,0,0,0,0,0,0,0,0,0,0,21.2,"-",21.2,21.2,{"$f":"INDEX(Input_Details!$L$5:$L$24, MATCH($A3662, Input_Details!$J$5:$J$24, 0), 0)","v":"Southbound"},"Wed","02:30:00",0,0,0,0,0,0,0,0,0,0,0,0,0,0,0,0,0,0,0,0,0,0,0,0,0,0,0,0,0,0,0,0,"-","-","-","-",null,"Wed","02:30:00",0,1,0,0,0,0,0,0,0,0,0,0,0,0,0,1,0,0,0,0,0,0,0,0,0,0,0,0,0,0,0,0,21.2,"-",21.2,21.2,0,1,0,0,0,1,0,0,0,0,0,0,0,1,0,0,0,1]
[5,{"$f":"OFFSET(Input_Details!$Q$4,MATCH($A3705, Input_Details!$J$5:$J$24, 0), 2)","v":"2017-11-22"},{"$f":"INDEX(Input_Details!$H$5:$H$24, MATCH($A3705, Input_Details!$J$5:$J$24, 0), 0)","v":"Swan Street"},{"$f":"INDEX(Input_Details!$I$5:$I$24, MATCH($A3705, Input_Details!$J$5:$J$24, 0), 0)","v":"51.49881,-0.09521"},{"$f":"INDEX(Input_Details!$K$5:$K$24, MATCH($A3705, Input_Details!$J$5:$J$24, 0), 0)","v":"Northbound"},"Wed","13:15:00",2,9,0,2,0,1,0,0,0,0,0,0,2,4,3,4,1,0,0,0,0,0,0,0,0,0,0,0,0,0,0,0,17,21.5,9.1,28,{"$f":"INDEX(Input_Details!$L$5:$L$24, MATCH($A3705, Input_Details!$J$5:$J$24, 0), 0)","v":"Southbound"},"Wed","13:15:00",1,1,0,0,0,0,0,0,0,0,0,0,0,2,0,0,0,0,0,0,0,0,0,0,0,0,0,0,0,0,0,0,14,"-",13.4,14.6,null,"Wed","13:15:00",3,10,0,2,0,1,0,0,0,0,0,0,2,6,3,4,1,0,0,0,0,0,0,0,0,0,0,0,0,0,0,0,16.625,21.5,9.1,28,2,9,2,0,1,14,1,1,0,0,0,2,3,10,2,0,1,16]
[5,{"$f":"OFFSET(Input_Details!$Q$4,MATCH($A3725, Input_Details!$J$5:$J$24, 0), 2)","v":"2017-11-22"},{"$f":"INDEX(Input_Details!$H$5:$H$24, MATCH($A3725, Input_Details!$J$5:$J$24, 0), 0)","v":"Swan Street"},{"$f":"INDEX(Input_Details!$I$5:$I$24, MATCH($A3725, Input_Details!$J$5:$J$24, 0), 0)","v":"51.49881,-0.09521"},{"$f":"INDEX(Input_Details!$K$5:$K$24, MATCH($A3725, Input_Details!$J$5:$J$24, 0), 0)","v":"Northbound"},"Wed","18:15:00",7,10,0,1,1,0,0,0,0,0,0,0,0,5,6,3,4,0,1,0,0,0,0,0,0,0,0,0,0,0,0,0,20.399999999999999,27.1,12.2,37.9,{"$f":"INDEX(Input_Details!$L$5:$L$24, MATCH($A3725, Input_Details!$J$5:$J$24, 0), 0)","v":"Southbound"},"Wed","18:15:00",1,0,0,0,0,0,0,0,0,0,0,0,0,1,0,0,0,0,0,0,0,0,0,0,0,0,0,0,0,0,0,0,10.6,"-",10.6,10.6,null,"Wed","18:15:00",8,10,0,1,1,0,0,0,0,0,0,0,0,6,6,3,4,0,1,0,0,0,0,0,0,0,0,0,0,0,0,0,19.91,27.1,10.6,37.9,7,10,1,1,0,19,1,0,0,0,0,1,8,10,1,1,0,20]
[5,{"$f":"OFFSET(Input_Details!$Q$4,MATCH($A3755, Input_Details!$J$5:$J$24, 0), 3)","v":"2017-11-23"},{"$f":"INDEX(Input_Details!$H$5:$H$24, MATCH($A3755, Input_Details!$J$5:$J$24, 0), 0)","v":"Swan Street"},{"$f":"INDEX(Input_Details!$I$5:$I$24, MATCH($A3755, Input_Details!$J$5:$J$24, 0), 0)","v":"51.49881,-0.09521"},{"$f":"INDEX(Input_Details!$K$5:$K$24, MATCH($A3755, Input_Details!$J$5:$J$24, 0), 0)","v":"Northbound"},"Thu","01:45:00",0,1,0,0,0,0,0,0,0,0,0,0,0,0,0,1,0,0,0,0,0,0,0,0,0,0,0,0,0,0,0,0,23.2,"-",23.2,23.2,{"$f":"INDEX(Input_Details!$L$5:$L$24, MATCH($A3755, Input_Details!$J$5:$J$24, 0), 0)","v":"Southbound"},"Thu","01:45:00",0,0,0,0,0,0,0,0,0,0,0,0,0,0,0,0,0,0,0,0,0,0,0,0,0,0,0,0,0,0,0,0,"-","-","-","-",null,"Thu","01:45:00",0,1,0,0,0,0,0,0,0,0,0,0,0,0,0,1,0,0,0,0,0,0,0,0,0,0,0,0,0,0,0,0,23.2,"-",23.2,23.2,0,1,0,0,0,1,0,0,0,0,0,0,0,1,0,0,0,1]
[5,{"$f":"OFFSET(Input_Details!$Q$4,MATCH($A3794, Input_Details!$J$5:$J$24, 0), 3)","v":"2017-11-23"},{"$f":"INDEX(Input_Details!$H$5:$H$24, MATCH($A3794, Input_Details!$J$5:$J$24, 0), 0)","v":"Swan Street"},{"$f":"INDEX(Input_Details!$I$5:$I$24, MATCH($A3794, Input_Details!$J$5:$J$24, 0), 0)","v":"51.49881,-0.09521"},{"$f":"INDEX(Input_Details!$K$5:$K$24, MATCH($A3794, Input_Details!$J$5:$J$24, 0), 0)","v":"Northbound"},"Thu","11:30:00",2,5,0,2,0,0,0,0,0,0,0,0,1,1,4,2,1,0,0,0,0,0,0,0,0,0,0,0,0,0,0,0,18.8,"-",10,26.9,{"$f":"INDEX(Input_Details!$L$5:$L$24, MATCH($A3794, Input_Details!$J$5:$J$24, 0), 0)","v":"Southbound"},"Thu","11:30:00",0,1,0,0,0,0,0,0,0,0,0,0,0,1,0,0,0,0,0,0,0,0,0,0,0,0,0,0,0,0,0,0,10.7,"-",10.7,10.7,null,"Thu","11:30:00",2,6,0,2,0,0,0,0,0,0,0,0,1,2,4,2,1,0,0,0,0,0,0,0,0,0,0,0,0,0,0,0,17.990000000000002,"-",10,26.9,2,5,2,0,0,9,0,1,0,0,0,1,2,6,2,0,0,10]
[5,{"$f":"OFFSET(Input_Details!$Q$4,MATCH($A3833, Input_Details!$J$5:$J$24, 0), 3)","v":"2017-11-23"},{"$f":"INDEX(Input_Details!$H$5:$H$24, MATCH($A3833, Input_Details!$J$5:$J$24, 0), 0)","v":"Swan Street"},{"$f":"INDEX(Input_Details!$I$5:$I$24, MATCH($A3833, Input_Details!$J$5:$J$24, 0), 0)","v":"51.49881,-0.09521"},{"$f":"INDEX(Input_Details!$K$5:$K$24, MATCH($A3833, Input_Details!$J$5:$J$24, 0), 0)","v":"Northbound"},"Thu","21:15:00",3,10,0,2,0,0,0,0,0,0,0,0,0,1,4,6,3,1,0,0,0,0,0,0,0,0,0,0,0,0,0,0,22.2,27.7,11,31.5,{"$f":"INDEX(Input_Details!$L$5:$L$24, MATCH($A3833, Input_Details!$J$5:$J$24, 0), 0)","v":"Southbound"},"Thu","21:15:00",1,1,0,0,0,0,0,0,0,0,0,0,0,2,0,0,0,0,0,0,0,0,0,0,0,0,0,0,0,0,0,0,12.8,"-",11.5,14.2,null,"Thu","21:15:00",4,11,0,2,0,0,0,0,0,0,0,0,0,3,4,6,3,1,0,0,0,0,0,0,0,0,0,0,0,0,0,0,21.094117647058823,27.7,11,31.5,3,10,2,0,0,15,1,1,0,0,0,2,4,11,2,0,0,17]
[5,{"$f":"OFFSET(Input_Details!$Q$4,MATCH($A3860, Input_Details!$J$5:$J$24, 0), 4)","v":"2017-11-17"},{"$f":"INDEX(Input_Details!$H$5:$H$24, MATCH($A3860, Input_Details!$J$5:$J$24, 0), 0)","v":"Swan Street"},{"$f":"INDEX(Input_Details!$I$5:$I$24, MATCH($A3860, Input_Details!$J$5:$J$24, 0), 0)","v":"51.49881,-0.09521"},{"$f":"INDEX(Input_Details!$K$5:$K$24, MATCH($A3860, Input_Details!$J$5:$J$24, 0), 0)","v":"Northbound"},"Fri","04:00:00",0,1,0,0,0,0,0,0,0,0,0,0,0,0,0,1,0,0,0,0,0,0,0,0,0,0,0,0,0,0,0,0,22.5,"-",22.5,22.5,{"$f":"INDEX(Input_Details!$L$5:$L$24, MATCH($A3860, Input_Details!$J$5:$J$24, 0), 0)","v":"Southbound"},"Fri","04:00:00",0,0,0,0,0,0,0,0,0,0,0,0,0,0,0,0,0,0,0,0,0,0,0,0,0,0,0,0,0,0,0,0,"-","-","-","-",null,"Fri","04:00:00",0,1,0,0,0,0,0,0,0,0,0,0,0,0,0,1,0,0,0,0,0,0,0,0,0,0,0,0,0,0,0,0,22.5,"-",22.5,22.5,0,1,0,0,0,1,0,0,0,0,0,0,0,1,0,0,0,1]
[5,{"$f":"OFFSET(Input_Details!$Q$4,MATCH($A3883, Input_Details!$J$5:$J$24, 0), 4)","v":"2017-11-17"},{"$f":"INDEX(Input_Details!$H$5:$H$24, MATCH($A3883, Input_Details!$J$5:$J$24, 0), 0)","v":"Swan Street"},{"$f":"INDEX(Input_Details!$I$5:$I$24, MATCH($A3883, Input_Details!$J$5:$J$24, 0), 0)","v":"51.49881,-0.09521"},{"$f":"INDEX(Input_Details!$K$5:$K$24, MATCH($A3883, Input_Details!$J$5:$J$24, 0), 0)","v":"Northbound"},"Fri","09:45:00",5,4,0,0,0,0,0,0,0,0,0,0,1,3,2,2,1,0,0,0,0,0,0,0,0,0,0,0,0,0,0,0,16.8,"-",9.8000000000000007,27.2,{"$f":"INDEX(Input_Details!$L$5:$L$24, MATCH($A3883, Input_Details!$J$5:$J$24, 0), 0)","v":"Southbound"},"Fri","09:45:00",3,0,0,0,0,0,0,0,0,0,0,0,1,2,0,0,0,0,0,0,0,0,0,0,0,0,0,0,0,0,0,0,11.7,"-",10,13.6,null,"Fri","09:45:00",8,4,0,0,0,0,0,0,0,0,0,0,2,5,2,2,1,0,0,0,0,0,0,0,0,0,0,0,0,0,0,0,15.525,"-",9.8000000000000007,27.2,5,4,0,0,0,9,3,0,0,0,0,3,8,4,0,0,0,12]
[5,{"$f":"OFFSET(Input_Details!$Q$4,MATCH($A3926, Input_Details!$J$5:$J$24, 0), 4)","v":"2017-11-17"},{"$f":"INDEX(Input_Details!$H$5:$H$24, MATCH($A3926, Input_Details!$J$5:$J$24, 0), 0)","v":"Swan Street"},{"$f":"INDEX(Input_Details!$I$5:$I$24, MATCH($A3926, Input_Details!$J$5:$J$24, 0), 0)","v":"51.49881,-0.09521"},{"$f":"INDEX(Input_Details!$K$5:$K$24, MATCH($A3926, Input_Details!$J$5:$J$24, 0), 0)","v":"Northbound"},"Fri","20:30:00",1,2,0,0,1,0,0,0,0,0,0,0,0,1,2,1,0,0,0,0,0,0,0,0,0,0,0,0,0,0,0,0,18.3,"-",14.3,23,{"$f":"INDEX(Input_Details!$L$5:$L$24, MATCH($A3926, Input_Details!$J$5:$J$24, 0), 0)","v":"Southbound"},"Fri","20:30:00",1,0,0,0,0,0,0,0,0,0,0,0,0,0,0,0,0,1,0,0,0,0,0,0,0,0,0,0,0,0,0,0,31.8,"-",31.8,31.8,null,"Fri","20:30:00",2,2,0,0,1,0,0,0,0,0,0,0,0,1,2,1,0,1,0,0,0,0,0,0,0,0,0,0,0,0,0,0,21,"-",14.3,31.8,1,2,0,1,0,4,1,0,0,0,0,1,2,2,0,1,0,5]
[5,{"$f":"OFFSET(Input_Details!$Q$4,MATCH($A3961, Input_Details!$J$5:$J$24, 0), 5)","v":"2017-11-18"},{"$f":"INDEX(Input_Details!$H$5:$H$24, MATCH($A3961, Input_Details!$J$5:$J$24, 0), 0)","v":"Swan Street"},{"$f":"INDEX(Input_Details!$I$5:$I$24, MATCH($A3961, Input_Details!$J$5:$J$24, 0), 0)","v":"51.49881,-0.09521"},{"$f":"INDEX(Input_Details!$K$5:$K$24, MATCH($A3961, Input_Details!$J$5:$J$24, 0), 0)","v":"Northbound"},"Sat","05:15:00",0,1,0,0,0,0,0,0,0,0,0,0,0,0,1,0,0,0,0,0,0,0,0,0,0,0,0,0,0,0,0,0,17.600000000000001,"-",17.600000000000001,17.600000000000001,{"$f":"INDEX(Input_Details!$L$5:$L$24, MATCH($A3961, Input_Details!$J$5:$J$24, 0), 0)","v":"Southbound"},"Sat","05:15:00",0,0,0,0,0,0,0,0,0,0,0,0,0,0,0,0,0,0,0,0,0,0,0,0,0,0,0,0,0,0,0,0,"-","-","-","-",null,"Sat","05:15:00",0,1,0,0,0,0,0,0,0,0,0,0,0,0,1,0,0,0,0,0,0,0,0,0,0,0,0,0,0,0,0,0,17.600000000000001,"-",17.600000000000001,17.600000000000001,0,1,0,0,0,1,0,0,0,0,0,0,0,1,0,0,0,1]
[5,{"$f":"OFFSET(Input_Details!$Q$4,MATCH($A4005, Input_Details!$J$5:$J$24, 0), 5)","v":"2017-11-18"},{"$f":"INDEX(Input_Details!$H$5:$H$24, MATCH($A4005, Input_Details!$J$5:$J$24, 0), 0)","v":"Swan Street"},{"$f":"INDEX(Input_Details!$I$5:$I$24, MATCH($A4005, Input_Details!$J$5:$J$24, 0), 0)","v":"51.49881,-0.09521"},{"$f":"INDEX(Input_Details!$K$5:$K$24, MATCH($A4005, Input_Details!$J$5:$J$24, 0), 0)","v":"Northbound"},"Sat","16:15:00",0,8,0,0,0,0,0,0,0,0,0,0,0,0,2,5,0,1,0,0,0,0,0,0,0,0,0,0,0,0,0,0,21.7,"-",15.5,30.2,{"$f":"INDEX(Input_Details!$L$5:$L$24, MATCH($A4005, Input_Details!$J$5:$J$24, 0), 0)","v":"Southbound"},"Sat","16:15:00",0,0,0,0,0,0,0,0,0,0,0,0,0,0,0,0,0,0,0,0,0,0,0,0,0,0,0,0,0,0,0,0,"-","-","-","-",null,"Sat","16:15:00",0,8,0,0,0,0,0,0,0,0,0,0,0,0,2,5,0,1,0,0,0,0,0,0,0,0,0,0,0,0,0,0,21.7,"-",15.5,30.2,0,8,0,0,{"$f":"IF(DR4005=\"-\", \"-\", SUM(M4005:S4005))","v":0},8,0,0,0,0,0,0,0,8,0,0,0,8]
[5,{"$f":"OFFSET(Input_Details!$Q$4,MATCH($A4048, Input_Details!$J$5:$J$24, 0), 6)","v":"2017-11-19"},{"$f":"INDEX(Input_Details!$H$5:$H$24, MATCH($A4048, Input_Details!$J$5:$J$24, 0), 0)","v":"Swan Street"},{"$f":"INDEX(Input_Details!$I$5:$I$24, MATCH($A4048, Input_Details!$J$5:$J$24, 0), 0)","v":"51.49881,-0.09521"},{"$f":"INDEX(Input_Details!$K$5:$K$24, MATCH($A4048, Input_Details!$J$5:$J$24, 0), 0)","v":"Northbound"},"Sun","03:00:00",0,3,0,0,0,0,0,0,0,0,0,0,0,0,1,1,1,0,0,0,0,0,0,0,0,0,0,0,0,0,0,0,23,"-",18.899999999999999,25.4,{"$f":"INDEX(Input_Details!$L$5:$L$24, MATCH($A4048, Input_Details!$J$5:$J$24, 0), 0)","v":"Southbound"},"Sun","03:00:00",0,0,0,0,0,0,0,0,0,0,0,0,0,0,0,0,0,0,0,0,0,0,0,0,0,0,0,0,0,0,0,0,"-","-","-","-",null,"Sun","03:00:00",0,3,0,0,0,0,0,0,0,0,0,0,0,0,1,1,1,0,0,0,0,0,0,0,0,0,0,0,0,0,0,0,23,"-",18.899999999999999,25.4,0,3,0,0,0,3,0,0,0,0,0,0,0,3,0,0,0,3]
[5,{"$f":"OFFSET(Input_Details!$Q$4,MATCH($A4062, Input_Details!$J$5:$J$24, 0), 6)","v":"2017-11-19"},{"$f":"INDEX(Input_Details!$H$5:$H$24, MATCH($A4062, Input_Details!$J$5:$J$24, 0), 0)","v":"Swan Street"},{"$f":"INDEX(Input_Details!$I$5:$I$24, MATCH($A4062, Input_Details!$J$5:$J$24, 0), 0)","v":"51.49881,-0.09521"},{"$f":"INDEX(Input_Details!$K$5:$K$24, MATCH($A4062, Input_Details!$J$5:$J$24, 0), 0)","v":"Northbound"},"Sun","06:30:00",0,3,0,0,0,0,0,0,0,0,0,0,0,0,1,2,0,0,0,0,0,0,0,0,0,0,0,0,0,0,0,0,19.5,"-",17.7,20.5,{"$f":"INDEX(Input_Details!$L$5:$L$24, MATCH($A4062, Input_Details!$J$5:$J$24, 0), 0)","v":"Southbound"},"Sun","06:30:00",0,0,0,0,0,0,0,0,0,0,0,0,0,0,0,0,0,0,0,0,0,0,0,0,0,0,0,0,0,0,0,0,"-","-","-","-",null,"Sun","06:30:00",0,3,0,0,0,0,0,0,0,0,0,0,0,0,1,2,0,0,0,0,0,0,0,0,0,0,0,0,0,0,0,0,19.5,"-",17.7,20.5,0,3,0,0,0,3,0,0,0,0,0,0,0,3,0,0,0,3]
[5,{"$f":"OFFSET(Input_Details!$Q$4,MATCH($A4094, Input_Details!$J$5:$J$24, 0), 6)","v":"2017-11-19"},{"$f":"INDEX(Input_Details!$H$5:$H$24, MATCH($A4094, Input_Details!$J$5:$J$24, 0), 0)","v":"Swan Street"},{"$f":"INDEX(Input_Details!$I$5:$I$24, MATCH($A4094, Input_Details!$J$5:$J$24, 0), 0)","v":"51.49881,-0.09521"},{"$f":"INDEX(Input_Details!$K$5:$K$24, MATCH($A4094, Input_Details!$J$5:$J$24, 0), 0)","v":"Northbound"},"Sun","14:30:00",1,9,0,0,1,0,0,0,0,0,0,0,1,0,3,5,2,0,0,0,0,0,0,0,0,0,0,0,0,0,0,0,20.3,22.6,9.8000000000000007,26.1,{"$f":"INDEX(Input_Details!$L$5:$L$24, MATCH($A4094, Input_Details!$J$5:$J$24, 0), 0)","v":"Southbound"},"Sun","14:30:00",0,0,0,0,0,0,0,0,0,0,0,0,0,0,0,0,0,0,0,0,0,0,0,0,0,0,0,0,0,0,0,0,"-","-","-","-",null,"Sun","14:30:00",1,9,0,0,1,0,0,0,0,0,0,0,1,0,3,5,2,0,0,0,0,0,0,0,0,0,0,0,0,0,0,0,20.3,22.6,9.8000000000000007,26.1,1,9,0,1,0,11,0,0,0,0,0,0,1,9,0,1,0,11]
[5,"Weekday Average",{"$f":"INDEX(Input_Details!$H$5:$H$24, MATCH($A4137, Input_Details!$J$5:$J$24, 0), 0)","v":"Swan Street"},{"$f":"INDEX(Input_Details!$I$5:$I$24, MATCH($A4137, Input_Details!$J$5:$J$24, 0), 0)","v":"51.49881,-0.09521"},{"$f":"INDEX(Input_Details!$K$5:$K$24, MATCH($A4137, Input_Details!$J$5:$J$24, 0), 0)","v":"Northbound"},"WD Ave","01:15:00",{"$f":"IF(AND(H3465=\"\",H3561=\"\",H3657=\"\",H3753=\"\",H3849=\"\"), \"-\", IF(H3465+H3561+H3657+H3753+H3849=0,0,AVERAGE(H3465,H3561,H3657,H3753,H3849)))","v":0},0.8,0,0.2,0,0,0,0,0,0,0,0,{"$f":"IF(AND(T3465=\"\",T3561=\"\",T3657=\"\",T3753=\"\",T3849=\"\"), \"-\", IF(SUM($H4137:$S4137)=0, 0, IF(T3465+T3561+T3657+T3753+T3849=0,0,AVERAGE(T3465,T3561,T3657,T3753,T3849))))","v":0},0,0,0.4,0.6,0,0,0,0,0,0,0,0,0,0,0,0,0,0,0,{"$f":"IF(SUM(H4137:S4137)=0,\"-\",AVERAGEIF(G3460:G3939,$G4137,AN3460:AN3939))","v":25.25},{"$f":"IFERROR(IF(SUM(H4137:S4137)=0,\"-\",AVERAGEIF(G3460:G3939,G4137,AO3460:AO3939)), \"-\")","v":"-"},23.6,26,{"$f":"INDEX(Input_Details!$L$5:$L$24, MATCH($A4137, Input_Details!$J$5:$J$24, 0), 0)","v":"Southbound"},"WD Ave","01:15:00",{"$f":"IF(AND(AU3465=\"\",AU3561=\"\",AU3657=\"\",AU3753=\"\",AU3849=\"\"), \"-\", IF(AU3465+AU3561+AU3657+AU3753+AU3849=0,0,AVERAGE(AU3465,AU3561,AU3657,AU3753,AU3849)))","v":0},0,0,0,0,0,0,0,0,0,0,0,{"$f":"IF(AND(BG3465=\"\",BG3561=\"\",BG3657=\"\",BG3753=\"\",BG3849=\"\"), \"-\", IF(SUM($AU4137:$BF4137)=0, 0, IF(BG3465+BG3561+BG3657+BG3753+BG3849=0,0,AVERAGE(BG3465,BG3561,BG3657,BG3753,BG3849))))","v":0},0,0,0,0,0,0,0,0,0,0,0,0,0,0,0,0,0,0,0,{"$f":"IF(SUM(AU4137:BF4137)=0,\"-\",AVERAGEIF(AT3460:AT3939,$G4137,CA3460:CA3939))","v":"-"},{"$f":"IFERROR(IF(SUM(AU4137:BF4137)=0,\"-\",AVERAGEIF(AT3460:AT3939,AT4137,CB3460:CB3939)), \"-\")","v":"-"},"-","-",null,"WD Ave","01:15:00",{"$f":"IF(AND(CH3465=\"-\",CH3561=\"-\",CH3657=\"-\",CH3753=\"-\",CH3849=\"-\"), \"-\", ROUND(AVERAGE(CH3465,CH3561,CH3657,CH3753,CH3849), 0))","v":0},1,0,0,0,0,0,0,0,0,0,0,{"$f":"IF(AND(CT3465=\"-\",CT3561=\"-\",CT3657=\"-\",CT3753=\"-\",CT3849=\"-\"), \"-\", IF(SUM($CH4137:$CS4137)=0, 0, ROUND(AVERAGE(CT3465,CT3561,CT3657,CT3753,CT3849), 0)))","v":0},0,0,0,1,0,0,0,0,0,0,0,0,0,0,0,0,0,0,0,25.25,"-",23.6,26,0,0.8,0.2,0,0,1,0,0,0,0,0,0,0,0.8,0.2,0,0,1]
[5,"Weekday Average",{"$f":"INDEX(Input_Details!$H$5:$H$24, MATCH($A4163, Input_Details!$J$5:$J$24, 0), 0)","v":"Swan Street"},{"$f":"INDEX(Input_Details!$I$5:$I$24, MATCH($A4163, Input_Details!$J$5:$J$24, 0), 0)","v":"51.49881,-0.09521"},{"$f":"INDEX(Input_Details!$K$5:$K$24, MATCH($A4163, Input_Details!$J$5:$J$24, 0), 0)","v":"Northbound"},"WD Ave","07:45:00",{"$f":"IF(AND(H3491=\"\",H3587=\"\",H3683=\"\",H3779=\"\",H3875=\"\"), \"-\", IF(H3491+H3587+H3683+H3779+H3875=0,0,AVERAGE(H3491,H3587,H3683,H3779,H3875)))","v":3.2},5.4,0,1,0.2,0,0,0,0,0,0,0,{"$f":"IF(AND(T3491=\"\",T3587=\"\",T3683=\"\",T3779=\"\",T3875=\"\"), \"-\", IF(SUM($H4163:$S4163)=0, 0, IF(T3491+T3587+T3683+T3779+T3875=0,0,AVERAGE(T3491,T3587,T3683,T3779,T3875))))","v":0.8},2.8,4.4000000000000004,0.6,1,0.2,0,0,0,0,0,0,0,0,0,0,0,0,0,0,{"$f":"IF(SUM(H4163:S4163)=0,\"-\",AVERAGEIF(G3460:G3939,$G4163,AN3460:AN3939))","v":16.46},{"$f":"IFERROR(IF(SUM(H4163:S4163)=0,\"-\",AVERAGEIF(G3460:G3939,G4163,AO3460:AO3939)), \"-\")","v":22},6.9,30.2,{"$f":"INDEX(Input_Details!$L$5:$L$24, MATCH($A4163, Input_Details!$J$5:$J$24, 0), 0)","v":"Southbound"},"WD Ave","07:45:00",{"$f":"IF(AND(AU3491=\"\",AU3587=\"\",AU3683=\"\",AU3779=\"\",AU3875=\"\"), \"-\", IF(AU3491+AU3587+AU3683+AU3779+AU3875=0,0,AVERAGE(AU3491,AU3587,AU3683,AU3779,AU3875)))","v":3.2},2,0,0,0,0,0,0,0,0,0,0,{"$f":"IF(AND(BG3491=\"\",BG3587=\"\",BG3683=\"\",BG3779=\"\",BG3875=\"\"), \"-\", IF(SUM($AU4163:$BF4163)=0, 0, IF(BG3491+BG3587+BG3683+BG3779+BG3875=0,0,AVERAGE(BG3491,BG3587,BG3683,BG3779,BG3875))))","v":0.4},3.6,1.2,0,0,0,0,0,0,0,0,0,0,0,0,0,0,0,0,0,{"$f":"IF(SUM(AU4163:BF4163)=0,\"-\",AVERAGEIF(AT3460:AT3939,$G4163,CA3460:CA3939))","v":13.419999999999998},{"$f":"IFERROR(IF(SUM(AU4163:BF4163)=0,\"-\",AVERAGEIF(AT3460:AT3939,AT4163,CB3460:CB3939)), \"-\")","v":"-"},7.9,19.100000000000001,null,"WD Ave","07:45:00",{"$f":"IF(AND(CH3491=\"-\",CH3587=\"-\",CH3683=\"-\",CH3779=\"-\",CH3875=\"-\"), \"-\", ROUND(AVERAGE(CH3491,CH3587,CH3683,CH3779,CH3875), 0))","v":6},7,0,1,0,0,0,0,0,0,0,0,{"$f":"IF(AND(CT3491=\"-\",CT3587=\"-\",CT3683=\"-\",CT3779=\"-\",CT3875=\"-\"), \"-\", IF(SUM($CH4163:$CS4163)=0, 0, ROUND(AVERAGE(CT3491,CT3587,CT3683,CT3779,CT3875), 0)))","v":1},6,6,1,1,0,0,0,0,0,0,0,0,0,0,0,0,0,0,0,15.406133333333335,22,6.9,30.2,3.2,5.4,1,0.2,0,9.8000000000000007,3.2,2,0,0,0,5.2,6.4,7.4,1,0.2,0,15]
[5,"Weekday Average",{"$f":"INDEX(Input_Details!$H$5:$H$24, MATCH($A4187, Input_Details!$J$5:$J$24, 0), 0)","v":"Swan Street"},{"$f":"INDEX(Input_Details!$I$5:$I$24, MATCH($A4187, Input_Details!$J$5:$J$24, 0), 0)","v":"51.49881,-0.09521"},{"$f":"INDEX(Input_Details!$K$5:$K$24, MATCH($A4187, Input_Details!$J$5:$J$24, 0), 0)","v":"Northbound"},"WD Ave","13:45:00",{"$f":"IF(AND(H3515=\"\",H3611=\"\",H3707=\"\",H3803=\"\",H3899=\"\"), \"-\", IF(H3515+H3611+H3707+H3803+H3899=0,0,AVERAGE(H3515,H3611,H3707,H3803,H3899)))","v":1.6},9,0,1.4,0,0,0,0,0,0,0,0,{"$f":"IF(AND(T3515=\"\",T3611=\"\",T3707=\"\",T3803=\"\",T3899=\"\"), \"-\", IF(SUM($H4187:$S4187)=0, 0, IF(T3515+T3611+T3707+T3803+T3899=0,0,AVERAGE(T3515,T3611,T3707,T3803,T3899))))","v":1},1.6,3.4,4.4000000000000004,1.2,0.2,0.2,0,0,0,0,0,0,0,0,0,0,0,0,0,{"$f":"IF(SUM(H4187:S4187)=0,\"-\",AVERAGEIF(G3460:G3939,$G4187,AN3460:AN3939))","v":19.600000000000001},{"$f":"IFERROR(IF(SUM(H4187:S4187)=0,\"-\",AVERAGEIF(G3460:G3939,G4187,AO3460:AO3939)), \"-\")","v":22.424999999999997},4.5999999999999996,37.9,{"$f":"INDEX(Input_Details!$L$5:$L$24, MATCH($A4187, Input_Details!$J$5:$J$24, 0), 0)","v":"Southbound"},"WD Ave","13:45:00",{"$f":"IF(AND(AU3515=\"\",AU3611=\"\",AU3707=\"\",AU3803=\"\",AU3899=\"\"), \"-\", IF(AU3515+AU3611+AU3707+AU3803+AU3899=0,0,AVERAGE(AU3515,AU3611,AU3707,AU3803,AU3899)))","v":0.8},0.8,0,0,0,0,0,0,0,0,0,0,{"$f":"IF(AND(BG3515=\"\",BG3611=\"\",BG3707=\"\",BG3803=\"\",BG3899=\"\"), \"-\", IF(SUM($AU4187:$BF4187)=0, 0, IF(BG3515+BG3611+BG3707+BG3803+BG3899=0,0,AVERAGE(BG3515,BG3611,BG3707,BG3803,BG3899))))","v":0.6},1,0,0,0,0,0,0,0,0,0,0,0,0,0,0,0,0,0,0,{"$f":"IF(SUM(AU4187:BF4187)=0,\"-\",AVERAGEIF(AT3460:AT3939,$G4187,CA3460:CA3939))","v":12.080000000000002},{"$f":"IFERROR(IF(SUM(AU4187:BF4187)=0,\"-\",AVERAGEIF(AT3460:AT3939,AT4187,CB3460:CB3939)), \"-\")","v":"-"},9.1,13.9,null,"WD Ave","13:45:00",{"$f":"IF(AND(CH3515=\"-\",CH3611=\"-\",CH3707=\"-\",CH3803=\"-\",CH3899=\"-\"), \"-\", ROUND(AVERAGE(CH3515,CH3611,CH3707,CH3803,CH3899), 0))","v":2},10,0,1,0,0,0,0,0,0,0,0,{"$f":"IF(AND(CT3515=\"-\",CT3611=\"-\",CT3707=\"-\",CT3803=\"-\",CT3899=\"-\"), \"-\", IF(SUM($CH4187:$CS4187)=0, 0, ROUND(AVERAGE(CT3515,CT3611,CT3707,CT3803,CT3899), 0)))","v":2},3,3,4,1,0,0,0,0,0,0,0,0,0,0,0,0,0,0,0,18.715294117647062,22.424999999999997,4.5999999999999996,37.9,1.6,9,1.4,0,0,12,0.8,0.8,0,0,0,1.6,2.4000000000000004,9.8000000000000007,1.4,0,0,13.6]
[5,"Weekday Average",{"$f":"INDEX(Input_Details!$H$5:$H$24, MATCH($A4226, Input_Details!$J$5:$J$24, 0), 0)","v":"Swan Street"},{"$f":"INDEX(Input_Details!$I$5:$I$24, MATCH($A4226, Input_Details!$J$5:$J$24, 0), 0)","v":"51.49881,-0.09521"},{"$f":"INDEX(Input_Details!$K$5:$K$24, MATCH($A4226, Input_Details!$J$5:$J$24, 0), 0)","v":"Northbound"},"WD Ave","23:30:00",{"$f":"IF(AND(H3554=\"\",H3650=\"\",H3746=\"\",H3842=\"\",H3938=\"\"), \"-\", IF(H3554+H3650+H3746+H3842+H3938=0,0,AVERAGE(H3554,H3650,H3746,H3842,H3938)))","v":0.8},1.2,0,0,0,0,0,0,0,0,0,0,{"$f":"IF(AND(T3554=\"\",T3650=\"\",T3746=\"\",T3842=\"\",T3938=\"\"), \"-\", IF(SUM($H4226:$S4226)=0, 0, IF(T3554+T3650+T3746+T3842+T3938=0,0,AVERAGE(T3554,T3650,T3746,T3842,T3938))))","v":0},0.2,0.2,0.4,0.6,0.2,0.2,0.2,0,0,0,0,0,0,0,0,0,0,0,0,{"$f":"IF(SUM(H4226:S4226)=0,\"-\",AVERAGEIF(G3460:G3939,$G4226,AN3460:AN3939))","v":25.779999999999994},{"$f":"IFERROR(IF(SUM(H4226:S4226)=0,\"-\",AVERAGEIF(G3460:G3939,G4226,AO3460:AO3939)), \"-\")","v":"-"},12.7,40.4,{"$f":"INDEX(Input_Details!$L$5:$L$24, MATCH($A4226, Input_Details!$J$5:$J$24, 0), 0)","v":"Southbound"},"WD Ave","23:30:00",{"$f":"IF(AND(AU3554=\"\",AU3650=\"\",AU3746=\"\",AU3842=\"\",AU3938=\"\"), \"-\", IF(AU3554+AU3650+AU3746+AU3842+AU3938=0,0,AVERAGE(AU3554,AU3650,AU3746,AU3842,AU3938)))","v":0.6},0,0,0,0,0,0,0,0,0,0,0,{"$f":"IF(AND(BG3554=\"\",BG3650=\"\",BG3746=\"\",BG3842=\"\",BG3938=\"\"), \"-\", IF(SUM($AU4226:$BF4226)=0, 0, IF(BG3554+BG3650+BG3746+BG3842+BG3938=0,0,AVERAGE(BG3554,BG3650,BG3746,BG3842,BG3938))))","v":0.2},0.4,0,0,0,0,0,0,0,0,0,0,0,0,0,0,0,0,0,0,{"$f":"IF(SUM(AU4226:BF4226)=0,\"-\",AVERAGEIF(AT3460:AT3939,$G4226,CA3460:CA3939))","v":10.333333333333334},{"$f":"IFERROR(IF(SUM(AU4226:BF4226)=0,\"-\",AVERAGEIF(AT3460:AT3939,AT4226,CB3460:CB3939)), \"-\")","v":"-"},8,12.1,null,"WD Ave","23:30:00",{"$f":"IF(AND(CH3554=\"-\",CH3650=\"-\",CH3746=\"-\",CH3842=\"-\",CH3938=\"-\"), \"-\", ROUND(AVERAGE(CH3554,CH3650,CH3746,CH3842,CH3938), 0))","v":1},1,0,0,0,0,0,0,0,0,0,0,{"$f":"IF(AND(CT3554=\"-\",CT3650=\"-\",CT3746=\"-\",CT3842=\"-\",CT3938=\"-\"), \"-\", IF(SUM($CH4226:$CS4226)=0, 0, ROUND(AVERAGE(CT3554,CT3650,CT3746,CT3842,CT3938), 0)))","v":0},1,0,0,1,0,0,0,0,0,0,0,0,0,0,0,0,0,0,0,22.215384615384611,"-",8,40.4,0.8,1.2,0,0,0,2,0.6,0,0,0,0,0.6,1.4,1.2,0,0,0,2.6]
[5,"7-Day Average",{"$f":"INDEX(Input_Details!$H$5:$H$24, MATCH($A4264, Input_Details!$J$5:$J$24, 0), 0)","v":"Swan Street"},{"$f":"INDEX(Input_Details!$I$5:$I$24, MATCH($A4264, Input_Details!$J$5:$J$24, 0), 0)","v":"51.49881,-0.09521"},{"$f":"INDEX(Input_Details!$K$5:$K$24, MATCH($A4264, Input_Details!$J$5:$J$24, 0), 0)","v":"Northbound"},"7 Day Ave","09:00:00",{"$f":"IF(AND(H3496=\"\",H3592=\"\",H3688=\"\",H3784=\"\",H3880=\"\",H3976=\"\",H4072=\"\"), \"-\", IF(H3496+H3592+H3688+H3784+H3880+H3976+H4072=0,0,AVERAGE(H3496,H3592,H3688,H3784,H3880,H3976,H4072)))","v":2.4285714285714284},4,0,1.1428571428571428,0.5714285714285714,0,0,0,0,0,0,0,{"$f":"IF(AND(T3496=\"\",T3592=\"\",T3688=\"\",T3784=\"\",T3880=\"\",T3976=\"\",T4072=\"\"), \"-\", IF(SUM($H4264:$S4264)=0, 0, IF(T3496+T3592+T3688+T3784+T3880+T3976+T4072=0,0,AVERAGE(T3496,T3592,T3688,T3784,T3880,T3976,T4072))))","v":0.2857142857142857},2.8571428571428572,2.4285714285714284,1.4285714285714286,1,0.14285714285714285,0,0,0,0,0,0,0,0,0,0,0,0,0,0,{"$f":"IF(SUM(H4264:S4264)=0,\"-\",AVERAGEIF(G3460:G4131,$G4264,AN3460:AN4131))","v":18.385714285714283},{"$f":"IFERROR(IF(SUM(H4264:S4264)=0,\"-\",AVERAGEIF(G3460:G4131,G4264,AO3460:AO4131)), \"-\")","v":23.25},5.9,31.2,{"$f":"INDEX(Input_Details!$L$5:$L$24, MATCH($A4264, Input_Details!$J$5:$J$24, 0), 0)","v":"Southbound"},"7 Day Ave","09:00:00",{"$f":"IF(AND(AU3496=\"\",AU3592=\"\",AU3688=\"\",AU3784=\"\",AU3880=\"\",AU3976=\"\",AU4072=\"\"), \"-\", IF(AU3496+AU3592+AU3688+AU3784+AU3880+AU3976+AU4072=0,0,AVERAGE(AU3496,AU3592,AU3688,AU3784,AU3880,AU3976,AU4072)))","v":4},0.14285714285714285,0,0,0,0,0,0,0,0,0,0,{"$f":"IF(AND(BG3496=\"\",BG3592=\"\",BG3688=\"\",BG3784=\"\",BG3880=\"\",BG3976=\"\",BG4072=\"\"), \"-\", IF(SUM($AU4264:$BF4264)=0, 0, IF(BG3496+BG3592+BG3688+BG3784+BG3880+BG3976+BG4072=0,0,AVERAGE(BG3496,BG3592,BG3688,BG3784,BG3880,BG3976,BG4072))))","v":0.14285714285714285},3.1428571428571428,0.8571428571428571,0,0,0,0,0,0,0,0,0,0,0,0,0,0,0,0,0,{"$f":"IF(SUM(AU4264:BF4264)=0,\"-\",AVERAGEIF(AT3460:AT4131,$G4264,CA3460:CA4131))","v":13.419999999999998},{"$f":"IFERROR(IF(SUM(AU4264:BF4264)=0,\"-\",AVERAGEIF(AT3460:AT4131,AT4264,CB3460:CB4131)), \"-\")","v":"-"},9.9,16.100000000000001,null,"7 Day Ave","09:00:00",{"$f":"IF(AND(CH3496=\"-\",CH3592=\"-\",CH3688=\"-\",CH3784=\"-\",CH3880=\"-\",CH3976=\"-\",CH4072=\"-\"), \"-\", ROUND(AVERAGE(CH3496,CH3592,CH3688,CH3784,CH3880,CH3976,CH4072),0))","v":6},4,0,1,1,0,0,0,0,0,0,0,{"$f":"IF(AND(CT3496=\"-\",CT3592=\"-\",CT3688=\"-\",CT3784=\"-\",CT3880=\"-\",CT3976=\"-\",CT4072=\"-\"), \"-\", IF(SUM($CH4264:$CS4264)=0, 0, ROUND(AVERAGE(CT3496,CT3592,CT3688,CT3784,CT3880,CT3976,CT4072),0)))","v":0},6,3,1,1,0,0,0,0,0,0,0,0,0,0,0,0,0,0,0,16.711229235880399,23.25,5.9,31.2,2.4285714285714284,4,1.1428571428571428,0.5714285714285714,0,8.1428571428571423,4,0.14285714285714285,0,0,0,4.1428571428571432,6.4285714285714288,4.1428571428571432,1.1428571428571428,0.5714285714285714,0,12.285714285714285]
[5,"7-Day Average",{"$f":"INDEX(Input_Details!$H$5:$H$24, MATCH($A4309, Input_Details!$J$5:$J$24, 0), 0)","v":"Swan Street"},{"$f":"INDEX(Input_Details!$I$5:$I$24, MATCH($A4309, Input_Details!$J$5:$J$24, 0), 0)","v":"51.49881,-0.09521"},{"$f":"INDEX(Input_Details!$K$5:$K$24, MATCH($A4309, Input_Details!$J$5:$J$24, 0), 0)","v":"Northbound"},"7 Day Ave","20:15:00",{"$f":"IF(AND(H3541=\"\",H3637=\"\",H3733=\"\",H3829=\"\",H3925=\"\",H4021=\"\",H4117=\"\"), \"-\", IF(H3541+H3637+H3733+H3829+H3925+H4021+H4117=0,0,AVERAGE(H3541,H3637,H3733,H3829,H3925,H4021,H4117)))","v":2.8571428571428572},4.5714285714285712,0,0.14285714285714285,0.14285714285714285,0,0,0,0,0,0,0,{"$f":"IF(AND(T3541=\"\",T3637=\"\",T3733=\"\",T3829=\"\",T3925=\"\",T4021=\"\",T4117=\"\"), \"-\", IF(SUM($H4309:$S4309)=0, 0, IF(T3541+T3637+T3733+T3829+T3925+T4021+T4117=0,0,AVERAGE(T3541,T3637,T3733,T3829,T3925,T4021,T4117))))","v":0},1.1428571428571428,0.8571428571428571,3.1428571428571428,2,0.5714285714285714,0,0,0,0,0,0,0,0,0,0,0,0,0,0,{"$f":"IF(SUM(H4309:S4309)=0,\"-\",AVERAGEIF(G3460:G4131,$G4309,AN3460:AN4131))","v":22.671428571428574},{"$f":"IFERROR(IF(SUM(H4309:S4309)=0,\"-\",AVERAGEIF(G3460:G4131,G4309,AO3460:AO4131)), \"-\")","v":27.7},11.1,33.9,{"$f":"INDEX(Input_Details!$L$5:$L$24, MATCH($A4309, Input_Details!$J$5:$J$24, 0), 0)","v":"Southbound"},"7 Day Ave","20:15:00",{"$f":"IF(AND(AU3541=\"\",AU3637=\"\",AU3733=\"\",AU3829=\"\",AU3925=\"\",AU4021=\"\",AU4117=\"\"), \"-\", IF(AU3541+AU3637+AU3733+AU3829+AU3925+AU4021+AU4117=0,0,AVERAGE(AU3541,AU3637,AU3733,AU3829,AU3925,AU4021,AU4117)))","v":1.4285714285714286},0.14285714285714285,0,0,0.14285714285714285,0,0,0,0,0,0,0,{"$f":"IF(AND(BG3541=\"\",BG3637=\"\",BG3733=\"\",BG3829=\"\",BG3925=\"\",BG4021=\"\",BG4117=\"\"), \"-\", IF(SUM($AU4309:$BF4309)=0, 0, IF(BG3541+BG3637+BG3733+BG3829+BG3925+BG4021+BG4117=0,0,AVERAGE(BG3541,BG3637,BG3733,BG3829,BG3925,BG4021,BG4117))))","v":0.14285714285714285},1.4285714285714286,0.14285714285714285,0,0,0,0,0,0,0,0,0,0,0,0,0,0,0,0,0,{"$f":"IF(SUM(AU4309:BF4309)=0,\"-\",AVERAGEIF(AT3460:AT4131,$G4309,CA3460:CA4131))","v":12.48},{"$f":"IFERROR(IF(SUM(AU4309:BF4309)=0,\"-\",AVERAGEIF(AT3460:AT4131,AT4309,CB3460:CB4131)), \"-\")","v":"-"},9.1,15.2,null,"7 Day Ave","20:15:00",{"$f":"IF(AND(CH3541=\"-\",CH3637=\"-\",CH3733=\"-\",CH3829=\"-\",CH3925=\"-\",CH4021=\"-\",CH4117=\"-\"), \"-\", ROUND(AVERAGE(CH3541,CH3637,CH3733,CH3829,CH3925,CH4021,CH4117),0))","v":4},5,0,0,0,0,0,0,0,0,0,0,{"$f":"IF(AND(CT3541=\"-\",CT3637=\"-\",CT3733=\"-\",CT3829=\"-\",CT3925=\"-\",CT4021=\"-\",CT4117=\"-\"), \"-\", IF(SUM($CH4309:$CS4309)=0, 0, ROUND(AVERAGE(CT3541,CT3637,CT3733,CT3829,CT3925,CT4021,CT4117),0)))","v":0},3,1,3,2,1,0,0,0,0,0,0,0,0,0,0,0,0,0,0,20.818441558441567,27.7,9.1,33.9,2.8571428571428572,4.5714285714285712,0.14285714285714285,0.14285714285714285,0,7.7142857142857153,1.4285714285714286,0.14285714285714285,0,0.14285714285714285,0,1.7142857142857142,4.2857142857142856,4.7142857142857144,0.14285714285714285,0.2857142857142857,0,9.4285714285714288]
[6,{"$f":"OFFSET(Input_Details!$Q$4,MATCH($A4348, Input_Details!$J$5:$J$24, 0), 0)","v":"2017-11-20"},{"$f":"INDEX(Input_Details!$H$5:$H$24, MATCH($A4348, Input_Details!$J$5:$J$24, 0), 0)","v":"Avonmouth Street"},{"$f":"INDEX(Input_Details!$I$5:$I$24, MATCH($A4348, Input_Details!$J$5:$J$24, 0), 0)","v":"51.49805,-0.09771"},{"$f":"INDEX(Input_Details!$K$5:$K$24, MATCH($A4348, Input_Details!$J$5:$J$24, 0), 0)","v":"Northbound"},"Mon","06:00:00",0,3,0,1,0,0,0,0,0,0,0,0,0,2,2,0,0,0,0,0,0,0,0,0,0,0,0,0,0,0,0,0,14.5,"-",12.7,16.2,{"$f":"INDEX(Input_Details!$L$5:$L$24, MATCH($A4348, Input_Details!$J$5:$J$24, 0), 0)","v":"Southbound"},"Mon","06:00:00",0,3,0,0,0,0,0,0,0,0,0,0,1,1,1,0,0,0,0,0,0,0,0,0,0,0,0,0,0,0,0,0,12.5,"-",9.6,16.100000000000001,null,"Mon","06:00:00",0,6,0,1,0,0,0,0,0,0,0,0,1,3,3,0,0,0,0,0,0,0,0,0,0,0,0,0,0,0,0,0,13.642857142857142,"-",9.6,16.2,0,3,1,0,0,4,0,3,0,0,0,3,0,6,1,0,0,7,4,1,2,3,3,3,1,3,1,0,1,3,2,2,7,2,2,4,6,5,3]
[6,{"$f":"OFFSET(Input_Details!$Q$4,MATCH($A4365, Input_Details!$J$5:$J$24, 0), 0)","v":"2017-11-20"},{"$f":"INDEX(Input_Details!$H$5:$H$24, MATCH($A4365, Input_Details!$J$5:$J$24, 0), 0)","v":"Avonmouth Street"},{"$f":"INDEX(Input_Details!$I$5:$I$24, MATCH($A4365, Input_Details!$J$5:$J$24, 0), 0)","v":"51.49805,-0.09771"},{"$f":"INDEX(Input_Details!$K$5:$K$24, MATCH($A4365, Input_Details!$J$5:$J$24, 0), 0)","v":"Northbound"},"Mon","10:15:00",0,5,0,0,0,0,0,0,0,0,0,0,1,3,1,0,0,0,0,0,0,0,0,0,0,0,0,0,0,0,0,0,12.2,"-",9,16,{"$f":"INDEX(Input_Details!$L$5:$L$24, MATCH($A4365, Input_Details!$J$5:$J$24, 0), 0)","v":"Southbound"},"Mon","10:15:00",3,3,0,1,0,0,0,0,0,0,0,0,0,4,3,0,0,0,0,0,0,0,0,0,0,0,0,0,0,0,0,0,13.4,"-",11,17,null,"Mon","10:15:00",3,8,0,1,0,0,0,0,0,0,0,0,1,7,4,0,0,0,0,0,0,0,0,0,0,0,0,0,0,0,0,0,12.9,"-",9,17,0,5,0,0,0,5,3,3,1,0,0,7,3,8,1,0,0,12,5,4,1,0,6,3,9,7,4,4,7,8,1,9,12,8,5,7,14,4,18]
[6,{"$f":"OFFSET(Input_Details!$Q$4,MATCH($A4398, Input_Details!$J$5:$J$24, 0), 0)","v":"2017-11-20"},{"$f":"INDEX(Input_Details!$H$5:$H$24, MATCH($A4398, Input_Details!$J$5:$J$24, 0), 0)","v":"Avonmouth Street"},{"$f":"INDEX(Input_Details!$I$5:$I$24, MATCH($A4398, Input_Details!$J$5:$J$24, 0), 0)","v":"51.49805,-0.09771"},{"$f":"INDEX(Input_Details!$K$5:$K$24, MATCH($A4398, Input_Details!$J$5:$J$24, 0), 0)","v":"Northbound"},"Mon","18:30:00",2,3,0,0,0,0,0,0,0,0,0,0,0,3,2,0,0,0,0,0,0,0,0,0,0,0,0,0,0,0,0,0,14.7,"-",11.2,18.399999999999999,{"$f":"INDEX(Input_Details!$L$5:$L$24, MATCH($A4398, Input_Details!$J$5:$J$24, 0), 0)","v":"Southbound"},"Mon","18:30:00",2,3,0,0,0,0,0,0,0,0,0,0,0,3,2,0,0,0,0,0,0,0,0,0,0,0,0,0,0,0,0,0,13.7,"-",10.6,17.399999999999999,null,"Mon","18:30:00",4,6,0,0,0,0,0,0,0,0,0,0,0,6,4,0,0,0,0,0,0,0,0,0,0,0,0,0,0,0,0,0,14.2,"-",10.6,18.399999999999999,2,3,0,0,0,5,2,3,0,0,0,5,4,6,0,0,0,10,5,1,2,8,6,4,16,5,5,8,13,8,9,11,10,6,10,21,14,13,27]
[6,{"$f":"OFFSET(Input_Details!$Q$4,MATCH($A4437, Input_Details!$J$5:$J$24, 0), 1)","v":"2017-11-21"},{"$f":"INDEX(Input_Details!$H$5:$H$24, MATCH($A4437, Input_Details!$J$5:$J$24, 0), 0)","v":"Avonmouth Street"},{"$f":"INDEX(Input_Details!$I$5:$I$24, MATCH($A4437, Input_Details!$J$5:$J$24, 0), 0)","v":"51.49805,-0.09771"},{"$f":"INDEX(Input_Details!$K$5:$K$24, MATCH($A4437, Input_Details!$J$5:$J$24, 0), 0)","v":"Northbound"},"Tues","04:15:00",0,0,0,0,0,0,0,0,0,0,0,0,0,0,0,0,0,0,0,0,0,0,0,0,0,0,0,0,0,0,0,0,"-","-","-","-",{"$f":"INDEX(Input_Details!$L$5:$L$24, MATCH($A4437, Input_Details!$J$5:$J$24, 0), 0)","v":"Southbound"},"Tues","04:15:00",0,0,0,0,0,0,0,0,0,0,0,0,0,0,0,0,0,0,0,0,0,0,0,0,0,0,0,0,0,0,0,0,"-","-","-","-",null,"Tues","04:15:00",0,0,0,0,0,0,0,0,0,0,0,0,0,0,0,0,0,0,0,0,0,0,0,0,0,0,0,0,0,0,0,0,"-","-","-","-",0,0,0,0,0,0,0,0,0,0,0,0,0,0,0,0,0,0]
[6,{"$f":"OFFSET(Input_Details!$Q$4,MATCH($A4450, Input_Details!$J$5:$J$24, 0), 1)","v":"2017-11-21"},{"$f":"INDEX(Input_Details!$H$5:$H$24, MATCH($A4450, Input_Details!$J$5:$J$24, 0), 0)","v":"Avonmouth Street"},{"$f":"INDEX(Input_Details!$I$5:$I$24, MATCH($A4450, Input_Details!$J$5:$J$24, 0), 0)","v":"51.49805,-0.09771"},{"$f":"INDEX(Input_Details!$K$5:$K$24, MATCH($A4450, Input_Details!$J$5:$J$24, 0), 0)","v":"Northbound"},"Tues","07:30:00",1,3,0,1,0,0,0,0,0,0,0,0,2,3,0,0,0,0,0,0,0,0,0,0,0,0,0,0,0,0,0,0,10.9,"-",9.3000000000000007,12.1,{"$f":"INDEX(Input_Details!$L$5:$L$24, MATCH($A4450, Input_Details!$J$5:$J$24, 0), 0)","v":"Southbound"},"Tues","07:30:00",0,4,0,0,0,0,0,0,0,0,0,0,0,3,1,0,0,0,0,0,0,0,0,0,0,0,0,0,0,0,0,0,14.1,"-",12.2,16,null,"Tues","07:30:00",1,7,0,1,0,0,0,0,0,0,0,0,2,6,1,0,0,0,0,0,0,0,0,0,0,0,0,0,0,0,0,0,12.322222222222223,"-",9.3000000000000007,16,1,3,1,0,0,5,0,4,0,0,0,4,1,7,1,0,0,9]
[6,{"$f":"OFFSET(Input_Details!$Q$4,MATCH($A4487, Input_Details!$J$5:$J$24, 0), 1)","v":"2017-11-21"},{"$f":"INDEX(Input_Details!$H$5:$H$24, MATCH($A4487, Input_Details!$J$5:$J$24, 0), 0)","v":"Avonmouth Street"},{"$f":"INDEX(Input_Details!$I$5:$I$24, MATCH($A4487, Input_Details!$J$5:$J$24, 0), 0)","v":"51.49805,-0.09771"},{"$f":"INDEX(Input_Details!$K$5:$K$24, MATCH($A4487, Input_Details!$J$5:$J$24, 0), 0)","v":"Northbound"},"Tues","16:45:00",1,3,0,0,0,0,0,0,0,0,0,0,0,2,2,0,0,0,0,0,0,0,0,0,0,0,0,0,0,0,0,0,13.8,"-",11.9,15.5,{"$f":"INDEX(Input_Details!$L$5:$L$24, MATCH($A4487, Input_Details!$J$5:$J$24, 0), 0)","v":"Southbound"},"Tues","16:45:00",0,0,0,1,0,0,0,0,0,0,0,0,0,0,1,0,0,0,0,0,0,0,0,0,0,0,0,0,0,0,0,0,15.7,"-",15.7,15.7,null,"Tues","16:45:00",1,3,0,1,0,0,0,0,0,0,0,0,0,2,3,0,0,0,0,0,0,0,0,0,0,0,0,0,0,0,0,0,14.180000000000001,"-",11.9,15.7,1,3,0,0,0,4,0,0,1,0,0,1,1,3,1,0,0,5]
[6,{"$f":"OFFSET(Input_Details!$Q$4,MATCH($A4526, Input_Details!$J$5:$J$24, 0), 2)","v":"2017-11-22"},{"$f":"INDEX(Input_Details!$H$5:$H$24, MATCH($A4526, Input_Details!$J$5:$J$24, 0), 0)","v":"Avonmouth Street"},{"$f":"INDEX(Input_Details!$I$5:$I$24, MATCH($A4526, Input_Details!$J$5:$J$24, 0), 0)","v":"51.49805,-0.09771"},{"$f":"INDEX(Input_Details!$K$5:$K$24, MATCH($A4526, Input_Details!$J$5:$J$24, 0), 0)","v":"Northbound"},"Wed","02:30:00",0,1,0,0,0,0,0,0,0,0,0,0,0,0,1,0,0,0,0,0,0,0,0,0,0,0,0,0,0,0,0,0,19.3,"-",19.3,19.3,{"$f":"INDEX(Input_Details!$L$5:$L$24, MATCH($A4526, Input_Details!$J$5:$J$24, 0), 0)","v":"Southbound"},"Wed","02:30:00",0,2,0,0,0,0,0,0,0,0,0,0,0,0,2,0,0,0,0,0,0,0,0,0,0,0,0,0,0,0,0,0,17.899999999999999,"-",17.2,18.5,null,"Wed","02:30:00",0,3,0,0,0,0,0,0,0,0,0,0,0,0,3,0,0,0,0,0,0,0,0,0,0,0,0,0,0,0,0,0,18.366666666666664,"-",17.2,19.3,0,1,0,0,0,1,0,2,0,0,0,2,0,3,0,0,0,3]
[6,{"$f":"OFFSET(Input_Details!$Q$4,MATCH($A4551, Input_Details!$J$5:$J$24, 0), 2)","v":"2017-11-22"},{"$f":"INDEX(Input_Details!$H$5:$H$24, MATCH($A4551, Input_Details!$J$5:$J$24, 0), 0)","v":"Avonmouth Street"},{"$f":"INDEX(Input_Details!$I$5:$I$24, MATCH($A4551, Input_Details!$J$5:$J$24, 0), 0)","v":"51.49805,-0.09771"},{"$f":"INDEX(Input_Details!$K$5:$K$24, MATCH($A4551, Input_Details!$J$5:$J$24, 0), 0)","v":"Northbound"},"Wed","08:45:00",0,4,0,0,0,0,0,0,0,0,0,0,0,3,0,1,0,0,0,0,0,0,0,0,0,0,0,0,0,0,0,0,15.7,"-",12.8,21.5,{"$f":"INDEX(Input_Details!$L$5:$L$24, MATCH($A4551, Input_Details!$J$5:$J$24, 0), 0)","v":"Southbound"},"Wed","08:45:00",0,2,0,0,0,0,0,0,0,0,0,0,1,1,0,0,0,0,0,0,0,0,0,0,0,0,0,0,0,0,0,0,10.199999999999999,"-",10,10.3,null,"Wed","08:45:00",0,6,0,0,0,0,0,0,0,0,0,0,1,4,0,1,0,0,0,0,0,0,0,0,0,0,0,0,0,0,0,0,13.866666666666665,"-",10,21.5,0,4,0,0,0,4,0,2,0,0,0,2,0,6,0,0,0,6]
[6,{"$f":"OFFSET(Input_Details!$Q$4,MATCH($A4609, Input_Details!$J$5:$J$24, 0), 2)","v":"2017-11-22"},{"$f":"INDEX(Input_Details!$H$5:$H$24, MATCH($A4609, Input_Details!$J$5:$J$24, 0), 0)","v":"Avonmouth Street"},{"$f":"INDEX(Input_Details!$I$5:$I$24, MATCH($A4609, Input_Details!$J$5:$J$24, 0), 0)","v":"51.49805,-0.09771"},{"$f":"INDEX(Input_Details!$K$5:$K$24, MATCH($A4609, Input_Details!$J$5:$J$24, 0), 0)","v":"Northbound"},"Wed","23:15:00",0,2,0,0,0,0,0,0,0,0,0,0,0,0,2,0,0,0,0,0,0,0,0,0,0,0,0,0,0,0,0,0,17.399999999999999,"-",17,17.8,{"$f":"INDEX(Input_Details!$L$5:$L$24, MATCH($A4609, Input_Details!$J$5:$J$24, 0), 0)","v":"Southbound"},"Wed","23:15:00",0,3,0,0,0,0,0,0,0,0,0,0,0,1,2,0,0,0,0,0,0,0,0,0,0,0,0,0,0,0,0,0,16.399999999999999,"-",14.3,17.7,null,"Wed","23:15:00",0,5,0,0,0,0,0,0,0,0,0,0,0,1,4,0,0,0,0,0,0,0,0,0,0,0,0,0,0,0,0,0,16.8,"-",14.3,17.8,0,2,0,0,0,2,0,3,0,0,0,3,0,5,0,0,0,5]
[6,{"$f":"OFFSET(Input_Details!$Q$4,MATCH($A4619, Input_Details!$J$5:$J$24, 0), 3)","v":"2017-11-23"},{"$f":"INDEX(Input_Details!$H$5:$H$24, MATCH($A4619, Input_Details!$J$5:$J$24, 0), 0)","v":"Avonmouth Street"},{"$f":"INDEX(Input_Details!$I$5:$I$24, MATCH($A4619, Input_Details!$J$5:$J$24, 0), 0)","v":"51.49805,-0.09771"},{"$f":"INDEX(Input_Details!$K$5:$K$24, MATCH($A4619, Input_Details!$J$5:$J$24, 0), 0)","v":"Northbound"},"Thu","01:45:00",0,2,0,0,0,0,0,0,0,0,0,0,1,0,1,0,0,0,0,0,0,0,0,0,0,0,0,0,0,0,0,0,12.6,"-",9.8000000000000007,15.3,{"$f":"INDEX(Input_Details!$L$5:$L$24, MATCH($A4619, Input_Details!$J$5:$J$24, 0), 0)","v":"Southbound"},"Thu","01:45:00",0,0,0,0,0,0,0,0,0,0,0,0,0,0,0,0,0,0,0,0,0,0,0,0,0,0,0,0,0,0,0,0,"-","-","-","-",null,"Thu","01:45:00",0,2,0,0,0,0,0,0,0,0,0,0,1,0,1,0,0,0,0,0,0,0,0,0,0,0,0,0,0,0,0,0,12.6,"-",9.8000000000000007,15.3,0,2,0,0,0,2,0,0,0,0,0,0,0,2,0,0,0,2]
[6,{"$f":"OFFSET(Input_Details!$Q$4,MATCH($A4652, Input_Details!$J$5:$J$24, 0), 3)","v":"2017-11-23"},{"$f":"INDEX(Input_Details!$H$5:$H$24, MATCH($A4652, Input_Details!$J$5:$J$24, 0), 0)","v":"Avonmouth Street"},{"$f":"INDEX(Input_Details!$I$5:$I$24, MATCH($A4652, Input_Details!$J$5:$J$24, 0), 0)","v":"51.49805,-0.09771"},{"$f":"INDEX(Input_Details!$K$5:$K$24, MATCH($A4652, Input_Details!$J$5:$J$24, 0), 0)","v":"Northbound"},"Thu","10:00:00",0,4,0,0,0,0,0,0,0,0,0,0,0,4,0,0,0,0,0,0,0,0,0,0,0,0,0,0,0,0,0,0,12.5,"-",10.4,14.3,{"$f":"INDEX(Input_Details!$L$5:$L$24, MATCH($A4652, Input_Details!$J$5:$J$24, 0), 0)","v":"Southbound"},"Thu","10:00:00",0,1,0,1,0,0,0,0,0,0,0,0,1,1,0,0,0,0,0,0,0,0,0,0,0,0,0,0,0,0,0,0,11.2,"-",9.1999999999999993,13.2,null,"Thu","10:00:00",0,5,0,1,0,0,0,0,0,0,0,0,1,5,0,0,0,0,0,0,0,0,0,0,0,0,0,0,0,0,0,0,12.066666666666668,"-",9.1999999999999993,14.3,0,4,0,0,0,4,0,1,1,0,0,2,0,5,1,0,0,6]
[6,{"$f":"OFFSET(Input_Details!$Q$4,MATCH($A4698, Input_Details!$J$5:$J$24, 0), 3)","v":"2017-11-23"},{"$f":"INDEX(Input_Details!$H$5:$H$24, MATCH($A4698, Input_Details!$J$5:$J$24, 0), 0)","v":"Avonmouth Street"},{"$f":"INDEX(Input_Details!$I$5:$I$24, MATCH($A4698, Input_Details!$J$5:$J$24, 0), 0)","v":"51.49805,-0.09771"},{"$f":"INDEX(Input_Details!$K$5:$K$24, MATCH($A4698, Input_Details!$J$5:$J$24, 0), 0)","v":"Northbound"},"Thu","21:30:00",1,3,0,0,0,0,0,0,0,0,0,0,0,4,0,0,0,0,0,0,0,0,0,0,0,0,0,0,0,0,0,0,11.8,"-",10.6,13.7,{"$f":"INDEX(Input_Details!$L$5:$L$24, MATCH($A4698, Input_Details!$J$5:$J$24, 0), 0)","v":"Southbound"},"Thu","21:30:00",1,3,0,0,0,0,0,0,0,0,0,0,0,2,2,0,0,0,0,0,0,0,0,0,0,0,0,0,0,0,0,0,14.5,"-",11.3,16.5,null,"Thu","21:30:00",2,6,0,0,0,0,0,0,0,0,0,0,0,6,2,0,0,0,0,0,0,0,0,0,0,0,0,0,0,0,0,0,13.15,"-",10.6,16.5,1,3,0,0,0,4,1,3,0,0,0,4,2,6,0,0,0,8]
[6,{"$f":"OFFSET(Input_Details!$Q$4,MATCH($A4741, Input_Details!$J$5:$J$24, 0), 4)","v":"2017-11-17"},{"$f":"INDEX(Input_Details!$H$5:$H$24, MATCH($A4741, Input_Details!$J$5:$J$24, 0), 0)","v":"Avonmouth Street"},{"$f":"INDEX(Input_Details!$I$5:$I$24, MATCH($A4741, Input_Details!$J$5:$J$24, 0), 0)","v":"51.49805,-0.09771"},{"$f":"INDEX(Input_Details!$K$5:$K$24, MATCH($A4741, Input_Details!$J$5:$J$24, 0), 0)","v":"Northbound"},"Fri","08:15:00",0,1,0,2,0,0,0,0,0,0,0,0,1,2,0,0,0,0,0,0,0,0,0,0,0,0,0,0,0,0,0,0,12.4,"-",8.4,14.5,{"$f":"INDEX(Input_Details!$L$5:$L$24, MATCH($A4741, Input_Details!$J$5:$J$24, 0), 0)","v":"Southbound"},"Fri","08:15:00",0,1,0,0,0,0,0,0,0,0,0,0,0,0,1,0,0,0,0,0,0,0,0,0,0,0,0,0,0,0,0,0,16.600000000000001,"-",16.600000000000001,16.600000000000001,null,"Fri","08:15:00",0,2,0,2,0,0,0,0,0,0,0,0,1,2,1,0,0,0,0,0,0,0,0,0,0,0,0,0,0,0,0,0,13.450000000000001,"-",8.4,16.600000000000001,0,1,2,0,{"$f":"IF(DR4741=\"-\", \"-\", SUM(M4741:S4741))","v":0},3,0,1,0,{"$f":"IF(DX4741=\"-\", \"-\", AY4741)","v":0},{"$f":"IF(DX4741=\"-\", \"-\", SUM(AZ4741:BF4741))","v":0},1,0,2,2,0,0,4]
[6,{"$f":"OFFSET(Input_Details!$Q$4,MATCH($A4753, Input_Details!$J$5:$J$24, 0), 4)","v":"2017-11-17"},{"$f":"INDEX(Input_Details!$H$5:$H$24, MATCH($A4753, Input_Details!$J$5:$J$24, 0), 0)","v":"Avonmouth Street"},{"$f":"INDEX(Input_Details!$I$5:$I$24, MATCH($A4753, Input_Details!$J$5:$J$24, 0), 0)","v":"51.49805,-0.09771"},{"$f":"INDEX(Input_Details!$K$5:$K$24, MATCH($A4753, Input_Details!$J$5:$J$24, 0), 0)","v":"Northbound"},"Fri","11:15:00",0,1,0,0,0,0,0,0,0,0,0,0,0,1,0,0,0,0,0,0,0,0,0,0,0,0,0,0,0,0,0,0,14.3,"-",14.3,14.3,{"$f":"INDEX(Input_Details!$L$5:$L$24, MATCH($A4753, Input_Details!$J$5:$J$24, 0), 0)","v":"Southbound"},"Fri","11:15:00",1,1,0,0,0,0,0,0,0,0,0,0,1,0,1,0,0,0,0,0,0,0,0,0,0,0,0,0,0,0,0,0,9.4,"-",1.8,17,null,"Fri","11:15:00",1,2,0,0,0,0,0,0,0,0,0,0,1,1,1,0,0,0,0,0,0,0,0,0,0,0,0,0,0,0,0,0,11.033333333333333,"-",1.8,17,0,1,0,0,0,1,1,1,0,0,0,2,1,2,0,0,0,3]
[6,{"$f":"OFFSET(Input_Details!$Q$4,MATCH($A4787, Input_Details!$J$5:$J$24, 0), 4)","v":"2017-11-17"},{"$f":"INDEX(Input_Details!$H$5:$H$24, MATCH($A4787, Input_Details!$J$5:$J$24, 0), 0)","v":"Avonmouth Street"},{"$f":"INDEX(Input_Details!$I$5:$I$24, MATCH($A4787, Input_Details!$J$5:$J$24, 0), 0)","v":"51.49805,-0.09771"},{"$f":"INDEX(Input_Details!$K$5:$K$24, MATCH($A4787, Input_Details!$J$5:$J$24, 0), 0)","v":"Northbound"},"Fri","19:45:00",1,0,0,0,0,0,0,0,0,0,0,0,0,0,1,0,0,0,0,0,0,0,0,0,0,0,0,0,0,0,0,0,15.6,"-",15.6,15.6,{"$f":"INDEX(Input_Details!$L$5:$L$24, MATCH($A4787, Input_Details!$J$5:$J$24, 0), 0)","v":"Southbound"},"Fri","19:45:00",1,5,0,0,0,0,0,0,0,0,0,0,1,3,2,0,0,0,0,0,0,0,0,0,0,0,0,0,0,0,0,0,13.8,"-",9.8000000000000007,16.8,null,"Fri","19:45:00",2,5,0,0,0,0,0,0,0,0,0,0,1,3,3,0,0,0,0,0,0,0,0,0,0,0,0,0,0,0,0,0,14.057142857142859,"-",9.8000000000000007,16.8,1,0,0,0,0,1,1,5,0,0,0,6,2,5,0,0,0,7]
[6,{"$f":"OFFSET(Input_Details!$Q$4,MATCH($A4830, Input_Details!$J$5:$J$24, 0), 5)","v":"2017-11-18"},{"$f":"INDEX(Input_Details!$H$5:$H$24, MATCH($A4830, Input_Details!$J$5:$J$24, 0), 0)","v":"Avonmouth Street"},{"$f":"INDEX(Input_Details!$I$5:$I$24, MATCH($A4830, Input_Details!$J$5:$J$24, 0), 0)","v":"51.49805,-0.09771"},{"$f":"INDEX(Input_Details!$K$5:$K$24, MATCH($A4830, Input_Details!$J$5:$J$24, 0), 0)","v":"Northbound"},"Sat","06:30:00",0,1,0,1,2,0,0,0,0,0,0,0,0,3,1,0,0,0,0,0,0,0,0,0,0,0,0,0,0,0,0,0,13.8,"-",11.8,17.7,{"$f":"INDEX(Input_Details!$L$5:$L$24, MATCH($A4830, Input_Details!$J$5:$J$24, 0), 0)","v":"Southbound"},"Sat","06:30:00",0,0,0,0,0,0,0,0,0,0,0,0,0,0,0,0,0,0,0,0,0,0,0,0,0,0,0,0,0,0,0,0,"-","-","-","-",null,"Sat","06:30:00",0,1,0,1,2,0,0,0,0,0,0,0,0,3,1,0,0,0,0,0,0,0,0,0,0,0,0,0,0,0,0,0,13.8,"-",11.8,17.7,0,1,1,2,0,4,0,0,0,0,0,0,0,1,1,2,0,4]
[6,{"$f":"OFFSET(Input_Details!$Q$4,MATCH($A4854, Input_Details!$J$5:$J$24, 0), 5)","v":"2017-11-18"},{"$f":"INDEX(Input_Details!$H$5:$H$24, MATCH($A4854, Input_Details!$J$5:$J$24, 0), 0)","v":"Avonmouth Street"},{"$f":"INDEX(Input_Details!$I$5:$I$24, MATCH($A4854, Input_Details!$J$5:$J$24, 0), 0)","v":"51.49805,-0.09771"},{"$f":"INDEX(Input_Details!$K$5:$K$24, MATCH($A4854, Input_Details!$J$5:$J$24, 0), 0)","v":"Northbound"},"Sat","12:30:00",0,1,0,0,2,0,0,0,0,0,0,0,0,3,0,0,0,0,0,0,0,0,0,0,0,0,0,0,0,0,0,0,13.1,"-",11.3,14.9,{"$f":"INDEX(Input_Details!$L$5:$L$24, MATCH($A4854, Input_Details!$J$5:$J$24, 0), 0)","v":"Southbound"},"Sat","12:30:00",1,0,0,2,0,0,0,0,0,0,0,0,1,0,2,0,0,0,0,0,0,0,0,0,0,0,0,0,0,0,0,0,13.5,"-",6.1,19.399999999999999,null,"Sat","12:30:00",1,1,0,2,2,0,0,0,0,0,0,0,1,3,2,0,0,0,0,0,0,0,0,0,0,0,0,0,0,0,0,0,13.299999999999999,"-",6.1,19.399999999999999,0,1,0,2,0,3,1,0,2,0,0,3,1,1,2,2,0,6]
[6,{"$f":"OFFSET(Input_Details!$Q$4,MATCH($A4913, Input_Details!$J$5:$J$24, 0), 6)","v":"2017-11-26"},{"$f":"INDEX(Input_Details!$H$5:$H$24, MATCH($A4913, Input_Details!$J$5:$J$24, 0), 0)","v":"Avonmouth Street"},{"$f":"INDEX(Input_Details!$I$5:$I$24, MATCH($A4913, Input_Details!$J$5:$J$24, 0), 0)","v":"51.49805,-0.09771"},{"$f":"INDEX(Input_Details!$K$5:$K$24, MATCH($A4913, Input_Details!$J$5:$J$24, 0), 0)","v":"Northbound"},"Sun","03:15:00",0,1,0,0,1,0,0,0,0,0,0,0,0,2,0,0,0,0,0,0,0,0,0,0,0,0,0,0,0,0,0,0,14.5,"-",14.1,15,{"$f":"INDEX(Input_Details!$L$5:$L$24, MATCH($A4913, Input_Details!$J$5:$J$24, 0), 0)","v":"Southbound"},"Sun","03:15:00",0,0,0,1,0,0,0,0,0,0,0,0,0,0,1,0,0,0,0,0,0,0,0,0,0,0,0,0,0,0,0,0,16.899999999999999,"-",16.899999999999999,16.899999999999999,null,"Sun","03:15:00",0,1,0,1,1,0,0,0,0,0,0,0,0,2,1,0,0,0,0,0,0,0,0,0,0,0,0,0,0,0,0,0,15.299999999999999,"-",14.1,16.899999999999999,0,1,0,1,0,2,0,0,1,0,0,1,0,1,1,1,0,3]
[6,{"$f":"OFFSET(Input_Details!$Q$4,MATCH($A4919, Input_Details!$J$5:$J$24, 0), 6)","v":"2017-11-26"},{"$f":"INDEX(Input_Details!$H$5:$H$24, MATCH($A4919, Input_Details!$J$5:$J$24, 0), 0)","v":"Avonmouth Street"},{"$f":"INDEX(Input_Details!$I$5:$I$24, MATCH($A4919, Input_Details!$J$5:$J$24, 0), 0)","v":"51.49805,-0.09771"},{"$f":"INDEX(Input_Details!$K$5:$K$24, MATCH($A4919, Input_Details!$J$5:$J$24, 0), 0)","v":"Northbound"},"Sun","04:45:00",0,1,0,0,0,0,0,0,0,0,0,0,0,1,0,0,0,0,0,0,0,0,0,0,0,0,0,0,0,0,0,0,14.2,"-",14.2,14.2,{"$f":"INDEX(Input_Details!$L$5:$L$24, MATCH($A4919, Input_Details!$J$5:$J$24, 0), 0)","v":"Southbound"},"Sun","04:45:00",0,2,0,0,0,0,0,0,0,0,0,0,0,1,1,0,0,0,0,0,0,0,0,0,0,0,0,0,0,0,0,0,14.4,"-",13,15.9,null,"Sun","04:45:00",0,3,0,0,0,0,0,0,0,0,0,0,0,2,1,0,0,0,0,0,0,0,0,0,0,0,0,0,0,0,0,0,14.333333333333334,"-",13,15.9,0,1,0,0,0,1,0,2,0,0,0,2,0,3,0,0,0,3]
[6,{"$f":"OFFSET(Input_Details!$Q$4,MATCH($A4955, Input_Details!$J$5:$J$24, 0), 6)","v":"2017-11-26"},{"$f":"INDEX(Input_Details!$H$5:$H$24, MATCH($A4955, Input_Details!$J$5:$J$24, 0), 0)","v":"Avonmouth Street"},{"$f":"INDEX(Input_Details!$I$5:$I$24, MATCH($A4955, Input_Details!$J$5:$J$24, 0), 0)","v":"51.49805,-0.09771"},{"$f":"INDEX(Input_Details!$K$5:$K$24, MATCH($A4955, Input_Details!$J$5:$J$24, 0), 0)","v":"Northbound"},"Sun","13:45:00",1,17,0,0,0,0,0,0,0,0,0,0,1,9,7,1,0,0,0,0,0,0,0,0,0,0,0,0,0,0,0,0,14.7,18.600000000000001,9.1999999999999993,22.4,{"$f":"INDEX(Input_Details!$L$5:$L$24, MATCH($A4955, Input_Details!$J$5:$J$24, 0), 0)","v":"Southbound"},"Sun","13:45:00",2,11,0,0,0,0,0,0,0,0,0,0,2,9,1,1,0,0,0,0,0,0,0,0,0,0,0,0,0,0,0,0,12.5,16.100000000000001,5.4,23.1,null,"Sun","13:45:00",3,28,0,0,0,0,0,0,0,0,0,0,3,18,8,2,0,0,0,0,0,0,0,0,0,0,0,0,0,0,0,0,13.777419354838708,17.350000000000001,5.4,23.1,1,17,0,0,0,18,2,11,0,0,0,13,3,28,0,0,0,31]
[6,"Weekday Average",{"$f":"INDEX(Input_Details!$H$5:$H$24, MATCH($A5002, Input_Details!$J$5:$J$24, 0), 0)","v":"Avonmouth Street"},{"$f":"INDEX(Input_Details!$I$5:$I$24, MATCH($A5002, Input_Details!$J$5:$J$24, 0), 0)","v":"51.49805,-0.09771"},{"$f":"INDEX(Input_Details!$K$5:$K$24, MATCH($A5002, Input_Details!$J$5:$J$24, 0), 0)","v":"Northbound"},"WD Ave","01:30:00",{"$f":"IF(AND(H4330=\"\",H4426=\"\",H4522=\"\",H4618=\"\",H4714=\"\"), \"-\", IF(H4330+H4426+H4522+H4618+H4714=0,0,AVERAGE(H4330,H4426,H4522,H4618,H4714)))","v":0},0.6,0,0,0,0,0,0,0,0,0,0,{"$f":"IF(AND(T4330=\"\",T4426=\"\",T4522=\"\",T4618=\"\",T4714=\"\"), \"-\", IF(SUM($H5002:$S5002)=0, 0, IF(T4330+T4426+T4522+T4618+T4714=0,0,AVERAGE(T4330,T4426,T4522,T4618,T4714))))","v":0},0.6,0,0,0,0,0,0,0,0,0,0,0,0,0,0,0,0,0,0,{"$f":"IF(SUM(H5002:S5002)=0,\"-\",AVERAGEIF(G4324:G4803,$G5002,AN4324:AN4803))","v":13.350000000000001},{"$f":"IFERROR(IF(SUM(H5002:S5002)=0,\"-\",AVERAGEIF(G4324:G4803,G5002,AO4324:AO4803)), \"-\")","v":"-"},12.4,14.2,{"$f":"INDEX(Input_Details!$L$5:$L$24, MATCH($A5002, Input_Details!$J$5:$J$24, 0), 0)","v":"Southbound"},"WD Ave","01:30:00",{"$f":"IF(AND(AU4330=\"\",AU4426=\"\",AU4522=\"\",AU4618=\"\",AU4714=\"\"), \"-\", IF(AU4330+AU4426+AU4522+AU4618+AU4714=0,0,AVERAGE(AU4330,AU4426,AU4522,AU4618,AU4714)))","v":0},0.6,0,0,0,0,0,0,0,0,0,0,{"$f":"IF(AND(BG4330=\"\",BG4426=\"\",BG4522=\"\",BG4618=\"\",BG4714=\"\"), \"-\", IF(SUM($AU5002:$BF5002)=0, 0, IF(BG4330+BG4426+BG4522+BG4618+BG4714=0,0,AVERAGE(BG4330,BG4426,BG4522,BG4618,BG4714))))","v":0},0.6,0,0,0,0,0,0,0,0,0,0,0,0,0,0,0,0,0,0,{"$f":"IF(SUM(AU5002:BF5002)=0,\"-\",AVERAGEIF(AT4324:AT4803,$G5002,CA4324:CA4803))","v":12.65},{"$f":"IFERROR(IF(SUM(AU5002:BF5002)=0,\"-\",AVERAGEIF(AT4324:AT4803,AT5002,CB4324:CB4803)), \"-\")","v":"-"},11.5,13,null,"WD Ave","01:30:00",{"$f":"IF(AND(CH4330=\"-\",CH4426=\"-\",CH4522=\"-\",CH4618=\"-\",CH4714=\"-\"), \"-\", ROUND(AVERAGE(CH4330,CH4426,CH4522,CH4618,CH4714), 0))","v":0},1,0,0,0,0,0,0,0,0,0,0,{"$f":"IF(AND(CT4330=\"-\",CT4426=\"-\",CT4522=\"-\",CT4618=\"-\",CT4714=\"-\"), \"-\", IF(SUM($CH5002:$CS5002)=0, 0, ROUND(AVERAGE(CT4330,CT4426,CT4522,CT4618,CT4714), 0)))","v":0},1,0,0,0,0,0,0,0,0,0,0,0,0,0,0,0,0,0,0,13,"-",11.5,14.2,0,0.6,0,0,0,0.6,0,0.6,0,0,0,0.6,0,1.2,0,0,0,1.2]
[6,"Weekday Average",{"$f":"INDEX(Input_Details!$H$5:$H$24, MATCH($A5041, Input_Details!$J$5:$J$24, 0), 0)","v":"Avonmouth Street"},{"$f":"INDEX(Input_Details!$I$5:$I$24, MATCH($A5041, Input_Details!$J$5:$J$24, 0), 0)","v":"51.49805,-0.09771"},{"$f":"INDEX(Input_Details!$K$5:$K$24, MATCH($A5041, Input_Details!$J$5:$J$24, 0), 0)","v":"Northbound"},"WD Ave","11:15:00",{"$f":"IF(AND(H4369=\"\",H4465=\"\",H4561=\"\",H4657=\"\",H4753=\"\"), \"-\", IF(H4369+H4465+H4561+H4657+H4753=0,0,AVERAGE(H4369,H4465,H4561,H4657,H4753)))","v":0.2},2.2000000000000002,0,1.2,0.2,0,0,0,0,0,0,0,{"$f":"IF(AND(T4369=\"\",T4465=\"\",T4561=\"\",T4657=\"\",T4753=\"\"), \"-\", IF(SUM($H5041:$S5041)=0, 0, IF(T4369+T4465+T4561+T4657+T4753=0,0,AVERAGE(T4369,T4465,T4561,T4657,T4753))))","v":0.4},2.8,0.6,0,0,0,0,0,0,0,0,0,0,0,0,0,0,0,0,0,{"$f":"IF(SUM(H5041:S5041)=0,\"-\",AVERAGEIF(G4324:G4803,$G5041,AN4324:AN4803))","v":13.02},{"$f":"IFERROR(IF(SUM(H5041:S5041)=0,\"-\",AVERAGEIF(G4324:G4803,G5041,AO4324:AO4803)), \"-\")","v":"-"},8.6,16.399999999999999,{"$f":"INDEX(Input_Details!$L$5:$L$24, MATCH($A5041, Input_Details!$J$5:$J$24, 0), 0)","v":"Southbound"},"WD Ave","11:15:00",{"$f":"IF(AND(AU4369=\"\",AU4465=\"\",AU4561=\"\",AU4657=\"\",AU4753=\"\"), \"-\", IF(AU4369+AU4465+AU4561+AU4657+AU4753=0,0,AVERAGE(AU4369,AU4465,AU4561,AU4657,AU4753)))","v":0.6},2.6,0,1,0.2,0,0,0,0,0,0,0,{"$f":"IF(AND(BG4369=\"\",BG4465=\"\",BG4561=\"\",BG4657=\"\",BG4753=\"\"), \"-\", IF(SUM($AU5041:$BF5041)=0, 0, IF(BG4369+BG4465+BG4561+BG4657+BG4753=0,0,AVERAGE(BG4369,BG4465,BG4561,BG4657,BG4753))))","v":0.2},1.8,2.4,0,0,0,0,0,0,0,0,0,0,0,0,0,0,0,0,0,{"$f":"IF(SUM(AU5041:BF5041)=0,\"-\",AVERAGEIF(AT4324:AT4803,$G5041,CA4324:CA4803))","v":13.720000000000002},{"$f":"IFERROR(IF(SUM(AU5041:BF5041)=0,\"-\",AVERAGEIF(AT4324:AT4803,AT5041,CB4324:CB4803)), \"-\")","v":"-"},1.8,17.2,null,"WD Ave","11:15:00",{"$f":"IF(AND(CH4369=\"-\",CH4465=\"-\",CH4561=\"-\",CH4657=\"-\",CH4753=\"-\"), \"-\", ROUND(AVERAGE(CH4369,CH4465,CH4561,CH4657,CH4753), 0))","v":1},5,0,2,0,0,0,0,0,0,0,0,{"$f":"IF(AND(CT4369=\"-\",CT4465=\"-\",CT4561=\"-\",CT4657=\"-\",CT4753=\"-\"), \"-\", IF(SUM($CH5041:$CS5041)=0, 0, ROUND(AVERAGE(CT4369,CT4465,CT4561,CT4657,CT4753), 0)))","v":1},5,3,0,0,0,0,0,0,0,0,0,0,0,0,0,0,0,0,0,13.395609756097562,"-",1.8,17.2,0.2,2.2000000000000002,1.2,0.2,0,3.8000000000000007,0.6,2.6,1,0.2,0,4.4000000000000004,0.8,4.8000000000000007,2.2000000000000002,0.4,0,8.2000000000000011]
[6,"Weekday Average",{"$f":"INDEX(Input_Details!$H$5:$H$24, MATCH($A5051, Input_Details!$J$5:$J$24, 0), 0)","v":"Avonmouth Street"},{"$f":"INDEX(Input_Details!$I$5:$I$24, MATCH($A5051, Input_Details!$J$5:$J$24, 0), 0)","v":"51.49805,-0.09771"},{"$f":"INDEX(Input_Details!$K$5:$K$24, MATCH($A5051, Input_Details!$J$5:$J$24, 0), 0)","v":"Northbound"},"WD Ave","13:45:00",{"$f":"IF(AND(H4379=\"\",H4475=\"\",H4571=\"\",H4667=\"\",H4763=\"\"), \"-\", IF(H4379+H4475+H4571+H4667+H4763=0,0,AVERAGE(H4379,H4475,H4571,H4667,H4763)))","v":0.4},2.8,0,0.4,0,0,0,0,0,0,0,0,{"$f":"IF(AND(T4379=\"\",T4475=\"\",T4571=\"\",T4667=\"\",T4763=\"\"), \"-\", IF(SUM($H5051:$S5051)=0, 0, IF(T4379+T4475+T4571+T4667+T4763=0,0,AVERAGE(T4379,T4475,T4571,T4667,T4763))))","v":0.4},2.6,0.6,0,0,0,0,0,0,0,0,0,0,0,0,0,0,0,0,0,{"$f":"IF(SUM(H5051:S5051)=0,\"-\",AVERAGEIF(G4324:G4803,$G5051,AN4324:AN4803))","v":13},{"$f":"IFERROR(IF(SUM(H5051:S5051)=0,\"-\",AVERAGEIF(G4324:G4803,G5051,AO4324:AO4803)), \"-\")","v":"-"},8.9,16.2,{"$f":"INDEX(Input_Details!$L$5:$L$24, MATCH($A5051, Input_Details!$J$5:$J$24, 0), 0)","v":"Southbound"},"WD Ave","13:45:00",{"$f":"IF(AND(AU4379=\"\",AU4475=\"\",AU4571=\"\",AU4667=\"\",AU4763=\"\"), \"-\", IF(AU4379+AU4475+AU4571+AU4667+AU4763=0,0,AVERAGE(AU4379,AU4475,AU4571,AU4667,AU4763)))","v":0.8},3.4,0,1.2,0,0,0,0,0,0,0,0,{"$f":"IF(AND(BG4379=\"\",BG4475=\"\",BG4571=\"\",BG4667=\"\",BG4763=\"\"), \"-\", IF(SUM($AU5051:$BF5051)=0, 0, IF(BG4379+BG4475+BG4571+BG4667+BG4763=0,0,AVERAGE(BG4379,BG4475,BG4571,BG4667,BG4763))))","v":1.2},2.8,1.4,0,0,0,0,0,0,0,0,0,0,0,0,0,0,0,0,0,{"$f":"IF(SUM(AU5051:BF5051)=0,\"-\",AVERAGEIF(AT4324:AT4803,$G5051,CA4324:CA4803))","v":12.8},{"$f":"IFERROR(IF(SUM(AU5051:BF5051)=0,\"-\",AVERAGEIF(AT4324:AT4803,AT5051,CB4324:CB4803)), \"-\")","v":"-"},6.3,19.7,null,"WD Ave","13:45:00",{"$f":"IF(AND(CH4379=\"-\",CH4475=\"-\",CH4571=\"-\",CH4667=\"-\",CH4763=\"-\"), \"-\", ROUND(AVERAGE(CH4379,CH4475,CH4571,CH4667,CH4763), 0))","v":1},6,0,2,0,0,0,0,0,0,0,0,{"$f":"IF(AND(CT4379=\"-\",CT4475=\"-\",CT4571=\"-\",CT4667=\"-\",CT4763=\"-\"), \"-\", IF(SUM($CH5051:$CS5051)=0, 0, ROUND(AVERAGE(CT4379,CT4475,CT4571,CT4667,CT4763), 0)))","v":2},5,2,0,0,0,0,0,0,0,0,0,0,0,0,0,0,0,0,0,12.88,"-",6.3,19.7,0.4,2.8,0.4,0,0,3.5999999999999996,0.8,3.4,1.2,0,0,5.4,1.2000000000000002,6.1999999999999993,1.6,0,0,9]
[6,"Weekday Average",{"$f":"INDEX(Input_Details!$H$5:$H$24, MATCH($A5090, Input_Details!$J$5:$J$24, 0), 0)","v":"Avonmouth Street"},{"$f":"INDEX(Input_Details!$I$5:$I$24, MATCH($A5090, Input_Details!$J$5:$J$24, 0), 0)","v":"51.49805,-0.09771"},{"$f":"INDEX(Input_Details!$K$5:$K$24, MATCH($A5090, Input_Details!$J$5:$J$24, 0), 0)","v":"Northbound"},"WD Ave","23:30:00",{"$f":"IF(AND(H4418=\"\",H4514=\"\",H4610=\"\",H4706=\"\",H4802=\"\"), \"-\", IF(H4418+H4514+H4610+H4706+H4802=0,0,AVERAGE(H4418,H4514,H4610,H4706,H4802)))","v":0.2},4.4000000000000004,0,0,0,0,0,0,0,0,0,0,{"$f":"IF(AND(T4418=\"\",T4514=\"\",T4610=\"\",T4706=\"\",T4802=\"\"), \"-\", IF(SUM($H5090:$S5090)=0, 0, IF(T4418+T4514+T4610+T4706+T4802=0,0,AVERAGE(T4418,T4514,T4610,T4706,T4802))))","v":0.4},3.6,0.6,0,0,0,0,0,0,0,0,0,0,0,0,0,0,0,0,0,{"$f":"IF(SUM(H5090:S5090)=0,\"-\",AVERAGEIF(G4324:G4803,$G5090,AN4324:AN4803))","v":12.660000000000002},{"$f":"IFERROR(IF(SUM(H5090:S5090)=0,\"-\",AVERAGEIF(G4324:G4803,G5090,AO4324:AO4803)), \"-\")","v":"-"},5.7,15.6,{"$f":"INDEX(Input_Details!$L$5:$L$24, MATCH($A5090, Input_Details!$J$5:$J$24, 0), 0)","v":"Southbound"},"WD Ave","23:30:00",{"$f":"IF(AND(AU4418=\"\",AU4514=\"\",AU4610=\"\",AU4706=\"\",AU4802=\"\"), \"-\", IF(AU4418+AU4514+AU4610+AU4706+AU4802=0,0,AVERAGE(AU4418,AU4514,AU4610,AU4706,AU4802)))","v":1},6.8,0,0,0,0,0,0,0,0,0,0,{"$f":"IF(AND(BG4418=\"\",BG4514=\"\",BG4610=\"\",BG4706=\"\",BG4802=\"\"), \"-\", IF(SUM($AU5090:$BF5090)=0, 0, IF(BG4418+BG4514+BG4610+BG4706+BG4802=0,0,AVERAGE(BG4418,BG4514,BG4610,BG4706,BG4802))))","v":1.6},3.6,2.6,0,0,0,0,0,0,0,0,0,0,0,0,0,0,0,0,0,{"$f":"IF(SUM(AU5090:BF5090)=0,\"-\",AVERAGEIF(AT4324:AT4803,$G5090,CA4324:CA4803))","v":15.3},{"$f":"IFERROR(IF(SUM(AU5090:BF5090)=0,\"-\",AVERAGEIF(AT4324:AT4803,AT5090,CB4324:CB4803)), \"-\")","v":15.4},6.1,18.600000000000001,null,"WD Ave","23:30:00",{"$f":"IF(AND(CH4418=\"-\",CH4514=\"-\",CH4610=\"-\",CH4706=\"-\",CH4802=\"-\"), \"-\", ROUND(AVERAGE(CH4418,CH4514,CH4610,CH4706,CH4802), 0))","v":1},11,0,0,0,0,0,0,0,0,0,0,{"$f":"IF(AND(CT4418=\"-\",CT4514=\"-\",CT4610=\"-\",CT4706=\"-\",CT4802=\"-\"), \"-\", IF(SUM($CH5090:$CS5090)=0, 0, ROUND(AVERAGE(CT4418,CT4514,CT4610,CT4706,CT4802), 0)))","v":2},7,3,0,0,0,0,0,0,0,0,0,0,0,0,0,0,0,0,0,14.320645161290324,15.4,5.7,18.600000000000001,0.2,4.4000000000000004,0,0,0,4.6000000000000005,1,6.8,0,0,0,7.8,1.2,11.2,0,0,0,12.4]
[6,"7-Day Average",{"$f":"INDEX(Input_Details!$H$5:$H$24, MATCH($A5130, Input_Details!$J$5:$J$24, 0), 0)","v":"Avonmouth Street"},{"$f":"INDEX(Input_Details!$I$5:$I$24, MATCH($A5130, Input_Details!$J$5:$J$24, 0), 0)","v":"51.49805,-0.09771"},{"$f":"INDEX(Input_Details!$K$5:$K$24, MATCH($A5130, Input_Details!$J$5:$J$24, 0), 0)","v":"Northbound"},"7 Day Ave","09:30:00",{"$f":"IF(AND(H4362=\"\",H4458=\"\",H4554=\"\",H4650=\"\",H4746=\"\",H4842=\"\",H4938=\"\"), \"-\", IF(H4362+H4458+H4554+H4650+H4746+H4842+H4938=0,0,AVERAGE(H4362,H4458,H4554,H4650,H4746,H4842,H4938)))","v":0.8571428571428571},2.5714285714285716,0,0.5714285714285714,0.14285714285714285,0,0,0,0,0,0,0,{"$f":"IF(AND(T4362=\"\",T4458=\"\",T4554=\"\",T4650=\"\",T4746=\"\",T4842=\"\",T4938=\"\"), \"-\", IF(SUM($H5130:$S5130)=0, 0, IF(T4362+T4458+T4554+T4650+T4746+T4842+T4938=0,0,AVERAGE(T4362,T4458,T4554,T4650,T4746,T4842,T4938))))","v":0.2857142857142857},3.1428571428571428,0.5714285714285714,0.14285714285714285,0,0,0,0,0,0,0,0,0,0,0,0,0,0,0,0,{"$f":"IF(SUM(H5130:S5130)=0,\"-\",AVERAGEIF(G4324:G4995,$G5130,AN4324:AN4995))","v":12.785714285714286},{"$f":"IFERROR(IF(SUM(H5130:S5130)=0,\"-\",AVERAGEIF(G4324:G4995,G5130,AO4324:AO4995)), \"-\")","v":"-"},9.9,21.5,{"$f":"INDEX(Input_Details!$L$5:$L$24, MATCH($A5130, Input_Details!$J$5:$J$24, 0), 0)","v":"Southbound"},"7 Day Ave","09:30:00",{"$f":"IF(AND(AU4362=\"\",AU4458=\"\",AU4554=\"\",AU4650=\"\",AU4746=\"\",AU4842=\"\",AU4938=\"\"), \"-\", IF(AU4362+AU4458+AU4554+AU4650+AU4746+AU4842+AU4938=0,0,AVERAGE(AU4362,AU4458,AU4554,AU4650,AU4746,AU4842,AU4938)))","v":0.5714285714285714},4.2857142857142856,0,0.42857142857142855,0.14285714285714285,0,0,0,0,0,0,0,{"$f":"IF(AND(BG4362=\"\",BG4458=\"\",BG4554=\"\",BG4650=\"\",BG4746=\"\",BG4842=\"\",BG4938=\"\"), \"-\", IF(SUM($AU5130:$BF5130)=0, 0, IF(BG4362+BG4458+BG4554+BG4650+BG4746+BG4842+BG4938=0,0,AVERAGE(BG4362,BG4458,BG4554,BG4650,BG4746,BG4842,BG4938))))","v":0.8571428571428571},3.5714285714285716,0.8571428571428571,0.14285714285714285,0,0,0,0,0,0,0,0,0,0,0,0,0,0,0,0,{"$f":"IF(SUM(AU5130:BF5130)=0,\"-\",AVERAGEIF(AT4324:AT4995,$G5130,CA4324:CA4995))","v":12.728571428571428},{"$f":"IFERROR(IF(SUM(AU5130:BF5130)=0,\"-\",AVERAGEIF(AT4324:AT4995,AT5130,CB4324:CB4995)), \"-\")","v":"-"},7.7,21.3,null,"7 Day Ave","09:30:00",{"$f":"IF(AND(CH4362=\"-\",CH4458=\"-\",CH4554=\"-\",CH4650=\"-\",CH4746=\"-\",CH4842=\"-\",CH4938=\"-\"), \"-\", ROUND(AVERAGE(CH4362,CH4458,CH4554,CH4650,CH4746,CH4842,CH4938),0))","v":1},7,0,1,0,0,0,0,0,0,0,0,{"$f":"IF(AND(CT4362=\"-\",CT4458=\"-\",CT4554=\"-\",CT4650=\"-\",CT4746=\"-\",CT4842=\"-\",CT4938=\"-\"), \"-\", IF(SUM($CH5130:$CS5130)=0, 0, ROUND(AVERAGE(CT4362,CT4458,CT4554,CT4650,CT4746,CT4842,CT4938),0)))","v":1},7,1,0,0,0,0,0,0,0,0,0,0,0,0,0,0,0,0,0,12.753304904051172,"-",7.7,21.5,0.8571428571428571,2.5714285714285716,0.5714285714285714,{"$f":"IF(DR5130=\"-\", \"-\", L5130)","v":0.14285714285714285},0,4.1428571428571432,0.5714285714285714,4.2857142857142856,0.42857142857142855,0.14285714285714285,0,5.4285714285714288,1.4285714285714284,6.8571428571428577,1,0.2857142857142857,0,9.571428571428573]
[6,"7-Day Average",{"$f":"INDEX(Input_Details!$H$5:$H$24, MATCH($A5173, Input_Details!$J$5:$J$24, 0), 0)","v":"Avonmouth Street"},{"$f":"INDEX(Input_Details!$I$5:$I$24, MATCH($A5173, Input_Details!$J$5:$J$24, 0), 0)","v":"51.49805,-0.09771"},{"$f":"INDEX(Input_Details!$K$5:$K$24, MATCH($A5173, Input_Details!$J$5:$J$24, 0), 0)","v":"Northbound"},"7 Day Ave","20:15:00",{"$f":"IF(AND(H4405=\"\",H4501=\"\",H4597=\"\",H4693=\"\",H4789=\"\",H4885=\"\",H4981=\"\"), \"-\", IF(H4405+H4501+H4597+H4693+H4789+H4885+H4981=0,0,AVERAGE(H4405,H4501,H4597,H4693,H4789,H4885,H4981)))","v":0.14285714285714285},4.1428571428571432,0,0.2857142857142857,0,0,0,0,0,0,0,0,{"$f":"IF(AND(T4405=\"\",T4501=\"\",T4597=\"\",T4693=\"\",T4789=\"\",T4885=\"\",T4981=\"\"), \"-\", IF(SUM($H5173:$S5173)=0, 0, IF(T4405+T4501+T4597+T4693+T4789+T4885+T4981=0,0,AVERAGE(T4405,T4501,T4597,T4693,T4789,T4885,T4981))))","v":0.7142857142857143},2.4285714285714284,1.4285714285714286,0,0,0,0,0,0,0,0,0,0,0,0,0,0,0,0,0,{"$f":"IF(SUM(H5173:S5173)=0,\"-\",AVERAGEIF(G4324:G4995,$G5173,AN4324:AN4995))","v":13.085714285714287},{"$f":"IFERROR(IF(SUM(H5173:S5173)=0,\"-\",AVERAGEIF(G4324:G4995,G5173,AO4324:AO4995)), \"-\")","v":"-"},7.5,19.2,{"$f":"INDEX(Input_Details!$L$5:$L$24, MATCH($A5173, Input_Details!$J$5:$J$24, 0), 0)","v":"Southbound"},"7 Day Ave","20:15:00",{"$f":"IF(AND(AU4405=\"\",AU4501=\"\",AU4597=\"\",AU4693=\"\",AU4789=\"\",AU4885=\"\",AU4981=\"\"), \"-\", IF(AU4405+AU4501+AU4597+AU4693+AU4789+AU4885+AU4981=0,0,AVERAGE(AU4405,AU4501,AU4597,AU4693,AU4789,AU4885,AU4981)))","v":1.5714285714285714},5,0.14285714285714285,0,0,0,0,0,0,0,0,0,{"$f":"IF(AND(BG4405=\"\",BG4501=\"\",BG4597=\"\",BG4693=\"\",BG4789=\"\",BG4885=\"\",BG4981=\"\"), \"-\", IF(SUM($AU5173:$BF5173)=0, 0, IF(BG4405+BG4501+BG4597+BG4693+BG4789+BG4885+BG4981=0,0,AVERAGE(BG4405,BG4501,BG4597,BG4693,BG4789,BG4885,BG4981))))","v":2},2.5714285714285716,1.7142857142857142,0.42857142857142855,0,0,0,0,0,0,0,0,0,0,0,0,0,0,0,0,{"$f":"IF(SUM(AU5173:BF5173)=0,\"-\",AVERAGEIF(AT4324:AT4995,$G5173,CA4324:CA4995))","v":12.342857142857142},{"$f":"IFERROR(IF(SUM(AU5173:BF5173)=0,\"-\",AVERAGEIF(AT4324:AT4995,AT5173,CB4324:CB4995)), \"-\")","v":19.2},5.9,22.5,null,"7 Day Ave","20:15:00",{"$f":"IF(AND(CH4405=\"-\",CH4501=\"-\",CH4597=\"-\",CH4693=\"-\",CH4789=\"-\",CH4885=\"-\",CH4981=\"-\"), \"-\", ROUND(AVERAGE(CH4405,CH4501,CH4597,CH4693,CH4789,CH4885,CH4981),0))","v":2},9,0,0,0,0,0,0,0,0,0,0,{"$f":"IF(AND(CT4405=\"-\",CT4501=\"-\",CT4597=\"-\",CT4693=\"-\",CT4789=\"-\",CT4885=\"-\",CT4981=\"-\"), \"-\", IF(SUM($CH5173:$CS5173)=0, 0, ROUND(AVERAGE(CT4405,CT4501,CT4597,CT4693,CT4789,CT4885,CT4981),0)))","v":3},5,3,0,0,0,0,0,0,0,0,0,0,0,0,0,0,0,0,0,12.64376130198915,19.2,5.9,22.5,0.14285714285714285,4.1428571428571432,0.2857142857142857,0,0,4.5714285714285721,1.5714285714285714,5.1428571428571432,0,0,0,6.7142857142857144,1.7142857142857142,9.2857142857142865,0.2857142857142857,0,0,11.285714285714286]
[0,{"$f":"OFFSET(Input_Details!$Q$4,MATCH($A5191, Input_Details!$J$5:$J$24, 0), 0)","v":{"$error":"#N/A"}},{"$f":"INDEX(Input_Details!$H$5:$H$24, MATCH($A5191, Input_Details!$J$5:$J$24, 0), 0)","v":{"$error":"#N/A"}},{"$f":"INDEX(Input_Details!$I$5:$I$24, MATCH($A5191, Input_Details!$J$5:$J$24, 0), 0)","v":{"$error":"#N/A"}},{"$f":"INDEX(Input_Details!$K$5:$K$24, MATCH($A5191, Input_Details!$J$5:$J$24, 0), 0)","v":{"$error":"#N/A"}},"Mon","00:45:00",null,null,null,null,null,null,null,null,null,null,null,null,null,null,null,null,null,null,null,null,null,null,null,null,null,null,null,null,null,null,null,null,null,null,null,null,{"$f":"INDEX(Input_Details!$L$5:$L$24, MATCH($A5191, Input_Details!$J$5:$J$24, 0), 0)","v":{"$error":"#N/A"}},"Mon","00:45:00",null,null,null,null,null,null,null,null,null,null,null,null,null,null,null,null,null,null,null,null,null,null,null,null,null,null,null,null,null,null,null,null,null,null,null,null,null,"Mon","00:45:00","-","-","-","-","-","-","-","-","-","-","-","-","-","-","-","-","-","-","-","-","-","-","-","-","-","-","-","-","-","-","-","-","-","-","-","-","-","-","-","-","-","-","-","-","-","-","-","-","-","-","-","-","-","-","-","-","-","-","-","-","-","-","-","-","-","-","-","-","-","-","-","-","-","-","-"]
[0,{"$f":"OFFSET(Input_Details!$Q$4,MATCH($A5219, Input_Details!$J$5:$J$24, 0), 0)","v":{"$error":"#N/A"}},{"$f":"INDEX(Input_Details!$H$5:$H$24, MATCH($A5219, Input_Details!$J$5:$J$24, 0), 0)","v":{"$error":"#N/A"}},{"$f":"INDEX(Input_Details!$I$5:$I$24, MATCH($A5219, Input_Details!$J$5:$J$24, 0), 0)","v":{"$error":"#N/A"}},{"$f":"INDEX(Input_Details!$K$5:$K$24, MATCH($A5219, Input_Details!$J$5:$J$24, 0), 0)","v":{"$error":"#N/A"}},"Mon","07:45:00",null,null,null,null,null,null,null,null,null,null,null,null,null,null,null,null,null,null,null,null,null,null,null,null,null,null,null,null,null,null,null,null,null,null,null,null,{"$f":"INDEX(Input_Details!$L$5:$L$24, MATCH($A5219, Input_Details!$J$5:$J$24, 0), 0)","v":{"$error":"#N/A"}},"Mon","07:45:00",null,null,null,null,null,null,null,null,null,null,null,null,null,null,null,null,null,null,null,null,null,null,null,null,null,null,null,null,null,null,null,null,null,null,null,null,null,"Mon","07:45:00","-","-","-","-","-","-","-","-","-","-","-","-","-","-","-","-","-","-","-","-","-","-","-","-","-","-","-","-","-","-","-","-","-","-","-","-","-","-","-","-","-","-","-","-","-","-","-","-","-","-","-","-","-","-","-","-","-","-","-","-","-","-","-","-","-","-","-","-","-","-","-","-","-","-","-"]
[0,{"$f":"OFFSET(Input_Details!$Q$4,MATCH($A5262, Input_Details!$J$5:$J$24, 0), 0)","v":{"$error":"#N/A"}},{"$f":"INDEX(Input_Details!$H$5:$H$24, MATCH($A5262, Input_Details!$J$5:$J$24, 0), 0)","v":{"$error":"#N/A"}},{"$f":"INDEX(Input_Details!$I$5:$I$24, MATCH($A5262, Input_Details!$J$5:$J$24, 0), 0)","v":{"$error":"#N/A"}},{"$f":"INDEX(Input_Details!$K$5:$K$24, MATCH($A5262, Input_Details!$J$5:$J$24, 0), 0)","v":{"$error":"#N/A"}},"Mon","18:30:00",null,null,null,null,null,null,null,null,null,null,null,null,null,null,null,null,null,null,null,null,null,null,null,null,null,null,null,null,null,null,null,null,null,null,null,null,{"$f":"INDEX(Input_Details!$L$5:$L$24, MATCH($A5262, Input_Details!$J$5:$J$24, 0), 0)","v":{"$error":"#N/A"}},"Mon","18:30:00",null,null,null,null,null,null,null,null,null,null,null,null,null,null,null,null,null,null,null,null,null,null,null,null,null,null,null,null,null,null,null,null,null,null,null,null,null,"Mon","18:30:00","-","-","-","-","-","-","-","-","-","-","-","-","-","-","-","-","-","-","-","-","-","-","-","-","-","-","-","-","-","-","-","-","-","-","-","-","-","-","-","-","-","-","-","-","-","-","-","-","-","-","-","-","-","-","-","-","-","-","-","-","-","-","-","-","-","-","-","-","-","-","-","-","-","-","-"]
[0,{"$f":"OFFSET(Input_Details!$Q$4,MATCH($A5292, Input_Details!$J$5:$J$24, 0), 1)","v":{"$error":"#N/A"}},{"$f":"INDEX(Input_Details!$H$5:$H$24, MATCH($A5292, Input_Details!$J$5:$J$24, 0), 0)","v":{"$error":"#N/A"}},{"$f":"INDEX(Input_Details!$I$5:$I$24, MATCH($A5292, Input_Details!$J$5:$J$24, 0), 0)","v":{"$error":"#N/A"}},{"$f":"INDEX(Input_Details!$K$5:$K$24, MATCH($A5292, Input_Details!$J$5:$J$24, 0), 0)","v":{"$error":"#N/A"}},"Tues","02:00:00",null,null,null,null,null,null,null,null,null,null,null,null,null,null,null,null,null,null,null,null,null,null,null,null,null,null,null,null,null,null,null,null,null,null,null,null,{"$f":"INDEX(Input_Details!$L$5:$L$24, MATCH($A5292, Input_Details!$J$5:$J$24, 0), 0)","v":{"$error":"#N/A"}},"Tues","02:00:00",null,null,null,null,null,null,null,null,null,null,null,null,null,null,null,null,null,null,null,null,null,null,null,null,null,null,null,null,null,null,null,null,null,null,null,null,null,"Tues","02:00:00","-","-","-","-","-","-","-","-","-","-","-","-","-","-","-","-","-","-","-","-","-","-","-","-","-","-","-","-","-","-","-","-","-","-","-","-","-","-","-","-","-","-","-","-","-","-","-","-","-","-","-","-","-","-"]
[0,{"$f":"OFFSET(Input_Details!$Q$4,MATCH($A5345, Input_Details!$J$5:$J$24, 0), 1)","v":{"$error":"#N/A"}},{"$f":"INDEX(Input_Details!$H$5:$H$24, MATCH($A5345, Input_Details!$J$5:$J$24, 0), 0)","v":{"$error":"#N/A"}},{"$f":"INDEX(Input_Details!$I$5:$I$24, MATCH($A5345, Input_Details!$J$5:$J$24, 0), 0)","v":{"$error":"#N/A"}},{"$f":"INDEX(Input_Details!$K$5:$K$24, MATCH($A5345, Input_Details!$J$5:$J$24, 0), 0)","v":{"$error":"#N/A"}},"Tues","15:15:00",null,null,null,null,null,null,null,null,null,null,null,null,null,null,null,null,null,null,null,null,null,null,null,null,null,null,null,null,null,null,null,null,null,null,null,null,{"$f":"INDEX(Input_Details!$L$5:$L$24, MATCH($A5345, Input_Details!$J$5:$J$24, 0), 0)","v":{"$error":"#N/A"}},"Tues","15:15:00",null,null,null,null,null,null,null,null,null,null,null,null,null,null,null,null,null,null,null,null,null,null,null,null,null,null,null,null,null,null,null,null,null,null,null,null,null,"Tues","15:15:00","-","-","-","-","-","-","-","-","-","-","-","-","-","-","-","-","-","-","-","-","-","-","-","-","-","-","-","-","-","-","-","-","-","-","-","-","-","-","-","-","-","-","-","-","-","-","-","-","-","-","-","-","-","-"]
[0,{"$f":"OFFSET(Input_Details!$Q$4,MATCH($A5351, Input_Details!$J$5:$J$24, 0), 1)","v":{"$error":"#N/A"}},{"$f":"INDEX(Input_Details!$H$5:$H$24, MATCH($A5351, Input_Details!$J$5:$J$24, 0), 0)","v":{"$error":"#N/A"}},{"$f":"INDEX(Input_Details!$I$5:$I$24, MATCH($A5351, Input_Details!$J$5:$J$24, 0), 0)","v":{"$error":"#N/A"}},{"$f":"INDEX(Input_Details!$K$5:$K$24, MATCH($A5351, Input_Details!$J$5:$J$24, 0), 0)","v":{"$error":"#N/A"}},"Tues","16:45:00",null,null,null,null,null,null,null,null,null,null,null,null,null,null,null,null,null,null,null,null,null,null,null,null,null,null,null,null,null,null,null,null,null,null,null,null,{"$f":"INDEX(Input_Details!$L$5:$L$24, MATCH($A5351, Input_Details!$J$5:$J$24, 0), 0)","v":{"$error":"#N/A"}},"Tues","16:45:00",null,null,null,null,null,null,null,null,null,null,null,null,null,null,null,null,null,null,null,null,null,null,null,null,null,null,null,null,null,null,null,null,null,null,null,null,null,"Tues","16:45:00","-","-","-","-","-","-","-","-","-","-","-","-","-","-","-","-","-","-","-","-","-","-","-","-","-","-","-","-","-","-","-","-","-","-","-","-","-","-","-","-","-","-","-","-","-","-","-","-","-","-","-","-","-","-"]
[0,{"$f":"OFFSET(Input_Details!$Q$4,MATCH($A5393, Input_Details!$J$5:$J$24, 0), 2)","v":{"$error":"#N/A"}},{"$f":"INDEX(Input_Details!$H$5:$H$24, MATCH($A5393, Input_Details!$J$5:$J$24, 0), 0)","v":{"$error":"#N/A"}},{"$f":"INDEX(Input_Details!$I$5:$I$24, MATCH($A5393, Input_Details!$J$5:$J$24, 0), 0)","v":{"$error":"#N/A"}},{"$f":"INDEX(Input_Details!$K$5:$K$24, MATCH($A5393, Input_Details!$J$5:$J$24, 0), 0)","v":{"$error":"#N/A"}},"Wed","03:15:00",null,null,null,null,null,null,null,null,null,null,null,null,null,null,null,null,null,null,null,null,null,null,null,null,null,null,null,null,null,null,null,null,null,null,null,null,{"$f":"INDEX(Input_Details!$L$5:$L$24, MATCH($A5393, Input_Details!$J$5:$J$24, 0), 0)","v":{"$error":"#N/A"}},"Wed","03:15:00",null,null,null,null,null,null,null,null,null,null,null,null,null,null,null,null,null,null,null,null,null,null,null,null,null,null,null,null,null,null,null,null,null,null,null,null,null,"Wed","03:15:00","-","-","-","-","-","-","-","-","-","-","-","-","-","-","-","-","-","-","-","-","-","-","-","-","-","-","-","-","-","-","-","-","-","-","-","-","-","-","-","-","-","-","-","-","-","-","-","-","-","-","-","-","-","-"]
[0,{"$f":"OFFSET(Input_Details!$Q$4,MATCH($A5434, Input_Details!$J$5:$J$24, 0), 2)","v":{"$error":"#N/A"}},{"$f":"INDEX(Input_Details!$H$5:$H$24, MATCH($A5434, Input_Details!$J$5:$J$24, 0), 0)","v":{"$error":"#N/A"}},{"$f":"INDEX(Input_Details!$I$5:$I$24, MATCH($A5434, Input_Details!$J$5:$J$24, 0), 0)","v":{"$error":"#N/A"}},{"$f":"INDEX(Input_Details!$K$5:$K$24, MATCH($A5434, Input_Details!$J$5:$J$24, 0), 0)","v":{"$error":"#N/A"}},"Wed","13:30:00",null,null,null,null,null,null,null,null,null,null,null,null,null,null,null,null,null,null,null,null,null,null,null,null,null,null,null,null,null,null,null,null,null,null,null,null,{"$f":"INDEX(Input_Details!$L$5:$L$24, MATCH($A5434, Input_Details!$J$5:$J$24, 0), 0)","v":{"$error":"#N/A"}},"Wed","13:30:00",null,null,null,null,null,null,null,null,null,null,null,null,null,null,null,null,null,null,null,null,null,null,null,null,null,null,null,null,null,null,null,null,null,null,null,null,null,"Wed","13:30:00","-","-","-","-","-","-","-","-","-","-","-","-","-","-","-","-","-","-","-","-","-","-","-","-","-","-","-","-","-","-","-","-","-","-","-","-","-","-","-","-","-","-","-","-","-","-","-","-","-","-","-","-","-","-"]
[0,{"$f":"OFFSET(Input_Details!$Q$4,MATCH($A5473, Input_Details!$J$5:$J$24, 0), 2)","v":{"$error":"#N/A"}},{"$f":"INDEX(Input_Details!$H$5:$H$24, MATCH($A5473, Input_Details!$J$5:$J$24, 0), 0)","v":{"$error":"#N/A"}},{"$f":"INDEX(Input_Details!$I$5:$I$24, MATCH($A5473, Input_Details!$J$5:$J$24, 0), 0)","v":{"$error":"#N/A"}},{"$f":"INDEX(Input_Details!$K$5:$K$24, MATCH($A5473, Input_Details!$J$5:$J$24, 0), 0)","v":{"$error":"#N/A"}},"Wed","23:15:00",null,null,null,null,null,null,null,null,null,null,null,null,null,null,null,null,null,null,null,null,null,null,null,null,null,null,null,null,null,null,null,null,null,null,null,null,{"$f":"INDEX(Input_Details!$L$5:$L$24, MATCH($A5473, Input_Details!$J$5:$J$24, 0), 0)","v":{"$error":"#N/A"}},"Wed","23:15:00",null,null,null,null,null,null,null,null,null,null,null,null,null,null,null,null,null,null,null,null,null,null,null,null,null,null,null,null,null,null,null,null,null,null,null,null,null,"Wed","23:15:00","-","-","-","-","-","-","-","-","-","-","-","-","-","-","-","-","-","-","-","-","-","-","-","-","-","-","-","-","-","-","-","-","-","-","-","-","-","-","-","-","-","-","-","-","-","-","-","-","-","-","-","-","-","-"]
[0,{"$f":"OFFSET(Input_Details!$Q$4,MATCH($A5494, Input_Details!$J$5:$J$24, 0), 3)","v":{"$error":"#N/A"}},{"$f":"INDEX(Input_Details!$H$5:$H$24, MATCH($A5494, Input_Details!$J$5:$J$24, 0), 0)","v":{"$error":"#N/A"}},{"$f":"INDEX(Input_Details!$I$5:$I$24, MATCH($A5494, Input_Details!$J$5:$J$24, 0), 0)","v":{"$error":"#N/A"}},{"$f":"INDEX(Input_Details!$K$5:$K$24, MATCH($A5494, Input_Details!$J$5:$J$24, 0), 0)","v":{"$error":"#N/A"}},"Thu","04:30:00",null,null,null,null,null,null,null,null,null,null,null,null,null,null,null,null,null,null,null,null,null,null,null,null,null,null,null,null,null,null,null,null,null,null,null,null,{"$f":"INDEX(Input_Details!$L$5:$L$24, MATCH($A5494, Input_Details!$J$5:$J$24, 0), 0)","v":{"$error":"#N/A"}},"Thu","04:30:00",null,null,null,null,null,null,null,null,null,null,null,null,null,null,null,null,null,null,null,null,null,null,null,null,null,null,null,null,null,null,null,null,null,null,null,null,null,"Thu","04:30:00","-","-","-","-","-","-","-","-","-","-","-","-","-","-","-","-","-","-","-","-","-","-","-","-","-","-","-","-","-","-","-","-","-","-","-","-","-","-","-","-","-","-","-","-","-","-","-","-","-","-","-","-","-","-"]
[0,{"$f":"OFFSET(Input_Details!$Q$4,MATCH($A5523, Input_Details!$J$5:$J$24, 0), 3)","v":{"$error":"#N/A"}},{"$f":"INDEX(Input_Details!$H$5:$H$24, MATCH($A5523, Input_Details!$J$5:$J$24, 0), 0)","v":{"$error":"#N/A"}},{"$f":"INDEX(Input_Details!$I$5:$I$24, MATCH($A5523, Input_Details!$J$5:$J$24, 0), 0)","v":{"$error":"#N/A"}},{"$f":"INDEX(Input_Details!$K$5:$K$24, MATCH($A5523, Input_Details!$J$5:$J$24, 0), 0)","v":{"$error":"#N/A"}},"Thu","11:45:00",null,null,null,null,null,null,null,null,null,null,null,null,null,null,null,null,null,null,null,null,null,null,null,null,null,null,null,null,null,null,null,null,null,null,null,null,{"$f":"INDEX(Input_Details!$L$5:$L$24, MATCH($A5523, Input_Details!$J$5:$J$24, 0), 0)","v":{"$error":"#N/A"}},"Thu","11:45:00",null,null,null,null,null,null,null,null,null,null,null,null,null,null,null,null,null,null,null,null,null,null,null,null,null,null,null,null,null,null,null,null,null,null,null,null,null,"Thu","11:45:00","-","-","-","-","-","-","-","-","-","-","-","-","-","-","-","-","-","-","-","-","-","-","-","-","-","-","-","-","-","-","-","-","-","-","-","-","-","-","-","-","-","-","-","-","-","-","-","-","-","-","-","-","-","-"]
[0,{"$f":"OFFSET(Input_Details!$Q$4,MATCH($A5562, Input_Details!$J$5:$J$24, 0), 3)","v":{"$error":"#N/A"}},{"$f":"INDEX(Input_Details!$H$5:$H$24, MATCH($A5562, Input_Details!$J$5:$J$24, 0), 0)","v":{"$error":"#N/A"}},{"$f":"INDEX(Input_Details!$I$5:$I$24, MATCH($A5562, Input_Details!$J$5:$J$24, 0), 0)","v":{"$error":"#N/A"}},{"$f":"INDEX(Input_Details!$K$5:$K$24, MATCH($A5562, Input_Details!$J$5:$J$24, 0), 0)","v":{"$error":"#N/A"}},"Thu","21:30:00",null,null,null,null,null,null,null,null,null,null,null,null,null,null,null,null,null,null,null,null,null,null,null,null,null,null,null,null,null,null,null,null,null,null,null,null,{"$f":"INDEX(Input_Details!$L$5:$L$24, MATCH($A5562, Input_Details!$J$5:$J$24, 0), 0)","v":{"$error":"#N/A"}},"Thu","21:30:00",null,null,null,null,null,null,null,null,null,null,null,null,null,null,null,null,null,null,null,null,null,null,null,null,null,null,null,null,null,null,null,null,null,null,null,null,null,"Thu","21:30:00","-","-","-","-","-","-","-","-","-","-","-","-","-","-","-","-","-","-","-","-","-","-","-","-","-","-","-","-","-","-","-","-","-","-","-","-","-","-","-","-","-","-","-","-","-","-","-","-","-","-","-","-","-","-"]
[0,{"$f":"OFFSET(Input_Details!$Q$4,MATCH($A5613, Input_Details!$J$5:$J$24, 0), 4)","v":{"$error":"#N/A"}},{"$f":"INDEX(Input_Details!$H$5:$H$24, MATCH($A5613, Input_Details!$J$5:$J$24, 0), 0)","v":{"$error":"#N/A"}},{"$f":"INDEX(Input_Details!$I$5:$I$24, MATCH($A5613, Input_Details!$J$5:$J$24, 0), 0)","v":{"$error":"#N/A"}},{"$f":"INDEX(Input_Details!$K$5:$K$24, MATCH($A5613, Input_Details!$J$5:$J$24, 0), 0)","v":{"$error":"#N/A"}},"Fri","10:15:00",null,null,null,null,null,null,null,null,null,null,null,null,null,null,null,null,null,null,null,null,null,null,null,null,null,null,null,null,null,null,null,null,null,null,null,null,{"$f":"INDEX(Input_Details!$L$5:$L$24, MATCH($A5613, Input_Details!$J$5:$J$24, 0), 0)","v":{"$error":"#N/A"}},"Fri","10:15:00",null,null,null,null,null,null,null,null,null,null,null,null,null,null,null,null,null,null,null,null,null,null,null,null,null,null,null,null,null,null,null,null,null,null,null,null,null,"Fri","10:15:00","-","-","-","-","-","-","-","-","-","-","-","-","-","-","-","-","-","-","-","-","-","-","-","-","-","-","-","-","-","-","-","-","-","-","-","-","-","-","-","-","-","-","-","-","-","-","-","-","-","-","-","-","-","-"]
[0,{"$f":"OFFSET(Input_Details!$Q$4,MATCH($A5645, Input_Details!$J$5:$J$24, 0), 4)","v":{"$error":"#N/A"}},{"$f":"INDEX(Input_Details!$H$5:$H$24, MATCH($A5645, Input_Details!$J$5:$J$24, 0), 0)","v":{"$error":"#N/A"}},{"$f":"INDEX(Input_Details!$I$5:$I$24, MATCH($A5645, Input_Details!$J$5:$J$24, 0), 0)","v":{"$error":"#N/A"}},{"$f":"INDEX(Input_Details!$K$5:$K$24, MATCH($A5645, Input_Details!$J$5:$J$24, 0), 0)","v":{"$error":"#N/A"}},"Fri","18:15:00",null,null,null,null,null,null,null,null,null,null,null,null,null,null,null,null,null,null,null,null,null,null,null,null,null,null,null,null,null,null,null,null,null,null,null,null,{"$f":"INDEX(Input_Details!$L$5:$L$24, MATCH($A5645, Input_Details!$J$5:$J$24, 0), 0)","v":{"$error":"#N/A"}},"Fri","18:15:00",null,null,null,null,null,null,null,null,null,null,null,null,null,null,null,null,null,null,null,null,null,null,null,null,null,null,null,null,null,null,null,null,null,null,null,null,null,"Fri","18:15:00","-","-","-","-","-","-","-","-","-","-","-","-","-","-","-","-","-","-","-","-","-","-","-","-","-","-","-","-","-","-","-","-","-","-","-","-","-","-","-","-","-","-","-","-","-","-","-","-","-","-","-","-","-","-"]
[0,{"$f":"OFFSET(Input_Details!$Q$4,MATCH($A5651, Input_Details!$J$5:$J$24, 0), 4)","v":{"$error":"#N/A"}},{"$f":"INDEX(Input_Details!$H$5:$H$24, MATCH($A5651, Input_Details!$J$5:$J$24, 0), 0)","v":{"$error":"#N/A"}},{"$f":"INDEX(Input_Details!$I$5:$I$24, MATCH($A5651, Input_Details!$J$5:$J$24, 0), 0)","v":{"$error":"#N/A"}},{"$f":"INDEX(Input_Details!$K$5:$K$24, MATCH($A5651, Input_Details!$J$5:$J$24, 0), 0)","v":{"$error":"#N/A"}},"Fri","19:45:00",null,null,null,null,null,null,null,null,null,null,null,null,null,null,null,null,null,null,null,null,null,null,null,null,null,null,null,null,null,null,null,null,null,null,null,null,{"$f":"INDEX(Input_Details!$L$5:$L$24, MATCH($A5651, Input_Details!$J$5:$J$24, 0), 0)","v":{"$error":"#N/A"}},"Fri","19:45:00",null,null,null,null,null,null,null,null,null,null,null,null,null,null,null,null,null,null,null,null,null,null,null,null,null,null,null,null,null,null,null,null,null,null,null,null,null,"Fri","19:45:00","-","-","-","-","-","-","-","-","-","-","-","-","-","-","-","-","-","-","-","-","-","-","-","-","-","-","-","-","-","-","-","-","-","-","-","-","-","-","-","-","-","-","-","-","-","-","-","-","-","-","-","-","-","-"]
[0,{"$f":"OFFSET(Input_Details!$Q$4,MATCH($A5714, Input_Details!$J$5:$J$24, 0), 5)","v":{"$error":"#N/A"}},{"$f":"INDEX(Input_Details!$H$5:$H$24, MATCH($A5714, Input_Details!$J$5:$J$24, 0), 0)","v":{"$error":"#N/A"}},{"$f":"INDEX(Input_Details!$I$5:$I$24, MATCH($A5714, Input_Details!$J$5:$J$24, 0), 0)","v":{"$error":"#N/A"}},{"$f":"INDEX(Input_Details!$K$5:$K$24, MATCH($A5714, Input_Details!$J$5:$J$24, 0), 0)","v":{"$error":"#N/A"}},"Sat","11:30:00",null,null,null,null,null,null,null,null,null,null,null,null,null,null,null,null,null,null,null,null,null,null,null,null,null,null,null,null,null,null,null,null,null,null,null,null,{"$f":"INDEX(Input_Details!$L$5:$L$24, MATCH($A5714, Input_Details!$J$5:$J$24, 0), 0)","v":{"$error":"#N/A"}},"Sat","11:30:00",null,null,null,null,null,null,null,null,null,null,null,null,null,null,null,null,null,null,null,null,null,null,null,null,null,null,null,null,null,null,null,null,null,null,null,null,null,"Sat","11:30:00","-","-","-","-","-","-","-","-","-","-","-","-","-","-","-","-","-","-","-","-","-","-","-","-","-","-","-","-","-","-","-","-","-","-","-","-","-","-","-","-","-","-","-","-","-","-","-","-","-","-","-","-","-","-"]
[0,{"$f":"OFFSET(Input_Details!$Q$4,MATCH($A5734, Input_Details!$J$5:$J$24, 0), 5)","v":{"$error":"#N/A"}},{"$f":"INDEX(Input_Details!$H$5:$H$24, MATCH($A5734, Input_Details!$J$5:$J$24, 0), 0)","v":{"$error":"#N/A"}},{"$f":"INDEX(Input_Details!$I$5:$I$24, MATCH($A5734, Input_Details!$J$5:$J$24, 0), 0)","v":{"$error":"#N/A"}},{"$f":"INDEX(Input_Details!$K$5:$K$24, MATCH($A5734, Input_Details!$J$5:$J$24, 0), 0)","v":{"$error":"#N/A"}},"Sat","16:30:00",null,null,null,null,null,null,null,null,null,null,null,null,null,null,null,null,null,null,null,null,null,null,null,null,null,null,null,null,null,null,null,null,null,null,null,null,{"$f":"INDEX(Input_Details!$L$5:$L$24, MATCH($A5734, Input_Details!$J$5:$J$24, 0), 0)","v":{"$error":"#N/A"}},"Sat","16:30:00",null,null,null,null,null,null,null,null,null,null,null,null,null,null,null,null,null,null,null,null,null,null,null,null,null,null,null,null,null,null,null,null,null,null,null,null,null,"Sat","16:30:00","-","-","-","-","-","-","-","-","-","-","-","-","-","-","-","-","-","-","-","-","-","-","-","-","-","-","-","-","-","-","-","-","-","-","-","-","-","-","-","-","-","-","-","-","-","-","-","-","-","-","-","-","-","-"]
[0,{"$f":"OFFSET(Input_Details!$Q$4,MATCH($A5777, Input_Details!$J$5:$J$24, 0), 6)","v":{"$error":"#N/A"}},{"$f":"INDEX(Input_Details!$H$5:$H$24, MATCH($A5777, Input_Details!$J$5:$J$24, 0), 0)","v":{"$error":"#N/A"}},{"$f":"INDEX(Input_Details!$I$5:$I$24, MATCH($A5777, Input_Details!$J$5:$J$24, 0), 0)","v":{"$error":"#N/A"}},{"$f":"INDEX(Input_Details!$K$5:$K$24, MATCH($A5777, Input_Details!$J$5:$J$24, 0), 0)","v":{"$error":"#N/A"}},"Sun","03:15:00",null,null,null,null,null,null,null,null,null,null,null,null,null,null,null,null,null,null,null,null,null,null,null,null,null,null,null,null,null,null,null,null,null,null,null,null,{"$f":"INDEX(Input_Details!$L$5:$L$24, MATCH($A5777, Input_Details!$J$5:$J$24, 0), 0)","v":{"$error":"#N/A"}},"Sun","03:15:00",null,null,null,null,null,null,null,null,null,null,null,null,null,null,null,null,null,null,null,null,null,null,null,null,null,null,null,null,null,null,null,null,null,null,null,null,null,"Sun","03:15:00","-","-","-","-","-","-","-","-","-","-","-","-","-","-","-","-","-","-","-","-","-","-","-","-","-","-","-","-","-","-","-","-","-","-","-","-","-","-","-","-","-","-","-","-","-","-","-","-","-","-","-","-","-","-"]
[0,{"$f":"OFFSET(Input_Details!$Q$4,MATCH($A5815, Input_Details!$J$5:$J$24, 0), 6)","v":{"$error":"#N/A"}},{"$f":"INDEX(Input_Details!$H$5:$H$24, MATCH($A5815, Input_Details!$J$5:$J$24, 0), 0)","v":{"$error":"#N/A"}},{"$f":"INDEX(Input_Details!$I$5:$I$24, MATCH($A5815, Input_Details!$J$5:$J$24, 0), 0)","v":{"$error":"#N/A"}},{"$f":"INDEX(Input_Details!$K$5:$K$24, MATCH($A5815, Input_Details!$J$5:$J$24, 0), 0)","v":{"$error":"#N/A"}},"Sun","12:45:00",null,null,null,null,null,null,null,null,null,null,null,null,null,null,null,null,null,null,null,null,null,null,null,null,null,null,null,null,null,null,null,null,null,null,null,null,{"$f":"INDEX(Input_Details!$L$5:$L$24, MATCH($A5815, Input_Details!$J$5:$J$24, 0), 0)","v":{"$error":"#N/A"}},"Sun","12:45:00",null,null,null,null,null,null,null,null,null,null,null,null,null,null,null,null,null,null,null,null,null,null,null,null,null,null,null,null,null,null,null,null,null,null,null,null,null,"Sun","12:45:00","-","-","-","-","-","-","-","-","-","-","-","-","-","-","-","-","-","-","-","-","-","-","-","-","-","-","-","-","-","-","-","-","-","-","-","-","-","-","-","-","-","-","-","-","-","-","-","-","-","-","-","-","-","-"]
[0,{"$f":"OFFSET(Input_Details!$Q$4,MATCH($A5823, Input_Details!$J$5:$J$24, 0), 6)","v":{"$error":"#N/A"}},{"$f":"INDEX(Input_Details!$H$5:$H$24, MATCH($A5823, Input_Details!$J$5:$J$24, 0), 0)","v":{"$error":"#N/A"}},{"$f":"INDEX(Input_Details!$I$5:$I$24, MATCH($A5823, Input_Details!$J$5:$J$24, 0), 0)","v":{"$error":"#N/A"}},{"$f":"INDEX(Input_Details!$K$5:$K$24, MATCH($A5823, Input_Details!$J$5:$J$24, 0), 0)","v":{"$error":"#N/A"}},"Sun","14:45:00",null,null,null,null,null,null,null,null,null,null,null,null,null,null,null,null,null,null,null,null,null,null,null,null,null,null,null,null,null,null,null,null,null,null,null,null,{"$f":"INDEX(Input_Details!$L$5:$L$24, MATCH($A5823, Input_Details!$J$5:$J$24, 0), 0)","v":{"$error":"#N/A"}},"Sun","14:45:00",null,null,null,null,null,null,null,null,null,null,null,null,null,null,null,null,null,null,null,null,null,null,null,null,null,null,null,null,null,null,null,null,null,null,null,null,null,"Sun","14:45:00","-","-","-","-","-","-","-","-","-","-","-","-","-","-","-","-","-","-","-","-","-","-","-","-","-","-","-","-","-","-","-","-","-","-","-","-","-","-","-","-","-","-","-","-","-","-","-","-","-","-","-","-","-","-"]
[0,"Weekday Average",{"$f":"INDEX(Input_Details!$H$5:$H$24, MATCH($A5866, Input_Details!$J$5:$J$24, 0), 0)","v":{"$error":"#N/A"}},{"$f":"INDEX(Input_Details!$I$5:$I$24, MATCH($A5866, Input_Details!$J$5:$J$24, 0), 0)","v":{"$error":"#N/A"}},{"$f":"INDEX(Input_Details!$K$5:$K$24, MATCH($A5866, Input_Details!$J$5:$J$24, 0), 0)","v":{"$error":"#N/A"}},"WD Ave","01:30:00",{"$f":"IF(AND(H5194=\"\",H5290=\"\",H5386=\"\",H5482=\"\",H5578=\"\"), \"-\", IF(H5194+H5290+H5386+H5482+H5578=0,0,AVERAGE(H5194,H5290,H5386,H5482,H5578)))","v":"-"},"-","-","-","-","-","-","-","-","-","-","-",{"$f":"IF(AND(T5194=\"\",T5290=\"\",T5386=\"\",T5482=\"\",T5578=\"\"), \"-\", IF(SUM($H5866:$S5866)=0, 0, IF(T5194+T5290+T5386+T5482+T5578=0,0,AVERAGE(T5194,T5290,T5386,T5482,T5578))))","v":"-"},"-","-","-","-","-","-","-","-","-","-","-","-","-","-","-","-","-","-","-",{"$f":"IF(SUM(H5866:S5866)=0,\"-\",AVERAGEIF(G5188:G5667,$G5866,AN5188:AN5667))","v":"-"},{"$f":"IFERROR(IF(SUM(H5866:S5866)=0,\"-\",AVERAGEIF(G5188:G5667,G5866,AO5188:AO5667)), \"-\")","v":"-"},"-","-",{"$f":"INDEX(Input_Details!$L$5:$L$24, MATCH($A5866, Input_Details!$J$5:$J$24, 0), 0)","v":{"$error":"#N/A"}},"WD Ave","01:30:00",{"$f":"IF(AND(AU5194=\"\",AU5290=\"\",AU5386=\"\",AU5482=\"\",AU5578=\"\"), \"-\", IF(AU5194+AU5290+AU5386+AU5482+AU5578=0,0,AVERAGE(AU5194,AU5290,AU5386,AU5482,AU5578)))","v":"-"},"-","-","-","-","-","-","-","-","-","-","-",{"$f":"IF(AND(BG5194=\"\",BG5290=\"\",BG5386=\"\",BG5482=\"\",BG5578=\"\"), \"-\", IF(SUM($AU5866:$BF5866)=0, 0, IF(BG5194+BG5290+BG5386+BG5482+BG5578=0,0,AVERAGE(BG5194,BG5290,BG5386,BG5482,BG5578))))","v":"-"},"-","-","-","-","-","-","-","-","-","-","-","-","-","-","-","-","-","-","-",{"$f":"IF(SUM(AU5866:BF5866)=0,\"-\",AVERAGEIF(AT5188:AT5667,$G5866,CA5188:CA5667))","v":"-"},{"$f":"IFERROR(IF(SUM(AU5866:BF5866)=0,\"-\",AVERAGEIF(AT5188:AT5667,AT5866,CB5188:CB5667)), \"-\")","v":"-"},"-","-",null,"WD Ave","01:30:00",{"$f":"IF(AND(CH5194=\"-\",CH5290=\"-\",CH5386=\"-\",CH5482=\"-\",CH5578=\"-\"), \"-\", ROUND(AVERAGE(CH5194,CH5290,CH5386,CH5482,CH5578), 0))","v":"-"},"-","-","-","-","-","-","-","-","-","-","-",{"$f":"IF(AND(CT5194=\"-\",CT5290=\"-\",CT5386=\"-\",CT5482=\"-\",CT5578=\"-\"), \"-\", IF(SUM($CH5866:$CS5866)=0, 0, ROUND(AVERAGE(CT5194,CT5290,CT5386,CT5482,CT5578), 0)))","v":"-"},"-","-","-","-","-","-","-","-","-","-","-","-","-","-","-","-","-","-","-","-","-","-","-","-","-","-","-","-","-","-","-","-","-","-","-","-","-","-","-","-","-"]
[0,"Weekday Average",{"$f":"INDEX(Input_Details!$H$5:$H$24, MATCH($A5882, Input_Details!$J$5:$J$24, 0), 0)","v":{"$error":"#N/A"}},{"$f":"INDEX(Input_Details!$I$5:$I$24, MATCH($A5882, Input_Details!$J$5:$J$24, 0), 0)","v":{"$error":"#N/A"}},{"$f":"INDEX(Input_Details!$K$5:$K$24, MATCH($A5882, Input_Details!$J$5:$J$24, 0), 0)","v":{"$error":"#N/A"}},"WD Ave","05:30:00",{"$f":"IF(AND(H5210=\"\",H5306=\"\",H5402=\"\",H5498=\"\",H5594=\"\"), \"-\", IF(H5210+H5306+H5402+H5498+H5594=0,0,AVERAGE(H5210,H5306,H5402,H5498,H5594)))","v":"-"},"-","-","-","-","-","-","-","-","-","-","-",{"$f":"IF(AND(T5210=\"\",T5306=\"\",T5402=\"\",T5498=\"\",T5594=\"\"), \"-\", IF(SUM($H5882:$S5882)=0, 0, IF(T5210+T5306+T5402+T5498+T5594=0,0,AVERAGE(T5210,T5306,T5402,T5498,T5594))))","v":"-"},"-","-","-","-","-","-","-","-","-","-","-","-","-","-","-","-","-","-","-",{"$f":"IF(SUM(H5882:S5882)=0,\"-\",AVERAGEIF(G5188:G5667,$G5882,AN5188:AN5667))","v":"-"},{"$f":"IFERROR(IF(SUM(H5882:S5882)=0,\"-\",AVERAGEIF(G5188:G5667,G5882,AO5188:AO5667)), \"-\")","v":"-"},"-","-",{"$f":"INDEX(Input_Details!$L$5:$L$24, MATCH($A5882, Input_Details!$J$5:$J$24, 0), 0)","v":{"$error":"#N/A"}},"WD Ave","05:30:00",{"$f":"IF(AND(AU5210=\"\",AU5306=\"\",AU5402=\"\",AU5498=\"\",AU5594=\"\"), \"-\", IF(AU5210+AU5306+AU5402+AU5498+AU5594=0,0,AVERAGE(AU5210,AU5306,AU5402,AU5498,AU5594)))","v":"-"},"-","-","-","-","-","-","-","-","-","-","-",{"$f":"IF(AND(BG5210=\"\",BG5306=\"\",BG5402=\"\",BG5498=\"\",BG5594=\"\"), \"-\", IF(SUM($AU5882:$BF5882)=0, 0, IF(BG5210+BG5306+BG5402+BG5498+BG5594=0,0,AVERAGE(BG5210,BG5306,BG5402,BG5498,BG5594))))","v":"-"},"-","-","-","-","-","-","-","-","-","-","-","-","-","-","-","-","-","-","-",{"$f":"IF(SUM(AU5882:BF5882)=0,\"-\",AVERAGEIF(AT5188:AT5667,$G5882,CA5188:CA5667))","v":"-"},{"$f":"IFERROR(IF(SUM(AU5882:BF5882)=0,\"-\",AVERAGEIF(AT5188:AT5667,AT5882,CB5188:CB5667)), \"-\")","v":"-"},"-","-",null,"WD Ave","05:30:00",{"$f":"IF(AND(CH5210=\"-\",CH5306=\"-\",CH5402=\"-\",CH5498=\"-\",CH5594=\"-\"), \"-\", ROUND(AVERAGE(CH5210,CH5306,CH5402,CH5498,CH5594), 0))","v":"-"},"-","-","-","-","-","-","-","-","-","-","-",{"$f":"IF(AND(CT5210=\"-\",CT5306=\"-\",CT5402=\"-\",CT5498=\"-\",CT5594=\"-\"), \"-\", IF(SUM($CH5882:$CS5882)=0, 0, ROUND(AVERAGE(CT5210,CT5306,CT5402,CT5498,CT5594), 0)))","v":"-"},"-","-","-","-","-","-","-","-","-","-","-","-","-","-","-","-","-","-","-","-","-","-","-","-","-","-","-","-","-","-","-","-","-","-","-","-","-","-","-","-","-"]
[0,"Weekday Average",{"$f":"INDEX(Input_Details!$H$5:$H$24, MATCH($A5945, Input_Details!$J$5:$J$24, 0), 0)","v":{"$error":"#N/A"}},{"$f":"INDEX(Input_Details!$I$5:$I$24, MATCH($A5945, Input_Details!$J$5:$J$24, 0), 0)","v":{"$error":"#N/A"}},{"$f":"INDEX(Input_Details!$K$5:$K$24, MATCH($A5945, Input_Details!$J$5:$J$24, 0), 0)","v":{"$error":"#N/A"}},"WD Ave","21:15:00",{"$f":"IF(AND(H5273=\"\",H5369=\"\",H5465=\"\",H5561=\"\",H5657=\"\"), \"-\", IF(H5273+H5369+H5465+H5561+H5657=0,0,AVERAGE(H5273,H5369,H5465,H5561,H5657)))","v":"-"},"-","-","-","-","-","-","-","-","-","-","-",{"$f":"IF(AND(T5273=\"\",T5369=\"\",T5465=\"\",T5561=\"\",T5657=\"\"), \"-\", IF(SUM($H5945:$S5945)=0, 0, IF(T5273+T5369+T5465+T5561+T5657=0,0,AVERAGE(T5273,T5369,T5465,T5561,T5657))))","v":"-"},"-","-","-","-","-","-","-","-","-","-","-","-","-","-","-","-","-","-","-",{"$f":"IF(SUM(H5945:S5945)=0,\"-\",AVERAGEIF(G5188:G5667,$G5945,AN5188:AN5667))","v":"-"},{"$f":"IFERROR(IF(SUM(H5945:S5945)=0,\"-\",AVERAGEIF(G5188:G5667,G5945,AO5188:AO5667)), \"-\")","v":"-"},"-","-",{"$f":"INDEX(Input_Details!$L$5:$L$24, MATCH($A5945, Input_Details!$J$5:$J$24, 0), 0)","v":{"$error":"#N/A"}},"WD Ave","21:15:00",{"$f":"IF(AND(AU5273=\"\",AU5369=\"\",AU5465=\"\",AU5561=\"\",AU5657=\"\"), \"-\", IF(AU5273+AU5369+AU5465+AU5561+AU5657=0,0,AVERAGE(AU5273,AU5369,AU5465,AU5561,AU5657)))","v":"-"},"-","-","-","-","-","-","-","-","-","-","-",{"$f":"IF(AND(BG5273=\"\",BG5369=\"\",BG5465=\"\",BG5561=\"\",BG5657=\"\"), \"-\", IF(SUM($AU5945:$BF5945)=0, 0, IF(BG5273+BG5369+BG5465+BG5561+BG5657=0,0,AVERAGE(BG5273,BG5369,BG5465,BG5561,BG5657))))","v":"-"},"-","-","-","-","-","-","-","-","-","-","-","-","-","-","-","-","-","-","-",{"$f":"IF(SUM(AU5945:BF5945)=0,\"-\",AVERAGEIF(AT5188:AT5667,$G5945,CA5188:CA5667))","v":"-"},{"$f":"IFERROR(IF(SUM(AU5945:BF5945)=0,\"-\",AVERAGEIF(AT5188:AT5667,AT5945,CB5188:CB5667)), \"-\")","v":"-"},"-","-",null,"WD Ave","21:15:00",{"$f":"IF(AND(CH5273=\"-\",CH5369=\"-\",CH5465=\"-\",CH5561=\"-\",CH5657=\"-\"), \"-\", ROUND(AVERAGE(CH5273,CH5369,CH5465,CH5561,CH5657), 0))","v":"-"},"-","-","-","-","-","-","-","-","-","-","-",{"$f":"IF(AND(CT5273=\"-\",CT5369=\"-\",CT5465=\"-\",CT5561=\"-\",CT5657=\"-\"), \"-\", IF(SUM($CH5945:$CS5945)=0, 0, ROUND(AVERAGE(CT5273,CT5369,CT5465,CT5561,CT5657), 0)))","v":"-"},"-","-","-","-","-","-","-","-","-","-","-","-","-","-","-","-","-","-","-","-","-","-","-","-","-","-","-","-","-","-","-","-","-","-","-","-","-","-","-","-","-"]
[0,"Weekday Average",{"$f":"INDEX(Input_Details!$H$5:$H$24, MATCH($A5955, Input_Details!$J$5:$J$24, 0), 0)","v":{"$error":"#N/A"}},{"$f":"INDEX(Input_Details!$I$5:$I$24, MATCH($A5955, Input_Details!$J$5:$J$24, 0), 0)","v":{"$error":"#N/A"}},{"$f":"INDEX(Input_Details!$K$5:$K$24, MATCH($A5955, Input_Details!$J$5:$J$24, 0), 0)","v":{"$error":"#N/A"}},"WD Ave","23:45:00",{"$f":"IF(AND(H5283=\"\",H5379=\"\",H5475=\"\",H5571=\"\",H5667=\"\"), \"-\", IF(H5283+H5379+H5475+H5571+H5667=0,0,AVERAGE(H5283,H5379,H5475,H5571,H5667)))","v":"-"},"-","-","-","-","-","-","-","-","-","-","-",{"$f":"IF(AND(T5283=\"\",T5379=\"\",T5475=\"\",T5571=\"\",T5667=\"\"), \"-\", IF(SUM($H5955:$S5955)=0, 0, IF(T5283+T5379+T5475+T5571+T5667=0,0,AVERAGE(T5283,T5379,T5475,T5571,T5667))))","v":"-"},"-","-","-","-","-","-","-","-","-","-","-","-","-","-","-","-","-","-","-",{"$f":"IF(SUM(H5955:S5955)=0,\"-\",AVERAGEIF(G5188:G5667,$G5955,AN5188:AN5667))","v":"-"},{"$f":"IFERROR(IF(SUM(H5955:S5955)=0,\"-\",AVERAGEIF(G5188:G5667,G5955,AO5188:AO5667)), \"-\")","v":"-"},"-","-",{"$f":"INDEX(Input_Details!$L$5:$L$24, MATCH($A5955, Input_Details!$J$5:$J$24, 0), 0)","v":{"$error":"#N/A"}},"WD Ave","23:45:00",{"$f":"IF(AND(AU5283=\"\",AU5379=\"\",AU5475=\"\",AU5571=\"\",AU5667=\"\"), \"-\", IF(AU5283+AU5379+AU5475+AU5571+AU5667=0,0,AVERAGE(AU5283,AU5379,AU5475,AU5571,AU5667)))","v":"-"},"-","-","-","-","-","-","-","-","-","-","-",{"$f":"IF(AND(BG5283=\"\",BG5379=\"\",BG5475=\"\",BG5571=\"\",BG5667=\"\"), \"-\", IF(SUM($AU5955:$BF5955)=0, 0, IF(BG5283+BG5379+BG5475+BG5571+BG5667=0,0,AVERAGE(BG5283,BG5379,BG5475,BG5571,BG5667))))","v":"-"},"-","-","-","-","-","-","-","-","-","-","-","-","-","-","-","-","-","-","-",{"$f":"IF(SUM(AU5955:BF5955)=0,\"-\",AVERAGEIF(AT5188:AT5667,$G5955,CA5188:CA5667))","v":"-"},{"$f":"IFERROR(IF(SUM(AU5955:BF5955)=0,\"-\",AVERAGEIF(AT5188:AT5667,AT5955,CB5188:CB5667)), \"-\")","v":"-"},"-","-",null,"WD Ave","23:45:00",{"$f":"IF(AND(CH5283=\"-\",CH5379=\"-\",CH5475=\"-\",CH5571=\"-\",CH5667=\"-\"), \"-\", ROUND(AVERAGE(CH5283,CH5379,CH5475,CH5571,CH5667), 0))","v":"-"},"-","-","-","-","-","-","-","-","-","-","-",{"$f":"IF(AND(CT5283=\"-\",CT5379=\"-\",CT5475=\"-\",CT5571=\"-\",CT5667=\"-\"), \"-\", IF(SUM($CH5955:$CS5955)=0, 0, ROUND(AVERAGE(CT5283,CT5379,CT5475,CT5571,CT5667), 0)))","v":"-"},"-","-","-","-","-","-","-","-","-","-","-","-","-","-","-","-","-","-","-","-","-","-","-","-","-","-","-","-","-","-","-","-","-","-","-","-","-","-","-","-","-"]
[0,"7-Day Average",{"$f":"INDEX(Input_Details!$H$5:$H$24, MATCH($A5983, Input_Details!$J$5:$J$24, 0), 0)","v":{"$error":"#N/A"}},{"$f":"INDEX(Input_Details!$I$5:$I$24, MATCH($A5983, Input_Details!$J$5:$J$24, 0), 0)","v":{"$error":"#N/A"}},{"$f":"INDEX(Input_Details!$K$5:$K$24, MATCH($A5983, Input_Details!$J$5:$J$24, 0), 0)","v":{"$error":"#N/A"}},"7 Day Ave","06:45:00",{"$f":"IF(AND(H5215=\"\",H5311=\"\",H5407=\"\",H5503=\"\",H5599=\"\",H5695=\"\",H5791=\"\"), \"-\", IF(H5215+H5311+H5407+H5503+H5599+H5695+H5791=0,0,AVERAGE(H5215,H5311,H5407,H5503,H5599,H5695,H5791)))","v":"-"},"-","-","-","-","-","-","-","-","-","-","-",{"$f":"IF(AND(T5215=\"\",T5311=\"\",T5407=\"\",T5503=\"\",T5599=\"\",T5695=\"\",T5791=\"\"), \"-\", IF(SUM($H5983:$S5983)=0, 0, IF(T5215+T5311+T5407+T5503+T5599+T5695+T5791=0,0,AVERAGE(T5215,T5311,T5407,T5503,T5599,T5695,T5791))))","v":"-"},"-","-","-","-","-","-","-","-","-","-","-","-","-","-","-","-","-","-","-",{"$f":"IF(SUM(H5983:S5983)=0,\"-\",AVERAGEIF(G5188:G5859,$G5983,AN5188:AN5859))","v":"-"},{"$f":"IFERROR(IF(SUM(H5983:S5983)=0,\"-\",AVERAGEIF(G5188:G5859,G5983,AO5188:AO5859)), \"-\")","v":"-"},"-","-",{"$f":"INDEX(Input_Details!$L$5:$L$24, MATCH($A5983, Input_Details!$J$5:$J$24, 0), 0)","v":{"$error":"#N/A"}},"7 Day Ave","06:45:00",{"$f":"IF(AND(AU5215=\"\",AU5311=\"\",AU5407=\"\",AU5503=\"\",AU5599=\"\",AU5695=\"\",AU5791=\"\"), \"-\", IF(AU5215+AU5311+AU5407+AU5503+AU5599+AU5695+AU5791=0,0,AVERAGE(AU5215,AU5311,AU5407,AU5503,AU5599,AU5695,AU5791)))","v":"-"},"-","-","-","-","-","-","-","-","-","-","-",{"$f":"IF(AND(BG5215=\"\",BG5311=\"\",BG5407=\"\",BG5503=\"\",BG5599=\"\",BG5695=\"\",BG5791=\"\"), \"-\", IF(SUM($AU5983:$BF5983)=0, 0, IF(BG5215+BG5311+BG5407+BG5503+BG5599+BG5695+BG5791=0,0,AVERAGE(BG5215,BG5311,BG5407,BG5503,BG5599,BG5695,BG5791))))","v":"-"},"-","-","-","-","-","-","-","-","-","-","-","-","-","-","-","-","-","-","-",{"$f":"IF(SUM(AU5983:BF5983)=0,\"-\",AVERAGEIF(AT5188:AT5859,$G5983,CA5188:CA5859))","v":"-"},{"$f":"IFERROR(IF(SUM(AU5983:BF5983)=0,\"-\",AVERAGEIF(AT5188:AT5859,AT5983,CB5188:CB5859)), \"-\")","v":"-"},"-","-",null,"7 Day Ave","06:45:00",{"$f":"IF(AND(CH5215=\"-\",CH5311=\"-\",CH5407=\"-\",CH5503=\"-\",CH5599=\"-\",CH5695=\"-\",CH5791=\"-\"), \"-\", ROUND(AVERAGE(CH5215,CH5311,CH5407,CH5503,CH5599,CH5695,CH5791),0))","v":"-"},"-","-","-","-","-","-","-","-","-","-","-",{"$f":"IF(AND(CT5215=\"-\",CT5311=\"-\",CT5407=\"-\",CT5503=\"-\",CT5599=\"-\",CT5695=\"-\",CT5791=\"-\"), \"-\", IF(SUM($CH5983:$CS5983)=0, 0, ROUND(AVERAGE(CT5215,CT5311,CT5407,CT5503,CT5599,CT5695,CT5791),0)))","v":"-"},"-","-","-","-","-","-","-","-","-","-","-","-","-","-","-","-","-","-","-","-","-","-","-","-","-","-","-","-","-","-","-","-","-","-","-","-","-","-","-","-","-"]
[0,"7-Day Average",{"$f":"INDEX(Input_Details!$H$5:$H$24, MATCH($A6038, Input_Details!$J$5:$J$24, 0), 0)","v":{"$error":"#N/A"}},{"$f":"INDEX(Input_Details!$I$5:$I$24, MATCH($A6038, Input_Details!$J$5:$J$24, 0), 0)","v":{"$error":"#N/A"}},{"$f":"INDEX(Input_Details!$K$5:$K$24, MATCH($A6038, Input_Details!$J$5:$J$24, 0), 0)","v":{"$error":"#N/A"}},"7 Day Ave","20:30:00",{"$f":"IF(AND(H5270=\"\",H5366=\"\",H5462=\"\",H5558=\"\",H5654=\"\",H5750=\"\",H5846=\"\"), \"-\", IF(H5270+H5366+H5462+H5558+H5654+H5750+H5846=0,0,AVERAGE(H5270,H5366,H5462,H5558,H5654,H5750,H5846)))","v":"-"},"-","-","-","-","-","-","-","-","-","-","-",{"$f":"IF(AND(T5270=\"\",T5366=\"\",T5462=\"\",T5558=\"\",T5654=\"\",T5750=\"\",T5846=\"\"), \"-\", IF(SUM($H6038:$S6038)=0, 0, IF(T5270+T5366+T5462+T5558+T5654+T5750+T5846=0,0,AVERAGE(T5270,T5366,T5462,T5558,T5654,T5750,T5846))))","v":"-"},"-","-","-","-","-","-","-","-","-","-","-","-","-","-","-","-","-","-","-",{"$f":"IF(SUM(H6038:S6038)=0,\"-\",AVERAGEIF(G5188:G5859,$G6038,AN5188:AN5859))","v":"-"},{"$f":"IFERROR(IF(SUM(H6038:S6038)=0,\"-\",AVERAGEIF(G5188:G5859,G6038,AO5188:AO5859)), \"-\")","v":"-"},"-","-",{"$f":"INDEX(Input_Details!$L$5:$L$24, MATCH($A6038, Input_Details!$J$5:$J$24, 0), 0)","v":{"$error":"#N/A"}},"7 Day Ave","20:30:00",{"$f":"IF(AND(AU5270=\"\",AU5366=\"\",AU5462=\"\",AU5558=\"\",AU5654=\"\",AU5750=\"\",AU5846=\"\"), \"-\", IF(AU5270+AU5366+AU5462+AU5558+AU5654+AU5750+AU5846=0,0,AVERAGE(AU5270,AU5366,AU5462,AU5558,AU5654,AU5750,AU5846)))","v":"-"},"-","-","-","-","-","-","-","-","-","-","-",{"$f":"IF(AND(BG5270=\"\",BG5366=\"\",BG5462=\"\",BG5558=\"\",BG5654=\"\",BG5750=\"\",BG5846=\"\"), \"-\", IF(SUM($AU6038:$BF6038)=0, 0, IF(BG5270+BG5366+BG5462+BG5558+BG5654+BG5750+BG5846=0,0,AVERAGE(BG5270,BG5366,BG5462,BG5558,BG5654,BG5750,BG5846))))","v":"-"},"-","-","-","-","-","-","-","-","-","-","-","-","-","-","-","-","-","-","-",{"$f":"IF(SUM(AU6038:BF6038)=0,\"-\",AVERAGEIF(AT5188:AT5859,$G6038,CA5188:CA5859))","v":"-"},{"$f":"IFERROR(IF(SUM(AU6038:BF6038)=0,\"-\",AVERAGEIF(AT5188:AT5859,AT6038,CB5188:CB5859)), \"-\")","v":"-"},"-","-",null,"7 Day Ave","20:30:00",{"$f":"IF(AND(CH5270=\"-\",CH5366=\"-\",CH5462=\"-\",CH5558=\"-\",CH5654=\"-\",CH5750=\"-\",CH5846=\"-\"), \"-\", ROUND(AVERAGE(CH5270,CH5366,CH5462,CH5558,CH5654,CH5750,CH5846),0))","v":"-"},"-","-","-","-","-","-","-","-","-","-","-",{"$f":"IF(AND(CT5270=\"-\",CT5366=\"-\",CT5462=\"-\",CT5558=\"-\",CT5654=\"-\",CT5750=\"-\",CT5846=\"-\"), \"-\", IF(SUM($CH6038:$CS6038)=0, 0, ROUND(AVERAGE(CT5270,CT5366,CT5462,CT5558,CT5654,CT5750,CT5846),0)))","v":"-"},"-","-","-","-","-","-","-","-","-","-","-","-","-","-","-","-","-","-","-","-","-","-","-","-","-","-","-","-","-","-","-","-","-","-","-","-","-","-","-","-","-"]
[{"$error":"#N/A"},{"$f":"OFFSET(Input_Details!$Q$4,MATCH($A6077, Input_Details!$J$5:$J$24, 0), 0)","v":{"$error":"#N/A"}},{"$f":"INDEX(Input_Details!$H$5:$H$24, MATCH($A6077, Input_Details!$J$5:$J$24, 0), 0)","v":{"$error":"#N/A"}},{"$f":"INDEX(Input_Details!$I$5:$I$24, MATCH($A6077, Input_Details!$J$5:$J$24, 0), 0)","v":{"$error":"#N/A"}},{"$f":"INDEX(Input_Details!$K$5:$K$24, MATCH($A6077, Input_Details!$J$5:$J$24, 0), 0)","v":{"$error":"#N/A"}},"Mon","06:15:00",null,null,null,null,null,null,null,null,null,null,null,null,null,null,null,null,null,null,null,null,null,null,null,null,null,null,null,null,null,null,null,null,null,null,null,null,{"$f":"INDEX(Input_Details!$L$5:$L$24, MATCH($A6077, Input_Details!$J$5:$J$24, 0), 0)","v":{"$error":"#N/A"}},"Mon","06:15:00",null,null,null,null,null,null,null,null,null,null,null,null,null,null,null,null,null,null,null,null,null,null,null,null,null,null,null,null,null,null,null,null,null,null,null,null,null,"Mon","06:15:00","-","-","-","-","-","-","-","-","-","-","-","-","-","-","-","-","-","-","-","-","-","-","-","-","-","-","-","-","-","-","-","-","-","-","-","-","-","-","-","-","-","-","-","-","-","-","-","-","-","-","-","-","-","-","-","-","-","-","-","-","-","-","-","-","-","-","-","-","-","-","-","-","-","-","-"]
[{"$error":"#N/A"},{"$f":"OFFSET(Input_Details!$Q$4,MATCH($A6084, Input_Details!$J$5:$J$24, 0), 0)","v":{"$error":"#N/A"}},{"$f":"INDEX(Input_Details!$H$5:$H$24, MATCH($A6084, Input_Details!$J$5:$J$24, 0), 0)","v":{"$error":"#N/A"}},{"$f":"INDEX(Input_Details!$I$5:$I$24, MATCH($A6084, Input_Details!$J$5:$J$24, 0), 0)","v":{"$error":"#N/A"}},{"$f":"INDEX(Input_Details!$K$5:$K$24, MATCH($A6084, Input_Details!$J$5:$J$24, 0), 0)","v":{"$error":"#N/A"}},"Mon","08:00:00",null,null,null,null,null,null,null,null,null,null,null,null,null,null,null,null,null,null,null,null,null,null,null,null,null,null,null,null,null,null,null,null,null,null,null,null,{"$f":"INDEX(Input_Details!$L$5:$L$24, MATCH($A6084, Input_Details!$J$5:$J$24, 0), 0)","v":{"$error":"#N/A"}},"Mon","08:00:00",null,null,null,null,null,null,null,null,null,null,null,null,null,null,null,null,null,null,null,null,null,null,null,null,null,null,null,null,null,null,null,null,null,null,null,null,null,"Mon","08:00:00","-","-","-","-","-","-","-","-","-","-","-","-","-","-","-","-","-","-","-","-","-","-","-","-","-","-","-","-","-","-","-","-","-","-","-","-","-","-","-","-","-","-","-","-","-","-","-","-","-",{"$f":"IF(OR(DS6084=\"-\", DY6084=\"-\"), \"-\", SUM(DS6084,DY6084))","v":"-"},{"$f":"IF(OR(DT6084=\"-\", DZ6084=\"-\"), \"-\", SUM(DT6084,DZ6084))","v":"-"},{"$f":"IF(OR(DU6084=\"-\", EA6084=\"-\"), \"-\", SUM(DU6084,EA6084))","v":"-"},{"$f":"IF(OR(DV6084=\"-\", EB6084=\"-\"), \"-\", SUM(DV6084,EB6084))","v":"-"},{"$f":"IF(OR(DW6084=\"-\", EC6084=\"-\"), \"-\", SUM(DW6084,EC6084))","v":"-"},"-","-","-","-","-","-","-","-","-","-","-","-","-","-","-","-","-","-","-","-","-"]
[{"$error":"#N/A"},{"$f":"OFFSET(Input_Details!$Q$4,MATCH($A6127, Input_Details!$J$5:$J$24, 0), 0)","v":{"$error":"#N/A"}},{"$f":"INDEX(Input_Details!$H$5:$H$24, MATCH($A6127, Input_Details!$J$5:$J$24, 0), 0)","v":{"$error":"#N/A"}},{"$f":"INDEX(Input_Details!$I$5:$I$24, MATCH($A6127, Input_Details!$J$5:$J$24, 0), 0)","v":{"$error":"#N/A"}},{"$f":"INDEX(Input_Details!$K$5:$K$24, MATCH($A6127, Input_Details!$J$5:$J$24, 0), 0)","v":{"$error":"#N/A"}},"Mon","18:45:00",null,null,null,null,null,null,null,null,null,null,null,null,null,null,null,null,null,null,null,null,null,null,null,null,null,null,null,null,null,null,null,null,null,null,null,null,{"$f":"INDEX(Input_Details!$L$5:$L$24, MATCH($A6127, Input_Details!$J$5:$J$24, 0), 0)","v":{"$error":"#N/A"}},"Mon","18:45:00",null,null,null,null,null,null,null,null,null,null,null,null,null,null,null,null,null,null,null,null,null,null,null,null,null,null,null,null,null,null,null,null,null,null,null,null,null,"Mon","18:45:00","-","-","-","-","-","-","-","-","-","-","-","-","-","-","-","-","-","-","-","-","-","-","-","-","-","-","-","-","-","-","-","-","-","-","-","-","-","-","-","-","-","-","-","-","-","-","-","-","-","-","-","-","-","-","-","-","-","-","-","-","-","-","-","-","-","-","-","-","-","-","-","-","-","-","-"]
[{"$error":"#N/A"},{"$f":"OFFSET(Input_Details!$Q$4,MATCH($A6166, Input_Details!$J$5:$J$24, 0), 1)","v":{"$error":"#N/A"}},{"$f":"INDEX(Input_Details!$H$5:$H$24, MATCH($A6166, Input_Details!$J$5:$J$24, 0), 0)","v":{"$error":"#N/A"}},{"$f":"INDEX(Input_Details!$I$5:$I$24, MATCH($A6166, Input_Details!$J$5:$J$24, 0), 0)","v":{"$error":"#N/A"}},{"$f":"INDEX(Input_Details!$K$5:$K$24, MATCH($A6166, Input_Details!$J$5:$J$24, 0), 0)","v":{"$error":"#N/A"}},"Tues","04:30:00",null,null,null,null,null,null,null,null,null,null,null,null,null,null,null,null,null,null,null,null,null,null,null,null,null,null,null,null,null,null,null,null,null,null,null,null,{"$f":"INDEX(Input_Details!$L$5:$L$24, MATCH($A6166, Input_Details!$J$5:$J$24, 0), 0)","v":{"$error":"#N/A"}},"Tues","04:30:00",null,null,null,null,null,null,null,null,null,null,null,null,null,null,null,null,null,null,null,null,null,null,null,null,null,null,null,null,null,null,null,null,null,null,null,null,null,"Tues","04:30:00","-","-","-","-","-","-","-","-","-","-","-","-","-","-","-","-","-","-","-","-","-","-","-","-","-","-","-","-","-","-","-","-","-","-","-","-","-","-","-","-","-","-","-","-","-","-","-","-","-","-","-","-","-","-"]
[{"$error":"#N/A"},{"$f":"OFFSET(Input_Details!$Q$4,MATCH($A6205, Input_Details!$J$5:$J$24, 0), 1)","v":{"$error":"#N/A"}},{"$f":"INDEX(Input_Details!$H$5:$H$24, MATCH($A6205, Input_Details!$J$5:$J$24, 0), 0)","v":{"$error":"#N/A"}},{"$f":"INDEX(Input_Details!$I$5:$I$24, MATCH($A6205, Input_Details!$J$5:$J$24, 0), 0)","v":{"$error":"#N/A"}},{"$f":"INDEX(Input_Details!$K$5:$K$24, MATCH($A6205, Input_Details!$J$5:$J$24, 0), 0)","v":{"$error":"#N/A"}},"Tues","14:15:00",null,null,null,null,null,null,null,null,null,null,null,null,null,null,null,null,null,null,null,null,null,null,null,null,null,null,null,null,null,null,null,null,null,null,null,null,{"$f":"INDEX(Input_Details!$L$5:$L$24, MATCH($A6205, Input_Details!$J$5:$J$24, 0), 0)","v":{"$error":"#N/A"}},"Tues","14:15:00",null,null,null,null,null,null,null,null,null,null,null,null,null,null,null,null,null,null,null,null,null,null,null,null,null,null,null,null,null,null,null,null,null,null,null,null,null,"Tues","14:15:00","-","-","-","-","-","-","-","-","-","-","-","-","-","-","-","-","-","-","-","-","-","-","-","-","-","-","-","-","-","-","-","-","-","-","-","-","-","-","-","-","-","-","-","-","-","-","-","-","-","-","-","-","-","-"]
[{"$error":"#N/A"},{"$f":"OFFSET(Input_Details!$Q$4,MATCH($A6219, Input_Details!$J$5:$J$24, 0), 1)","v":{"$error":"#N/A"}},{"$f":"INDEX(Input_Details!$H$5:$H$24, MATCH($A6219, Input_Details!$J$5:$J$24, 0), 0)","v":{"$error":"#N/A"}},{"$f":"INDEX(Input_Details!$I$5:$I$24, MATCH($A6219, Input_Details!$J$5:$J$24, 0), 0)","v":{"$error":"#N/A"}},{"$f":"INDEX(Input_Details!$K$5:$K$24, MATCH($A6219, Input_Details!$J$5:$J$24, 0), 0)","v":{"$error":"#N/A"}},"Tues","17:45:00",null,null,null,null,null,null,null,null,null,null,null,null,null,null,null,null,null,null,null,null,null,null,null,null,null,null,null,null,null,null,null,null,null,null,null,null,{"$f":"INDEX(Input_Details!$L$5:$L$24, MATCH($A6219, Input_Details!$J$5:$J$24, 0), 0)","v":{"$error":"#N/A"}},"Tues","17:45:00",null,null,null,null,null,null,null,null,null,null,null,null,null,null,null,null,null,null,null,null,null,null,null,null,null,null,null,null,null,null,null,null,null,null,null,null,null,"Tues","17:45:00","-","-","-","-","-","-","-","-","-","-","-","-","-","-","-","-","-","-","-","-","-","-","-","-","-","-","-","-","-","-","-","-","-","-","-","-","-","-","-",{"$f":"IF(DR6219=\"-\", \"-\", L6219)","v":"-"},"-","-","-","-","-","-","-","-","-","-","-","-","-","-"]
[{"$error":"#N/A"},{"$f":"OFFSET(Input_Details!$Q$4,MATCH($A6255, Input_Details!$J$5:$J$24, 0), 2)","v":{"$error":"#N/A"}},{"$f":"INDEX(Input_Details!$H$5:$H$24, MATCH($A6255, Input_Details!$J$5:$J$24, 0), 0)","v":{"$error":"#N/A"}},{"$f":"INDEX(Input_Details!$I$5:$I$24, MATCH($A6255, Input_Details!$J$5:$J$24, 0), 0)","v":{"$error":"#N/A"}},{"$f":"INDEX(Input_Details!$K$5:$K$24, MATCH($A6255, Input_Details!$J$5:$J$24, 0), 0)","v":{"$error":"#N/A"}},"Wed","02:45:00",null,null,null,null,null,null,null,null,null,null,null,null,null,null,null,null,null,null,null,null,null,null,null,null,null,null,null,null,null,null,null,null,null,null,null,null,{"$f":"INDEX(Input_Details!$L$5:$L$24, MATCH($A6255, Input_Details!$J$5:$J$24, 0), 0)","v":{"$error":"#N/A"}},"Wed","02:45:00",null,null,null,null,null,null,null,null,null,null,null,null,null,null,null,null,null,null,null,null,null,null,null,null,null,null,null,null,null,null,null,null,null,null,null,null,null,"Wed","02:45:00","-","-","-","-","-","-","-","-","-","-","-","-","-","-","-","-","-","-","-","-","-","-","-","-","-","-","-","-","-","-","-","-","-","-","-","-","-","-","-","-","-","-","-","-","-","-","-","-","-","-","-","-","-","-"]
[{"$error":"#N/A"},{"$f":"OFFSET(Input_Details!$Q$4,MATCH($A6298, Input_Details!$J$5:$J$24, 0), 2)","v":{"$error":"#N/A"}},{"$f":"INDEX(Input_Details!$H$5:$H$24, MATCH($A6298, Input_Details!$J$5:$J$24, 0), 0)","v":{"$error":"#N/A"}},{"$f":"INDEX(Input_Details!$I$5:$I$24, MATCH($A6298, Input_Details!$J$5:$J$24, 0), 0)","v":{"$error":"#N/A"}},{"$f":"INDEX(Input_Details!$K$5:$K$24, MATCH($A6298, Input_Details!$J$5:$J$24, 0), 0)","v":{"$error":"#N/A"}},"Wed","13:30:00",null,null,null,null,null,null,null,null,null,null,null,null,null,null,null,null,null,null,null,null,null,null,null,null,null,null,null,null,null,null,null,null,null,null,null,null,{"$f":"INDEX(Input_Details!$L$5:$L$24, MATCH($A6298, Input_Details!$J$5:$J$24, 0), 0)","v":{"$error":"#N/A"}},"Wed","13:30:00",null,null,null,null,null,null,null,null,null,null,null,null,null,null,null,null,null,null,null,null,null,null,null,null,null,null,null,null,null,null,null,null,null,null,null,null,null,"Wed","13:30:00","-","-","-","-","-","-","-","-","-","-","-","-","-","-","-","-","-","-","-","-","-","-","-","-","-","-","-","-","-","-","-","-","-","-","-","-","-","-","-","-","-","-","-","-","-","-","-","-","-","-","-","-","-","-"]
[{"$error":"#N/A"},{"$f":"OFFSET(Input_Details!$Q$4,MATCH($A6320, Input_Details!$J$5:$J$24, 0), 2)","v":{"$error":"#N/A"}},{"$f":"INDEX(Input_Details!$H$5:$H$24, MATCH($A6320, Input_Details!$J$5:$J$24, 0), 0)","v":{"$error":"#N/A"}},{"$f":"INDEX(Input_Details!$I$5:$I$24, MATCH($A6320, Input_Details!$J$5:$J$24, 0), 0)","v":{"$error":"#N/A"}},{"$f":"INDEX(Input_Details!$K$5:$K$24, MATCH($A6320, Input_Details!$J$5:$J$24, 0), 0)","v":{"$error":"#N/A"}},"Wed","19:00:00",null,null,null,null,null,null,null,null,null,null,null,null,null,null,null,null,null,null,null,null,null,null,null,null,null,null,null,null,null,null,null,null,null,null,null,null,{"$f":"INDEX(Input_Details!$L$5:$L$24, MATCH($A6320, Input_Details!$J$5:$J$24, 0), 0)","v":{"$error":"#N/A"}},"Wed","19:00:00",null,null,null,null,null,null,null,null,null,null,null,null,null,null,null,null,null,null,null,null,null,null,null,null,null,null,null,null,null,null,null,null,null,null,null,null,null,"Wed","19:00:00","-","-","-","-","-","-","-","-","-","-","-","-","-","-","-","-","-","-","-","-","-","-","-","-","-","-","-","-","-","-","-","-","-","-","-","-","-","-","-","-","-","-","-","-","-","-","-","-","-","-","-","-","-","-"]
[{"$error":"#N/A"},{"$f":"OFFSET(Input_Details!$Q$4,MATCH($A6377, Input_Details!$J$5:$J$24, 0), 3)","v":{"$error":"#N/A"}},{"$f":"INDEX(Input_Details!$H$5:$H$24, MATCH($A6377, Input_Details!$J$5:$J$24, 0), 0)","v":{"$error":"#N/A"}},{"$f":"INDEX(Input_Details!$I$5:$I$24, MATCH($A6377, Input_Details!$J$5:$J$24, 0), 0)","v":{"$error":"#N/A"}},{"$f":"INDEX(Input_Details!$K$5:$K$24, MATCH($A6377, Input_Details!$J$5:$J$24, 0), 0)","v":{"$error":"#N/A"}},"Thu","09:15:00",null,null,null,null,null,null,null,null,null,null,null,null,null,null,null,null,null,null,null,null,null,null,null,null,null,null,null,null,null,null,null,null,null,null,null,null,{"$f":"INDEX(Input_Details!$L$5:$L$24, MATCH($A6377, Input_Details!$J$5:$J$24, 0), 0)","v":{"$error":"#N/A"}},"Thu","09:15:00",null,null,null,null,null,null,null,null,null,null,null,null,null,null,null,null,null,null,null,null,null,null,null,null,null,null,null,null,null,null,null,null,null,null,null,null,null,"Thu","09:15:00","-","-","-","-","-","-","-","-","-","-","-","-","-","-","-","-","-","-","-","-","-","-","-","-","-","-","-","-","-","-","-","-","-","-","-","-","-","-","-","-","-","-","-","-","-","-","-","-","-","-","-","-","-","-"]
[{"$error":"#N/A"},{"$f":"OFFSET(Input_Details!$Q$4,MATCH($A6387, Input_Details!$J$5:$J$24, 0), 3)","v":{"$error":"#N/A"}},{"$f":"INDEX(Input_Details!$H$5:$H$24, MATCH($A6387, Input_Details!$J$5:$J$24, 0), 0)","v":{"$error":"#N/A"}},{"$f":"INDEX(Input_Details!$I$5:$I$24, MATCH($A6387, Input_Details!$J$5:$J$24, 0), 0)","v":{"$error":"#N/A"}},{"$f":"INDEX(Input_Details!$K$5:$K$24, MATCH($A6387, Input_Details!$J$5:$J$24, 0), 0)","v":{"$error":"#N/A"}},"Thu","11:45:00",null,null,null,null,null,null,null,null,null,null,null,null,null,null,null,null,null,null,null,null,null,null,null,null,null,null,null,null,null,null,null,null,null,null,null,null,{"$f":"INDEX(Input_Details!$L$5:$L$24, MATCH($A6387, Input_Details!$J$5:$J$24, 0), 0)","v":{"$error":"#N/A"}},"Thu","11:45:00",null,null,null,null,null,null,null,null,null,null,null,null,null,null,null,null,null,null,null,null,null,null,null,null,null,null,null,null,null,null,null,null,null,null,null,null,null,"Thu","11:45:00","-","-","-","-","-","-","-","-","-","-","-","-","-","-","-","-","-","-","-","-","-","-","-","-","-","-","-","-","-","-","-","-","-","-","-","-","-","-","-","-","-","-","-","-","-","-","-","-","-","-","-","-","-","-"]
[{"$error":"#N/A"},{"$f":"OFFSET(Input_Details!$Q$4,MATCH($A6421, Input_Details!$J$5:$J$24, 0), 3)","v":{"$error":"#N/A"}},{"$f":"INDEX(Input_Details!$H$5:$H$24, MATCH($A6421, Input_Details!$J$5:$J$24, 0), 0)","v":{"$error":"#N/A"}},{"$f":"INDEX(Input_Details!$I$5:$I$24, MATCH($A6421, Input_Details!$J$5:$J$24, 0), 0)","v":{"$error":"#N/A"}},{"$f":"INDEX(Input_Details!$K$5:$K$24, MATCH($A6421, Input_Details!$J$5:$J$24, 0), 0)","v":{"$error":"#N/A"}},"Thu","20:15:00",null,null,null,null,null,null,null,null,null,null,null,null,null,null,null,null,null,null,null,null,null,null,null,null,null,null,null,null,null,null,null,null,null,null,null,null,{"$f":"INDEX(Input_Details!$L$5:$L$24, MATCH($A6421, Input_Details!$J$5:$J$24, 0), 0)","v":{"$error":"#N/A"}},"Thu","20:15:00",null,null,null,null,null,null,null,null,null,null,null,null,null,null,null,null,null,null,null,null,null,null,null,null,null,null,null,null,null,null,null,null,null,null,null,null,null,"Thu","20:15:00","-","-","-","-","-","-","-","-","-","-","-","-","-","-","-","-","-","-","-","-","-","-","-","-","-","-","-","-","-","-","-","-","-","-","-","-","-","-","-","-","-","-","-","-","-","-","-","-","-","-","-","-","-","-"]
[{"$error":"#N/A"},{"$f":"OFFSET(Input_Details!$Q$4,MATCH($A6470, Input_Details!$J$5:$J$24, 0), 4)","v":{"$error":"#N/A"}},{"$f":"INDEX(Input_Details!$H$5:$H$24, MATCH($A6470, Input_Details!$J$5:$J$24, 0), 0)","v":{"$error":"#N/A"}},{"$f":"INDEX(Input_Details!$I$5:$I$24, MATCH($A6470, Input_Details!$J$5:$J$24, 0), 0)","v":{"$error":"#N/A"}},{"$f":"INDEX(Input_Details!$K$5:$K$24, MATCH($A6470, Input_Details!$J$5:$J$24, 0), 0)","v":{"$error":"#N/A"}},"Fri","08:30:00",null,null,null,null,null,null,null,null,null,null,null,null,null,null,null,null,null,null,null,null,null,null,null,null,null,null,null,null,null,null,null,null,null,null,null,null,{"$f":"INDEX(Input_Details!$L$5:$L$24, MATCH($A6470, Input_Details!$J$5:$J$24, 0), 0)","v":{"$error":"#N/A"}},"Fri","08:30:00",null,null,null,null,null,null,null,null,null,null,null,null,null,null,null,null,null,null,null,null,null,null,null,null,null,null,null,null,null,null,null,null,null,null,null,null,null,"Fri","08:30:00","-","-","-","-","-","-","-","-","-","-","-","-","-","-","-","-","-","-","-","-","-","-","-","-","-","-","-","-","-","-","-","-","-","-","-","-","-","-","-","-","-","-","-","-","-","-","-","-","-","-","-","-","-","-"]
[{"$error":"#N/A"},{"$f":"OFFSET(Input_Details!$Q$4,MATCH($A6509, Input_Details!$J$5:$J$24, 0), 4)","v":{"$error":"#N/A"}},{"$f":"INDEX(Input_Details!$H$5:$H$24, MATCH($A6509, Input_Details!$J$5:$J$24, 0), 0)","v":{"$error":"#N/A"}},{"$f":"INDEX(Input_Details!$I$5:$I$24, MATCH($A6509, Input_Details!$J$5:$J$24, 0), 0)","v":{"$error":"#N/A"}},{"$f":"INDEX(Input_Details!$K$5:$K$24, MATCH($A6509, Input_Details!$J$5:$J$24, 0), 0)","v":{"$error":"#N/A"}},"Fri","18:15:00",null,null,null,null,null,null,null,null,null,null,null,null,null,null,null,null,null,null,null,null,null,null,null,null,null,null,null,null,null,null,null,null,null,null,null,null,{"$f":"INDEX(Input_Details!$L$5:$L$24, MATCH($A6509, Input_Details!$J$5:$J$24, 0), 0)","v":{"$error":"#N/A"}},"Fri","18:15:00",null,null,null,null,null,null,null,null,null,null,null,null,null,null,null,null,null,null,null,null,null,null,null,null,null,null,null,null,null,null,null,null,null,null,null,null,null,"Fri","18:15:00","-","-","-","-","-","-","-","-","-","-","-","-","-","-","-","-","-","-","-","-","-","-","-","-","-","-","-","-","-","-","-","-","-","-","-","-","-","-","-","-","-","-","-","-","-","-","-","-","-","-","-","-","-","-"]
[{"$error":"#N/A"},{"$f":"OFFSET(Input_Details!$Q$4,MATCH($A6522, Input_Details!$J$5:$J$24, 0), 4)","v":{"$error":"#N/A"}},{"$f":"INDEX(Input_Details!$H$5:$H$24, MATCH($A6522, Input_Details!$J$5:$J$24, 0), 0)","v":{"$error":"#N/A"}},{"$f":"INDEX(Input_Details!$I$5:$I$24, MATCH($A6522, Input_Details!$J$5:$J$24, 0), 0)","v":{"$error":"#N/A"}},{"$f":"INDEX(Input_Details!$K$5:$K$24, MATCH($A6522, Input_Details!$J$5:$J$24, 0), 0)","v":{"$error":"#N/A"}},"Fri","21:30:00",null,null,null,null,null,null,null,null,null,null,null,null,null,null,null,null,null,null,null,null,null,null,null,null,null,null,null,null,null,null,null,null,null,null,null,null,{"$f":"INDEX(Input_Details!$L$5:$L$24, MATCH($A6522, Input_Details!$J$5:$J$24, 0), 0)","v":{"$error":"#N/A"}},"Fri","21:30:00",null,null,null,null,null,null,null,null,null,null,null,null,null,null,null,null,null,null,null,null,null,null,null,null,null,null,null,null,null,null,null,null,null,null,null,null,null,"Fri","21:30:00","-","-","-","-","-","-","-","-","-","-","-","-","-","-","-","-","-","-","-","-","-","-","-","-","-","-","-","-","-","-","-","-","-","-","-","-","-","-","-","-","-","-","-","-","-","-","-","-","-","-","-","-","-","-"]
[{"$error":"#N/A"},{"$f":"OFFSET(Input_Details!$Q$4,MATCH($A6559, Input_Details!$J$5:$J$24, 0), 5)","v":{"$error":"#N/A"}},{"$f":"INDEX(Input_Details!$H$5:$H$24, MATCH($A6559, Input_Details!$J$5:$J$24, 0), 0)","v":{"$error":"#N/A"}},{"$f":"INDEX(Input_Details!$I$5:$I$24, MATCH($A6559, Input_Details!$J$5:$J$24, 0), 0)","v":{"$error":"#N/A"}},{"$f":"INDEX(Input_Details!$K$5:$K$24, MATCH($A6559, Input_Details!$J$5:$J$24, 0), 0)","v":{"$error":"#N/A"}},"Sat","06:45:00",null,null,null,null,null,null,null,null,null,null,null,null,null,null,null,null,null,null,null,null,null,null,null,null,null,null,null,null,null,null,null,null,null,null,null,null,{"$f":"INDEX(Input_Details!$L$5:$L$24, MATCH($A6559, Input_Details!$J$5:$J$24, 0), 0)","v":{"$error":"#N/A"}},"Sat","06:45:00",null,null,null,null,null,null,null,null,null,null,null,null,null,null,null,null,null,null,null,null,null,null,null,null,null,null,null,null,null,null,null,null,null,null,null,null,null,"Sat","06:45:00","-","-","-","-","-","-","-","-","-","-","-","-","-","-","-","-","-","-","-","-","-","-","-","-","-","-","-","-","-","-","-","-","-","-","-","-","-","-","-","-","-","-","-","-","-","-","-","-","-","-","-","-","-","-"]
[{"$error":"#N/A"},{"$f":"OFFSET(Input_Details!$Q$4,MATCH($A6598, Input_Details!$J$5:$J$24, 0), 5)","v":{"$error":"#N/A"}},{"$f":"INDEX(Input_Details!$H$5:$H$24, MATCH($A6598, Input_Details!$J$5:$J$24, 0), 0)","v":{"$error":"#N/A"}},{"$f":"INDEX(Input_Details!$I$5:$I$24, MATCH($A6598, Input_Details!$J$5:$J$24, 0), 0)","v":{"$error":"#N/A"}},{"$f":"INDEX(Input_Details!$K$5:$K$24, MATCH($A6598, Input_Details!$J$5:$J$24, 0), 0)","v":{"$error":"#N/A"}},"Sat","16:30:00",null,null,null,null,null,null,null,null,null,null,null,null,null,null,null,null,null,null,null,null,null,null,null,null,null,null,null,null,null,null,null,null,null,null,null,null,{"$f":"INDEX(Input_Details!$L$5:$L$24, MATCH($A6598, Input_Details!$J$5:$J$24, 0), 0)","v":{"$error":"#N/A"}},"Sat","16:30:00",null,null,null,null,null,null,null,null,null,null,null,null,null,null,null,null,null,null,null,null,null,null,null,null,null,null,null,null,null,null,null,null,null,null,null,null,null,"Sat","16:30:00","-","-","-","-","-","-","-","-","-","-","-","-","-","-","-","-","-","-","-","-","-","-","-","-","-","-","-","-","-","-","-","-","-","-","-","-","-","-","-","-","-","-","-","-","-","-","-","-","-","-","-","-","-","-"]
[{"$error":"#N/A"},{"$f":"OFFSET(Input_Details!$Q$4,MATCH($A6623, Input_Details!$J$5:$J$24, 0), 5)","v":{"$error":"#N/A"}},{"$f":"INDEX(Input_Details!$H$5:$H$24, MATCH($A6623, Input_Details!$J$5:$J$24, 0), 0)","v":{"$error":"#N/A"}},{"$f":"INDEX(Input_Details!$I$5:$I$24, MATCH($A6623, Input_Details!$J$5:$J$24, 0), 0)","v":{"$error":"#N/A"}},{"$f":"INDEX(Input_Details!$K$5:$K$24, MATCH($A6623, Input_Details!$J$5:$J$24, 0), 0)","v":{"$error":"#N/A"}},"Sat","22:45:00",null,null,null,null,null,null,null,null,null,null,null,null,null,null,null,null,null,null,null,null,null,null,null,null,null,null,null,null,null,null,null,null,null,null,null,null,{"$f":"INDEX(Input_Details!$L$5:$L$24, MATCH($A6623, Input_Details!$J$5:$J$24, 0), 0)","v":{"$error":"#N/A"}},"Sat","22:45:00",null,null,null,null,null,null,null,null,null,null,null,null,null,null,null,null,null,null,null,null,null,null,null,null,null,null,null,null,null,null,null,null,null,null,null,null,null,"Sat","22:45:00","-","-","-","-","-","-","-","-","-","-","-","-","-","-","-","-","-","-","-","-","-","-","-","-","-","-","-","-","-","-","-","-","-","-","-","-","-","-","-","-","-","-","-","-","-","-","-","-","-","-","-","-","-","-"]
[{"$error":"#N/A"},{"$f":"OFFSET(Input_Details!$Q$4,MATCH($A6681, Input_Details!$J$5:$J$24, 0), 6)","v":{"$error":"#N/A"}},{"$f":"INDEX(Input_Details!$H$5:$H$24, MATCH($A6681, Input_Details!$J$5:$J$24, 0), 0)","v":{"$error":"#N/A"}},{"$f":"INDEX(Input_Details!$I$5:$I$24, MATCH($A6681, Input_Details!$J$5:$J$24, 0), 0)","v":{"$error":"#N/A"}},{"$f":"INDEX(Input_Details!$K$5:$K$24, MATCH($A6681, Input_Details!$J$5:$J$24, 0), 0)","v":{"$error":"#N/A"}},"Sun","13:15:00",null,null,null,null,null,null,null,null,null,null,null,null,null,null,null,null,null,null,null,null,null,null,null,null,null,null,null,null,null,null,null,null,null,null,null,null,{"$f":"INDEX(Input_Details!$L$5:$L$24, MATCH($A6681, Input_Details!$J$5:$J$24, 0), 0)","v":{"$error":"#N/A"}},"Sun","13:15:00",null,null,null,null,null,null,null,null,null,null,null,null,null,null,null,null,null,null,null,null,null,null,null,null,null,null,null,null,null,null,null,null,null,null,null,null,null,"Sun","13:15:00","-","-","-","-","-","-","-","-","-","-","-","-","-","-","-","-","-","-","-","-","-","-","-","-","-","-","-","-","-","-","-","-","-","-","-","-","-","-","-","-","-","-","-","-","-","-","-","-","-","-","-","-","-","-"]
[{"$error":"#N/A"},{"$f":"OFFSET(Input_Details!$Q$4,MATCH($A6687, Input_Details!$J$5:$J$24, 0), 6)","v":{"$error":"#N/A"}},{"$f":"INDEX(Input_Details!$H$5:$H$24, MATCH($A6687, Input_Details!$J$5:$J$24, 0), 0)","v":{"$error":"#N/A"}},{"$f":"INDEX(Input_Details!$I$5:$I$24, MATCH($A6687, Input_Details!$J$5:$J$24, 0), 0)","v":{"$error":"#N/A"}},{"$f":"INDEX(Input_Details!$K$5:$K$24, MATCH($A6687, Input_Details!$J$5:$J$24, 0), 0)","v":{"$error":"#N/A"}},"Sun","14:45:00",null,null,null,null,null,null,null,null,null,null,null,null,null,null,null,null,null,null,null,null,null,null,null,null,null,null,null,null,null,null,null,null,null,null,null,null,{"$f":"INDEX(Input_Details!$L$5:$L$24, MATCH($A6687, Input_Details!$J$5:$J$24, 0), 0)","v":{"$error":"#N/A"}},"Sun","14:45:00",null,null,null,null,null,null,null,null,null,null,null,null,null,null,null,null,null,null,null,null,null,null,null,null,null,null,null,null,null,null,null,null,null,null,null,null,null,"Sun","14:45:00","-","-","-","-","-","-","-","-","-","-","-","-","-","-","-","-","-","-","-","-","-","-","-","-","-","-","-","-","-","-","-","-","-","-","-","-","-","-","-","-","-","-","-","-","-","-","-","-","-","-","-","-","-","-"]
[{"$error":"#N/A"},"Weekday Average",{"$f":"INDEX(Input_Details!$H$5:$H$24, MATCH($A6742, Input_Details!$J$5:$J$24, 0), 0)","v":{"$error":"#N/A"}},{"$f":"INDEX(Input_Details!$I$5:$I$24, MATCH($A6742, Input_Details!$J$5:$J$24, 0), 0)","v":{"$error":"#N/A"}},{"$f":"INDEX(Input_Details!$K$5:$K$24, MATCH($A6742, Input_Details!$J$5:$J$24, 0), 0)","v":{"$error":"#N/A"}},"WD Ave","04:30:00",{"$f":"IF(AND(H6070=\"\",H6166=\"\",H6262=\"\",H6358=\"\",H6454=\"\"), \"-\", IF(H6070+H6166+H6262+H6358+H6454=0,0,AVERAGE(H6070,H6166,H6262,H6358,H6454)))","v":"-"},"-","-","-","-","-","-","-","-","-","-","-",{"$f":"IF(AND(T6070=\"\",T6166=\"\",T6262=\"\",T6358=\"\",T6454=\"\"), \"-\", IF(SUM($H6742:$S6742)=0, 0, IF(T6070+T6166+T6262+T6358+T6454=0,0,AVERAGE(T6070,T6166,T6262,T6358,T6454))))","v":"-"},"-","-","-","-","-","-","-","-","-","-","-","-","-","-","-","-","-","-","-",{"$f":"IF(SUM(H6742:S6742)=0,\"-\",AVERAGEIF(G6052:G6531,$G6742,AN6052:AN6531))","v":"-"},{"$f":"IFERROR(IF(SUM(H6742:S6742)=0,\"-\",AVERAGEIF(G6052:G6531,G6742,AO6052:AO6531)), \"-\")","v":"-"},"-","-",{"$f":"INDEX(Input_Details!$L$5:$L$24, MATCH($A6742, Input_Details!$J$5:$J$24, 0), 0)","v":{"$error":"#N/A"}},"WD Ave","04:30:00",{"$f":"IF(AND(AU6070=\"\",AU6166=\"\",AU6262=\"\",AU6358=\"\",AU6454=\"\"), \"-\", IF(AU6070+AU6166+AU6262+AU6358+AU6454=0,0,AVERAGE(AU6070,AU6166,AU6262,AU6358,AU6454)))","v":"-"},"-","-","-","-","-","-","-","-","-","-","-",{"$f":"IF(AND(BG6070=\"\",BG6166=\"\",BG6262=\"\",BG6358=\"\",BG6454=\"\"), \"-\", IF(SUM($AU6742:$BF6742)=0, 0, IF(BG6070+BG6166+BG6262+BG6358+BG6454=0,0,AVERAGE(BG6070,BG6166,BG6262,BG6358,BG6454))))","v":"-"},"-","-","-","-","-","-","-","-","-","-","-","-","-","-","-","-","-","-","-",{"$f":"IF(SUM(AU6742:BF6742)=0,\"-\",AVERAGEIF(AT6052:AT6531,$G6742,CA6052:CA6531))","v":"-"},{"$f":"IFERROR(IF(SUM(AU6742:BF6742)=0,\"-\",AVERAGEIF(AT6052:AT6531,AT6742,CB6052:CB6531)), \"-\")","v":"-"},"-","-",null,"WD Ave","04:30:00",{"$f":"IF(AND(CH6070=\"-\",CH6166=\"-\",CH6262=\"-\",CH6358=\"-\",CH6454=\"-\"), \"-\", ROUND(AVERAGE(CH6070,CH6166,CH6262,CH6358,CH6454), 0))","v":"-"},"-","-","-","-","-","-","-","-","-","-","-",{"$f":"IF(AND(CT6070=\"-\",CT6166=\"-\",CT6262=\"-\",CT6358=\"-\",CT6454=\"-\"), \"-\", IF(SUM($CH6742:$CS6742)=0, 0, ROUND(AVERAGE(CT6070,CT6166,CT6262,CT6358,CT6454), 0)))","v":"-"},"-","-","-","-","-","-","-","-","-","-","-","-","-","-","-","-","-","-","-","-","-","-","-","-","-","-","-","-","-","-","-","-","-","-","-","-","-","-","-","-","-"]
[{"$error":"#N/A"},"Weekday Average",{"$f":"INDEX(Input_Details!$H$5:$H$24, MATCH($A6770, Input_Details!$J$5:$J$24, 0), 0)","v":{"$error":"#N/A"}},{"$f":"INDEX(Input_Details!$I$5:$I$24, MATCH($A6770, Input_Details!$J$5:$J$24, 0), 0)","v":{"$error":"#N/A"}},{"$f":"INDEX(Input_Details!$K$5:$K$24, MATCH($A6770, Input_Details!$J$5:$J$24, 0), 0)","v":{"$error":"#N/A"}},"WD Ave","11:30:00",{"$f":"IF(AND(H6098=\"\",H6194=\"\",H6290=\"\",H6386=\"\",H6482=\"\"), \"-\", IF(H6098+H6194+H6290+H6386+H6482=0,0,AVERAGE(H6098,H6194,H6290,H6386,H6482)))","v":"-"},"-","-","-","-","-","-","-","-","-","-","-",{"$f":"IF(AND(T6098=\"\",T6194=\"\",T6290=\"\",T6386=\"\",T6482=\"\"), \"-\", IF(SUM($H6770:$S6770)=0, 0, IF(T6098+T6194+T6290+T6386+T6482=0,0,AVERAGE(T6098,T6194,T6290,T6386,T6482))))","v":"-"},"-","-","-","-","-","-","-","-","-","-","-","-","-","-","-","-","-","-","-",{"$f":"IF(SUM(H6770:S6770)=0,\"-\",AVERAGEIF(G6052:G6531,$G6770,AN6052:AN6531))","v":"-"},{"$f":"IFERROR(IF(SUM(H6770:S6770)=0,\"-\",AVERAGEIF(G6052:G6531,G6770,AO6052:AO6531)), \"-\")","v":"-"},"-","-",{"$f":"INDEX(Input_Details!$L$5:$L$24, MATCH($A6770, Input_Details!$J$5:$J$24, 0), 0)","v":{"$error":"#N/A"}},"WD Ave","11:30:00",{"$f":"IF(AND(AU6098=\"\",AU6194=\"\",AU6290=\"\",AU6386=\"\",AU6482=\"\"), \"-\", IF(AU6098+AU6194+AU6290+AU6386+AU6482=0,0,AVERAGE(AU6098,AU6194,AU6290,AU6386,AU6482)))","v":"-"},"-","-","-","-","-","-","-","-","-","-","-",{"$f":"IF(AND(BG6098=\"\",BG6194=\"\",BG6290=\"\",BG6386=\"\",BG6482=\"\"), \"-\", IF(SUM($AU6770:$BF6770)=0, 0, IF(BG6098+BG6194+BG6290+BG6386+BG6482=0,0,AVERAGE(BG6098,BG6194,BG6290,BG6386,BG6482))))","v":"-"},"-","-","-","-","-","-","-","-","-","-","-","-","-","-","-","-","-","-","-",{"$f":"IF(SUM(AU6770:BF6770)=0,\"-\",AVERAGEIF(AT6052:AT6531,$G6770,CA6052:CA6531))","v":"-"},{"$f":"IFERROR(IF(SUM(AU6770:BF6770)=0,\"-\",AVERAGEIF(AT6052:AT6531,AT6770,CB6052:CB6531)), \"-\")","v":"-"},"-","-",null,"WD Ave","11:30:00",{"$f":"IF(AND(CH6098=\"-\",CH6194=\"-\",CH6290=\"-\",CH6386=\"-\",CH6482=\"-\"), \"-\", ROUND(AVERAGE(CH6098,CH6194,CH6290,CH6386,CH6482), 0))","v":"-"},"-","-","-","-","-","-","-","-","-","-","-",{"$f":"IF(AND(CT6098=\"-\",CT6194=\"-\",CT6290=\"-\",CT6386=\"-\",CT6482=\"-\"), \"-\", IF(SUM($CH6770:$CS6770)=0, 0, ROUND(AVERAGE(CT6098,CT6194,CT6290,CT6386,CT6482), 0)))","v":"-"},"-","-","-","-","-","-","-","-","-","-","-","-","-","-","-","-","-","-","-","-","-","-","-","-","-","-","-","-","-","-","-","-","-","-","-","-","-","-","-","-","-"]
[{"$error":"#N/A"},"Weekday Average",{"$f":"INDEX(Input_Details!$H$5:$H$24, MATCH($A6809, Input_Details!$J$5:$J$24, 0), 0)","v":{"$error":"#N/A"}},{"$f":"INDEX(Input_Details!$I$5:$I$24, MATCH($A6809, Input_Details!$J$5:$J$24, 0), 0)","v":{"$error":"#N/A"}},{"$f":"INDEX(Input_Details!$K$5:$K$24, MATCH($A6809, Input_Details!$J$5:$J$24, 0), 0)","v":{"$error":"#N/A"}},"WD Ave","21:15:00",{"$f":"IF(AND(H6137=\"\",H6233=\"\",H6329=\"\",H6425=\"\",H6521=\"\"), \"-\", IF(H6137+H6233+H6329+H6425+H6521=0,0,AVERAGE(H6137,H6233,H6329,H6425,H6521)))","v":"-"},"-","-","-","-","-","-","-","-","-","-","-",{"$f":"IF(AND(T6137=\"\",T6233=\"\",T6329=\"\",T6425=\"\",T6521=\"\"), \"-\", IF(SUM($H6809:$S6809)=0, 0, IF(T6137+T6233+T6329+T6425+T6521=0,0,AVERAGE(T6137,T6233,T6329,T6425,T6521))))","v":"-"},"-","-","-","-","-","-","-","-","-","-","-","-","-","-","-","-","-","-","-",{"$f":"IF(SUM(H6809:S6809)=0,\"-\",AVERAGEIF(G6052:G6531,$G6809,AN6052:AN6531))","v":"-"},{"$f":"IFERROR(IF(SUM(H6809:S6809)=0,\"-\",AVERAGEIF(G6052:G6531,G6809,AO6052:AO6531)), \"-\")","v":"-"},"-","-",{"$f":"INDEX(Input_Details!$L$5:$L$24, MATCH($A6809, Input_Details!$J$5:$J$24, 0), 0)","v":{"$error":"#N/A"}},"WD Ave","21:15:00",{"$f":"IF(AND(AU6137=\"\",AU6233=\"\",AU6329=\"\",AU6425=\"\",AU6521=\"\"), \"-\", IF(AU6137+AU6233+AU6329+AU6425+AU6521=0,0,AVERAGE(AU6137,AU6233,AU6329,AU6425,AU6521)))","v":"-"},"-","-","-","-","-","-","-","-","-","-","-",{"$f":"IF(AND(BG6137=\"\",BG6233=\"\",BG6329=\"\",BG6425=\"\",BG6521=\"\"), \"-\", IF(SUM($AU6809:$BF6809)=0, 0, IF(BG6137+BG6233+BG6329+BG6425+BG6521=0,0,AVERAGE(BG6137,BG6233,BG6329,BG6425,BG6521))))","v":"-"},"-","-","-","-","-","-","-","-","-","-","-","-","-","-","-","-","-","-","-",{"$f":"IF(SUM(AU6809:BF6809)=0,\"-\",AVERAGEIF(AT6052:AT6531,$G6809,CA6052:CA6531))","v":"-"},{"$f":"IFERROR(IF(SUM(AU6809:BF6809)=0,\"-\",AVERAGEIF(AT6052:AT6531,AT6809,CB6052:CB6531)), \"-\")","v":"-"},"-","-",null,"WD Ave","21:15:00",{"$f":"IF(AND(CH6137=\"-\",CH6233=\"-\",CH6329=\"-\",CH6425=\"-\",CH6521=\"-\"), \"-\", ROUND(AVERAGE(CH6137,CH6233,CH6329,CH6425,CH6521), 0))","v":"-"},"-","-","-","-","-","-","-","-","-","-","-",{"$f":"IF(AND(CT6137=\"-\",CT6233=\"-\",CT6329=\"-\",CT6425=\"-\",CT6521=\"-\"), \"-\", IF(SUM($CH6809:$CS6809)=0, 0, ROUND(AVERAGE(CT6137,CT6233,CT6329,CT6425,CT6521), 0)))","v":"-"},"-","-","-","-","-","-","-","-","-","-","-","-","-","-","-","-","-","-","-","-","-","-","-","-","-","-","-","-","-","-","-","-","-","-","-","-","-","-","-","-","-"]
[{"$error":"#N/A"},"7-Day Average",{"$f":"INDEX(Input_Details!$H$5:$H$24, MATCH($A6843, Input_Details!$J$5:$J$24, 0), 0)","v":{"$error":"#N/A"}},{"$f":"INDEX(Input_Details!$I$5:$I$24, MATCH($A6843, Input_Details!$J$5:$J$24, 0), 0)","v":{"$error":"#N/A"}},{"$f":"INDEX(Input_Details!$K$5:$K$24, MATCH($A6843, Input_Details!$J$5:$J$24, 0), 0)","v":{"$error":"#N/A"}},"7 Day Ave","05:45:00",{"$f":"IF(AND(H6075=\"\",H6171=\"\",H6267=\"\",H6363=\"\",H6459=\"\",H6555=\"\",H6651=\"\"), \"-\", IF(H6075+H6171+H6267+H6363+H6459+H6555+H6651=0,0,AVERAGE(H6075,H6171,H6267,H6363,H6459,H6555,H6651)))","v":"-"},"-","-","-","-","-","-","-","-","-","-","-",{"$f":"IF(AND(T6075=\"\",T6171=\"\",T6267=\"\",T6363=\"\",T6459=\"\",T6555=\"\",T6651=\"\"), \"-\", IF(SUM($H6843:$S6843)=0, 0, IF(T6075+T6171+T6267+T6363+T6459+T6555+T6651=0,0,AVERAGE(T6075,T6171,T6267,T6363,T6459,T6555,T6651))))","v":"-"},"-","-","-","-","-","-","-","-","-","-","-","-","-","-","-","-","-","-","-",{"$f":"IF(SUM(H6843:S6843)=0,\"-\",AVERAGEIF(G6052:G6723,$G6843,AN6052:AN6723))","v":"-"},{"$f":"IFERROR(IF(SUM(H6843:S6843)=0,\"-\",AVERAGEIF(G6052:G6723,G6843,AO6052:AO6723)), \"-\")","v":"-"},"-","-",{"$f":"INDEX(Input_Details!$L$5:$L$24, MATCH($A6843, Input_Details!$J$5:$J$24, 0), 0)","v":{"$error":"#N/A"}},"7 Day Ave","05:45:00",{"$f":"IF(AND(AU6075=\"\",AU6171=\"\",AU6267=\"\",AU6363=\"\",AU6459=\"\",AU6555=\"\",AU6651=\"\"), \"-\", IF(AU6075+AU6171+AU6267+AU6363+AU6459+AU6555+AU6651=0,0,AVERAGE(AU6075,AU6171,AU6267,AU6363,AU6459,AU6555,AU6651)))","v":"-"},"-","-","-","-","-","-","-","-","-","-","-",{"$f":"IF(AND(BG6075=\"\",BG6171=\"\",BG6267=\"\",BG6363=\"\",BG6459=\"\",BG6555=\"\",BG6651=\"\"), \"-\", IF(SUM($AU6843:$BF6843)=0, 0, IF(BG6075+BG6171+BG6267+BG6363+BG6459+BG6555+BG6651=0,0,AVERAGE(BG6075,BG6171,BG6267,BG6363,BG6459,BG6555,BG6651))))","v":"-"},"-","-","-","-","-","-","-","-","-","-","-","-","-","-","-","-","-","-","-",{"$f":"IF(SUM(AU6843:BF6843)=0,\"-\",AVERAGEIF(AT6052:AT6723,$G6843,CA6052:CA6723))","v":"-"},{"$f":"IFERROR(IF(SUM(AU6843:BF6843)=0,\"-\",AVERAGEIF(AT6052:AT6723,AT6843,CB6052:CB6723)), \"-\")","v":"-"},"-","-",null,"7 Day Ave","05:45:00",{"$f":"IF(AND(CH6075=\"-\",CH6171=\"-\",CH6267=\"-\",CH6363=\"-\",CH6459=\"-\",CH6555=\"-\",CH6651=\"-\"), \"-\", ROUND(AVERAGE(CH6075,CH6171,CH6267,CH6363,CH6459,CH6555,CH6651),0))","v":"-"},"-","-","-","-","-","-","-","-","-","-","-",{"$f":"IF(AND(CT6075=\"-\",CT6171=\"-\",CT6267=\"-\",CT6363=\"-\",CT6459=\"-\",CT6555=\"-\",CT6651=\"-\"), \"-\", IF(SUM($CH6843:$CS6843)=0, 0, ROUND(AVERAGE(CT6075,CT6171,CT6267,CT6363,CT6459,CT6555,CT6651),0)))","v":"-"},"-","-","-","-","-","-","-","-","-","-","-","-","-","-","-","-","-","-","-","-","-","-","-","-","-","-","-","-","-","-","-","-","-","-","-","-","-","-","-","-","-"]
[{"$error":"#N/A"},"7-Day Average",{"$f":"INDEX(Input_Details!$H$5:$H$24, MATCH($A6859, Input_Details!$J$5:$J$24, 0), 0)","v":{"$error":"#N/A"}},{"$f":"INDEX(Input_Details!$I$5:$I$24, MATCH($A6859, Input_Details!$J$5:$J$24, 0), 0)","v":{"$error":"#N/A"}},{"$f":"INDEX(Input_Details!$K$5:$K$24, MATCH($A6859, Input_Details!$J$5:$J$24, 0), 0)","v":{"$error":"#N/A"}},"7 Day Ave","09:45:00",{"$f":"IF(AND(H6091=\"\",H6187=\"\",H6283=\"\",H6379=\"\",H6475=\"\",H6571=\"\",H6667=\"\"), \"-\", IF(H6091+H6187+H6283+H6379+H6475+H6571+H6667=0,0,AVERAGE(H6091,H6187,H6283,H6379,H6475,H6571,H6667)))","v":"-"},"-","-","-","-","-","-","-","-","-","-","-",{"$f":"IF(AND(T6091=\"\",T6187=\"\",T6283=\"\",T6379=\"\",T6475=\"\",T6571=\"\",T6667=\"\"), \"-\", IF(SUM($H6859:$S6859)=0, 0, IF(T6091+T6187+T6283+T6379+T6475+T6571+T6667=0,0,AVERAGE(T6091,T6187,T6283,T6379,T6475,T6571,T6667))))","v":"-"},"-","-","-","-","-","-","-","-","-","-","-","-","-","-","-","-","-","-","-",{"$f":"IF(SUM(H6859:S6859)=0,\"-\",AVERAGEIF(G6052:G6723,$G6859,AN6052:AN6723))","v":"-"},{"$f":"IFERROR(IF(SUM(H6859:S6859)=0,\"-\",AVERAGEIF(G6052:G6723,G6859,AO6052:AO6723)), \"-\")","v":"-"},"-","-",{"$f":"INDEX(Input_Details!$L$5:$L$24, MATCH($A6859, Input_Details!$J$5:$J$24, 0), 0)","v":{"$error":"#N/A"}},"7 Day Ave","09:45:00",{"$f":"IF(AND(AU6091=\"\",AU6187=\"\",AU6283=\"\",AU6379=\"\",AU6475=\"\",AU6571=\"\",AU6667=\"\"), \"-\", IF(AU6091+AU6187+AU6283+AU6379+AU6475+AU6571+AU6667=0,0,AVERAGE(AU6091,AU6187,AU6283,AU6379,AU6475,AU6571,AU6667)))","v":"-"},"-","-","-","-","-","-","-","-","-","-","-",{"$f":"IF(AND(BG6091=\"\",BG6187=\"\",BG6283=\"\",BG6379=\"\",BG6475=\"\",BG6571=\"\",BG6667=\"\"), \"-\", IF(SUM($AU6859:$BF6859)=0, 0, IF(BG6091+BG6187+BG6283+BG6379+BG6475+BG6571+BG6667=0,0,AVERAGE(BG6091,BG6187,BG6283,BG6379,BG6475,BG6571,BG6667))))","v":"-"},"-","-","-","-","-","-","-","-","-","-","-","-","-","-","-","-","-","-","-",{"$f":"IF(SUM(AU6859:BF6859)=0,\"-\",AVERAGEIF(AT6052:AT6723,$G6859,CA6052:CA6723))","v":"-"},{"$f":"IFERROR(IF(SUM(AU6859:BF6859)=0,\"-\",AVERAGEIF(AT6052:AT6723,AT6859,CB6052:CB6723)), \"-\")","v":"-"},"-","-",null,"7 Day Ave","09:45:00",{"$f":"IF(AND(CH6091=\"-\",CH6187=\"-\",CH6283=\"-\",CH6379=\"-\",CH6475=\"-\",CH6571=\"-\",CH6667=\"-\"), \"-\", ROUND(AVERAGE(CH6091,CH6187,CH6283,CH6379,CH6475,CH6571,CH6667),0))","v":"-"},"-","-","-","-","-","-","-","-","-","-","-",{"$f":"IF(AND(CT6091=\"-\",CT6187=\"-\",CT6283=\"-\",CT6379=\"-\",CT6475=\"-\",CT6571=\"-\",CT6667=\"-\"), \"-\", IF(SUM($CH6859:$CS6859)=0, 0, ROUND(AVERAGE(CT6091,CT6187,CT6283,CT6379,CT6475,CT6571,CT6667),0)))","v":"-"},"-","-","-","-","-","-","-","-","-","-","-","-","-","-","-","-","-","-","-","-","-","-","-","-","-","-","-","-","-","-","-","-","-","-","-","-","-","-","-","-","-"]
[{"$error":"#N/A"},"7-Day Average",{"$f":"INDEX(Input_Details!$H$5:$H$24, MATCH($A6902, Input_Details!$J$5:$J$24, 0), 0)","v":{"$error":"#N/A"}},{"$f":"INDEX(Input_Details!$I$5:$I$24, MATCH($A6902, Input_Details!$J$5:$J$24, 0), 0)","v":{"$error":"#N/A"}},{"$f":"INDEX(Input_Details!$K$5:$K$24, MATCH($A6902, Input_Details!$J$5:$J$24, 0), 0)","v":{"$error":"#N/A"}},"7 Day Ave","20:30:00",{"$f":"IF(AND(H6134=\"\",H6230=\"\",H6326=\"\",H6422=\"\",H6518=\"\",H6614=\"\",H6710=\"\"), \"-\", IF(H6134+H6230+H6326+H6422+H6518+H6614+H6710=0,0,AVERAGE(H6134,H6230,H6326,H6422,H6518,H6614,H6710)))","v":"-"},"-","-","-","-","-","-","-","-","-","-","-",{"$f":"IF(AND(T6134=\"\",T6230=\"\",T6326=\"\",T6422=\"\",T6518=\"\",T6614=\"\",T6710=\"\"), \"-\", IF(SUM($H6902:$S6902)=0, 0, IF(T6134+T6230+T6326+T6422+T6518+T6614+T6710=0,0,AVERAGE(T6134,T6230,T6326,T6422,T6518,T6614,T6710))))","v":"-"},"-","-","-","-","-","-","-","-","-","-","-","-","-","-","-","-","-","-","-",{"$f":"IF(SUM(H6902:S6902)=0,\"-\",AVERAGEIF(G6052:G6723,$G6902,AN6052:AN6723))","v":"-"},{"$f":"IFERROR(IF(SUM(H6902:S6902)=0,\"-\",AVERAGEIF(G6052:G6723,G6902,AO6052:AO6723)), \"-\")","v":"-"},"-","-",{"$f":"INDEX(Input_Details!$L$5:$L$24, MATCH($A6902, Input_Details!$J$5:$J$24, 0), 0)","v":{"$error":"#N/A"}},"7 Day Ave","20:30:00",{"$f":"IF(AND(AU6134=\"\",AU6230=\"\",AU6326=\"\",AU6422=\"\",AU6518=\"\",AU6614=\"\",AU6710=\"\"), \"-\", IF(AU6134+AU6230+AU6326+AU6422+AU6518+AU6614+AU6710=0,0,AVERAGE(AU6134,AU6230,AU6326,AU6422,AU6518,AU6614,AU6710)))","v":"-"},"-","-","-","-","-","-","-","-","-","-","-",{"$f":"IF(AND(BG6134=\"\",BG6230=\"\",BG6326=\"\",BG6422=\"\",BG6518=\"\",BG6614=\"\",BG6710=\"\"), \"-\", IF(SUM($AU6902:$BF6902)=0, 0, IF(BG6134+BG6230+BG6326+BG6422+BG6518+BG6614+BG6710=0,0,AVERAGE(BG6134,BG6230,BG6326,BG6422,BG6518,BG6614,BG6710))))","v":"-"},"-","-","-","-","-","-","-","-","-","-","-","-","-","-","-","-","-","-","-",{"$f":"IF(SUM(AU6902:BF6902)=0,\"-\",AVERAGEIF(AT6052:AT6723,$G6902,CA6052:CA6723))","v":"-"},{"$f":"IFERROR(IF(SUM(AU6902:BF6902)=0,\"-\",AVERAGEIF(AT6052:AT6723,AT6902,CB6052:CB6723)), \"-\")","v":"-"},"-","-",null,"7 Day Ave","20:30:00",{"$f":"IF(AND(CH6134=\"-\",CH6230=\"-\",CH6326=\"-\",CH6422=\"-\",CH6518=\"-\",CH6614=\"-\",CH6710=\"-\"), \"-\", ROUND(AVERAGE(CH6134,CH6230,CH6326,CH6422,CH6518,CH6614,CH6710),0))","v":"-"},"-","-","-","-","-","-","-","-","-","-","-",{"$f":"IF(AND(CT6134=\"-\",CT6230=\"-\",CT6326=\"-\",CT6422=\"-\",CT6518=\"-\",CT6614=\"-\",CT6710=\"-\"), \"-\", IF(SUM($CH6902:$CS6902)=0, 0, ROUND(AVERAGE(CT6134,CT6230,CT6326,CT6422,CT6518,CT6614,CT6710),0)))","v":"-"},"-","-","-","-","-","-","-","-","-","-","-","-","-","-","-","-","-","-","-","-","-","-","-","-","-","-","-","-","-","-","-","-","-","-","-","-","-","-","-","-","-"]
[0,{"$f":"OFFSET(Input_Details!$Q$4,MATCH($A6944, Input_Details!$J$5:$J$24, 0), 0)","v":{"$error":"#N/A"}},{"$f":"INDEX(Input_Details!$H$5:$H$24, MATCH($A6944, Input_Details!$J$5:$J$24, 0), 0)","v":{"$error":"#N/A"}},{"$f":"INDEX(Input_Details!$I$5:$I$24, MATCH($A6944, Input_Details!$J$5:$J$24, 0), 0)","v":{"$error":"#N/A"}},{"$f":"INDEX(Input_Details!$K$5:$K$24, MATCH($A6944, Input_Details!$J$5:$J$24, 0), 0)","v":{"$error":"#N/A"}},"Mon","07:00:00",null,null,null,null,null,null,null,null,null,null,null,null,null,null,null,null,null,null,null,null,null,null,null,null,null,null,null,null,null,null,null,null,null,null,null,null,{"$f":"INDEX(Input_Details!$L$5:$L$24, MATCH($A6944, Input_Details!$J$5:$J$24, 0), 0)","v":{"$error":"#N/A"}},"Mon","07:00:00",null,null,null,null,null,null,null,null,null,null,null,null,null,null,null,null,null,null,null,null,null,null,null,null,null,null,null,null,null,null,null,null,null,null,null,null,null,"Mon","07:00:00","-","-","-","-","-","-","-","-","-","-","-","-","-","-","-","-","-","-","-","-","-","-","-","-","-","-","-","-","-","-","-","-","-","-","-","-","-","-","-","-","-","-","-","-","-","-","-","-","-","-","-","-","-","-","-","-","-","-","-","-","-","-","-","-","-","-","-","-","-","-","-","-","-","-","-"]
[{"$f":"A6980","v":0},{"$f":"OFFSET(Input_Details!$Q$4,MATCH($A6981, Input_Details!$J$5:$J$24, 0), 0)","v":{"$error":"#N/A"}},{"$f":"INDEX(Input_Details!$H$5:$H$24, MATCH($A6981, Input_Details!$J$5:$J$24, 0), 0)","v":{"$error":"#N/A"}},{"$f":"INDEX(Input_Details!$I$5:$I$24, MATCH($A6981, Input_Details!$J$5:$J$24, 0), 0)","v":{"$error":"#N/A"}},{"$f":"INDEX(Input_Details!$K$5:$K$24, MATCH($A6981, Input_Details!$J$5:$J$24, 0), 0)","v":{"$error":"#N/A"}},{"$f":"+F6980","v":"Mon"},"16:15:00",null,null,null,null,null,null,null,null,null,null,null,null,null,null,null,null,null,null,null,null,null,null,null,null,null,null,null,null,null,null,null,null,null,null,null,null,{"$f":"INDEX(Input_Details!$L$5:$L$24, MATCH($A6981, Input_Details!$J$5:$J$24, 0), 0)","v":{"$error":"#N/A"}},"Mon","16:15:00",null,null,null,null,null,null,null,null,null,null,null,null,null,null,null,null,null,null,null,null,null,null,null,null,null,null,null,null,null,null,null,null,null,null,null,null,null,"Mon","16:15:00",{"$f":"IF(OR(H6981=\"\", AU6981=\"\"), \"-\",SUM(H6981+AU6981))","v":"-"},"-","-","-","-","-","-","-","-","-","-","-","-","-","-","-","-","-","-","-","-","-","-","-","-","-","-","-","-","-","-","-",{"$f":"IF(OR(DW6981=\"-\", EC6981=\"-\", EI6981=\"-\", EI6981=0),\"-\",IF(OR(DW6981=\"-\", DW6981=0),CA6981,IF(EC6981=0,AN6981,SUM((AN6981*DW6981),(CA6981*EC6981))/EI6981)))","v":"-"},{"$f":"IFERROR(IF(OR(DW6981=\"-\", EC6981=\"-\", EI6981=\"-\", EI6981=0), \"-\", IF(AO6981=\"-\", CB6981, AVERAGE(AO6981,CB6981))), \"-\")","v":"-"},{"$f":"IF(OR(DW6981=\"-\", EC6981=\"-\",EI6981=\"-\", EI6981=0),\"-\",MIN(AP6981,CC6981))","v":"-"},{"$f":"IF(OR(DW6981=\"-\", EC6981=\"-\",EI6981=\"-\", EI6981=0),\"-\",MAX(AQ6981,CD6981))","v":"-"},"-","-","-","-","-","-",{"$f":"IF(AU6981=\"\", \"-\", AU6981)","v":"-"},{"$f":"IF(DX6981=\"-\", \"-\", SUM(AV6981:AW6981))","v":"-"},{"$f":"IF(DX6981=\"-\", \"-\", AX6981)","v":"-"},{"$f":"IF(DX6981=\"-\", \"-\", AY6981)","v":"-"},{"$f":"IF(DX6981=\"-\", \"-\", SUM(AZ6981:BF6981))","v":"-"},{"$f":"IF(DX6981=\"-\", \"-\", SUM(AU6981:BF6981))","v":"-"},{"$f":"IF(OR(DR6981=\"-\", DX6981=\"-\"), \"-\", SUM(DR6981,DX6981))","v":"-"},"-","-","-","-","-",{"$f":"+DW6981","v":"-"},{"$f":"+DW7077","v":"-"},{"$f":"+DW7173","v":"-"},{"$f":"+DW7269","v":"-"},{"$f":"+DW7365","v":"-"},{"$f":"+DW7461","v":"-"},{"$f":"+DW7557","v":"-"},{"$f":"+EC6981","v":"-"},{"$f":"+EC7077","v":"-"},{"$f":"+EC7173","v":"-"},{"$f":"+EC7269","v":"-"},{"$f":"+EC7365","v":"-"},{"$f":"+EC7461","v":"-"},{"$f":"+EC7557","v":"-"},{"$f":"IF(OR(EJ6981=\"-\", EQ6981=\"-\"), \"-\", SUM(EJ6981,EQ6981))","v":"-"},"-","-","-","-","-","-"]
[0,{"$f":"OFFSET(Input_Details!$Q$4,MATCH($A6991, Input_Details!$J$5:$J$24, 0), 0)","v":{"$error":"#N/A"}},{"$f":"INDEX(Input_Details!$H$5:$H$24, MATCH($A6991, Input_Details!$J$5:$J$24, 0), 0)","v":{"$error":"#N/A"}},{"$f":"INDEX(Input_Details!$I$5:$I$24, MATCH($A6991, Input_Details!$J$5:$J$24, 0), 0)","v":{"$error":"#N/A"}},{"$f":"INDEX(Input_Details!$K$5:$K$24, MATCH($A6991, Input_Details!$J$5:$J$24, 0), 0)","v":{"$error":"#N/A"}},"Mon","18:45:00",null,null,null,null,null,null,null,null,null,null,null,null,null,null,null,null,null,null,null,null,null,null,null,null,null,null,null,null,null,null,null,null,null,null,null,null,{"$f":"INDEX(Input_Details!$L$5:$L$24, MATCH($A6991, Input_Details!$J$5:$J$24, 0), 0)","v":{"$error":"#N/A"}},"Mon","18:45:00",null,null,null,null,null,null,null,null,null,null,null,null,null,null,null,null,null,null,null,null,null,null,null,null,null,null,null,null,null,null,null,null,null,null,null,null,null,"Mon","18:45:00","-","-","-","-","-","-","-","-","-","-","-","-","-","-","-","-","-","-","-","-","-","-","-","-","-","-","-","-","-","-","-","-","-","-","-","-","-","-","-","-","-","-","-","-","-","-","-","-","-","-","-","-","-","-","-","-","-","-","-","-","-","-","-","-","-","-","-","-","-","-","-","-","-","-","-"]
[{"$f":"A7044","v":0},{"$f":"OFFSET(Input_Details!$Q$4,MATCH($A7045, Input_Details!$J$5:$J$24, 0), 1)","v":{"$error":"#N/A"}},{"$f":"INDEX(Input_Details!$H$5:$H$24, MATCH($A7045, Input_Details!$J$5:$J$24, 0), 0)","v":{"$error":"#N/A"}},{"$f":"INDEX(Input_Details!$I$5:$I$24, MATCH($A7045, Input_Details!$J$5:$J$24, 0), 0)","v":{"$error":"#N/A"}},{"$f":"INDEX(Input_Details!$K$5:$K$24, MATCH($A7045, Input_Details!$J$5:$J$24, 0), 0)","v":{"$error":"#N/A"}},"Tues","08:15:00",null,null,null,null,null,null,null,null,null,null,null,null,null,null,null,null,null,null,null,null,null,null,null,null,null,null,null,null,null,null,null,null,null,null,null,null,{"$f":"INDEX(Input_Details!$L$5:$L$24, MATCH($A7045, Input_Details!$J$5:$J$24, 0), 0)","v":{"$error":"#N/A"}},"Tues","08:15:00",null,null,null,null,null,null,null,null,null,null,null,null,null,null,null,null,null,null,null,null,null,null,null,null,null,null,null,null,null,null,null,null,null,null,null,null,null,"Tues","08:15:00",{"$f":"IF(OR(H7045=\"\", AU7045=\"\"), \"-\",SUM(H7045+AU7045))","v":"-"},"-","-","-","-","-","-","-","-","-","-","-","-","-","-","-","-","-","-","-","-","-","-","-","-","-","-","-","-","-","-","-",{"$f":"IF(OR(DW7045=\"-\", EC7045=\"-\", EI7045=\"-\", EI7045=0),\"-\",IF(OR(DW7045=\"-\", DW7045=0),CA7045,IF(EC7045=0,AN7045,SUM((AN7045*DW7045),(CA7045*EC7045))/EI7045)))","v":"-"},{"$f":"IFERROR(IF(OR(DW7045=\"-\", EC7045=\"-\", EI7045=\"-\", EI7045=0), \"-\", IF(AO7045=\"-\", CB7045, AVERAGE(AO7045,CB7045))), \"-\")","v":"-"},{"$f":"IF(OR(DW7045=\"-\", EC7045=\"-\",EI7045=\"-\", EI7045=0),\"-\",MIN(AP7045,CC7045))","v":"-"},{"$f":"IF(OR(DW7045=\"-\", EC7045=\"-\",EI7045=\"-\", EI7045=0),\"-\",MAX(AQ7045,CD7045))","v":"-"},"-","-","-","-","-","-",{"$f":"IF(AU7045=\"\", \"-\", AU7045)","v":"-"},{"$f":"IF(DX7045=\"-\", \"-\", SUM(AV7045:AW7045))","v":"-"},{"$f":"IF(DX7045=\"-\", \"-\", AX7045)","v":"-"},{"$f":"IF(DX7045=\"-\", \"-\", AY7045)","v":"-"},{"$f":"IF(DX7045=\"-\", \"-\", SUM(AZ7045:BF7045))","v":"-"},{"$f":"IF(DX7045=\"-\", \"-\", SUM(AU7045:BF7045))","v":"-"},{"$f":"IF(OR(DR7045=\"-\", DX7045=\"-\"), \"-\", SUM(DR7045,DX7045))","v":"-"},"-","-","-","-","-"]
[0,{"$f":"OFFSET(Input_Details!$Q$4,MATCH($A7070, Input_Details!$J$5:$J$24, 0), 1)","v":{"$error":"#N/A"}},{"$f":"INDEX(Input_Details!$H$5:$H$24, MATCH($A7070, Input_Details!$J$5:$J$24, 0), 0)","v":{"$error":"#N/A"}},{"$f":"INDEX(Input_Details!$I$5:$I$24, MATCH($A7070, Input_Details!$J$5:$J$24, 0), 0)","v":{"$error":"#N/A"}},{"$f":"INDEX(Input_Details!$K$5:$K$24, MATCH($A7070, Input_Details!$J$5:$J$24, 0), 0)","v":{"$error":"#N/A"}},"Tues","14:30:00",null,null,null,null,null,null,null,null,null,null,null,null,null,null,null,null,null,null,null,null,null,null,null,null,null,null,null,null,null,null,null,null,null,null,null,null,{"$f":"INDEX(Input_Details!$L$5:$L$24, MATCH($A7070, Input_Details!$J$5:$J$24, 0), 0)","v":{"$error":"#N/A"}},"Tues","14:30:00",null,null,null,null,null,null,null,null,null,null,null,null,null,null,null,null,null,null,null,null,null,null,null,null,null,null,null,null,null,null,null,null,null,null,null,null,null,"Tues","14:30:00","-","-","-","-","-","-","-","-","-","-","-","-","-","-","-","-","-","-","-","-","-","-","-","-","-","-","-","-","-","-","-","-","-","-","-","-","-","-","-","-","-","-","-","-","-","-","-","-","-","-","-","-","-","-"]
[0,{"$f":"OFFSET(Input_Details!$Q$4,MATCH($A7113, Input_Details!$J$5:$J$24, 0), 2)","v":{"$error":"#N/A"}},{"$f":"INDEX(Input_Details!$H$5:$H$24, MATCH($A7113, Input_Details!$J$5:$J$24, 0), 0)","v":{"$error":"#N/A"}},{"$f":"INDEX(Input_Details!$I$5:$I$24, MATCH($A7113, Input_Details!$J$5:$J$24, 0), 0)","v":{"$error":"#N/A"}},{"$f":"INDEX(Input_Details!$K$5:$K$24, MATCH($A7113, Input_Details!$J$5:$J$24, 0), 0)","v":{"$error":"#N/A"}},"Wed","01:15:00",null,null,null,null,null,null,null,null,null,null,null,null,null,null,null,null,null,null,null,null,null,null,null,null,null,null,null,null,null,null,null,null,null,null,null,null,{"$f":"INDEX(Input_Details!$L$5:$L$24, MATCH($A7113, Input_Details!$J$5:$J$24, 0), 0)","v":{"$error":"#N/A"}},"Wed","01:15:00",null,null,null,null,null,null,null,null,null,null,null,null,null,null,null,null,null,null,null,null,null,null,null,null,null,null,null,null,null,null,null,null,null,null,null,null,null,"Wed","01:15:00","-","-","-","-","-","-","-","-","-","-","-","-","-","-","-","-","-","-","-","-","-","-","-","-","-","-","-","-","-","-","-","-","-","-","-","-","-","-","-","-","-","-","-","-","-","-","-","-","-","-","-","-","-","-"]
[0,{"$f":"OFFSET(Input_Details!$Q$4,MATCH($A7146, Input_Details!$J$5:$J$24, 0), 2)","v":{"$error":"#N/A"}},{"$f":"INDEX(Input_Details!$H$5:$H$24, MATCH($A7146, Input_Details!$J$5:$J$24, 0), 0)","v":{"$error":"#N/A"}},{"$f":"INDEX(Input_Details!$I$5:$I$24, MATCH($A7146, Input_Details!$J$5:$J$24, 0), 0)","v":{"$error":"#N/A"}},{"$f":"INDEX(Input_Details!$K$5:$K$24, MATCH($A7146, Input_Details!$J$5:$J$24, 0), 0)","v":{"$error":"#N/A"}},"Wed","09:30:00",null,null,null,null,null,null,null,null,null,null,null,null,null,null,null,null,null,null,null,null,null,null,null,null,null,null,null,null,null,null,null,null,null,null,null,null,{"$f":"INDEX(Input_Details!$L$5:$L$24, MATCH($A7146, Input_Details!$J$5:$J$24, 0), 0)","v":{"$error":"#N/A"}},"Wed","09:30:00",null,null,null,null,null,null,null,null,null,null,null,null,null,null,null,null,null,null,null,null,null,null,null,null,null,null,null,null,null,null,null,null,null,null,null,null,null,"Wed","09:30:00","-","-","-","-","-","-","-","-","-","-","-","-","-","-","-","-","-","-","-","-","-","-","-","-","-","-","-","-","-","-","-","-","-","-","-","-","-","-","-","-","-","-","-","-","-","-","-","-","-","-","-","-","-","-"]
[0,{"$f":"OFFSET(Input_Details!$Q$4,MATCH($A7163, Input_Details!$J$5:$J$24, 0), 2)","v":{"$error":"#N/A"}},{"$f":"INDEX(Input_Details!$H$5:$H$24, MATCH($A7163, Input_Details!$J$5:$J$24, 0), 0)","v":{"$error":"#N/A"}},{"$f":"INDEX(Input_Details!$I$5:$I$24, MATCH($A7163, Input_Details!$J$5:$J$24, 0), 0)","v":{"$error":"#N/A"}},{"$f":"INDEX(Input_Details!$K$5:$K$24, MATCH($A7163, Input_Details!$J$5:$J$24, 0), 0)","v":{"$error":"#N/A"}},"Wed","13:45:00",null,null,null,null,null,null,null,null,null,null,null,null,null,null,null,null,null,null,null,null,null,null,null,null,null,null,null,null,null,null,null,null,null,null,null,null,{"$f":"INDEX(Input_Details!$L$5:$L$24, MATCH($A7163, Input_Details!$J$5:$J$24, 0), 0)","v":{"$error":"#N/A"}},"Wed","13:45:00",null,null,null,null,null,null,null,null,null,null,null,null,null,null,null,null,null,null,null,null,null,null,null,null,null,null,null,null,null,null,null,null,null,null,null,null,null,"Wed","13:45:00","-","-","-","-","-","-","-","-","-","-","-","-","-","-","-","-","-","-","-","-","-","-","-","-","-","-","-","-","-","-","-","-","-","-","-","-","-","-","-","-","-","-","-","-","-","-","-","-","-","-","-","-","-","-"]
[0,{"$f":"OFFSET(Input_Details!$Q$4,MATCH($A7202, Input_Details!$J$5:$J$24, 0), 2)","v":{"$error":"#N/A"}},{"$f":"INDEX(Input_Details!$H$5:$H$24, MATCH($A7202, Input_Details!$J$5:$J$24, 0), 0)","v":{"$error":"#N/A"}},{"$f":"INDEX(Input_Details!$I$5:$I$24, MATCH($A7202, Input_Details!$J$5:$J$24, 0), 0)","v":{"$error":"#N/A"}},{"$f":"INDEX(Input_Details!$K$5:$K$24, MATCH($A7202, Input_Details!$J$5:$J$24, 0), 0)","v":{"$error":"#N/A"}},"Wed","23:30:00",null,null,null,null,null,null,null,null,null,null,null,null,null,null,null,null,null,null,null,null,null,null,null,null,null,null,null,null,null,null,null,null,null,null,null,null,{"$f":"INDEX(Input_Details!$L$5:$L$24, MATCH($A7202, Input_Details!$J$5:$J$24, 0), 0)","v":{"$error":"#N/A"}},"Wed","23:30:00",null,null,null,null,null,null,null,null,null,null,null,null,null,null,null,null,null,null,null,null,null,null,null,null,null,null,null,null,null,null,null,null,null,null,null,null,null,"Wed","23:30:00","-","-","-","-","-","-","-","-","-","-","-","-","-","-","-","-","-","-","-","-","-","-","-","-","-","-","-","-","-","-","-","-","-","-","-","-","-","-","-","-","-","-","-","-","-","-","-","-","-","-","-","-","-","-"]
[0,{"$f":"OFFSET(Input_Details!$Q$4,MATCH($A7247, Input_Details!$J$5:$J$24, 0), 3)","v":{"$error":"#N/A"}},{"$f":"INDEX(Input_Details!$H$5:$H$24, MATCH($A7247, Input_Details!$J$5:$J$24, 0), 0)","v":{"$error":"#N/A"}},{"$f":"INDEX(Input_Details!$I$5:$I$24, MATCH($A7247, Input_Details!$J$5:$J$24, 0), 0)","v":{"$error":"#N/A"}},{"$f":"INDEX(Input_Details!$K$5:$K$24, MATCH($A7247, Input_Details!$J$5:$J$24, 0), 0)","v":{"$error":"#N/A"}},"Thu","10:45:00",null,null,null,null,null,null,null,null,null,null,null,null,null,null,null,null,null,null,null,null,null,null,null,null,null,null,null,null,null,null,null,null,null,null,null,null,{"$f":"INDEX(Input_Details!$L$5:$L$24, MATCH($A7247, Input_Details!$J$5:$J$24, 0), 0)","v":{"$error":"#N/A"}},"Thu","10:45:00",null,null,null,null,null,null,null,null,null,null,null,null,null,null,null,null,null,null,null,null,null,null,null,null,null,null,null,null,null,null,null,null,null,null,null,null,null,"Thu","10:45:00","-","-","-","-","-","-","-","-","-","-","-","-","-","-","-","-","-","-","-","-","-","-","-","-","-","-","-","-","-","-","-","-","-","-","-","-","-","-","-","-","-","-","-","-","-","-","-","-","-","-","-","-","-","-"]
[0,{"$f":"OFFSET(Input_Details!$Q$4,MATCH($A7252, Input_Details!$J$5:$J$24, 0), 3)","v":{"$error":"#N/A"}},{"$f":"INDEX(Input_Details!$H$5:$H$24, MATCH($A7252, Input_Details!$J$5:$J$24, 0), 0)","v":{"$error":"#N/A"}},{"$f":"INDEX(Input_Details!$I$5:$I$24, MATCH($A7252, Input_Details!$J$5:$J$24, 0), 0)","v":{"$error":"#N/A"}},{"$f":"INDEX(Input_Details!$K$5:$K$24, MATCH($A7252, Input_Details!$J$5:$J$24, 0), 0)","v":{"$error":"#N/A"}},"Thu","12:00:00",null,null,null,null,null,null,null,null,null,null,null,null,null,null,null,null,null,null,null,null,null,null,null,null,null,null,null,null,null,null,null,null,null,null,null,null,{"$f":"INDEX(Input_Details!$L$5:$L$24, MATCH($A7252, Input_Details!$J$5:$J$24, 0), 0)","v":{"$error":"#N/A"}},"Thu","12:00:00",null,null,null,null,null,null,null,null,null,null,null,null,null,null,null,null,null,null,null,null,null,null,null,null,null,null,null,null,null,null,null,null,null,null,null,null,null,"Thu","12:00:00","-","-","-","-","-","-","-","-","-","-","-","-","-","-","-","-","-","-","-","-","-","-","-","-","-","-","-","-","-","-","-","-","-","-","-","-","-","-","-","-","-","-","-","-","-","-","-","-","-","-","-","-","-","-"]
[0,{"$f":"OFFSET(Input_Details!$Q$4,MATCH($A7291, Input_Details!$J$5:$J$24, 0), 3)","v":{"$error":"#N/A"}},{"$f":"INDEX(Input_Details!$H$5:$H$24, MATCH($A7291, Input_Details!$J$5:$J$24, 0), 0)","v":{"$error":"#N/A"}},{"$f":"INDEX(Input_Details!$I$5:$I$24, MATCH($A7291, Input_Details!$J$5:$J$24, 0), 0)","v":{"$error":"#N/A"}},{"$f":"INDEX(Input_Details!$K$5:$K$24, MATCH($A7291, Input_Details!$J$5:$J$24, 0), 0)","v":{"$error":"#N/A"}},"Thu","21:45:00",null,null,null,null,null,null,null,null,null,null,null,null,null,null,null,null,null,null,null,null,null,null,null,null,null,null,null,null,null,null,null,null,null,null,null,null,{"$f":"INDEX(Input_Details!$L$5:$L$24, MATCH($A7291, Input_Details!$J$5:$J$24, 0), 0)","v":{"$error":"#N/A"}},"Thu","21:45:00",null,null,null,null,null,null,null,null,null,null,null,null,null,null,null,null,null,null,null,null,null,null,null,null,null,null,null,null,null,null,null,null,null,null,null,null,null,"Thu","21:45:00","-","-","-","-","-","-","-","-","-","-","-","-","-","-","-","-","-","-","-","-","-","-","-","-","-","-","-","-","-","-","-","-","-","-","-","-","-","-","-","-","-","-","-","-","-","-","-","-","-","-","-","-","-","-"]
[0,{"$f":"OFFSET(Input_Details!$Q$4,MATCH($A7348, Input_Details!$J$5:$J$24, 0), 4)","v":{"$error":"#N/A"}},{"$f":"INDEX(Input_Details!$H$5:$H$24, MATCH($A7348, Input_Details!$J$5:$J$24, 0), 0)","v":{"$error":"#N/A"}},{"$f":"INDEX(Input_Details!$I$5:$I$24, MATCH($A7348, Input_Details!$J$5:$J$24, 0), 0)","v":{"$error":"#N/A"}},{"$f":"INDEX(Input_Details!$K$5:$K$24, MATCH($A7348, Input_Details!$J$5:$J$24, 0), 0)","v":{"$error":"#N/A"}},"Fri","12:00:00",null,null,null,null,null,null,null,null,null,null,null,null,null,null,null,null,null,null,null,null,null,null,null,null,null,null,null,null,null,null,null,null,null,null,null,null,{"$f":"INDEX(Input_Details!$L$5:$L$24, MATCH($A7348, Input_Details!$J$5:$J$24, 0), 0)","v":{"$error":"#N/A"}},"Fri","12:00:00",null,null,null,null,null,null,null,null,null,null,null,null,null,null,null,null,null,null,null,null,null,null,null,null,null,null,null,null,null,null,null,null,null,null,null,null,null,"Fri","12:00:00","-","-","-","-","-","-","-","-","-","-","-","-","-","-","-","-","-","-","-","-","-","-","-","-","-","-","-","-","-","-","-","-","-","-","-","-","-","-","-","-","-","-","-","-","-","-","-","-","-","-","-","-","-","-"]
[0,{"$f":"OFFSET(Input_Details!$Q$4,MATCH($A7374, Input_Details!$J$5:$J$24, 0), 4)","v":{"$error":"#N/A"}},{"$f":"INDEX(Input_Details!$H$5:$H$24, MATCH($A7374, Input_Details!$J$5:$J$24, 0), 0)","v":{"$error":"#N/A"}},{"$f":"INDEX(Input_Details!$I$5:$I$24, MATCH($A7374, Input_Details!$J$5:$J$24, 0), 0)","v":{"$error":"#N/A"}},{"$f":"INDEX(Input_Details!$K$5:$K$24, MATCH($A7374, Input_Details!$J$5:$J$24, 0), 0)","v":{"$error":"#N/A"}},"Fri","18:30:00",null,null,null,null,null,null,null,null,null,null,null,null,null,null,null,null,null,null,null,null,null,null,null,null,null,null,null,null,null,null,null,null,null,null,null,null,{"$f":"INDEX(Input_Details!$L$5:$L$24, MATCH($A7374, Input_Details!$J$5:$J$24, 0), 0)","v":{"$error":"#N/A"}},"Fri","18:30:00",null,null,null,null,null,null,null,null,null,null,null,null,null,null,null,null,null,null,null,null,null,null,null,null,null,null,null,null,null,null,null,null,null,null,null,null,null,"Fri","18:30:00","-","-","-","-","-","-","-","-","-","-","-","-","-","-","-","-","-","-","-","-","-","-","-","-","-","-","-","-","-","-","-","-","-","-","-","-","-","-","-","-","-","-","-","-","-","-","-","-","-","-","-","-","-","-"]
[0,{"$f":"OFFSET(Input_Details!$Q$4,MATCH($A7413, Input_Details!$J$5:$J$24, 0), 5)","v":{"$error":"#N/A"}},{"$f":"INDEX(Input_Details!$H$5:$H$24, MATCH($A7413, Input_Details!$J$5:$J$24, 0), 0)","v":{"$error":"#N/A"}},{"$f":"INDEX(Input_Details!$I$5:$I$24, MATCH($A7413, Input_Details!$J$5:$J$24, 0), 0)","v":{"$error":"#N/A"}},{"$f":"INDEX(Input_Details!$K$5:$K$24, MATCH($A7413, Input_Details!$J$5:$J$24, 0), 0)","v":{"$error":"#N/A"}},"Sat","04:15:00",null,null,null,null,null,null,null,null,null,null,null,null,null,null,null,null,null,null,null,null,null,null,null,null,null,null,null,null,null,null,null,null,null,null,null,null,{"$f":"INDEX(Input_Details!$L$5:$L$24, MATCH($A7413, Input_Details!$J$5:$J$24, 0), 0)","v":{"$error":"#N/A"}},"Sat","04:15:00",null,null,null,null,null,null,null,null,null,null,null,null,null,null,null,null,null,null,null,null,null,null,null,null,null,null,null,null,null,null,null,null,null,null,null,null,null,"Sat","04:15:00","-","-","-","-","-","-","-","-","-","-","-","-","-","-","-","-","-","-","-","-","-","-","-","-","-","-","-","-","-","-","-","-","-","-","-","-","-","-","-","-","-","-","-","-","-","-","-","-","-","-","-","-","-","-"]
[0,{"$f":"OFFSET(Input_Details!$Q$4,MATCH($A7423, Input_Details!$J$5:$J$24, 0), 5)","v":{"$error":"#N/A"}},{"$f":"INDEX(Input_Details!$H$5:$H$24, MATCH($A7423, Input_Details!$J$5:$J$24, 0), 0)","v":{"$error":"#N/A"}},{"$f":"INDEX(Input_Details!$I$5:$I$24, MATCH($A7423, Input_Details!$J$5:$J$24, 0), 0)","v":{"$error":"#N/A"}},{"$f":"INDEX(Input_Details!$K$5:$K$24, MATCH($A7423, Input_Details!$J$5:$J$24, 0), 0)","v":{"$error":"#N/A"}},"Sat","06:45:00",null,null,null,null,null,null,null,null,null,null,null,null,null,null,null,null,null,null,null,null,null,null,null,null,null,null,null,null,null,null,null,null,null,null,null,null,{"$f":"INDEX(Input_Details!$L$5:$L$24, MATCH($A7423, Input_Details!$J$5:$J$24, 0), 0)","v":{"$error":"#N/A"}},"Sat","06:45:00",null,null,null,null,null,null,null,null,null,null,null,null,null,null,null,null,null,null,null,null,null,null,null,null,null,null,null,null,null,null,null,null,null,null,null,null,null,"Sat","06:45:00","-","-","-","-","-","-","-","-","-","-","-","-","-","-","-","-","-","-","-","-","-","-","-","-","-","-","-","-","-","-","-","-","-","-","-","-","-","-","-","-","-","-","-","-","-","-","-","-","-","-","-","-","-","-"]
[0,{"$f":"OFFSET(Input_Details!$Q$4,MATCH($A7449, Input_Details!$J$5:$J$24, 0), 5)","v":{"$error":"#N/A"}},{"$f":"INDEX(Input_Details!$H$5:$H$24, MATCH($A7449, Input_Details!$J$5:$J$24, 0), 0)","v":{"$error":"#N/A"}},{"$f":"INDEX(Input_Details!$I$5:$I$24, MATCH($A7449, Input_Details!$J$5:$J$24, 0), 0)","v":{"$error":"#N/A"}},{"$f":"INDEX(Input_Details!$K$5:$K$24, MATCH($A7449, Input_Details!$J$5:$J$24, 0), 0)","v":{"$error":"#N/A"}},"Sat","13:15:00",null,null,null,null,null,null,null,null,null,null,null,null,null,null,null,null,null,null,null,null,null,null,null,null,null,null,null,null,null,null,null,null,null,null,null,null,{"$f":"INDEX(Input_Details!$L$5:$L$24, MATCH($A7449, Input_Details!$J$5:$J$24, 0), 0)","v":{"$error":"#N/A"}},"Sat","13:15:00",null,null,null,null,null,null,null,null,null,null,null,null,null,null,null,null,null,null,null,null,null,null,null,null,null,null,null,null,null,null,null,null,null,null,null,null,null,"Sat","13:15:00","-","-","-","-","-","-","-","-","-","-","-","-","-","-","-","-","-","-","-","-","-","-","-","-","-","-","-","-","-","-","-","-","-","-","-","-","-","-","-","-","-","-","-","-","-","-","-","-","-","-","-","-","-","-"]
[0,{"$f":"OFFSET(Input_Details!$Q$4,MATCH($A7502, Input_Details!$J$5:$J$24, 0), 6)","v":{"$error":"#N/A"}},{"$f":"INDEX(Input_Details!$H$5:$H$24, MATCH($A7502, Input_Details!$J$5:$J$24, 0), 0)","v":{"$error":"#N/A"}},{"$f":"INDEX(Input_Details!$I$5:$I$24, MATCH($A7502, Input_Details!$J$5:$J$24, 0), 0)","v":{"$error":"#N/A"}},{"$f":"INDEX(Input_Details!$K$5:$K$24, MATCH($A7502, Input_Details!$J$5:$J$24, 0), 0)","v":{"$error":"#N/A"}},"Sun","02:30:00",null,null,null,null,null,null,null,null,null,null,null,null,null,null,null,null,null,null,null,null,null,null,null,null,null,null,null,null,null,null,null,null,null,null,null,null,{"$f":"INDEX(Input_Details!$L$5:$L$24, MATCH($A7502, Input_Details!$J$5:$J$24, 0), 0)","v":{"$error":"#N/A"}},"Sun","02:30:00",null,null,null,null,null,null,null,null,null,null,null,null,null,null,null,null,null,null,null,null,null,null,null,null,null,null,null,null,null,null,null,null,null,null,null,null,null,"Sun","02:30:00","-","-","-","-","-","-","-","-","-","-","-","-","-","-","-","-","-","-","-","-","-","-","-","-","-","-","-","-","-","-","-","-","-","-","-","-","-","-","-","-","-","-","-","-","-","-","-","-","-","-","-","-","-","-"]
[0,{"$f":"OFFSET(Input_Details!$Q$4,MATCH($A7545, Input_Details!$J$5:$J$24, 0), 6)","v":{"$error":"#N/A"}},{"$f":"INDEX(Input_Details!$H$5:$H$24, MATCH($A7545, Input_Details!$J$5:$J$24, 0), 0)","v":{"$error":"#N/A"}},{"$f":"INDEX(Input_Details!$I$5:$I$24, MATCH($A7545, Input_Details!$J$5:$J$24, 0), 0)","v":{"$error":"#N/A"}},{"$f":"INDEX(Input_Details!$K$5:$K$24, MATCH($A7545, Input_Details!$J$5:$J$24, 0), 0)","v":{"$error":"#N/A"}},"Sun","13:15:00",null,null,null,null,null,null,null,null,null,null,null,null,null,null,null,null,null,null,null,null,null,null,null,null,null,null,null,null,null,null,null,null,null,null,null,null,{"$f":"INDEX(Input_Details!$L$5:$L$24, MATCH($A7545, Input_Details!$J$5:$J$24, 0), 0)","v":{"$error":"#N/A"}},"Sun","13:15:00",null,null,null,null,null,null,null,null,null,null,null,null,null,null,null,null,null,null,null,null,null,null,null,null,null,null,null,null,null,null,null,null,null,null,null,null,null,"Sun","13:15:00","-","-","-","-","-","-","-","-","-","-","-","-","-","-","-","-","-","-","-","-","-","-","-","-","-","-","-","-","-","-","-","-","-","-","-","-","-","-","-","-","-","-","-","-","-","-","-","-","-","-","-","-","-","-"]
[0,{"$f":"OFFSET(Input_Details!$Q$4,MATCH($A7550, Input_Details!$J$5:$J$24, 0), 6)","v":{"$error":"#N/A"}},{"$f":"INDEX(Input_Details!$H$5:$H$24, MATCH($A7550, Input_Details!$J$5:$J$24, 0), 0)","v":{"$error":"#N/A"}},{"$f":"INDEX(Input_Details!$I$5:$I$24, MATCH($A7550, Input_Details!$J$5:$J$24, 0), 0)","v":{"$error":"#N/A"}},{"$f":"INDEX(Input_Details!$K$5:$K$24, MATCH($A7550, Input_Details!$J$5:$J$24, 0), 0)","v":{"$error":"#N/A"}},"Sun","14:30:00",null,null,null,null,null,null,null,null,null,null,null,null,null,null,null,null,null,null,null,null,null,null,null,null,null,null,null,null,null,null,null,null,null,null,null,null,{"$f":"INDEX(Input_Details!$L$5:$L$24, MATCH($A7550, Input_Details!$J$5:$J$24, 0), 0)","v":{"$error":"#N/A"}},"Sun","14:30:00",null,null,null,null,null,null,null,null,null,null,null,null,null,null,null,null,null,null,null,null,null,null,null,null,null,null,null,null,null,null,null,null,null,null,null,null,null,"Sun","14:30:00","-","-","-","-","-","-","-","-","-","-","-","-","-","-","-","-","-","-","-","-","-","-","-","-","-","-","-","-","-","-","-","-","-","-","-","-","-","-","-","-","-","-","-","-","-","-","-","-","-","-","-","-","-","-"]
[0,"Weekday Average",{"$f":"INDEX(Input_Details!$H$5:$H$24, MATCH($A7595, Input_Details!$J$5:$J$24, 0), 0)","v":{"$error":"#N/A"}},{"$f":"INDEX(Input_Details!$I$5:$I$24, MATCH($A7595, Input_Details!$J$5:$J$24, 0), 0)","v":{"$error":"#N/A"}},{"$f":"INDEX(Input_Details!$K$5:$K$24, MATCH($A7595, Input_Details!$J$5:$J$24, 0), 0)","v":{"$error":"#N/A"}},"WD Ave","01:45:00",{"$f":"IF(AND(H6923=\"\",H7019=\"\",H7115=\"\",H7211=\"\",H7307=\"\"), \"-\", IF(H6923+H7019+H7115+H7211+H7307=0,0,AVERAGE(H6923,H7019,H7115,H7211,H7307)))","v":"-"},"-","-","-","-","-","-","-","-","-","-","-",{"$f":"IF(AND(T6923=\"\",T7019=\"\",T7115=\"\",T7211=\"\",T7307=\"\"), \"-\", IF(SUM($H7595:$S7595)=0, 0, IF(T6923+T7019+T7115+T7211+T7307=0,0,AVERAGE(T6923,T7019,T7115,T7211,T7307))))","v":"-"},"-","-","-","-","-","-","-","-","-","-","-","-","-","-","-","-","-","-","-",{"$f":"IF(SUM(H7595:S7595)=0,\"-\",AVERAGEIF(G6916:G7395,$G7595,AN6916:AN7395))","v":"-"},{"$f":"IFERROR(IF(SUM(H7595:S7595)=0,\"-\",AVERAGEIF(G6916:G7395,G7595,AO6916:AO7395)), \"-\")","v":"-"},"-","-",{"$f":"INDEX(Input_Details!$L$5:$L$24, MATCH($A7595, Input_Details!$J$5:$J$24, 0), 0)","v":{"$error":"#N/A"}},"WD Ave","01:45:00",{"$f":"IF(AND(AU6923=\"\",AU7019=\"\",AU7115=\"\",AU7211=\"\",AU7307=\"\"), \"-\", IF(AU6923+AU7019+AU7115+AU7211+AU7307=0,0,AVERAGE(AU6923,AU7019,AU7115,AU7211,AU7307)))","v":"-"},"-","-","-","-","-","-","-","-","-","-","-",{"$f":"IF(AND(BG6923=\"\",BG7019=\"\",BG7115=\"\",BG7211=\"\",BG7307=\"\"), \"-\", IF(SUM($AU7595:$BF7595)=0, 0, IF(BG6923+BG7019+BG7115+BG7211+BG7307=0,0,AVERAGE(BG6923,BG7019,BG7115,BG7211,BG7307))))","v":"-"},"-","-","-","-","-","-","-","-","-","-","-","-","-","-","-","-","-","-","-",{"$f":"IF(SUM(AU7595:BF7595)=0,\"-\",AVERAGEIF(AT6916:AT7395,$G7595,CA6916:CA7395))","v":"-"},{"$f":"IFERROR(IF(SUM(AU7595:BF7595)=0,\"-\",AVERAGEIF(AT6916:AT7395,AT7595,CB6916:CB7395)), \"-\")","v":"-"},"-","-",null,"WD Ave","01:45:00",{"$f":"IF(AND(CH6923=\"-\",CH7019=\"-\",CH7115=\"-\",CH7211=\"-\",CH7307=\"-\"), \"-\", ROUND(AVERAGE(CH6923,CH7019,CH7115,CH7211,CH7307), 0))","v":"-"},"-","-","-","-","-","-","-","-","-","-","-",{"$f":"IF(AND(CT6923=\"-\",CT7019=\"-\",CT7115=\"-\",CT7211=\"-\",CT7307=\"-\"), \"-\", IF(SUM($CH7595:$CS7595)=0, 0, ROUND(AVERAGE(CT6923,CT7019,CT7115,CT7211,CT7307), 0)))","v":"-"},"-","-","-","-","-","-","-","-","-","-","-","-","-","-","-","-","-","-","-","-","-","-","-","-","-","-","-","-","-","-","-","-","-","-","-","-","-","-","-","-","-"]
[0,"Weekday Average",{"$f":"INDEX(Input_Details!$H$5:$H$24, MATCH($A7634, Input_Details!$J$5:$J$24, 0), 0)","v":{"$error":"#N/A"}},{"$f":"INDEX(Input_Details!$I$5:$I$24, MATCH($A7634, Input_Details!$J$5:$J$24, 0), 0)","v":{"$error":"#N/A"}},{"$f":"INDEX(Input_Details!$K$5:$K$24, MATCH($A7634, Input_Details!$J$5:$J$24, 0), 0)","v":{"$error":"#N/A"}},"WD Ave","11:30:00",{"$f":"IF(AND(H6962=\"\",H7058=\"\",H7154=\"\",H7250=\"\",H7346=\"\"), \"-\", IF(H6962+H7058+H7154+H7250+H7346=0,0,AVERAGE(H6962,H7058,H7154,H7250,H7346)))","v":"-"},"-","-","-","-","-","-","-","-","-","-","-",{"$f":"IF(AND(T6962=\"\",T7058=\"\",T7154=\"\",T7250=\"\",T7346=\"\"), \"-\", IF(SUM($H7634:$S7634)=0, 0, IF(T6962+T7058+T7154+T7250+T7346=0,0,AVERAGE(T6962,T7058,T7154,T7250,T7346))))","v":"-"},"-","-","-","-","-","-","-","-","-","-","-","-","-","-","-","-","-","-","-",{"$f":"IF(SUM(H7634:S7634)=0,\"-\",AVERAGEIF(G6916:G7395,$G7634,AN6916:AN7395))","v":"-"},{"$f":"IFERROR(IF(SUM(H7634:S7634)=0,\"-\",AVERAGEIF(G6916:G7395,G7634,AO6916:AO7395)), \"-\")","v":"-"},"-","-",{"$f":"INDEX(Input_Details!$L$5:$L$24, MATCH($A7634, Input_Details!$J$5:$J$24, 0), 0)","v":{"$error":"#N/A"}},"WD Ave","11:30:00",{"$f":"IF(AND(AU6962=\"\",AU7058=\"\",AU7154=\"\",AU7250=\"\",AU7346=\"\"), \"-\", IF(AU6962+AU7058+AU7154+AU7250+AU7346=0,0,AVERAGE(AU6962,AU7058,AU7154,AU7250,AU7346)))","v":"-"},"-","-","-","-","-","-","-","-","-","-","-",{"$f":"IF(AND(BG6962=\"\",BG7058=\"\",BG7154=\"\",BG7250=\"\",BG7346=\"\"), \"-\", IF(SUM($AU7634:$BF7634)=0, 0, IF(BG6962+BG7058+BG7154+BG7250+BG7346=0,0,AVERAGE(BG6962,BG7058,BG7154,BG7250,BG7346))))","v":"-"},"-","-","-","-","-","-","-","-","-","-","-","-","-","-","-","-","-","-","-",{"$f":"IF(SUM(AU7634:BF7634)=0,\"-\",AVERAGEIF(AT6916:AT7395,$G7634,CA6916:CA7395))","v":"-"},{"$f":"IFERROR(IF(SUM(AU7634:BF7634)=0,\"-\",AVERAGEIF(AT6916:AT7395,AT7634,CB6916:CB7395)), \"-\")","v":"-"},"-","-",null,"WD Ave","11:30:00",{"$f":"IF(AND(CH6962=\"-\",CH7058=\"-\",CH7154=\"-\",CH7250=\"-\",CH7346=\"-\"), \"-\", ROUND(AVERAGE(CH6962,CH7058,CH7154,CH7250,CH7346), 0))","v":"-"},"-","-","-","-","-","-","-","-","-","-","-",{"$f":"IF(AND(CT6962=\"-\",CT7058=\"-\",CT7154=\"-\",CT7250=\"-\",CT7346=\"-\"), \"-\", IF(SUM($CH7634:$CS7634)=0, 0, ROUND(AVERAGE(CT6962,CT7058,CT7154,CT7250,CT7346), 0)))","v":"-"},"-","-","-","-","-","-","-","-","-","-","-","-","-","-","-","-","-","-","-","-","-","-","-","-","-","-","-","-","-","-","-","-","-","-","-","-","-","-","-","-","-"]
[0,"Weekday Average",{"$f":"INDEX(Input_Details!$H$5:$H$24, MATCH($A7651, Input_Details!$J$5:$J$24, 0), 0)","v":{"$error":"#N/A"}},{"$f":"INDEX(Input_Details!$I$5:$I$24, MATCH($A7651, Input_Details!$J$5:$J$24, 0), 0)","v":{"$error":"#N/A"}},{"$f":"INDEX(Input_Details!$K$5:$K$24, MATCH($A7651, Input_Details!$J$5:$J$24, 0), 0)","v":{"$error":"#N/A"}},"WD Ave","15:45:00",{"$f":"IF(AND(H6979=\"\",H7075=\"\",H7171=\"\",H7267=\"\",H7363=\"\"), \"-\", IF(H6979+H7075+H7171+H7267+H7363=0,0,AVERAGE(H6979,H7075,H7171,H7267,H7363)))","v":"-"},"-","-","-","-","-","-","-","-","-","-","-",{"$f":"IF(AND(T6979=\"\",T7075=\"\",T7171=\"\",T7267=\"\",T7363=\"\"), \"-\", IF(SUM($H7651:$S7651)=0, 0, IF(T6979+T7075+T7171+T7267+T7363=0,0,AVERAGE(T6979,T7075,T7171,T7267,T7363))))","v":"-"},"-","-","-","-","-","-","-","-","-","-","-","-","-","-","-","-","-","-","-",{"$f":"IF(SUM(H7651:S7651)=0,\"-\",AVERAGEIF(G6916:G7395,$G7651,AN6916:AN7395))","v":"-"},{"$f":"IFERROR(IF(SUM(H7651:S7651)=0,\"-\",AVERAGEIF(G6916:G7395,G7651,AO6916:AO7395)), \"-\")","v":"-"},"-","-",{"$f":"INDEX(Input_Details!$L$5:$L$24, MATCH($A7651, Input_Details!$J$5:$J$24, 0), 0)","v":{"$error":"#N/A"}},"WD Ave","15:45:00",{"$f":"IF(AND(AU6979=\"\",AU7075=\"\",AU7171=\"\",AU7267=\"\",AU7363=\"\"), \"-\", IF(AU6979+AU7075+AU7171+AU7267+AU7363=0,0,AVERAGE(AU6979,AU7075,AU7171,AU7267,AU7363)))","v":"-"},"-","-","-","-","-","-","-","-","-","-","-",{"$f":"IF(AND(BG6979=\"\",BG7075=\"\",BG7171=\"\",BG7267=\"\",BG7363=\"\"), \"-\", IF(SUM($AU7651:$BF7651)=0, 0, IF(BG6979+BG7075+BG7171+BG7267+BG7363=0,0,AVERAGE(BG6979,BG7075,BG7171,BG7267,BG7363))))","v":"-"},"-","-","-","-","-","-","-","-","-","-","-","-","-","-","-","-","-","-","-",{"$f":"IF(SUM(AU7651:BF7651)=0,\"-\",AVERAGEIF(AT6916:AT7395,$G7651,CA6916:CA7395))","v":"-"},{"$f":"IFERROR(IF(SUM(AU7651:BF7651)=0,\"-\",AVERAGEIF(AT6916:AT7395,AT7651,CB6916:CB7395)), \"-\")","v":"-"},"-","-",null,"WD Ave","15:45:00",{"$f":"IF(AND(CH6979=\"-\",CH7075=\"-\",CH7171=\"-\",CH7267=\"-\",CH7363=\"-\"), \"-\", ROUND(AVERAGE(CH6979,CH7075,CH7171,CH7267,CH7363), 0))","v":"-"},"-","-","-","-","-","-","-","-","-","-","-",{"$f":"IF(AND(CT6979=\"-\",CT7075=\"-\",CT7171=\"-\",CT7267=\"-\",CT7363=\"-\"), \"-\", IF(SUM($CH7651:$CS7651)=0, 0, ROUND(AVERAGE(CT6979,CT7075,CT7171,CT7267,CT7363), 0)))","v":"-"},"-","-","-","-","-","-","-","-","-","-","-","-","-","-","-","-","-","-","-","-","-","-","-","-","-","-","-","-","-","-","-","-","-","-","-","-","-","-","-","-","-"]
[0,"7-Day Average",{"$f":"INDEX(Input_Details!$H$5:$H$24, MATCH($A7684, Input_Details!$J$5:$J$24, 0), 0)","v":{"$error":"#N/A"}},{"$f":"INDEX(Input_Details!$I$5:$I$24, MATCH($A7684, Input_Details!$J$5:$J$24, 0), 0)","v":{"$error":"#N/A"}},{"$f":"INDEX(Input_Details!$K$5:$K$24, MATCH($A7684, Input_Details!$J$5:$J$24, 0), 0)","v":{"$error":"#N/A"}},"7 Day Ave","00:00:00",{"$f":"IF(AND(H6916=\"\",H7012=\"\",H7108=\"\",H7204=\"\",H7300=\"\",H7396=\"\",H7492=\"\"), \"-\", IF(H6916+H7012+H7108+H7204+H7300+H7396+H7492=0,0,AVERAGE(H6916,H7012,H7108,H7204,H7300,H7396,H7492)))","v":"-"},{"$f":"IF(AND(I6916=\"\",I7012=\"\",I7108=\"\",I7204=\"\",I7300=\"\",I7396=\"\",I7492=\"\"), \"-\", IF(I6916+I7012+I7108+I7204+I7300+I7396+I7492=0,0,AVERAGE(I6916,I7012,I7108,I7204,I7300,I7396,I7492)))","v":"-"},"-","-","-","-","-","-","-","-","-","-",{"$f":"IF(AND(T6916=\"\",T7012=\"\",T7108=\"\",T7204=\"\",T7300=\"\",T7396=\"\",T7492=\"\"), \"-\", IF(SUM($H7684:$S7684)=0, 0, IF(T6916+T7012+T7108+T7204+T7300+T7396+T7492=0,0,AVERAGE(T6916,T7012,T7108,T7204,T7300,T7396,T7492))))","v":"-"},{"$f":"IF(AND(U6916=\"\",U7012=\"\",U7108=\"\",U7204=\"\",U7300=\"\",U7396=\"\",U7492=\"\"), \"-\", IF(SUM($H7684:$S7684)=0, 0, IF(U6916+U7012+U7108+U7204+U7300+U7396+U7492=0,0,AVERAGE(U6916,U7012,U7108,U7204,U7300,U7396,U7492))))","v":"-"},"-","-","-","-","-","-","-","-","-","-","-","-","-","-","-","-","-","-",{"$f":"IF(SUM(H7684:S7684)=0,\"-\",AVERAGEIF(G6916:G7587,$G7684,AN6916:AN7587))","v":"-"},{"$f":"IFERROR(IF(SUM(H7684:S7684)=0,\"-\",AVERAGEIF(G6916:G7587,G7684,AO6916:AO7587)), \"-\")","v":"-"},{"$f":"IF(SUM(H7684:S7684)=0,\"-\",MIN(AP6916,AP7012,AP7108,AP7204,AP7300,AP7396,AP7492))","v":"-"},{"$f":"IF(SUM(H7684:S7684)=0,\"-\",MAX(AQ6916,AQ7012,AQ7108,AQ7204,AQ7300,AQ7396,AQ7492))","v":"-"},{"$f":"INDEX(Input_Details!$L$5:$L$24, MATCH($A7684, Input_Details!$J$5:$J$24, 0), 0)","v":{"$error":"#N/A"}},"7 Day Ave","00:00:00",{"$f":"IF(AND(AU6916=\"\",AU7012=\"\",AU7108=\"\",AU7204=\"\",AU7300=\"\",AU7396=\"\",AU7492=\"\"), \"-\", IF(AU6916+AU7012+AU7108+AU7204+AU7300+AU7396+AU7492=0,0,AVERAGE(AU6916,AU7012,AU7108,AU7204,AU7300,AU7396,AU7492)))","v":"-"},{"$f":"IF(AND(AV6916=\"\",AV7012=\"\",AV7108=\"\",AV7204=\"\",AV7300=\"\",AV7396=\"\",AV7492=\"\"), \"-\", IF(AV6916+AV7012+AV7108+AV7204+AV7300+AV7396+AV7492=0,0,AVERAGE(AV6916,AV7012,AV7108,AV7204,AV7300,AV7396,AV7492)))","v":"-"},"-","-","-","-","-","-","-","-","-","-",{"$f":"IF(AND(BG6916=\"\",BG7012=\"\",BG7108=\"\",BG7204=\"\",BG7300=\"\",BG7396=\"\",BG7492=\"\"), \"-\", IF(SUM($AU7684:$BF7684)=0, 0, IF(BG6916+BG7012+BG7108+BG7204+BG7300+BG7396+BG7492=0,0,AVERAGE(BG6916,BG7012,BG7108,BG7204,BG7300,BG7396,BG7492))))","v":"-"},{"$f":"IF(AND(BH6916=\"\",BH7012=\"\",BH7108=\"\",BH7204=\"\",BH7300=\"\",BH7396=\"\",BH7492=\"\"), \"-\", IF(SUM($AU7684:$BF7684)=0, 0, IF(BH6916+BH7012+BH7108+BH7204+BH7300+BH7396+BH7492=0,0,AVERAGE(BH6916,BH7012,BH7108,BH7204,BH7300,BH7396,BH7492))))","v":"-"},"-","-","-","-","-","-","-","-","-","-","-","-","-","-","-","-","-","-",{"$f":"IF(SUM(AU7684:BF7684)=0,\"-\",AVERAGEIF(AT6916:AT7587,$G7684,CA6916:CA7587))","v":"-"},{"$f":"IFERROR(IF(SUM(AU7684:BF7684)=0,\"-\",AVERAGEIF(AT6916:AT7587,AT7684,CB6916:CB7587)), \"-\")","v":"-"},{"$f":"IF(SUM(AU7684:BF7684)=0,\"-\",MIN(CC6916,CC7012,CC7108,CC7204,CC7300,CC7396,CC7492))","v":"-"},{"$f":"IF(SUM(AU7684:BF7684)=0,\"-\",MAX(CD6916,CD7012,CD7108,CD7204,CD7300,CD7396,CD7492))","v":"-"},null,"7 Day Ave","00:00:00",{"$f":"IF(AND(CH6916=\"-\",CH7012=\"-\",CH7108=\"-\",CH7204=\"-\",CH7300=\"-\",CH7396=\"-\",CH7492=\"-\"), \"-\", ROUND(AVERAGE(CH6916,CH7012,CH7108,CH7204,CH7300,CH7396,CH7492),0))","v":"-"},"-","-","-","-","-","-","-","-","-","-","-",{"$f":"IF(AND(CT6916=\"-\",CT7012=\"-\",CT7108=\"-\",CT7204=\"-\",CT7300=\"-\",CT7396=\"-\",CT7492=\"-\"), \"-\", IF(SUM($CH7684:$CS7684)=0, 0, ROUND(AVERAGE(CT6916,CT7012,CT7108,CT7204,CT7300,CT7396,CT7492),0)))","v":"-"},{"$f":"IF(AND(CU6916=\"-\",CU7012=\"-\",CU7108=\"-\",CU7204=\"-\",CU7300=\"-\",CU7396=\"-\",CU7492=\"-\"), \"-\", IF(SUM($CH7684:$CS7684)=0, 0, ROUND(AVERAGE(CU6916,CU7012,CU7108,CU7204,CU7300,CU7396,CU7492),0)))","v":"-"},"-","-","-","-","-","-","-","-","-","-","-","-","-","-","-","-","-","-","-","-","-","-","-",{"$f":"IF(DR7684=\"-\", \"-\", SUM(I7684:J7684))","v":"-"},"-","-","-","-","-","-","-","-","-","-","-",{"$f":"IF(OR(DS7684=\"-\", DY7684=\"-\"), \"-\", SUM(DS7684,DY7684))","v":"-"},{"$f":"IF(OR(DT7684=\"-\", DZ7684=\"-\"), \"-\", SUM(DT7684,DZ7684))","v":"-"},{"$f":"IF(OR(DU7684=\"-\", EA7684=\"-\"), \"-\", SUM(DU7684,EA7684))","v":"-"},{"$f":"IF(OR(DV7684=\"-\", EB7684=\"-\"), \"-\", SUM(DV7684,EB7684))","v":"-"},{"$f":"IF(OR(DW7684=\"-\", EC7684=\"-\"), \"-\", SUM(DW7684,EC7684))","v":"-"}]
[0,"7-Day Average",{"$f":"INDEX(Input_Details!$H$5:$H$24, MATCH($A7723, Input_Details!$J$5:$J$24, 0), 0)","v":{"$error":"#N/A"}},{"$f":"INDEX(Input_Details!$I$5:$I$24, MATCH($A7723, Input_Details!$J$5:$J$24, 0), 0)","v":{"$error":"#N/A"}},{"$f":"INDEX(Input_Details!$K$5:$K$24, MATCH($A7723, Input_Details!$J$5:$J$24, 0), 0)","v":{"$error":"#N/A"}},"7 Day Ave","09:45:00",{"$f":"IF(AND(H6955=\"\",H7051=\"\",H7147=\"\",H7243=\"\",H7339=\"\",H7435=\"\",H7531=\"\"), \"-\", IF(H6955+H7051+H7147+H7243+H7339+H7435+H7531=0,0,AVERAGE(H6955,H7051,H7147,H7243,H7339,H7435,H7531)))","v":"-"},"-","-","-","-","-","-","-","-","-","-","-",{"$f":"IF(AND(T6955=\"\",T7051=\"\",T7147=\"\",T7243=\"\",T7339=\"\",T7435=\"\",T7531=\"\"), \"-\", IF(SUM($H7723:$S7723)=0, 0, IF(T6955+T7051+T7147+T7243+T7339+T7435+T7531=0,0,AVERAGE(T6955,T7051,T7147,T7243,T7339,T7435,T7531))))","v":"-"},"-","-","-","-","-","-","-","-","-","-","-","-","-","-","-","-","-","-","-",{"$f":"IF(SUM(H7723:S7723)=0,\"-\",AVERAGEIF(G6916:G7587,$G7723,AN6916:AN7587))","v":"-"},{"$f":"IFERROR(IF(SUM(H7723:S7723)=0,\"-\",AVERAGEIF(G6916:G7587,G7723,AO6916:AO7587)), \"-\")","v":"-"},"-","-",{"$f":"INDEX(Input_Details!$L$5:$L$24, MATCH($A7723, Input_Details!$J$5:$J$24, 0), 0)","v":{"$error":"#N/A"}},"7 Day Ave","09:45:00",{"$f":"IF(AND(AU6955=\"\",AU7051=\"\",AU7147=\"\",AU7243=\"\",AU7339=\"\",AU7435=\"\",AU7531=\"\"), \"-\", IF(AU6955+AU7051+AU7147+AU7243+AU7339+AU7435+AU7531=0,0,AVERAGE(AU6955,AU7051,AU7147,AU7243,AU7339,AU7435,AU7531)))","v":"-"},"-","-","-","-","-","-","-","-","-","-","-",{"$f":"IF(AND(BG6955=\"\",BG7051=\"\",BG7147=\"\",BG7243=\"\",BG7339=\"\",BG7435=\"\",BG7531=\"\"), \"-\", IF(SUM($AU7723:$BF7723)=0, 0, IF(BG6955+BG7051+BG7147+BG7243+BG7339+BG7435+BG7531=0,0,AVERAGE(BG6955,BG7051,BG7147,BG7243,BG7339,BG7435,BG7531))))","v":"-"},"-","-","-","-","-","-","-","-","-","-","-","-","-","-","-","-","-","-","-",{"$f":"IF(SUM(AU7723:BF7723)=0,\"-\",AVERAGEIF(AT6916:AT7587,$G7723,CA6916:CA7587))","v":"-"},{"$f":"IFERROR(IF(SUM(AU7723:BF7723)=0,\"-\",AVERAGEIF(AT6916:AT7587,AT7723,CB6916:CB7587)), \"-\")","v":"-"},"-","-",null,"7 Day Ave","09:45:00",{"$f":"IF(AND(CH6955=\"-\",CH7051=\"-\",CH7147=\"-\",CH7243=\"-\",CH7339=\"-\",CH7435=\"-\",CH7531=\"-\"), \"-\", ROUND(AVERAGE(CH6955,CH7051,CH7147,CH7243,CH7339,CH7435,CH7531),0))","v":"-"},"-","-","-","-","-","-","-","-","-","-","-",{"$f":"IF(AND(CT6955=\"-\",CT7051=\"-\",CT7147=\"-\",CT7243=\"-\",CT7339=\"-\",CT7435=\"-\",CT7531=\"-\"), \"-\", IF(SUM($CH7723:$CS7723)=0, 0, ROUND(AVERAGE(CT6955,CT7051,CT7147,CT7243,CT7339,CT7435,CT7531),0)))","v":"-"},"-","-","-","-","-","-","-","-","-","-","-","-","-","-","-","-","-","-","-","-","-","-","-","-","-","-","-","-","-","-","-","-","-","-","-","-","-","-","-","-","-"]
[0,"7-Day Average",{"$f":"INDEX(Input_Details!$H$5:$H$24, MATCH($A7752, Input_Details!$J$5:$J$24, 0), 0)","v":{"$error":"#N/A"}},{"$f":"INDEX(Input_Details!$I$5:$I$24, MATCH($A7752, Input_Details!$J$5:$J$24, 0), 0)","v":{"$error":"#N/A"}},{"$f":"INDEX(Input_Details!$K$5:$K$24, MATCH($A7752, Input_Details!$J$5:$J$24, 0), 0)","v":{"$error":"#N/A"}},"7 Day Ave","17:00:00",{"$f":"IF(AND(H6984=\"\",H7080=\"\",H7176=\"\",H7272=\"\",H7368=\"\",H7464=\"\",H7560=\"\"), \"-\", IF(H6984+H7080+H7176+H7272+H7368+H7464+H7560=0,0,AVERAGE(H6984,H7080,H7176,H7272,H7368,H7464,H7560)))","v":"-"},"-","-","-","-","-","-","-","-","-","-","-",{"$f":"IF(AND(T6984=\"\",T7080=\"\",T7176=\"\",T7272=\"\",T7368=\"\",T7464=\"\",T7560=\"\"), \"-\", IF(SUM($H7752:$S7752)=0, 0, IF(T6984+T7080+T7176+T7272+T7368+T7464+T7560=0,0,AVERAGE(T6984,T7080,T7176,T7272,T7368,T7464,T7560))))","v":"-"},"-","-","-","-","-","-","-","-","-","-","-","-","-","-","-","-","-","-","-",{"$f":"IF(SUM(H7752:S7752)=0,\"-\",AVERAGEIF(G6916:G7587,$G7752,AN6916:AN7587))","v":"-"},{"$f":"IFERROR(IF(SUM(H7752:S7752)=0,\"-\",AVERAGEIF(G6916:G7587,G7752,AO6916:AO7587)), \"-\")","v":"-"},"-","-",{"$f":"INDEX(Input_Details!$L$5:$L$24, MATCH($A7752, Input_Details!$J$5:$J$24, 0), 0)","v":{"$error":"#N/A"}},"7 Day Ave","17:00:00",{"$f":"IF(AND(AU6984=\"\",AU7080=\"\",AU7176=\"\",AU7272=\"\",AU7368=\"\",AU7464=\"\",AU7560=\"\"), \"-\", IF(AU6984+AU7080+AU7176+AU7272+AU7368+AU7464+AU7560=0,0,AVERAGE(AU6984,AU7080,AU7176,AU7272,AU7368,AU7464,AU7560)))","v":"-"},"-","-","-","-","-","-","-","-","-","-","-",{"$f":"IF(AND(BG6984=\"\",BG7080=\"\",BG7176=\"\",BG7272=\"\",BG7368=\"\",BG7464=\"\",BG7560=\"\"), \"-\", IF(SUM($AU7752:$BF7752)=0, 0, IF(BG6984+BG7080+BG7176+BG7272+BG7368+BG7464+BG7560=0,0,AVERAGE(BG6984,BG7080,BG7176,BG7272,BG7368,BG7464,BG7560))))","v":"-"},"-","-","-","-","-","-","-","-","-","-","-","-","-","-","-","-","-","-","-",{"$f":"IF(SUM(AU7752:BF7752)=0,\"-\",AVERAGEIF(AT6916:AT7587,$G7752,CA6916:CA7587))","v":"-"},{"$f":"IFERROR(IF(SUM(AU7752:BF7752)=0,\"-\",AVERAGEIF(AT6916:AT7587,AT7752,CB6916:CB7587)), \"-\")","v":"-"},"-","-",null,"7 Day Ave","17:00:00",{"$f":"IF(AND(CH6984=\"-\",CH7080=\"-\",CH7176=\"-\",CH7272=\"-\",CH7368=\"-\",CH7464=\"-\",CH7560=\"-\"), \"-\", ROUND(AVERAGE(CH6984,CH7080,CH7176,CH7272,CH7368,CH7464,CH7560),0))","v":"-"},"-","-","-","-","-","-","-","-","-","-","-",{"$f":"IF(AND(CT6984=\"-\",CT7080=\"-\",CT7176=\"-\",CT7272=\"-\",CT7368=\"-\",CT7464=\"-\",CT7560=\"-\"), \"-\", IF(SUM($CH7752:$CS7752)=0, 0, ROUND(AVERAGE(CT6984,CT7080,CT7176,CT7272,CT7368,CT7464,CT7560),0)))","v":"-"},"-","-","-","-","-","-","-","-","-","-","-","-","-","-","-","-","-","-","-","-","-","-","-","-","-","-","-","-","-","-","-","-","-","-","-","-","-","-","-","-","-"]
[{"$error":"#N/A"},{"$f":"OFFSET(Input_Details!$Q$4,MATCH($A7806, Input_Details!$J$5:$J$24, 0), 0)","v":{"$error":"#N/A"}},{"$f":"INDEX(Input_Details!$H$5:$H$24, MATCH($A7806, Input_Details!$J$5:$J$24, 0), 0)","v":{"$error":"#N/A"}},{"$f":"INDEX(Input_Details!$I$5:$I$24, MATCH($A7806, Input_Details!$J$5:$J$24, 0), 0)","v":{"$error":"#N/A"}},{"$f":"INDEX(Input_Details!$K$5:$K$24, MATCH($A7806, Input_Details!$J$5:$J$24, 0), 0)","v":{"$error":"#N/A"}},"Mon","06:30:00",null,null,null,null,null,null,null,null,null,null,null,null,null,null,null,null,null,null,null,null,null,null,null,null,null,null,null,null,null,null,null,null,null,null,null,null,{"$f":"INDEX(Input_Details!$L$5:$L$24, MATCH($A7806, Input_Details!$J$5:$J$24, 0), 0)","v":{"$error":"#N/A"}},"Mon","06:30:00",null,null,null,null,null,null,null,null,null,null,null,null,null,null,null,null,null,null,null,null,null,null,null,null,null,null,null,null,null,null,null,null,null,null,null,null,null,"Mon","06:30:00","-","-","-","-","-","-","-","-","-","-","-","-","-","-","-","-","-","-","-","-","-","-","-","-","-","-","-","-","-","-","-","-","-","-","-","-","-","-","-","-","-","-","-","-","-","-","-","-","-","-","-","-","-","-","-","-","-","-","-","-","-","-","-","-","-","-","-","-","-","-","-","-","-","-","-"]
[{"$error":"#N/A"},{"$f":"OFFSET(Input_Details!$Q$4,MATCH($A7845, Input_Details!$J$5:$J$24, 0), 0)","v":{"$error":"#N/A"}},{"$f":"INDEX(Input_Details!$H$5:$H$24, MATCH($A7845, Input_Details!$J$5:$J$24, 0), 0)","v":{"$error":"#N/A"}},{"$f":"INDEX(Input_Details!$I$5:$I$24, MATCH($A7845, Input_Details!$J$5:$J$24, 0), 0)","v":{"$error":"#N/A"}},{"$f":"INDEX(Input_Details!$K$5:$K$24, MATCH($A7845, Input_Details!$J$5:$J$24, 0), 0)","v":{"$error":"#N/A"}},"Mon","16:15:00",null,null,null,null,null,null,null,null,null,null,null,null,null,null,null,null,null,null,null,null,null,null,null,null,null,null,null,null,null,null,null,null,null,null,null,null,{"$f":"INDEX(Input_Details!$L$5:$L$24, MATCH($A7845, Input_Details!$J$5:$J$24, 0), 0)","v":{"$error":"#N/A"}},"Mon","16:15:00",null,null,null,null,null,null,null,null,null,null,null,null,null,null,null,null,null,null,null,null,null,null,null,null,null,null,null,null,null,null,null,null,null,null,null,null,null,"Mon","16:15:00",{"$f":"IF(OR(H7845=\"\", AU7845=\"\"), \"-\",SUM(H7845+AU7845))","v":"-"},"-","-","-","-","-","-","-","-","-","-","-","-","-","-","-","-","-","-","-","-","-","-","-","-","-","-","-","-","-","-","-",{"$f":"IF(OR(DW7845=\"-\", EC7845=\"-\", EI7845=\"-\", EI7845=0),\"-\",IF(OR(DW7845=\"-\", DW7845=0),CA7845,IF(EC7845=0,AN7845,SUM((AN7845*DW7845),(CA7845*EC7845))/EI7845)))","v":"-"},{"$f":"IFERROR(IF(OR(DW7845=\"-\", EC7845=\"-\", EI7845=\"-\", EI7845=0), \"-\", IF(AO7845=\"-\", CB7845, AVERAGE(AO7845,CB7845))), \"-\")","v":"-"},{"$f":"IF(OR(DW7845=\"-\", EC7845=\"-\",EI7845=\"-\", EI7845=0),\"-\",MIN(AP7845,CC7845))","v":"-"},{"$f":"IF(OR(DW7845=\"-\", EC7845=\"-\",EI7845=\"-\", EI7845=0),\"-\",MAX(AQ7845,CD7845))","v":"-"},"-","-","-","-","-","-",{"$f":"IF(AU7845=\"\", \"-\", AU7845)","v":"-"},{"$f":"IF(DX7845=\"-\", \"-\", SUM(AV7845:AW7845))","v":"-"},{"$f":"IF(DX7845=\"-\", \"-\", AX7845)","v":"-"},"-","-",{"$f":"IF(DX7845=\"-\", \"-\", SUM(AU7845:BF7845))","v":"-"},{"$f":"IF(OR(DR7845=\"-\", DX7845=\"-\"), \"-\", SUM(DR7845,DX7845))","v":"-"},"-","-","-","-","-",{"$f":"+DW7845","v":"-"},{"$f":"+DW7941","v":"-"},{"$f":"+DW8037","v":"-"},{"$f":"+DW8133","v":"-"},{"$f":"+DW8229","v":"-"},{"$f":"+DW8325","v":"-"},{"$f":"+DW8421","v":"-"},{"$f":"+EC7845","v":"-"},{"$f":"+EC7941","v":"-"},{"$f":"+EC8037","v":"-"},{"$f":"+EC8133","v":"-"},{"$f":"+EC8229","v":"-"},{"$f":"+EC8325","v":"-"},{"$f":"+EC8421","v":"-"},{"$f":"IF(OR(EJ7845=\"-\", EQ7845=\"-\"), \"-\", SUM(EJ7845,EQ7845))","v":"-"},"-","-","-","-","-","-"]
[{"$error":"#N/A"},{"$f":"OFFSET(Input_Details!$Q$4,MATCH($A7871, Input_Details!$J$5:$J$24, 0), 0)","v":{"$error":"#N/A"}},{"$f":"INDEX(Input_Details!$H$5:$H$24, MATCH($A7871, Input_Details!$J$5:$J$24, 0), 0)","v":{"$error":"#N/A"}},{"$f":"INDEX(Input_Details!$I$5:$I$24, MATCH($A7871, Input_Details!$J$5:$J$24, 0), 0)","v":{"$error":"#N/A"}},{"$f":"INDEX(Input_Details!$K$5:$K$24, MATCH($A7871, Input_Details!$J$5:$J$24, 0), 0)","v":{"$error":"#N/A"}},"Mon","22:45:00",null,null,null,null,null,null,null,null,null,null,null,null,null,null,null,null,null,null,null,null,null,null,null,null,null,null,null,null,null,null,null,null,null,null,null,null,{"$f":"INDEX(Input_Details!$L$5:$L$24, MATCH($A7871, Input_Details!$J$5:$J$24, 0), 0)","v":{"$error":"#N/A"}},"Mon","22:45:00",null,null,null,null,null,null,null,null,null,null,null,null,null,null,null,null,null,null,null,null,null,null,null,null,null,null,null,null,null,null,null,null,null,null,null,null,null,"Mon","22:45:00","-","-","-","-","-","-","-","-","-","-","-","-","-","-","-","-","-","-","-","-","-","-","-","-","-","-","-","-","-","-","-","-","-","-","-","-","-","-","-","-","-","-","-","-","-","-","-","-","-","-","-","-","-","-","-","-","-","-","-","-","-","-","-","-","-","-","-","-","-","-","-","-","-","-","-"]
[{"$error":"#N/A"},{"$f":"OFFSET(Input_Details!$Q$4,MATCH($A7895, Input_Details!$J$5:$J$24, 0), 1)","v":{"$error":"#N/A"}},{"$f":"INDEX(Input_Details!$H$5:$H$24, MATCH($A7895, Input_Details!$J$5:$J$24, 0), 0)","v":{"$error":"#N/A"}},{"$f":"INDEX(Input_Details!$I$5:$I$24, MATCH($A7895, Input_Details!$J$5:$J$24, 0), 0)","v":{"$error":"#N/A"}},{"$f":"INDEX(Input_Details!$K$5:$K$24, MATCH($A7895, Input_Details!$J$5:$J$24, 0), 0)","v":{"$error":"#N/A"}},"Tues","04:45:00",null,null,null,null,null,null,null,null,null,null,null,null,null,null,null,null,null,null,null,null,null,null,null,null,null,null,null,null,null,null,null,null,null,null,null,null,{"$f":"INDEX(Input_Details!$L$5:$L$24, MATCH($A7895, Input_Details!$J$5:$J$24, 0), 0)","v":{"$error":"#N/A"}},"Tues","04:45:00",null,null,null,null,null,null,null,null,null,null,null,null,null,null,null,null,null,null,null,null,null,null,null,null,null,null,null,null,null,null,null,null,null,null,null,null,null,"Tues","04:45:00","-","-","-","-","-","-","-","-","-","-","-","-","-","-","-","-","-","-","-","-","-","-","-","-","-","-","-","-","-","-","-","-","-","-","-","-","-","-","-","-","-","-","-","-","-","-","-","-","-","-","-","-","-","-"]
[{"$error":"#N/A"},{"$f":"OFFSET(Input_Details!$Q$4,MATCH($A7934, Input_Details!$J$5:$J$24, 0), 1)","v":{"$error":"#N/A"}},{"$f":"INDEX(Input_Details!$H$5:$H$24, MATCH($A7934, Input_Details!$J$5:$J$24, 0), 0)","v":{"$error":"#N/A"}},{"$f":"INDEX(Input_Details!$I$5:$I$24, MATCH($A7934, Input_Details!$J$5:$J$24, 0), 0)","v":{"$error":"#N/A"}},{"$f":"INDEX(Input_Details!$K$5:$K$24, MATCH($A7934, Input_Details!$J$5:$J$24, 0), 0)","v":{"$error":"#N/A"}},"Tues","14:30:00",null,null,null,null,null,null,null,null,null,null,null,null,null,null,null,null,null,null,null,null,null,null,null,null,null,null,null,null,null,null,null,null,null,null,null,null,{"$f":"INDEX(Input_Details!$L$5:$L$24, MATCH($A7934, Input_Details!$J$5:$J$24, 0), 0)","v":{"$error":"#N/A"}},"Tues","14:30:00",null,null,null,null,null,null,null,null,null,null,null,null,null,null,null,null,null,null,null,null,null,null,null,null,null,null,null,null,null,null,null,null,null,null,null,null,null,"Tues","14:30:00","-","-","-","-","-","-","-","-","-","-","-","-","-","-","-","-","-","-","-","-","-","-","-","-","-","-","-","-","-","-","-","-","-","-","-","-","-","-","-","-","-","-","-","-","-","-","-","-","-","-","-","-","-","-"]
[{"$error":"#N/A"},{"$f":"OFFSET(Input_Details!$Q$4,MATCH($A7972, Input_Details!$J$5:$J$24, 0), 2)","v":{"$error":"#N/A"}},{"$f":"INDEX(Input_Details!$H$5:$H$24, MATCH($A7972, Input_Details!$J$5:$J$24, 0), 0)","v":{"$error":"#N/A"}},{"$f":"INDEX(Input_Details!$I$5:$I$24, MATCH($A7972, Input_Details!$J$5:$J$24, 0), 0)","v":{"$error":"#N/A"}},{"$f":"INDEX(Input_Details!$K$5:$K$24, MATCH($A7972, Input_Details!$J$5:$J$24, 0), 0)","v":{"$error":"#N/A"}},"Wed","00:00:00",null,null,null,null,null,null,null,null,null,null,null,null,null,null,null,null,null,null,null,null,null,null,null,null,null,null,null,null,null,null,null,null,null,null,null,null,{"$f":"INDEX(Input_Details!$L$5:$L$24, MATCH($A7972, Input_Details!$J$5:$J$24, 0), 0)","v":{"$error":"#N/A"}},"Wed","00:00:00",null,null,null,null,null,null,null,null,null,null,null,null,null,null,null,null,null,null,null,null,null,null,null,null,null,null,null,null,null,null,null,null,null,null,null,null,null,"Wed","00:00:00","-",{"$f":"IF(OR(I7972=\"\", AV7972=\"\"), \"-\",SUM(I7972+AV7972))","v":"-"},{"$f":"IF(OR(J7972=\"\", AW7972=\"\"), \"-\",SUM(J7972+AW7972))","v":"-"},{"$f":"IF(OR(K7972=\"\", AX7972=\"\"), \"-\",SUM(K7972+AX7972))","v":"-"},{"$f":"IF(OR(L7972=\"\", AY7972=\"\"), \"-\",SUM(L7972+AY7972))","v":"-"},{"$f":"IF(OR(M7972=\"\", AZ7972=\"\"), \"-\",SUM(M7972+AZ7972))","v":"-"},{"$f":"IF(OR(N7972=\"\", BA7972=\"\"), \"-\",SUM(N7972+BA7972))","v":"-"},{"$f":"IF(OR(O7972=\"\", BB7972=\"\"), \"-\",SUM(O7972+BB7972))","v":"-"},{"$f":"IF(OR(P7972=\"\", BC7972=\"\"), \"-\",SUM(P7972+BC7972))","v":"-"},{"$f":"IF(OR(Q7972=\"\", BD7972=\"\"), \"-\",SUM(Q7972+BD7972))","v":"-"},{"$f":"IF(OR(R7972=\"\", BE7972=\"\"), \"-\",SUM(R7972+BE7972))","v":"-"},{"$f":"IF(OR(S7972=\"\", BF7972=\"\"), \"-\",SUM(S7972+BF7972))","v":"-"},{"$f":"IF(OR(T7972=\"\", BG7972=\"\"), \"-\",SUM(T7972+BG7972))","v":"-"},{"$f":"IF(OR(U7972=\"\", BH7972=\"\"), \"-\",SUM(U7972+BH7972))","v":"-"},{"$f":"IF(OR(V7972=\"\", BI7972=\"\"), \"-\",SUM(V7972+BI7972))","v":"-"},{"$f":"IF(OR(W7972=\"\", BJ7972=\"\"), \"-\",SUM(W7972+BJ7972))","v":"-"},{"$f":"IF(OR(X7972=\"\", BK7972=\"\"), \"-\",SUM(X7972+BK7972))","v":"-"},{"$f":"IF(OR(Y7972=\"\", BL7972=\"\"), \"-\",SUM(Y7972+BL7972))","v":"-"},{"$f":"IF(OR(Z7972=\"\", BM7972=\"\"), \"-\",SUM(Z7972+BM7972))","v":"-"},{"$f":"IF(OR(AA7972=\"\", BN7972=\"\"), \"-\",SUM(AA7972+BN7972))","v":"-"},{"$f":"IF(OR(AB7972=\"\", BO7972=\"\"), \"-\",SUM(AB7972+BO7972))","v":"-"},{"$f":"IF(OR(AC7972=\"\", BP7972=\"\"), \"-\",SUM(AC7972+BP7972))","v":"-"},{"$f":"IF(OR(AD7972=\"\", BQ7972=\"\"), \"-\",SUM(AD7972+BQ7972))","v":"-"},{"$f":"IF(OR(AE7972=\"\", BR7972=\"\"), \"-\",SUM(AE7972+BR7972))","v":"-"},{"$f":"IF(OR(AF7972=\"\", BS7972=\"\"), \"-\",SUM(AF7972+BS7972))","v":"-"},{"$f":"IF(OR(AG7972=\"\", BT7972=\"\"), \"-\",SUM(AG7972+BT7972))","v":"-"},{"$f":"IF(OR(AH7972=\"\", BU7972=\"\"), \"-\",SUM(AH7972+BU7972))","v":"-"},{"$f":"IF(OR(AI7972=\"\", BV7972=\"\"), \"-\",SUM(AI7972+BV7972))","v":"-"},{"$f":"IF(OR(AJ7972=\"\", BW7972=\"\"), \"-\",SUM(AJ7972+BW7972))","v":"-"},{"$f":"IF(OR(AK7972=\"\", BX7972=\"\"), \"-\",SUM(AK7972+BX7972))","v":"-"},{"$f":"IF(OR(AL7972=\"\", BY7972=\"\"), \"-\",SUM(AL7972+BY7972))","v":"-"},{"$f":"IF(OR(AM7972=\"\", BZ7972=\"\"), \"-\",SUM(AM7972+BZ7972))","v":"-"},"-","-","-","-",{"$f":"IF(H7972=\"\", \"-\", H7972)","v":"-"},{"$f":"IF(DR7972=\"-\", \"-\", SUM(I7972:J7972))","v":"-"},{"$f":"IF(DR7972=\"-\", \"-\", K7972)","v":"-"},"-","-",{"$f":"IF(DR7972=\"-\", \"-\", SUM(H7972:S7972))","v":"-"},"-","-","-","-","-","-","-","-","-","-","-","-"]
[{"$error":"#N/A"},{"$f":"OFFSET(Input_Details!$Q$4,MATCH($A7984, Input_Details!$J$5:$J$24, 0), 2)","v":{"$error":"#N/A"}},{"$f":"INDEX(Input_Details!$H$5:$H$24, MATCH($A7984, Input_Details!$J$5:$J$24, 0), 0)","v":{"$error":"#N/A"}},{"$f":"INDEX(Input_Details!$I$5:$I$24, MATCH($A7984, Input_Details!$J$5:$J$24, 0), 0)","v":{"$error":"#N/A"}},{"$f":"INDEX(Input_Details!$K$5:$K$24, MATCH($A7984, Input_Details!$J$5:$J$24, 0), 0)","v":{"$error":"#N/A"}},"Wed","03:00:00",null,null,null,null,null,null,null,null,null,null,null,null,null,null,null,null,null,null,null,null,null,null,null,null,null,null,null,null,null,null,null,null,null,null,null,null,{"$f":"INDEX(Input_Details!$L$5:$L$24, MATCH($A7984, Input_Details!$J$5:$J$24, 0), 0)","v":{"$error":"#N/A"}},"Wed","03:00:00",null,null,null,null,null,null,null,null,null,null,null,null,null,null,null,null,null,null,null,null,null,null,null,null,null,null,null,null,null,null,null,null,null,null,null,null,null,"Wed","03:00:00","-","-","-","-","-","-","-","-","-","-","-","-","-","-","-","-","-","-","-","-","-","-","-","-","-","-","-","-","-","-","-","-","-","-","-","-","-","-","-","-","-","-","-","-","-","-","-","-","-","-","-","-","-","-"]
[{"$error":"#N/A"},{"$f":"OFFSET(Input_Details!$Q$4,MATCH($A8023, Input_Details!$J$5:$J$24, 0), 2)","v":{"$error":"#N/A"}},{"$f":"INDEX(Input_Details!$H$5:$H$24, MATCH($A8023, Input_Details!$J$5:$J$24, 0), 0)","v":{"$error":"#N/A"}},{"$f":"INDEX(Input_Details!$I$5:$I$24, MATCH($A8023, Input_Details!$J$5:$J$24, 0), 0)","v":{"$error":"#N/A"}},{"$f":"INDEX(Input_Details!$K$5:$K$24, MATCH($A8023, Input_Details!$J$5:$J$24, 0), 0)","v":{"$error":"#N/A"}},"Wed","12:45:00",null,null,null,null,null,null,null,null,null,null,null,null,null,null,null,null,null,null,null,null,null,null,null,null,null,null,null,null,null,null,null,null,null,null,null,null,{"$f":"INDEX(Input_Details!$L$5:$L$24, MATCH($A8023, Input_Details!$J$5:$J$24, 0), 0)","v":{"$error":"#N/A"}},"Wed","12:45:00",null,null,null,null,null,null,null,null,null,null,null,null,null,null,null,null,null,null,null,null,null,null,null,null,null,null,null,null,null,null,null,null,null,null,null,null,null,"Wed","12:45:00","-","-","-","-","-","-","-","-","-","-","-","-","-","-","-","-","-","-","-","-","-","-","-","-","-","-","-","-","-","-","-","-","-","-","-","-","-","-","-","-","-","-","-","-","-","-","-","-","-","-","-","-","-","-"]
[{"$error":"#N/A"},{"$f":"OFFSET(Input_Details!$Q$4,MATCH($A8073, Input_Details!$J$5:$J$24, 0), 3)","v":{"$error":"#N/A"}},{"$f":"INDEX(Input_Details!$H$5:$H$24, MATCH($A8073, Input_Details!$J$5:$J$24, 0), 0)","v":{"$error":"#N/A"}},{"$f":"INDEX(Input_Details!$I$5:$I$24, MATCH($A8073, Input_Details!$J$5:$J$24, 0), 0)","v":{"$error":"#N/A"}},{"$f":"INDEX(Input_Details!$K$5:$K$24, MATCH($A8073, Input_Details!$J$5:$J$24, 0), 0)","v":{"$error":"#N/A"}},"Thu","01:15:00",null,null,null,null,null,null,null,null,null,null,null,null,null,null,null,null,null,null,null,null,null,null,null,null,null,null,null,null,null,null,null,null,null,null,null,null,{"$f":"INDEX(Input_Details!$L$5:$L$24, MATCH($A8073, Input_Details!$J$5:$J$24, 0), 0)","v":{"$error":"#N/A"}},"Thu","01:15:00",null,null,null,null,null,null,null,null,null,null,null,null,null,null,null,null,null,null,null,null,null,null,null,null,null,null,null,null,null,null,null,null,null,null,null,null,null,"Thu","01:15:00","-","-","-","-","-","-","-","-","-","-","-","-","-","-","-","-","-","-","-","-","-","-","-","-","-","-","-","-","-","-","-","-","-","-","-","-","-","-","-","-","-","-","-","-","-","-","-","-","-","-","-","-","-","-"]
[{"$error":"#N/A"},{"$f":"OFFSET(Input_Details!$Q$4,MATCH($A8106, Input_Details!$J$5:$J$24, 0), 3)","v":{"$error":"#N/A"}},{"$f":"INDEX(Input_Details!$H$5:$H$24, MATCH($A8106, Input_Details!$J$5:$J$24, 0), 0)","v":{"$error":"#N/A"}},{"$f":"INDEX(Input_Details!$I$5:$I$24, MATCH($A8106, Input_Details!$J$5:$J$24, 0), 0)","v":{"$error":"#N/A"}},{"$f":"INDEX(Input_Details!$K$5:$K$24, MATCH($A8106, Input_Details!$J$5:$J$24, 0), 0)","v":{"$error":"#N/A"}},"Thu","09:30:00",null,null,null,null,null,null,null,null,null,null,null,null,null,null,null,null,null,null,null,null,null,null,null,null,null,null,null,null,null,null,null,null,null,null,null,null,{"$f":"INDEX(Input_Details!$L$5:$L$24, MATCH($A8106, Input_Details!$J$5:$J$24, 0), 0)","v":{"$error":"#N/A"}},"Thu","09:30:00",null,null,null,null,null,null,null,null,null,null,null,null,null,null,null,null,null,null,null,null,null,null,null,null,null,null,null,null,null,null,null,null,null,null,null,null,null,"Thu","09:30:00","-","-","-","-","-","-","-","-","-","-","-","-","-","-","-","-","-","-","-","-","-","-","-","-","-","-","-","-","-","-","-","-","-","-","-","-","-","-","-","-","-","-","-","-","-","-","-","-","-","-","-","-","-","-"]
[{"$error":"#N/A"},{"$f":"OFFSET(Input_Details!$Q$4,MATCH($A8116, Input_Details!$J$5:$J$24, 0), 3)","v":{"$error":"#N/A"}},{"$f":"INDEX(Input_Details!$H$5:$H$24, MATCH($A8116, Input_Details!$J$5:$J$24, 0), 0)","v":{"$error":"#N/A"}},{"$f":"INDEX(Input_Details!$I$5:$I$24, MATCH($A8116, Input_Details!$J$5:$J$24, 0), 0)","v":{"$error":"#N/A"}},{"$f":"INDEX(Input_Details!$K$5:$K$24, MATCH($A8116, Input_Details!$J$5:$J$24, 0), 0)","v":{"$error":"#N/A"}},"Thu","12:00:00",null,null,null,null,null,null,null,null,null,null,null,null,null,null,null,null,null,null,null,null,null,null,null,null,null,null,null,null,null,null,null,null,null,null,null,null,{"$f":"INDEX(Input_Details!$L$5:$L$24, MATCH($A8116, Input_Details!$J$5:$J$24, 0), 0)","v":{"$error":"#N/A"}},"Thu","12:00:00",null,null,null,null,null,null,null,null,null,null,null,null,null,null,null,null,null,null,null,null,null,null,null,null,null,null,null,null,null,null,null,null,null,null,null,null,null,"Thu","12:00:00","-","-","-","-","-","-","-","-","-","-","-","-","-","-","-","-","-","-","-","-","-","-","-","-","-","-","-","-","-","-","-","-","-","-","-","-","-","-","-","-","-","-","-","-","-","-","-","-","-","-","-","-","-","-"]
[{"$error":"#N/A"},{"$f":"OFFSET(Input_Details!$Q$4,MATCH($A8174, Input_Details!$J$5:$J$24, 0), 4)","v":{"$error":"#N/A"}},{"$f":"INDEX(Input_Details!$H$5:$H$24, MATCH($A8174, Input_Details!$J$5:$J$24, 0), 0)","v":{"$error":"#N/A"}},{"$f":"INDEX(Input_Details!$I$5:$I$24, MATCH($A8174, Input_Details!$J$5:$J$24, 0), 0)","v":{"$error":"#N/A"}},{"$f":"INDEX(Input_Details!$K$5:$K$24, MATCH($A8174, Input_Details!$J$5:$J$24, 0), 0)","v":{"$error":"#N/A"}},"Fri","02:30:00",null,null,null,null,null,null,null,null,null,null,null,null,null,null,null,null,null,null,null,null,null,null,null,null,null,null,null,null,null,null,null,null,null,null,null,null,{"$f":"INDEX(Input_Details!$L$5:$L$24, MATCH($A8174, Input_Details!$J$5:$J$24, 0), 0)","v":{"$error":"#N/A"}},"Fri","02:30:00",null,null,null,null,null,null,null,null,null,null,null,null,null,null,null,null,null,null,null,null,null,null,null,null,null,null,null,null,null,null,null,null,null,null,null,null,null,"Fri","02:30:00","-","-","-","-","-","-","-","-","-","-","-","-","-","-","-","-","-","-","-","-","-","-","-","-","-","-","-","-","-","-","-","-","-","-","-","-","-","-","-","-","-","-","-","-","-","-","-","-","-","-","-","-","-","-"]
[{"$error":"#N/A"},{"$f":"OFFSET(Input_Details!$Q$4,MATCH($A8195, Input_Details!$J$5:$J$24, 0), 4)","v":{"$error":"#N/A"}},{"$f":"INDEX(Input_Details!$H$5:$H$24, MATCH($A8195, Input_Details!$J$5:$J$24, 0), 0)","v":{"$error":"#N/A"}},{"$f":"INDEX(Input_Details!$I$5:$I$24, MATCH($A8195, Input_Details!$J$5:$J$24, 0), 0)","v":{"$error":"#N/A"}},{"$f":"INDEX(Input_Details!$K$5:$K$24, MATCH($A8195, Input_Details!$J$5:$J$24, 0), 0)","v":{"$error":"#N/A"}},"Fri","07:45:00",null,null,null,null,null,null,null,null,null,null,null,null,null,null,null,null,null,null,null,null,null,null,null,null,null,null,null,null,null,null,null,null,null,null,null,null,{"$f":"INDEX(Input_Details!$L$5:$L$24, MATCH($A8195, Input_Details!$J$5:$J$24, 0), 0)","v":{"$error":"#N/A"}},"Fri","07:45:00",null,null,null,null,null,null,null,null,null,null,null,null,null,null,null,null,null,null,null,null,null,null,null,null,null,null,null,null,null,null,null,null,null,null,null,null,null,"Fri","07:45:00","-","-","-","-","-","-","-","-","-","-","-","-","-","-","-","-","-","-","-","-","-","-","-","-","-","-","-","-","-","-","-","-","-","-","-","-","-","-","-","-","-","-","-","-","-","-","-","-","-","-","-","-","-","-"]
[{"$error":"#N/A"},{"$f":"OFFSET(Input_Details!$Q$4,MATCH($A8238, Input_Details!$J$5:$J$24, 0), 4)","v":{"$error":"#N/A"}},{"$f":"INDEX(Input_Details!$H$5:$H$24, MATCH($A8238, Input_Details!$J$5:$J$24, 0), 0)","v":{"$error":"#N/A"}},{"$f":"INDEX(Input_Details!$I$5:$I$24, MATCH($A8238, Input_Details!$J$5:$J$24, 0), 0)","v":{"$error":"#N/A"}},{"$f":"INDEX(Input_Details!$K$5:$K$24, MATCH($A8238, Input_Details!$J$5:$J$24, 0), 0)","v":{"$error":"#N/A"}},"Fri","18:30:00",null,null,null,null,null,null,null,null,null,null,null,null,null,null,null,null,null,null,null,null,null,null,null,null,null,null,null,null,null,null,null,null,null,null,null,null,{"$f":"INDEX(Input_Details!$L$5:$L$24, MATCH($A8238, Input_Details!$J$5:$J$24, 0), 0)","v":{"$error":"#N/A"}},"Fri","18:30:00",null,null,null,null,null,null,null,null,null,null,null,null,null,null,null,null,null,null,null,null,null,null,null,null,null,null,null,null,null,null,null,null,null,null,null,null,null,"Fri","18:30:00","-","-","-","-","-","-","-","-","-","-","-","-","-","-","-","-","-","-","-","-","-","-","-","-","-","-","-","-","-","-","-","-","-","-","-","-","-","-","-","-","-","-","-","-","-","-","-","-","-","-","-","-","-","-"]
[{"$error":"#N/A"},{"$f":"OFFSET(Input_Details!$Q$4,MATCH($A8275, Input_Details!$J$5:$J$24, 0), 5)","v":{"$error":"#N/A"}},{"$f":"INDEX(Input_Details!$H$5:$H$24, MATCH($A8275, Input_Details!$J$5:$J$24, 0), 0)","v":{"$error":"#N/A"}},{"$f":"INDEX(Input_Details!$I$5:$I$24, MATCH($A8275, Input_Details!$J$5:$J$24, 0), 0)","v":{"$error":"#N/A"}},{"$f":"INDEX(Input_Details!$K$5:$K$24, MATCH($A8275, Input_Details!$J$5:$J$24, 0), 0)","v":{"$error":"#N/A"}},"Sat","03:45:00",null,null,null,null,null,null,null,null,null,null,null,null,null,null,null,null,null,null,null,null,null,null,null,null,null,null,null,null,null,null,null,null,null,null,null,null,{"$f":"INDEX(Input_Details!$L$5:$L$24, MATCH($A8275, Input_Details!$J$5:$J$24, 0), 0)","v":{"$error":"#N/A"}},"Sat","03:45:00",null,null,null,null,null,null,null,null,null,null,null,null,null,null,null,null,null,null,null,null,null,null,null,null,null,null,null,null,null,null,null,null,null,null,null,null,null,"Sat","03:45:00","-","-","-","-","-","-","-","-","-","-","-","-","-","-","-","-","-","-","-","-","-","-","-","-","-","-","-","-","-","-","-","-","-","-","-","-","-","-","-","-","-","-","-","-","-","-","-","-","-","-","-","-","-","-"]
[{"$error":"#N/A"},{"$f":"OFFSET(Input_Details!$Q$4,MATCH($A8288, Input_Details!$J$5:$J$24, 0), 5)","v":{"$error":"#N/A"}},{"$f":"INDEX(Input_Details!$H$5:$H$24, MATCH($A8288, Input_Details!$J$5:$J$24, 0), 0)","v":{"$error":"#N/A"}},{"$f":"INDEX(Input_Details!$I$5:$I$24, MATCH($A8288, Input_Details!$J$5:$J$24, 0), 0)","v":{"$error":"#N/A"}},{"$f":"INDEX(Input_Details!$K$5:$K$24, MATCH($A8288, Input_Details!$J$5:$J$24, 0), 0)","v":{"$error":"#N/A"}},"Sat","07:00:00",null,null,null,null,null,null,null,null,null,null,null,null,null,null,null,null,null,null,null,null,null,null,null,null,null,null,null,null,null,null,null,null,null,null,null,null,{"$f":"INDEX(Input_Details!$L$5:$L$24, MATCH($A8288, Input_Details!$J$5:$J$24, 0), 0)","v":{"$error":"#N/A"}},"Sat","07:00:00",null,null,null,null,null,null,null,null,null,null,null,null,null,null,null,null,null,null,null,null,null,null,null,null,null,null,null,null,null,null,null,null,null,null,null,null,null,"Sat","07:00:00","-","-","-","-","-","-","-","-","-","-","-","-","-","-","-","-","-","-","-","-","-","-","-","-","-","-","-","-","-","-","-","-","-","-","-","-","-","-","-","-","-","-","-","-","-","-","-","-","-","-","-","-","-","-"]
[{"$error":"#N/A"},{"$f":"OFFSET(Input_Details!$Q$4,MATCH($A8327, Input_Details!$J$5:$J$24, 0), 5)","v":{"$error":"#N/A"}},{"$f":"INDEX(Input_Details!$H$5:$H$24, MATCH($A8327, Input_Details!$J$5:$J$24, 0), 0)","v":{"$error":"#N/A"}},{"$f":"INDEX(Input_Details!$I$5:$I$24, MATCH($A8327, Input_Details!$J$5:$J$24, 0), 0)","v":{"$error":"#N/A"}},{"$f":"INDEX(Input_Details!$K$5:$K$24, MATCH($A8327, Input_Details!$J$5:$J$24, 0), 0)","v":{"$error":"#N/A"}},"Sat","16:45:00",null,null,null,null,null,null,null,null,null,null,null,null,null,null,null,null,null,null,null,null,null,null,null,null,null,null,null,null,null,null,null,null,null,null,null,null,{"$f":"INDEX(Input_Details!$L$5:$L$24, MATCH($A8327, Input_Details!$J$5:$J$24, 0), 0)","v":{"$error":"#N/A"}},"Sat","16:45:00",null,null,null,null,null,null,null,null,null,null,null,null,null,null,null,null,null,null,null,null,null,null,null,null,null,null,null,null,null,null,null,null,null,null,null,null,null,"Sat","16:45:00","-","-","-","-","-","-","-","-","-","-","-","-","-","-","-","-","-","-","-","-","-","-","-","-","-","-","-","-","-","-","-","-","-","-","-","-","-","-","-","-","-","-","-","-","-","-","-","-","-","-","-","-","-","-"]
[{"$error":"#N/A"},{"$f":"OFFSET(Input_Details!$Q$4,MATCH($A8376, Input_Details!$J$5:$J$24, 0), 6)","v":{"$error":"#N/A"}},{"$f":"INDEX(Input_Details!$H$5:$H$24, MATCH($A8376, Input_Details!$J$5:$J$24, 0), 0)","v":{"$error":"#N/A"}},{"$f":"INDEX(Input_Details!$I$5:$I$24, MATCH($A8376, Input_Details!$J$5:$J$24, 0), 0)","v":{"$error":"#N/A"}},{"$f":"INDEX(Input_Details!$K$5:$K$24, MATCH($A8376, Input_Details!$J$5:$J$24, 0), 0)","v":{"$error":"#N/A"}},"Sun","05:00:00",null,null,null,null,null,null,null,null,null,null,null,null,null,null,null,null,null,null,null,null,null,null,null,null,null,null,null,null,null,null,null,null,null,null,null,null,{"$f":"INDEX(Input_Details!$L$5:$L$24, MATCH($A8376, Input_Details!$J$5:$J$24, 0), 0)","v":{"$error":"#N/A"}},"Sun","05:00:00",null,null,null,null,null,null,null,null,null,null,null,null,null,null,null,null,null,null,null,null,null,null,null,null,null,null,null,null,null,null,null,null,null,null,null,null,null,"Sun","05:00:00","-","-","-","-","-","-","-","-","-","-","-","-","-","-","-","-","-","-","-","-","-","-","-","-","-","-","-","-","-","-","-","-","-","-","-","-","-","-","-","-","-","-","-","-","-","-","-","-","-","-","-","-","-","-"]
[{"$error":"#N/A"},{"$f":"OFFSET(Input_Details!$Q$4,MATCH($A8410, Input_Details!$J$5:$J$24, 0), 6)","v":{"$error":"#N/A"}},{"$f":"INDEX(Input_Details!$H$5:$H$24, MATCH($A8410, Input_Details!$J$5:$J$24, 0), 0)","v":{"$error":"#N/A"}},{"$f":"INDEX(Input_Details!$I$5:$I$24, MATCH($A8410, Input_Details!$J$5:$J$24, 0), 0)","v":{"$error":"#N/A"}},{"$f":"INDEX(Input_Details!$K$5:$K$24, MATCH($A8410, Input_Details!$J$5:$J$24, 0), 0)","v":{"$error":"#N/A"}},"Sun","13:30:00",null,null,null,null,null,null,null,null,null,null,null,null,null,null,null,null,null,null,null,null,null,null,null,null,null,null,null,null,null,null,null,null,null,null,null,null,{"$f":"INDEX(Input_Details!$L$5:$L$24, MATCH($A8410, Input_Details!$J$5:$J$24, 0), 0)","v":{"$error":"#N/A"}},"Sun","13:30:00",null,null,null,null,null,null,null,null,null,null,null,null,null,null,null,null,null,null,null,null,null,null,null,null,null,null,null,null,null,null,null,null,null,null,null,null,null,"Sun","13:30:00","-","-","-","-","-","-","-","-","-","-","-","-","-","-","-","-","-","-","-","-","-","-","-","-","-","-","-","-","-","-","-","-","-","-","-","-","-","-","-","-","-","-","-","-","-","-","-","-","-","-","-","-","-","-"]
[{"$error":"#N/A"},{"$f":"OFFSET(Input_Details!$Q$4,MATCH($A8416, Input_Details!$J$5:$J$24, 0), 6)","v":{"$error":"#N/A"}},{"$f":"INDEX(Input_Details!$H$5:$H$24, MATCH($A8416, Input_Details!$J$5:$J$24, 0), 0)","v":{"$error":"#N/A"}},{"$f":"INDEX(Input_Details!$I$5:$I$24, MATCH($A8416, Input_Details!$J$5:$J$24, 0), 0)","v":{"$error":"#N/A"}},{"$f":"INDEX(Input_Details!$K$5:$K$24, MATCH($A8416, Input_Details!$J$5:$J$24, 0), 0)","v":{"$error":"#N/A"}},"Sun","15:00:00",null,null,null,null,null,null,null,null,null,null,null,null,null,null,null,null,null,null,null,null,null,null,null,null,null,null,null,null,null,null,null,null,null,null,null,null,{"$f":"INDEX(Input_Details!$L$5:$L$24, MATCH($A8416, Input_Details!$J$5:$J$24, 0), 0)","v":{"$error":"#N/A"}},"Sun","15:00:00",null,null,null,null,null,null,null,null,null,null,null,null,null,null,null,null,null,null,null,null,null,null,null,null,null,null,null,null,null,null,null,null,null,null,null,null,null,"Sun","15:00:00","-","-","-","-","-","-","-","-","-","-","-","-","-","-","-","-","-","-","-","-","-","-","-","-","-","-","-","-","-","-","-","-","-","-","-","-","-","-","-","-","-","-","-","-","-","-","-","-","-","-","-","-","-","-"]
[{"$error":"#N/A"},"Weekday Average",{"$f":"INDEX(Input_Details!$H$5:$H$24, MATCH($A8477, Input_Details!$J$5:$J$24, 0), 0)","v":{"$error":"#N/A"}},{"$f":"INDEX(Input_Details!$I$5:$I$24, MATCH($A8477, Input_Details!$J$5:$J$24, 0), 0)","v":{"$error":"#N/A"}},{"$f":"INDEX(Input_Details!$K$5:$K$24, MATCH($A8477, Input_Details!$J$5:$J$24, 0), 0)","v":{"$error":"#N/A"}},"WD Ave","06:15:00",{"$f":"IF(AND(H7805=\"\",H7901=\"\",H7997=\"\",H8093=\"\",H8189=\"\"), \"-\", IF(H7805+H7901+H7997+H8093+H8189=0,0,AVERAGE(H7805,H7901,H7997,H8093,H8189)))","v":"-"},"-","-","-","-","-","-","-","-","-","-","-",{"$f":"IF(AND(T7805=\"\",T7901=\"\",T7997=\"\",T8093=\"\",T8189=\"\"), \"-\", IF(SUM($H8477:$S8477)=0, 0, IF(T7805+T7901+T7997+T8093+T8189=0,0,AVERAGE(T7805,T7901,T7997,T8093,T8189))))","v":"-"},"-","-","-","-","-","-","-","-","-","-","-","-","-","-","-","-","-","-","-",{"$f":"IF(SUM(H8477:S8477)=0,\"-\",AVERAGEIF(G7780:G8259,$G8477,AN7780:AN8259))","v":"-"},{"$f":"IFERROR(IF(SUM(H8477:S8477)=0,\"-\",AVERAGEIF(G7780:G8259,G8477,AO7780:AO8259)), \"-\")","v":"-"},"-","-",{"$f":"INDEX(Input_Details!$L$5:$L$24, MATCH($A8477, Input_Details!$J$5:$J$24, 0), 0)","v":{"$error":"#N/A"}},"WD Ave","06:15:00",{"$f":"IF(AND(AU7805=\"\",AU7901=\"\",AU7997=\"\",AU8093=\"\",AU8189=\"\"), \"-\", IF(AU7805+AU7901+AU7997+AU8093+AU8189=0,0,AVERAGE(AU7805,AU7901,AU7997,AU8093,AU8189)))","v":"-"},"-","-","-","-","-","-","-","-","-","-","-",{"$f":"IF(AND(BG7805=\"\",BG7901=\"\",BG7997=\"\",BG8093=\"\",BG8189=\"\"), \"-\", IF(SUM($AU8477:$BF8477)=0, 0, IF(BG7805+BG7901+BG7997+BG8093+BG8189=0,0,AVERAGE(BG7805,BG7901,BG7997,BG8093,BG8189))))","v":"-"},"-","-","-","-","-","-","-","-","-","-","-","-","-","-","-","-","-","-","-",{"$f":"IF(SUM(AU8477:BF8477)=0,\"-\",AVERAGEIF(AT7780:AT8259,$G8477,CA7780:CA8259))","v":"-"},{"$f":"IFERROR(IF(SUM(AU8477:BF8477)=0,\"-\",AVERAGEIF(AT7780:AT8259,AT8477,CB7780:CB8259)), \"-\")","v":"-"},"-","-",null,"WD Ave","06:15:00",{"$f":"IF(AND(CH7805=\"-\",CH7901=\"-\",CH7997=\"-\",CH8093=\"-\",CH8189=\"-\"), \"-\", ROUND(AVERAGE(CH7805,CH7901,CH7997,CH8093,CH8189), 0))","v":"-"},"-","-","-","-","-","-","-","-","-","-","-",{"$f":"IF(AND(CT7805=\"-\",CT7901=\"-\",CT7997=\"-\",CT8093=\"-\",CT8189=\"-\"), \"-\", IF(SUM($CH8477:$CS8477)=0, 0, ROUND(AVERAGE(CT7805,CT7901,CT7997,CT8093,CT8189), 0)))","v":"-"},"-","-","-","-","-","-","-","-","-","-","-","-","-","-","-","-","-","-","-","-","-","-","-","-","-","-","-","-","-","-","-","-","-","-","-","-","-","-","-","-","-"]
[{"$error":"#N/A"},"Weekday Average",{"$f":"INDEX(Input_Details!$H$5:$H$24, MATCH($A8499, Input_Details!$J$5:$J$24, 0), 0)","v":{"$error":"#N/A"}},{"$f":"INDEX(Input_Details!$I$5:$I$24, MATCH($A8499, Input_Details!$J$5:$J$24, 0), 0)","v":{"$error":"#N/A"}},{"$f":"INDEX(Input_Details!$K$5:$K$24, MATCH($A8499, Input_Details!$J$5:$J$24, 0), 0)","v":{"$error":"#N/A"}},"WD Ave","11:45:00",{"$f":"IF(AND(H7827=\"\",H7923=\"\",H8019=\"\",H8115=\"\",H8211=\"\"), \"-\", IF(H7827+H7923+H8019+H8115+H8211=0,0,AVERAGE(H7827,H7923,H8019,H8115,H8211)))","v":"-"},"-","-","-","-","-","-","-","-","-","-","-",{"$f":"IF(AND(T7827=\"\",T7923=\"\",T8019=\"\",T8115=\"\",T8211=\"\"), \"-\", IF(SUM($H8499:$S8499)=0, 0, IF(T7827+T7923+T8019+T8115+T8211=0,0,AVERAGE(T7827,T7923,T8019,T8115,T8211))))","v":"-"},"-","-","-","-","-","-","-","-","-","-","-","-","-","-","-","-","-","-","-",{"$f":"IF(SUM(H8499:S8499)=0,\"-\",AVERAGEIF(G7780:G8259,$G8499,AN7780:AN8259))","v":"-"},{"$f":"IFERROR(IF(SUM(H8499:S8499)=0,\"-\",AVERAGEIF(G7780:G8259,G8499,AO7780:AO8259)), \"-\")","v":"-"},"-","-",{"$f":"INDEX(Input_Details!$L$5:$L$24, MATCH($A8499, Input_Details!$J$5:$J$24, 0), 0)","v":{"$error":"#N/A"}},"WD Ave","11:45:00",{"$f":"IF(AND(AU7827=\"\",AU7923=\"\",AU8019=\"\",AU8115=\"\",AU8211=\"\"), \"-\", IF(AU7827+AU7923+AU8019+AU8115+AU8211=0,0,AVERAGE(AU7827,AU7923,AU8019,AU8115,AU8211)))","v":"-"},"-","-","-","-","-","-","-","-","-","-","-",{"$f":"IF(AND(BG7827=\"\",BG7923=\"\",BG8019=\"\",BG8115=\"\",BG8211=\"\"), \"-\", IF(SUM($AU8499:$BF8499)=0, 0, IF(BG7827+BG7923+BG8019+BG8115+BG8211=0,0,AVERAGE(BG7827,BG7923,BG8019,BG8115,BG8211))))","v":"-"},"-","-","-","-","-","-","-","-","-","-","-","-","-","-","-","-","-","-","-",{"$f":"IF(SUM(AU8499:BF8499)=0,\"-\",AVERAGEIF(AT7780:AT8259,$G8499,CA7780:CA8259))","v":"-"},{"$f":"IFERROR(IF(SUM(AU8499:BF8499)=0,\"-\",AVERAGEIF(AT7780:AT8259,AT8499,CB7780:CB8259)), \"-\")","v":"-"},"-","-",null,"WD Ave","11:45:00",{"$f":"IF(AND(CH7827=\"-\",CH7923=\"-\",CH8019=\"-\",CH8115=\"-\",CH8211=\"-\"), \"-\", ROUND(AVERAGE(CH7827,CH7923,CH8019,CH8115,CH8211), 0))","v":"-"},"-","-","-","-","-","-","-","-","-","-","-",{"$f":"IF(AND(CT7827=\"-\",CT7923=\"-\",CT8019=\"-\",CT8115=\"-\",CT8211=\"-\"), \"-\", IF(SUM($CH8499:$CS8499)=0, 0, ROUND(AVERAGE(CT7827,CT7923,CT8019,CT8115,CT8211), 0)))","v":"-"},"-","-","-","-","-","-","-","-","-","-","-","-","-","-","-","-","-","-","-","-","-","-","-","-","-","-","-","-","-","-","-","-","-","-","-","-","-","-","-","-","-"]
[{"$error":"#N/A"},"Weekday Average",{"$f":"INDEX(Input_Details!$H$5:$H$24, MATCH($A8538, Input_Details!$J$5:$J$24, 0), 0)","v":{"$error":"#N/A"}},{"$f":"INDEX(Input_Details!$I$5:$I$24, MATCH($A8538, Input_Details!$J$5:$J$24, 0), 0)","v":{"$error":"#N/A"}},{"$f":"INDEX(Input_Details!$K$5:$K$24, MATCH($A8538, Input_Details!$J$5:$J$24, 0), 0)","v":{"$error":"#N/A"}},"WD Ave","21:30:00",{"$f":"IF(AND(H7866=\"\",H7962=\"\",H8058=\"\",H8154=\"\",H8250=\"\"), \"-\", IF(H7866+H7962+H8058+H8154+H8250=0,0,AVERAGE(H7866,H7962,H8058,H8154,H8250)))","v":"-"},"-","-","-","-","-","-","-","-","-","-","-",{"$f":"IF(AND(T7866=\"\",T7962=\"\",T8058=\"\",T8154=\"\",T8250=\"\"), \"-\", IF(SUM($H8538:$S8538)=0, 0, IF(T7866+T7962+T8058+T8154+T8250=0,0,AVERAGE(T7866,T7962,T8058,T8154,T8250))))","v":"-"},"-","-","-","-","-","-","-","-","-","-","-","-","-","-","-","-","-","-","-",{"$f":"IF(SUM(H8538:S8538)=0,\"-\",AVERAGEIF(G7780:G8259,$G8538,AN7780:AN8259))","v":"-"},{"$f":"IFERROR(IF(SUM(H8538:S8538)=0,\"-\",AVERAGEIF(G7780:G8259,G8538,AO7780:AO8259)), \"-\")","v":"-"},"-","-",{"$f":"INDEX(Input_Details!$L$5:$L$24, MATCH($A8538, Input_Details!$J$5:$J$24, 0), 0)","v":{"$error":"#N/A"}},"WD Ave","21:30:00",{"$f":"IF(AND(AU7866=\"\",AU7962=\"\",AU8058=\"\",AU8154=\"\",AU8250=\"\"), \"-\", IF(AU7866+AU7962+AU8058+AU8154+AU8250=0,0,AVERAGE(AU7866,AU7962,AU8058,AU8154,AU8250)))","v":"-"},"-","-","-","-","-","-","-","-","-","-","-",{"$f":"IF(AND(BG7866=\"\",BG7962=\"\",BG8058=\"\",BG8154=\"\",BG8250=\"\"), \"-\", IF(SUM($AU8538:$BF8538)=0, 0, IF(BG7866+BG7962+BG8058+BG8154+BG8250=0,0,AVERAGE(BG7866,BG7962,BG8058,BG8154,BG8250))))","v":"-"},"-","-","-","-","-","-","-","-","-","-","-","-","-","-","-","-","-","-","-",{"$f":"IF(SUM(AU8538:BF8538)=0,\"-\",AVERAGEIF(AT7780:AT8259,$G8538,CA7780:CA8259))","v":"-"},{"$f":"IFERROR(IF(SUM(AU8538:BF8538)=0,\"-\",AVERAGEIF(AT7780:AT8259,AT8538,CB7780:CB8259)), \"-\")","v":"-"},"-","-",null,"WD Ave","21:30:00",{"$f":"IF(AND(CH7866=\"-\",CH7962=\"-\",CH8058=\"-\",CH8154=\"-\",CH8250=\"-\"), \"-\", ROUND(AVERAGE(CH7866,CH7962,CH8058,CH8154,CH8250), 0))","v":"-"},"-","-","-","-","-","-","-","-","-","-","-",{"$f":"IF(AND(CT7866=\"-\",CT7962=\"-\",CT8058=\"-\",CT8154=\"-\",CT8250=\"-\"), \"-\", IF(SUM($CH8538:$CS8538)=0, 0, ROUND(AVERAGE(CT7866,CT7962,CT8058,CT8154,CT8250), 0)))","v":"-"},"-","-","-","-","-","-","-","-","-","-","-","-","-","-","-","-","-","-","-","-","-","-","-","-","-","-","-","-","-","-","-","-","-","-","-","-","-","-","-","-","-"]
[{"$error":"#N/A"},"7-Day Average",{"$f":"INDEX(Input_Details!$H$5:$H$24, MATCH($A8562, Input_Details!$J$5:$J$24, 0), 0)","v":{"$error":"#N/A"}},{"$f":"INDEX(Input_Details!$I$5:$I$24, MATCH($A8562, Input_Details!$J$5:$J$24, 0), 0)","v":{"$error":"#N/A"}},{"$f":"INDEX(Input_Details!$K$5:$K$24, MATCH($A8562, Input_Details!$J$5:$J$24, 0), 0)","v":{"$error":"#N/A"}},"7 Day Ave","03:30:00",{"$f":"IF(AND(H7794=\"\",H7890=\"\",H7986=\"\",H8082=\"\",H8178=\"\",H8274=\"\",H8370=\"\"), \"-\", IF(H7794+H7890+H7986+H8082+H8178+H8274+H8370=0,0,AVERAGE(H7794,H7890,H7986,H8082,H8178,H8274,H8370)))","v":"-"},"-","-","-","-","-","-","-","-","-","-","-",{"$f":"IF(AND(T7794=\"\",T7890=\"\",T7986=\"\",T8082=\"\",T8178=\"\",T8274=\"\",T8370=\"\"), \"-\", IF(SUM($H8562:$S8562)=0, 0, IF(T7794+T7890+T7986+T8082+T8178+T8274+T8370=0,0,AVERAGE(T7794,T7890,T7986,T8082,T8178,T8274,T8370))))","v":"-"},"-","-","-","-","-","-","-","-","-","-","-","-","-","-","-","-","-","-","-",{"$f":"IF(SUM(H8562:S8562)=0,\"-\",AVERAGEIF(G7780:G8451,$G8562,AN7780:AN8451))","v":"-"},{"$f":"IFERROR(IF(SUM(H8562:S8562)=0,\"-\",AVERAGEIF(G7780:G8451,G8562,AO7780:AO8451)), \"-\")","v":"-"},"-","-",{"$f":"INDEX(Input_Details!$L$5:$L$24, MATCH($A8562, Input_Details!$J$5:$J$24, 0), 0)","v":{"$error":"#N/A"}},"7 Day Ave","03:30:00",{"$f":"IF(AND(AU7794=\"\",AU7890=\"\",AU7986=\"\",AU8082=\"\",AU8178=\"\",AU8274=\"\",AU8370=\"\"), \"-\", IF(AU7794+AU7890+AU7986+AU8082+AU8178+AU8274+AU8370=0,0,AVERAGE(AU7794,AU7890,AU7986,AU8082,AU8178,AU8274,AU8370)))","v":"-"},"-","-","-","-","-","-","-","-","-","-","-",{"$f":"IF(AND(BG7794=\"\",BG7890=\"\",BG7986=\"\",BG8082=\"\",BG8178=\"\",BG8274=\"\",BG8370=\"\"), \"-\", IF(SUM($AU8562:$BF8562)=0, 0, IF(BG7794+BG7890+BG7986+BG8082+BG8178+BG8274+BG8370=0,0,AVERAGE(BG7794,BG7890,BG7986,BG8082,BG8178,BG8274,BG8370))))","v":"-"},"-","-","-","-","-","-","-","-","-","-","-","-","-","-","-","-","-","-","-",{"$f":"IF(SUM(AU8562:BF8562)=0,\"-\",AVERAGEIF(AT7780:AT8451,$G8562,CA7780:CA8451))","v":"-"},{"$f":"IFERROR(IF(SUM(AU8562:BF8562)=0,\"-\",AVERAGEIF(AT7780:AT8451,AT8562,CB7780:CB8451)), \"-\")","v":"-"},"-","-",null,"7 Day Ave","03:30:00",{"$f":"IF(AND(CH7794=\"-\",CH7890=\"-\",CH7986=\"-\",CH8082=\"-\",CH8178=\"-\",CH8274=\"-\",CH8370=\"-\"), \"-\", ROUND(AVERAGE(CH7794,CH7890,CH7986,CH8082,CH8178,CH8274,CH8370),0))","v":"-"},"-","-","-","-","-","-","-","-","-","-","-",{"$f":"IF(AND(CT7794=\"-\",CT7890=\"-\",CT7986=\"-\",CT8082=\"-\",CT8178=\"-\",CT8274=\"-\",CT8370=\"-\"), \"-\", IF(SUM($CH8562:$CS8562)=0, 0, ROUND(AVERAGE(CT7794,CT7890,CT7986,CT8082,CT8178,CT8274,CT8370),0)))","v":"-"},"-","-","-","-","-","-","-","-","-","-","-","-","-","-","-","-","-","-","-","-","-","-","-","-","-","-","-","-","-","-","-","-","-","-","-","-","-","-","-","-","-"]
[{"$error":"#N/A"},"7-Day Average",{"$f":"INDEX(Input_Details!$H$5:$H$24, MATCH($A8582, Input_Details!$J$5:$J$24, 0), 0)","v":{"$error":"#N/A"}},{"$f":"INDEX(Input_Details!$I$5:$I$24, MATCH($A8582, Input_Details!$J$5:$J$24, 0), 0)","v":{"$error":"#N/A"}},{"$f":"INDEX(Input_Details!$K$5:$K$24, MATCH($A8582, Input_Details!$J$5:$J$24, 0), 0)","v":{"$error":"#N/A"}},"7 Day Ave","08:30:00",{"$f":"IF(AND(H7814=\"\",H7910=\"\",H8006=\"\",H8102=\"\",H8198=\"\",H8294=\"\",H8390=\"\"), \"-\", IF(H7814+H7910+H8006+H8102+H8198+H8294+H8390=0,0,AVERAGE(H7814,H7910,H8006,H8102,H8198,H8294,H8390)))","v":"-"},"-","-","-","-","-","-","-","-","-","-","-",{"$f":"IF(AND(T7814=\"\",T7910=\"\",T8006=\"\",T8102=\"\",T8198=\"\",T8294=\"\",T8390=\"\"), \"-\", IF(SUM($H8582:$S8582)=0, 0, IF(T7814+T7910+T8006+T8102+T8198+T8294+T8390=0,0,AVERAGE(T7814,T7910,T8006,T8102,T8198,T8294,T8390))))","v":"-"},"-","-","-","-","-","-","-","-","-","-","-","-","-","-","-","-","-","-","-",{"$f":"IF(SUM(H8582:S8582)=0,\"-\",AVERAGEIF(G7780:G8451,$G8582,AN7780:AN8451))","v":"-"},{"$f":"IFERROR(IF(SUM(H8582:S8582)=0,\"-\",AVERAGEIF(G7780:G8451,G8582,AO7780:AO8451)), \"-\")","v":"-"},"-","-",{"$f":"INDEX(Input_Details!$L$5:$L$24, MATCH($A8582, Input_Details!$J$5:$J$24, 0), 0)","v":{"$error":"#N/A"}},"7 Day Ave","08:30:00",{"$f":"IF(AND(AU7814=\"\",AU7910=\"\",AU8006=\"\",AU8102=\"\",AU8198=\"\",AU8294=\"\",AU8390=\"\"), \"-\", IF(AU7814+AU7910+AU8006+AU8102+AU8198+AU8294+AU8390=0,0,AVERAGE(AU7814,AU7910,AU8006,AU8102,AU8198,AU8294,AU8390)))","v":"-"},"-","-","-","-","-","-","-","-","-","-","-",{"$f":"IF(AND(BG7814=\"\",BG7910=\"\",BG8006=\"\",BG8102=\"\",BG8198=\"\",BG8294=\"\",BG8390=\"\"), \"-\", IF(SUM($AU8582:$BF8582)=0, 0, IF(BG7814+BG7910+BG8006+BG8102+BG8198+BG8294+BG8390=0,0,AVERAGE(BG7814,BG7910,BG8006,BG8102,BG8198,BG8294,BG8390))))","v":"-"},"-","-","-","-","-","-","-","-","-","-","-","-","-","-","-","-","-","-","-",{"$f":"IF(SUM(AU8582:BF8582)=0,\"-\",AVERAGEIF(AT7780:AT8451,$G8582,CA7780:CA8451))","v":"-"},{"$f":"IFERROR(IF(SUM(AU8582:BF8582)=0,\"-\",AVERAGEIF(AT7780:AT8451,AT8582,CB7780:CB8451)), \"-\")","v":"-"},"-","-",null,"7 Day Ave","08:30:00",{"$f":"IF(AND(CH7814=\"-\",CH7910=\"-\",CH8006=\"-\",CH8102=\"-\",CH8198=\"-\",CH8294=\"-\",CH8390=\"-\"), \"-\", ROUND(AVERAGE(CH7814,CH7910,CH8006,CH8102,CH8198,CH8294,CH8390),0))","v":"-"},"-","-","-","-","-","-","-","-","-","-","-",{"$f":"IF(AND(CT7814=\"-\",CT7910=\"-\",CT8006=\"-\",CT8102=\"-\",CT8198=\"-\",CT8294=\"-\",CT8390=\"-\"), \"-\", IF(SUM($CH8582:$CS8582)=0, 0, ROUND(AVERAGE(CT7814,CT7910,CT8006,CT8102,CT8198,CT8294,CT8390),0)))","v":"-"},"-","-","-","-","-","-","-","-","-","-","-","-","-","-","-","-","-","-","-","-","-","-","-","-","-","-","-","-","-","-","-","-","-","-","-","-","-","-","-","-","-"]
[{"$error":"#N/A"},"7-Day Average",{"$f":"INDEX(Input_Details!$H$5:$H$24, MATCH($A8583, Input_Details!$J$5:$J$24, 0), 0)","v":{"$error":"#N/A"}},{"$f":"INDEX(Input_Details!$I$5:$I$24, MATCH($A8583, Input_Details!$J$5:$J$24, 0), 0)","v":{"$error":"#N/A"}},{"$f":"INDEX(Input_Details!$K$5:$K$24, MATCH($A8583, Input_Details!$J$5:$J$24, 0), 0)","v":{"$error":"#N/A"}},"7 Day Ave","08:45:00",{"$f":"IF(AND(H7815=\"\",H7911=\"\",H8007=\"\",H8103=\"\",H8199=\"\",H8295=\"\",H8391=\"\"), \"-\", IF(H7815+H7911+H8007+H8103+H8199+H8295+H8391=0,0,AVERAGE(H7815,H7911,H8007,H8103,H8199,H8295,H8391)))","v":"-"},"-","-","-","-","-","-","-","-","-","-","-",{"$f":"IF(AND(T7815=\"\",T7911=\"\",T8007=\"\",T8103=\"\",T8199=\"\",T8295=\"\",T8391=\"\"), \"-\", IF(SUM($H8583:$S8583)=0, 0, IF(T7815+T7911+T8007+T8103+T8199+T8295+T8391=0,0,AVERAGE(T7815,T7911,T8007,T8103,T8199,T8295,T8391))))","v":"-"},"-","-","-","-","-","-","-","-","-","-","-","-","-","-","-","-","-","-","-",{"$f":"IF(SUM(H8583:S8583)=0,\"-\",AVERAGEIF(G7780:G8451,$G8583,AN7780:AN8451))","v":"-"},{"$f":"IFERROR(IF(SUM(H8583:S8583)=0,\"-\",AVERAGEIF(G7780:G8451,G8583,AO7780:AO8451)), \"-\")","v":"-"},"-","-",{"$f":"INDEX(Input_Details!$L$5:$L$24, MATCH($A8583, Input_Details!$J$5:$J$24, 0), 0)","v":{"$error":"#N/A"}},"7 Day Ave","08:45:00",{"$f":"IF(AND(AU7815=\"\",AU7911=\"\",AU8007=\"\",AU8103=\"\",AU8199=\"\",AU8295=\"\",AU8391=\"\"), \"-\", IF(AU7815+AU7911+AU8007+AU8103+AU8199+AU8295+AU8391=0,0,AVERAGE(AU7815,AU7911,AU8007,AU8103,AU8199,AU8295,AU8391)))","v":"-"},"-","-","-","-","-","-","-","-","-","-","-",{"$f":"IF(AND(BG7815=\"\",BG7911=\"\",BG8007=\"\",BG8103=\"\",BG8199=\"\",BG8295=\"\",BG8391=\"\"), \"-\", IF(SUM($AU8583:$BF8583)=0, 0, IF(BG7815+BG7911+BG8007+BG8103+BG8199+BG8295+BG8391=0,0,AVERAGE(BG7815,BG7911,BG8007,BG8103,BG8199,BG8295,BG8391))))","v":"-"},"-","-","-","-","-","-","-","-","-","-","-","-","-","-","-","-","-","-","-",{"$f":"IF(SUM(AU8583:BF8583)=0,\"-\",AVERAGEIF(AT7780:AT8451,$G8583,CA7780:CA8451))","v":"-"},{"$f":"IFERROR(IF(SUM(AU8583:BF8583)=0,\"-\",AVERAGEIF(AT7780:AT8451,AT8583,CB7780:CB8451)), \"-\")","v":"-"},"-","-",null,"7 Day Ave","08:45:00",{"$f":"IF(AND(CH7815=\"-\",CH7911=\"-\",CH8007=\"-\",CH8103=\"-\",CH8199=\"-\",CH8295=\"-\",CH8391=\"-\"), \"-\", ROUND(AVERAGE(CH7815,CH7911,CH8007,CH8103,CH8199,CH8295,CH8391),0))","v":"-"},"-","-","-","-","-","-","-","-","-","-","-",{"$f":"IF(AND(CT7815=\"-\",CT7911=\"-\",CT8007=\"-\",CT8103=\"-\",CT8199=\"-\",CT8295=\"-\",CT8391=\"-\"), \"-\", IF(SUM($CH8583:$CS8583)=0, 0, ROUND(AVERAGE(CT7815,CT7911,CT8007,CT8103,CT8199,CT8295,CT8391),0)))","v":"-"},"-","-","-","-","-","-","-","-","-","-","-","-","-","-","-","-","-","-","-","-","-","-","-","-","-","-","-","-","-","-","-","-","-","-","-","-","-","-","-","-","-"]
[{"$error":"#N/A"},"7-Day Average",{"$f":"INDEX(Input_Details!$H$5:$H$24, MATCH($A8584, Input_Details!$J$5:$J$24, 0), 0)","v":{"$error":"#N/A"}},{"$f":"INDEX(Input_Details!$I$5:$I$24, MATCH($A8584, Input_Details!$J$5:$J$24, 0), 0)","v":{"$error":"#N/A"}},{"$f":"INDEX(Input_Details!$K$5:$K$24, MATCH($A8584, Input_Details!$J$5:$J$24, 0), 0)","v":{"$error":"#N/A"}},"7 Day Ave","09:00:00",{"$f":"IF(AND(H7816=\"\",H7912=\"\",H8008=\"\",H8104=\"\",H8200=\"\",H8296=\"\",H8392=\"\"), \"-\", IF(H7816+H7912+H8008+H8104+H8200+H8296+H8392=0,0,AVERAGE(H7816,H7912,H8008,H8104,H8200,H8296,H8392)))","v":"-"},"-","-","-","-","-","-","-","-","-","-","-",{"$f":"IF(AND(T7816=\"\",T7912=\"\",T8008=\"\",T8104=\"\",T8200=\"\",T8296=\"\",T8392=\"\"), \"-\", IF(SUM($H8584:$S8584)=0, 0, IF(T7816+T7912+T8008+T8104+T8200+T8296+T8392=0,0,AVERAGE(T7816,T7912,T8008,T8104,T8200,T8296,T8392))))","v":"-"},"-","-","-","-","-","-","-","-","-","-","-","-","-","-","-","-","-","-","-",{"$f":"IF(SUM(H8584:S8584)=0,\"-\",AVERAGEIF(G7780:G8451,$G8584,AN7780:AN8451))","v":"-"},{"$f":"IFERROR(IF(SUM(H8584:S8584)=0,\"-\",AVERAGEIF(G7780:G8451,G8584,AO7780:AO8451)), \"-\")","v":"-"},"-","-",{"$f":"INDEX(Input_Details!$L$5:$L$24, MATCH($A8584, Input_Details!$J$5:$J$24, 0), 0)","v":{"$error":"#N/A"}},"7 Day Ave","09:00:00",{"$f":"IF(AND(AU7816=\"\",AU7912=\"\",AU8008=\"\",AU8104=\"\",AU8200=\"\",AU8296=\"\",AU8392=\"\"), \"-\", IF(AU7816+AU7912+AU8008+AU8104+AU8200+AU8296+AU8392=0,0,AVERAGE(AU7816,AU7912,AU8008,AU8104,AU8200,AU8296,AU8392)))","v":"-"},"-","-","-","-","-","-","-","-","-","-","-",{"$f":"IF(AND(BG7816=\"\",BG7912=\"\",BG8008=\"\",BG8104=\"\",BG8200=\"\",BG8296=\"\",BG8392=\"\"), \"-\", IF(SUM($AU8584:$BF8584)=0, 0, IF(BG7816+BG7912+BG8008+BG8104+BG8200+BG8296+BG8392=0,0,AVERAGE(BG7816,BG7912,BG8008,BG8104,BG8200,BG8296,BG8392))))","v":"-"},"-","-","-","-","-","-","-","-","-","-","-","-","-","-","-","-","-","-","-",{"$f":"IF(SUM(AU8584:BF8584)=0,\"-\",AVERAGEIF(AT7780:AT8451,$G8584,CA7780:CA8451))","v":"-"},{"$f":"IFERROR(IF(SUM(AU8584:BF8584)=0,\"-\",AVERAGEIF(AT7780:AT8451,AT8584,CB7780:CB8451)), \"-\")","v":"-"},"-","-",null,"7 Day Ave","09:00:00",{"$f":"IF(AND(CH7816=\"-\",CH7912=\"-\",CH8008=\"-\",CH8104=\"-\",CH8200=\"-\",CH8296=\"-\",CH8392=\"-\"), \"-\", ROUND(AVERAGE(CH7816,CH7912,CH8008,CH8104,CH8200,CH8296,CH8392),0))","v":"-"},"-","-","-","-","-","-","-","-","-","-","-",{"$f":"IF(AND(CT7816=\"-\",CT7912=\"-\",CT8008=\"-\",CT8104=\"-\",CT8200=\"-\",CT8296=\"-\",CT8392=\"-\"), \"-\", IF(SUM($CH8584:$CS8584)=0, 0, ROUND(AVERAGE(CT7816,CT7912,CT8008,CT8104,CT8200,CT8296,CT8392),0)))","v":"-"},"-","-","-","-","-","-","-","-","-","-","-","-","-","-","-","-","-","-","-","-","-","-","-","-","-","-","-","-","-","-","-","-","-","-","-","-","-","-","-","-","-"]
[{"$error":"#N/A"},"7-Day Average",{"$f":"INDEX(Input_Details!$H$5:$H$24, MATCH($A8585, Input_Details!$J$5:$J$24, 0), 0)","v":{"$error":"#N/A"}},{"$f":"INDEX(Input_Details!$I$5:$I$24, MATCH($A8585, Input_Details!$J$5:$J$24, 0), 0)","v":{"$error":"#N/A"}},{"$f":"INDEX(Input_Details!$K$5:$K$24, MATCH($A8585, Input_Details!$J$5:$J$24, 0), 0)","v":{"$error":"#N/A"}},"7 Day Ave","09:15:00",{"$f":"IF(AND(H7817=\"\",H7913=\"\",H8009=\"\",H8105=\"\",H8201=\"\",H8297=\"\",H8393=\"\"), \"-\", IF(H7817+H7913+H8009+H8105+H8201+H8297+H8393=0,0,AVERAGE(H7817,H7913,H8009,H8105,H8201,H8297,H8393)))","v":"-"},"-","-","-","-","-","-","-","-","-","-","-",{"$f":"IF(AND(T7817=\"\",T7913=\"\",T8009=\"\",T8105=\"\",T8201=\"\",T8297=\"\",T8393=\"\"), \"-\", IF(SUM($H8585:$S8585)=0, 0, IF(T7817+T7913+T8009+T8105+T8201+T8297+T8393=0,0,AVERAGE(T7817,T7913,T8009,T8105,T8201,T8297,T8393))))","v":"-"},"-","-","-","-","-","-","-","-","-","-","-","-","-","-","-","-","-","-","-",{"$f":"IF(SUM(H8585:S8585)=0,\"-\",AVERAGEIF(G7780:G8451,$G8585,AN7780:AN8451))","v":"-"},{"$f":"IFERROR(IF(SUM(H8585:S8585)=0,\"-\",AVERAGEIF(G7780:G8451,G8585,AO7780:AO8451)), \"-\")","v":"-"},"-","-",{"$f":"INDEX(Input_Details!$L$5:$L$24, MATCH($A8585, Input_Details!$J$5:$J$24, 0), 0)","v":{"$error":"#N/A"}},"7 Day Ave","09:15:00",{"$f":"IF(AND(AU7817=\"\",AU7913=\"\",AU8009=\"\",AU8105=\"\",AU8201=\"\",AU8297=\"\",AU8393=\"\"), \"-\", IF(AU7817+AU7913+AU8009+AU8105+AU8201+AU8297+AU8393=0,0,AVERAGE(AU7817,AU7913,AU8009,AU8105,AU8201,AU8297,AU8393)))","v":"-"},"-","-","-","-","-","-","-","-","-","-","-",{"$f":"IF(AND(BG7817=\"\",BG7913=\"\",BG8009=\"\",BG8105=\"\",BG8201=\"\",BG8297=\"\",BG8393=\"\"), \"-\", IF(SUM($AU8585:$BF8585)=0, 0, IF(BG7817+BG7913+BG8009+BG8105+BG8201+BG8297+BG8393=0,0,AVERAGE(BG7817,BG7913,BG8009,BG8105,BG8201,BG8297,BG8393))))","v":"-"},"-","-","-","-","-","-","-","-","-","-","-","-","-","-","-","-","-","-","-",{"$f":"IF(SUM(AU8585:BF8585)=0,\"-\",AVERAGEIF(AT7780:AT8451,$G8585,CA7780:CA8451))","v":"-"},{"$f":"IFERROR(IF(SUM(AU8585:BF8585)=0,\"-\",AVERAGEIF(AT7780:AT8451,AT8585,CB7780:CB8451)), \"-\")","v":"-"},"-","-",null,"7 Day Ave","09:15:00",{"$f":"IF(AND(CH7817=\"-\",CH7913=\"-\",CH8009=\"-\",CH8105=\"-\",CH8201=\"-\",CH8297=\"-\",CH8393=\"-\"), \"-\", ROUND(AVERAGE(CH7817,CH7913,CH8009,CH8105,CH8201,CH8297,CH8393),0))","v":"-"},"-","-","-","-","-","-","-","-","-","-","-",{"$f":"IF(AND(CT7817=\"-\",CT7913=\"-\",CT8009=\"-\",CT8105=\"-\",CT8201=\"-\",CT8297=\"-\",CT8393=\"-\"), \"-\", IF(SUM($CH8585:$CS8585)=0, 0, ROUND(AVERAGE(CT7817,CT7913,CT8009,CT8105,CT8201,CT8297,CT8393),0)))","v":"-"},"-","-","-","-","-","-","-","-","-","-","-","-","-","-","-","-","-","-","-","-","-","-","-","-","-","-","-","-","-","-","-","-","-","-","-","-","-","-","-","-","-"]
[{"$error":"#N/A"},"7-Day Average",{"$f":"INDEX(Input_Details!$H$5:$H$24, MATCH($A8586, Input_Details!$J$5:$J$24, 0), 0)","v":{"$error":"#N/A"}},{"$f":"INDEX(Input_Details!$I$5:$I$24, MATCH($A8586, Input_Details!$J$5:$J$24, 0), 0)","v":{"$error":"#N/A"}},{"$f":"INDEX(Input_Details!$K$5:$K$24, MATCH($A8586, Input_Details!$J$5:$J$24, 0), 0)","v":{"$error":"#N/A"}},"7 Day Ave","09:30:00",{"$f":"IF(AND(H7818=\"\",H7914=\"\",H8010=\"\",H8106=\"\",H8202=\"\",H8298=\"\",H8394=\"\"), \"-\", IF(H7818+H7914+H8010+H8106+H8202+H8298+H8394=0,0,AVERAGE(H7818,H7914,H8010,H8106,H8202,H8298,H8394)))","v":"-"},"-","-","-","-","-","-","-","-","-","-","-",{"$f":"IF(AND(T7818=\"\",T7914=\"\",T8010=\"\",T8106=\"\",T8202=\"\",T8298=\"\",T8394=\"\"), \"-\", IF(SUM($H8586:$S8586)=0, 0, IF(T7818+T7914+T8010+T8106+T8202+T8298+T8394=0,0,AVERAGE(T7818,T7914,T8010,T8106,T8202,T8298,T8394))))","v":"-"},"-","-","-","-","-","-","-","-","-","-","-","-","-","-","-","-","-","-","-",{"$f":"IF(SUM(H8586:S8586)=0,\"-\",AVERAGEIF(G7780:G8451,$G8586,AN7780:AN8451))","v":"-"},{"$f":"IFERROR(IF(SUM(H8586:S8586)=0,\"-\",AVERAGEIF(G7780:G8451,G8586,AO7780:AO8451)), \"-\")","v":"-"},"-","-",{"$f":"INDEX(Input_Details!$L$5:$L$24, MATCH($A8586, Input_Details!$J$5:$J$24, 0), 0)","v":{"$error":"#N/A"}},"7 Day Ave","09:30:00",{"$f":"IF(AND(AU7818=\"\",AU7914=\"\",AU8010=\"\",AU8106=\"\",AU8202=\"\",AU8298=\"\",AU8394=\"\"), \"-\", IF(AU7818+AU7914+AU8010+AU8106+AU8202+AU8298+AU8394=0,0,AVERAGE(AU7818,AU7914,AU8010,AU8106,AU8202,AU8298,AU8394)))","v":"-"},"-","-","-","-","-","-","-","-","-","-","-",{"$f":"IF(AND(BG7818=\"\",BG7914=\"\",BG8010=\"\",BG8106=\"\",BG8202=\"\",BG8298=\"\",BG8394=\"\"), \"-\", IF(SUM($AU8586:$BF8586)=0, 0, IF(BG7818+BG7914+BG8010+BG8106+BG8202+BG8298+BG8394=0,0,AVERAGE(BG7818,BG7914,BG8010,BG8106,BG8202,BG8298,BG8394))))","v":"-"},"-","-","-","-","-","-","-","-","-","-","-","-","-","-","-","-","-","-","-",{"$f":"IF(SUM(AU8586:BF8586)=0,\"-\",AVERAGEIF(AT7780:AT8451,$G8586,CA7780:CA8451))","v":"-"},{"$f":"IFERROR(IF(SUM(AU8586:BF8586)=0,\"-\",AVERAGEIF(AT7780:AT8451,AT8586,CB7780:CB8451)), \"-\")","v":"-"},"-","-",null,"7 Day Ave","09:30:00",{"$f":"IF(AND(CH7818=\"-\",CH7914=\"-\",CH8010=\"-\",CH8106=\"-\",CH8202=\"-\",CH8298=\"-\",CH8394=\"-\"), \"-\", ROUND(AVERAGE(CH7818,CH7914,CH8010,CH8106,CH8202,CH8298,CH8394),0))","v":"-"},"-","-","-","-","-","-","-","-","-","-","-",{"$f":"IF(AND(CT7818=\"-\",CT7914=\"-\",CT8010=\"-\",CT8106=\"-\",CT8202=\"-\",CT8298=\"-\",CT8394=\"-\"), \"-\", IF(SUM($CH8586:$CS8586)=0, 0, ROUND(AVERAGE(CT7818,CT7914,CT8010,CT8106,CT8202,CT8298,CT8394),0)))","v":"-"},"-","-","-","-","-","-","-","-","-","-","-","-","-","-","-","-","-","-","-","-","-","-","-","-","-","-","-","-","-","-","-","-","-","-","-","-","-","-","-","-","-"]
[{"$error":"#N/A"},"7-Day Average",{"$f":"INDEX(Input_Details!$H$5:$H$24, MATCH($A8587, Input_Details!$J$5:$J$24, 0), 0)","v":{"$error":"#N/A"}},{"$f":"INDEX(Input_Details!$I$5:$I$24, MATCH($A8587, Input_Details!$J$5:$J$24, 0), 0)","v":{"$error":"#N/A"}},{"$f":"INDEX(Input_Details!$K$5:$K$24, MATCH($A8587, Input_Details!$J$5:$J$24, 0), 0)","v":{"$error":"#N/A"}},"7 Day Ave","09:45:00",{"$f":"IF(AND(H7819=\"\",H7915=\"\",H8011=\"\",H8107=\"\",H8203=\"\",H8299=\"\",H8395=\"\"), \"-\", IF(H7819+H7915+H8011+H8107+H8203+H8299+H8395=0,0,AVERAGE(H7819,H7915,H8011,H8107,H8203,H8299,H8395)))","v":"-"},"-","-","-","-","-","-","-","-","-","-","-",{"$f":"IF(AND(T7819=\"\",T7915=\"\",T8011=\"\",T8107=\"\",T8203=\"\",T8299=\"\",T8395=\"\"), \"-\", IF(SUM($H8587:$S8587)=0, 0, IF(T7819+T7915+T8011+T8107+T8203+T8299+T8395=0,0,AVERAGE(T7819,T7915,T8011,T8107,T8203,T8299,T8395))))","v":"-"},"-","-","-","-","-","-","-","-","-","-","-","-","-","-","-","-","-","-","-",{"$f":"IF(SUM(H8587:S8587)=0,\"-\",AVERAGEIF(G7780:G8451,$G8587,AN7780:AN8451))","v":"-"},{"$f":"IFERROR(IF(SUM(H8587:S8587)=0,\"-\",AVERAGEIF(G7780:G8451,G8587,AO7780:AO8451)), \"-\")","v":"-"},"-","-",{"$f":"INDEX(Input_Details!$L$5:$L$24, MATCH($A8587, Input_Details!$J$5:$J$24, 0), 0)","v":{"$error":"#N/A"}},"7 Day Ave","09:45:00",{"$f":"IF(AND(AU7819=\"\",AU7915=\"\",AU8011=\"\",AU8107=\"\",AU8203=\"\",AU8299=\"\",AU8395=\"\"), \"-\", IF(AU7819+AU7915+AU8011+AU8107+AU8203+AU8299+AU8395=0,0,AVERAGE(AU7819,AU7915,AU8011,AU8107,AU8203,AU8299,AU8395)))","v":"-"},"-","-","-","-","-","-","-","-","-","-","-",{"$f":"IF(AND(BG7819=\"\",BG7915=\"\",BG8011=\"\",BG8107=\"\",BG8203=\"\",BG8299=\"\",BG8395=\"\"), \"-\", IF(SUM($AU8587:$BF8587)=0, 0, IF(BG7819+BG7915+BG8011+BG8107+BG8203+BG8299+BG8395=0,0,AVERAGE(BG7819,BG7915,BG8011,BG8107,BG8203,BG8299,BG8395))))","v":"-"},"-","-","-","-","-","-","-","-","-","-","-","-","-","-","-","-","-","-","-",{"$f":"IF(SUM(AU8587:BF8587)=0,\"-\",AVERAGEIF(AT7780:AT8451,$G8587,CA7780:CA8451))","v":"-"},{"$f":"IFERROR(IF(SUM(AU8587:BF8587)=0,\"-\",AVERAGEIF(AT7780:AT8451,AT8587,CB7780:CB8451)), \"-\")","v":"-"},"-","-",null,"7 Day Ave","09:45:00",{"$f":"IF(AND(CH7819=\"-\",CH7915=\"-\",CH8011=\"-\",CH8107=\"-\",CH8203=\"-\",CH8299=\"-\",CH8395=\"-\"), \"-\", ROUND(AVERAGE(CH7819,CH7915,CH8011,CH8107,CH8203,CH8299,CH8395),0))","v":"-"},"-","-","-","-","-","-","-","-","-","-","-",{"$f":"IF(AND(CT7819=\"-\",CT7915=\"-\",CT8011=\"-\",CT8107=\"-\",CT8203=\"-\",CT8299=\"-\",CT8395=\"-\"), \"-\", IF(SUM($CH8587:$CS8587)=0, 0, ROUND(AVERAGE(CT7819,CT7915,CT8011,CT8107,CT8203,CT8299,CT8395),0)))","v":"-"},"-","-","-","-","-","-","-","-","-","-","-","-","-","-","-","-","-","-","-","-","-","-","-","-","-","-","-","-","-","-","-","-","-","-","-","-","-","-","-","-","-"]
[{"$error":"#N/A"},"7-Day Average",{"$f":"INDEX(Input_Details!$H$5:$H$24, MATCH($A8588, Input_Details!$J$5:$J$24, 0), 0)","v":{"$error":"#N/A"}},{"$f":"INDEX(Input_Details!$I$5:$I$24, MATCH($A8588, Input_Details!$J$5:$J$24, 0), 0)","v":{"$error":"#N/A"}},{"$f":"INDEX(Input_Details!$K$5:$K$24, MATCH($A8588, Input_Details!$J$5:$J$24, 0), 0)","v":{"$error":"#N/A"}},"7 Day Ave","10:00:00",{"$f":"IF(AND(H7820=\"\",H7916=\"\",H8012=\"\",H8108=\"\",H8204=\"\",H8300=\"\",H8396=\"\"), \"-\", IF(H7820+H7916+H8012+H8108+H8204+H8300+H8396=0,0,AVERAGE(H7820,H7916,H8012,H8108,H8204,H8300,H8396)))","v":"-"},"-","-","-","-","-","-","-","-","-","-","-",{"$f":"IF(AND(T7820=\"\",T7916=\"\",T8012=\"\",T8108=\"\",T8204=\"\",T8300=\"\",T8396=\"\"), \"-\", IF(SUM($H8588:$S8588)=0, 0, IF(T7820+T7916+T8012+T8108+T8204+T8300+T8396=0,0,AVERAGE(T7820,T7916,T8012,T8108,T8204,T8300,T8396))))","v":"-"},"-","-","-","-","-","-","-","-","-","-","-","-","-","-","-","-","-","-","-",{"$f":"IF(SUM(H8588:S8588)=0,\"-\",AVERAGEIF(G7780:G8451,$G8588,AN7780:AN8451))","v":"-"},{"$f":"IFERROR(IF(SUM(H8588:S8588)=0,\"-\",AVERAGEIF(G7780:G8451,G8588,AO7780:AO8451)), \"-\")","v":"-"},"-","-",{"$f":"INDEX(Input_Details!$L$5:$L$24, MATCH($A8588, Input_Details!$J$5:$J$24, 0), 0)","v":{"$error":"#N/A"}},"7 Day Ave","10:00:00",{"$f":"IF(AND(AU7820=\"\",AU7916=\"\",AU8012=\"\",AU8108=\"\",AU8204=\"\",AU8300=\"\",AU8396=\"\"), \"-\", IF(AU7820+AU7916+AU8012+AU8108+AU8204+AU8300+AU8396=0,0,AVERAGE(AU7820,AU7916,AU8012,AU8108,AU8204,AU8300,AU8396)))","v":"-"},"-","-","-","-","-","-","-","-","-","-","-",{"$f":"IF(AND(BG7820=\"\",BG7916=\"\",BG8012=\"\",BG8108=\"\",BG8204=\"\",BG8300=\"\",BG8396=\"\"), \"-\", IF(SUM($AU8588:$BF8588)=0, 0, IF(BG7820+BG7916+BG8012+BG8108+BG8204+BG8300+BG8396=0,0,AVERAGE(BG7820,BG7916,BG8012,BG8108,BG8204,BG8300,BG8396))))","v":"-"},"-","-","-","-","-","-","-","-","-","-","-","-","-","-","-","-","-","-","-",{"$f":"IF(SUM(AU8588:BF8588)=0,\"-\",AVERAGEIF(AT7780:AT8451,$G8588,CA7780:CA8451))","v":"-"},{"$f":"IFERROR(IF(SUM(AU8588:BF8588)=0,\"-\",AVERAGEIF(AT7780:AT8451,AT8588,CB7780:CB8451)), \"-\")","v":"-"},"-","-",null,"7 Day Ave","10:00:00",{"$f":"IF(AND(CH7820=\"-\",CH7916=\"-\",CH8012=\"-\",CH8108=\"-\",CH8204=\"-\",CH8300=\"-\",CH8396=\"-\"), \"-\", ROUND(AVERAGE(CH7820,CH7916,CH8012,CH8108,CH8204,CH8300,CH8396),0))","v":"-"},"-","-","-","-","-","-","-","-","-","-","-",{"$f":"IF(AND(CT7820=\"-\",CT7916=\"-\",CT8012=\"-\",CT8108=\"-\",CT8204=\"-\",CT8300=\"-\",CT8396=\"-\"), \"-\", IF(SUM($CH8588:$CS8588)=0, 0, ROUND(AVERAGE(CT7820,CT7916,CT8012,CT8108,CT8204,CT8300,CT8396),0)))","v":"-"},"-","-","-","-","-","-","-","-","-","-","-","-","-","-","-","-","-","-","-","-","-","-","-","-","-","-","-","-","-","-","-","-","-","-","-","-","-","-","-","-","-"]
[{"$error":"#N/A"},"7-Day Average",{"$f":"INDEX(Input_Details!$H$5:$H$24, MATCH($A8589, Input_Details!$J$5:$J$24, 0), 0)","v":{"$error":"#N/A"}},{"$f":"INDEX(Input_Details!$I$5:$I$24, MATCH($A8589, Input_Details!$J$5:$J$24, 0), 0)","v":{"$error":"#N/A"}},{"$f":"INDEX(Input_Details!$K$5:$K$24, MATCH($A8589, Input_Details!$J$5:$J$24, 0), 0)","v":{"$error":"#N/A"}},"7 Day Ave","10:15:00",{"$f":"IF(AND(H7821=\"\",H7917=\"\",H8013=\"\",H8109=\"\",H8205=\"\",H8301=\"\",H8397=\"\"), \"-\", IF(H7821+H7917+H8013+H8109+H8205+H8301+H8397=0,0,AVERAGE(H7821,H7917,H8013,H8109,H8205,H8301,H8397)))","v":"-"},"-","-","-","-","-","-","-","-","-","-","-",{"$f":"IF(AND(T7821=\"\",T7917=\"\",T8013=\"\",T8109=\"\",T8205=\"\",T8301=\"\",T8397=\"\"), \"-\", IF(SUM($H8589:$S8589)=0, 0, IF(T7821+T7917+T8013+T8109+T8205+T8301+T8397=0,0,AVERAGE(T7821,T7917,T8013,T8109,T8205,T8301,T8397))))","v":"-"},"-","-","-","-","-","-","-","-","-","-","-","-","-","-","-","-","-","-","-",{"$f":"IF(SUM(H8589:S8589)=0,\"-\",AVERAGEIF(G7780:G8451,$G8589,AN7780:AN8451))","v":"-"},{"$f":"IFERROR(IF(SUM(H8589:S8589)=0,\"-\",AVERAGEIF(G7780:G8451,G8589,AO7780:AO8451)), \"-\")","v":"-"},"-","-",{"$f":"INDEX(Input_Details!$L$5:$L$24, MATCH($A8589, Input_Details!$J$5:$J$24, 0), 0)","v":{"$error":"#N/A"}},"7 Day Ave","10:15:00",{"$f":"IF(AND(AU7821=\"\",AU7917=\"\",AU8013=\"\",AU8109=\"\",AU8205=\"\",AU8301=\"\",AU8397=\"\"), \"-\", IF(AU7821+AU7917+AU8013+AU8109+AU8205+AU8301+AU8397=0,0,AVERAGE(AU7821,AU7917,AU8013,AU8109,AU8205,AU8301,AU8397)))","v":"-"},"-","-","-","-","-","-","-","-","-","-","-",{"$f":"IF(AND(BG7821=\"\",BG7917=\"\",BG8013=\"\",BG8109=\"\",BG8205=\"\",BG8301=\"\",BG8397=\"\"), \"-\", IF(SUM($AU8589:$BF8589)=0, 0, IF(BG7821+BG7917+BG8013+BG8109+BG8205+BG8301+BG8397=0,0,AVERAGE(BG7821,BG7917,BG8013,BG8109,BG8205,BG8301,BG8397))))","v":"-"},"-","-","-","-","-","-","-","-","-","-","-","-","-","-","-","-","-","-","-",{"$f":"IF(SUM(AU8589:BF8589)=0,\"-\",AVERAGEIF(AT7780:AT8451,$G8589,CA7780:CA8451))","v":"-"},{"$f":"IFERROR(IF(SUM(AU8589:BF8589)=0,\"-\",AVERAGEIF(AT7780:AT8451,AT8589,CB7780:CB8451)), \"-\")","v":"-"},"-","-",null,"7 Day Ave","10:15:00",{"$f":"IF(AND(CH7821=\"-\",CH7917=\"-\",CH8013=\"-\",CH8109=\"-\",CH8205=\"-\",CH8301=\"-\",CH8397=\"-\"), \"-\", ROUND(AVERAGE(CH7821,CH7917,CH8013,CH8109,CH8205,CH8301,CH8397),0))","v":"-"},"-","-","-","-","-","-","-","-","-","-","-",{"$f":"IF(AND(CT7821=\"-\",CT7917=\"-\",CT8013=\"-\",CT8109=\"-\",CT8205=\"-\",CT8301=\"-\",CT8397=\"-\"), \"-\", IF(SUM($CH8589:$CS8589)=0, 0, ROUND(AVERAGE(CT7821,CT7917,CT8013,CT8109,CT8205,CT8301,CT8397),0)))","v":"-"},"-","-","-","-","-","-","-","-","-","-","-","-","-","-","-","-","-","-","-","-","-","-","-","-","-","-","-","-","-","-","-","-","-","-","-","-","-","-","-","-","-"]
[{"$error":"#N/A"},"7-Day Average",{"$f":"INDEX(Input_Details!$H$5:$H$24, MATCH($A8590, Input_Details!$J$5:$J$24, 0), 0)","v":{"$error":"#N/A"}},{"$f":"INDEX(Input_Details!$I$5:$I$24, MATCH($A8590, Input_Details!$J$5:$J$24, 0), 0)","v":{"$error":"#N/A"}},{"$f":"INDEX(Input_Details!$K$5:$K$24, MATCH($A8590, Input_Details!$J$5:$J$24, 0), 0)","v":{"$error":"#N/A"}},"7 Day Ave","10:30:00",{"$f":"IF(AND(H7822=\"\",H7918=\"\",H8014=\"\",H8110=\"\",H8206=\"\",H8302=\"\",H8398=\"\"), \"-\", IF(H7822+H7918+H8014+H8110+H8206+H8302+H8398=0,0,AVERAGE(H7822,H7918,H8014,H8110,H8206,H8302,H8398)))","v":"-"},"-","-","-","-","-","-","-","-","-","-","-",{"$f":"IF(AND(T7822=\"\",T7918=\"\",T8014=\"\",T8110=\"\",T8206=\"\",T8302=\"\",T8398=\"\"), \"-\", IF(SUM($H8590:$S8590)=0, 0, IF(T7822+T7918+T8014+T8110+T8206+T8302+T8398=0,0,AVERAGE(T7822,T7918,T8014,T8110,T8206,T8302,T8398))))","v":"-"},"-","-","-","-","-","-","-","-","-","-","-","-","-","-","-","-","-","-","-",{"$f":"IF(SUM(H8590:S8590)=0,\"-\",AVERAGEIF(G7780:G8451,$G8590,AN7780:AN8451))","v":"-"},{"$f":"IFERROR(IF(SUM(H8590:S8590)=0,\"-\",AVERAGEIF(G7780:G8451,G8590,AO7780:AO8451)), \"-\")","v":"-"},"-","-",{"$f":"INDEX(Input_Details!$L$5:$L$24, MATCH($A8590, Input_Details!$J$5:$J$24, 0), 0)","v":{"$error":"#N/A"}},"7 Day Ave","10:30:00",{"$f":"IF(AND(AU7822=\"\",AU7918=\"\",AU8014=\"\",AU8110=\"\",AU8206=\"\",AU8302=\"\",AU8398=\"\"), \"-\", IF(AU7822+AU7918+AU8014+AU8110+AU8206+AU8302+AU8398=0,0,AVERAGE(AU7822,AU7918,AU8014,AU8110,AU8206,AU8302,AU8398)))","v":"-"},"-","-","-","-","-","-","-","-","-","-","-",{"$f":"IF(AND(BG7822=\"\",BG7918=\"\",BG8014=\"\",BG8110=\"\",BG8206=\"\",BG8302=\"\",BG8398=\"\"), \"-\", IF(SUM($AU8590:$BF8590)=0, 0, IF(BG7822+BG7918+BG8014+BG8110+BG8206+BG8302+BG8398=0,0,AVERAGE(BG7822,BG7918,BG8014,BG8110,BG8206,BG8302,BG8398))))","v":"-"},"-","-","-","-","-","-","-","-","-","-","-","-","-","-","-","-","-","-","-",{"$f":"IF(SUM(AU8590:BF8590)=0,\"-\",AVERAGEIF(AT7780:AT8451,$G8590,CA7780:CA8451))","v":"-"},{"$f":"IFERROR(IF(SUM(AU8590:BF8590)=0,\"-\",AVERAGEIF(AT7780:AT8451,AT8590,CB7780:CB8451)), \"-\")","v":"-"},"-","-",null,"7 Day Ave","10:30:00",{"$f":"IF(AND(CH7822=\"-\",CH7918=\"-\",CH8014=\"-\",CH8110=\"-\",CH8206=\"-\",CH8302=\"-\",CH8398=\"-\"), \"-\", ROUND(AVERAGE(CH7822,CH7918,CH8014,CH8110,CH8206,CH8302,CH8398),0))","v":"-"},"-","-","-","-","-","-","-","-","-","-","-",{"$f":"IF(AND(CT7822=\"-\",CT7918=\"-\",CT8014=\"-\",CT8110=\"-\",CT8206=\"-\",CT8302=\"-\",CT8398=\"-\"), \"-\", IF(SUM($CH8590:$CS8590)=0, 0, ROUND(AVERAGE(CT7822,CT7918,CT8014,CT8110,CT8206,CT8302,CT8398),0)))","v":"-"},"-","-","-","-","-","-","-","-","-","-","-","-","-","-","-","-","-","-","-","-","-","-","-","-","-","-",{"$f":"IF(DR8590=\"-\", \"-\", L8590)","v":"-"},"-","-","-","-","-","-","-","-","-","-","-","-","-","-"]
[{"$error":"#N/A"},"7-Day Average",{"$f":"INDEX(Input_Details!$H$5:$H$24, MATCH($A8591, Input_Details!$J$5:$J$24, 0), 0)","v":{"$error":"#N/A"}},{"$f":"INDEX(Input_Details!$I$5:$I$24, MATCH($A8591, Input_Details!$J$5:$J$24, 0), 0)","v":{"$error":"#N/A"}},{"$f":"INDEX(Input_Details!$K$5:$K$24, MATCH($A8591, Input_Details!$J$5:$J$24, 0), 0)","v":{"$error":"#N/A"}},"7 Day Ave","10:45:00",{"$f":"IF(AND(H7823=\"\",H7919=\"\",H8015=\"\",H8111=\"\",H8207=\"\",H8303=\"\",H8399=\"\"), \"-\", IF(H7823+H7919+H8015+H8111+H8207+H8303+H8399=0,0,AVERAGE(H7823,H7919,H8015,H8111,H8207,H8303,H8399)))","v":"-"},"-","-","-","-","-","-","-","-","-","-","-",{"$f":"IF(AND(T7823=\"\",T7919=\"\",T8015=\"\",T8111=\"\",T8207=\"\",T8303=\"\",T8399=\"\"), \"-\", IF(SUM($H8591:$S8591)=0, 0, IF(T7823+T7919+T8015+T8111+T8207+T8303+T8399=0,0,AVERAGE(T7823,T7919,T8015,T8111,T8207,T8303,T8399))))","v":"-"},"-","-","-","-","-","-","-","-","-","-","-","-","-","-","-","-","-","-","-",{"$f":"IF(SUM(H8591:S8591)=0,\"-\",AVERAGEIF(G7780:G8451,$G8591,AN7780:AN8451))","v":"-"},{"$f":"IFERROR(IF(SUM(H8591:S8591)=0,\"-\",AVERAGEIF(G7780:G8451,G8591,AO7780:AO8451)), \"-\")","v":"-"},"-","-",{"$f":"INDEX(Input_Details!$L$5:$L$24, MATCH($A8591, Input_Details!$J$5:$J$24, 0), 0)","v":{"$error":"#N/A"}},"7 Day Ave","10:45:00",{"$f":"IF(AND(AU7823=\"\",AU7919=\"\",AU8015=\"\",AU8111=\"\",AU8207=\"\",AU8303=\"\",AU8399=\"\"), \"-\", IF(AU7823+AU7919+AU8015+AU8111+AU8207+AU8303+AU8399=0,0,AVERAGE(AU7823,AU7919,AU8015,AU8111,AU8207,AU8303,AU8399)))","v":"-"},"-","-","-","-","-","-","-","-","-","-","-",{"$f":"IF(AND(BG7823=\"\",BG7919=\"\",BG8015=\"\",BG8111=\"\",BG8207=\"\",BG8303=\"\",BG8399=\"\"), \"-\", IF(SUM($AU8591:$BF8591)=0, 0, IF(BG7823+BG7919+BG8015+BG8111+BG8207+BG8303+BG8399=0,0,AVERAGE(BG7823,BG7919,BG8015,BG8111,BG8207,BG8303,BG8399))))","v":"-"},"-","-","-","-","-","-","-","-","-","-","-","-","-","-","-","-","-","-","-",{"$f":"IF(SUM(AU8591:BF8591)=0,\"-\",AVERAGEIF(AT7780:AT8451,$G8591,CA7780:CA8451))","v":"-"},{"$f":"IFERROR(IF(SUM(AU8591:BF8591)=0,\"-\",AVERAGEIF(AT7780:AT8451,AT8591,CB7780:CB8451)), \"-\")","v":"-"},"-","-",null,"7 Day Ave","10:45:00",{"$f":"IF(AND(CH7823=\"-\",CH7919=\"-\",CH8015=\"-\",CH8111=\"-\",CH8207=\"-\",CH8303=\"-\",CH8399=\"-\"), \"-\", ROUND(AVERAGE(CH7823,CH7919,CH8015,CH8111,CH8207,CH8303,CH8399),0))","v":"-"},"-","-","-","-","-","-","-","-","-","-","-",{"$f":"IF(AND(CT7823=\"-\",CT7919=\"-\",CT8015=\"-\",CT8111=\"-\",CT8207=\"-\",CT8303=\"-\",CT8399=\"-\"), \"-\", IF(SUM($CH8591:$CS8591)=0, 0, ROUND(AVERAGE(CT7823,CT7919,CT8015,CT8111,CT8207,CT8303,CT8399),0)))","v":"-"},"-","-","-","-","-","-","-","-","-","-","-","-","-","-","-","-","-","-","-","-","-","-","-","-","-","-","-","-","-","-","-","-","-","-","-","-","-","-","-","-","-"]
[{"$error":"#N/A"},"7-Day Average",{"$f":"INDEX(Input_Details!$H$5:$H$24, MATCH($A8592, Input_Details!$J$5:$J$24, 0), 0)","v":{"$error":"#N/A"}},{"$f":"INDEX(Input_Details!$I$5:$I$24, MATCH($A8592, Input_Details!$J$5:$J$24, 0), 0)","v":{"$error":"#N/A"}},{"$f":"INDEX(Input_Details!$K$5:$K$24, MATCH($A8592, Input_Details!$J$5:$J$24, 0), 0)","v":{"$error":"#N/A"}},"7 Day Ave","11:00:00",{"$f":"IF(AND(H7824=\"\",H7920=\"\",H8016=\"\",H8112=\"\",H8208=\"\",H8304=\"\",H8400=\"\"), \"-\", IF(H7824+H7920+H8016+H8112+H8208+H8304+H8400=0,0,AVERAGE(H7824,H7920,H8016,H8112,H8208,H8304,H8400)))","v":"-"},"-","-","-","-","-","-","-","-","-","-","-",{"$f":"IF(AND(T7824=\"\",T7920=\"\",T8016=\"\",T8112=\"\",T8208=\"\",T8304=\"\",T8400=\"\"), \"-\", IF(SUM($H8592:$S8592)=0, 0, IF(T7824+T7920+T8016+T8112+T8208+T8304+T8400=0,0,AVERAGE(T7824,T7920,T8016,T8112,T8208,T8304,T8400))))","v":"-"},"-","-","-","-","-","-","-","-","-","-","-","-","-","-","-","-","-","-","-",{"$f":"IF(SUM(H8592:S8592)=0,\"-\",AVERAGEIF(G7780:G8451,$G8592,AN7780:AN8451))","v":"-"},{"$f":"IFERROR(IF(SUM(H8592:S8592)=0,\"-\",AVERAGEIF(G7780:G8451,G8592,AO7780:AO8451)), \"-\")","v":"-"},"-","-",{"$f":"INDEX(Input_Details!$L$5:$L$24, MATCH($A8592, Input_Details!$J$5:$J$24, 0), 0)","v":{"$error":"#N/A"}},"7 Day Ave","11:00:00",{"$f":"IF(AND(AU7824=\"\",AU7920=\"\",AU8016=\"\",AU8112=\"\",AU8208=\"\",AU8304=\"\",AU8400=\"\"), \"-\", IF(AU7824+AU7920+AU8016+AU8112+AU8208+AU8304+AU8400=0,0,AVERAGE(AU7824,AU7920,AU8016,AU8112,AU8208,AU8304,AU8400)))","v":"-"},"-","-","-","-","-","-","-","-","-","-","-",{"$f":"IF(AND(BG7824=\"\",BG7920=\"\",BG8016=\"\",BG8112=\"\",BG8208=\"\",BG8304=\"\",BG8400=\"\"), \"-\", IF(SUM($AU8592:$BF8592)=0, 0, IF(BG7824+BG7920+BG8016+BG8112+BG8208+BG8304+BG8400=0,0,AVERAGE(BG7824,BG7920,BG8016,BG8112,BG8208,BG8304,BG8400))))","v":"-"},"-","-","-","-","-","-","-","-","-","-","-","-","-","-","-","-","-","-","-",{"$f":"IF(SUM(AU8592:BF8592)=0,\"-\",AVERAGEIF(AT7780:AT8451,$G8592,CA7780:CA8451))","v":"-"},{"$f":"IFERROR(IF(SUM(AU8592:BF8592)=0,\"-\",AVERAGEIF(AT7780:AT8451,AT8592,CB7780:CB8451)), \"-\")","v":"-"},"-","-",null,"7 Day Ave","11:00:00",{"$f":"IF(AND(CH7824=\"-\",CH7920=\"-\",CH8016=\"-\",CH8112=\"-\",CH8208=\"-\",CH8304=\"-\",CH8400=\"-\"), \"-\", ROUND(AVERAGE(CH7824,CH7920,CH8016,CH8112,CH8208,CH8304,CH8400),0))","v":"-"},"-","-","-","-","-","-","-","-","-","-","-",{"$f":"IF(AND(CT7824=\"-\",CT7920=\"-\",CT8016=\"-\",CT8112=\"-\",CT8208=\"-\",CT8304=\"-\",CT8400=\"-\"), \"-\", IF(SUM($CH8592:$CS8592)=0, 0, ROUND(AVERAGE(CT7824,CT7920,CT8016,CT8112,CT8208,CT8304,CT8400),0)))","v":"-"},"-","-","-","-","-","-","-","-","-","-","-","-","-","-","-","-","-","-","-","-","-","-","-","-","-","-","-","-","-","-","-","-","-","-","-","-","-","-","-","-","-"]
[{"$error":"#N/A"},"7-Day Average",{"$f":"INDEX(Input_Details!$H$5:$H$24, MATCH($A8593, Input_Details!$J$5:$J$24, 0), 0)","v":{"$error":"#N/A"}},{"$f":"INDEX(Input_Details!$I$5:$I$24, MATCH($A8593, Input_Details!$J$5:$J$24, 0), 0)","v":{"$error":"#N/A"}},{"$f":"INDEX(Input_Details!$K$5:$K$24, MATCH($A8593, Input_Details!$J$5:$J$24, 0), 0)","v":{"$error":"#N/A"}},"7 Day Ave","11:15:00",{"$f":"IF(AND(H7825=\"\",H7921=\"\",H8017=\"\",H8113=\"\",H8209=\"\",H8305=\"\",H8401=\"\"), \"-\", IF(H7825+H7921+H8017+H8113+H8209+H8305+H8401=0,0,AVERAGE(H7825,H7921,H8017,H8113,H8209,H8305,H8401)))","v":"-"},"-","-","-","-","-","-","-","-","-","-","-",{"$f":"IF(AND(T7825=\"\",T7921=\"\",T8017=\"\",T8113=\"\",T8209=\"\",T8305=\"\",T8401=\"\"), \"-\", IF(SUM($H8593:$S8593)=0, 0, IF(T7825+T7921+T8017+T8113+T8209+T8305+T8401=0,0,AVERAGE(T7825,T7921,T8017,T8113,T8209,T8305,T8401))))","v":"-"},"-","-","-","-","-","-","-","-","-","-","-","-","-","-","-","-","-","-","-",{"$f":"IF(SUM(H8593:S8593)=0,\"-\",AVERAGEIF(G7780:G8451,$G8593,AN7780:AN8451))","v":"-"},{"$f":"IFERROR(IF(SUM(H8593:S8593)=0,\"-\",AVERAGEIF(G7780:G8451,G8593,AO7780:AO8451)), \"-\")","v":"-"},"-","-",{"$f":"INDEX(Input_Details!$L$5:$L$24, MATCH($A8593, Input_Details!$J$5:$J$24, 0), 0)","v":{"$error":"#N/A"}},"7 Day Ave","11:15:00",{"$f":"IF(AND(AU7825=\"\",AU7921=\"\",AU8017=\"\",AU8113=\"\",AU8209=\"\",AU8305=\"\",AU8401=\"\"), \"-\", IF(AU7825+AU7921+AU8017+AU8113+AU8209+AU8305+AU8401=0,0,AVERAGE(AU7825,AU7921,AU8017,AU8113,AU8209,AU8305,AU8401)))","v":"-"},"-","-","-","-","-","-","-","-","-","-","-",{"$f":"IF(AND(BG7825=\"\",BG7921=\"\",BG8017=\"\",BG8113=\"\",BG8209=\"\",BG8305=\"\",BG8401=\"\"), \"-\", IF(SUM($AU8593:$BF8593)=0, 0, IF(BG7825+BG7921+BG8017+BG8113+BG8209+BG8305+BG8401=0,0,AVERAGE(BG7825,BG7921,BG8017,BG8113,BG8209,BG8305,BG8401))))","v":"-"},"-","-","-","-","-","-","-","-","-","-","-","-","-","-","-","-","-","-","-",{"$f":"IF(SUM(AU8593:BF8593)=0,\"-\",AVERAGEIF(AT7780:AT8451,$G8593,CA7780:CA8451))","v":"-"},{"$f":"IFERROR(IF(SUM(AU8593:BF8593)=0,\"-\",AVERAGEIF(AT7780:AT8451,AT8593,CB7780:CB8451)), \"-\")","v":"-"},"-","-",null,"7 Day Ave","11:15:00",{"$f":"IF(AND(CH7825=\"-\",CH7921=\"-\",CH8017=\"-\",CH8113=\"-\",CH8209=\"-\",CH8305=\"-\",CH8401=\"-\"), \"-\", ROUND(AVERAGE(CH7825,CH7921,CH8017,CH8113,CH8209,CH8305,CH8401),0))","v":"-"},"-","-","-","-","-","-","-","-","-","-","-",{"$f":"IF(AND(CT7825=\"-\",CT7921=\"-\",CT8017=\"-\",CT8113=\"-\",CT8209=\"-\",CT8305=\"-\",CT8401=\"-\"), \"-\", IF(SUM($CH8593:$CS8593)=0, 0, ROUND(AVERAGE(CT7825,CT7921,CT8017,CT8113,CT8209,CT8305,CT8401),0)))","v":"-"},"-","-","-","-","-","-","-","-","-","-","-","-","-","-","-","-","-","-","-","-","-","-","-","-","-","-","-","-","-","-","-","-","-","-","-","-","-","-","-","-","-"]
[{"$error":"#N/A"},"7-Day Average",{"$f":"INDEX(Input_Details!$H$5:$H$24, MATCH($A8594, Input_Details!$J$5:$J$24, 0), 0)","v":{"$error":"#N/A"}},{"$f":"INDEX(Input_Details!$I$5:$I$24, MATCH($A8594, Input_Details!$J$5:$J$24, 0), 0)","v":{"$error":"#N/A"}},{"$f":"INDEX(Input_Details!$K$5:$K$24, MATCH($A8594, Input_Details!$J$5:$J$24, 0), 0)","v":{"$error":"#N/A"}},"7 Day Ave","11:30:00",{"$f":"IF(AND(H7826=\"\",H7922=\"\",H8018=\"\",H8114=\"\",H8210=\"\",H8306=\"\",H8402=\"\"), \"-\", IF(H7826+H7922+H8018+H8114+H8210+H8306+H8402=0,0,AVERAGE(H7826,H7922,H8018,H8114,H8210,H8306,H8402)))","v":"-"},"-","-","-","-","-","-","-","-","-","-","-",{"$f":"IF(AND(T7826=\"\",T7922=\"\",T8018=\"\",T8114=\"\",T8210=\"\",T8306=\"\",T8402=\"\"), \"-\", IF(SUM($H8594:$S8594)=0, 0, IF(T7826+T7922+T8018+T8114+T8210+T8306+T8402=0,0,AVERAGE(T7826,T7922,T8018,T8114,T8210,T8306,T8402))))","v":"-"},"-","-","-","-","-","-","-","-","-","-","-","-","-","-","-","-","-","-","-",{"$f":"IF(SUM(H8594:S8594)=0,\"-\",AVERAGEIF(G7780:G8451,$G8594,AN7780:AN8451))","v":"-"},{"$f":"IFERROR(IF(SUM(H8594:S8594)=0,\"-\",AVERAGEIF(G7780:G8451,G8594,AO7780:AO8451)), \"-\")","v":"-"},"-","-",{"$f":"INDEX(Input_Details!$L$5:$L$24, MATCH($A8594, Input_Details!$J$5:$J$24, 0), 0)","v":{"$error":"#N/A"}},"7 Day Ave","11:30:00",{"$f":"IF(AND(AU7826=\"\",AU7922=\"\",AU8018=\"\",AU8114=\"\",AU8210=\"\",AU8306=\"\",AU8402=\"\"), \"-\", IF(AU7826+AU7922+AU8018+AU8114+AU8210+AU8306+AU8402=0,0,AVERAGE(AU7826,AU7922,AU8018,AU8114,AU8210,AU8306,AU8402)))","v":"-"},"-","-","-","-","-","-","-","-","-","-","-",{"$f":"IF(AND(BG7826=\"\",BG7922=\"\",BG8018=\"\",BG8114=\"\",BG8210=\"\",BG8306=\"\",BG8402=\"\"), \"-\", IF(SUM($AU8594:$BF8594)=0, 0, IF(BG7826+BG7922+BG8018+BG8114+BG8210+BG8306+BG8402=0,0,AVERAGE(BG7826,BG7922,BG8018,BG8114,BG8210,BG8306,BG8402))))","v":"-"},"-","-","-","-","-","-","-","-","-","-","-","-","-","-","-","-","-","-","-",{"$f":"IF(SUM(AU8594:BF8594)=0,\"-\",AVERAGEIF(AT7780:AT8451,$G8594,CA7780:CA8451))","v":"-"},{"$f":"IFERROR(IF(SUM(AU8594:BF8594)=0,\"-\",AVERAGEIF(AT7780:AT8451,AT8594,CB7780:CB8451)), \"-\")","v":"-"},"-","-",null,"7 Day Ave","11:30:00",{"$f":"IF(AND(CH7826=\"-\",CH7922=\"-\",CH8018=\"-\",CH8114=\"-\",CH8210=\"-\",CH8306=\"-\",CH8402=\"-\"), \"-\", ROUND(AVERAGE(CH7826,CH7922,CH8018,CH8114,CH8210,CH8306,CH8402),0))","v":"-"},"-","-","-","-","-","-","-","-","-","-","-",{"$f":"IF(AND(CT7826=\"-\",CT7922=\"-\",CT8018=\"-\",CT8114=\"-\",CT8210=\"-\",CT8306=\"-\",CT8402=\"-\"), \"-\", IF(SUM($CH8594:$CS8594)=0, 0, ROUND(AVERAGE(CT7826,CT7922,CT8018,CT8114,CT8210,CT8306,CT8402),0)))","v":"-"},"-","-","-","-","-","-","-","-","-","-","-","-","-","-","-","-","-","-","-","-","-","-","-","-","-","-","-","-","-","-","-","-","-","-","-","-","-","-","-","-","-"]
[{"$error":"#N/A"},"7-Day Average",{"$f":"INDEX(Input_Details!$H$5:$H$24, MATCH($A8595, Input_Details!$J$5:$J$24, 0), 0)","v":{"$error":"#N/A"}},{"$f":"INDEX(Input_Details!$I$5:$I$24, MATCH($A8595, Input_Details!$J$5:$J$24, 0), 0)","v":{"$error":"#N/A"}},{"$f":"INDEX(Input_Details!$K$5:$K$24, MATCH($A8595, Input_Details!$J$5:$J$24, 0), 0)","v":{"$error":"#N/A"}},"7 Day Ave","11:45:00",{"$f":"IF(AND(H7827=\"\",H7923=\"\",H8019=\"\",H8115=\"\",H8211=\"\",H8307=\"\",H8403=\"\"), \"-\", IF(H7827+H7923+H8019+H8115+H8211+H8307+H8403=0,0,AVERAGE(H7827,H7923,H8019,H8115,H8211,H8307,H8403)))","v":"-"},"-","-","-","-","-","-","-","-","-","-","-",{"$f":"IF(AND(T7827=\"\",T7923=\"\",T8019=\"\",T8115=\"\",T8211=\"\",T8307=\"\",T8403=\"\"), \"-\", IF(SUM($H8595:$S8595)=0, 0, IF(T7827+T7923+T8019+T8115+T8211+T8307+T8403=0,0,AVERAGE(T7827,T7923,T8019,T8115,T8211,T8307,T8403))))","v":"-"},"-","-","-","-","-","-","-","-","-","-","-","-","-","-","-","-","-","-","-",{"$f":"IF(SUM(H8595:S8595)=0,\"-\",AVERAGEIF(G7780:G8451,$G8595,AN7780:AN8451))","v":"-"},{"$f":"IFERROR(IF(SUM(H8595:S8595)=0,\"-\",AVERAGEIF(G7780:G8451,G8595,AO7780:AO8451)), \"-\")","v":"-"},"-","-",{"$f":"INDEX(Input_Details!$L$5:$L$24, MATCH($A8595, Input_Details!$J$5:$J$24, 0), 0)","v":{"$error":"#N/A"}},"7 Day Ave","11:45:00",{"$f":"IF(AND(AU7827=\"\",AU7923=\"\",AU8019=\"\",AU8115=\"\",AU8211=\"\",AU8307=\"\",AU8403=\"\"), \"-\", IF(AU7827+AU7923+AU8019+AU8115+AU8211+AU8307+AU8403=0,0,AVERAGE(AU7827,AU7923,AU8019,AU8115,AU8211,AU8307,AU8403)))","v":"-"},"-","-","-","-","-","-","-","-","-","-","-",{"$f":"IF(AND(BG7827=\"\",BG7923=\"\",BG8019=\"\",BG8115=\"\",BG8211=\"\",BG8307=\"\",BG8403=\"\"), \"-\", IF(SUM($AU8595:$BF8595)=0, 0, IF(BG7827+BG7923+BG8019+BG8115+BG8211+BG8307+BG8403=0,0,AVERAGE(BG7827,BG7923,BG8019,BG8115,BG8211,BG8307,BG8403))))","v":"-"},"-","-","-","-","-","-","-","-","-","-","-","-","-","-","-","-","-","-","-",{"$f":"IF(SUM(AU8595:BF8595)=0,\"-\",AVERAGEIF(AT7780:AT8451,$G8595,CA7780:CA8451))","v":"-"},{"$f":"IFERROR(IF(SUM(AU8595:BF8595)=0,\"-\",AVERAGEIF(AT7780:AT8451,AT8595,CB7780:CB8451)), \"-\")","v":"-"},"-","-",null,"7 Day Ave","11:45:00",{"$f":"IF(AND(CH7827=\"-\",CH7923=\"-\",CH8019=\"-\",CH8115=\"-\",CH8211=\"-\",CH8307=\"-\",CH8403=\"-\"), \"-\", ROUND(AVERAGE(CH7827,CH7923,CH8019,CH8115,CH8211,CH8307,CH8403),0))","v":"-"},"-","-","-","-","-","-","-","-","-","-","-",{"$f":"IF(AND(CT7827=\"-\",CT7923=\"-\",CT8019=\"-\",CT8115=\"-\",CT8211=\"-\",CT8307=\"-\",CT8403=\"-\"), \"-\", IF(SUM($CH8595:$CS8595)=0, 0, ROUND(AVERAGE(CT7827,CT7923,CT8019,CT8115,CT8211,CT8307,CT8403),0)))","v":"-"},"-","-","-","-","-","-","-","-","-","-","-","-","-","-","-","-","-","-","-","-","-","-","-","-","-","-","-","-","-","-","-","-","-","-","-","-","-","-","-","-","-"]
[{"$error":"#N/A"},"7-Day Average",{"$f":"INDEX(Input_Details!$H$5:$H$24, MATCH($A8596, Input_Details!$J$5:$J$24, 0), 0)","v":{"$error":"#N/A"}},{"$f":"INDEX(Input_Details!$I$5:$I$24, MATCH($A8596, Input_Details!$J$5:$J$24, 0), 0)","v":{"$error":"#N/A"}},{"$f":"INDEX(Input_Details!$K$5:$K$24, MATCH($A8596, Input_Details!$J$5:$J$24, 0), 0)","v":{"$error":"#N/A"}},"7 Day Ave","12:00:00",{"$f":"IF(AND(H7828=\"\",H7924=\"\",H8020=\"\",H8116=\"\",H8212=\"\",H8308=\"\",H8404=\"\"), \"-\", IF(H7828+H7924+H8020+H8116+H8212+H8308+H8404=0,0,AVERAGE(H7828,H7924,H8020,H8116,H8212,H8308,H8404)))","v":"-"},"-","-","-","-","-","-","-","-","-","-","-",{"$f":"IF(AND(T7828=\"\",T7924=\"\",T8020=\"\",T8116=\"\",T8212=\"\",T8308=\"\",T8404=\"\"), \"-\", IF(SUM($H8596:$S8596)=0, 0, IF(T7828+T7924+T8020+T8116+T8212+T8308+T8404=0,0,AVERAGE(T7828,T7924,T8020,T8116,T8212,T8308,T8404))))","v":"-"},"-","-","-","-","-","-","-","-","-","-","-","-","-","-","-","-","-","-","-",{"$f":"IF(SUM(H8596:S8596)=0,\"-\",AVERAGEIF(G7780:G8451,$G8596,AN7780:AN8451))","v":"-"},{"$f":"IFERROR(IF(SUM(H8596:S8596)=0,\"-\",AVERAGEIF(G7780:G8451,G8596,AO7780:AO8451)), \"-\")","v":"-"},"-","-",{"$f":"INDEX(Input_Details!$L$5:$L$24, MATCH($A8596, Input_Details!$J$5:$J$24, 0), 0)","v":{"$error":"#N/A"}},"7 Day Ave","12:00:00",{"$f":"IF(AND(AU7828=\"\",AU7924=\"\",AU8020=\"\",AU8116=\"\",AU8212=\"\",AU8308=\"\",AU8404=\"\"), \"-\", IF(AU7828+AU7924+AU8020+AU8116+AU8212+AU8308+AU8404=0,0,AVERAGE(AU7828,AU7924,AU8020,AU8116,AU8212,AU8308,AU8404)))","v":"-"},"-","-","-","-","-","-","-","-","-","-","-",{"$f":"IF(AND(BG7828=\"\",BG7924=\"\",BG8020=\"\",BG8116=\"\",BG8212=\"\",BG8308=\"\",BG8404=\"\"), \"-\", IF(SUM($AU8596:$BF8596)=0, 0, IF(BG7828+BG7924+BG8020+BG8116+BG8212+BG8308+BG8404=0,0,AVERAGE(BG7828,BG7924,BG8020,BG8116,BG8212,BG8308,BG8404))))","v":"-"},"-","-","-","-","-","-","-","-","-","-","-","-","-","-","-","-","-","-","-",{"$f":"IF(SUM(AU8596:BF8596)=0,\"-\",AVERAGEIF(AT7780:AT8451,$G8596,CA7780:CA8451))","v":"-"},{"$f":"IFERROR(IF(SUM(AU8596:BF8596)=0,\"-\",AVERAGEIF(AT7780:AT8451,AT8596,CB7780:CB8451)), \"-\")","v":"-"},"-","-",null,"7 Day Ave","12:00:00",{"$f":"IF(AND(CH7828=\"-\",CH7924=\"-\",CH8020=\"-\",CH8116=\"-\",CH8212=\"-\",CH8308=\"-\",CH8404=\"-\"), \"-\", ROUND(AVERAGE(CH7828,CH7924,CH8020,CH8116,CH8212,CH8308,CH8404),0))","v":"-"},"-","-","-","-","-","-","-","-","-","-","-",{"$f":"IF(AND(CT7828=\"-\",CT7924=\"-\",CT8020=\"-\",CT8116=\"-\",CT8212=\"-\",CT8308=\"-\",CT8404=\"-\"), \"-\", IF(SUM($CH8596:$CS8596)=0, 0, ROUND(AVERAGE(CT7828,CT7924,CT8020,CT8116,CT8212,CT8308,CT8404),0)))","v":"-"},"-","-","-","-","-","-","-","-","-","-","-","-","-","-","-","-","-","-","-","-","-","-","-","-","-","-","-","-","-","-","-","-","-","-","-","-","-","-","-","-","-"]
[{"$error":"#N/A"},"7-Day Average",{"$f":"INDEX(Input_Details!$H$5:$H$24, MATCH($A8597, Input_Details!$J$5:$J$24, 0), 0)","v":{"$error":"#N/A"}},{"$f":"INDEX(Input_Details!$I$5:$I$24, MATCH($A8597, Input_Details!$J$5:$J$24, 0), 0)","v":{"$error":"#N/A"}},{"$f":"INDEX(Input_Details!$K$5:$K$24, MATCH($A8597, Input_Details!$J$5:$J$24, 0), 0)","v":{"$error":"#N/A"}},"7 Day Ave","12:15:00",{"$f":"IF(AND(H7829=\"\",H7925=\"\",H8021=\"\",H8117=\"\",H8213=\"\",H8309=\"\",H8405=\"\"), \"-\", IF(H7829+H7925+H8021+H8117+H8213+H8309+H8405=0,0,AVERAGE(H7829,H7925,H8021,H8117,H8213,H8309,H8405)))","v":"-"},"-","-","-","-","-","-","-","-","-","-","-",{"$f":"IF(AND(T7829=\"\",T7925=\"\",T8021=\"\",T8117=\"\",T8213=\"\",T8309=\"\",T8405=\"\"), \"-\", IF(SUM($H8597:$S8597)=0, 0, IF(T7829+T7925+T8021+T8117+T8213+T8309+T8405=0,0,AVERAGE(T7829,T7925,T8021,T8117,T8213,T8309,T8405))))","v":"-"},"-","-","-","-","-","-","-","-","-","-","-","-","-","-","-","-","-","-","-",{"$f":"IF(SUM(H8597:S8597)=0,\"-\",AVERAGEIF(G7780:G8451,$G8597,AN7780:AN8451))","v":"-"},{"$f":"IFERROR(IF(SUM(H8597:S8597)=0,\"-\",AVERAGEIF(G7780:G8451,G8597,AO7780:AO8451)), \"-\")","v":"-"},"-","-",{"$f":"INDEX(Input_Details!$L$5:$L$24, MATCH($A8597, Input_Details!$J$5:$J$24, 0), 0)","v":{"$error":"#N/A"}},"7 Day Ave","12:15:00",{"$f":"IF(AND(AU7829=\"\",AU7925=\"\",AU8021=\"\",AU8117=\"\",AU8213=\"\",AU8309=\"\",AU8405=\"\"), \"-\", IF(AU7829+AU7925+AU8021+AU8117+AU8213+AU8309+AU8405=0,0,AVERAGE(AU7829,AU7925,AU8021,AU8117,AU8213,AU8309,AU8405)))","v":"-"},"-","-","-","-","-","-","-","-","-","-","-",{"$f":"IF(AND(BG7829=\"\",BG7925=\"\",BG8021=\"\",BG8117=\"\",BG8213=\"\",BG8309=\"\",BG8405=\"\"), \"-\", IF(SUM($AU8597:$BF8597)=0, 0, IF(BG7829+BG7925+BG8021+BG8117+BG8213+BG8309+BG8405=0,0,AVERAGE(BG7829,BG7925,BG8021,BG8117,BG8213,BG8309,BG8405))))","v":"-"},"-","-","-","-","-","-","-","-","-","-","-","-","-","-","-","-","-","-","-",{"$f":"IF(SUM(AU8597:BF8597)=0,\"-\",AVERAGEIF(AT7780:AT8451,$G8597,CA7780:CA8451))","v":"-"},{"$f":"IFERROR(IF(SUM(AU8597:BF8597)=0,\"-\",AVERAGEIF(AT7780:AT8451,AT8597,CB7780:CB8451)), \"-\")","v":"-"},"-","-",null,"7 Day Ave","12:15:00",{"$f":"IF(AND(CH7829=\"-\",CH7925=\"-\",CH8021=\"-\",CH8117=\"-\",CH8213=\"-\",CH8309=\"-\",CH8405=\"-\"), \"-\", ROUND(AVERAGE(CH7829,CH7925,CH8021,CH8117,CH8213,CH8309,CH8405),0))","v":"-"},"-","-","-","-","-","-","-","-","-","-","-",{"$f":"IF(AND(CT7829=\"-\",CT7925=\"-\",CT8021=\"-\",CT8117=\"-\",CT8213=\"-\",CT8309=\"-\",CT8405=\"-\"), \"-\", IF(SUM($CH8597:$CS8597)=0, 0, ROUND(AVERAGE(CT7829,CT7925,CT8021,CT8117,CT8213,CT8309,CT8405),0)))","v":"-"},"-","-","-","-","-","-","-","-","-","-","-","-","-","-","-","-","-","-","-","-","-","-","-","-","-","-","-","-","-","-","-","-","-","-","-","-","-","-","-","-","-"]
[{"$error":"#N/A"},"7-Day Average",{"$f":"INDEX(Input_Details!$H$5:$H$24, MATCH($A8598, Input_Details!$J$5:$J$24, 0), 0)","v":{"$error":"#N/A"}},{"$f":"INDEX(Input_Details!$I$5:$I$24, MATCH($A8598, Input_Details!$J$5:$J$24, 0), 0)","v":{"$error":"#N/A"}},{"$f":"INDEX(Input_Details!$K$5:$K$24, MATCH($A8598, Input_Details!$J$5:$J$24, 0), 0)","v":{"$error":"#N/A"}},"7 Day Ave","12:30:00",{"$f":"IF(AND(H7830=\"\",H7926=\"\",H8022=\"\",H8118=\"\",H8214=\"\",H8310=\"\",H8406=\"\"), \"-\", IF(H7830+H7926+H8022+H8118+H8214+H8310+H8406=0,0,AVERAGE(H7830,H7926,H8022,H8118,H8214,H8310,H8406)))","v":"-"},"-","-","-","-","-","-","-","-","-","-","-",{"$f":"IF(AND(T7830=\"\",T7926=\"\",T8022=\"\",T8118=\"\",T8214=\"\",T8310=\"\",T8406=\"\"), \"-\", IF(SUM($H8598:$S8598)=0, 0, IF(T7830+T7926+T8022+T8118+T8214+T8310+T8406=0,0,AVERAGE(T7830,T7926,T8022,T8118,T8214,T8310,T8406))))","v":"-"},"-","-","-","-","-","-","-","-","-","-","-","-","-","-","-","-","-","-","-",{"$f":"IF(SUM(H8598:S8598)=0,\"-\",AVERAGEIF(G7780:G8451,$G8598,AN7780:AN8451))","v":"-"},{"$f":"IFERROR(IF(SUM(H8598:S8598)=0,\"-\",AVERAGEIF(G7780:G8451,G8598,AO7780:AO8451)), \"-\")","v":"-"},"-","-",{"$f":"INDEX(Input_Details!$L$5:$L$24, MATCH($A8598, Input_Details!$J$5:$J$24, 0), 0)","v":{"$error":"#N/A"}},"7 Day Ave","12:30:00",{"$f":"IF(AND(AU7830=\"\",AU7926=\"\",AU8022=\"\",AU8118=\"\",AU8214=\"\",AU8310=\"\",AU8406=\"\"), \"-\", IF(AU7830+AU7926+AU8022+AU8118+AU8214+AU8310+AU8406=0,0,AVERAGE(AU7830,AU7926,AU8022,AU8118,AU8214,AU8310,AU8406)))","v":"-"},"-","-","-","-","-","-","-","-","-","-","-",{"$f":"IF(AND(BG7830=\"\",BG7926=\"\",BG8022=\"\",BG8118=\"\",BG8214=\"\",BG8310=\"\",BG8406=\"\"), \"-\", IF(SUM($AU8598:$BF8598)=0, 0, IF(BG7830+BG7926+BG8022+BG8118+BG8214+BG8310+BG8406=0,0,AVERAGE(BG7830,BG7926,BG8022,BG8118,BG8214,BG8310,BG8406))))","v":"-"},"-","-","-","-","-","-","-","-","-","-","-","-","-","-","-","-","-","-","-",{"$f":"IF(SUM(AU8598:BF8598)=0,\"-\",AVERAGEIF(AT7780:AT8451,$G8598,CA7780:CA8451))","v":"-"},{"$f":"IFERROR(IF(SUM(AU8598:BF8598)=0,\"-\",AVERAGEIF(AT7780:AT8451,AT8598,CB7780:CB8451)), \"-\")","v":"-"},"-","-",null,"7 Day Ave","12:30:00",{"$f":"IF(AND(CH7830=\"-\",CH7926=\"-\",CH8022=\"-\",CH8118=\"-\",CH8214=\"-\",CH8310=\"-\",CH8406=\"-\"), \"-\", ROUND(AVERAGE(CH7830,CH7926,CH8022,CH8118,CH8214,CH8310,CH8406),0))","v":"-"},"-","-","-","-","-","-","-","-","-","-","-",{"$f":"IF(AND(CT7830=\"-\",CT7926=\"-\",CT8022=\"-\",CT8118=\"-\",CT8214=\"-\",CT8310=\"-\",CT8406=\"-\"), \"-\", IF(SUM($CH8598:$CS8598)=0, 0, ROUND(AVERAGE(CT7830,CT7926,CT8022,CT8118,CT8214,CT8310,CT8406),0)))","v":"-"},"-","-","-","-","-","-","-","-","-","-","-","-","-","-","-","-","-","-","-","-","-","-","-","-","-","-","-","-","-","-","-","-","-","-","-","-","-","-","-","-","-"]
[{"$error":"#N/A"},"7-Day Average",{"$f":"INDEX(Input_Details!$H$5:$H$24, MATCH($A8599, Input_Details!$J$5:$J$24, 0), 0)","v":{"$error":"#N/A"}},{"$f":"INDEX(Input_Details!$I$5:$I$24, MATCH($A8599, Input_Details!$J$5:$J$24, 0), 0)","v":{"$error":"#N/A"}},{"$f":"INDEX(Input_Details!$K$5:$K$24, MATCH($A8599, Input_Details!$J$5:$J$24, 0), 0)","v":{"$error":"#N/A"}},"7 Day Ave","12:45:00",{"$f":"IF(AND(H7831=\"\",H7927=\"\",H8023=\"\",H8119=\"\",H8215=\"\",H8311=\"\",H8407=\"\"), \"-\", IF(H7831+H7927+H8023+H8119+H8215+H8311+H8407=0,0,AVERAGE(H7831,H7927,H8023,H8119,H8215,H8311,H8407)))","v":"-"},"-","-","-","-","-","-","-","-","-","-","-",{"$f":"IF(AND(T7831=\"\",T7927=\"\",T8023=\"\",T8119=\"\",T8215=\"\",T8311=\"\",T8407=\"\"), \"-\", IF(SUM($H8599:$S8599)=0, 0, IF(T7831+T7927+T8023+T8119+T8215+T8311+T8407=0,0,AVERAGE(T7831,T7927,T8023,T8119,T8215,T8311,T8407))))","v":"-"},"-","-","-","-","-","-","-","-","-","-","-","-","-","-","-","-","-","-","-",{"$f":"IF(SUM(H8599:S8599)=0,\"-\",AVERAGEIF(G7780:G8451,$G8599,AN7780:AN8451))","v":"-"},{"$f":"IFERROR(IF(SUM(H8599:S8599)=0,\"-\",AVERAGEIF(G7780:G8451,G8599,AO7780:AO8451)), \"-\")","v":"-"},"-","-",{"$f":"INDEX(Input_Details!$L$5:$L$24, MATCH($A8599, Input_Details!$J$5:$J$24, 0), 0)","v":{"$error":"#N/A"}},"7 Day Ave","12:45:00",{"$f":"IF(AND(AU7831=\"\",AU7927=\"\",AU8023=\"\",AU8119=\"\",AU8215=\"\",AU8311=\"\",AU8407=\"\"), \"-\", IF(AU7831+AU7927+AU8023+AU8119+AU8215+AU8311+AU8407=0,0,AVERAGE(AU7831,AU7927,AU8023,AU8119,AU8215,AU8311,AU8407)))","v":"-"},"-","-","-","-","-","-","-","-","-","-","-",{"$f":"IF(AND(BG7831=\"\",BG7927=\"\",BG8023=\"\",BG8119=\"\",BG8215=\"\",BG8311=\"\",BG8407=\"\"), \"-\", IF(SUM($AU8599:$BF8599)=0, 0, IF(BG7831+BG7927+BG8023+BG8119+BG8215+BG8311+BG8407=0,0,AVERAGE(BG7831,BG7927,BG8023,BG8119,BG8215,BG8311,BG8407))))","v":"-"},"-","-","-","-","-","-","-","-","-","-","-","-","-","-","-","-","-","-","-",{"$f":"IF(SUM(AU8599:BF8599)=0,\"-\",AVERAGEIF(AT7780:AT8451,$G8599,CA7780:CA8451))","v":"-"},{"$f":"IFERROR(IF(SUM(AU8599:BF8599)=0,\"-\",AVERAGEIF(AT7780:AT8451,AT8599,CB7780:CB8451)), \"-\")","v":"-"},"-","-",null,"7 Day Ave","12:45:00",{"$f":"IF(AND(CH7831=\"-\",CH7927=\"-\",CH8023=\"-\",CH8119=\"-\",CH8215=\"-\",CH8311=\"-\",CH8407=\"-\"), \"-\", ROUND(AVERAGE(CH7831,CH7927,CH8023,CH8119,CH8215,CH8311,CH8407),0))","v":"-"},"-","-","-","-","-","-","-","-","-","-","-",{"$f":"IF(AND(CT7831=\"-\",CT7927=\"-\",CT8023=\"-\",CT8119=\"-\",CT8215=\"-\",CT8311=\"-\",CT8407=\"-\"), \"-\", IF(SUM($CH8599:$CS8599)=0, 0, ROUND(AVERAGE(CT7831,CT7927,CT8023,CT8119,CT8215,CT8311,CT8407),0)))","v":"-"},"-","-","-","-","-","-","-","-","-","-","-","-","-","-","-","-","-","-","-","-","-","-","-","-","-","-","-","-","-","-","-","-","-","-","-","-","-","-","-","-","-"]
[{"$error":"#N/A"},"7-Day Average",{"$f":"INDEX(Input_Details!$H$5:$H$24, MATCH($A8600, Input_Details!$J$5:$J$24, 0), 0)","v":{"$error":"#N/A"}},{"$f":"INDEX(Input_Details!$I$5:$I$24, MATCH($A8600, Input_Details!$J$5:$J$24, 0), 0)","v":{"$error":"#N/A"}},{"$f":"INDEX(Input_Details!$K$5:$K$24, MATCH($A8600, Input_Details!$J$5:$J$24, 0), 0)","v":{"$error":"#N/A"}},"7 Day Ave","13:00:00",{"$f":"IF(AND(H7832=\"\",H7928=\"\",H8024=\"\",H8120=\"\",H8216=\"\",H8312=\"\",H8408=\"\"), \"-\", IF(H7832+H7928+H8024+H8120+H8216+H8312+H8408=0,0,AVERAGE(H7832,H7928,H8024,H8120,H8216,H8312,H8408)))","v":"-"},"-","-","-","-","-","-","-","-","-","-","-",{"$f":"IF(AND(T7832=\"\",T7928=\"\",T8024=\"\",T8120=\"\",T8216=\"\",T8312=\"\",T8408=\"\"), \"-\", IF(SUM($H8600:$S8600)=0, 0, IF(T7832+T7928+T8024+T8120+T8216+T8312+T8408=0,0,AVERAGE(T7832,T7928,T8024,T8120,T8216,T8312,T8408))))","v":"-"},"-","-","-","-","-","-","-","-","-","-","-","-","-","-","-","-","-","-","-",{"$f":"IF(SUM(H8600:S8600)=0,\"-\",AVERAGEIF(G7780:G8451,$G8600,AN7780:AN8451))","v":"-"},{"$f":"IFERROR(IF(SUM(H8600:S8600)=0,\"-\",AVERAGEIF(G7780:G8451,G8600,AO7780:AO8451)), \"-\")","v":"-"},"-","-",{"$f":"INDEX(Input_Details!$L$5:$L$24, MATCH($A8600, Input_Details!$J$5:$J$24, 0), 0)","v":{"$error":"#N/A"}},"7 Day Ave","13:00:00",{"$f":"IF(AND(AU7832=\"\",AU7928=\"\",AU8024=\"\",AU8120=\"\",AU8216=\"\",AU8312=\"\",AU8408=\"\"), \"-\", IF(AU7832+AU7928+AU8024+AU8120+AU8216+AU8312+AU8408=0,0,AVERAGE(AU7832,AU7928,AU8024,AU8120,AU8216,AU8312,AU8408)))","v":"-"},"-","-","-","-","-","-","-","-","-","-","-",{"$f":"IF(AND(BG7832=\"\",BG7928=\"\",BG8024=\"\",BG8120=\"\",BG8216=\"\",BG8312=\"\",BG8408=\"\"), \"-\", IF(SUM($AU8600:$BF8600)=0, 0, IF(BG7832+BG7928+BG8024+BG8120+BG8216+BG8312+BG8408=0,0,AVERAGE(BG7832,BG7928,BG8024,BG8120,BG8216,BG8312,BG8408))))","v":"-"},"-","-","-","-","-","-","-","-","-","-","-","-","-","-","-","-","-","-","-",{"$f":"IF(SUM(AU8600:BF8600)=0,\"-\",AVERAGEIF(AT7780:AT8451,$G8600,CA7780:CA8451))","v":"-"},{"$f":"IFERROR(IF(SUM(AU8600:BF8600)=0,\"-\",AVERAGEIF(AT7780:AT8451,AT8600,CB7780:CB8451)), \"-\")","v":"-"},"-","-",null,"7 Day Ave","13:00:00",{"$f":"IF(AND(CH7832=\"-\",CH7928=\"-\",CH8024=\"-\",CH8120=\"-\",CH8216=\"-\",CH8312=\"-\",CH8408=\"-\"), \"-\", ROUND(AVERAGE(CH7832,CH7928,CH8024,CH8120,CH8216,CH8312,CH8408),0))","v":"-"},"-","-","-","-","-","-","-","-","-","-","-",{"$f":"IF(AND(CT7832=\"-\",CT7928=\"-\",CT8024=\"-\",CT8120=\"-\",CT8216=\"-\",CT8312=\"-\",CT8408=\"-\"), \"-\", IF(SUM($CH8600:$CS8600)=0, 0, ROUND(AVERAGE(CT7832,CT7928,CT8024,CT8120,CT8216,CT8312,CT8408),0)))","v":"-"},"-","-","-","-","-","-","-","-","-","-","-","-","-","-","-","-","-","-","-","-","-","-","-","-","-","-","-","-","-","-","-","-","-","-","-","-","-","-","-","-","-"]
[{"$error":"#N/A"},"7-Day Average",{"$f":"INDEX(Input_Details!$H$5:$H$24, MATCH($A8601, Input_Details!$J$5:$J$24, 0), 0)","v":{"$error":"#N/A"}},{"$f":"INDEX(Input_Details!$I$5:$I$24, MATCH($A8601, Input_Details!$J$5:$J$24, 0), 0)","v":{"$error":"#N/A"}},{"$f":"INDEX(Input_Details!$K$5:$K$24, MATCH($A8601, Input_Details!$J$5:$J$24, 0), 0)","v":{"$error":"#N/A"}},"7 Day Ave","13:15:00",{"$f":"IF(AND(H7833=\"\",H7929=\"\",H8025=\"\",H8121=\"\",H8217=\"\",H8313=\"\",H8409=\"\"), \"-\", IF(H7833+H7929+H8025+H8121+H8217+H8313+H8409=0,0,AVERAGE(H7833,H7929,H8025,H8121,H8217,H8313,H8409)))","v":"-"},"-","-","-","-","-","-","-","-","-","-","-",{"$f":"IF(AND(T7833=\"\",T7929=\"\",T8025=\"\",T8121=\"\",T8217=\"\",T8313=\"\",T8409=\"\"), \"-\", IF(SUM($H8601:$S8601)=0, 0, IF(T7833+T7929+T8025+T8121+T8217+T8313+T8409=0,0,AVERAGE(T7833,T7929,T8025,T8121,T8217,T8313,T8409))))","v":"-"},"-","-","-","-","-","-","-","-","-","-","-","-","-","-","-","-","-","-","-",{"$f":"IF(SUM(H8601:S8601)=0,\"-\",AVERAGEIF(G7780:G8451,$G8601,AN7780:AN8451))","v":"-"},{"$f":"IFERROR(IF(SUM(H8601:S8601)=0,\"-\",AVERAGEIF(G7780:G8451,G8601,AO7780:AO8451)), \"-\")","v":"-"},"-","-",{"$f":"INDEX(Input_Details!$L$5:$L$24, MATCH($A8601, Input_Details!$J$5:$J$24, 0), 0)","v":{"$error":"#N/A"}},"7 Day Ave","13:15:00",{"$f":"IF(AND(AU7833=\"\",AU7929=\"\",AU8025=\"\",AU8121=\"\",AU8217=\"\",AU8313=\"\",AU8409=\"\"), \"-\", IF(AU7833+AU7929+AU8025+AU8121+AU8217+AU8313+AU8409=0,0,AVERAGE(AU7833,AU7929,AU8025,AU8121,AU8217,AU8313,AU8409)))","v":"-"},"-","-","-","-","-","-","-","-","-","-","-",{"$f":"IF(AND(BG7833=\"\",BG7929=\"\",BG8025=\"\",BG8121=\"\",BG8217=\"\",BG8313=\"\",BG8409=\"\"), \"-\", IF(SUM($AU8601:$BF8601)=0, 0, IF(BG7833+BG7929+BG8025+BG8121+BG8217+BG8313+BG8409=0,0,AVERAGE(BG7833,BG7929,BG8025,BG8121,BG8217,BG8313,BG8409))))","v":"-"},"-","-","-","-","-","-","-","-","-","-","-","-","-","-","-","-","-","-","-",{"$f":"IF(SUM(AU8601:BF8601)=0,\"-\",AVERAGEIF(AT7780:AT8451,$G8601,CA7780:CA8451))","v":"-"},{"$f":"IFERROR(IF(SUM(AU8601:BF8601)=0,\"-\",AVERAGEIF(AT7780:AT8451,AT8601,CB7780:CB8451)), \"-\")","v":"-"},"-","-",null,"7 Day Ave","13:15:00",{"$f":"IF(AND(CH7833=\"-\",CH7929=\"-\",CH8025=\"-\",CH8121=\"-\",CH8217=\"-\",CH8313=\"-\",CH8409=\"-\"), \"-\", ROUND(AVERAGE(CH7833,CH7929,CH8025,CH8121,CH8217,CH8313,CH8409),0))","v":"-"},"-","-","-","-","-","-","-","-","-","-","-",{"$f":"IF(AND(CT7833=\"-\",CT7929=\"-\",CT8025=\"-\",CT8121=\"-\",CT8217=\"-\",CT8313=\"-\",CT8409=\"-\"), \"-\", IF(SUM($CH8601:$CS8601)=0, 0, ROUND(AVERAGE(CT7833,CT7929,CT8025,CT8121,CT8217,CT8313,CT8409),0)))","v":"-"},"-","-","-","-","-","-","-","-","-","-","-","-","-","-","-","-","-","-","-","-","-","-","-","-","-","-","-","-","-","-","-","-","-","-","-","-","-","-","-","-","-"]
[{"$error":"#N/A"},"7-Day Average",{"$f":"INDEX(Input_Details!$H$5:$H$24, MATCH($A8602, Input_Details!$J$5:$J$24, 0), 0)","v":{"$error":"#N/A"}},{"$f":"INDEX(Input_Details!$I$5:$I$24, MATCH($A8602, Input_Details!$J$5:$J$24, 0), 0)","v":{"$error":"#N/A"}},{"$f":"INDEX(Input_Details!$K$5:$K$24, MATCH($A8602, Input_Details!$J$5:$J$24, 0), 0)","v":{"$error":"#N/A"}},"7 Day Ave","13:30:00",{"$f":"IF(AND(H7834=\"\",H7930=\"\",H8026=\"\",H8122=\"\",H8218=\"\",H8314=\"\",H8410=\"\"), \"-\", IF(H7834+H7930+H8026+H8122+H8218+H8314+H8410=0,0,AVERAGE(H7834,H7930,H8026,H8122,H8218,H8314,H8410)))","v":"-"},"-","-","-","-","-","-","-","-","-","-","-",{"$f":"IF(AND(T7834=\"\",T7930=\"\",T8026=\"\",T8122=\"\",T8218=\"\",T8314=\"\",T8410=\"\"), \"-\", IF(SUM($H8602:$S8602)=0, 0, IF(T7834+T7930+T8026+T8122+T8218+T8314+T8410=0,0,AVERAGE(T7834,T7930,T8026,T8122,T8218,T8314,T8410))))","v":"-"},"-","-","-","-","-","-","-","-","-","-","-","-","-","-","-","-","-","-","-",{"$f":"IF(SUM(H8602:S8602)=0,\"-\",AVERAGEIF(G7780:G8451,$G8602,AN7780:AN8451))","v":"-"},{"$f":"IFERROR(IF(SUM(H8602:S8602)=0,\"-\",AVERAGEIF(G7780:G8451,G8602,AO7780:AO8451)), \"-\")","v":"-"},"-","-",{"$f":"INDEX(Input_Details!$L$5:$L$24, MATCH($A8602, Input_Details!$J$5:$J$24, 0), 0)","v":{"$error":"#N/A"}},"7 Day Ave","13:30:00",{"$f":"IF(AND(AU7834=\"\",AU7930=\"\",AU8026=\"\",AU8122=\"\",AU8218=\"\",AU8314=\"\",AU8410=\"\"), \"-\", IF(AU7834+AU7930+AU8026+AU8122+AU8218+AU8314+AU8410=0,0,AVERAGE(AU7834,AU7930,AU8026,AU8122,AU8218,AU8314,AU8410)))","v":"-"},"-","-","-","-","-","-","-","-","-","-","-",{"$f":"IF(AND(BG7834=\"\",BG7930=\"\",BG8026=\"\",BG8122=\"\",BG8218=\"\",BG8314=\"\",BG8410=\"\"), \"-\", IF(SUM($AU8602:$BF8602)=0, 0, IF(BG7834+BG7930+BG8026+BG8122+BG8218+BG8314+BG8410=0,0,AVERAGE(BG7834,BG7930,BG8026,BG8122,BG8218,BG8314,BG8410))))","v":"-"},"-","-","-","-","-","-","-","-","-","-","-","-","-","-","-","-","-","-","-",{"$f":"IF(SUM(AU8602:BF8602)=0,\"-\",AVERAGEIF(AT7780:AT8451,$G8602,CA7780:CA8451))","v":"-"},{"$f":"IFERROR(IF(SUM(AU8602:BF8602)=0,\"-\",AVERAGEIF(AT7780:AT8451,AT8602,CB7780:CB8451)), \"-\")","v":"-"},"-","-",null,"7 Day Ave","13:30:00",{"$f":"IF(AND(CH7834=\"-\",CH7930=\"-\",CH8026=\"-\",CH8122=\"-\",CH8218=\"-\",CH8314=\"-\",CH8410=\"-\"), \"-\", ROUND(AVERAGE(CH7834,CH7930,CH8026,CH8122,CH8218,CH8314,CH8410),0))","v":"-"},"-","-","-","-","-","-","-","-","-","-","-",{"$f":"IF(AND(CT7834=\"-\",CT7930=\"-\",CT8026=\"-\",CT8122=\"-\",CT8218=\"-\",CT8314=\"-\",CT8410=\"-\"), \"-\", IF(SUM($CH8602:$CS8602)=0, 0, ROUND(AVERAGE(CT7834,CT7930,CT8026,CT8122,CT8218,CT8314,CT8410),0)))","v":"-"},"-","-","-","-","-","-","-","-","-","-","-","-","-","-","-","-","-","-","-","-","-","-","-","-","-","-","-","-","-","-","-","-","-","-","-","-","-","-","-","-","-"]
[{"$error":"#N/A"},"7-Day Average",{"$f":"INDEX(Input_Details!$H$5:$H$24, MATCH($A8603, Input_Details!$J$5:$J$24, 0), 0)","v":{"$error":"#N/A"}},{"$f":"INDEX(Input_Details!$I$5:$I$24, MATCH($A8603, Input_Details!$J$5:$J$24, 0), 0)","v":{"$error":"#N/A"}},{"$f":"INDEX(Input_Details!$K$5:$K$24, MATCH($A8603, Input_Details!$J$5:$J$24, 0), 0)","v":{"$error":"#N/A"}},"7 Day Ave","13:45:00",{"$f":"IF(AND(H7835=\"\",H7931=\"\",H8027=\"\",H8123=\"\",H8219=\"\",H8315=\"\",H8411=\"\"), \"-\", IF(H7835+H7931+H8027+H8123+H8219+H8315+H8411=0,0,AVERAGE(H7835,H7931,H8027,H8123,H8219,H8315,H8411)))","v":"-"},"-","-","-","-","-","-","-","-","-","-","-",{"$f":"IF(AND(T7835=\"\",T7931=\"\",T8027=\"\",T8123=\"\",T8219=\"\",T8315=\"\",T8411=\"\"), \"-\", IF(SUM($H8603:$S8603)=0, 0, IF(T7835+T7931+T8027+T8123+T8219+T8315+T8411=0,0,AVERAGE(T7835,T7931,T8027,T8123,T8219,T8315,T8411))))","v":"-"},"-","-","-","-","-","-","-","-","-","-","-","-","-","-","-","-","-","-","-",{"$f":"IF(SUM(H8603:S8603)=0,\"-\",AVERAGEIF(G7780:G8451,$G8603,AN7780:AN8451))","v":"-"},{"$f":"IFERROR(IF(SUM(H8603:S8603)=0,\"-\",AVERAGEIF(G7780:G8451,G8603,AO7780:AO8451)), \"-\")","v":"-"},"-","-",{"$f":"INDEX(Input_Details!$L$5:$L$24, MATCH($A8603, Input_Details!$J$5:$J$24, 0), 0)","v":{"$error":"#N/A"}},"7 Day Ave","13:45:00",{"$f":"IF(AND(AU7835=\"\",AU7931=\"\",AU8027=\"\",AU8123=\"\",AU8219=\"\",AU8315=\"\",AU8411=\"\"), \"-\", IF(AU7835+AU7931+AU8027+AU8123+AU8219+AU8315+AU8411=0,0,AVERAGE(AU7835,AU7931,AU8027,AU8123,AU8219,AU8315,AU8411)))","v":"-"},"-","-","-","-","-","-","-","-","-","-","-",{"$f":"IF(AND(BG7835=\"\",BG7931=\"\",BG8027=\"\",BG8123=\"\",BG8219=\"\",BG8315=\"\",BG8411=\"\"), \"-\", IF(SUM($AU8603:$BF8603)=0, 0, IF(BG7835+BG7931+BG8027+BG8123+BG8219+BG8315+BG8411=0,0,AVERAGE(BG7835,BG7931,BG8027,BG8123,BG8219,BG8315,BG8411))))","v":"-"},"-","-","-","-","-","-","-","-","-","-","-","-","-","-","-","-","-","-","-",{"$f":"IF(SUM(AU8603:BF8603)=0,\"-\",AVERAGEIF(AT7780:AT8451,$G8603,CA7780:CA8451))","v":"-"},{"$f":"IFERROR(IF(SUM(AU8603:BF8603)=0,\"-\",AVERAGEIF(AT7780:AT8451,AT8603,CB7780:CB8451)), \"-\")","v":"-"},"-","-",null,"7 Day Ave","13:45:00",{"$f":"IF(AND(CH7835=\"-\",CH7931=\"-\",CH8027=\"-\",CH8123=\"-\",CH8219=\"-\",CH8315=\"-\",CH8411=\"-\"), \"-\", ROUND(AVERAGE(CH7835,CH7931,CH8027,CH8123,CH8219,CH8315,CH8411),0))","v":"-"},"-","-","-","-","-","-","-","-","-","-","-",{"$f":"IF(AND(CT7835=\"-\",CT7931=\"-\",CT8027=\"-\",CT8123=\"-\",CT8219=\"-\",CT8315=\"-\",CT8411=\"-\"), \"-\", IF(SUM($CH8603:$CS8603)=0, 0, ROUND(AVERAGE(CT7835,CT7931,CT8027,CT8123,CT8219,CT8315,CT8411),0)))","v":"-"},"-","-","-","-","-","-","-","-","-","-","-","-","-","-","-","-","-","-","-","-","-","-","-","-","-","-","-","-","-","-","-","-","-","-","-","-","-","-","-","-","-"]
[{"$error":"#N/A"},"7-Day Average",{"$f":"INDEX(Input_Details!$H$5:$H$24, MATCH($A8604, Input_Details!$J$5:$J$24, 0), 0)","v":{"$error":"#N/A"}},{"$f":"INDEX(Input_Details!$I$5:$I$24, MATCH($A8604, Input_Details!$J$5:$J$24, 0), 0)","v":{"$error":"#N/A"}},{"$f":"INDEX(Input_Details!$K$5:$K$24, MATCH($A8604, Input_Details!$J$5:$J$24, 0), 0)","v":{"$error":"#N/A"}},"7 Day Ave","14:00:00",{"$f":"IF(AND(H7836=\"\",H7932=\"\",H8028=\"\",H8124=\"\",H8220=\"\",H8316=\"\",H8412=\"\"), \"-\", IF(H7836+H7932+H8028+H8124+H8220+H8316+H8412=0,0,AVERAGE(H7836,H7932,H8028,H8124,H8220,H8316,H8412)))","v":"-"},"-","-","-","-","-","-","-","-","-","-","-",{"$f":"IF(AND(T7836=\"\",T7932=\"\",T8028=\"\",T8124=\"\",T8220=\"\",T8316=\"\",T8412=\"\"), \"-\", IF(SUM($H8604:$S8604)=0, 0, IF(T7836+T7932+T8028+T8124+T8220+T8316+T8412=0,0,AVERAGE(T7836,T7932,T8028,T8124,T8220,T8316,T8412))))","v":"-"},"-","-","-","-","-","-","-","-","-","-","-","-","-","-","-","-","-","-","-",{"$f":"IF(SUM(H8604:S8604)=0,\"-\",AVERAGEIF(G7780:G8451,$G8604,AN7780:AN8451))","v":"-"},{"$f":"IFERROR(IF(SUM(H8604:S8604)=0,\"-\",AVERAGEIF(G7780:G8451,G8604,AO7780:AO8451)), \"-\")","v":"-"},"-","-",{"$f":"INDEX(Input_Details!$L$5:$L$24, MATCH($A8604, Input_Details!$J$5:$J$24, 0), 0)","v":{"$error":"#N/A"}},"7 Day Ave","14:00:00",{"$f":"IF(AND(AU7836=\"\",AU7932=\"\",AU8028=\"\",AU8124=\"\",AU8220=\"\",AU8316=\"\",AU8412=\"\"), \"-\", IF(AU7836+AU7932+AU8028+AU8124+AU8220+AU8316+AU8412=0,0,AVERAGE(AU7836,AU7932,AU8028,AU8124,AU8220,AU8316,AU8412)))","v":"-"},"-","-","-","-","-","-","-","-","-","-","-",{"$f":"IF(AND(BG7836=\"\",BG7932=\"\",BG8028=\"\",BG8124=\"\",BG8220=\"\",BG8316=\"\",BG8412=\"\"), \"-\", IF(SUM($AU8604:$BF8604)=0, 0, IF(BG7836+BG7932+BG8028+BG8124+BG8220+BG8316+BG8412=0,0,AVERAGE(BG7836,BG7932,BG8028,BG8124,BG8220,BG8316,BG8412))))","v":"-"},"-","-","-","-","-","-","-","-","-","-","-","-","-","-","-","-","-","-","-",{"$f":"IF(SUM(AU8604:BF8604)=0,\"-\",AVERAGEIF(AT7780:AT8451,$G8604,CA7780:CA8451))","v":"-"},{"$f":"IFERROR(IF(SUM(AU8604:BF8604)=0,\"-\",AVERAGEIF(AT7780:AT8451,AT8604,CB7780:CB8451)), \"-\")","v":"-"},"-","-",null,"7 Day Ave","14:00:00",{"$f":"IF(AND(CH7836=\"-\",CH7932=\"-\",CH8028=\"-\",CH8124=\"-\",CH8220=\"-\",CH8316=\"-\",CH8412=\"-\"), \"-\", ROUND(AVERAGE(CH7836,CH7932,CH8028,CH8124,CH8220,CH8316,CH8412),0))","v":"-"},"-","-","-","-","-","-","-","-","-","-","-",{"$f":"IF(AND(CT7836=\"-\",CT7932=\"-\",CT8028=\"-\",CT8124=\"-\",CT8220=\"-\",CT8316=\"-\",CT8412=\"-\"), \"-\", IF(SUM($CH8604:$CS8604)=0, 0, ROUND(AVERAGE(CT7836,CT7932,CT8028,CT8124,CT8220,CT8316,CT8412),0)))","v":"-"},"-","-","-","-","-","-","-","-","-","-","-","-","-","-","-","-","-","-","-","-","-","-","-","-","-","-","-","-","-","-","-","-","-","-","-","-","-","-","-","-","-"]
[{"$error":"#N/A"},"7-Day Average",{"$f":"INDEX(Input_Details!$H$5:$H$24, MATCH($A8605, Input_Details!$J$5:$J$24, 0), 0)","v":{"$error":"#N/A"}},{"$f":"INDEX(Input_Details!$I$5:$I$24, MATCH($A8605, Input_Details!$J$5:$J$24, 0), 0)","v":{"$error":"#N/A"}},{"$f":"INDEX(Input_Details!$K$5:$K$24, MATCH($A8605, Input_Details!$J$5:$J$24, 0), 0)","v":{"$error":"#N/A"}},"7 Day Ave","14:15:00",{"$f":"IF(AND(H7837=\"\",H7933=\"\",H8029=\"\",H8125=\"\",H8221=\"\",H8317=\"\",H8413=\"\"), \"-\", IF(H7837+H7933+H8029+H8125+H8221+H8317+H8413=0,0,AVERAGE(H7837,H7933,H8029,H8125,H8221,H8317,H8413)))","v":"-"},"-","-","-","-","-","-","-","-","-","-","-",{"$f":"IF(AND(T7837=\"\",T7933=\"\",T8029=\"\",T8125=\"\",T8221=\"\",T8317=\"\",T8413=\"\"), \"-\", IF(SUM($H8605:$S8605)=0, 0, IF(T7837+T7933+T8029+T8125+T8221+T8317+T8413=0,0,AVERAGE(T7837,T7933,T8029,T8125,T8221,T8317,T8413))))","v":"-"},"-","-","-","-","-","-","-","-","-","-","-","-","-","-","-","-","-","-","-",{"$f":"IF(SUM(H8605:S8605)=0,\"-\",AVERAGEIF(G7780:G8451,$G8605,AN7780:AN8451))","v":"-"},{"$f":"IFERROR(IF(SUM(H8605:S8605)=0,\"-\",AVERAGEIF(G7780:G8451,G8605,AO7780:AO8451)), \"-\")","v":"-"},"-","-",{"$f":"INDEX(Input_Details!$L$5:$L$24, MATCH($A8605, Input_Details!$J$5:$J$24, 0), 0)","v":{"$error":"#N/A"}},"7 Day Ave","14:15:00",{"$f":"IF(AND(AU7837=\"\",AU7933=\"\",AU8029=\"\",AU8125=\"\",AU8221=\"\",AU8317=\"\",AU8413=\"\"), \"-\", IF(AU7837+AU7933+AU8029+AU8125+AU8221+AU8317+AU8413=0,0,AVERAGE(AU7837,AU7933,AU8029,AU8125,AU8221,AU8317,AU8413)))","v":"-"},"-","-","-","-","-","-","-","-","-","-","-",{"$f":"IF(AND(BG7837=\"\",BG7933=\"\",BG8029=\"\",BG8125=\"\",BG8221=\"\",BG8317=\"\",BG8413=\"\"), \"-\", IF(SUM($AU8605:$BF8605)=0, 0, IF(BG7837+BG7933+BG8029+BG8125+BG8221+BG8317+BG8413=0,0,AVERAGE(BG7837,BG7933,BG8029,BG8125,BG8221,BG8317,BG8413))))","v":"-"},"-","-","-","-","-","-","-","-","-","-","-","-","-","-","-","-","-","-","-",{"$f":"IF(SUM(AU8605:BF8605)=0,\"-\",AVERAGEIF(AT7780:AT8451,$G8605,CA7780:CA8451))","v":"-"},{"$f":"IFERROR(IF(SUM(AU8605:BF8605)=0,\"-\",AVERAGEIF(AT7780:AT8451,AT8605,CB7780:CB8451)), \"-\")","v":"-"},"-","-",null,"7 Day Ave","14:15:00",{"$f":"IF(AND(CH7837=\"-\",CH7933=\"-\",CH8029=\"-\",CH8125=\"-\",CH8221=\"-\",CH8317=\"-\",CH8413=\"-\"), \"-\", ROUND(AVERAGE(CH7837,CH7933,CH8029,CH8125,CH8221,CH8317,CH8413),0))","v":"-"},"-","-","-","-","-","-","-","-","-","-","-",{"$f":"IF(AND(CT7837=\"-\",CT7933=\"-\",CT8029=\"-\",CT8125=\"-\",CT8221=\"-\",CT8317=\"-\",CT8413=\"-\"), \"-\", IF(SUM($CH8605:$CS8605)=0, 0, ROUND(AVERAGE(CT7837,CT7933,CT8029,CT8125,CT8221,CT8317,CT8413),0)))","v":"-"},"-","-","-","-","-","-","-","-","-","-","-","-","-","-","-","-","-","-","-","-","-","-","-","-","-","-","-","-","-","-","-","-","-","-","-","-","-","-","-","-","-"]
[{"$error":"#N/A"},"7-Day Average",{"$f":"INDEX(Input_Details!$H$5:$H$24, MATCH($A8606, Input_Details!$J$5:$J$24, 0), 0)","v":{"$error":"#N/A"}},{"$f":"INDEX(Input_Details!$I$5:$I$24, MATCH($A8606, Input_Details!$J$5:$J$24, 0), 0)","v":{"$error":"#N/A"}},{"$f":"INDEX(Input_Details!$K$5:$K$24, MATCH($A8606, Input_Details!$J$5:$J$24, 0), 0)","v":{"$error":"#N/A"}},"7 Day Ave","14:30:00",{"$f":"IF(AND(H7838=\"\",H7934=\"\",H8030=\"\",H8126=\"\",H8222=\"\",H8318=\"\",H8414=\"\"), \"-\", IF(H7838+H7934+H8030+H8126+H8222+H8318+H8414=0,0,AVERAGE(H7838,H7934,H8030,H8126,H8222,H8318,H8414)))","v":"-"},"-","-","-","-","-","-","-","-","-","-","-",{"$f":"IF(AND(T7838=\"\",T7934=\"\",T8030=\"\",T8126=\"\",T8222=\"\",T8318=\"\",T8414=\"\"), \"-\", IF(SUM($H8606:$S8606)=0, 0, IF(T7838+T7934+T8030+T8126+T8222+T8318+T8414=0,0,AVERAGE(T7838,T7934,T8030,T8126,T8222,T8318,T8414))))","v":"-"},"-","-","-","-","-","-","-","-","-","-","-","-","-","-","-","-","-","-","-",{"$f":"IF(SUM(H8606:S8606)=0,\"-\",AVERAGEIF(G7780:G8451,$G8606,AN7780:AN8451))","v":"-"},{"$f":"IFERROR(IF(SUM(H8606:S8606)=0,\"-\",AVERAGEIF(G7780:G8451,G8606,AO7780:AO8451)), \"-\")","v":"-"},"-","-",{"$f":"INDEX(Input_Details!$L$5:$L$24, MATCH($A8606, Input_Details!$J$5:$J$24, 0), 0)","v":{"$error":"#N/A"}},"7 Day Ave","14:30:00",{"$f":"IF(AND(AU7838=\"\",AU7934=\"\",AU8030=\"\",AU8126=\"\",AU8222=\"\",AU8318=\"\",AU8414=\"\"), \"-\", IF(AU7838+AU7934+AU8030+AU8126+AU8222+AU8318+AU8414=0,0,AVERAGE(AU7838,AU7934,AU8030,AU8126,AU8222,AU8318,AU8414)))","v":"-"},"-","-","-","-","-","-","-","-","-","-","-",{"$f":"IF(AND(BG7838=\"\",BG7934=\"\",BG8030=\"\",BG8126=\"\",BG8222=\"\",BG8318=\"\",BG8414=\"\"), \"-\", IF(SUM($AU8606:$BF8606)=0, 0, IF(BG7838+BG7934+BG8030+BG8126+BG8222+BG8318+BG8414=0,0,AVERAGE(BG7838,BG7934,BG8030,BG8126,BG8222,BG8318,BG8414))))","v":"-"},"-","-","-","-","-","-","-","-","-","-","-","-","-","-","-","-","-","-","-",{"$f":"IF(SUM(AU8606:BF8606)=0,\"-\",AVERAGEIF(AT7780:AT8451,$G8606,CA7780:CA8451))","v":"-"},{"$f":"IFERROR(IF(SUM(AU8606:BF8606)=0,\"-\",AVERAGEIF(AT7780:AT8451,AT8606,CB7780:CB8451)), \"-\")","v":"-"},"-","-",null,"7 Day Ave","14:30:00",{"$f":"IF(AND(CH7838=\"-\",CH7934=\"-\",CH8030=\"-\",CH8126=\"-\",CH8222=\"-\",CH8318=\"-\",CH8414=\"-\"), \"-\", ROUND(AVERAGE(CH7838,CH7934,CH8030,CH8126,CH8222,CH8318,CH8414),0))","v":"-"},"-","-","-","-","-","-","-","-","-","-","-",{"$f":"IF(AND(CT7838=\"-\",CT7934=\"-\",CT8030=\"-\",CT8126=\"-\",CT8222=\"-\",CT8318=\"-\",CT8414=\"-\"), \"-\", IF(SUM($CH8606:$CS8606)=0, 0, ROUND(AVERAGE(CT7838,CT7934,CT8030,CT8126,CT8222,CT8318,CT8414),0)))","v":"-"},"-","-","-","-","-","-","-","-","-","-","-","-","-","-","-","-","-","-","-","-","-","-","-","-","-","-","-","-","-","-","-","-","-","-","-","-","-","-","-","-","-"]
[{"$error":"#N/A"},"7-Day Average",{"$f":"INDEX(Input_Details!$H$5:$H$24, MATCH($A8607, Input_Details!$J$5:$J$24, 0), 0)","v":{"$error":"#N/A"}},{"$f":"INDEX(Input_Details!$I$5:$I$24, MATCH($A8607, Input_Details!$J$5:$J$24, 0), 0)","v":{"$error":"#N/A"}},{"$f":"INDEX(Input_Details!$K$5:$K$24, MATCH($A8607, Input_Details!$J$5:$J$24, 0), 0)","v":{"$error":"#N/A"}},"7 Day Ave","14:45:00",{"$f":"IF(AND(H7839=\"\",H7935=\"\",H8031=\"\",H8127=\"\",H8223=\"\",H8319=\"\",H8415=\"\"), \"-\", IF(H7839+H7935+H8031+H8127+H8223+H8319+H8415=0,0,AVERAGE(H7839,H7935,H8031,H8127,H8223,H8319,H8415)))","v":"-"},"-","-","-","-","-","-","-","-","-","-","-",{"$f":"IF(AND(T7839=\"\",T7935=\"\",T8031=\"\",T8127=\"\",T8223=\"\",T8319=\"\",T8415=\"\"), \"-\", IF(SUM($H8607:$S8607)=0, 0, IF(T7839+T7935+T8031+T8127+T8223+T8319+T8415=0,0,AVERAGE(T7839,T7935,T8031,T8127,T8223,T8319,T8415))))","v":"-"},"-","-","-","-","-","-","-","-","-","-","-","-","-","-","-","-","-","-","-",{"$f":"IF(SUM(H8607:S8607)=0,\"-\",AVERAGEIF(G7780:G8451,$G8607,AN7780:AN8451))","v":"-"},{"$f":"IFERROR(IF(SUM(H8607:S8607)=0,\"-\",AVERAGEIF(G7780:G8451,G8607,AO7780:AO8451)), \"-\")","v":"-"},"-","-",{"$f":"INDEX(Input_Details!$L$5:$L$24, MATCH($A8607, Input_Details!$J$5:$J$24, 0), 0)","v":{"$error":"#N/A"}},"7 Day Ave","14:45:00",{"$f":"IF(AND(AU7839=\"\",AU7935=\"\",AU8031=\"\",AU8127=\"\",AU8223=\"\",AU8319=\"\",AU8415=\"\"), \"-\", IF(AU7839+AU7935+AU8031+AU8127+AU8223+AU8319+AU8415=0,0,AVERAGE(AU7839,AU7935,AU8031,AU8127,AU8223,AU8319,AU8415)))","v":"-"},"-","-","-","-","-","-","-","-","-","-","-",{"$f":"IF(AND(BG7839=\"\",BG7935=\"\",BG8031=\"\",BG8127=\"\",BG8223=\"\",BG8319=\"\",BG8415=\"\"), \"-\", IF(SUM($AU8607:$BF8607)=0, 0, IF(BG7839+BG7935+BG8031+BG8127+BG8223+BG8319+BG8415=0,0,AVERAGE(BG7839,BG7935,BG8031,BG8127,BG8223,BG8319,BG8415))))","v":"-"},"-","-","-","-","-","-","-","-","-","-","-","-","-","-","-","-","-","-","-",{"$f":"IF(SUM(AU8607:BF8607)=0,\"-\",AVERAGEIF(AT7780:AT8451,$G8607,CA7780:CA8451))","v":"-"},{"$f":"IFERROR(IF(SUM(AU8607:BF8607)=0,\"-\",AVERAGEIF(AT7780:AT8451,AT8607,CB7780:CB8451)), \"-\")","v":"-"},"-","-",null,"7 Day Ave","14:45:00",{"$f":"IF(AND(CH7839=\"-\",CH7935=\"-\",CH8031=\"-\",CH8127=\"-\",CH8223=\"-\",CH8319=\"-\",CH8415=\"-\"), \"-\", ROUND(AVERAGE(CH7839,CH7935,CH8031,CH8127,CH8223,CH8319,CH8415),0))","v":"-"},"-","-","-","-","-","-","-","-","-","-","-",{"$f":"IF(AND(CT7839=\"-\",CT7935=\"-\",CT8031=\"-\",CT8127=\"-\",CT8223=\"-\",CT8319=\"-\",CT8415=\"-\"), \"-\", IF(SUM($CH8607:$CS8607)=0, 0, ROUND(AVERAGE(CT7839,CT7935,CT8031,CT8127,CT8223,CT8319,CT8415),0)))","v":"-"},"-","-","-","-","-","-","-","-","-","-","-","-","-","-","-","-","-","-","-","-","-","-","-","-","-","-","-","-","-","-","-","-","-","-","-","-","-","-","-","-","-"]
[{"$error":"#N/A"},"7-Day Average",{"$f":"INDEX(Input_Details!$H$5:$H$24, MATCH($A8608, Input_Details!$J$5:$J$24, 0), 0)","v":{"$error":"#N/A"}},{"$f":"INDEX(Input_Details!$I$5:$I$24, MATCH($A8608, Input_Details!$J$5:$J$24, 0), 0)","v":{"$error":"#N/A"}},{"$f":"INDEX(Input_Details!$K$5:$K$24, MATCH($A8608, Input_Details!$J$5:$J$24, 0), 0)","v":{"$error":"#N/A"}},"7 Day Ave","15:00:00",{"$f":"IF(AND(H7840=\"\",H7936=\"\",H8032=\"\",H8128=\"\",H8224=\"\",H8320=\"\",H8416=\"\"), \"-\", IF(H7840+H7936+H8032+H8128+H8224+H8320+H8416=0,0,AVERAGE(H7840,H7936,H8032,H8128,H8224,H8320,H8416)))","v":"-"},"-","-","-","-","-","-","-","-","-","-","-",{"$f":"IF(AND(T7840=\"\",T7936=\"\",T8032=\"\",T8128=\"\",T8224=\"\",T8320=\"\",T8416=\"\"), \"-\", IF(SUM($H8608:$S8608)=0, 0, IF(T7840+T7936+T8032+T8128+T8224+T8320+T8416=0,0,AVERAGE(T7840,T7936,T8032,T8128,T8224,T8320,T8416))))","v":"-"},"-","-","-","-","-","-","-","-","-","-","-","-","-","-","-","-","-","-","-",{"$f":"IF(SUM(H8608:S8608)=0,\"-\",AVERAGEIF(G7780:G8451,$G8608,AN7780:AN8451))","v":"-"},{"$f":"IFERROR(IF(SUM(H8608:S8608)=0,\"-\",AVERAGEIF(G7780:G8451,G8608,AO7780:AO8451)), \"-\")","v":"-"},"-","-",{"$f":"INDEX(Input_Details!$L$5:$L$24, MATCH($A8608, Input_Details!$J$5:$J$24, 0), 0)","v":{"$error":"#N/A"}},"7 Day Ave","15:00:00",{"$f":"IF(AND(AU7840=\"\",AU7936=\"\",AU8032=\"\",AU8128=\"\",AU8224=\"\",AU8320=\"\",AU8416=\"\"), \"-\", IF(AU7840+AU7936+AU8032+AU8128+AU8224+AU8320+AU8416=0,0,AVERAGE(AU7840,AU7936,AU8032,AU8128,AU8224,AU8320,AU8416)))","v":"-"},"-","-","-","-","-","-","-","-","-","-","-",{"$f":"IF(AND(BG7840=\"\",BG7936=\"\",BG8032=\"\",BG8128=\"\",BG8224=\"\",BG8320=\"\",BG8416=\"\"), \"-\", IF(SUM($AU8608:$BF8608)=0, 0, IF(BG7840+BG7936+BG8032+BG8128+BG8224+BG8320+BG8416=0,0,AVERAGE(BG7840,BG7936,BG8032,BG8128,BG8224,BG8320,BG8416))))","v":"-"},"-","-","-","-","-","-","-","-","-","-","-","-","-","-","-","-","-","-","-",{"$f":"IF(SUM(AU8608:BF8608)=0,\"-\",AVERAGEIF(AT7780:AT8451,$G8608,CA7780:CA8451))","v":"-"},{"$f":"IFERROR(IF(SUM(AU8608:BF8608)=0,\"-\",AVERAGEIF(AT7780:AT8451,AT8608,CB7780:CB8451)), \"-\")","v":"-"},"-","-",null,"7 Day Ave","15:00:00",{"$f":"IF(AND(CH7840=\"-\",CH7936=\"-\",CH8032=\"-\",CH8128=\"-\",CH8224=\"-\",CH8320=\"-\",CH8416=\"-\"), \"-\", ROUND(AVERAGE(CH7840,CH7936,CH8032,CH8128,CH8224,CH8320,CH8416),0))","v":"-"},"-","-","-","-","-","-","-","-","-","-","-",{"$f":"IF(AND(CT7840=\"-\",CT7936=\"-\",CT8032=\"-\",CT8128=\"-\",CT8224=\"-\",CT8320=\"-\",CT8416=\"-\"), \"-\", IF(SUM($CH8608:$CS8608)=0, 0, ROUND(AVERAGE(CT7840,CT7936,CT8032,CT8128,CT8224,CT8320,CT8416),0)))","v":"-"},"-","-","-","-","-","-","-","-","-","-","-","-","-","-","-","-","-","-","-","-","-","-","-","-","-","-","-","-","-","-","-","-","-","-","-","-","-","-","-","-","-"]
[{"$error":"#N/A"},"7-Day Average",{"$f":"INDEX(Input_Details!$H$5:$H$24, MATCH($A8609, Input_Details!$J$5:$J$24, 0), 0)","v":{"$error":"#N/A"}},{"$f":"INDEX(Input_Details!$I$5:$I$24, MATCH($A8609, Input_Details!$J$5:$J$24, 0), 0)","v":{"$error":"#N/A"}},{"$f":"INDEX(Input_Details!$K$5:$K$24, MATCH($A8609, Input_Details!$J$5:$J$24, 0), 0)","v":{"$error":"#N/A"}},"7 Day Ave","15:15:00",{"$f":"IF(AND(H7841=\"\",H7937=\"\",H8033=\"\",H8129=\"\",H8225=\"\",H8321=\"\",H8417=\"\"), \"-\", IF(H7841+H7937+H8033+H8129+H8225+H8321+H8417=0,0,AVERAGE(H7841,H7937,H8033,H8129,H8225,H8321,H8417)))","v":"-"},"-","-","-","-","-","-","-","-","-","-","-",{"$f":"IF(AND(T7841=\"\",T7937=\"\",T8033=\"\",T8129=\"\",T8225=\"\",T8321=\"\",T8417=\"\"), \"-\", IF(SUM($H8609:$S8609)=0, 0, IF(T7841+T7937+T8033+T8129+T8225+T8321+T8417=0,0,AVERAGE(T7841,T7937,T8033,T8129,T8225,T8321,T8417))))","v":"-"},"-","-","-","-","-","-","-","-","-","-","-","-","-","-","-","-","-","-","-",{"$f":"IF(SUM(H8609:S8609)=0,\"-\",AVERAGEIF(G7780:G8451,$G8609,AN7780:AN8451))","v":"-"},{"$f":"IFERROR(IF(SUM(H8609:S8609)=0,\"-\",AVERAGEIF(G7780:G8451,G8609,AO7780:AO8451)), \"-\")","v":"-"},"-","-",{"$f":"INDEX(Input_Details!$L$5:$L$24, MATCH($A8609, Input_Details!$J$5:$J$24, 0), 0)","v":{"$error":"#N/A"}},"7 Day Ave","15:15:00",{"$f":"IF(AND(AU7841=\"\",AU7937=\"\",AU8033=\"\",AU8129=\"\",AU8225=\"\",AU8321=\"\",AU8417=\"\"), \"-\", IF(AU7841+AU7937+AU8033+AU8129+AU8225+AU8321+AU8417=0,0,AVERAGE(AU7841,AU7937,AU8033,AU8129,AU8225,AU8321,AU8417)))","v":"-"},"-","-","-","-","-","-","-","-","-","-","-",{"$f":"IF(AND(BG7841=\"\",BG7937=\"\",BG8033=\"\",BG8129=\"\",BG8225=\"\",BG8321=\"\",BG8417=\"\"), \"-\", IF(SUM($AU8609:$BF8609)=0, 0, IF(BG7841+BG7937+BG8033+BG8129+BG8225+BG8321+BG8417=0,0,AVERAGE(BG7841,BG7937,BG8033,BG8129,BG8225,BG8321,BG8417))))","v":"-"},"-","-","-","-","-","-","-","-","-","-","-","-","-","-","-","-","-","-","-",{"$f":"IF(SUM(AU8609:BF8609)=0,\"-\",AVERAGEIF(AT7780:AT8451,$G8609,CA7780:CA8451))","v":"-"},{"$f":"IFERROR(IF(SUM(AU8609:BF8609)=0,\"-\",AVERAGEIF(AT7780:AT8451,AT8609,CB7780:CB8451)), \"-\")","v":"-"},"-","-",null,"7 Day Ave","15:15:00",{"$f":"IF(AND(CH7841=\"-\",CH7937=\"-\",CH8033=\"-\",CH8129=\"-\",CH8225=\"-\",CH8321=\"-\",CH8417=\"-\"), \"-\", ROUND(AVERAGE(CH7841,CH7937,CH8033,CH8129,CH8225,CH8321,CH8417),0))","v":"-"},"-","-","-","-","-","-","-","-","-","-","-",{"$f":"IF(AND(CT7841=\"-\",CT7937=\"-\",CT8033=\"-\",CT8129=\"-\",CT8225=\"-\",CT8321=\"-\",CT8417=\"-\"), \"-\", IF(SUM($CH8609:$CS8609)=0, 0, ROUND(AVERAGE(CT7841,CT7937,CT8033,CT8129,CT8225,CT8321,CT8417),0)))","v":"-"},"-","-","-","-","-","-","-","-","-","-","-","-","-","-","-","-","-","-","-","-","-","-","-","-","-","-","-","-","-","-","-","-","-","-","-","-","-","-","-","-","-"]
[{"$error":"#N/A"},"7-Day Average",{"$f":"INDEX(Input_Details!$H$5:$H$24, MATCH($A8610, Input_Details!$J$5:$J$24, 0), 0)","v":{"$error":"#N/A"}},{"$f":"INDEX(Input_Details!$I$5:$I$24, MATCH($A8610, Input_Details!$J$5:$J$24, 0), 0)","v":{"$error":"#N/A"}},{"$f":"INDEX(Input_Details!$K$5:$K$24, MATCH($A8610, Input_Details!$J$5:$J$24, 0), 0)","v":{"$error":"#N/A"}},"7 Day Ave","15:30:00",{"$f":"IF(AND(H7842=\"\",H7938=\"\",H8034=\"\",H8130=\"\",H8226=\"\",H8322=\"\",H8418=\"\"), \"-\", IF(H7842+H7938+H8034+H8130+H8226+H8322+H8418=0,0,AVERAGE(H7842,H7938,H8034,H8130,H8226,H8322,H8418)))","v":"-"},"-","-","-","-","-","-","-","-","-","-","-",{"$f":"IF(AND(T7842=\"\",T7938=\"\",T8034=\"\",T8130=\"\",T8226=\"\",T8322=\"\",T8418=\"\"), \"-\", IF(SUM($H8610:$S8610)=0, 0, IF(T7842+T7938+T8034+T8130+T8226+T8322+T8418=0,0,AVERAGE(T7842,T7938,T8034,T8130,T8226,T8322,T8418))))","v":"-"},"-","-","-","-","-","-","-","-","-","-","-","-","-","-","-","-","-","-","-",{"$f":"IF(SUM(H8610:S8610)=0,\"-\",AVERAGEIF(G7780:G8451,$G8610,AN7780:AN8451))","v":"-"},{"$f":"IFERROR(IF(SUM(H8610:S8610)=0,\"-\",AVERAGEIF(G7780:G8451,G8610,AO7780:AO8451)), \"-\")","v":"-"},"-","-",{"$f":"INDEX(Input_Details!$L$5:$L$24, MATCH($A8610, Input_Details!$J$5:$J$24, 0), 0)","v":{"$error":"#N/A"}},"7 Day Ave","15:30:00",{"$f":"IF(AND(AU7842=\"\",AU7938=\"\",AU8034=\"\",AU8130=\"\",AU8226=\"\",AU8322=\"\",AU8418=\"\"), \"-\", IF(AU7842+AU7938+AU8034+AU8130+AU8226+AU8322+AU8418=0,0,AVERAGE(AU7842,AU7938,AU8034,AU8130,AU8226,AU8322,AU8418)))","v":"-"},"-","-","-","-","-","-","-","-","-","-","-",{"$f":"IF(AND(BG7842=\"\",BG7938=\"\",BG8034=\"\",BG8130=\"\",BG8226=\"\",BG8322=\"\",BG8418=\"\"), \"-\", IF(SUM($AU8610:$BF8610)=0, 0, IF(BG7842+BG7938+BG8034+BG8130+BG8226+BG8322+BG8418=0,0,AVERAGE(BG7842,BG7938,BG8034,BG8130,BG8226,BG8322,BG8418))))","v":"-"},"-","-","-","-","-","-","-","-","-","-","-","-","-","-","-","-","-","-","-",{"$f":"IF(SUM(AU8610:BF8610)=0,\"-\",AVERAGEIF(AT7780:AT8451,$G8610,CA7780:CA8451))","v":"-"},{"$f":"IFERROR(IF(SUM(AU8610:BF8610)=0,\"-\",AVERAGEIF(AT7780:AT8451,AT8610,CB7780:CB8451)), \"-\")","v":"-"},"-","-",null,"7 Day Ave","15:30:00",{"$f":"IF(AND(CH7842=\"-\",CH7938=\"-\",CH8034=\"-\",CH8130=\"-\",CH8226=\"-\",CH8322=\"-\",CH8418=\"-\"), \"-\", ROUND(AVERAGE(CH7842,CH7938,CH8034,CH8130,CH8226,CH8322,CH8418),0))","v":"-"},"-","-","-","-","-","-","-","-","-","-","-",{"$f":"IF(AND(CT7842=\"-\",CT7938=\"-\",CT8034=\"-\",CT8130=\"-\",CT8226=\"-\",CT8322=\"-\",CT8418=\"-\"), \"-\", IF(SUM($CH8610:$CS8610)=0, 0, ROUND(AVERAGE(CT7842,CT7938,CT8034,CT8130,CT8226,CT8322,CT8418),0)))","v":"-"},"-","-","-","-","-","-","-","-","-","-","-","-","-","-","-","-","-","-","-","-","-","-","-","-","-","-","-","-","-","-","-","-","-","-","-","-","-","-","-","-","-"]
[{"$error":"#N/A"},"7-Day Average",{"$f":"INDEX(Input_Details!$H$5:$H$24, MATCH($A8611, Input_Details!$J$5:$J$24, 0), 0)","v":{"$error":"#N/A"}},{"$f":"INDEX(Input_Details!$I$5:$I$24, MATCH($A8611, Input_Details!$J$5:$J$24, 0), 0)","v":{"$error":"#N/A"}},{"$f":"INDEX(Input_Details!$K$5:$K$24, MATCH($A8611, Input_Details!$J$5:$J$24, 0), 0)","v":{"$error":"#N/A"}},"7 Day Ave","15:45:00",{"$f":"IF(AND(H7843=\"\",H7939=\"\",H8035=\"\",H8131=\"\",H8227=\"\",H8323=\"\",H8419=\"\"), \"-\", IF(H7843+H7939+H8035+H8131+H8227+H8323+H8419=0,0,AVERAGE(H7843,H7939,H8035,H8131,H8227,H8323,H8419)))","v":"-"},"-","-","-","-","-","-","-","-","-","-","-",{"$f":"IF(AND(T7843=\"\",T7939=\"\",T8035=\"\",T8131=\"\",T8227=\"\",T8323=\"\",T8419=\"\"), \"-\", IF(SUM($H8611:$S8611)=0, 0, IF(T7843+T7939+T8035+T8131+T8227+T8323+T8419=0,0,AVERAGE(T7843,T7939,T8035,T8131,T8227,T8323,T8419))))","v":"-"},"-","-","-","-","-","-","-","-","-","-","-","-","-","-","-","-","-","-","-",{"$f":"IF(SUM(H8611:S8611)=0,\"-\",AVERAGEIF(G7780:G8451,$G8611,AN7780:AN8451))","v":"-"},{"$f":"IFERROR(IF(SUM(H8611:S8611)=0,\"-\",AVERAGEIF(G7780:G8451,G8611,AO7780:AO8451)), \"-\")","v":"-"},"-","-",{"$f":"INDEX(Input_Details!$L$5:$L$24, MATCH($A8611, Input_Details!$J$5:$J$24, 0), 0)","v":{"$error":"#N/A"}},"7 Day Ave","15:45:00",{"$f":"IF(AND(AU7843=\"\",AU7939=\"\",AU8035=\"\",AU8131=\"\",AU8227=\"\",AU8323=\"\",AU8419=\"\"), \"-\", IF(AU7843+AU7939+AU8035+AU8131+AU8227+AU8323+AU8419=0,0,AVERAGE(AU7843,AU7939,AU8035,AU8131,AU8227,AU8323,AU8419)))","v":"-"},"-","-","-","-","-","-","-","-","-","-","-",{"$f":"IF(AND(BG7843=\"\",BG7939=\"\",BG8035=\"\",BG8131=\"\",BG8227=\"\",BG8323=\"\",BG8419=\"\"), \"-\", IF(SUM($AU8611:$BF8611)=0, 0, IF(BG7843+BG7939+BG8035+BG8131+BG8227+BG8323+BG8419=0,0,AVERAGE(BG7843,BG7939,BG8035,BG8131,BG8227,BG8323,BG8419))))","v":"-"},"-","-","-","-","-","-","-","-","-","-","-","-","-","-","-","-","-","-","-",{"$f":"IF(SUM(AU8611:BF8611)=0,\"-\",AVERAGEIF(AT7780:AT8451,$G8611,CA7780:CA8451))","v":"-"},{"$f":"IFERROR(IF(SUM(AU8611:BF8611)=0,\"-\",AVERAGEIF(AT7780:AT8451,AT8611,CB7780:CB8451)), \"-\")","v":"-"},"-","-",null,"7 Day Ave","15:45:00",{"$f":"IF(AND(CH7843=\"-\",CH7939=\"-\",CH8035=\"-\",CH8131=\"-\",CH8227=\"-\",CH8323=\"-\",CH8419=\"-\"), \"-\", ROUND(AVERAGE(CH7843,CH7939,CH8035,CH8131,CH8227,CH8323,CH8419),0))","v":"-"},"-","-","-","-","-","-","-","-","-","-","-",{"$f":"IF(AND(CT7843=\"-\",CT7939=\"-\",CT8035=\"-\",CT8131=\"-\",CT8227=\"-\",CT8323=\"-\",CT8419=\"-\"), \"-\", IF(SUM($CH8611:$CS8611)=0, 0, ROUND(AVERAGE(CT7843,CT7939,CT8035,CT8131,CT8227,CT8323,CT8419),0)))","v":"-"},"-","-","-","-","-","-","-","-","-","-","-","-","-","-","-","-","-","-","-","-","-","-","-","-","-","-","-","-","-","-","-","-","-","-","-","-","-","-","-","-","-"]
[{"$error":"#N/A"},"7-Day Average",{"$f":"INDEX(Input_Details!$H$5:$H$24, MATCH($A8612, Input_Details!$J$5:$J$24, 0), 0)","v":{"$error":"#N/A"}},{"$f":"INDEX(Input_Details!$I$5:$I$24, MATCH($A8612, Input_Details!$J$5:$J$24, 0), 0)","v":{"$error":"#N/A"}},{"$f":"INDEX(Input_Details!$K$5:$K$24, MATCH($A8612, Input_Details!$J$5:$J$24, 0), 0)","v":{"$error":"#N/A"}},"7 Day Ave","16:00:00",{"$f":"IF(AND(H7844=\"\",H7940=\"\",H8036=\"\",H8132=\"\",H8228=\"\",H8324=\"\",H8420=\"\"), \"-\", IF(H7844+H7940+H8036+H8132+H8228+H8324+H8420=0,0,AVERAGE(H7844,H7940,H8036,H8132,H8228,H8324,H8420)))","v":"-"},"-","-","-","-","-","-","-","-","-","-","-",{"$f":"IF(AND(T7844=\"\",T7940=\"\",T8036=\"\",T8132=\"\",T8228=\"\",T8324=\"\",T8420=\"\"), \"-\", IF(SUM($H8612:$S8612)=0, 0, IF(T7844+T7940+T8036+T8132+T8228+T8324+T8420=0,0,AVERAGE(T7844,T7940,T8036,T8132,T8228,T8324,T8420))))","v":"-"},"-","-","-","-","-","-","-","-","-","-","-","-","-","-","-","-","-","-","-",{"$f":"IF(SUM(H8612:S8612)=0,\"-\",AVERAGEIF(G7780:G8451,$G8612,AN7780:AN8451))","v":"-"},{"$f":"IFERROR(IF(SUM(H8612:S8612)=0,\"-\",AVERAGEIF(G7780:G8451,G8612,AO7780:AO8451)), \"-\")","v":"-"},{"$f":"IF(SUM(H8612:S8612)=0,\"-\",MIN(AP7844,AP7940,AP8036,AP8132,AP8228,AP8324,AP8420))","v":"-"},{"$f":"IF(SUM(H8612:S8612)=0,\"-\",MAX(AQ7844,AQ7940,AQ8036,AQ8132,AQ8228,AQ8324,AQ8420))","v":"-"},{"$f":"INDEX(Input_Details!$L$5:$L$24, MATCH($A8612, Input_Details!$J$5:$J$24, 0), 0)","v":{"$error":"#N/A"}},"7 Day Ave","16:00:00",{"$f":"IF(AND(AU7844=\"\",AU7940=\"\",AU8036=\"\",AU8132=\"\",AU8228=\"\",AU8324=\"\",AU8420=\"\"), \"-\", IF(AU7844+AU7940+AU8036+AU8132+AU8228+AU8324+AU8420=0,0,AVERAGE(AU7844,AU7940,AU8036,AU8132,AU8228,AU8324,AU8420)))","v":"-"},"-","-","-","-","-","-","-","-","-","-","-",{"$f":"IF(AND(BG7844=\"\",BG7940=\"\",BG8036=\"\",BG8132=\"\",BG8228=\"\",BG8324=\"\",BG8420=\"\"), \"-\", IF(SUM($AU8612:$BF8612)=0, 0, IF(BG7844+BG7940+BG8036+BG8132+BG8228+BG8324+BG8420=0,0,AVERAGE(BG7844,BG7940,BG8036,BG8132,BG8228,BG8324,BG8420))))","v":"-"},"-","-","-","-","-","-","-","-","-","-","-","-","-","-","-","-","-","-","-",{"$f":"IF(SUM(AU8612:BF8612)=0,\"-\",AVERAGEIF(AT7780:AT8451,$G8612,CA7780:CA8451))","v":"-"},{"$f":"IFERROR(IF(SUM(AU8612:BF8612)=0,\"-\",AVERAGEIF(AT7780:AT8451,AT8612,CB7780:CB8451)), \"-\")","v":"-"},{"$f":"IF(SUM(AU8612:BF8612)=0,\"-\",MIN(CC7844,CC7940,CC8036,CC8132,CC8228,CC8324,CC8420))","v":"-"},{"$f":"IF(SUM(AU8612:BF8612)=0,\"-\",MAX(CD7844,CD7940,CD8036,CD8132,CD8228,CD8324,CD8420))","v":"-"},null,"7 Day Ave","16:00:00",{"$f":"IF(AND(CH7844=\"-\",CH7940=\"-\",CH8036=\"-\",CH8132=\"-\",CH8228=\"-\",CH8324=\"-\",CH8420=\"-\"), \"-\", ROUND(AVERAGE(CH7844,CH7940,CH8036,CH8132,CH8228,CH8324,CH8420),0))","v":"-"},"-","-","-","-","-","-","-","-","-","-","-",{"$f":"IF(AND(CT7844=\"-\",CT7940=\"-\",CT8036=\"-\",CT8132=\"-\",CT8228=\"-\",CT8324=\"-\",CT8420=\"-\"), \"-\", IF(SUM($CH8612:$CS8612)=0, 0, ROUND(AVERAGE(CT7844,CT7940,CT8036,CT8132,CT8228,CT8324,CT8420),0)))","v":"-"},"-","-","-","-","-","-","-","-","-","-","-","-","-","-","-","-","-","-","-","-","-","-","-",{"$f":"IF(H8612=\"\", \"-\", H8612)","v":"-"},"-",{"$f":"IF(DR8612=\"-\", \"-\", K8612)","v":"-"},"-","-","-","-","-","-","-","-","-","-","-","-","-","-","-"]
[{"$error":"#N/A"},"7-Day Average",{"$f":"INDEX(Input_Details!$H$5:$H$24, MATCH($A8613, Input_Details!$J$5:$J$24, 0), 0)","v":{"$error":"#N/A"}},{"$f":"INDEX(Input_Details!$I$5:$I$24, MATCH($A8613, Input_Details!$J$5:$J$24, 0), 0)","v":{"$error":"#N/A"}},{"$f":"INDEX(Input_Details!$K$5:$K$24, MATCH($A8613, Input_Details!$J$5:$J$24, 0), 0)","v":{"$error":"#N/A"}},"7 Day Ave","16:15:00",{"$f":"IF(AND(H7845=\"\",H7941=\"\",H8037=\"\",H8133=\"\",H8229=\"\",H8325=\"\",H8421=\"\"), \"-\", IF(H7845+H7941+H8037+H8133+H8229+H8325+H8421=0,0,AVERAGE(H7845,H7941,H8037,H8133,H8229,H8325,H8421)))","v":"-"},"-","-","-","-","-","-","-","-","-","-","-",{"$f":"IF(AND(T7845=\"\",T7941=\"\",T8037=\"\",T8133=\"\",T8229=\"\",T8325=\"\",T8421=\"\"), \"-\", IF(SUM($H8613:$S8613)=0, 0, IF(T7845+T7941+T8037+T8133+T8229+T8325+T8421=0,0,AVERAGE(T7845,T7941,T8037,T8133,T8229,T8325,T8421))))","v":"-"},"-","-","-","-","-","-","-","-","-","-","-","-","-","-","-","-","-","-","-",{"$f":"IF(SUM(H8613:S8613)=0,\"-\",AVERAGEIF(G7780:G8451,$G8613,AN7780:AN8451))","v":"-"},{"$f":"IFERROR(IF(SUM(H8613:S8613)=0,\"-\",AVERAGEIF(G7780:G8451,G8613,AO7780:AO8451)), \"-\")","v":"-"},"-","-",{"$f":"INDEX(Input_Details!$L$5:$L$24, MATCH($A8613, Input_Details!$J$5:$J$24, 0), 0)","v":{"$error":"#N/A"}},"7 Day Ave","16:15:00",{"$f":"IF(AND(AU7845=\"\",AU7941=\"\",AU8037=\"\",AU8133=\"\",AU8229=\"\",AU8325=\"\",AU8421=\"\"), \"-\", IF(AU7845+AU7941+AU8037+AU8133+AU8229+AU8325+AU8421=0,0,AVERAGE(AU7845,AU7941,AU8037,AU8133,AU8229,AU8325,AU8421)))","v":"-"},"-","-","-","-","-","-","-","-","-","-","-",{"$f":"IF(AND(BG7845=\"\",BG7941=\"\",BG8037=\"\",BG8133=\"\",BG8229=\"\",BG8325=\"\",BG8421=\"\"), \"-\", IF(SUM($AU8613:$BF8613)=0, 0, IF(BG7845+BG7941+BG8037+BG8133+BG8229+BG8325+BG8421=0,0,AVERAGE(BG7845,BG7941,BG8037,BG8133,BG8229,BG8325,BG8421))))","v":"-"},"-","-","-","-","-","-","-","-","-","-","-","-","-","-","-","-","-","-","-",{"$f":"IF(SUM(AU8613:BF8613)=0,\"-\",AVERAGEIF(AT7780:AT8451,$G8613,CA7780:CA8451))","v":"-"},{"$f":"IFERROR(IF(SUM(AU8613:BF8613)=0,\"-\",AVERAGEIF(AT7780:AT8451,AT8613,CB7780:CB8451)), \"-\")","v":"-"},"-","-",null,"7 Day Ave","16:15:00",{"$f":"IF(AND(CH7845=\"-\",CH7941=\"-\",CH8037=\"-\",CH8133=\"-\",CH8229=\"-\",CH8325=\"-\",CH8421=\"-\"), \"-\", ROUND(AVERAGE(CH7845,CH7941,CH8037,CH8133,CH8229,CH8325,CH8421),0))","v":"-"},"-","-","-","-","-","-","-","-","-","-","-",{"$f":"IF(AND(CT7845=\"-\",CT7941=\"-\",CT8037=\"-\",CT8133=\"-\",CT8229=\"-\",CT8325=\"-\",CT8421=\"-\"), \"-\", IF(SUM($CH8613:$CS8613)=0, 0, ROUND(AVERAGE(CT7845,CT7941,CT8037,CT8133,CT8229,CT8325,CT8421),0)))","v":"-"},"-","-","-","-","-","-","-","-","-","-","-","-","-","-","-","-","-","-","-","-",{"$f":"IFERROR(IF(OR(DW8613=\"-\", EC8613=\"-\", EI8613=\"-\", EI8613=0), \"-\", IF(AO8613=\"-\", CB8613, AVERAGE(AO8613,CB8613))), \"-\")","v":"-"},{"$f":"IF(OR(DW8613=\"-\", EC8613=\"-\",EI8613=\"-\", EI8613=0),\"-\",MIN(AP8613,CC8613))","v":"-"},{"$f":"IF(OR(DW8613=\"-\", EC8613=\"-\",EI8613=\"-\", EI8613=0),\"-\",MAX(AQ8613,CD8613))","v":"-"},"-",{"$f":"IF(DR8613=\"-\", \"-\", SUM(I8613:J8613))","v":"-"},"-","-",{"$f":"IF(DR8613=\"-\", \"-\", SUM(M8613:S8613))","v":"-"},"-",{"$f":"IF(AU8613=\"\", \"-\", AU8613)","v":"-"},"-",{"$f":"IF(DX8613=\"-\", \"-\", AX8613)","v":"-"},"-","-",{"$f":"IF(DX8613=\"-\", \"-\", SUM(AU8613:BF8613))","v":"-"},{"$f":"IF(OR(DR8613=\"-\", DX8613=\"-\"), \"-\", SUM(DR8613,DX8613))","v":"-"},"-","-","-","-","-"]
[{"$f":"A8613","v":{"$error":"#N/A"}},"7-Day Average",{"$f":"INDEX(Input_Details!$H$5:$H$24, MATCH($A8614, Input_Details!$J$5:$J$24, 0), 0)","v":{"$error":"#N/A"}},{"$f":"INDEX(Input_Details!$I$5:$I$24, MATCH($A8614, Input_Details!$J$5:$J$24, 0), 0)","v":{"$error":"#N/A"}},{"$f":"INDEX(Input_Details!$K$5:$K$24, MATCH($A8614, Input_Details!$J$5:$J$24, 0), 0)","v":{"$error":"#N/A"}},"7 Day Ave","16:30:00",{"$f":"IF(AND(H7846=\"\",H7942=\"\",H8038=\"\",H8134=\"\",H8230=\"\",H8326=\"\",H8422=\"\"), \"-\", IF(H7846+H7942+H8038+H8134+H8230+H8326+H8422=0,0,AVERAGE(H7846,H7942,H8038,H8134,H8230,H8326,H8422)))","v":"-"},"-","-","-","-","-","-","-","-","-","-","-",{"$f":"IF(AND(T7846=\"\",T7942=\"\",T8038=\"\",T8134=\"\",T8230=\"\",T8326=\"\",T8422=\"\"), \"-\", IF(SUM($H8614:$S8614)=0, 0, IF(T7846+T7942+T8038+T8134+T8230+T8326+T8422=0,0,AVERAGE(T7846,T7942,T8038,T8134,T8230,T8326,T8422))))","v":"-"},"-","-","-","-","-","-","-","-","-","-","-","-","-","-","-","-","-","-","-",{"$f":"IF(SUM(H8614:S8614)=0,\"-\",AVERAGEIF(G7780:G8451,$G8614,AN7780:AN8451))","v":"-"},{"$f":"IFERROR(IF(SUM(H8614:S8614)=0,\"-\",AVERAGEIF(G7780:G8451,G8614,AO7780:AO8451)), \"-\")","v":"-"},"-","-",{"$f":"INDEX(Input_Details!$L$5:$L$24, MATCH($A8614, Input_Details!$J$5:$J$24, 0), 0)","v":{"$error":"#N/A"}},"7 Day Ave","16:30:00",{"$f":"IF(AND(AU7846=\"\",AU7942=\"\",AU8038=\"\",AU8134=\"\",AU8230=\"\",AU8326=\"\",AU8422=\"\"), \"-\", IF(AU7846+AU7942+AU8038+AU8134+AU8230+AU8326+AU8422=0,0,AVERAGE(AU7846,AU7942,AU8038,AU8134,AU8230,AU8326,AU8422)))","v":"-"},"-","-","-","-","-","-","-","-","-","-","-",{"$f":"IF(AND(BG7846=\"\",BG7942=\"\",BG8038=\"\",BG8134=\"\",BG8230=\"\",BG8326=\"\",BG8422=\"\"), \"-\", IF(SUM($AU8614:$BF8614)=0, 0, IF(BG7846+BG7942+BG8038+BG8134+BG8230+BG8326+BG8422=0,0,AVERAGE(BG7846,BG7942,BG8038,BG8134,BG8230,BG8326,BG8422))))","v":"-"},"-","-","-","-","-","-","-","-","-","-","-","-","-","-","-","-","-","-","-",{"$f":"IF(SUM(AU8614:BF8614)=0,\"-\",AVERAGEIF(AT7780:AT8451,$G8614,CA7780:CA8451))","v":"-"},{"$f":"IFERROR(IF(SUM(AU8614:BF8614)=0,\"-\",AVERAGEIF(AT7780:AT8451,AT8614,CB7780:CB8451)), \"-\")","v":"-"},"-","-",null,"7 Day Ave","16:30:00",{"$f":"IF(AND(CH7846=\"-\",CH7942=\"-\",CH8038=\"-\",CH8134=\"-\",CH8230=\"-\",CH8326=\"-\",CH8422=\"-\"), \"-\", ROUND(AVERAGE(CH7846,CH7942,CH8038,CH8134,CH8230,CH8326,CH8422),0))","v":"-"},"-","-","-","-","-","-","-","-","-","-","-",{"$f":"IF(AND(CT7846=\"-\",CT7942=\"-\",CT8038=\"-\",CT8134=\"-\",CT8230=\"-\",CT8326=\"-\",CT8422=\"-\"), \"-\", IF(SUM($CH8614:$CS8614)=0, 0, ROUND(AVERAGE(CT7846,CT7942,CT8038,CT8134,CT8230,CT8326,CT8422),0)))","v":"-"},"-","-","-","-","-","-","-","-","-","-","-","-","-","-","-","-","-","-","-","-","-","-","-","-","-","-","-","-","-","-","-","-","-","-","-","-","-","-","-","-","-"]
[{"$error":"#N/A"},"7-Day Average",{"$f":"INDEX(Input_Details!$H$5:$H$24, MATCH($A8615, Input_Details!$J$5:$J$24, 0), 0)","v":{"$error":"#N/A"}},{"$f":"INDEX(Input_Details!$I$5:$I$24, MATCH($A8615, Input_Details!$J$5:$J$24, 0), 0)","v":{"$error":"#N/A"}},{"$f":"INDEX(Input_Details!$K$5:$K$24, MATCH($A8615, Input_Details!$J$5:$J$24, 0), 0)","v":{"$error":"#N/A"}},"7 Day Ave","16:45:00",{"$f":"IF(AND(H7847=\"\",H7943=\"\",H8039=\"\",H8135=\"\",H8231=\"\",H8327=\"\",H8423=\"\"), \"-\", IF(H7847+H7943+H8039+H8135+H8231+H8327+H8423=0,0,AVERAGE(H7847,H7943,H8039,H8135,H8231,H8327,H8423)))","v":"-"},"-","-","-","-","-","-","-","-","-","-","-",{"$f":"IF(AND(T7847=\"\",T7943=\"\",T8039=\"\",T8135=\"\",T8231=\"\",T8327=\"\",T8423=\"\"), \"-\", IF(SUM($H8615:$S8615)=0, 0, IF(T7847+T7943+T8039+T8135+T8231+T8327+T8423=0,0,AVERAGE(T7847,T7943,T8039,T8135,T8231,T8327,T8423))))","v":"-"},"-","-","-","-","-","-","-","-","-","-","-","-","-","-","-","-","-","-","-",{"$f":"IF(SUM(H8615:S8615)=0,\"-\",AVERAGEIF(G7780:G8451,$G8615,AN7780:AN8451))","v":"-"},{"$f":"IFERROR(IF(SUM(H8615:S8615)=0,\"-\",AVERAGEIF(G7780:G8451,G8615,AO7780:AO8451)), \"-\")","v":"-"},"-","-",{"$f":"INDEX(Input_Details!$L$5:$L$24, MATCH($A8615, Input_Details!$J$5:$J$24, 0), 0)","v":{"$error":"#N/A"}},"7 Day Ave","16:45:00",{"$f":"IF(AND(AU7847=\"\",AU7943=\"\",AU8039=\"\",AU8135=\"\",AU8231=\"\",AU8327=\"\",AU8423=\"\"), \"-\", IF(AU7847+AU7943+AU8039+AU8135+AU8231+AU8327+AU8423=0,0,AVERAGE(AU7847,AU7943,AU8039,AU8135,AU8231,AU8327,AU8423)))","v":"-"},"-","-","-","-","-","-","-","-","-","-","-",{"$f":"IF(AND(BG7847=\"\",BG7943=\"\",BG8039=\"\",BG8135=\"\",BG8231=\"\",BG8327=\"\",BG8423=\"\"), \"-\", IF(SUM($AU8615:$BF8615)=0, 0, IF(BG7847+BG7943+BG8039+BG8135+BG8231+BG8327+BG8423=0,0,AVERAGE(BG7847,BG7943,BG8039,BG8135,BG8231,BG8327,BG8423))))","v":"-"},"-","-","-","-","-","-","-","-","-","-","-","-","-","-","-","-","-","-","-",{"$f":"IF(SUM(AU8615:BF8615)=0,\"-\",AVERAGEIF(AT7780:AT8451,$G8615,CA7780:CA8451))","v":"-"},{"$f":"IFERROR(IF(SUM(AU8615:BF8615)=0,\"-\",AVERAGEIF(AT7780:AT8451,AT8615,CB7780:CB8451)), \"-\")","v":"-"},"-","-",null,"7 Day Ave","16:45:00",{"$f":"IF(AND(CH7847=\"-\",CH7943=\"-\",CH8039=\"-\",CH8135=\"-\",CH8231=\"-\",CH8327=\"-\",CH8423=\"-\"), \"-\", ROUND(AVERAGE(CH7847,CH7943,CH8039,CH8135,CH8231,CH8327,CH8423),0))","v":"-"},"-","-","-","-","-","-","-","-","-","-","-",{"$f":"IF(AND(CT7847=\"-\",CT7943=\"-\",CT8039=\"-\",CT8135=\"-\",CT8231=\"-\",CT8327=\"-\",CT8423=\"-\"), \"-\", IF(SUM($CH8615:$CS8615)=0, 0, ROUND(AVERAGE(CT7847,CT7943,CT8039,CT8135,CT8231,CT8327,CT8423),0)))","v":"-"},"-","-","-","-","-","-","-","-","-","-","-","-","-","-","-","-","-","-","-","-","-","-","-","-","-","-","-","-","-","-","-","-","-","-","-","-","-","-","-","-","-"]
[{"$error":"#N/A"},"7-Day Average",{"$f":"INDEX(Input_Details!$H$5:$H$24, MATCH($A8616, Input_Details!$J$5:$J$24, 0), 0)","v":{"$error":"#N/A"}},{"$f":"INDEX(Input_Details!$I$5:$I$24, MATCH($A8616, Input_Details!$J$5:$J$24, 0), 0)","v":{"$error":"#N/A"}},{"$f":"INDEX(Input_Details!$K$5:$K$24, MATCH($A8616, Input_Details!$J$5:$J$24, 0), 0)","v":{"$error":"#N/A"}},"7 Day Ave","17:00:00",{"$f":"IF(AND(H7848=\"\",H7944=\"\",H8040=\"\",H8136=\"\",H8232=\"\",H8328=\"\",H8424=\"\"), \"-\", IF(H7848+H7944+H8040+H8136+H8232+H8328+H8424=0,0,AVERAGE(H7848,H7944,H8040,H8136,H8232,H8328,H8424)))","v":"-"},"-","-","-","-","-","-","-","-","-","-","-",{"$f":"IF(AND(T7848=\"\",T7944=\"\",T8040=\"\",T8136=\"\",T8232=\"\",T8328=\"\",T8424=\"\"), \"-\", IF(SUM($H8616:$S8616)=0, 0, IF(T7848+T7944+T8040+T8136+T8232+T8328+T8424=0,0,AVERAGE(T7848,T7944,T8040,T8136,T8232,T8328,T8424))))","v":"-"},"-","-","-","-","-","-","-","-","-","-","-","-","-","-","-","-","-","-","-",{"$f":"IF(SUM(H8616:S8616)=0,\"-\",AVERAGEIF(G7780:G8451,$G8616,AN7780:AN8451))","v":"-"},{"$f":"IFERROR(IF(SUM(H8616:S8616)=0,\"-\",AVERAGEIF(G7780:G8451,G8616,AO7780:AO8451)), \"-\")","v":"-"},"-","-",{"$f":"INDEX(Input_Details!$L$5:$L$24, MATCH($A8616, Input_Details!$J$5:$J$24, 0), 0)","v":{"$error":"#N/A"}},"7 Day Ave","17:00:00",{"$f":"IF(AND(AU7848=\"\",AU7944=\"\",AU8040=\"\",AU8136=\"\",AU8232=\"\",AU8328=\"\",AU8424=\"\"), \"-\", IF(AU7848+AU7944+AU8040+AU8136+AU8232+AU8328+AU8424=0,0,AVERAGE(AU7848,AU7944,AU8040,AU8136,AU8232,AU8328,AU8424)))","v":"-"},"-","-","-","-","-","-","-","-","-","-","-",{"$f":"IF(AND(BG7848=\"\",BG7944=\"\",BG8040=\"\",BG8136=\"\",BG8232=\"\",BG8328=\"\",BG8424=\"\"), \"-\", IF(SUM($AU8616:$BF8616)=0, 0, IF(BG7848+BG7944+BG8040+BG8136+BG8232+BG8328+BG8424=0,0,AVERAGE(BG7848,BG7944,BG8040,BG8136,BG8232,BG8328,BG8424))))","v":"-"},"-","-","-","-","-","-","-","-","-","-","-","-","-","-","-","-","-","-","-",{"$f":"IF(SUM(AU8616:BF8616)=0,\"-\",AVERAGEIF(AT7780:AT8451,$G8616,CA7780:CA8451))","v":"-"},{"$f":"IFERROR(IF(SUM(AU8616:BF8616)=0,\"-\",AVERAGEIF(AT7780:AT8451,AT8616,CB7780:CB8451)), \"-\")","v":"-"},"-","-",null,"7 Day Ave","17:00:00",{"$f":"IF(AND(CH7848=\"-\",CH7944=\"-\",CH8040=\"-\",CH8136=\"-\",CH8232=\"-\",CH8328=\"-\",CH8424=\"-\"), \"-\", ROUND(AVERAGE(CH7848,CH7944,CH8040,CH8136,CH8232,CH8328,CH8424),0))","v":"-"},"-","-","-","-","-","-","-","-","-","-","-",{"$f":"IF(AND(CT7848=\"-\",CT7944=\"-\",CT8040=\"-\",CT8136=\"-\",CT8232=\"-\",CT8328=\"-\",CT8424=\"-\"), \"-\", IF(SUM($CH8616:$CS8616)=0, 0, ROUND(AVERAGE(CT7848,CT7944,CT8040,CT8136,CT8232,CT8328,CT8424),0)))","v":"-"},"-","-","-","-","-","-","-","-","-","-","-","-","-","-","-","-","-","-","-","-","-","-","-","-","-","-","-","-","-","-","-","-","-","-","-","-","-","-","-","-","-"]
[{"$error":"#N/A"},"7-Day Average",{"$f":"INDEX(Input_Details!$H$5:$H$24, MATCH($A8617, Input_Details!$J$5:$J$24, 0), 0)","v":{"$error":"#N/A"}},{"$f":"INDEX(Input_Details!$I$5:$I$24, MATCH($A8617, Input_Details!$J$5:$J$24, 0), 0)","v":{"$error":"#N/A"}},{"$f":"INDEX(Input_Details!$K$5:$K$24, MATCH($A8617, Input_Details!$J$5:$J$24, 0), 0)","v":{"$error":"#N/A"}},"7 Day Ave","17:15:00",{"$f":"IF(AND(H7849=\"\",H7945=\"\",H8041=\"\",H8137=\"\",H8233=\"\",H8329=\"\",H8425=\"\"), \"-\", IF(H7849+H7945+H8041+H8137+H8233+H8329+H8425=0,0,AVERAGE(H7849,H7945,H8041,H8137,H8233,H8329,H8425)))","v":"-"},"-","-","-","-","-","-","-","-","-","-","-",{"$f":"IF(AND(T7849=\"\",T7945=\"\",T8041=\"\",T8137=\"\",T8233=\"\",T8329=\"\",T8425=\"\"), \"-\", IF(SUM($H8617:$S8617)=0, 0, IF(T7849+T7945+T8041+T8137+T8233+T8329+T8425=0,0,AVERAGE(T7849,T7945,T8041,T8137,T8233,T8329,T8425))))","v":"-"},"-","-","-","-","-","-","-","-","-","-","-","-","-","-","-","-","-","-","-",{"$f":"IF(SUM(H8617:S8617)=0,\"-\",AVERAGEIF(G7780:G8451,$G8617,AN7780:AN8451))","v":"-"},{"$f":"IFERROR(IF(SUM(H8617:S8617)=0,\"-\",AVERAGEIF(G7780:G8451,G8617,AO7780:AO8451)), \"-\")","v":"-"},"-","-",{"$f":"INDEX(Input_Details!$L$5:$L$24, MATCH($A8617, Input_Details!$J$5:$J$24, 0), 0)","v":{"$error":"#N/A"}},"7 Day Ave","17:15:00",{"$f":"IF(AND(AU7849=\"\",AU7945=\"\",AU8041=\"\",AU8137=\"\",AU8233=\"\",AU8329=\"\",AU8425=\"\"), \"-\", IF(AU7849+AU7945+AU8041+AU8137+AU8233+AU8329+AU8425=0,0,AVERAGE(AU7849,AU7945,AU8041,AU8137,AU8233,AU8329,AU8425)))","v":"-"},"-","-","-","-","-","-","-","-","-","-","-",{"$f":"IF(AND(BG7849=\"\",BG7945=\"\",BG8041=\"\",BG8137=\"\",BG8233=\"\",BG8329=\"\",BG8425=\"\"), \"-\", IF(SUM($AU8617:$BF8617)=0, 0, IF(BG7849+BG7945+BG8041+BG8137+BG8233+BG8329+BG8425=0,0,AVERAGE(BG7849,BG7945,BG8041,BG8137,BG8233,BG8329,BG8425))))","v":"-"},"-","-","-","-","-","-","-","-","-","-","-","-","-","-","-","-","-","-","-",{"$f":"IF(SUM(AU8617:BF8617)=0,\"-\",AVERAGEIF(AT7780:AT8451,$G8617,CA7780:CA8451))","v":"-"},{"$f":"IFERROR(IF(SUM(AU8617:BF8617)=0,\"-\",AVERAGEIF(AT7780:AT8451,AT8617,CB7780:CB8451)), \"-\")","v":"-"},"-","-",null,"7 Day Ave","17:15:00",{"$f":"IF(AND(CH7849=\"-\",CH7945=\"-\",CH8041=\"-\",CH8137=\"-\",CH8233=\"-\",CH8329=\"-\",CH8425=\"-\"), \"-\", ROUND(AVERAGE(CH7849,CH7945,CH8041,CH8137,CH8233,CH8329,CH8425),0))","v":"-"},"-","-","-","-","-","-","-","-","-","-","-",{"$f":"IF(AND(CT7849=\"-\",CT7945=\"-\",CT8041=\"-\",CT8137=\"-\",CT8233=\"-\",CT8329=\"-\",CT8425=\"-\"), \"-\", IF(SUM($CH8617:$CS8617)=0, 0, ROUND(AVERAGE(CT7849,CT7945,CT8041,CT8137,CT8233,CT8329,CT8425),0)))","v":"-"},"-","-","-","-","-","-","-","-","-","-","-","-","-","-","-","-","-","-","-","-","-","-","-","-","-","-","-","-","-","-","-","-","-","-","-","-","-","-","-","-","-"]
[{"$error":"#N/A"},"7-Day Average",{"$f":"INDEX(Input_Details!$H$5:$H$24, MATCH($A8618, Input_Details!$J$5:$J$24, 0), 0)","v":{"$error":"#N/A"}},{"$f":"INDEX(Input_Details!$I$5:$I$24, MATCH($A8618, Input_Details!$J$5:$J$24, 0), 0)","v":{"$error":"#N/A"}},{"$f":"INDEX(Input_Details!$K$5:$K$24, MATCH($A8618, Input_Details!$J$5:$J$24, 0), 0)","v":{"$error":"#N/A"}},"7 Day Ave","17:30:00",{"$f":"IF(AND(H7850=\"\",H7946=\"\",H8042=\"\",H8138=\"\",H8234=\"\",H8330=\"\",H8426=\"\"), \"-\", IF(H7850+H7946+H8042+H8138+H8234+H8330+H8426=0,0,AVERAGE(H7850,H7946,H8042,H8138,H8234,H8330,H8426)))","v":"-"},"-","-","-","-","-","-","-","-","-","-","-",{"$f":"IF(AND(T7850=\"\",T7946=\"\",T8042=\"\",T8138=\"\",T8234=\"\",T8330=\"\",T8426=\"\"), \"-\", IF(SUM($H8618:$S8618)=0, 0, IF(T7850+T7946+T8042+T8138+T8234+T8330+T8426=0,0,AVERAGE(T7850,T7946,T8042,T8138,T8234,T8330,T8426))))","v":"-"},"-","-","-","-","-","-","-","-","-","-","-","-","-","-","-","-","-","-","-",{"$f":"IF(SUM(H8618:S8618)=0,\"-\",AVERAGEIF(G7780:G8451,$G8618,AN7780:AN8451))","v":"-"},{"$f":"IFERROR(IF(SUM(H8618:S8618)=0,\"-\",AVERAGEIF(G7780:G8451,G8618,AO7780:AO8451)), \"-\")","v":"-"},"-","-",{"$f":"INDEX(Input_Details!$L$5:$L$24, MATCH($A8618, Input_Details!$J$5:$J$24, 0), 0)","v":{"$error":"#N/A"}},"7 Day Ave","17:30:00",{"$f":"IF(AND(AU7850=\"\",AU7946=\"\",AU8042=\"\",AU8138=\"\",AU8234=\"\",AU8330=\"\",AU8426=\"\"), \"-\", IF(AU7850+AU7946+AU8042+AU8138+AU8234+AU8330+AU8426=0,0,AVERAGE(AU7850,AU7946,AU8042,AU8138,AU8234,AU8330,AU8426)))","v":"-"},"-","-","-","-","-","-","-","-","-","-","-",{"$f":"IF(AND(BG7850=\"\",BG7946=\"\",BG8042=\"\",BG8138=\"\",BG8234=\"\",BG8330=\"\",BG8426=\"\"), \"-\", IF(SUM($AU8618:$BF8618)=0, 0, IF(BG7850+BG7946+BG8042+BG8138+BG8234+BG8330+BG8426=0,0,AVERAGE(BG7850,BG7946,BG8042,BG8138,BG8234,BG8330,BG8426))))","v":"-"},"-","-","-","-","-","-","-","-","-","-","-","-","-","-","-","-","-","-","-",{"$f":"IF(SUM(AU8618:BF8618)=0,\"-\",AVERAGEIF(AT7780:AT8451,$G8618,CA7780:CA8451))","v":"-"},{"$f":"IFERROR(IF(SUM(AU8618:BF8618)=0,\"-\",AVERAGEIF(AT7780:AT8451,AT8618,CB7780:CB8451)), \"-\")","v":"-"},"-","-",null,"7 Day Ave","17:30:00",{"$f":"IF(AND(CH7850=\"-\",CH7946=\"-\",CH8042=\"-\",CH8138=\"-\",CH8234=\"-\",CH8330=\"-\",CH8426=\"-\"), \"-\", ROUND(AVERAGE(CH7850,CH7946,CH8042,CH8138,CH8234,CH8330,CH8426),0))","v":"-"},"-","-","-","-","-","-","-","-","-","-","-",{"$f":"IF(AND(CT7850=\"-\",CT7946=\"-\",CT8042=\"-\",CT8138=\"-\",CT8234=\"-\",CT8330=\"-\",CT8426=\"-\"), \"-\", IF(SUM($CH8618:$CS8618)=0, 0, ROUND(AVERAGE(CT7850,CT7946,CT8042,CT8138,CT8234,CT8330,CT8426),0)))","v":"-"},"-","-","-","-","-","-","-","-","-","-","-","-","-","-","-","-","-","-","-","-","-","-","-","-","-","-","-","-","-","-","-","-","-","-","-","-","-","-","-","-","-"]
[{"$error":"#N/A"},"7-Day Average",{"$f":"INDEX(Input_Details!$H$5:$H$24, MATCH($A8619, Input_Details!$J$5:$J$24, 0), 0)","v":{"$error":"#N/A"}},{"$f":"INDEX(Input_Details!$I$5:$I$24, MATCH($A8619, Input_Details!$J$5:$J$24, 0), 0)","v":{"$error":"#N/A"}},{"$f":"INDEX(Input_Details!$K$5:$K$24, MATCH($A8619, Input_Details!$J$5:$J$24, 0), 0)","v":{"$error":"#N/A"}},"7 Day Ave","17:45:00",{"$f":"IF(AND(H7851=\"\",H7947=\"\",H8043=\"\",H8139=\"\",H8235=\"\",H8331=\"\",H8427=\"\"), \"-\", IF(H7851+H7947+H8043+H8139+H8235+H8331+H8427=0,0,AVERAGE(H7851,H7947,H8043,H8139,H8235,H8331,H8427)))","v":"-"},"-","-","-","-","-","-","-","-","-","-","-",{"$f":"IF(AND(T7851=\"\",T7947=\"\",T8043=\"\",T8139=\"\",T8235=\"\",T8331=\"\",T8427=\"\"), \"-\", IF(SUM($H8619:$S8619)=0, 0, IF(T7851+T7947+T8043+T8139+T8235+T8331+T8427=0,0,AVERAGE(T7851,T7947,T8043,T8139,T8235,T8331,T8427))))","v":"-"},"-","-","-","-","-","-","-","-","-","-","-","-","-","-","-","-","-","-","-",{"$f":"IF(SUM(H8619:S8619)=0,\"-\",AVERAGEIF(G7780:G8451,$G8619,AN7780:AN8451))","v":"-"},{"$f":"IFERROR(IF(SUM(H8619:S8619)=0,\"-\",AVERAGEIF(G7780:G8451,G8619,AO7780:AO8451)), \"-\")","v":"-"},"-","-",{"$f":"INDEX(Input_Details!$L$5:$L$24, MATCH($A8619, Input_Details!$J$5:$J$24, 0), 0)","v":{"$error":"#N/A"}},"7 Day Ave","17:45:00",{"$f":"IF(AND(AU7851=\"\",AU7947=\"\",AU8043=\"\",AU8139=\"\",AU8235=\"\",AU8331=\"\",AU8427=\"\"), \"-\", IF(AU7851+AU7947+AU8043+AU8139+AU8235+AU8331+AU8427=0,0,AVERAGE(AU7851,AU7947,AU8043,AU8139,AU8235,AU8331,AU8427)))","v":"-"},"-","-","-","-","-","-","-","-","-","-","-",{"$f":"IF(AND(BG7851=\"\",BG7947=\"\",BG8043=\"\",BG8139=\"\",BG8235=\"\",BG8331=\"\",BG8427=\"\"), \"-\", IF(SUM($AU8619:$BF8619)=0, 0, IF(BG7851+BG7947+BG8043+BG8139+BG8235+BG8331+BG8427=0,0,AVERAGE(BG7851,BG7947,BG8043,BG8139,BG8235,BG8331,BG8427))))","v":"-"},"-","-","-","-","-","-","-","-","-","-","-","-","-","-","-","-","-","-","-",{"$f":"IF(SUM(AU8619:BF8619)=0,\"-\",AVERAGEIF(AT7780:AT8451,$G8619,CA7780:CA8451))","v":"-"},{"$f":"IFERROR(IF(SUM(AU8619:BF8619)=0,\"-\",AVERAGEIF(AT7780:AT8451,AT8619,CB7780:CB8451)), \"-\")","v":"-"},"-","-",null,"7 Day Ave","17:45:00",{"$f":"IF(AND(CH7851=\"-\",CH7947=\"-\",CH8043=\"-\",CH8139=\"-\",CH8235=\"-\",CH8331=\"-\",CH8427=\"-\"), \"-\", ROUND(AVERAGE(CH7851,CH7947,CH8043,CH8139,CH8235,CH8331,CH8427),0))","v":"-"},"-","-","-","-","-","-","-","-","-","-","-",{"$f":"IF(AND(CT7851=\"-\",CT7947=\"-\",CT8043=\"-\",CT8139=\"-\",CT8235=\"-\",CT8331=\"-\",CT8427=\"-\"), \"-\", IF(SUM($CH8619:$CS8619)=0, 0, ROUND(AVERAGE(CT7851,CT7947,CT8043,CT8139,CT8235,CT8331,CT8427),0)))","v":"-"},"-","-","-","-","-","-","-","-","-","-","-","-","-","-","-","-","-","-","-","-","-","-","-","-","-","-","-","-","-","-","-","-","-","-","-","-","-","-","-","-","-"]
[{"$error":"#N/A"},"7-Day Average",{"$f":"INDEX(Input_Details!$H$5:$H$24, MATCH($A8620, Input_Details!$J$5:$J$24, 0), 0)","v":{"$error":"#N/A"}},{"$f":"INDEX(Input_Details!$I$5:$I$24, MATCH($A8620, Input_Details!$J$5:$J$24, 0), 0)","v":{"$error":"#N/A"}},{"$f":"INDEX(Input_Details!$K$5:$K$24, MATCH($A8620, Input_Details!$J$5:$J$24, 0), 0)","v":{"$error":"#N/A"}},"7 Day Ave","18:00:00",{"$f":"IF(AND(H7852=\"\",H7948=\"\",H8044=\"\",H8140=\"\",H8236=\"\",H8332=\"\",H8428=\"\"), \"-\", IF(H7852+H7948+H8044+H8140+H8236+H8332+H8428=0,0,AVERAGE(H7852,H7948,H8044,H8140,H8236,H8332,H8428)))","v":"-"},"-","-","-","-","-","-","-","-","-","-","-",{"$f":"IF(AND(T7852=\"\",T7948=\"\",T8044=\"\",T8140=\"\",T8236=\"\",T8332=\"\",T8428=\"\"), \"-\", IF(SUM($H8620:$S8620)=0, 0, IF(T7852+T7948+T8044+T8140+T8236+T8332+T8428=0,0,AVERAGE(T7852,T7948,T8044,T8140,T8236,T8332,T8428))))","v":"-"},"-","-","-","-","-","-","-","-","-","-","-","-","-","-","-","-","-","-","-",{"$f":"IF(SUM(H8620:S8620)=0,\"-\",AVERAGEIF(G7780:G8451,$G8620,AN7780:AN8451))","v":"-"},{"$f":"IFERROR(IF(SUM(H8620:S8620)=0,\"-\",AVERAGEIF(G7780:G8451,G8620,AO7780:AO8451)), \"-\")","v":"-"},"-","-",{"$f":"INDEX(Input_Details!$L$5:$L$24, MATCH($A8620, Input_Details!$J$5:$J$24, 0), 0)","v":{"$error":"#N/A"}},"7 Day Ave","18:00:00",{"$f":"IF(AND(AU7852=\"\",AU7948=\"\",AU8044=\"\",AU8140=\"\",AU8236=\"\",AU8332=\"\",AU8428=\"\"), \"-\", IF(AU7852+AU7948+AU8044+AU8140+AU8236+AU8332+AU8428=0,0,AVERAGE(AU7852,AU7948,AU8044,AU8140,AU8236,AU8332,AU8428)))","v":"-"},"-","-","-","-","-","-","-","-","-","-","-",{"$f":"IF(AND(BG7852=\"\",BG7948=\"\",BG8044=\"\",BG8140=\"\",BG8236=\"\",BG8332=\"\",BG8428=\"\"), \"-\", IF(SUM($AU8620:$BF8620)=0, 0, IF(BG7852+BG7948+BG8044+BG8140+BG8236+BG8332+BG8428=0,0,AVERAGE(BG7852,BG7948,BG8044,BG8140,BG8236,BG8332,BG8428))))","v":"-"},"-","-","-","-","-","-","-","-","-","-","-","-","-","-","-","-","-","-","-",{"$f":"IF(SUM(AU8620:BF8620)=0,\"-\",AVERAGEIF(AT7780:AT8451,$G8620,CA7780:CA8451))","v":"-"},{"$f":"IFERROR(IF(SUM(AU8620:BF8620)=0,\"-\",AVERAGEIF(AT7780:AT8451,AT8620,CB7780:CB8451)), \"-\")","v":"-"},"-","-",null,"7 Day Ave","18:00:00",{"$f":"IF(AND(CH7852=\"-\",CH7948=\"-\",CH8044=\"-\",CH8140=\"-\",CH8236=\"-\",CH8332=\"-\",CH8428=\"-\"), \"-\", ROUND(AVERAGE(CH7852,CH7948,CH8044,CH8140,CH8236,CH8332,CH8428),0))","v":"-"},"-","-","-","-","-","-","-","-","-","-","-",{"$f":"IF(AND(CT7852=\"-\",CT7948=\"-\",CT8044=\"-\",CT8140=\"-\",CT8236=\"-\",CT8332=\"-\",CT8428=\"-\"), \"-\", IF(SUM($CH8620:$CS8620)=0, 0, ROUND(AVERAGE(CT7852,CT7948,CT8044,CT8140,CT8236,CT8332,CT8428),0)))","v":"-"},"-","-","-","-","-","-","-","-","-","-","-","-","-","-","-","-","-","-","-","-","-","-","-","-","-","-","-","-","-","-","-","-","-","-","-","-","-","-","-","-","-"]
[{"$error":"#N/A"},"7-Day Average",{"$f":"INDEX(Input_Details!$H$5:$H$24, MATCH($A8621, Input_Details!$J$5:$J$24, 0), 0)","v":{"$error":"#N/A"}},{"$f":"INDEX(Input_Details!$I$5:$I$24, MATCH($A8621, Input_Details!$J$5:$J$24, 0), 0)","v":{"$error":"#N/A"}},{"$f":"INDEX(Input_Details!$K$5:$K$24, MATCH($A8621, Input_Details!$J$5:$J$24, 0), 0)","v":{"$error":"#N/A"}},"7 Day Ave","18:15:00",{"$f":"IF(AND(H7853=\"\",H7949=\"\",H8045=\"\",H8141=\"\",H8237=\"\",H8333=\"\",H8429=\"\"), \"-\", IF(H7853+H7949+H8045+H8141+H8237+H8333+H8429=0,0,AVERAGE(H7853,H7949,H8045,H8141,H8237,H8333,H8429)))","v":"-"},"-","-","-","-","-","-","-","-","-","-","-",{"$f":"IF(AND(T7853=\"\",T7949=\"\",T8045=\"\",T8141=\"\",T8237=\"\",T8333=\"\",T8429=\"\"), \"-\", IF(SUM($H8621:$S8621)=0, 0, IF(T7853+T7949+T8045+T8141+T8237+T8333+T8429=0,0,AVERAGE(T7853,T7949,T8045,T8141,T8237,T8333,T8429))))","v":"-"},"-","-","-","-","-","-","-","-","-","-","-","-","-","-","-","-","-","-","-",{"$f":"IF(SUM(H8621:S8621)=0,\"-\",AVERAGEIF(G7780:G8451,$G8621,AN7780:AN8451))","v":"-"},{"$f":"IFERROR(IF(SUM(H8621:S8621)=0,\"-\",AVERAGEIF(G7780:G8451,G8621,AO7780:AO8451)), \"-\")","v":"-"},"-","-",{"$f":"INDEX(Input_Details!$L$5:$L$24, MATCH($A8621, Input_Details!$J$5:$J$24, 0), 0)","v":{"$error":"#N/A"}},"7 Day Ave","18:15:00",{"$f":"IF(AND(AU7853=\"\",AU7949=\"\",AU8045=\"\",AU8141=\"\",AU8237=\"\",AU8333=\"\",AU8429=\"\"), \"-\", IF(AU7853+AU7949+AU8045+AU8141+AU8237+AU8333+AU8429=0,0,AVERAGE(AU7853,AU7949,AU8045,AU8141,AU8237,AU8333,AU8429)))","v":"-"},"-","-","-","-","-","-","-","-","-","-","-",{"$f":"IF(AND(BG7853=\"\",BG7949=\"\",BG8045=\"\",BG8141=\"\",BG8237=\"\",BG8333=\"\",BG8429=\"\"), \"-\", IF(SUM($AU8621:$BF8621)=0, 0, IF(BG7853+BG7949+BG8045+BG8141+BG8237+BG8333+BG8429=0,0,AVERAGE(BG7853,BG7949,BG8045,BG8141,BG8237,BG8333,BG8429))))","v":"-"},"-","-","-","-","-","-","-","-","-","-","-","-","-","-","-","-","-","-","-",{"$f":"IF(SUM(AU8621:BF8621)=0,\"-\",AVERAGEIF(AT7780:AT8451,$G8621,CA7780:CA8451))","v":"-"},{"$f":"IFERROR(IF(SUM(AU8621:BF8621)=0,\"-\",AVERAGEIF(AT7780:AT8451,AT8621,CB7780:CB8451)), \"-\")","v":"-"},"-","-",null,"7 Day Ave","18:15:00",{"$f":"IF(AND(CH7853=\"-\",CH7949=\"-\",CH8045=\"-\",CH8141=\"-\",CH8237=\"-\",CH8333=\"-\",CH8429=\"-\"), \"-\", ROUND(AVERAGE(CH7853,CH7949,CH8045,CH8141,CH8237,CH8333,CH8429),0))","v":"-"},"-","-","-","-","-","-","-","-","-","-","-",{"$f":"IF(AND(CT7853=\"-\",CT7949=\"-\",CT8045=\"-\",CT8141=\"-\",CT8237=\"-\",CT8333=\"-\",CT8429=\"-\"), \"-\", IF(SUM($CH8621:$CS8621)=0, 0, ROUND(AVERAGE(CT7853,CT7949,CT8045,CT8141,CT8237,CT8333,CT8429),0)))","v":"-"},"-","-","-","-","-","-","-","-","-","-","-","-","-","-","-","-","-","-","-","-","-","-","-","-","-","-","-","-","-","-","-","-","-","-","-","-","-","-","-","-","-"]
[{"$error":"#N/A"},"7-Day Average",{"$f":"INDEX(Input_Details!$H$5:$H$24, MATCH($A8622, Input_Details!$J$5:$J$24, 0), 0)","v":{"$error":"#N/A"}},{"$f":"INDEX(Input_Details!$I$5:$I$24, MATCH($A8622, Input_Details!$J$5:$J$24, 0), 0)","v":{"$error":"#N/A"}},{"$f":"INDEX(Input_Details!$K$5:$K$24, MATCH($A8622, Input_Details!$J$5:$J$24, 0), 0)","v":{"$error":"#N/A"}},"7 Day Ave","18:30:00",{"$f":"IF(AND(H7854=\"\",H7950=\"\",H8046=\"\",H8142=\"\",H8238=\"\",H8334=\"\",H8430=\"\"), \"-\", IF(H7854+H7950+H8046+H8142+H8238+H8334+H8430=0,0,AVERAGE(H7854,H7950,H8046,H8142,H8238,H8334,H8430)))","v":"-"},"-","-","-","-","-","-","-","-","-","-","-",{"$f":"IF(AND(T7854=\"\",T7950=\"\",T8046=\"\",T8142=\"\",T8238=\"\",T8334=\"\",T8430=\"\"), \"-\", IF(SUM($H8622:$S8622)=0, 0, IF(T7854+T7950+T8046+T8142+T8238+T8334+T8430=0,0,AVERAGE(T7854,T7950,T8046,T8142,T8238,T8334,T8430))))","v":"-"},"-","-","-","-","-","-","-","-","-","-","-","-","-","-","-","-","-","-","-",{"$f":"IF(SUM(H8622:S8622)=0,\"-\",AVERAGEIF(G7780:G8451,$G8622,AN7780:AN8451))","v":"-"},{"$f":"IFERROR(IF(SUM(H8622:S8622)=0,\"-\",AVERAGEIF(G7780:G8451,G8622,AO7780:AO8451)), \"-\")","v":"-"},"-","-",{"$f":"INDEX(Input_Details!$L$5:$L$24, MATCH($A8622, Input_Details!$J$5:$J$24, 0), 0)","v":{"$error":"#N/A"}},"7 Day Ave","18:30:00",{"$f":"IF(AND(AU7854=\"\",AU7950=\"\",AU8046=\"\",AU8142=\"\",AU8238=\"\",AU8334=\"\",AU8430=\"\"), \"-\", IF(AU7854+AU7950+AU8046+AU8142+AU8238+AU8334+AU8430=0,0,AVERAGE(AU7854,AU7950,AU8046,AU8142,AU8238,AU8334,AU8430)))","v":"-"},"-","-","-","-","-","-","-","-","-","-","-",{"$f":"IF(AND(BG7854=\"\",BG7950=\"\",BG8046=\"\",BG8142=\"\",BG8238=\"\",BG8334=\"\",BG8430=\"\"), \"-\", IF(SUM($AU8622:$BF8622)=0, 0, IF(BG7854+BG7950+BG8046+BG8142+BG8238+BG8334+BG8430=0,0,AVERAGE(BG7854,BG7950,BG8046,BG8142,BG8238,BG8334,BG8430))))","v":"-"},"-","-","-","-","-","-","-","-","-","-","-","-","-","-","-","-","-","-","-",{"$f":"IF(SUM(AU8622:BF8622)=0,\"-\",AVERAGEIF(AT7780:AT8451,$G8622,CA7780:CA8451))","v":"-"},{"$f":"IFERROR(IF(SUM(AU8622:BF8622)=0,\"-\",AVERAGEIF(AT7780:AT8451,AT8622,CB7780:CB8451)), \"-\")","v":"-"},"-","-",null,"7 Day Ave","18:30:00",{"$f":"IF(AND(CH7854=\"-\",CH7950=\"-\",CH8046=\"-\",CH8142=\"-\",CH8238=\"-\",CH8334=\"-\",CH8430=\"-\"), \"-\", ROUND(AVERAGE(CH7854,CH7950,CH8046,CH8142,CH8238,CH8334,CH8430),0))","v":"-"},"-","-","-","-","-","-","-","-","-","-","-",{"$f":"IF(AND(CT7854=\"-\",CT7950=\"-\",CT8046=\"-\",CT8142=\"-\",CT8238=\"-\",CT8334=\"-\",CT8430=\"-\"), \"-\", IF(SUM($CH8622:$CS8622)=0, 0, ROUND(AVERAGE(CT7854,CT7950,CT8046,CT8142,CT8238,CT8334,CT8430),0)))","v":"-"},"-","-","-","-","-","-","-","-","-","-","-","-","-","-","-","-","-","-","-","-","-","-","-","-","-","-","-","-","-","-","-","-","-","-","-","-","-","-","-","-","-"]
[{"$error":"#N/A"},"7-Day Average",{"$f":"INDEX(Input_Details!$H$5:$H$24, MATCH($A8623, Input_Details!$J$5:$J$24, 0), 0)","v":{"$error":"#N/A"}},{"$f":"INDEX(Input_Details!$I$5:$I$24, MATCH($A8623, Input_Details!$J$5:$J$24, 0), 0)","v":{"$error":"#N/A"}},{"$f":"INDEX(Input_Details!$K$5:$K$24, MATCH($A8623, Input_Details!$J$5:$J$24, 0), 0)","v":{"$error":"#N/A"}},"7 Day Ave","18:45:00",{"$f":"IF(AND(H7855=\"\",H7951=\"\",H8047=\"\",H8143=\"\",H8239=\"\",H8335=\"\",H8431=\"\"), \"-\", IF(H7855+H7951+H8047+H8143+H8239+H8335+H8431=0,0,AVERAGE(H7855,H7951,H8047,H8143,H8239,H8335,H8431)))","v":"-"},"-","-","-","-","-","-","-","-","-","-","-",{"$f":"IF(AND(T7855=\"\",T7951=\"\",T8047=\"\",T8143=\"\",T8239=\"\",T8335=\"\",T8431=\"\"), \"-\", IF(SUM($H8623:$S8623)=0, 0, IF(T7855+T7951+T8047+T8143+T8239+T8335+T8431=0,0,AVERAGE(T7855,T7951,T8047,T8143,T8239,T8335,T8431))))","v":"-"},"-","-","-","-","-","-","-","-","-","-","-","-","-","-","-","-","-","-","-",{"$f":"IF(SUM(H8623:S8623)=0,\"-\",AVERAGEIF(G7780:G8451,$G8623,AN7780:AN8451))","v":"-"},{"$f":"IFERROR(IF(SUM(H8623:S8623)=0,\"-\",AVERAGEIF(G7780:G8451,G8623,AO7780:AO8451)), \"-\")","v":"-"},"-","-",{"$f":"INDEX(Input_Details!$L$5:$L$24, MATCH($A8623, Input_Details!$J$5:$J$24, 0), 0)","v":{"$error":"#N/A"}},"7 Day Ave","18:45:00",{"$f":"IF(AND(AU7855=\"\",AU7951=\"\",AU8047=\"\",AU8143=\"\",AU8239=\"\",AU8335=\"\",AU8431=\"\"), \"-\", IF(AU7855+AU7951+AU8047+AU8143+AU8239+AU8335+AU8431=0,0,AVERAGE(AU7855,AU7951,AU8047,AU8143,AU8239,AU8335,AU8431)))","v":"-"},"-","-","-","-","-","-","-","-","-","-","-",{"$f":"IF(AND(BG7855=\"\",BG7951=\"\",BG8047=\"\",BG8143=\"\",BG8239=\"\",BG8335=\"\",BG8431=\"\"), \"-\", IF(SUM($AU8623:$BF8623)=0, 0, IF(BG7855+BG7951+BG8047+BG8143+BG8239+BG8335+BG8431=0,0,AVERAGE(BG7855,BG7951,BG8047,BG8143,BG8239,BG8335,BG8431))))","v":"-"},"-","-","-","-","-","-","-","-","-","-","-","-","-","-","-","-","-","-","-",{"$f":"IF(SUM(AU8623:BF8623)=0,\"-\",AVERAGEIF(AT7780:AT8451,$G8623,CA7780:CA8451))","v":"-"},{"$f":"IFERROR(IF(SUM(AU8623:BF8623)=0,\"-\",AVERAGEIF(AT7780:AT8451,AT8623,CB7780:CB8451)), \"-\")","v":"-"},"-","-",null,"7 Day Ave","18:45:00",{"$f":"IF(AND(CH7855=\"-\",CH7951=\"-\",CH8047=\"-\",CH8143=\"-\",CH8239=\"-\",CH8335=\"-\",CH8431=\"-\"), \"-\", ROUND(AVERAGE(CH7855,CH7951,CH8047,CH8143,CH8239,CH8335,CH8431),0))","v":"-"},"-","-","-","-","-","-","-","-","-","-","-",{"$f":"IF(AND(CT7855=\"-\",CT7951=\"-\",CT8047=\"-\",CT8143=\"-\",CT8239=\"-\",CT8335=\"-\",CT8431=\"-\"), \"-\", IF(SUM($CH8623:$CS8623)=0, 0, ROUND(AVERAGE(CT7855,CT7951,CT8047,CT8143,CT8239,CT8335,CT8431),0)))","v":"-"},"-","-","-","-","-","-","-","-","-","-","-","-","-","-","-","-","-","-","-","-","-","-","-","-","-","-","-","-","-","-","-","-","-","-","-","-","-","-","-","-","-"]
[{"$error":"#N/A"},"7-Day Average",{"$f":"INDEX(Input_Details!$H$5:$H$24, MATCH($A8624, Input_Details!$J$5:$J$24, 0), 0)","v":{"$error":"#N/A"}},{"$f":"INDEX(Input_Details!$I$5:$I$24, MATCH($A8624, Input_Details!$J$5:$J$24, 0), 0)","v":{"$error":"#N/A"}},{"$f":"INDEX(Input_Details!$K$5:$K$24, MATCH($A8624, Input_Details!$J$5:$J$24, 0), 0)","v":{"$error":"#N/A"}},"7 Day Ave","19:00:00",{"$f":"IF(AND(H7856=\"\",H7952=\"\",H8048=\"\",H8144=\"\",H8240=\"\",H8336=\"\",H8432=\"\"), \"-\", IF(H7856+H7952+H8048+H8144+H8240+H8336+H8432=0,0,AVERAGE(H7856,H7952,H8048,H8144,H8240,H8336,H8432)))","v":"-"},"-","-","-","-","-","-","-","-","-","-","-",{"$f":"IF(AND(T7856=\"\",T7952=\"\",T8048=\"\",T8144=\"\",T8240=\"\",T8336=\"\",T8432=\"\"), \"-\", IF(SUM($H8624:$S8624)=0, 0, IF(T7856+T7952+T8048+T8144+T8240+T8336+T8432=0,0,AVERAGE(T7856,T7952,T8048,T8144,T8240,T8336,T8432))))","v":"-"},"-","-","-","-","-","-","-","-","-","-","-","-","-","-","-","-","-","-","-",{"$f":"IF(SUM(H8624:S8624)=0,\"-\",AVERAGEIF(G7780:G8451,$G8624,AN7780:AN8451))","v":"-"},{"$f":"IFERROR(IF(SUM(H8624:S8624)=0,\"-\",AVERAGEIF(G7780:G8451,G8624,AO7780:AO8451)), \"-\")","v":"-"},"-","-",{"$f":"INDEX(Input_Details!$L$5:$L$24, MATCH($A8624, Input_Details!$J$5:$J$24, 0), 0)","v":{"$error":"#N/A"}},"7 Day Ave","19:00:00",{"$f":"IF(AND(AU7856=\"\",AU7952=\"\",AU8048=\"\",AU8144=\"\",AU8240=\"\",AU8336=\"\",AU8432=\"\"), \"-\", IF(AU7856+AU7952+AU8048+AU8144+AU8240+AU8336+AU8432=0,0,AVERAGE(AU7856,AU7952,AU8048,AU8144,AU8240,AU8336,AU8432)))","v":"-"},"-","-","-","-","-","-","-","-","-","-","-",{"$f":"IF(AND(BG7856=\"\",BG7952=\"\",BG8048=\"\",BG8144=\"\",BG8240=\"\",BG8336=\"\",BG8432=\"\"), \"-\", IF(SUM($AU8624:$BF8624)=0, 0, IF(BG7856+BG7952+BG8048+BG8144+BG8240+BG8336+BG8432=0,0,AVERAGE(BG7856,BG7952,BG8048,BG8144,BG8240,BG8336,BG8432))))","v":"-"},"-","-","-","-","-","-","-","-","-","-","-","-","-","-","-","-","-","-","-",{"$f":"IF(SUM(AU8624:BF8624)=0,\"-\",AVERAGEIF(AT7780:AT8451,$G8624,CA7780:CA8451))","v":"-"},{"$f":"IFERROR(IF(SUM(AU8624:BF8624)=0,\"-\",AVERAGEIF(AT7780:AT8451,AT8624,CB7780:CB8451)), \"-\")","v":"-"},"-","-",null,"7 Day Ave","19:00:00",{"$f":"IF(AND(CH7856=\"-\",CH7952=\"-\",CH8048=\"-\",CH8144=\"-\",CH8240=\"-\",CH8336=\"-\",CH8432=\"-\"), \"-\", ROUND(AVERAGE(CH7856,CH7952,CH8048,CH8144,CH8240,CH8336,CH8432),0))","v":"-"},"-","-","-","-","-","-","-","-","-","-","-",{"$f":"IF(AND(CT7856=\"-\",CT7952=\"-\",CT8048=\"-\",CT8144=\"-\",CT8240=\"-\",CT8336=\"-\",CT8432=\"-\"), \"-\", IF(SUM($CH8624:$CS8624)=0, 0, ROUND(AVERAGE(CT7856,CT7952,CT8048,CT8144,CT8240,CT8336,CT8432),0)))","v":"-"},"-","-","-","-","-","-","-","-","-","-","-","-","-","-","-","-","-","-","-","-","-","-","-","-","-","-","-","-","-","-","-","-","-","-","-","-","-","-","-","-","-"]
[{"$error":"#N/A"},"7-Day Average",{"$f":"INDEX(Input_Details!$H$5:$H$24, MATCH($A8625, Input_Details!$J$5:$J$24, 0), 0)","v":{"$error":"#N/A"}},{"$f":"INDEX(Input_Details!$I$5:$I$24, MATCH($A8625, Input_Details!$J$5:$J$24, 0), 0)","v":{"$error":"#N/A"}},{"$f":"INDEX(Input_Details!$K$5:$K$24, MATCH($A8625, Input_Details!$J$5:$J$24, 0), 0)","v":{"$error":"#N/A"}},"7 Day Ave","19:15:00",{"$f":"IF(AND(H7857=\"\",H7953=\"\",H8049=\"\",H8145=\"\",H8241=\"\",H8337=\"\",H8433=\"\"), \"-\", IF(H7857+H7953+H8049+H8145+H8241+H8337+H8433=0,0,AVERAGE(H7857,H7953,H8049,H8145,H8241,H8337,H8433)))","v":"-"},"-","-","-","-","-","-","-","-","-","-","-",{"$f":"IF(AND(T7857=\"\",T7953=\"\",T8049=\"\",T8145=\"\",T8241=\"\",T8337=\"\",T8433=\"\"), \"-\", IF(SUM($H8625:$S8625)=0, 0, IF(T7857+T7953+T8049+T8145+T8241+T8337+T8433=0,0,AVERAGE(T7857,T7953,T8049,T8145,T8241,T8337,T8433))))","v":"-"},"-","-","-","-","-","-","-","-","-","-","-","-","-","-","-","-","-","-","-",{"$f":"IF(SUM(H8625:S8625)=0,\"-\",AVERAGEIF(G7780:G8451,$G8625,AN7780:AN8451))","v":"-"},{"$f":"IFERROR(IF(SUM(H8625:S8625)=0,\"-\",AVERAGEIF(G7780:G8451,G8625,AO7780:AO8451)), \"-\")","v":"-"},"-","-",{"$f":"INDEX(Input_Details!$L$5:$L$24, MATCH($A8625, Input_Details!$J$5:$J$24, 0), 0)","v":{"$error":"#N/A"}},"7 Day Ave","19:15:00",{"$f":"IF(AND(AU7857=\"\",AU7953=\"\",AU8049=\"\",AU8145=\"\",AU8241=\"\",AU8337=\"\",AU8433=\"\"), \"-\", IF(AU7857+AU7953+AU8049+AU8145+AU8241+AU8337+AU8433=0,0,AVERAGE(AU7857,AU7953,AU8049,AU8145,AU8241,AU8337,AU8433)))","v":"-"},"-","-","-","-","-","-","-","-","-","-","-",{"$f":"IF(AND(BG7857=\"\",BG7953=\"\",BG8049=\"\",BG8145=\"\",BG8241=\"\",BG8337=\"\",BG8433=\"\"), \"-\", IF(SUM($AU8625:$BF8625)=0, 0, IF(BG7857+BG7953+BG8049+BG8145+BG8241+BG8337+BG8433=0,0,AVERAGE(BG7857,BG7953,BG8049,BG8145,BG8241,BG8337,BG8433))))","v":"-"},"-","-","-","-","-","-","-","-","-","-","-","-","-","-","-","-","-","-","-",{"$f":"IF(SUM(AU8625:BF8625)=0,\"-\",AVERAGEIF(AT7780:AT8451,$G8625,CA7780:CA8451))","v":"-"},{"$f":"IFERROR(IF(SUM(AU8625:BF8625)=0,\"-\",AVERAGEIF(AT7780:AT8451,AT8625,CB7780:CB8451)), \"-\")","v":"-"},"-","-",null,"7 Day Ave","19:15:00",{"$f":"IF(AND(CH7857=\"-\",CH7953=\"-\",CH8049=\"-\",CH8145=\"-\",CH8241=\"-\",CH8337=\"-\",CH8433=\"-\"), \"-\", ROUND(AVERAGE(CH7857,CH7953,CH8049,CH8145,CH8241,CH8337,CH8433),0))","v":"-"},"-","-","-","-","-","-","-","-","-","-","-",{"$f":"IF(AND(CT7857=\"-\",CT7953=\"-\",CT8049=\"-\",CT8145=\"-\",CT8241=\"-\",CT8337=\"-\",CT8433=\"-\"), \"-\", IF(SUM($CH8625:$CS8625)=0, 0, ROUND(AVERAGE(CT7857,CT7953,CT8049,CT8145,CT8241,CT8337,CT8433),0)))","v":"-"},"-","-","-","-","-","-","-","-","-","-","-","-","-","-","-","-","-","-","-","-","-","-","-","-","-","-","-","-","-","-","-","-","-","-","-","-","-","-","-","-","-"]
[{"$error":"#N/A"},"7-Day Average",{"$f":"INDEX(Input_Details!$H$5:$H$24, MATCH($A8626, Input_Details!$J$5:$J$24, 0), 0)","v":{"$error":"#N/A"}},{"$f":"INDEX(Input_Details!$I$5:$I$24, MATCH($A8626, Input_Details!$J$5:$J$24, 0), 0)","v":{"$error":"#N/A"}},{"$f":"INDEX(Input_Details!$K$5:$K$24, MATCH($A8626, Input_Details!$J$5:$J$24, 0), 0)","v":{"$error":"#N/A"}},"7 Day Ave","19:30:00",{"$f":"IF(AND(H7858=\"\",H7954=\"\",H8050=\"\",H8146=\"\",H8242=\"\",H8338=\"\",H8434=\"\"), \"-\", IF(H7858+H7954+H8050+H8146+H8242+H8338+H8434=0,0,AVERAGE(H7858,H7954,H8050,H8146,H8242,H8338,H8434)))","v":"-"},"-","-","-","-","-","-","-","-","-","-","-",{"$f":"IF(AND(T7858=\"\",T7954=\"\",T8050=\"\",T8146=\"\",T8242=\"\",T8338=\"\",T8434=\"\"), \"-\", IF(SUM($H8626:$S8626)=0, 0, IF(T7858+T7954+T8050+T8146+T8242+T8338+T8434=0,0,AVERAGE(T7858,T7954,T8050,T8146,T8242,T8338,T8434))))","v":"-"},"-","-","-","-","-","-","-","-","-","-","-","-","-","-","-","-","-","-","-",{"$f":"IF(SUM(H8626:S8626)=0,\"-\",AVERAGEIF(G7780:G8451,$G8626,AN7780:AN8451))","v":"-"},{"$f":"IFERROR(IF(SUM(H8626:S8626)=0,\"-\",AVERAGEIF(G7780:G8451,G8626,AO7780:AO8451)), \"-\")","v":"-"},"-","-",{"$f":"INDEX(Input_Details!$L$5:$L$24, MATCH($A8626, Input_Details!$J$5:$J$24, 0), 0)","v":{"$error":"#N/A"}},"7 Day Ave","19:30:00",{"$f":"IF(AND(AU7858=\"\",AU7954=\"\",AU8050=\"\",AU8146=\"\",AU8242=\"\",AU8338=\"\",AU8434=\"\"), \"-\", IF(AU7858+AU7954+AU8050+AU8146+AU8242+AU8338+AU8434=0,0,AVERAGE(AU7858,AU7954,AU8050,AU8146,AU8242,AU8338,AU8434)))","v":"-"},"-","-","-","-","-","-","-","-","-","-","-",{"$f":"IF(AND(BG7858=\"\",BG7954=\"\",BG8050=\"\",BG8146=\"\",BG8242=\"\",BG8338=\"\",BG8434=\"\"), \"-\", IF(SUM($AU8626:$BF8626)=0, 0, IF(BG7858+BG7954+BG8050+BG8146+BG8242+BG8338+BG8434=0,0,AVERAGE(BG7858,BG7954,BG8050,BG8146,BG8242,BG8338,BG8434))))","v":"-"},"-","-","-","-","-","-","-","-","-","-","-","-","-","-","-","-","-","-","-",{"$f":"IF(SUM(AU8626:BF8626)=0,\"-\",AVERAGEIF(AT7780:AT8451,$G8626,CA7780:CA8451))","v":"-"},{"$f":"IFERROR(IF(SUM(AU8626:BF8626)=0,\"-\",AVERAGEIF(AT7780:AT8451,AT8626,CB7780:CB8451)), \"-\")","v":"-"},"-","-",null,"7 Day Ave","19:30:00",{"$f":"IF(AND(CH7858=\"-\",CH7954=\"-\",CH8050=\"-\",CH8146=\"-\",CH8242=\"-\",CH8338=\"-\",CH8434=\"-\"), \"-\", ROUND(AVERAGE(CH7858,CH7954,CH8050,CH8146,CH8242,CH8338,CH8434),0))","v":"-"},"-","-","-","-","-","-","-","-","-","-","-",{"$f":"IF(AND(CT7858=\"-\",CT7954=\"-\",CT8050=\"-\",CT8146=\"-\",CT8242=\"-\",CT8338=\"-\",CT8434=\"-\"), \"-\", IF(SUM($CH8626:$CS8626)=0, 0, ROUND(AVERAGE(CT7858,CT7954,CT8050,CT8146,CT8242,CT8338,CT8434),0)))","v":"-"},"-","-","-","-","-","-","-","-","-","-","-","-","-","-","-","-","-","-","-","-","-","-","-","-","-","-","-","-","-","-","-","-","-","-","-","-","-","-","-","-","-"]
[{"$error":"#N/A"},"7-Day Average",{"$f":"INDEX(Input_Details!$H$5:$H$24, MATCH($A8627, Input_Details!$J$5:$J$24, 0), 0)","v":{"$error":"#N/A"}},{"$f":"INDEX(Input_Details!$I$5:$I$24, MATCH($A8627, Input_Details!$J$5:$J$24, 0), 0)","v":{"$error":"#N/A"}},{"$f":"INDEX(Input_Details!$K$5:$K$24, MATCH($A8627, Input_Details!$J$5:$J$24, 0), 0)","v":{"$error":"#N/A"}},"7 Day Ave","19:45:00",{"$f":"IF(AND(H7859=\"\",H7955=\"\",H8051=\"\",H8147=\"\",H8243=\"\",H8339=\"\",H8435=\"\"), \"-\", IF(H7859+H7955+H8051+H8147+H8243+H8339+H8435=0,0,AVERAGE(H7859,H7955,H8051,H8147,H8243,H8339,H8435)))","v":"-"},"-","-","-","-","-","-","-","-","-","-","-",{"$f":"IF(AND(T7859=\"\",T7955=\"\",T8051=\"\",T8147=\"\",T8243=\"\",T8339=\"\",T8435=\"\"), \"-\", IF(SUM($H8627:$S8627)=0, 0, IF(T7859+T7955+T8051+T8147+T8243+T8339+T8435=0,0,AVERAGE(T7859,T7955,T8051,T8147,T8243,T8339,T8435))))","v":"-"},"-",{"$f":"IF(AND(V7859=\"\",V7955=\"\",V8051=\"\",V8147=\"\",V8243=\"\",V8339=\"\",V8435=\"\"), \"-\", IF(SUM($H8627:$S8627)=0, 0, IF(V7859+V7955+V8051+V8147+V8243+V8339+V8435=0,0,AVERAGE(V7859,V7955,V8051,V8147,V8243,V8339,V8435))))","v":"-"},{"$f":"IF(AND(W7859=\"\",W7955=\"\",W8051=\"\",W8147=\"\",W8243=\"\",W8339=\"\",W8435=\"\"), \"-\", IF(SUM($H8627:$S8627)=0, 0, IF(W7859+W7955+W8051+W8147+W8243+W8339+W8435=0,0,AVERAGE(W7859,W7955,W8051,W8147,W8243,W8339,W8435))))","v":"-"},"-","-","-","-","-","-","-","-","-","-","-","-","-","-","-","-",{"$f":"IF(SUM(H8627:S8627)=0,\"-\",AVERAGEIF(G7780:G8451,$G8627,AN7780:AN8451))","v":"-"},{"$f":"IFERROR(IF(SUM(H8627:S8627)=0,\"-\",AVERAGEIF(G7780:G8451,G8627,AO7780:AO8451)), \"-\")","v":"-"},"-","-",{"$f":"INDEX(Input_Details!$L$5:$L$24, MATCH($A8627, Input_Details!$J$5:$J$24, 0), 0)","v":{"$error":"#N/A"}},"7 Day Ave","19:45:00",{"$f":"IF(AND(AU7859=\"\",AU7955=\"\",AU8051=\"\",AU8147=\"\",AU8243=\"\",AU8339=\"\",AU8435=\"\"), \"-\", IF(AU7859+AU7955+AU8051+AU8147+AU8243+AU8339+AU8435=0,0,AVERAGE(AU7859,AU7955,AU8051,AU8147,AU8243,AU8339,AU8435)))","v":"-"},"-","-","-","-","-","-","-","-","-","-","-",{"$f":"IF(AND(BG7859=\"\",BG7955=\"\",BG8051=\"\",BG8147=\"\",BG8243=\"\",BG8339=\"\",BG8435=\"\"), \"-\", IF(SUM($AU8627:$BF8627)=0, 0, IF(BG7859+BG7955+BG8051+BG8147+BG8243+BG8339+BG8435=0,0,AVERAGE(BG7859,BG7955,BG8051,BG8147,BG8243,BG8339,BG8435))))","v":"-"},"-","-","-","-","-","-","-","-","-","-","-","-","-","-","-","-","-","-","-",{"$f":"IF(SUM(AU8627:BF8627)=0,\"-\",AVERAGEIF(AT7780:AT8451,$G8627,CA7780:CA8451))","v":"-"},{"$f":"IFERROR(IF(SUM(AU8627:BF8627)=0,\"-\",AVERAGEIF(AT7780:AT8451,AT8627,CB7780:CB8451)), \"-\")","v":"-"},"-","-",null,"7 Day Ave","19:45:00",{"$f":"IF(AND(CH7859=\"-\",CH7955=\"-\",CH8051=\"-\",CH8147=\"-\",CH8243=\"-\",CH8339=\"-\",CH8435=\"-\"), \"-\", ROUND(AVERAGE(CH7859,CH7955,CH8051,CH8147,CH8243,CH8339,CH8435),0))","v":"-"},"-","-","-","-","-","-","-","-","-","-","-",{"$f":"IF(AND(CT7859=\"-\",CT7955=\"-\",CT8051=\"-\",CT8147=\"-\",CT8243=\"-\",CT8339=\"-\",CT8435=\"-\"), \"-\", IF(SUM($CH8627:$CS8627)=0, 0, ROUND(AVERAGE(CT7859,CT7955,CT8051,CT8147,CT8243,CT8339,CT8435),0)))","v":"-"},"-","-","-","-","-","-","-","-","-","-","-","-","-","-","-","-","-","-","-","-","-","-","-","-","-","-","-","-","-","-","-","-","-","-","-","-","-","-","-","-","-"]
[{"$error":"#N/A"},"7-Day Average",{"$f":"INDEX(Input_Details!$H$5:$H$24, MATCH($A8628, Input_Details!$J$5:$J$24, 0), 0)","v":{"$error":"#N/A"}},{"$f":"INDEX(Input_Details!$I$5:$I$24, MATCH($A8628, Input_Details!$J$5:$J$24, 0), 0)","v":{"$error":"#N/A"}},{"$f":"INDEX(Input_Details!$K$5:$K$24, MATCH($A8628, Input_Details!$J$5:$J$24, 0), 0)","v":{"$error":"#N/A"}},"7 Day Ave","20:00:00",{"$f":"IF(AND(H7860=\"\",H7956=\"\",H8052=\"\",H8148=\"\",H8244=\"\",H8340=\"\",H8436=\"\"), \"-\", IF(H7860+H7956+H8052+H8148+H8244+H8340+H8436=0,0,AVERAGE(H7860,H7956,H8052,H8148,H8244,H8340,H8436)))","v":"-"},"-","-","-","-","-","-","-","-","-","-","-",{"$f":"IF(AND(T7860=\"\",T7956=\"\",T8052=\"\",T8148=\"\",T8244=\"\",T8340=\"\",T8436=\"\"), \"-\", IF(SUM($H8628:$S8628)=0, 0, IF(T7860+T7956+T8052+T8148+T8244+T8340+T8436=0,0,AVERAGE(T7860,T7956,T8052,T8148,T8244,T8340,T8436))))","v":"-"},"-","-","-","-","-","-","-","-","-","-","-","-","-","-","-","-","-","-","-",{"$f":"IF(SUM(H8628:S8628)=0,\"-\",AVERAGEIF(G7780:G8451,$G8628,AN7780:AN8451))","v":"-"},{"$f":"IFERROR(IF(SUM(H8628:S8628)=0,\"-\",AVERAGEIF(G7780:G8451,G8628,AO7780:AO8451)), \"-\")","v":"-"},"-","-",{"$f":"INDEX(Input_Details!$L$5:$L$24, MATCH($A8628, Input_Details!$J$5:$J$24, 0), 0)","v":{"$error":"#N/A"}},"7 Day Ave","20:00:00",{"$f":"IF(AND(AU7860=\"\",AU7956=\"\",AU8052=\"\",AU8148=\"\",AU8244=\"\",AU8340=\"\",AU8436=\"\"), \"-\", IF(AU7860+AU7956+AU8052+AU8148+AU8244+AU8340+AU8436=0,0,AVERAGE(AU7860,AU7956,AU8052,AU8148,AU8244,AU8340,AU8436)))","v":"-"},"-","-","-","-","-","-","-","-","-","-","-",{"$f":"IF(AND(BG7860=\"\",BG7956=\"\",BG8052=\"\",BG8148=\"\",BG8244=\"\",BG8340=\"\",BG8436=\"\"), \"-\", IF(SUM($AU8628:$BF8628)=0, 0, IF(BG7860+BG7956+BG8052+BG8148+BG8244+BG8340+BG8436=0,0,AVERAGE(BG7860,BG7956,BG8052,BG8148,BG8244,BG8340,BG8436))))","v":"-"},"-","-","-","-","-","-","-","-","-","-","-","-","-","-","-","-","-","-","-",{"$f":"IF(SUM(AU8628:BF8628)=0,\"-\",AVERAGEIF(AT7780:AT8451,$G8628,CA7780:CA8451))","v":"-"},{"$f":"IFERROR(IF(SUM(AU8628:BF8628)=0,\"-\",AVERAGEIF(AT7780:AT8451,AT8628,CB7780:CB8451)), \"-\")","v":"-"},"-","-",null,"7 Day Ave","20:00:00",{"$f":"IF(AND(CH7860=\"-\",CH7956=\"-\",CH8052=\"-\",CH8148=\"-\",CH8244=\"-\",CH8340=\"-\",CH8436=\"-\"), \"-\", ROUND(AVERAGE(CH7860,CH7956,CH8052,CH8148,CH8244,CH8340,CH8436),0))","v":"-"},"-","-","-","-","-","-","-","-","-","-","-",{"$f":"IF(AND(CT7860=\"-\",CT7956=\"-\",CT8052=\"-\",CT8148=\"-\",CT8244=\"-\",CT8340=\"-\",CT8436=\"-\"), \"-\", IF(SUM($CH8628:$CS8628)=0, 0, ROUND(AVERAGE(CT7860,CT7956,CT8052,CT8148,CT8244,CT8340,CT8436),0)))","v":"-"},"-","-","-","-","-","-","-","-","-","-","-","-","-","-","-","-","-","-","-","-","-","-","-","-","-","-","-","-","-","-","-","-","-","-","-","-","-","-","-","-","-"]
[{"$error":"#N/A"},"7-Day Average",{"$f":"INDEX(Input_Details!$H$5:$H$24, MATCH($A8629, Input_Details!$J$5:$J$24, 0), 0)","v":{"$error":"#N/A"}},{"$f":"INDEX(Input_Details!$I$5:$I$24, MATCH($A8629, Input_Details!$J$5:$J$24, 0), 0)","v":{"$error":"#N/A"}},{"$f":"INDEX(Input_Details!$K$5:$K$24, MATCH($A8629, Input_Details!$J$5:$J$24, 0), 0)","v":{"$error":"#N/A"}},"7 Day Ave","20:15:00",{"$f":"IF(AND(H7861=\"\",H7957=\"\",H8053=\"\",H8149=\"\",H8245=\"\",H8341=\"\",H8437=\"\"), \"-\", IF(H7861+H7957+H8053+H8149+H8245+H8341+H8437=0,0,AVERAGE(H7861,H7957,H8053,H8149,H8245,H8341,H8437)))","v":"-"},"-","-","-","-","-","-","-","-","-","-","-",{"$f":"IF(AND(T7861=\"\",T7957=\"\",T8053=\"\",T8149=\"\",T8245=\"\",T8341=\"\",T8437=\"\"), \"-\", IF(SUM($H8629:$S8629)=0, 0, IF(T7861+T7957+T8053+T8149+T8245+T8341+T8437=0,0,AVERAGE(T7861,T7957,T8053,T8149,T8245,T8341,T8437))))","v":"-"},"-","-","-","-","-","-","-","-","-","-","-","-","-","-","-","-","-","-","-",{"$f":"IF(SUM(H8629:S8629)=0,\"-\",AVERAGEIF(G7780:G8451,$G8629,AN7780:AN8451))","v":"-"},{"$f":"IFERROR(IF(SUM(H8629:S8629)=0,\"-\",AVERAGEIF(G7780:G8451,G8629,AO7780:AO8451)), \"-\")","v":"-"},"-","-",{"$f":"INDEX(Input_Details!$L$5:$L$24, MATCH($A8629, Input_Details!$J$5:$J$24, 0), 0)","v":{"$error":"#N/A"}},"7 Day Ave","20:15:00",{"$f":"IF(AND(AU7861=\"\",AU7957=\"\",AU8053=\"\",AU8149=\"\",AU8245=\"\",AU8341=\"\",AU8437=\"\"), \"-\", IF(AU7861+AU7957+AU8053+AU8149+AU8245+AU8341+AU8437=0,0,AVERAGE(AU7861,AU7957,AU8053,AU8149,AU8245,AU8341,AU8437)))","v":"-"},"-","-","-","-","-","-","-","-","-","-","-",{"$f":"IF(AND(BG7861=\"\",BG7957=\"\",BG8053=\"\",BG8149=\"\",BG8245=\"\",BG8341=\"\",BG8437=\"\"), \"-\", IF(SUM($AU8629:$BF8629)=0, 0, IF(BG7861+BG7957+BG8053+BG8149+BG8245+BG8341+BG8437=0,0,AVERAGE(BG7861,BG7957,BG8053,BG8149,BG8245,BG8341,BG8437))))","v":"-"},"-","-","-","-","-","-","-","-","-","-","-","-","-","-","-","-","-","-","-",{"$f":"IF(SUM(AU8629:BF8629)=0,\"-\",AVERAGEIF(AT7780:AT8451,$G8629,CA7780:CA8451))","v":"-"},{"$f":"IFERROR(IF(SUM(AU8629:BF8629)=0,\"-\",AVERAGEIF(AT7780:AT8451,AT8629,CB7780:CB8451)), \"-\")","v":"-"},"-","-",null,"7 Day Ave","20:15:00",{"$f":"IF(AND(CH7861=\"-\",CH7957=\"-\",CH8053=\"-\",CH8149=\"-\",CH8245=\"-\",CH8341=\"-\",CH8437=\"-\"), \"-\", ROUND(AVERAGE(CH7861,CH7957,CH8053,CH8149,CH8245,CH8341,CH8437),0))","v":"-"},"-","-","-","-","-","-","-","-","-","-","-",{"$f":"IF(AND(CT7861=\"-\",CT7957=\"-\",CT8053=\"-\",CT8149=\"-\",CT8245=\"-\",CT8341=\"-\",CT8437=\"-\"), \"-\", IF(SUM($CH8629:$CS8629)=0, 0, ROUND(AVERAGE(CT7861,CT7957,CT8053,CT8149,CT8245,CT8341,CT8437),0)))","v":"-"},"-","-","-","-","-","-","-","-","-","-","-","-","-","-","-","-","-","-","-","-","-","-","-","-","-","-","-","-","-","-","-","-","-","-","-","-","-","-","-","-","-"]
[{"$error":"#N/A"},"7-Day Average",{"$f":"INDEX(Input_Details!$H$5:$H$24, MATCH($A8630, Input_Details!$J$5:$J$24, 0), 0)","v":{"$error":"#N/A"}},{"$f":"INDEX(Input_Details!$I$5:$I$24, MATCH($A8630, Input_Details!$J$5:$J$24, 0), 0)","v":{"$error":"#N/A"}},{"$f":"INDEX(Input_Details!$K$5:$K$24, MATCH($A8630, Input_Details!$J$5:$J$24, 0), 0)","v":{"$error":"#N/A"}},"7 Day Ave","20:30:00",{"$f":"IF(AND(H7862=\"\",H7958=\"\",H8054=\"\",H8150=\"\",H8246=\"\",H8342=\"\",H8438=\"\"), \"-\", IF(H7862+H7958+H8054+H8150+H8246+H8342+H8438=0,0,AVERAGE(H7862,H7958,H8054,H8150,H8246,H8342,H8438)))","v":"-"},"-","-","-","-","-","-","-","-","-","-","-",{"$f":"IF(AND(T7862=\"\",T7958=\"\",T8054=\"\",T8150=\"\",T8246=\"\",T8342=\"\",T8438=\"\"), \"-\", IF(SUM($H8630:$S8630)=0, 0, IF(T7862+T7958+T8054+T8150+T8246+T8342+T8438=0,0,AVERAGE(T7862,T7958,T8054,T8150,T8246,T8342,T8438))))","v":"-"},"-","-","-","-","-","-","-","-","-","-","-","-","-","-","-","-","-","-","-",{"$f":"IF(SUM(H8630:S8630)=0,\"-\",AVERAGEIF(G7780:G8451,$G8630,AN7780:AN8451))","v":"-"},{"$f":"IFERROR(IF(SUM(H8630:S8630)=0,\"-\",AVERAGEIF(G7780:G8451,G8630,AO7780:AO8451)), \"-\")","v":"-"},"-","-",{"$f":"INDEX(Input_Details!$L$5:$L$24, MATCH($A8630, Input_Details!$J$5:$J$24, 0), 0)","v":{"$error":"#N/A"}},"7 Day Ave","20:30:00",{"$f":"IF(AND(AU7862=\"\",AU7958=\"\",AU8054=\"\",AU8150=\"\",AU8246=\"\",AU8342=\"\",AU8438=\"\"), \"-\", IF(AU7862+AU7958+AU8054+AU8150+AU8246+AU8342+AU8438=0,0,AVERAGE(AU7862,AU7958,AU8054,AU8150,AU8246,AU8342,AU8438)))","v":"-"},"-","-","-","-","-","-","-","-","-","-","-",{"$f":"IF(AND(BG7862=\"\",BG7958=\"\",BG8054=\"\",BG8150=\"\",BG8246=\"\",BG8342=\"\",BG8438=\"\"), \"-\", IF(SUM($AU8630:$BF8630)=0, 0, IF(BG7862+BG7958+BG8054+BG8150+BG8246+BG8342+BG8438=0,0,AVERAGE(BG7862,BG7958,BG8054,BG8150,BG8246,BG8342,BG8438))))","v":"-"},"-","-","-","-","-","-","-","-","-","-","-","-","-","-","-","-","-","-","-",{"$f":"IF(SUM(AU8630:BF8630)=0,\"-\",AVERAGEIF(AT7780:AT8451,$G8630,CA7780:CA8451))","v":"-"},{"$f":"IFERROR(IF(SUM(AU8630:BF8630)=0,\"-\",AVERAGEIF(AT7780:AT8451,AT8630,CB7780:CB8451)), \"-\")","v":"-"},"-","-",null,"7 Day Ave","20:30:00",{"$f":"IF(AND(CH7862=\"-\",CH7958=\"-\",CH8054=\"-\",CH8150=\"-\",CH8246=\"-\",CH8342=\"-\",CH8438=\"-\"), \"-\", ROUND(AVERAGE(CH7862,CH7958,CH8054,CH8150,CH8246,CH8342,CH8438),0))","v":"-"},"-","-","-","-","-","-","-","-","-","-","-",{"$f":"IF(AND(CT7862=\"-\",CT7958=\"-\",CT8054=\"-\",CT8150=\"-\",CT8246=\"-\",CT8342=\"-\",CT8438=\"-\"), \"-\", IF(SUM($CH8630:$CS8630)=0, 0, ROUND(AVERAGE(CT7862,CT7958,CT8054,CT8150,CT8246,CT8342,CT8438),0)))","v":"-"},"-","-","-","-","-","-","-","-","-","-","-","-","-","-","-","-","-","-","-","-","-","-","-","-","-","-","-","-","-","-","-","-","-","-","-","-","-","-","-","-","-"]
[{"$error":"#N/A"},"7-Day Average",{"$f":"INDEX(Input_Details!$H$5:$H$24, MATCH($A8631, Input_Details!$J$5:$J$24, 0), 0)","v":{"$error":"#N/A"}},{"$f":"INDEX(Input_Details!$I$5:$I$24, MATCH($A8631, Input_Details!$J$5:$J$24, 0), 0)","v":{"$error":"#N/A"}},{"$f":"INDEX(Input_Details!$K$5:$K$24, MATCH($A8631, Input_Details!$J$5:$J$24, 0), 0)","v":{"$error":"#N/A"}},"7 Day Ave","20:45:00",{"$f":"IF(AND(H7863=\"\",H7959=\"\",H8055=\"\",H8151=\"\",H8247=\"\",H8343=\"\",H8439=\"\"), \"-\", IF(H7863+H7959+H8055+H8151+H8247+H8343+H8439=0,0,AVERAGE(H7863,H7959,H8055,H8151,H8247,H8343,H8439)))","v":"-"},"-","-","-","-","-","-","-","-","-","-","-",{"$f":"IF(AND(T7863=\"\",T7959=\"\",T8055=\"\",T8151=\"\",T8247=\"\",T8343=\"\",T8439=\"\"), \"-\", IF(SUM($H8631:$S8631)=0, 0, IF(T7863+T7959+T8055+T8151+T8247+T8343+T8439=0,0,AVERAGE(T7863,T7959,T8055,T8151,T8247,T8343,T8439))))","v":"-"},"-","-","-","-","-","-","-","-","-","-","-","-","-","-","-","-","-","-","-",{"$f":"IF(SUM(H8631:S8631)=0,\"-\",AVERAGEIF(G7780:G8451,$G8631,AN7780:AN8451))","v":"-"},{"$f":"IFERROR(IF(SUM(H8631:S8631)=0,\"-\",AVERAGEIF(G7780:G8451,G8631,AO7780:AO8451)), \"-\")","v":"-"},"-","-",{"$f":"INDEX(Input_Details!$L$5:$L$24, MATCH($A8631, Input_Details!$J$5:$J$24, 0), 0)","v":{"$error":"#N/A"}},"7 Day Ave","20:45:00",{"$f":"IF(AND(AU7863=\"\",AU7959=\"\",AU8055=\"\",AU8151=\"\",AU8247=\"\",AU8343=\"\",AU8439=\"\"), \"-\", IF(AU7863+AU7959+AU8055+AU8151+AU8247+AU8343+AU8439=0,0,AVERAGE(AU7863,AU7959,AU8055,AU8151,AU8247,AU8343,AU8439)))","v":"-"},"-","-","-","-","-","-","-","-","-","-","-",{"$f":"IF(AND(BG7863=\"\",BG7959=\"\",BG8055=\"\",BG8151=\"\",BG8247=\"\",BG8343=\"\",BG8439=\"\"), \"-\", IF(SUM($AU8631:$BF8631)=0, 0, IF(BG7863+BG7959+BG8055+BG8151+BG8247+BG8343+BG8439=0,0,AVERAGE(BG7863,BG7959,BG8055,BG8151,BG8247,BG8343,BG8439))))","v":"-"},"-","-","-","-","-","-","-","-","-","-","-","-","-","-","-","-","-","-","-",{"$f":"IF(SUM(AU8631:BF8631)=0,\"-\",AVERAGEIF(AT7780:AT8451,$G8631,CA7780:CA8451))","v":"-"},{"$f":"IFERROR(IF(SUM(AU8631:BF8631)=0,\"-\",AVERAGEIF(AT7780:AT8451,AT8631,CB7780:CB8451)), \"-\")","v":"-"},"-","-",null,"7 Day Ave","20:45:00",{"$f":"IF(AND(CH7863=\"-\",CH7959=\"-\",CH8055=\"-\",CH8151=\"-\",CH8247=\"-\",CH8343=\"-\",CH8439=\"-\"), \"-\", ROUND(AVERAGE(CH7863,CH7959,CH8055,CH8151,CH8247,CH8343,CH8439),0))","v":"-"},"-","-","-","-","-","-","-","-","-","-","-",{"$f":"IF(AND(CT7863=\"-\",CT7959=\"-\",CT8055=\"-\",CT8151=\"-\",CT8247=\"-\",CT8343=\"-\",CT8439=\"-\"), \"-\", IF(SUM($CH8631:$CS8631)=0, 0, ROUND(AVERAGE(CT7863,CT7959,CT8055,CT8151,CT8247,CT8343,CT8439),0)))","v":"-"},"-","-","-","-","-","-","-","-","-","-","-","-","-","-","-","-","-","-","-","-","-","-","-","-","-","-","-","-","-","-","-","-","-","-","-","-","-","-","-","-","-"]
[{"$error":"#N/A"},"7-Day Average",{"$f":"INDEX(Input_Details!$H$5:$H$24, MATCH($A8632, Input_Details!$J$5:$J$24, 0), 0)","v":{"$error":"#N/A"}},{"$f":"INDEX(Input_Details!$I$5:$I$24, MATCH($A8632, Input_Details!$J$5:$J$24, 0), 0)","v":{"$error":"#N/A"}},{"$f":"INDEX(Input_Details!$K$5:$K$24, MATCH($A8632, Input_Details!$J$5:$J$24, 0), 0)","v":{"$error":"#N/A"}},"7 Day Ave","21:00:00",{"$f":"IF(AND(H7864=\"\",H7960=\"\",H8056=\"\",H8152=\"\",H8248=\"\",H8344=\"\",H8440=\"\"), \"-\", IF(H7864+H7960+H8056+H8152+H8248+H8344+H8440=0,0,AVERAGE(H7864,H7960,H8056,H8152,H8248,H8344,H8440)))","v":"-"},"-","-","-","-","-","-","-","-","-","-","-",{"$f":"IF(AND(T7864=\"\",T7960=\"\",T8056=\"\",T8152=\"\",T8248=\"\",T8344=\"\",T8440=\"\"), \"-\", IF(SUM($H8632:$S8632)=0, 0, IF(T7864+T7960+T8056+T8152+T8248+T8344+T8440=0,0,AVERAGE(T7864,T7960,T8056,T8152,T8248,T8344,T8440))))","v":"-"},"-","-","-","-","-","-","-","-","-","-","-","-","-","-","-","-","-","-","-",{"$f":"IF(SUM(H8632:S8632)=0,\"-\",AVERAGEIF(G7780:G8451,$G8632,AN7780:AN8451))","v":"-"},{"$f":"IFERROR(IF(SUM(H8632:S8632)=0,\"-\",AVERAGEIF(G7780:G8451,G8632,AO7780:AO8451)), \"-\")","v":"-"},"-","-",{"$f":"INDEX(Input_Details!$L$5:$L$24, MATCH($A8632, Input_Details!$J$5:$J$24, 0), 0)","v":{"$error":"#N/A"}},"7 Day Ave","21:00:00",{"$f":"IF(AND(AU7864=\"\",AU7960=\"\",AU8056=\"\",AU8152=\"\",AU8248=\"\",AU8344=\"\",AU8440=\"\"), \"-\", IF(AU7864+AU7960+AU8056+AU8152+AU8248+AU8344+AU8440=0,0,AVERAGE(AU7864,AU7960,AU8056,AU8152,AU8248,AU8344,AU8440)))","v":"-"},"-","-","-","-","-","-","-","-","-","-","-",{"$f":"IF(AND(BG7864=\"\",BG7960=\"\",BG8056=\"\",BG8152=\"\",BG8248=\"\",BG8344=\"\",BG8440=\"\"), \"-\", IF(SUM($AU8632:$BF8632)=0, 0, IF(BG7864+BG7960+BG8056+BG8152+BG8248+BG8344+BG8440=0,0,AVERAGE(BG7864,BG7960,BG8056,BG8152,BG8248,BG8344,BG8440))))","v":"-"},"-","-","-","-","-","-","-","-","-","-","-","-","-","-","-","-","-","-","-",{"$f":"IF(SUM(AU8632:BF8632)=0,\"-\",AVERAGEIF(AT7780:AT8451,$G8632,CA7780:CA8451))","v":"-"},{"$f":"IFERROR(IF(SUM(AU8632:BF8632)=0,\"-\",AVERAGEIF(AT7780:AT8451,AT8632,CB7780:CB8451)), \"-\")","v":"-"},"-","-",null,"7 Day Ave","21:00:00",{"$f":"IF(AND(CH7864=\"-\",CH7960=\"-\",CH8056=\"-\",CH8152=\"-\",CH8248=\"-\",CH8344=\"-\",CH8440=\"-\"), \"-\", ROUND(AVERAGE(CH7864,CH7960,CH8056,CH8152,CH8248,CH8344,CH8440),0))","v":"-"},"-","-","-","-","-","-","-","-","-","-","-",{"$f":"IF(AND(CT7864=\"-\",CT7960=\"-\",CT8056=\"-\",CT8152=\"-\",CT8248=\"-\",CT8344=\"-\",CT8440=\"-\"), \"-\", IF(SUM($CH8632:$CS8632)=0, 0, ROUND(AVERAGE(CT7864,CT7960,CT8056,CT8152,CT8248,CT8344,CT8440),0)))","v":"-"},"-","-","-","-","-","-","-","-","-","-","-","-","-","-","-","-","-","-","-","-","-","-","-","-","-","-","-","-","-","-","-","-","-","-","-","-","-","-","-","-","-"]
[{"$error":"#N/A"},"7-Day Average",{"$f":"INDEX(Input_Details!$H$5:$H$24, MATCH($A8633, Input_Details!$J$5:$J$24, 0), 0)","v":{"$error":"#N/A"}},{"$f":"INDEX(Input_Details!$I$5:$I$24, MATCH($A8633, Input_Details!$J$5:$J$24, 0), 0)","v":{"$error":"#N/A"}},{"$f":"INDEX(Input_Details!$K$5:$K$24, MATCH($A8633, Input_Details!$J$5:$J$24, 0), 0)","v":{"$error":"#N/A"}},"7 Day Ave","21:15:00",{"$f":"IF(AND(H7865=\"\",H7961=\"\",H8057=\"\",H8153=\"\",H8249=\"\",H8345=\"\",H8441=\"\"), \"-\", IF(H7865+H7961+H8057+H8153+H8249+H8345+H8441=0,0,AVERAGE(H7865,H7961,H8057,H8153,H8249,H8345,H8441)))","v":"-"},"-","-","-","-","-","-","-","-","-","-","-",{"$f":"IF(AND(T7865=\"\",T7961=\"\",T8057=\"\",T8153=\"\",T8249=\"\",T8345=\"\",T8441=\"\"), \"-\", IF(SUM($H8633:$S8633)=0, 0, IF(T7865+T7961+T8057+T8153+T8249+T8345+T8441=0,0,AVERAGE(T7865,T7961,T8057,T8153,T8249,T8345,T8441))))","v":"-"},"-","-","-","-","-","-","-","-","-","-","-","-","-","-","-","-","-","-","-",{"$f":"IF(SUM(H8633:S8633)=0,\"-\",AVERAGEIF(G7780:G8451,$G8633,AN7780:AN8451))","v":"-"},{"$f":"IFERROR(IF(SUM(H8633:S8633)=0,\"-\",AVERAGEIF(G7780:G8451,G8633,AO7780:AO8451)), \"-\")","v":"-"},"-","-",{"$f":"INDEX(Input_Details!$L$5:$L$24, MATCH($A8633, Input_Details!$J$5:$J$24, 0), 0)","v":{"$error":"#N/A"}},"7 Day Ave","21:15:00",{"$f":"IF(AND(AU7865=\"\",AU7961=\"\",AU8057=\"\",AU8153=\"\",AU8249=\"\",AU8345=\"\",AU8441=\"\"), \"-\", IF(AU7865+AU7961+AU8057+AU8153+AU8249+AU8345+AU8441=0,0,AVERAGE(AU7865,AU7961,AU8057,AU8153,AU8249,AU8345,AU8441)))","v":"-"},"-","-","-","-","-","-","-","-","-","-","-",{"$f":"IF(AND(BG7865=\"\",BG7961=\"\",BG8057=\"\",BG8153=\"\",BG8249=\"\",BG8345=\"\",BG8441=\"\"), \"-\", IF(SUM($AU8633:$BF8633)=0, 0, IF(BG7865+BG7961+BG8057+BG8153+BG8249+BG8345+BG8441=0,0,AVERAGE(BG7865,BG7961,BG8057,BG8153,BG8249,BG8345,BG8441))))","v":"-"},"-","-","-","-","-","-","-","-","-","-","-","-","-","-","-","-","-","-","-",{"$f":"IF(SUM(AU8633:BF8633)=0,\"-\",AVERAGEIF(AT7780:AT8451,$G8633,CA7780:CA8451))","v":"-"},{"$f":"IFERROR(IF(SUM(AU8633:BF8633)=0,\"-\",AVERAGEIF(AT7780:AT8451,AT8633,CB7780:CB8451)), \"-\")","v":"-"},"-","-",null,"7 Day Ave","21:15:00",{"$f":"IF(AND(CH7865=\"-\",CH7961=\"-\",CH8057=\"-\",CH8153=\"-\",CH8249=\"-\",CH8345=\"-\",CH8441=\"-\"), \"-\", ROUND(AVERAGE(CH7865,CH7961,CH8057,CH8153,CH8249,CH8345,CH8441),0))","v":"-"},"-","-","-","-","-","-","-","-","-","-","-",{"$f":"IF(AND(CT7865=\"-\",CT7961=\"-\",CT8057=\"-\",CT8153=\"-\",CT8249=\"-\",CT8345=\"-\",CT8441=\"-\"), \"-\", IF(SUM($CH8633:$CS8633)=0, 0, ROUND(AVERAGE(CT7865,CT7961,CT8057,CT8153,CT8249,CT8345,CT8441),0)))","v":"-"},"-","-","-","-","-","-","-","-","-","-","-","-","-","-","-","-","-","-","-","-","-","-","-","-","-","-","-","-","-","-","-","-","-","-","-","-","-","-","-","-","-"]
[{"$error":"#N/A"},"7-Day Average",{"$f":"INDEX(Input_Details!$H$5:$H$24, MATCH($A8634, Input_Details!$J$5:$J$24, 0), 0)","v":{"$error":"#N/A"}},{"$f":"INDEX(Input_Details!$I$5:$I$24, MATCH($A8634, Input_Details!$J$5:$J$24, 0), 0)","v":{"$error":"#N/A"}},{"$f":"INDEX(Input_Details!$K$5:$K$24, MATCH($A8634, Input_Details!$J$5:$J$24, 0), 0)","v":{"$error":"#N/A"}},"7 Day Ave","21:30:00",{"$f":"IF(AND(H7866=\"\",H7962=\"\",H8058=\"\",H8154=\"\",H8250=\"\",H8346=\"\",H8442=\"\"), \"-\", IF(H7866+H7962+H8058+H8154+H8250+H8346+H8442=0,0,AVERAGE(H7866,H7962,H8058,H8154,H8250,H8346,H8442)))","v":"-"},"-","-","-","-","-","-","-","-","-","-","-",{"$f":"IF(AND(T7866=\"\",T7962=\"\",T8058=\"\",T8154=\"\",T8250=\"\",T8346=\"\",T8442=\"\"), \"-\", IF(SUM($H8634:$S8634)=0, 0, IF(T7866+T7962+T8058+T8154+T8250+T8346+T8442=0,0,AVERAGE(T7866,T7962,T8058,T8154,T8250,T8346,T8442))))","v":"-"},"-","-","-","-","-","-","-","-","-","-","-","-","-","-","-","-","-","-","-",{"$f":"IF(SUM(H8634:S8634)=0,\"-\",AVERAGEIF(G7780:G8451,$G8634,AN7780:AN8451))","v":"-"},{"$f":"IFERROR(IF(SUM(H8634:S8634)=0,\"-\",AVERAGEIF(G7780:G8451,G8634,AO7780:AO8451)), \"-\")","v":"-"},"-","-",{"$f":"INDEX(Input_Details!$L$5:$L$24, MATCH($A8634, Input_Details!$J$5:$J$24, 0), 0)","v":{"$error":"#N/A"}},"7 Day Ave","21:30:00",{"$f":"IF(AND(AU7866=\"\",AU7962=\"\",AU8058=\"\",AU8154=\"\",AU8250=\"\",AU8346=\"\",AU8442=\"\"), \"-\", IF(AU7866+AU7962+AU8058+AU8154+AU8250+AU8346+AU8442=0,0,AVERAGE(AU7866,AU7962,AU8058,AU8154,AU8250,AU8346,AU8442)))","v":"-"},"-","-","-","-","-","-","-","-","-","-","-",{"$f":"IF(AND(BG7866=\"\",BG7962=\"\",BG8058=\"\",BG8154=\"\",BG8250=\"\",BG8346=\"\",BG8442=\"\"), \"-\", IF(SUM($AU8634:$BF8634)=0, 0, IF(BG7866+BG7962+BG8058+BG8154+BG8250+BG8346+BG8442=0,0,AVERAGE(BG7866,BG7962,BG8058,BG8154,BG8250,BG8346,BG8442))))","v":"-"},"-","-","-","-","-","-","-","-","-","-","-","-","-","-","-","-","-","-","-",{"$f":"IF(SUM(AU8634:BF8634)=0,\"-\",AVERAGEIF(AT7780:AT8451,$G8634,CA7780:CA8451))","v":"-"},{"$f":"IFERROR(IF(SUM(AU8634:BF8634)=0,\"-\",AVERAGEIF(AT7780:AT8451,AT8634,CB7780:CB8451)), \"-\")","v":"-"},"-","-",null,"7 Day Ave","21:30:00",{"$f":"IF(AND(CH7866=\"-\",CH7962=\"-\",CH8058=\"-\",CH8154=\"-\",CH8250=\"-\",CH8346=\"-\",CH8442=\"-\"), \"-\", ROUND(AVERAGE(CH7866,CH7962,CH8058,CH8154,CH8250,CH8346,CH8442),0))","v":"-"},"-","-","-","-","-","-","-","-","-","-","-",{"$f":"IF(AND(CT7866=\"-\",CT7962=\"-\",CT8058=\"-\",CT8154=\"-\",CT8250=\"-\",CT8346=\"-\",CT8442=\"-\"), \"-\", IF(SUM($CH8634:$CS8634)=0, 0, ROUND(AVERAGE(CT7866,CT7962,CT8058,CT8154,CT8250,CT8346,CT8442),0)))","v":"-"},"-","-","-","-","-","-","-","-","-","-","-","-","-","-","-","-","-","-","-","-","-","-","-","-","-","-","-","-","-","-","-","-","-","-","-","-","-","-","-","-","-"]
[{"$error":"#N/A"},"7-Day Average",{"$f":"INDEX(Input_Details!$H$5:$H$24, MATCH($A8635, Input_Details!$J$5:$J$24, 0), 0)","v":{"$error":"#N/A"}},{"$f":"INDEX(Input_Details!$I$5:$I$24, MATCH($A8635, Input_Details!$J$5:$J$24, 0), 0)","v":{"$error":"#N/A"}},{"$f":"INDEX(Input_Details!$K$5:$K$24, MATCH($A8635, Input_Details!$J$5:$J$24, 0), 0)","v":{"$error":"#N/A"}},"7 Day Ave","21:45:00",{"$f":"IF(AND(H7867=\"\",H7963=\"\",H8059=\"\",H8155=\"\",H8251=\"\",H8347=\"\",H8443=\"\"), \"-\", IF(H7867+H7963+H8059+H8155+H8251+H8347+H8443=0,0,AVERAGE(H7867,H7963,H8059,H8155,H8251,H8347,H8443)))","v":"-"},"-","-","-","-","-","-","-","-","-","-","-",{"$f":"IF(AND(T7867=\"\",T7963=\"\",T8059=\"\",T8155=\"\",T8251=\"\",T8347=\"\",T8443=\"\"), \"-\", IF(SUM($H8635:$S8635)=0, 0, IF(T7867+T7963+T8059+T8155+T8251+T8347+T8443=0,0,AVERAGE(T7867,T7963,T8059,T8155,T8251,T8347,T8443))))","v":"-"},"-","-","-","-","-","-","-","-","-","-","-","-","-","-","-","-","-","-","-",{"$f":"IF(SUM(H8635:S8635)=0,\"-\",AVERAGEIF(G7780:G8451,$G8635,AN7780:AN8451))","v":"-"},{"$f":"IFERROR(IF(SUM(H8635:S8635)=0,\"-\",AVERAGEIF(G7780:G8451,G8635,AO7780:AO8451)), \"-\")","v":"-"},"-","-",{"$f":"INDEX(Input_Details!$L$5:$L$24, MATCH($A8635, Input_Details!$J$5:$J$24, 0), 0)","v":{"$error":"#N/A"}},"7 Day Ave","21:45:00",{"$f":"IF(AND(AU7867=\"\",AU7963=\"\",AU8059=\"\",AU8155=\"\",AU8251=\"\",AU8347=\"\",AU8443=\"\"), \"-\", IF(AU7867+AU7963+AU8059+AU8155+AU8251+AU8347+AU8443=0,0,AVERAGE(AU7867,AU7963,AU8059,AU8155,AU8251,AU8347,AU8443)))","v":"-"},"-","-","-","-","-","-","-","-","-","-","-",{"$f":"IF(AND(BG7867=\"\",BG7963=\"\",BG8059=\"\",BG8155=\"\",BG8251=\"\",BG8347=\"\",BG8443=\"\"), \"-\", IF(SUM($AU8635:$BF8635)=0, 0, IF(BG7867+BG7963+BG8059+BG8155+BG8251+BG8347+BG8443=0,0,AVERAGE(BG7867,BG7963,BG8059,BG8155,BG8251,BG8347,BG8443))))","v":"-"},"-","-","-","-","-","-","-","-","-","-","-","-","-","-","-","-","-","-","-",{"$f":"IF(SUM(AU8635:BF8635)=0,\"-\",AVERAGEIF(AT7780:AT8451,$G8635,CA7780:CA8451))","v":"-"},{"$f":"IFERROR(IF(SUM(AU8635:BF8635)=0,\"-\",AVERAGEIF(AT7780:AT8451,AT8635,CB7780:CB8451)), \"-\")","v":"-"},"-","-",null,"7 Day Ave","21:45:00",{"$f":"IF(AND(CH7867=\"-\",CH7963=\"-\",CH8059=\"-\",CH8155=\"-\",CH8251=\"-\",CH8347=\"-\",CH8443=\"-\"), \"-\", ROUND(AVERAGE(CH7867,CH7963,CH8059,CH8155,CH8251,CH8347,CH8443),0))","v":"-"},"-","-","-","-","-","-","-","-","-","-","-",{"$f":"IF(AND(CT7867=\"-\",CT7963=\"-\",CT8059=\"-\",CT8155=\"-\",CT8251=\"-\",CT8347=\"-\",CT8443=\"-\"), \"-\", IF(SUM($CH8635:$CS8635)=0, 0, ROUND(AVERAGE(CT7867,CT7963,CT8059,CT8155,CT8251,CT8347,CT8443),0)))","v":"-"},"-","-","-","-","-","-","-","-","-","-","-","-","-","-","-","-","-","-","-","-","-","-","-","-","-","-","-","-","-","-","-","-","-","-","-","-","-","-","-","-","-"]
[{"$error":"#N/A"},"7-Day Average",{"$f":"INDEX(Input_Details!$H$5:$H$24, MATCH($A8636, Input_Details!$J$5:$J$24, 0), 0)","v":{"$error":"#N/A"}},{"$f":"INDEX(Input_Details!$I$5:$I$24, MATCH($A8636, Input_Details!$J$5:$J$24, 0), 0)","v":{"$error":"#N/A"}},{"$f":"INDEX(Input_Details!$K$5:$K$24, MATCH($A8636, Input_Details!$J$5:$J$24, 0), 0)","v":{"$error":"#N/A"}},"7 Day Ave","22:00:00",{"$f":"IF(AND(H7868=\"\",H7964=\"\",H8060=\"\",H8156=\"\",H8252=\"\",H8348=\"\",H8444=\"\"), \"-\", IF(H7868+H7964+H8060+H8156+H8252+H8348+H8444=0,0,AVERAGE(H7868,H7964,H8060,H8156,H8252,H8348,H8444)))","v":"-"},"-","-","-","-","-","-","-","-","-","-","-",{"$f":"IF(AND(T7868=\"\",T7964=\"\",T8060=\"\",T8156=\"\",T8252=\"\",T8348=\"\",T8444=\"\"), \"-\", IF(SUM($H8636:$S8636)=0, 0, IF(T7868+T7964+T8060+T8156+T8252+T8348+T8444=0,0,AVERAGE(T7868,T7964,T8060,T8156,T8252,T8348,T8444))))","v":"-"},"-","-","-","-","-","-","-","-","-","-","-","-","-","-","-","-","-","-","-",{"$f":"IF(SUM(H8636:S8636)=0,\"-\",AVERAGEIF(G7780:G8451,$G8636,AN7780:AN8451))","v":"-"},{"$f":"IFERROR(IF(SUM(H8636:S8636)=0,\"-\",AVERAGEIF(G7780:G8451,G8636,AO7780:AO8451)), \"-\")","v":"-"},"-","-",{"$f":"INDEX(Input_Details!$L$5:$L$24, MATCH($A8636, Input_Details!$J$5:$J$24, 0), 0)","v":{"$error":"#N/A"}},"7 Day Ave","22:00:00",{"$f":"IF(AND(AU7868=\"\",AU7964=\"\",AU8060=\"\",AU8156=\"\",AU8252=\"\",AU8348=\"\",AU8444=\"\"), \"-\", IF(AU7868+AU7964+AU8060+AU8156+AU8252+AU8348+AU8444=0,0,AVERAGE(AU7868,AU7964,AU8060,AU8156,AU8252,AU8348,AU8444)))","v":"-"},"-","-","-","-","-","-","-","-","-","-","-",{"$f":"IF(AND(BG7868=\"\",BG7964=\"\",BG8060=\"\",BG8156=\"\",BG8252=\"\",BG8348=\"\",BG8444=\"\"), \"-\", IF(SUM($AU8636:$BF8636)=0, 0, IF(BG7868+BG7964+BG8060+BG8156+BG8252+BG8348+BG8444=0,0,AVERAGE(BG7868,BG7964,BG8060,BG8156,BG8252,BG8348,BG8444))))","v":"-"},"-","-","-","-","-","-","-","-","-","-","-","-","-","-","-","-","-","-","-",{"$f":"IF(SUM(AU8636:BF8636)=0,\"-\",AVERAGEIF(AT7780:AT8451,$G8636,CA7780:CA8451))","v":"-"},{"$f":"IFERROR(IF(SUM(AU8636:BF8636)=0,\"-\",AVERAGEIF(AT7780:AT8451,AT8636,CB7780:CB8451)), \"-\")","v":"-"},"-","-",null,"7 Day Ave","22:00:00",{"$f":"IF(AND(CH7868=\"-\",CH7964=\"-\",CH8060=\"-\",CH8156=\"-\",CH8252=\"-\",CH8348=\"-\",CH8444=\"-\"), \"-\", ROUND(AVERAGE(CH7868,CH7964,CH8060,CH8156,CH8252,CH8348,CH8444),0))","v":"-"},"-","-","-","-","-","-","-","-","-","-","-",{"$f":"IF(AND(CT7868=\"-\",CT7964=\"-\",CT8060=\"-\",CT8156=\"-\",CT8252=\"-\",CT8348=\"-\",CT8444=\"-\"), \"-\", IF(SUM($CH8636:$CS8636)=0, 0, ROUND(AVERAGE(CT7868,CT7964,CT8060,CT8156,CT8252,CT8348,CT8444),0)))","v":"-"},"-","-","-","-","-","-","-","-","-","-","-","-","-","-","-","-","-","-","-","-","-","-","-","-","-","-","-","-","-","-","-","-","-","-","-","-","-","-","-","-","-"]
[{"$error":"#N/A"},"7-Day Average",{"$f":"INDEX(Input_Details!$H$5:$H$24, MATCH($A8637, Input_Details!$J$5:$J$24, 0), 0)","v":{"$error":"#N/A"}},{"$f":"INDEX(Input_Details!$I$5:$I$24, MATCH($A8637, Input_Details!$J$5:$J$24, 0), 0)","v":{"$error":"#N/A"}},{"$f":"INDEX(Input_Details!$K$5:$K$24, MATCH($A8637, Input_Details!$J$5:$J$24, 0), 0)","v":{"$error":"#N/A"}},"7 Day Ave","22:15:00",{"$f":"IF(AND(H7869=\"\",H7965=\"\",H8061=\"\",H8157=\"\",H8253=\"\",H8349=\"\",H8445=\"\"), \"-\", IF(H7869+H7965+H8061+H8157+H8253+H8349+H8445=0,0,AVERAGE(H7869,H7965,H8061,H8157,H8253,H8349,H8445)))","v":"-"},"-","-","-","-","-","-","-","-","-","-","-",{"$f":"IF(AND(T7869=\"\",T7965=\"\",T8061=\"\",T8157=\"\",T8253=\"\",T8349=\"\",T8445=\"\"), \"-\", IF(SUM($H8637:$S8637)=0, 0, IF(T7869+T7965+T8061+T8157+T8253+T8349+T8445=0,0,AVERAGE(T7869,T7965,T8061,T8157,T8253,T8349,T8445))))","v":"-"},"-","-","-","-","-","-","-","-","-","-","-","-","-","-","-","-","-","-","-",{"$f":"IF(SUM(H8637:S8637)=0,\"-\",AVERAGEIF(G7780:G8451,$G8637,AN7780:AN8451))","v":"-"},{"$f":"IFERROR(IF(SUM(H8637:S8637)=0,\"-\",AVERAGEIF(G7780:G8451,G8637,AO7780:AO8451)), \"-\")","v":"-"},"-","-",{"$f":"INDEX(Input_Details!$L$5:$L$24, MATCH($A8637, Input_Details!$J$5:$J$24, 0), 0)","v":{"$error":"#N/A"}},"7 Day Ave","22:15:00",{"$f":"IF(AND(AU7869=\"\",AU7965=\"\",AU8061=\"\",AU8157=\"\",AU8253=\"\",AU8349=\"\",AU8445=\"\"), \"-\", IF(AU7869+AU7965+AU8061+AU8157+AU8253+AU8349+AU8445=0,0,AVERAGE(AU7869,AU7965,AU8061,AU8157,AU8253,AU8349,AU8445)))","v":"-"},"-","-","-","-","-","-","-","-","-","-","-",{"$f":"IF(AND(BG7869=\"\",BG7965=\"\",BG8061=\"\",BG8157=\"\",BG8253=\"\",BG8349=\"\",BG8445=\"\"), \"-\", IF(SUM($AU8637:$BF8637)=0, 0, IF(BG7869+BG7965+BG8061+BG8157+BG8253+BG8349+BG8445=0,0,AVERAGE(BG7869,BG7965,BG8061,BG8157,BG8253,BG8349,BG8445))))","v":"-"},"-","-","-","-","-","-","-","-","-","-","-","-","-","-","-","-","-","-","-",{"$f":"IF(SUM(AU8637:BF8637)=0,\"-\",AVERAGEIF(AT7780:AT8451,$G8637,CA7780:CA8451))","v":"-"},{"$f":"IFERROR(IF(SUM(AU8637:BF8637)=0,\"-\",AVERAGEIF(AT7780:AT8451,AT8637,CB7780:CB8451)), \"-\")","v":"-"},"-","-",null,"7 Day Ave","22:15:00",{"$f":"IF(AND(CH7869=\"-\",CH7965=\"-\",CH8061=\"-\",CH8157=\"-\",CH8253=\"-\",CH8349=\"-\",CH8445=\"-\"), \"-\", ROUND(AVERAGE(CH7869,CH7965,CH8061,CH8157,CH8253,CH8349,CH8445),0))","v":"-"},"-","-","-","-","-","-","-","-","-","-","-",{"$f":"IF(AND(CT7869=\"-\",CT7965=\"-\",CT8061=\"-\",CT8157=\"-\",CT8253=\"-\",CT8349=\"-\",CT8445=\"-\"), \"-\", IF(SUM($CH8637:$CS8637)=0, 0, ROUND(AVERAGE(CT7869,CT7965,CT8061,CT8157,CT8253,CT8349,CT8445),0)))","v":"-"},"-","-","-","-","-","-","-","-","-","-","-","-","-","-","-","-","-","-","-","-","-","-","-","-","-","-","-","-","-","-","-","-","-","-","-","-","-","-","-","-","-"]
[{"$error":"#N/A"},"7-Day Average",{"$f":"INDEX(Input_Details!$H$5:$H$24, MATCH($A8638, Input_Details!$J$5:$J$24, 0), 0)","v":{"$error":"#N/A"}},{"$f":"INDEX(Input_Details!$I$5:$I$24, MATCH($A8638, Input_Details!$J$5:$J$24, 0), 0)","v":{"$error":"#N/A"}},{"$f":"INDEX(Input_Details!$K$5:$K$24, MATCH($A8638, Input_Details!$J$5:$J$24, 0), 0)","v":{"$error":"#N/A"}},"7 Day Ave","22:30:00",{"$f":"IF(AND(H7870=\"\",H7966=\"\",H8062=\"\",H8158=\"\",H8254=\"\",H8350=\"\",H8446=\"\"), \"-\", IF(H7870+H7966+H8062+H8158+H8254+H8350+H8446=0,0,AVERAGE(H7870,H7966,H8062,H8158,H8254,H8350,H8446)))","v":"-"},"-","-","-","-","-","-","-","-","-","-","-",{"$f":"IF(AND(T7870=\"\",T7966=\"\",T8062=\"\",T8158=\"\",T8254=\"\",T8350=\"\",T8446=\"\"), \"-\", IF(SUM($H8638:$S8638)=0, 0, IF(T7870+T7966+T8062+T8158+T8254+T8350+T8446=0,0,AVERAGE(T7870,T7966,T8062,T8158,T8254,T8350,T8446))))","v":"-"},"-","-","-","-","-","-","-","-","-","-","-","-","-","-","-","-","-","-","-",{"$f":"IF(SUM(H8638:S8638)=0,\"-\",AVERAGEIF(G7780:G8451,$G8638,AN7780:AN8451))","v":"-"},{"$f":"IFERROR(IF(SUM(H8638:S8638)=0,\"-\",AVERAGEIF(G7780:G8451,G8638,AO7780:AO8451)), \"-\")","v":"-"},"-","-",{"$f":"INDEX(Input_Details!$L$5:$L$24, MATCH($A8638, Input_Details!$J$5:$J$24, 0), 0)","v":{"$error":"#N/A"}},"7 Day Ave","22:30:00",{"$f":"IF(AND(AU7870=\"\",AU7966=\"\",AU8062=\"\",AU8158=\"\",AU8254=\"\",AU8350=\"\",AU8446=\"\"), \"-\", IF(AU7870+AU7966+AU8062+AU8158+AU8254+AU8350+AU8446=0,0,AVERAGE(AU7870,AU7966,AU8062,AU8158,AU8254,AU8350,AU8446)))","v":"-"},"-","-","-","-","-","-","-","-","-","-","-",{"$f":"IF(AND(BG7870=\"\",BG7966=\"\",BG8062=\"\",BG8158=\"\",BG8254=\"\",BG8350=\"\",BG8446=\"\"), \"-\", IF(SUM($AU8638:$BF8638)=0, 0, IF(BG7870+BG7966+BG8062+BG8158+BG8254+BG8350+BG8446=0,0,AVERAGE(BG7870,BG7966,BG8062,BG8158,BG8254,BG8350,BG8446))))","v":"-"},"-","-","-","-","-","-","-","-","-","-","-","-","-","-","-","-","-","-","-",{"$f":"IF(SUM(AU8638:BF8638)=0,\"-\",AVERAGEIF(AT7780:AT8451,$G8638,CA7780:CA8451))","v":"-"},{"$f":"IFERROR(IF(SUM(AU8638:BF8638)=0,\"-\",AVERAGEIF(AT7780:AT8451,AT8638,CB7780:CB8451)), \"-\")","v":"-"},"-","-",null,"7 Day Ave","22:30:00",{"$f":"IF(AND(CH7870=\"-\",CH7966=\"-\",CH8062=\"-\",CH8158=\"-\",CH8254=\"-\",CH8350=\"-\",CH8446=\"-\"), \"-\", ROUND(AVERAGE(CH7870,CH7966,CH8062,CH8158,CH8254,CH8350,CH8446),0))","v":"-"},"-","-","-","-","-","-","-","-","-","-","-",{"$f":"IF(AND(CT7870=\"-\",CT7966=\"-\",CT8062=\"-\",CT8158=\"-\",CT8254=\"-\",CT8350=\"-\",CT8446=\"-\"), \"-\", IF(SUM($CH8638:$CS8638)=0, 0, ROUND(AVERAGE(CT7870,CT7966,CT8062,CT8158,CT8254,CT8350,CT8446),0)))","v":"-"},"-","-","-","-","-","-","-","-","-","-","-","-","-","-","-","-","-","-","-","-","-","-","-","-","-","-","-","-","-","-","-","-","-","-","-","-","-","-","-","-","-"]
[{"$error":"#N/A"},"7-Day Average",{"$f":"INDEX(Input_Details!$H$5:$H$24, MATCH($A8639, Input_Details!$J$5:$J$24, 0), 0)","v":{"$error":"#N/A"}},{"$f":"INDEX(Input_Details!$I$5:$I$24, MATCH($A8639, Input_Details!$J$5:$J$24, 0), 0)","v":{"$error":"#N/A"}},{"$f":"INDEX(Input_Details!$K$5:$K$24, MATCH($A8639, Input_Details!$J$5:$J$24, 0), 0)","v":{"$error":"#N/A"}},"7 Day Ave","22:45:00",{"$f":"IF(AND(H7871=\"\",H7967=\"\",H8063=\"\",H8159=\"\",H8255=\"\",H8351=\"\",H8447=\"\"), \"-\", IF(H7871+H7967+H8063+H8159+H8255+H8351+H8447=0,0,AVERAGE(H7871,H7967,H8063,H8159,H8255,H8351,H8447)))","v":"-"},"-","-","-","-","-","-","-","-","-","-","-",{"$f":"IF(AND(T7871=\"\",T7967=\"\",T8063=\"\",T8159=\"\",T8255=\"\",T8351=\"\",T8447=\"\"), \"-\", IF(SUM($H8639:$S8639)=0, 0, IF(T7871+T7967+T8063+T8159+T8255+T8351+T8447=0,0,AVERAGE(T7871,T7967,T8063,T8159,T8255,T8351,T8447))))","v":"-"},"-","-","-","-","-","-","-","-","-","-","-","-","-","-","-","-","-","-","-",{"$f":"IF(SUM(H8639:S8639)=0,\"-\",AVERAGEIF(G7780:G8451,$G8639,AN7780:AN8451))","v":"-"},{"$f":"IFERROR(IF(SUM(H8639:S8639)=0,\"-\",AVERAGEIF(G7780:G8451,G8639,AO7780:AO8451)), \"-\")","v":"-"},"-","-",{"$f":"INDEX(Input_Details!$L$5:$L$24, MATCH($A8639, Input_Details!$J$5:$J$24, 0), 0)","v":{"$error":"#N/A"}},"7 Day Ave","22:45:00",{"$f":"IF(AND(AU7871=\"\",AU7967=\"\",AU8063=\"\",AU8159=\"\",AU8255=\"\",AU8351=\"\",AU8447=\"\"), \"-\", IF(AU7871+AU7967+AU8063+AU8159+AU8255+AU8351+AU8447=0,0,AVERAGE(AU7871,AU7967,AU8063,AU8159,AU8255,AU8351,AU8447)))","v":"-"},"-","-","-","-","-","-","-","-","-","-","-",{"$f":"IF(AND(BG7871=\"\",BG7967=\"\",BG8063=\"\",BG8159=\"\",BG8255=\"\",BG8351=\"\",BG8447=\"\"), \"-\", IF(SUM($AU8639:$BF8639)=0, 0, IF(BG7871+BG7967+BG8063+BG8159+BG8255+BG8351+BG8447=0,0,AVERAGE(BG7871,BG7967,BG8063,BG8159,BG8255,BG8351,BG8447))))","v":"-"},"-","-","-","-","-","-","-","-","-","-","-","-","-","-","-","-","-","-","-",{"$f":"IF(SUM(AU8639:BF8639)=0,\"-\",AVERAGEIF(AT7780:AT8451,$G8639,CA7780:CA8451))","v":"-"},{"$f":"IFERROR(IF(SUM(AU8639:BF8639)=0,\"-\",AVERAGEIF(AT7780:AT8451,AT8639,CB7780:CB8451)), \"-\")","v":"-"},"-","-",null,"7 Day Ave","22:45:00",{"$f":"IF(AND(CH7871=\"-\",CH7967=\"-\",CH8063=\"-\",CH8159=\"-\",CH8255=\"-\",CH8351=\"-\",CH8447=\"-\"), \"-\", ROUND(AVERAGE(CH7871,CH7967,CH8063,CH8159,CH8255,CH8351,CH8447),0))","v":"-"},"-","-","-","-","-","-","-","-","-","-","-",{"$f":"IF(AND(CT7871=\"-\",CT7967=\"-\",CT8063=\"-\",CT8159=\"-\",CT8255=\"-\",CT8351=\"-\",CT8447=\"-\"), \"-\", IF(SUM($CH8639:$CS8639)=0, 0, ROUND(AVERAGE(CT7871,CT7967,CT8063,CT8159,CT8255,CT8351,CT8447),0)))","v":"-"},"-","-","-","-","-","-","-","-","-","-","-","-","-","-","-","-","-","-","-","-","-","-","-","-","-","-","-","-","-","-","-","-","-","-","-","-","-","-","-","-","-"]
[{"$error":"#N/A"},"7-Day Average",{"$f":"INDEX(Input_Details!$H$5:$H$24, MATCH($A8640, Input_Details!$J$5:$J$24, 0), 0)","v":{"$error":"#N/A"}},{"$f":"INDEX(Input_Details!$I$5:$I$24, MATCH($A8640, Input_Details!$J$5:$J$24, 0), 0)","v":{"$error":"#N/A"}},{"$f":"INDEX(Input_Details!$K$5:$K$24, MATCH($A8640, Input_Details!$J$5:$J$24, 0), 0)","v":{"$error":"#N/A"}},"7 Day Ave","23:00:00",{"$f":"IF(AND(H7872=\"\",H7968=\"\",H8064=\"\",H8160=\"\",H8256=\"\",H8352=\"\",H8448=\"\"), \"-\", IF(H7872+H7968+H8064+H8160+H8256+H8352+H8448=0,0,AVERAGE(H7872,H7968,H8064,H8160,H8256,H8352,H8448)))","v":"-"},"-","-","-","-","-","-","-","-","-","-","-",{"$f":"IF(AND(T7872=\"\",T7968=\"\",T8064=\"\",T8160=\"\",T8256=\"\",T8352=\"\",T8448=\"\"), \"-\", IF(SUM($H8640:$S8640)=0, 0, IF(T7872+T7968+T8064+T8160+T8256+T8352+T8448=0,0,AVERAGE(T7872,T7968,T8064,T8160,T8256,T8352,T8448))))","v":"-"},"-","-","-","-","-","-","-","-","-","-","-","-","-","-","-","-","-","-","-",{"$f":"IF(SUM(H8640:S8640)=0,\"-\",AVERAGEIF(G7780:G8451,$G8640,AN7780:AN8451))","v":"-"},{"$f":"IFERROR(IF(SUM(H8640:S8640)=0,\"-\",AVERAGEIF(G7780:G8451,G8640,AO7780:AO8451)), \"-\")","v":"-"},"-","-",{"$f":"INDEX(Input_Details!$L$5:$L$24, MATCH($A8640, Input_Details!$J$5:$J$24, 0), 0)","v":{"$error":"#N/A"}},"7 Day Ave","23:00:00",{"$f":"IF(AND(AU7872=\"\",AU7968=\"\",AU8064=\"\",AU8160=\"\",AU8256=\"\",AU8352=\"\",AU8448=\"\"), \"-\", IF(AU7872+AU7968+AU8064+AU8160+AU8256+AU8352+AU8448=0,0,AVERAGE(AU7872,AU7968,AU8064,AU8160,AU8256,AU8352,AU8448)))","v":"-"},"-","-","-","-","-","-","-","-","-","-","-",{"$f":"IF(AND(BG7872=\"\",BG7968=\"\",BG8064=\"\",BG8160=\"\",BG8256=\"\",BG8352=\"\",BG8448=\"\"), \"-\", IF(SUM($AU8640:$BF8640)=0, 0, IF(BG7872+BG7968+BG8064+BG8160+BG8256+BG8352+BG8448=0,0,AVERAGE(BG7872,BG7968,BG8064,BG8160,BG8256,BG8352,BG8448))))","v":"-"},"-","-","-","-","-","-","-","-","-","-","-","-","-","-","-","-","-","-","-",{"$f":"IF(SUM(AU8640:BF8640)=0,\"-\",AVERAGEIF(AT7780:AT8451,$G8640,CA7780:CA8451))","v":"-"},{"$f":"IFERROR(IF(SUM(AU8640:BF8640)=0,\"-\",AVERAGEIF(AT7780:AT8451,AT8640,CB7780:CB8451)), \"-\")","v":"-"},"-","-",null,"7 Day Ave","23:00:00",{"$f":"IF(AND(CH7872=\"-\",CH7968=\"-\",CH8064=\"-\",CH8160=\"-\",CH8256=\"-\",CH8352=\"-\",CH8448=\"-\"), \"-\", ROUND(AVERAGE(CH7872,CH7968,CH8064,CH8160,CH8256,CH8352,CH8448),0))","v":"-"},"-","-","-","-","-","-","-","-","-","-","-",{"$f":"IF(AND(CT7872=\"-\",CT7968=\"-\",CT8064=\"-\",CT8160=\"-\",CT8256=\"-\",CT8352=\"-\",CT8448=\"-\"), \"-\", IF(SUM($CH8640:$CS8640)=0, 0, ROUND(AVERAGE(CT7872,CT7968,CT8064,CT8160,CT8256,CT8352,CT8448),0)))","v":"-"},"-","-","-","-","-","-","-","-","-","-","-","-","-","-","-","-","-","-","-","-","-","-","-","-","-","-","-","-","-","-","-","-","-","-","-","-","-","-","-","-","-"]
[{"$error":"#N/A"},"7-Day Average",{"$f":"INDEX(Input_Details!$H$5:$H$24, MATCH($A8641, Input_Details!$J$5:$J$24, 0), 0)","v":{"$error":"#N/A"}},{"$f":"INDEX(Input_Details!$I$5:$I$24, MATCH($A8641, Input_Details!$J$5:$J$24, 0), 0)","v":{"$error":"#N/A"}},{"$f":"INDEX(Input_Details!$K$5:$K$24, MATCH($A8641, Input_Details!$J$5:$J$24, 0), 0)","v":{"$error":"#N/A"}},"7 Day Ave","23:15:00",{"$f":"IF(AND(H7873=\"\",H7969=\"\",H8065=\"\",H8161=\"\",H8257=\"\",H8353=\"\",H8449=\"\"), \"-\", IF(H7873+H7969+H8065+H8161+H8257+H8353+H8449=0,0,AVERAGE(H7873,H7969,H8065,H8161,H8257,H8353,H8449)))","v":"-"},"-","-","-","-","-","-","-","-","-","-","-",{"$f":"IF(AND(T7873=\"\",T7969=\"\",T8065=\"\",T8161=\"\",T8257=\"\",T8353=\"\",T8449=\"\"), \"-\", IF(SUM($H8641:$S8641)=0, 0, IF(T7873+T7969+T8065+T8161+T8257+T8353+T8449=0,0,AVERAGE(T7873,T7969,T8065,T8161,T8257,T8353,T8449))))","v":"-"},"-","-","-","-","-","-","-","-","-","-","-","-","-","-","-","-","-","-","-",{"$f":"IF(SUM(H8641:S8641)=0,\"-\",AVERAGEIF(G7780:G8451,$G8641,AN7780:AN8451))","v":"-"},{"$f":"IFERROR(IF(SUM(H8641:S8641)=0,\"-\",AVERAGEIF(G7780:G8451,G8641,AO7780:AO8451)), \"-\")","v":"-"},"-","-",{"$f":"INDEX(Input_Details!$L$5:$L$24, MATCH($A8641, Input_Details!$J$5:$J$24, 0), 0)","v":{"$error":"#N/A"}},"7 Day Ave","23:15:00",{"$f":"IF(AND(AU7873=\"\",AU7969=\"\",AU8065=\"\",AU8161=\"\",AU8257=\"\",AU8353=\"\",AU8449=\"\"), \"-\", IF(AU7873+AU7969+AU8065+AU8161+AU8257+AU8353+AU8449=0,0,AVERAGE(AU7873,AU7969,AU8065,AU8161,AU8257,AU8353,AU8449)))","v":"-"},"-","-","-","-","-","-","-","-","-","-","-",{"$f":"IF(AND(BG7873=\"\",BG7969=\"\",BG8065=\"\",BG8161=\"\",BG8257=\"\",BG8353=\"\",BG8449=\"\"), \"-\", IF(SUM($AU8641:$BF8641)=0, 0, IF(BG7873+BG7969+BG8065+BG8161+BG8257+BG8353+BG8449=0,0,AVERAGE(BG7873,BG7969,BG8065,BG8161,BG8257,BG8353,BG8449))))","v":"-"},"-","-","-","-","-","-","-","-","-","-","-","-","-","-","-","-","-","-","-",{"$f":"IF(SUM(AU8641:BF8641)=0,\"-\",AVERAGEIF(AT7780:AT8451,$G8641,CA7780:CA8451))","v":"-"},{"$f":"IFERROR(IF(SUM(AU8641:BF8641)=0,\"-\",AVERAGEIF(AT7780:AT8451,AT8641,CB7780:CB8451)), \"-\")","v":"-"},"-","-",null,"7 Day Ave","23:15:00",{"$f":"IF(AND(CH7873=\"-\",CH7969=\"-\",CH8065=\"-\",CH8161=\"-\",CH8257=\"-\",CH8353=\"-\",CH8449=\"-\"), \"-\", ROUND(AVERAGE(CH7873,CH7969,CH8065,CH8161,CH8257,CH8353,CH8449),0))","v":"-"},"-","-","-","-","-","-","-","-","-","-","-",{"$f":"IF(AND(CT7873=\"-\",CT7969=\"-\",CT8065=\"-\",CT8161=\"-\",CT8257=\"-\",CT8353=\"-\",CT8449=\"-\"), \"-\", IF(SUM($CH8641:$CS8641)=0, 0, ROUND(AVERAGE(CT7873,CT7969,CT8065,CT8161,CT8257,CT8353,CT8449),0)))","v":"-"},"-","-","-","-","-","-","-","-","-","-","-","-","-","-","-","-","-","-","-","-","-","-","-","-","-","-","-","-","-","-","-","-","-","-","-","-","-","-","-","-","-"]
[{"$error":"#N/A"},"7-Day Average",{"$f":"INDEX(Input_Details!$H$5:$H$24, MATCH($A8642, Input_Details!$J$5:$J$24, 0), 0)","v":{"$error":"#N/A"}},{"$f":"INDEX(Input_Details!$I$5:$I$24, MATCH($A8642, Input_Details!$J$5:$J$24, 0), 0)","v":{"$error":"#N/A"}},{"$f":"INDEX(Input_Details!$K$5:$K$24, MATCH($A8642, Input_Details!$J$5:$J$24, 0), 0)","v":{"$error":"#N/A"}},"7 Day Ave","23:30:00",{"$f":"IF(AND(H7874=\"\",H7970=\"\",H8066=\"\",H8162=\"\",H8258=\"\",H8354=\"\",H8450=\"\"), \"-\", IF(H7874+H7970+H8066+H8162+H8258+H8354+H8450=0,0,AVERAGE(H7874,H7970,H8066,H8162,H8258,H8354,H8450)))","v":"-"},"-","-","-","-","-","-","-","-","-","-","-",{"$f":"IF(AND(T7874=\"\",T7970=\"\",T8066=\"\",T8162=\"\",T8258=\"\",T8354=\"\",T8450=\"\"), \"-\", IF(SUM($H8642:$S8642)=0, 0, IF(T7874+T7970+T8066+T8162+T8258+T8354+T8450=0,0,AVERAGE(T7874,T7970,T8066,T8162,T8258,T8354,T8450))))","v":"-"},"-","-","-","-","-","-","-","-","-","-","-","-","-","-","-","-","-","-","-",{"$f":"IF(SUM(H8642:S8642)=0,\"-\",AVERAGEIF(G7780:G8451,$G8642,AN7780:AN8451))","v":"-"},{"$f":"IFERROR(IF(SUM(H8642:S8642)=0,\"-\",AVERAGEIF(G7780:G8451,G8642,AO7780:AO8451)), \"-\")","v":"-"},"-","-",{"$f":"INDEX(Input_Details!$L$5:$L$24, MATCH($A8642, Input_Details!$J$5:$J$24, 0), 0)","v":{"$error":"#N/A"}},"7 Day Ave","23:30:00",{"$f":"IF(AND(AU7874=\"\",AU7970=\"\",AU8066=\"\",AU8162=\"\",AU8258=\"\",AU8354=\"\",AU8450=\"\"), \"-\", IF(AU7874+AU7970+AU8066+AU8162+AU8258+AU8354+AU8450=0,0,AVERAGE(AU7874,AU7970,AU8066,AU8162,AU8258,AU8354,AU8450)))","v":"-"},"-","-","-","-","-","-","-","-","-","-","-",{"$f":"IF(AND(BG7874=\"\",BG7970=\"\",BG8066=\"\",BG8162=\"\",BG8258=\"\",BG8354=\"\",BG8450=\"\"), \"-\", IF(SUM($AU8642:$BF8642)=0, 0, IF(BG7874+BG7970+BG8066+BG8162+BG8258+BG8354+BG8450=0,0,AVERAGE(BG7874,BG7970,BG8066,BG8162,BG8258,BG8354,BG8450))))","v":"-"},"-","-","-","-","-","-","-","-","-","-","-","-","-","-","-","-","-","-","-",{"$f":"IF(SUM(AU8642:BF8642)=0,\"-\",AVERAGEIF(AT7780:AT8451,$G8642,CA7780:CA8451))","v":"-"},{"$f":"IFERROR(IF(SUM(AU8642:BF8642)=0,\"-\",AVERAGEIF(AT7780:AT8451,AT8642,CB7780:CB8451)), \"-\")","v":"-"},"-","-",null,"7 Day Ave","23:30:00",{"$f":"IF(AND(CH7874=\"-\",CH7970=\"-\",CH8066=\"-\",CH8162=\"-\",CH8258=\"-\",CH8354=\"-\",CH8450=\"-\"), \"-\", ROUND(AVERAGE(CH7874,CH7970,CH8066,CH8162,CH8258,CH8354,CH8450),0))","v":"-"},"-","-","-","-","-","-","-","-","-","-","-",{"$f":"IF(AND(CT7874=\"-\",CT7970=\"-\",CT8066=\"-\",CT8162=\"-\",CT8258=\"-\",CT8354=\"-\",CT8450=\"-\"), \"-\", IF(SUM($CH8642:$CS8642)=0, 0, ROUND(AVERAGE(CT7874,CT7970,CT8066,CT8162,CT8258,CT8354,CT8450),0)))","v":"-"},"-","-","-","-","-","-","-","-","-","-","-","-","-","-","-","-","-","-","-","-","-","-","-","-","-","-","-","-","-","-","-","-","-","-","-","-","-","-","-","-","-"]
[{"$f":"A8642","v":{"$error":"#N/A"}},"7-Day Average",{"$f":"INDEX(Input_Details!$H$5:$H$24, MATCH($A8643, Input_Details!$J$5:$J$24, 0), 0)","v":{"$error":"#N/A"}},{"$f":"INDEX(Input_Details!$I$5:$I$24, MATCH($A8643, Input_Details!$J$5:$J$24, 0), 0)","v":{"$error":"#N/A"}},{"$f":"INDEX(Input_Details!$K$5:$K$24, MATCH($A8643, Input_Details!$J$5:$J$24, 0), 0)","v":{"$error":"#N/A"}},"7 Day Ave","23:45:00",{"$f":"IF(AND(H7875=\"\",H7971=\"\",H8067=\"\",H8163=\"\",H8259=\"\",H8355=\"\",H8451=\"\"), \"-\", IF(H7875+H7971+H8067+H8163+H8259+H8355+H8451=0,0,AVERAGE(H7875,H7971,H8067,H8163,H8259,H8355,H8451)))","v":"-"},"-","-","-","-","-","-","-","-","-","-","-",{"$f":"IF(AND(T7875=\"\",T7971=\"\",T8067=\"\",T8163=\"\",T8259=\"\",T8355=\"\",T8451=\"\"), \"-\", IF(SUM($H8643:$S8643)=0, 0, IF(T7875+T7971+T8067+T8163+T8259+T8355+T8451=0,0,AVERAGE(T7875,T7971,T8067,T8163,T8259,T8355,T8451))))","v":"-"},"-","-","-","-","-","-","-","-","-","-","-","-","-","-","-","-","-","-","-",{"$f":"IF(SUM(H8643:S8643)=0,\"-\",AVERAGEIF(G7780:G8451,$G8643,AN7780:AN8451))","v":"-"},{"$f":"IFERROR(IF(SUM(H8643:S8643)=0,\"-\",AVERAGEIF(G7780:G8451,G8643,AO7780:AO8451)), \"-\")","v":"-"},"-","-",{"$f":"INDEX(Input_Details!$L$5:$L$24, MATCH($A8643, Input_Details!$J$5:$J$24, 0), 0)","v":{"$error":"#N/A"}},"7 Day Ave","23:45:00",{"$f":"IF(AND(AU7875=\"\",AU7971=\"\",AU8067=\"\",AU8163=\"\",AU8259=\"\",AU8355=\"\",AU8451=\"\"), \"-\", IF(AU7875+AU7971+AU8067+AU8163+AU8259+AU8355+AU8451=0,0,AVERAGE(AU7875,AU7971,AU8067,AU8163,AU8259,AU8355,AU8451)))","v":"-"},"-","-","-","-","-","-","-","-","-","-","-",{"$f":"IF(AND(BG7875=\"\",BG7971=\"\",BG8067=\"\",BG8163=\"\",BG8259=\"\",BG8355=\"\",BG8451=\"\"), \"-\", IF(SUM($AU8643:$BF8643)=0, 0, IF(BG7875+BG7971+BG8067+BG8163+BG8259+BG8355+BG8451=0,0,AVERAGE(BG7875,BG7971,BG8067,BG8163,BG8259,BG8355,BG8451))))","v":"-"},"-","-","-","-","-","-","-","-","-","-","-","-","-","-","-","-","-","-","-",{"$f":"IF(SUM(AU8643:BF8643)=0,\"-\",AVERAGEIF(AT7780:AT8451,$G8643,CA7780:CA8451))","v":"-"},{"$f":"IFERROR(IF(SUM(AU8643:BF8643)=0,\"-\",AVERAGEIF(AT7780:AT8451,AT8643,CB7780:CB8451)), \"-\")","v":"-"},"-","-",null,"7 Day Ave","23:45:00",{"$f":"IF(AND(CH7875=\"-\",CH7971=\"-\",CH8067=\"-\",CH8163=\"-\",CH8259=\"-\",CH8355=\"-\",CH8451=\"-\"), \"-\", ROUND(AVERAGE(CH7875,CH7971,CH8067,CH8163,CH8259,CH8355,CH8451),0))","v":"-"},"-","-","-","-","-","-","-","-","-","-","-",{"$f":"IF(AND(CT7875=\"-\",CT7971=\"-\",CT8067=\"-\",CT8163=\"-\",CT8259=\"-\",CT8355=\"-\",CT8451=\"-\"), \"-\", IF(SUM($CH8643:$CS8643)=0, 0, ROUND(AVERAGE(CT7875,CT7971,CT8067,CT8163,CT8259,CT8355,CT8451),0)))","v":"-"},"-","-","-","-","-","-","-","-","-","-","-","-","-","-","-","-","-","-","-","-","-","-","-","-","-","-","-","-","-","-","-","-","-","-","-","-","-","-","-","-","-"]

{"sheet":"Dashboard Overview","index":3,"n_rows":42,"n_cols":21,"rows_kept":42,"cut":false,"hidden":false,"merged":[[6,1,7,8],[11,13,12,14],[14,13,15,14],[16,13,18,14],[9,13,10,14],[11,20,12,20],[11,18,12,18],[14,18,15,18],[17,18,18,18],[20,18,21,18],[41,1,41,20],[23,18,24,18],[20,13,21,14],[22,13,24,14],[35,7,35,8],[34,10,34,11],[35,10,35,11],[33,7,33,8],[33,10,33,11],[34,7,34,8],[37,1,37,11],[33,4,33,5],[34,4,34,5],[35,4,35,5]]}
[]
[]
[null,null,null,null,null,null,null,null,null,null,null,null,null,null,null,null,null,null,null,null,{"$f":"Input_Details!$I$1&\" - \"&Input_Details!$H$1","v":"3854-LON - Swan Street"}]
[null,null,null,null,null,null,null,null,null,null,null,null,null,null,null,null,null,null,null,null,{"$f":"\"prepared for \"&Input_Details!$J$1","v":"prepared for LB of Southwark"}]
[null,null,null,null,null,null,null,null,null,null,null,null,null,null,null,null,null,null,null,null,{"$f":"TEXT(MIN('Volume Summary-15min'!$C$14:$I$14), \"dd mmm yyyy\")&\" - \"&TEXT(MAX('Volume Summary-15min'!$C$14:$I$14), \"dd mmm yyyy\")","v":"17 Nov 2017 - 23 Nov 2017"}]
[]
[null,"Dashboard Summary"]
[]
[]
[null,null,null,null,null,null,null,null,null,null,null,null,null,"Weekday Average Total Traffic"]
[]
[null,null,null,null,null,null,null,null,null,null,null,null,null,{"$f":"'Volume Summary-15min'!$K$9","v":722.3},null,null,null,null,{"$f":"Input_Details!BO7","v":0.40070774354704414}]
[]
[]
[null,null,null,null,null,null,null,null,null,null,null,null,null,"7-Day Average Total Traffic",null,null,null,null,{"$f":"Input_Details!BP7","v":0.50083263946711076}]
[]
[null,null,null,null,null,null,null,null,null,null,null,null,null,{"$f":"'Volume Summary-15min'!$K$10","v":687.21428571428567}]
[null,null,null,null,null,null,null,null,null,null,null,null,null,null,null,null,null,null,{"$f":"Input_Details!BQ7","v":4.6211490424646132E-2}]
[]
[]
[null,null,null,null,null,null,null,null,null,null,null,null,null,"Weekly Traffic Total",null,null,null,null,{"$f":"Input_Details!BR7","v":4.5795170691090761E-3}]
[]
[null,null,null,null,null,null,null,null,null,null,null,null,null,{"$f":"Input_Details!$BT$6","v":4804}]
[null,null,null,null,null,null,null,null,null,null,null,null,null,null,null,null,null,null,{"$f":"Input_Details!BS7","v":4.7668609492089925E-2}]
[]
[]
[]
[null,null,null,null,null,null,null,null,null,null,null,null,null,{"$f":"\"http://maps.google.com/maps?q=\"&Input_Details!$I$3&\"&\"&Input_Details!$I$3&\"&z=17\"","v":"http://maps.google.com/maps?q=51.49499,-0.09696&51.49499,-0.09696&z=17"}]
[]
[]
[]
[]
[]
[null,null,null,null,"7-Day Average Speed",null,null,"7-Day 85th %ile Speed",null,null,"On a 7-day average"]
[null,null,null,null,{"$f":"IF(Input_Details!$B$4=1, Input_Details!AW14, IF(Input_Details!$B$4=2, Input_Details!AW15, Input_Details!AW16))","v":14.781728670634919},null,null,{"$f":"IF(Input_Details!$B$4=1, Input_Details!AX14, IF(Input_Details!$B$4=2, Input_Details!AX15, Input_Details!AX16))","v":17.111099290780142},null,null,{"$f":"IF(Input_Details!$B$4=1, Input_Details!AY14/Input_Details!AZ14, IF(Input_Details!$B$4=2, Input_Details!AY15/Input_Details!AZ15, Input_Details!AY16/Input_Details!AZ16))","v":7.6048920763607475E-2}]
[null,null,null,null,"mph",null,null,"mph",null,null,"of vehicles are speeding"]
[]
[]
[]
[]
[]
[null,"Traffic and Data Services Division, 5 Lysander Mews Lysander Grove, London, United Kingdom, N19 3QP"]

{"sheet":"Volume Summary-15min","index":4,"n_rows":118,"n_cols":22,"rows_kept":118,"cut":false,"hidden":false,"merged":[[11,2,11,8],[5,8,5,9],[0,8,0,9],[1,8,1,10],[2,8,2,10],[3,8,3,10],[6,8,6,9],[6,10,6,11],[11,9,13,9],[11,10,13,10],[7,1,9,6]]}
[]
[]
[]
[null,null,null,null,null,null,null,null,null,null,null,null,null,null,null,null,null,null,null,null,null,{"$f":"Input_Details!$I$1&\" - \"&Input_Details!$H$1","v":"3854-LON - Swan Street"}]
[null,null,null,null,null,null,null,null,null,null,null,null,null,null,null,null,null,null,null,null,null,{"$f":"\"prepared for \"&Input_Details!$J$1","v":"prepared for LB of Southwark"}]
[null,null,null,null,null,null,null,null,null,null,null,null,null,null,null,null,null,null,null,null,null,{"$f":"TEXT(MIN(C14:I14), \"dd mmm yyyy\")&\" - \"&TEXT(MAX(C14:I14), \"dd mmm yyyy\")","v":"17 Nov 2017 - 23 Nov 2017"}]
[]
[null,"15-min Volume Summary"]
[null,null,null,null,null,null,null,null,"Avg W'kday Total",null,{"$f":"+J113","v":722.3}]
[null,null,null,null,null,null,null,null,"7 Day Avg Total",null,{"$f":"+K113","v":687.21428571428567}]
[]
[null,null,"Day of Week",null,null,null,null,null,null,"W'kday Avg","7 Day Avg"]
[null,null,"Mon","Tue","Wed","Thu","Fri","Sat","Sun"]
[null,"Time",{"$f":"+Input_Details!Q3","v":"2017-11-20"},{"$f":"+Input_Details!R3","v":"2017-11-21"},{"$f":"+Input_Details!S3","v":"2017-11-22"},{"$f":"+Input_Details!T3","v":"2017-11-23"},{"$f":"+Input_Details!U3","v":"2017-11-17"},{"$f":"+Input_Details!V3","v":"2017-11-18"},{"$f":"+Input_Details!W3","v":"2017-11-19"}]
[null,"AM Peak",{"$f":"MAX(C45:C56)","v":46},{"$f":"MAX(D45:D56)","v":52},54,41,42,{"$f":"MAX(H45:H56)","v":12},9,{"$f":"MAX(J45:J56)","v":44.000000000000007},32.428571428571423]
[null,"PM Peak",{"$f":"MAX(C81:C92)","v":10},{"$f":"MAX(D81:D92)","v":13},11,12,13,15,13,{"$f":"MAX(J81:J92)","v":8.6000000000000014},9.4285714285714288]
[null,"00:00:00",{"$f":"OFFSET('Raw Data'!EJ4,Input_Details!$B$12,Input_Details!$B$11)","v":5},{"$f":"OFFSET('Raw Data'!EK4,Input_Details!$B$12,Input_Details!$B$11)","v":2},{"$f":"OFFSET('Raw Data'!EL4,Input_Details!$B$12,Input_Details!$B$11)","v":1},{"$f":"OFFSET('Raw Data'!EM4,Input_Details!$B$12,Input_Details!$B$11)","v":5},{"$f":"OFFSET('Raw Data'!EN4,Input_Details!$B$12,Input_Details!$B$11)","v":4},{"$f":"OFFSET('Raw Data'!EO4,Input_Details!$B$12,Input_Details!$B$11)","v":4},{"$f":"OFFSET('Raw Data'!EP4,Input_Details!$B$12,Input_Details!$B$11)","v":3},{"$f":"OFFSET('Raw Data'!DW676,Input_Details!$C$12,Input_Details!$C$11)","v":3.4000000000000004},{"$f":"OFFSET('Raw Data'!DW772,Input_Details!$C$12,Input_Details!$C$11)","v":3.4285714285714288}]
[null,"00:15:00",{"$f":"OFFSET('Raw Data'!EJ5,Input_Details!$B$12,Input_Details!$B$11)","v":4},{"$f":"OFFSET('Raw Data'!EK5,Input_Details!$B$12,Input_Details!$B$11)","v":4},{"$f":"OFFSET('Raw Data'!EL5,Input_Details!$B$12,Input_Details!$B$11)","v":6},{"$f":"OFFSET('Raw Data'!EM5,Input_Details!$B$12,Input_Details!$B$11)","v":3},{"$f":"OFFSET('Raw Data'!EN5,Input_Details!$B$12,Input_Details!$B$11)","v":3},{"$f":"OFFSET('Raw Data'!EO5,Input_Details!$B$12,Input_Details!$B$11)","v":8},{"$f":"OFFSET('Raw Data'!EP5,Input_Details!$B$12,Input_Details!$B$11)","v":7},{"$f":"OFFSET('Raw Data'!DW677,Input_Details!$C$12,Input_Details!$C$11)","v":4},{"$f":"OFFSET('Raw Data'!DW773,Input_Details!$C$12,Input_Details!$C$11)","v":5}]
[null,"00:30:00",{"$f":"OFFSET('Raw Data'!EJ6,Input_Details!$B$12,Input_Details!$B$11)","v":4},{"$f":"OFFSET('Raw Data'!EK6,Input_Details!$B$12,Input_Details!$B$11)","v":0},{"$f":"OFFSET('Raw Data'!EL6,Input_Details!$B$12,Input_Details!$B$11)","v":3},{"$f":"OFFSET('Raw Data'!EM6,Input_Details!$B$12,Input_Details!$B$11)","v":1},{"$f":"OFFSET('Raw Data'!EN6,Input_Details!$B$12,Input_Details!$B$11)","v":1},{"$f":"OFFSET('Raw Data'!EO6,Input_Details!$B$12,Input_Details!$B$11)","v":6},{"$f":"OFFSET('Raw Data'!EP6,Input_Details!$B$12,Input_Details!$B$11)","v":10},{"$f":"OFFSET('Raw Data'!DW678,Input_Details!$C$12,Input_Details!$C$11)","v":1.8},{"$f":"OFFSET('Raw Data'!DW774,Input_Details!$C$12,Input_Details!$C$11)","v":3.5714285714285712}]
[null,"00:45:00",{"$f":"OFFSET('Raw Data'!EJ7,Input_Details!$B$12,Input_Details!$B$11)","v":0},{"$f":"OFFSET('Raw Data'!EK7,Input_Details!$B$12,Input_Details!$B$11)","v":0},{"$f":"OFFSET('Raw Data'!EL7,Input_Details!$B$12,Input_Details!$B$11)","v":4},{"$f":"OFFSET('Raw Data'!EM7,Input_Details!$B$12,Input_Details!$B$11)","v":1},{"$f":"OFFSET('Raw Data'!EN7,Input_Details!$B$12,Input_Details!$B$11)","v":8},{"$f":"OFFSET('Raw Data'!EO7,Input_Details!$B$12,Input_Details!$B$11)","v":4},{"$f":"OFFSET('Raw Data'!EP7,Input_Details!$B$12,Input_Details!$B$11)","v":7},{"$f":"OFFSET('Raw Data'!DW679,Input_Details!$C$12,Input_Details!$C$11)","v":2.6},{"$f":"OFFSET('Raw Data'!DW775,Input_Details!$C$12,Input_Details!$C$11)","v":3.4285714285714284}]
[null,"01:00:00",{"$f":"OFFSET('Raw Data'!EJ8,Input_Details!$B$12,Input_Details!$B$11)","v":2},{"$f":"OFFSET('Raw Data'!EK8,Input_Details!$B$12,Input_Details!$B$11)","v":1},{"$f":"OFFSET('Raw Data'!EL8,Input_Details!$B$12,Input_Details!$B$11)","v":1},{"$f":"OFFSET('Raw Data'!EM8,Input_Details!$B$12,Input_Details!$B$11)","v":0},{"$f":"OFFSET('Raw Data'!EN8,Input_Details!$B$12,Input_Details!$B$11)","v":1},{"$f":"OFFSET('Raw Data'!EO8,Input_Details!$B$12,Input_Details!$B$11)","v":4},{"$f":"OFFSET('Raw Data'!EP8,Input_Details!$B$12,Input_Details!$B$11)","v":3},{"$f":"OFFSET('Raw Data'!DW680,Input_Details!$C$12,Input_Details!$C$11)","v":1},{"$f":"OFFSET('Raw Data'!DW776,Input_Details!$C$12,Input_Details!$C$11)","v":1.7142857142857144}]
[null,"01:15:00",{"$f":"OFFSET('Raw Data'!EJ9,Input_Details!$B$12,Input_Details!$B$11)","v":2},{"$f":"OFFSET('Raw Data'!EK9,Input_Details!$B$12,Input_Details!$B$11)","v":0},{"$f":"OFFSET('Raw Data'!EL9,Input_Details!$B$12,Input_Details!$B$11)","v":3},{"$f":"OFFSET('Raw Data'!EM9,Input_Details!$B$12,Input_Details!$B$11)","v":2},{"$f":"OFFSET('Raw Data'!EN9,Input_Details!$B$12,Input_Details!$B$11)","v":1},{"$f":"OFFSET('Raw Data'!EO9,Input_Details!$B$12,Input_Details!$B$11)","v":5},{"$f":"OFFSET('Raw Data'!EP9,Input_Details!$B$12,Input_Details!$B$11)","v":6},{"$f":"OFFSET('Raw Data'!DW681,Input_Details!$C$12,Input_Details!$C$11)","v":1.5999999999999999},{"$f":"OFFSET('Raw Data'!DW777,Input_Details!$C$12,Input_Details!$C$11)","v":2.714285714285714}]
[null,"01:30:00",{"$f":"OFFSET('Raw Data'!EJ10,Input_Details!$B$12,Input_Details!$B$11)","v":1},{"$f":"OFFSET('Raw Data'!EK10,Input_Details!$B$12,Input_Details!$B$11)","v":0},{"$f":"OFFSET('Raw Data'!EL10,Input_Details!$B$12,Input_Details!$B$11)","v":0},{"$f":"OFFSET('Raw Data'!EM10,Input_Details!$B$12,Input_Details!$B$11)","v":1},{"$f":"OFFSET('Raw Data'!EN10,Input_Details!$B$12,Input_Details!$B$11)","v":3},{"$f":"OFFSET('Raw Data'!EO10,Input_Details!$B$12,Input_Details!$B$11)","v":1},{"$f":"OFFSET('Raw Data'!EP10,Input_Details!$B$12,Input_Details!$B$11)","v":2},{"$f":"OFFSET('Raw Data'!DW682,Input_Details!$C$12,Input_Details!$C$11)","v":1},{"$f":"OFFSET('Raw Data'!DW778,Input_Details!$C$12,Input_Details!$C$11)","v":1.1428571428571428}]
[null,"01:45:00",{"$f":"OFFSET('Raw Data'!EJ11,Input_Details!$B$12,Input_Details!$B$11)","v":1},{"$f":"OFFSET('Raw Data'!EK11,Input_Details!$B$12,Input_Details!$B$11)","v":0},{"$f":"OFFSET('Raw Data'!EL11,Input_Details!$B$12,Input_Details!$B$11)","v":1},{"$f":"OFFSET('Raw Data'!EM11,Input_Details!$B$12,Input_Details!$B$11)","v":1},{"$f":"OFFSET('Raw Data'!EN11,Input_Details!$B$12,Input_Details!$B$11)","v":4},{"$f":"OFFSET('Raw Data'!EO11,Input_Details!$B$12,Input_Details!$B$11)","v":8},{"$f":"OFFSET('Raw Data'!EP11,Input_Details!$B$12,Input_Details!$B$11)","v":3},{"$f":"OFFSET('Raw Data'!DW683,Input_Details!$C$12,Input_Details!$C$11)","v":1.4},{"$f":"OFFSET('Raw Data'!DW779,Input_Details!$C$12,Input_Details!$C$11)","v":2.5714285714285712}]
[null,"02:00:00",{"$f":"OFFSET('Raw Data'!EJ12,Input_Details!$B$12,Input_Details!$B$11)","v":0},{"$f":"OFFSET('Raw Data'!EK12,Input_Details!$B$12,Input_Details!$B$11)","v":0},{"$f":"OFFSET('Raw Data'!EL12,Input_Details!$B$12,Input_Details!$B$11)","v":3},{"$f":"OFFSET('Raw Data'!EM12,Input_Details!$B$12,Input_Details!$B$11)","v":2},{"$f":"OFFSET('Raw Data'!EN12,Input_Details!$B$12,Input_Details!$B$11)","v":2},{"$f":"OFFSET('Raw Data'!EO12,Input_Details!$B$12,Input_Details!$B$11)","v":7},{"$f":"OFFSET('Raw Data'!EP12,Input_Details!$B$12,Input_Details!$B$11)","v":6},{"$f":"OFFSET('Raw Data'!DW684,Input_Details!$C$12,Input_Details!$C$11)","v":1.4},{"$f":"OFFSET('Raw Data'!DW780,Input_Details!$C$12,Input_Details!$C$11)","v":2.8571428571428572}]
[null,"02:15:00",{"$f":"OFFSET('Raw Data'!EJ13,Input_Details!$B$12,Input_Details!$B$11)","v":0},{"$f":"OFFSET('Raw Data'!EK13,Input_Details!$B$12,Input_Details!$B$11)","v":0},{"$f":"OFFSET('Raw Data'!EL13,Input_Details!$B$12,Input_Details!$B$11)","v":3},{"$f":"OFFSET('Raw Data'!EM13,Input_Details!$B$12,Input_Details!$B$11)","v":1},{"$f":"OFFSET('Raw Data'!EN13,Input_Details!$B$12,Input_Details!$B$11)","v":2},{"$f":"OFFSET('Raw Data'!EO13,Input_Details!$B$12,Input_Details!$B$11)","v":7},{"$f":"OFFSET('Raw Data'!EP13,Input_Details!$B$12,Input_Details!$B$11)","v":4},{"$f":"OFFSET('Raw Data'!DW685,Input_Details!$C$12,Input_Details!$C$11)","v":1.2},{"$f":"OFFSET('Raw Data'!DW781,Input_Details!$C$12,Input_Details!$C$11)","v":2.4285714285714284}]
[null,"02:30:00",{"$f":"OFFSET('Raw Data'!EJ14,Input_Details!$B$12,Input_Details!$B$11)","v":1},{"$f":"OFFSET('Raw Data'!EK14,Input_Details!$B$12,Input_Details!$B$11)","v":0},{"$f":"OFFSET('Raw Data'!EL14,Input_Details!$B$12,Input_Details!$B$11)","v":2},{"$f":"OFFSET('Raw Data'!EM14,Input_Details!$B$12,Input_Details!$B$11)","v":2},{"$f":"OFFSET('Raw Data'!EN14,Input_Details!$B$12,Input_Details!$B$11)","v":0},{"$f":"OFFSET('Raw Data'!EO14,Input_Details!$B$12,Input_Details!$B$11)","v":7},{"$f":"OFFSET('Raw Data'!EP14,Input_Details!$B$12,Input_Details!$B$11)","v":3},{"$f":"OFFSET('Raw Data'!DW686,Input_Details!$C$12,Input_Details!$C$11)","v":1},{"$f":"OFFSET('Raw Data'!DW782,Input_Details!$C$12,Input_Details!$C$11)","v":2.1428571428571428}]
[null,"02:45:00",{"$f":"OFFSET('Raw Data'!EJ15,Input_Details!$B$12,Input_Details!$B$11)","v":1},{"$f":"OFFSET('Raw Data'!EK15,Input_Details!$B$12,Input_Details!$B$11)","v":0},{"$f":"OFFSET('Raw Data'!EL15,Input_Details!$B$12,Input_Details!$B$11)","v":2},{"$f":"OFFSET('Raw Data'!EM15,Input_Details!$B$12,Input_Details!$B$11)","v":0},{"$f":"OFFSET('Raw Data'!EN15,Input_Details!$B$12,Input_Details!$B$11)","v":0},{"$f":"OFFSET('Raw Data'!EO15,Input_Details!$B$12,Input_Details!$B$11)","v":1},{"$f":"OFFSET('Raw Data'!EP15,Input_Details!$B$12,Input_Details!$B$11)","v":2},{"$f":"OFFSET('Raw Data'!DW687,Input_Details!$C$12,Input_Details!$C$11)","v":0.60000000000000009},{"$f":"OFFSET('Raw Data'!DW783,Input_Details!$C$12,Input_Details!$C$11)","v":0.85714285714285721}]
[null,"03:00:00",{"$f":"OFFSET('Raw Data'!EJ16,Input_Details!$B$12,Input_Details!$B$11)","v":1},{"$f":"OFFSET('Raw Data'!EK16,Input_Details!$B$12,Input_Details!$B$11)","v":0},{"$f":"OFFSET('Raw Data'!EL16,Input_Details!$B$12,Input_Details!$B$11)","v":1},{"$f":"OFFSET('Raw Data'!EM16,Input_Details!$B$12,Input_Details!$B$11)","v":1},{"$f":"OFFSET('Raw Data'!EN16,Input_Details!$B$12,Input_Details!$B$11)","v":0},{"$f":"OFFSET('Raw Data'!EO16,Input_Details!$B$12,Input_Details!$B$11)","v":0},{"$f":"OFFSET('Raw Data'!EP16,Input_Details!$B$12,Input_Details!$B$11)","v":5},{"$f":"OFFSET('Raw Data'!DW688,Input_Details!$C$12,Input_Details!$C$11)","v":0.60000000000000009},{"$f":"OFFSET('Raw Data'!DW784,Input_Details!$C$12,Input_Details!$C$11)","v":1.1428571428571428}]
[null,"03:15:00",{"$f":"OFFSET('Raw Data'!EJ17,Input_Details!$B$12,Input_Details!$B$11)","v":0},{"$f":"OFFSET('Raw Data'!EK17,Input_Details!$B$12,Input_Details!$B$11)","v":0},{"$f":"OFFSET('Raw Data'!EL17,Input_Details!$B$12,Input_Details!$B$11)","v":3},{"$f":"OFFSET('Raw Data'!EM17,Input_Details!$B$12,Input_Details!$B$11)","v":2},{"$f":"OFFSET('Raw Data'!EN17,Input_Details!$B$12,Input_Details!$B$11)","v":2},{"$f":"OFFSET('Raw Data'!EO17,Input_Details!$B$12,Input_Details!$B$11)","v":3},{"$f":"OFFSET('Raw Data'!EP17,Input_Details!$B$12,Input_Details!$B$11)","v":3},{"$f":"OFFSET('Raw Data'!DW689,Input_Details!$C$12,Input_Details!$C$11)","v":1.4},{"$f":"OFFSET('Raw Data'!DW785,Input_Details!$C$12,Input_Details!$C$11)","v":1.8571428571428572}]
[null,"03:30:00",{"$f":"OFFSET('Raw Data'!EJ18,Input_Details!$B$12,Input_Details!$B$11)","v":1},{"$f":"OFFSET('Raw Data'!EK18,Input_Details!$B$12,Input_Details!$B$11)","v":0},{"$f":"OFFSET('Raw Data'!EL18,Input_Details!$B$12,Input_Details!$B$11)","v":0},{"$f":"OFFSET('Raw Data'!EM18,Input_Details!$B$12,Input_Details!$B$11)","v":0},{"$f":"OFFSET('Raw Data'!EN18,Input_Details!$B$12,Input_Details!$B$11)","v":1},{"$f":"OFFSET('Raw Data'!EO18,Input_Details!$B$12,Input_Details!$B$11)","v":1},{"$f":"OFFSET('Raw Data'!EP18,Input_Details!$B$12,Input_Details!$B$11)","v":5},{"$f":"OFFSET('Raw Data'!DW690,Input_Details!$C$12,Input_Details!$C$11)","v":0.4},{"$f":"OFFSET('Raw Data'!DW786,Input_Details!$C$12,Input_Details!$C$11)","v":1.1428571428571428}]
[null,"03:45:00",{"$f":"OFFSET('Raw Data'!EJ19,Input_Details!$B$12,Input_Details!$B$11)","v":1},{"$f":"OFFSET('Raw Data'!EK19,Input_Details!$B$12,Input_Details!$B$11)","v":1},{"$f":"OFFSET('Raw Data'!EL19,Input_Details!$B$12,Input_Details!$B$11)","v":0},{"$f":"OFFSET('Raw Data'!EM19,Input_Details!$B$12,Input_Details!$B$11)","v":0},{"$f":"OFFSET('Raw Data'!EN19,Input_Details!$B$12,Input_Details!$B$11)","v":0},{"$f":"OFFSET('Raw Data'!EO19,Input_Details!$B$12,Input_Details!$B$11)","v":1},{"$f":"OFFSET('Raw Data'!EP19,Input_Details!$B$12,Input_Details!$B$11)","v":5},{"$f":"OFFSET('Raw Data'!DW691,Input_Details!$C$12,Input_Details!$C$11)","v":0.4},{"$f":"OFFSET('Raw Data'!DW787,Input_Details!$C$12,Input_Details!$C$11)","v":1.1428571428571428}]
[null,"04:00:00",{"$f":"OFFSET('Raw Data'!EJ20,Input_Details!$B$12,Input_Details!$B$11)","v":0},{"$f":"OFFSET('Raw Data'!EK20,Input_Details!$B$12,Input_Details!$B$11)","v":0},{"$f":"OFFSET('Raw Data'!EL20,Input_Details!$B$12,Input_Details!$B$11)","v":1},{"$f":"OFFSET('Raw Data'!EM20,Input_Details!$B$12,Input_Details!$B$11)","v":2},{"$f":"OFFSET('Raw Data'!EN20,Input_Details!$B$12,Input_Details!$B$11)","v":1},{"$f":"OFFSET('Raw Data'!EO20,Input_Details!$B$12,Input_Details!$B$11)","v":1},{"$f":"OFFSET('Raw Data'!EP20,Input_Details!$B$12,Input_Details!$B$11)","v":2},{"$f":"OFFSET('Raw Data'!DW692,Input_Details!$C$12,Input_Details!$C$11)","v":0.8},{"$f":"OFFSET('Raw Data'!DW788,Input_Details!$C$12,Input_Details!$C$11)","v":1}]
[null,"04:15:00",{"$f":"OFFSET('Raw Data'!EJ21,Input_Details!$B$12,Input_Details!$B$11)","v":0},{"$f":"OFFSET('Raw Data'!EK21,Input_Details!$B$12,Input_Details!$B$11)","v":0},{"$f":"OFFSET('Raw Data'!EL21,Input_Details!$B$12,Input_Details!$B$11)","v":0},{"$f":"OFFSET('Raw Data'!EM21,Input_Details!$B$12,Input_Details!$B$11)","v":1},{"$f":"OFFSET('Raw Data'!EN21,Input_Details!$B$12,Input_Details!$B$11)","v":1},{"$f":"OFFSET('Raw Data'!EO21,Input_Details!$B$12,Input_Details!$B$11)","v":3},{"$f":"OFFSET('Raw Data'!EP21,Input_Details!$B$12,Input_Details!$B$11)","v":2},{"$f":"OFFSET('Raw Data'!DW693,Input_Details!$C$12,Input_Details!$C$11)","v":0.4},{"$f":"OFFSET('Raw Data'!DW789,Input_Details!$C$12,Input_Details!$C$11)","v":1}]
[null,"04:30:00",{"$f":"OFFSET('Raw Data'!EJ22,Input_Details!$B$12,Input_Details!$B$11)","v":0},{"$f":"OFFSET('Raw Data'!EK22,Input_Details!$B$12,Input_Details!$B$11)","v":0},{"$f":"OFFSET('Raw Data'!EL22,Input_Details!$B$12,Input_Details!$B$11)","v":3},{"$f":"OFFSET('Raw Data'!EM22,Input_Details!$B$12,Input_Details!$B$11)","v":0},{"$f":"OFFSET('Raw Data'!EN22,Input_Details!$B$12,Input_Details!$B$11)","v":0},{"$f":"OFFSET('Raw Data'!EO22,Input_Details!$B$12,Input_Details!$B$11)","v":1},{"$f":"OFFSET('Raw Data'!EP22,Input_Details!$B$12,Input_Details!$B$11)","v":3},{"$f":"OFFSET('Raw Data'!DW694,Input_Details!$C$12,Input_Details!$C$11)","v":0.60000000000000009},{"$f":"OFFSET('Raw Data'!DW790,Input_Details!$C$12,Input_Details!$C$11)","v":1}]
[null,"04:45:00",{"$f":"OFFSET('Raw Data'!EJ23,Input_Details!$B$12,Input_Details!$B$11)","v":0},{"$f":"OFFSET('Raw Data'!EK23,Input_Details!$B$12,Input_Details!$B$11)","v":0},{"$f":"OFFSET('Raw Data'!EL23,Input_Details!$B$12,Input_Details!$B$11)","v":2},{"$f":"OFFSET('Raw Data'!EM23,Input_Details!$B$12,Input_Details!$B$11)","v":0},{"$f":"OFFSET('Raw Data'!EN23,Input_Details!$B$12,Input_Details!$B$11)","v":0},{"$f":"OFFSET('Raw Data'!EO23,Input_Details!$B$12,Input_Details!$B$11)","v":0},{"$f":"OFFSET('Raw Data'!EP23,Input_Details!$B$12,Input_Details!$B$11)","v":4},{"$f":"OFFSET('Raw Data'!DW695,Input_Details!$C$12,Input_Details!$C$11)","v":0.4},{"$f":"OFFSET('Raw Data'!DW791,Input_Details!$C$12,Input_Details!$C$11)","v":0.85714285714285721}]
[null,"05:00:00",{"$f":"OFFSET('Raw Data'!EJ24,Input_Details!$B$12,Input_Details!$B$11)","v":2},{"$f":"OFFSET('Raw Data'!EK24,Input_Details!$B$12,Input_Details!$B$11)","v":3},{"$f":"OFFSET('Raw Data'!EL24,Input_Details!$B$12,Input_Details!$B$11)","v":1},{"$f":"OFFSET('Raw Data'!EM24,Input_Details!$B$12,Input_Details!$B$11)","v":1},{"$f":"OFFSET('Raw Data'!EN24,Input_Details!$B$12,Input_Details!$B$11)","v":3},{"$f":"OFFSET('Raw Data'!EO24,Input_Details!$B$12,Input_Details!$B$11)","v":2},{"$f":"OFFSET('Raw Data'!EP24,Input_Details!$B$12,Input_Details!$B$11)","v":2},{"$f":"OFFSET('Raw Data'!DW696,Input_Details!$C$12,Input_Details!$C$11)","v":2},{"$f":"OFFSET('Raw Data'!DW792,Input_Details!$C$12,Input_Details!$C$11)","v":2}]
[null,"05:15:00",{"$f":"OFFSET('Raw Data'!EJ25,Input_Details!$B$12,Input_Details!$B$11)","v":1},{"$f":"OFFSET('Raw Data'!EK25,Input_Details!$B$12,Input_Details!$B$11)","v":2},{"$f":"OFFSET('Raw Data'!EL25,Input_Details!$B$12,Input_Details!$B$11)","v":2},{"$f":"OFFSET('Raw Data'!EM25,Input_Details!$B$12,Input_Details!$B$11)","v":1},{"$f":"OFFSET('Raw Data'!EN25,Input_Details!$B$12,Input_Details!$B$11)","v":4},{"$f":"OFFSET('Raw Data'!EO25,Input_Details!$B$12,Input_Details!$B$11)","v":3},{"$f":"OFFSET('Raw Data'!EP25,Input_Details!$B$12,Input_Details!$B$11)","v":2},{"$f":"OFFSET('Raw Data'!DW697,Input_Details!$C$12,Input_Details!$C$11)","v":1.9999999999999998},{"$f":"OFFSET('Raw Data'!DW793,Input_Details!$C$12,Input_Details!$C$11)","v":2.1428571428571428}]
[null,"05:30:00",{"$f":"OFFSET('Raw Data'!EJ26,Input_Details!$B$12,Input_Details!$B$11)","v":2},{"$f":"OFFSET('Raw Data'!EK26,Input_Details!$B$12,Input_Details!$B$11)","v":2},{"$f":"OFFSET('Raw Data'!EL26,Input_Details!$B$12,Input_Details!$B$11)","v":3},{"$f":"OFFSET('Raw Data'!EM26,Input_Details!$B$12,Input_Details!$B$11)","v":4},{"$f":"OFFSET('Raw Data'!EN26,Input_Details!$B$12,Input_Details!$B$11)","v":1},{"$f":"OFFSET('Raw Data'!EO26,Input_Details!$B$12,Input_Details!$B$11)","v":1},{"$f":"OFFSET('Raw Data'!EP26,Input_Details!$B$12,Input_Details!$B$11)","v":3},{"$f":"OFFSET('Raw Data'!DW698,Input_Details!$C$12,Input_Details!$C$11)","v":2.4},{"$f":"OFFSET('Raw Data'!DW794,Input_Details!$C$12,Input_Details!$C$11)","v":2.2857142857142856}]
[null,"05:45:00",{"$f":"OFFSET('Raw Data'!EJ27,Input_Details!$B$12,Input_Details!$B$11)","v":7},{"$f":"OFFSET('Raw Data'!EK27,Input_Details!$B$12,Input_Details!$B$11)","v":2},{"$f":"OFFSET('Raw Data'!EL27,Input_Details!$B$12,Input_Details!$B$11)","v":1},{"$f":"OFFSET('Raw Data'!EM27,Input_Details!$B$12,Input_Details!$B$11)","v":3},{"$f":"OFFSET('Raw Data'!EN27,Input_Details!$B$12,Input_Details!$B$11)","v":2},{"$f":"OFFSET('Raw Data'!EO27,Input_Details!$B$12,Input_Details!$B$11)","v":3},{"$f":"OFFSET('Raw Data'!EP27,Input_Details!$B$12,Input_Details!$B$11)","v":1},{"$f":"OFFSET('Raw Data'!DW699,Input_Details!$C$12,Input_Details!$C$11)","v":3},{"$f":"OFFSET('Raw Data'!DW795,Input_Details!$C$12,Input_Details!$C$11)","v":2.7142857142857144}]
[null,"06:00:00",{"$f":"OFFSET('Raw Data'!EJ28,Input_Details!$B$12,Input_Details!$B$11)","v":3},{"$f":"OFFSET('Raw Data'!EK28,Input_Details!$B$12,Input_Details!$B$11)","v":2},{"$f":"OFFSET('Raw Data'!EL28,Input_Details!$B$12,Input_Details!$B$11)","v":4},{"$f":"OFFSET('Raw Data'!EM28,Input_Details!$B$12,Input_Details!$B$11)","v":1},{"$f":"OFFSET('Raw Data'!EN28,Input_Details!$B$12,Input_Details!$B$11)","v":2},{"$f":"OFFSET('Raw Data'!EO28,Input_Details!$B$12,Input_Details!$B$11)","v":2},{"$f":"OFFSET('Raw Data'!EP28,Input_Details!$B$12,Input_Details!$B$11)","v":0},{"$f":"OFFSET('Raw Data'!DW700,Input_Details!$C$12,Input_Details!$C$11)","v":2.4},{"$f":"OFFSET('Raw Data'!DW796,Input_Details!$C$12,Input_Details!$C$11)","v":2}]
[null,"06:15:00",{"$f":"OFFSET('Raw Data'!EJ29,Input_Details!$B$12,Input_Details!$B$11)","v":6},{"$f":"OFFSET('Raw Data'!EK29,Input_Details!$B$12,Input_Details!$B$11)","v":2},{"$f":"OFFSET('Raw Data'!EL29,Input_Details!$B$12,Input_Details!$B$11)","v":3},{"$f":"OFFSET('Raw Data'!EM29,Input_Details!$B$12,Input_Details!$B$11)","v":2},{"$f":"OFFSET('Raw Data'!EN29,Input_Details!$B$12,Input_Details!$B$11)","v":3},{"$f":"OFFSET('Raw Data'!EO29,Input_Details!$B$12,Input_Details!$B$11)","v":5},{"$f":"OFFSET('Raw Data'!EP29,Input_Details!$B$12,Input_Details!$B$11)","v":3},{"$f":"OFFSET('Raw Data'!DW701,Input_Details!$C$12,Input_Details!$C$11)","v":3.2},{"$f":"OFFSET('Raw Data'!DW797,Input_Details!$C$12,Input_Details!$C$11)","v":3.4285714285714284}]
[null,"06:30:00",{"$f":"OFFSET('Raw Data'!EJ30,Input_Details!$B$12,Input_Details!$B$11)","v":5},{"$f":"OFFSET('Raw Data'!EK30,Input_Details!$B$12,Input_Details!$B$11)","v":6},{"$f":"OFFSET('Raw Data'!EL30,Input_Details!$B$12,Input_Details!$B$11)","v":6},{"$f":"OFFSET('Raw Data'!EM30,Input_Details!$B$12,Input_Details!$B$11)","v":5},{"$f":"OFFSET('Raw Data'!EN30,Input_Details!$B$12,Input_Details!$B$11)","v":2},{"$f":"OFFSET('Raw Data'!EO30,Input_Details!$B$12,Input_Details!$B$11)","v":4},{"$f":"OFFSET('Raw Data'!EP30,Input_Details!$B$12,Input_Details!$B$11)","v":2},{"$f":"OFFSET('Raw Data'!DW702,Input_Details!$C$12,Input_Details!$C$11)","v":4.8000000000000007},{"$f":"OFFSET('Raw Data'!DW798,Input_Details!$C$12,Input_Details!$C$11)","v":4.2857142857142856}]
[null,"06:45:00",{"$f":"OFFSET('Raw Data'!EJ31,Input_Details!$B$12,Input_Details!$B$11)","v":7},{"$f":"OFFSET('Raw Data'!EK31,Input_Details!$B$12,Input_Details!$B$11)","v":8},{"$f":"OFFSET('Raw Data'!EL31,Input_Details!$B$12,Input_Details!$B$11)","v":13},{"$f":"OFFSET('Raw Data'!EM31,Input_Details!$B$12,Input_Details!$B$11)","v":10},{"$f":"OFFSET('Raw Data'!EN31,Input_Details!$B$12,Input_Details!$B$11)","v":5},{"$f":"OFFSET('Raw Data'!EO31,Input_Details!$B$12,Input_Details!$B$11)","v":5},{"$f":"OFFSET('Raw Data'!EP31,Input_Details!$B$12,Input_Details!$B$11)","v":1},{"$f":"OFFSET('Raw Data'!DW703,Input_Details!$C$12,Input_Details!$C$11)","v":8.6},{"$f":"OFFSET('Raw Data'!DW799,Input_Details!$C$12,Input_Details!$C$11)","v":7}]
[null,"07:00:00",{"$f":"OFFSET('Raw Data'!EJ32,Input_Details!$B$12,Input_Details!$B$11)","v":4},{"$f":"OFFSET('Raw Data'!EK32,Input_Details!$B$12,Input_Details!$B$11)","v":8},{"$f":"OFFSET('Raw Data'!EL32,Input_Details!$B$12,Input_Details!$B$11)","v":13},{"$f":"OFFSET('Raw Data'!EM32,Input_Details!$B$12,Input_Details!$B$11)","v":10},{"$f":"OFFSET('Raw Data'!EN32,Input_Details!$B$12,Input_Details!$B$11)","v":8},{"$f":"OFFSET('Raw Data'!EO32,Input_Details!$B$12,Input_Details!$B$11)","v":2},{"$f":"OFFSET('Raw Data'!EP32,Input_Details!$B$12,Input_Details!$B$11)","v":1},{"$f":"OFFSET('Raw Data'!DW704,Input_Details!$C$12,Input_Details!$C$11)","v":8.5999999999999979},{"$f":"OFFSET('Raw Data'!DW800,Input_Details!$C$12,Input_Details!$C$11)","v":6.5714285714285721}]
[null,"07:15:00",{"$f":"OFFSET('Raw Data'!EJ33,Input_Details!$B$12,Input_Details!$B$11)","v":14},{"$f":"OFFSET('Raw Data'!EK33,Input_Details!$B$12,Input_Details!$B$11)","v":12},{"$f":"OFFSET('Raw Data'!EL33,Input_Details!$B$12,Input_Details!$B$11)","v":14},{"$f":"OFFSET('Raw Data'!EM33,Input_Details!$B$12,Input_Details!$B$11)","v":16},{"$f":"OFFSET('Raw Data'!EN33,Input_Details!$B$12,Input_Details!$B$11)","v":6},{"$f":"OFFSET('Raw Data'!EO33,Input_Details!$B$12,Input_Details!$B$11)","v":2},{"$f":"OFFSET('Raw Data'!EP33,Input_Details!$B$12,Input_Details!$B$11)","v":2},{"$f":"OFFSET('Raw Data'!DW705,Input_Details!$C$12,Input_Details!$C$11)","v":12.399999999999999},{"$f":"OFFSET('Raw Data'!DW801,Input_Details!$C$12,Input_Details!$C$11)","v":9.4285714285714288}]
[null,"07:30:00",{"$f":"OFFSET('Raw Data'!EJ34,Input_Details!$B$12,Input_Details!$B$11)","v":20},{"$f":"OFFSET('Raw Data'!EK34,Input_Details!$B$12,Input_Details!$B$11)","v":19},{"$f":"OFFSET('Raw Data'!EL34,Input_Details!$B$12,Input_Details!$B$11)","v":19},{"$f":"OFFSET('Raw Data'!EM34,Input_Details!$B$12,Input_Details!$B$11)","v":16},{"$f":"OFFSET('Raw Data'!EN34,Input_Details!$B$12,Input_Details!$B$11)","v":18},{"$f":"OFFSET('Raw Data'!EO34,Input_Details!$B$12,Input_Details!$B$11)","v":5},{"$f":"OFFSET('Raw Data'!EP34,Input_Details!$B$12,Input_Details!$B$11)","v":2},{"$f":"OFFSET('Raw Data'!DW706,Input_Details!$C$12,Input_Details!$C$11)","v":18.399999999999999},{"$f":"OFFSET('Raw Data'!DW802,Input_Details!$C$12,Input_Details!$C$11)","v":14.142857142857142}]
[null,"07:45:00",{"$f":"OFFSET('Raw Data'!EJ35,Input_Details!$B$12,Input_Details!$B$11)","v":21},{"$f":"OFFSET('Raw Data'!EK35,Input_Details!$B$12,Input_Details!$B$11)","v":34},{"$f":"OFFSET('Raw Data'!EL35,Input_Details!$B$12,Input_Details!$B$11)","v":32},{"$f":"OFFSET('Raw Data'!EM35,Input_Details!$B$12,Input_Details!$B$11)","v":26},{"$f":"OFFSET('Raw Data'!EN35,Input_Details!$B$12,Input_Details!$B$11)","v":26},{"$f":"OFFSET('Raw Data'!EO35,Input_Details!$B$12,Input_Details!$B$11)","v":4},{"$f":"OFFSET('Raw Data'!EP35,Input_Details!$B$12,Input_Details!$B$11)","v":2},{"$f":"OFFSET('Raw Data'!DW707,Input_Details!$C$12,Input_Details!$C$11)","v":27.799999999999997},{"$f":"OFFSET('Raw Data'!DW803,Input_Details!$C$12,Input_Details!$C$11)","v":20.714285714285712}]
[null,"08:00:00",{"$f":"OFFSET('Raw Data'!EJ36,Input_Details!$B$12,Input_Details!$B$11)","v":36},{"$f":"OFFSET('Raw Data'!EK36,Input_Details!$B$12,Input_Details!$B$11)","v":38},{"$f":"OFFSET('Raw Data'!EL36,Input_Details!$B$12,Input_Details!$B$11)","v":30},{"$f":"OFFSET('Raw Data'!EM36,Input_Details!$B$12,Input_Details!$B$11)","v":28},{"$f":"OFFSET('Raw Data'!EN36,Input_Details!$B$12,Input_Details!$B$11)","v":15},{"$f":"OFFSET('Raw Data'!EO36,Input_Details!$B$12,Input_Details!$B$11)","v":3},{"$f":"OFFSET('Raw Data'!EP36,Input_Details!$B$12,Input_Details!$B$11)","v":2},{"$f":"OFFSET('Raw Data'!DW708,Input_Details!$C$12,Input_Details!$C$11)","v":29.4},{"$f":"OFFSET('Raw Data'!DW804,Input_Details!$C$12,Input_Details!$C$11)","v":21.714285714285715}]
[null,"08:15:00",{"$f":"OFFSET('Raw Data'!EJ37,Input_Details!$B$12,Input_Details!$B$11)","v":42},{"$f":"OFFSET('Raw Data'!EK37,Input_Details!$B$12,Input_Details!$B$11)","v":52},{"$f":"OFFSET('Raw Data'!EL37,Input_Details!$B$12,Input_Details!$B$11)","v":36},{"$f":"OFFSET('Raw Data'!EM37,Input_Details!$B$12,Input_Details!$B$11)","v":37},{"$f":"OFFSET('Raw Data'!EN37,Input_Details!$B$12,Input_Details!$B$11)","v":42},{"$f":"OFFSET('Raw Data'!EO37,Input_Details!$B$12,Input_Details!$B$11)","v":3},{"$f":"OFFSET('Raw Data'!EP37,Input_Details!$B$12,Input_Details!$B$11)","v":3},{"$f":"OFFSET('Raw Data'!DW709,Input_Details!$C$12,Input_Details!$C$11)","v":41.800000000000004},{"$f":"OFFSET('Raw Data'!DW805,Input_Details!$C$12,Input_Details!$C$11)","v":30.714285714285712}]
[null,"08:30:00",{"$f":"OFFSET('Raw Data'!EJ38,Input_Details!$B$12,Input_Details!$B$11)","v":46},{"$f":"OFFSET('Raw Data'!EK38,Input_Details!$B$12,Input_Details!$B$11)","v":51},{"$f":"OFFSET('Raw Data'!EL38,Input_Details!$B$12,Input_Details!$B$11)","v":47},{"$f":"OFFSET('Raw Data'!EM38,Input_Details!$B$12,Input_Details!$B$11)","v":41},{"$f":"OFFSET('Raw Data'!EN38,Input_Details!$B$12,Input_Details!$B$11)","v":30},{"$f":"OFFSET('Raw Data'!EO38,Input_Details!$B$12,Input_Details!$B$11)","v":4},{"$f":"OFFSET('Raw Data'!EP38,Input_Details!$B$12,Input_Details!$B$11)","v":8},{"$f":"OFFSET('Raw Data'!DW710,Input_Details!$C$12,Input_Details!$C$11)","v":42.999999999999993},{"$f":"OFFSET('Raw Data'!DW806,Input_Details!$C$12,Input_Details!$C$11)","v":32.428571428571423}]
[null,"08:45:00",{"$f":"OFFSET('Raw Data'!EJ39,Input_Details!$B$12,Input_Details!$B$11)","v":45},{"$f":"OFFSET('Raw Data'!EK39,Input_Details!$B$12,Input_Details!$B$11)","v":44},{"$f":"OFFSET('Raw Data'!EL39,Input_Details!$B$12,Input_Details!$B$11)","v":54},{"$f":"OFFSET('Raw Data'!EM39,Input_Details!$B$12,Input_Details!$B$11)","v":41},{"$f":"OFFSET('Raw Data'!EN39,Input_Details!$B$12,Input_Details!$B$11)","v":36},{"$f":"OFFSET('Raw Data'!EO39,Input_Details!$B$12,Input_Details!$B$11)","v":2},{"$f":"OFFSET('Raw Data'!EP39,Input_Details!$B$12,Input_Details!$B$11)","v":3},{"$f":"OFFSET('Raw Data'!DW711,Input_Details!$C$12,Input_Details!$C$11)","v":44.000000000000007},{"$f":"OFFSET('Raw Data'!DW807,Input_Details!$C$12,Input_Details!$C$11)","v":32.142857142857139}]
[null,"09:00:00",{"$f":"OFFSET('Raw Data'!EJ40,Input_Details!$B$12,Input_Details!$B$11)","v":32},{"$f":"OFFSET('Raw Data'!EK40,Input_Details!$B$12,Input_Details!$B$11)","v":35},{"$f":"OFFSET('Raw Data'!EL40,Input_Details!$B$12,Input_Details!$B$11)","v":47},{"$f":"OFFSET('Raw Data'!EM40,Input_Details!$B$12,Input_Details!$B$11)","v":31},{"$f":"OFFSET('Raw Data'!EN40,Input_Details!$B$12,Input_Details!$B$11)","v":35},{"$f":"OFFSET('Raw Data'!EO40,Input_Details!$B$12,Input_Details!$B$11)","v":4},{"$f":"OFFSET('Raw Data'!EP40,Input_Details!$B$12,Input_Details!$B$11)","v":4},{"$f":"OFFSET('Raw Data'!DW712,Input_Details!$C$12,Input_Details!$C$11)","v":36},{"$f":"OFFSET('Raw Data'!DW808,Input_Details!$C$12,Input_Details!$C$11)","v":26.857142857142858}]
[null,"09:15:00",{"$f":"OFFSET('Raw Data'!EJ41,Input_Details!$B$12,Input_Details!$B$11)","v":27},{"$f":"OFFSET('Raw Data'!EK41,Input_Details!$B$12,Input_Details!$B$11)","v":37},{"$f":"OFFSET('Raw Data'!EL41,Input_Details!$B$12,Input_Details!$B$11)","v":28},{"$f":"OFFSET('Raw Data'!EM41,Input_Details!$B$12,Input_Details!$B$11)","v":29},{"$f":"OFFSET('Raw Data'!EN41,Input_Details!$B$12,Input_Details!$B$11)","v":18},{"$f":"OFFSET('Raw Data'!EO41,Input_Details!$B$12,Input_Details!$B$11)","v":9},{"$f":"OFFSET('Raw Data'!EP41,Input_Details!$B$12,Input_Details!$B$11)","v":4},{"$f":"OFFSET('Raw Data'!DW713,Input_Details!$C$12,Input_Details!$C$11)","v":27.8},{"$f":"OFFSET('Raw Data'!DW809,Input_Details!$C$12,Input_Details!$C$11)","v":21.714285714285712}]
[null,"09:30:00",{"$f":"OFFSET('Raw Data'!EJ42,Input_Details!$B$12,Input_Details!$B$11)","v":24},{"$f":"OFFSET('Raw Data'!EK42,Input_Details!$B$12,Input_Details!$B$11)","v":27},{"$f":"OFFSET('Raw Data'!EL42,Input_Details!$B$12,Input_Details!$B$11)","v":27},{"$f":"OFFSET('Raw Data'!EM42,Input_Details!$B$12,Input_Details!$B$11)","v":23},{"$f":"OFFSET('Raw Data'!EN42,Input_Details!$B$12,Input_Details!$B$11)","v":22},{"$f":"OFFSET('Raw Data'!EO42,Input_Details!$B$12,Input_Details!$B$11)","v":9},{"$f":"OFFSET('Raw Data'!EP42,Input_Details!$B$12,Input_Details!$B$11)","v":4},{"$f":"OFFSET('Raw Data'!DW714,Input_Details!$C$12,Input_Details!$C$11)","v":24.599999999999998},{"$f":"OFFSET('Raw Data'!DW810,Input_Details!$C$12,Input_Details!$C$11)","v":19.428571428571427}]
[null,"09:45:00",{"$f":"OFFSET('Raw Data'!EJ43,Input_Details!$B$12,Input_Details!$B$11)","v":16},{"$f":"OFFSET('Raw Data'!EK43,Input_Details!$B$12,Input_Details!$B$11)","v":15},{"$f":"OFFSET('Raw Data'!EL43,Input_Details!$B$12,Input_Details!$B$11)","v":19},{"$f":"OFFSET('Raw Data'!EM43,Input_Details!$B$12,Input_Details!$B$11)","v":17},{"$f":"OFFSET('Raw Data'!EN43,Input_Details!$B$12,Input_Details!$B$11)","v":21},{"$f":"OFFSET('Raw Data'!EO43,Input_Details!$B$12,Input_Details!$B$11)","v":12},{"$f":"OFFSET('Raw Data'!EP43,Input_Details!$B$12,Input_Details!$B$11)","v":9},{"$f":"OFFSET('Raw Data'!DW715,Input_Details!$C$12,Input_Details!$C$11)","v":17.599999999999998},{"$f":"OFFSET('Raw Data'!DW811,Input_Details!$C$12,Input_Details!$C$11)","v":15.571428571428571}]
[null,"10:00:00",{"$f":"OFFSET('Raw Data'!EJ44,Input_Details!$B$12,Input_Details!$B$11)","v":12},{"$f":"OFFSET('Raw Data'!EK44,Input_Details!$B$12,Input_Details!$B$11)","v":18},{"$f":"OFFSET('Raw Data'!EL44,Input_Details!$B$12,Input_Details!$B$11)","v":10},{"$f":"OFFSET('Raw Data'!EM44,Input_Details!$B$12,Input_Details!$B$11)","v":17},{"$f":"OFFSET('Raw Data'!EN44,Input_Details!$B$12,Input_Details!$B$11)","v":5},{"$f":"OFFSET('Raw Data'!EO44,Input_Details!$B$12,Input_Details!$B$11)","v":12},{"$f":"OFFSET('Raw Data'!EP44,Input_Details!$B$12,Input_Details!$B$11)","v":4},{"$f":"OFFSET('Raw Data'!DW716,Input_Details!$C$12,Input_Details!$C$11)","v":12.399999999999999},{"$f":"OFFSET('Raw Data'!DW812,Input_Details!$C$12,Input_Details!$C$11)","v":11.142857142857144}]
[null,"10:15:00",{"$f":"OFFSET('Raw Data'!EJ45,Input_Details!$B$12,Input_Details!$B$11)","v":9},{"$f":"OFFSET('Raw Data'!EK45,Input_Details!$B$12,Input_Details!$B$11)","v":9},{"$f":"OFFSET('Raw Data'!EL45,Input_Details!$B$12,Input_Details!$B$11)","v":4},{"$f":"OFFSET('Raw Data'!EM45,Input_Details!$B$12,Input_Details!$B$11)","v":3},{"$f":"OFFSET('Raw Data'!EN45,Input_Details!$B$12,Input_Details!$B$11)","v":6},{"$f":"OFFSET('Raw Data'!EO45,Input_Details!$B$12,Input_Details!$B$11)","v":15},{"$f":"OFFSET('Raw Data'!EP45,Input_Details!$B$12,Input_Details!$B$11)","v":4},{"$f":"OFFSET('Raw Data'!DW717,Input_Details!$C$12,Input_Details!$C$11)","v":6.2000000000000011},{"$f":"OFFSET('Raw Data'!DW813,Input_Details!$C$12,Input_Details!$C$11)","v":7.1428571428571432}]
[null,"10:30:00",{"$f":"OFFSET('Raw Data'!EJ46,Input_Details!$B$12,Input_Details!$B$11)","v":8},{"$f":"OFFSET('Raw Data'!EK46,Input_Details!$B$12,Input_Details!$B$11)","v":9},{"$f":"OFFSET('Raw Data'!EL46,Input_Details!$B$12,Input_Details!$B$11)","v":7},{"$f":"OFFSET('Raw Data'!EM46,Input_Details!$B$12,Input_Details!$B$11)","v":10},{"$f":"OFFSET('Raw Data'!EN46,Input_Details!$B$12,Input_Details!$B$11)","v":8},{"$f":"OFFSET('Raw Data'!EO46,Input_Details!$B$12,Input_Details!$B$11)","v":4},{"$f":"OFFSET('Raw Data'!EP46,Input_Details!$B$12,Input_Details!$B$11)","v":4},{"$f":"OFFSET('Raw Data'!DW718,Input_Details!$C$12,Input_Details!$C$11)","v":8.4},{"$f":"OFFSET('Raw Data'!DW814,Input_Details!$C$12,Input_Details!$C$11)","v":7.1428571428571432}]
[null,"10:45:00",{"$f":"OFFSET('Raw Data'!EJ47,Input_Details!$B$12,Input_Details!$B$11)","v":5},{"$f":"OFFSET('Raw Data'!EK47,Input_Details!$B$12,Input_Details!$B$11)","v":5},{"$f":"OFFSET('Raw Data'!EL47,Input_Details!$B$12,Input_Details!$B$11)","v":11},{"$f":"OFFSET('Raw Data'!EM47,Input_Details!$B$12,Input_Details!$B$11)","v":4},{"$f":"OFFSET('Raw Data'!EN47,Input_Details!$B$12,Input_Details!$B$11)","v":11},{"$f":"OFFSET('Raw Data'!EO47,Input_Details!$B$12,Input_Details!$B$11)","v":9},{"$f":"OFFSET('Raw Data'!EP47,Input_Details!$B$12,Input_Details!$B$11)","v":5},{"$f":"OFFSET('Raw Data'!DW719,Input_Details!$C$12,Input_Details!$C$11)","v":7.2},{"$f":"OFFSET('Raw Data'!DW815,Input_Details!$C$12,Input_Details!$C$11)","v":7.1428571428571432}]
[null,"11:00:00",{"$f":"OFFSET('Raw Data'!EJ48,Input_Details!$B$12,Input_Details!$B$11)","v":4},{"$f":"OFFSET('Raw Data'!EK48,Input_Details!$B$12,Input_Details!$B$11)","v":4},{"$f":"OFFSET('Raw Data'!EL48,Input_Details!$B$12,Input_Details!$B$11)","v":9},{"$f":"OFFSET('Raw Data'!EM48,Input_Details!$B$12,Input_Details!$B$11)","v":15},{"$f":"OFFSET('Raw Data'!EN48,Input_Details!$B$12,Input_Details!$B$11)","v":9},{"$f":"OFFSET('Raw Data'!EO48,Input_Details!$B$12,Input_Details!$B$11)","v":8},{"$f":"OFFSET('Raw Data'!EP48,Input_Details!$B$12,Input_Details!$B$11)","v":5},{"$f":"OFFSET('Raw Data'!DW720,Input_Details!$C$12,Input_Details!$C$11)","v":8.1999999999999993},{"$f":"OFFSET('Raw Data'!DW816,Input_Details!$C$12,Input_Details!$C$11)","v":7.7142857142857153}]
[null,"11:15:00",{"$f":"OFFSET('Raw Data'!EJ49,Input_Details!$B$12,Input_Details!$B$11)","v":4},{"$f":"OFFSET('Raw Data'!EK49,Input_Details!$B$12,Input_Details!$B$11)","v":6},{"$f":"OFFSET('Raw Data'!EL49,Input_Details!$B$12,Input_Details!$B$11)","v":14},{"$f":"OFFSET('Raw Data'!EM49,Input_Details!$B$12,Input_Details!$B$11)","v":1},{"$f":"OFFSET('Raw Data'!EN49,Input_Details!$B$12,Input_Details!$B$11)","v":5},{"$f":"OFFSET('Raw Data'!EO49,Input_Details!$B$12,Input_Details!$B$11)","v":7},{"$f":"OFFSET('Raw Data'!EP49,Input_Details!$B$12,Input_Details!$B$11)","v":3},{"$f":"OFFSET('Raw Data'!DW721,Input_Details!$C$12,Input_Details!$C$11)","v":6},{"$f":"OFFSET('Raw Data'!DW817,Input_Details!$C$12,Input_Details!$C$11)","v":5.7142857142857144}]
[null,"11:30:00",{"$f":"OFFSET('Raw Data'!EJ50,Input_Details!$B$12,Input_Details!$B$11)","v":8},{"$f":"OFFSET('Raw Data'!EK50,Input_Details!$B$12,Input_Details!$B$11)","v":7},{"$f":"OFFSET('Raw Data'!EL50,Input_Details!$B$12,Input_Details!$B$11)","v":9},{"$f":"OFFSET('Raw Data'!EM50,Input_Details!$B$12,Input_Details!$B$11)","v":4},{"$f":"OFFSET('Raw Data'!EN50,Input_Details!$B$12,Input_Details!$B$11)","v":6},{"$f":"OFFSET('Raw Data'!EO50,Input_Details!$B$12,Input_Details!$B$11)","v":8},{"$f":"OFFSET('Raw Data'!EP50,Input_Details!$B$12,Input_Details!$B$11)","v":10},{"$f":"OFFSET('Raw Data'!DW722,Input_Details!$C$12,Input_Details!$C$11)","v":6.8},{"$f":"OFFSET('Raw Data'!DW818,Input_Details!$C$12,Input_Details!$C$11)","v":7.4285714285714288}]
[null,"11:45:00",{"$f":"OFFSET('Raw Data'!EJ51,Input_Details!$B$12,Input_Details!$B$11)","v":5},{"$f":"OFFSET('Raw Data'!EK51,Input_Details!$B$12,Input_Details!$B$11)","v":4},{"$f":"OFFSET('Raw Data'!EL51,Input_Details!$B$12,Input_Details!$B$11)","v":5},{"$f":"OFFSET('Raw Data'!EM51,Input_Details!$B$12,Input_Details!$B$11)","v":9},{"$f":"OFFSET('Raw Data'!EN51,Input_Details!$B$12,Input_Details!$B$11)","v":6},{"$f":"OFFSET('Raw Data'!EO51,Input_Details!$B$12,Input_Details!$B$11)","v":7},{"$f":"OFFSET('Raw Data'!EP51,Input_Details!$B$12,Input_Details!$B$11)","v":7},{"$f":"OFFSET('Raw Data'!DW723,Input_Details!$C$12,Input_Details!$C$11)","v":5.8000000000000007},{"$f":"OFFSET('Raw Data'!DW819,Input_Details!$C$12,Input_Details!$C$11)","v":6.1428571428571432}]
[null,"12:00:00",{"$f":"OFFSET('Raw Data'!EJ52,Input_Details!$B$12,Input_Details!$B$11)","v":10},{"$f":"OFFSET('Raw Data'!EK52,Input_Details!$B$12,Input_Details!$B$11)","v":5},{"$f":"OFFSET('Raw Data'!EL52,Input_Details!$B$12,Input_Details!$B$11)","v":5},{"$f":"OFFSET('Raw Data'!EM52,Input_Details!$B$12,Input_Details!$B$11)","v":4},{"$f":"OFFSET('Raw Data'!EN52,Input_Details!$B$12,Input_Details!$B$11)","v":9},{"$f":"OFFSET('Raw Data'!EO52,Input_Details!$B$12,Input_Details!$B$11)","v":8},{"$f":"OFFSET('Raw Data'!EP52,Input_Details!$B$12,Input_Details!$B$11)","v":8},{"$f":"OFFSET('Raw Data'!DW724,Input_Details!$C$12,Input_Details!$C$11)","v":6.6000000000000005},{"$f":"OFFSET('Raw Data'!DW820,Input_Details!$C$12,Input_Details!$C$11)","v":7}]
[null,"12:15:00",{"$f":"OFFSET('Raw Data'!EJ53,Input_Details!$B$12,Input_Details!$B$11)","v":9},{"$f":"OFFSET('Raw Data'!EK53,Input_Details!$B$12,Input_Details!$B$11)","v":4},{"$f":"OFFSET('Raw Data'!EL53,Input_Details!$B$12,Input_Details!$B$11)","v":9},{"$f":"OFFSET('Raw Data'!EM53,Input_Details!$B$12,Input_Details!$B$11)","v":7},{"$f":"OFFSET('Raw Data'!EN53,Input_Details!$B$12,Input_Details!$B$11)","v":8},{"$f":"OFFSET('Raw Data'!EO53,Input_Details!$B$12,Input_Details!$B$11)","v":6},{"$f":"OFFSET('Raw Data'!EP53,Input_Details!$B$12,Input_Details!$B$11)","v":5},{"$f":"OFFSET('Raw Data'!DW725,Input_Details!$C$12,Input_Details!$C$11)","v":7.3999999999999995},{"$f":"OFFSET('Raw Data'!DW821,Input_Details!$C$12,Input_Details!$C$11)","v":6.8571428571428577}]
[null,"12:30:00",{"$f":"OFFSET('Raw Data'!EJ54,Input_Details!$B$12,Input_Details!$B$11)","v":8},{"$f":"OFFSET('Raw Data'!EK54,Input_Details!$B$12,Input_Details!$B$11)","v":4},{"$f":"OFFSET('Raw Data'!EL54,Input_Details!$B$12,Input_Details!$B$11)","v":4},{"$f":"OFFSET('Raw Data'!EM54,Input_Details!$B$12,Input_Details!$B$11)","v":6},{"$f":"OFFSET('Raw Data'!EN54,Input_Details!$B$12,Input_Details!$B$11)","v":8},{"$f":"OFFSET('Raw Data'!EO54,Input_Details!$B$12,Input_Details!$B$11)","v":9},{"$f":"OFFSET('Raw Data'!EP54,Input_Details!$B$12,Input_Details!$B$11)","v":6},{"$f":"OFFSET('Raw Data'!DW726,Input_Details!$C$12,Input_Details!$C$11)","v":6.0000000000000009},{"$f":"OFFSET('Raw Data'!DW822,Input_Details!$C$12,Input_Details!$C$11)","v":6.4285714285714288}]
[null,"12:45:00",{"$f":"OFFSET('Raw Data'!EJ55,Input_Details!$B$12,Input_Details!$B$11)","v":7},{"$f":"OFFSET('Raw Data'!EK55,Input_Details!$B$12,Input_Details!$B$11)","v":7},{"$f":"OFFSET('Raw Data'!EL55,Input_Details!$B$12,Input_Details!$B$11)","v":4},{"$f":"OFFSET('Raw Data'!EM55,Input_Details!$B$12,Input_Details!$B$11)","v":7},{"$f":"OFFSET('Raw Data'!EN55,Input_Details!$B$12,Input_Details!$B$11)","v":14},{"$f":"OFFSET('Raw Data'!EO55,Input_Details!$B$12,Input_Details!$B$11)","v":12},{"$f":"OFFSET('Raw Data'!EP55,Input_Details!$B$12,Input_Details!$B$11)","v":10},{"$f":"OFFSET('Raw Data'!DW727,Input_Details!$C$12,Input_Details!$C$11)","v":7.8000000000000007},{"$f":"OFFSET('Raw Data'!DW823,Input_Details!$C$12,Input_Details!$C$11)","v":8.7142857142857135}]
[null,"13:00:00",{"$f":"OFFSET('Raw Data'!EJ56,Input_Details!$B$12,Input_Details!$B$11)","v":8},{"$f":"OFFSET('Raw Data'!EK56,Input_Details!$B$12,Input_Details!$B$11)","v":7},{"$f":"OFFSET('Raw Data'!EL56,Input_Details!$B$12,Input_Details!$B$11)","v":9},{"$f":"OFFSET('Raw Data'!EM56,Input_Details!$B$12,Input_Details!$B$11)","v":8},{"$f":"OFFSET('Raw Data'!EN56,Input_Details!$B$12,Input_Details!$B$11)","v":17},{"$f":"OFFSET('Raw Data'!EO56,Input_Details!$B$12,Input_Details!$B$11)","v":8},{"$f":"OFFSET('Raw Data'!EP56,Input_Details!$B$12,Input_Details!$B$11)","v":5},{"$f":"OFFSET('Raw Data'!DW728,Input_Details!$C$12,Input_Details!$C$11)","v":9.7999999999999989},{"$f":"OFFSET('Raw Data'!DW824,Input_Details!$C$12,Input_Details!$C$11)","v":8.8571428571428559}]
[null,"13:15:00",{"$f":"OFFSET('Raw Data'!EJ57,Input_Details!$B$12,Input_Details!$B$11)","v":9},{"$f":"OFFSET('Raw Data'!EK57,Input_Details!$B$12,Input_Details!$B$11)","v":5},{"$f":"OFFSET('Raw Data'!EL57,Input_Details!$B$12,Input_Details!$B$11)","v":6},{"$f":"OFFSET('Raw Data'!EM57,Input_Details!$B$12,Input_Details!$B$11)","v":7},{"$f":"OFFSET('Raw Data'!EN57,Input_Details!$B$12,Input_Details!$B$11)","v":10},{"$f":"OFFSET('Raw Data'!EO57,Input_Details!$B$12,Input_Details!$B$11)","v":9},{"$f":"OFFSET('Raw Data'!EP57,Input_Details!$B$12,Input_Details!$B$11)","v":11},{"$f":"OFFSET('Raw Data'!DW729,Input_Details!$C$12,Input_Details!$C$11)","v":7.4},{"$f":"OFFSET('Raw Data'!DW825,Input_Details!$C$12,Input_Details!$C$11)","v":8.1428571428571423}]
[null,"13:30:00",{"$f":"OFFSET('Raw Data'!EJ58,Input_Details!$B$12,Input_Details!$B$11)","v":7},{"$f":"OFFSET('Raw Data'!EK58,Input_Details!$B$12,Input_Details!$B$11)","v":5},{"$f":"OFFSET('Raw Data'!EL58,Input_Details!$B$12,Input_Details!$B$11)","v":8},{"$f":"OFFSET('Raw Data'!EM58,Input_Details!$B$12,Input_Details!$B$11)","v":5},{"$f":"OFFSET('Raw Data'!EN58,Input_Details!$B$12,Input_Details!$B$11)","v":8},{"$f":"OFFSET('Raw Data'!EO58,Input_Details!$B$12,Input_Details!$B$11)","v":9},{"$f":"OFFSET('Raw Data'!EP58,Input_Details!$B$12,Input_Details!$B$11)","v":11},{"$f":"OFFSET('Raw Data'!DW730,Input_Details!$C$12,Input_Details!$C$11)","v":6.6},{"$f":"OFFSET('Raw Data'!DW826,Input_Details!$C$12,Input_Details!$C$11)","v":7.5714285714285721}]
[null,"13:45:00",{"$f":"OFFSET('Raw Data'!EJ59,Input_Details!$B$12,Input_Details!$B$11)","v":4},{"$f":"OFFSET('Raw Data'!EK59,Input_Details!$B$12,Input_Details!$B$11)","v":8},{"$f":"OFFSET('Raw Data'!EL59,Input_Details!$B$12,Input_Details!$B$11)","v":5},{"$f":"OFFSET('Raw Data'!EM59,Input_Details!$B$12,Input_Details!$B$11)","v":6},{"$f":"OFFSET('Raw Data'!EN59,Input_Details!$B$12,Input_Details!$B$11)","v":5},{"$f":"OFFSET('Raw Data'!EO59,Input_Details!$B$12,Input_Details!$B$11)","v":8},{"$f":"OFFSET('Raw Data'!EP59,Input_Details!$B$12,Input_Details!$B$11)","v":11},{"$f":"OFFSET('Raw Data'!DW731,Input_Details!$C$12,Input_Details!$C$11)","v":5.6000000000000005},{"$f":"OFFSET('Raw Data'!DW827,Input_Details!$C$12,Input_Details!$C$11)","v":6.7142857142857153}]
[null,"14:00:00",{"$f":"OFFSET('Raw Data'!EJ60,Input_Details!$B$12,Input_Details!$B$11)","v":4},{"$f":"OFFSET('Raw Data'!EK60,Input_Details!$B$12,Input_Details!$B$11)","v":4},{"$f":"OFFSET('Raw Data'!EL60,Input_Details!$B$12,Input_Details!$B$11)","v":4},{"$f":"OFFSET('Raw Data'!EM60,Input_Details!$B$12,Input_Details!$B$11)","v":3},{"$f":"OFFSET('Raw Data'!EN60,Input_Details!$B$12,Input_Details!$B$11)","v":5},{"$f":"OFFSET('Raw Data'!EO60,Input_Details!$B$12,Input_Details!$B$11)","v":9},{"$f":"OFFSET('Raw Data'!EP60,Input_Details!$B$12,Input_Details!$B$11)","v":12},{"$f":"OFFSET('Raw Data'!DW732,Input_Details!$C$12,Input_Details!$C$11)","v":4},{"$f":"OFFSET('Raw Data'!DW828,Input_Details!$C$12,Input_Details!$C$11)","v":5.8571428571428577}]
[null,"14:15:00",{"$f":"OFFSET('Raw Data'!EJ61,Input_Details!$B$12,Input_Details!$B$11)","v":6},{"$f":"OFFSET('Raw Data'!EK61,Input_Details!$B$12,Input_Details!$B$11)","v":4},{"$f":"OFFSET('Raw Data'!EL61,Input_Details!$B$12,Input_Details!$B$11)","v":6},{"$f":"OFFSET('Raw Data'!EM61,Input_Details!$B$12,Input_Details!$B$11)","v":4},{"$f":"OFFSET('Raw Data'!EN61,Input_Details!$B$12,Input_Details!$B$11)","v":5},{"$f":"OFFSET('Raw Data'!EO61,Input_Details!$B$12,Input_Details!$B$11)","v":7},{"$f":"OFFSET('Raw Data'!EP61,Input_Details!$B$12,Input_Details!$B$11)","v":6},{"$f":"OFFSET('Raw Data'!DW733,Input_Details!$C$12,Input_Details!$C$11)","v":5},{"$f":"OFFSET('Raw Data'!DW829,Input_Details!$C$12,Input_Details!$C$11)","v":5.4285714285714288}]
[null,"14:30:00",{"$f":"OFFSET('Raw Data'!EJ62,Input_Details!$B$12,Input_Details!$B$11)","v":6},{"$f":"OFFSET('Raw Data'!EK62,Input_Details!$B$12,Input_Details!$B$11)","v":6},{"$f":"OFFSET('Raw Data'!EL62,Input_Details!$B$12,Input_Details!$B$11)","v":8},{"$f":"OFFSET('Raw Data'!EM62,Input_Details!$B$12,Input_Details!$B$11)","v":2},{"$f":"OFFSET('Raw Data'!EN62,Input_Details!$B$12,Input_Details!$B$11)","v":7},{"$f":"OFFSET('Raw Data'!EO62,Input_Details!$B$12,Input_Details!$B$11)","v":8},{"$f":"OFFSET('Raw Data'!EP62,Input_Details!$B$12,Input_Details!$B$11)","v":10},{"$f":"OFFSET('Raw Data'!DW734,Input_Details!$C$12,Input_Details!$C$11)","v":5.8000000000000007},{"$f":"OFFSET('Raw Data'!DW830,Input_Details!$C$12,Input_Details!$C$11)","v":6.7142857142857144}]
[null,"14:45:00",{"$f":"OFFSET('Raw Data'!EJ63,Input_Details!$B$12,Input_Details!$B$11)","v":10},{"$f":"OFFSET('Raw Data'!EK63,Input_Details!$B$12,Input_Details!$B$11)","v":7},{"$f":"OFFSET('Raw Data'!EL63,Input_Details!$B$12,Input_Details!$B$11)","v":0},{"$f":"OFFSET('Raw Data'!EM63,Input_Details!$B$12,Input_Details!$B$11)","v":3},{"$f":"OFFSET('Raw Data'!EN63,Input_Details!$B$12,Input_Details!$B$11)","v":3},{"$f":"OFFSET('Raw Data'!EO63,Input_Details!$B$12,Input_Details!$B$11)","v":10},{"$f":"OFFSET('Raw Data'!EP63,Input_Details!$B$12,Input_Details!$B$11)","v":5},{"$f":"OFFSET('Raw Data'!DW735,Input_Details!$C$12,Input_Details!$C$11)","v":4.6000000000000005},{"$f":"OFFSET('Raw Data'!DW831,Input_Details!$C$12,Input_Details!$C$11)","v":5.4285714285714288}]
[null,"15:00:00",{"$f":"OFFSET('Raw Data'!EJ64,Input_Details!$B$12,Input_Details!$B$11)","v":5},{"$f":"OFFSET('Raw Data'!EK64,Input_Details!$B$12,Input_Details!$B$11)","v":3},{"$f":"OFFSET('Raw Data'!EL64,Input_Details!$B$12,Input_Details!$B$11)","v":6},{"$f":"OFFSET('Raw Data'!EM64,Input_Details!$B$12,Input_Details!$B$11)","v":5},{"$f":"OFFSET('Raw Data'!EN64,Input_Details!$B$12,Input_Details!$B$11)","v":5},{"$f":"OFFSET('Raw Data'!EO64,Input_Details!$B$12,Input_Details!$B$11)","v":5},{"$f":"OFFSET('Raw Data'!EP64,Input_Details!$B$12,Input_Details!$B$11)","v":12},{"$f":"OFFSET('Raw Data'!DW736,Input_Details!$C$12,Input_Details!$C$11)","v":4.8},{"$f":"OFFSET('Raw Data'!DW832,Input_Details!$C$12,Input_Details!$C$11)","v":5.8571428571428577}]
[null,"15:15:00",{"$f":"OFFSET('Raw Data'!EJ65,Input_Details!$B$12,Input_Details!$B$11)","v":7},{"$f":"OFFSET('Raw Data'!EK65,Input_Details!$B$12,Input_Details!$B$11)","v":5},{"$f":"OFFSET('Raw Data'!EL65,Input_Details!$B$12,Input_Details!$B$11)","v":5},{"$f":"OFFSET('Raw Data'!EM65,Input_Details!$B$12,Input_Details!$B$11)","v":6},{"$f":"OFFSET('Raw Data'!EN65,Input_Details!$B$12,Input_Details!$B$11)","v":5},{"$f":"OFFSET('Raw Data'!EO65,Input_Details!$B$12,Input_Details!$B$11)","v":2},{"$f":"OFFSET('Raw Data'!EP65,Input_Details!$B$12,Input_Details!$B$11)","v":9},{"$f":"OFFSET('Raw Data'!DW737,Input_Details!$C$12,Input_Details!$C$11)","v":5.6},{"$f":"OFFSET('Raw Data'!DW833,Input_Details!$C$12,Input_Details!$C$11)","v":5.5714285714285712}]
[null,"15:30:00",{"$f":"OFFSET('Raw Data'!EJ66,Input_Details!$B$12,Input_Details!$B$11)","v":7},{"$f":"OFFSET('Raw Data'!EK66,Input_Details!$B$12,Input_Details!$B$11)","v":7},{"$f":"OFFSET('Raw Data'!EL66,Input_Details!$B$12,Input_Details!$B$11)","v":5},{"$f":"OFFSET('Raw Data'!EM66,Input_Details!$B$12,Input_Details!$B$11)","v":7},{"$f":"OFFSET('Raw Data'!EN66,Input_Details!$B$12,Input_Details!$B$11)","v":4},{"$f":"OFFSET('Raw Data'!EO66,Input_Details!$B$12,Input_Details!$B$11)","v":10},{"$f":"OFFSET('Raw Data'!EP66,Input_Details!$B$12,Input_Details!$B$11)","v":6},{"$f":"OFFSET('Raw Data'!DW738,Input_Details!$C$12,Input_Details!$C$11)","v":6},{"$f":"OFFSET('Raw Data'!DW834,Input_Details!$C$12,Input_Details!$C$11)","v":6.5714285714285712}]
[null,"15:45:00",{"$f":"OFFSET('Raw Data'!EJ67,Input_Details!$B$12,Input_Details!$B$11)","v":9},{"$f":"OFFSET('Raw Data'!EK67,Input_Details!$B$12,Input_Details!$B$11)","v":6},{"$f":"OFFSET('Raw Data'!EL67,Input_Details!$B$12,Input_Details!$B$11)","v":6},{"$f":"OFFSET('Raw Data'!EM67,Input_Details!$B$12,Input_Details!$B$11)","v":5},{"$f":"OFFSET('Raw Data'!EN67,Input_Details!$B$12,Input_Details!$B$11)","v":9},{"$f":"OFFSET('Raw Data'!EO67,Input_Details!$B$12,Input_Details!$B$11)","v":4},{"$f":"OFFSET('Raw Data'!EP67,Input_Details!$B$12,Input_Details!$B$11)","v":10},{"$f":"OFFSET('Raw Data'!DW739,Input_Details!$C$12,Input_Details!$C$11)","v":7},{"$f":"OFFSET('Raw Data'!DW835,Input_Details!$C$12,Input_Details!$C$11)","v":7}]
[null,"16:00:00",{"$f":"OFFSET('Raw Data'!EJ68,Input_Details!$B$12,Input_Details!$B$11)","v":6},{"$f":"OFFSET('Raw Data'!EK68,Input_Details!$B$12,Input_Details!$B$11)","v":5},{"$f":"OFFSET('Raw Data'!EL68,Input_Details!$B$12,Input_Details!$B$11)","v":3},{"$f":"OFFSET('Raw Data'!EM68,Input_Details!$B$12,Input_Details!$B$11)","v":3},{"$f":"OFFSET('Raw Data'!EN68,Input_Details!$B$12,Input_Details!$B$11)","v":4},{"$f":"OFFSET('Raw Data'!EO68,Input_Details!$B$12,Input_Details!$B$11)","v":4},{"$f":"OFFSET('Raw Data'!EP68,Input_Details!$B$12,Input_Details!$B$11)","v":13},{"$f":"OFFSET('Raw Data'!DW740,Input_Details!$C$12,Input_Details!$C$11)","v":4.2},{"$f":"OFFSET('Raw Data'!DW836,Input_Details!$C$12,Input_Details!$C$11)","v":5.4285714285714288}]
[null,"16:15:00",{"$f":"OFFSET('Raw Data'!EJ69,Input_Details!$B$12,Input_Details!$B$11)","v":6},{"$f":"OFFSET('Raw Data'!EK69,Input_Details!$B$12,Input_Details!$B$11)","v":"-"},{"$f":"OFFSET('Raw Data'!EL69,Input_Details!$B$12,Input_Details!$B$11)","v":5},{"$f":"OFFSET('Raw Data'!EM69,Input_Details!$B$12,Input_Details!$B$11)","v":4},{"$f":"OFFSET('Raw Data'!EN69,Input_Details!$B$12,Input_Details!$B$11)","v":7},{"$f":"OFFSET('Raw Data'!EO69,Input_Details!$B$12,Input_Details!$B$11)","v":9},{"$f":"OFFSET('Raw Data'!EP69,Input_Details!$B$12,Input_Details!$B$11)","v":8},{"$f":"OFFSET('Raw Data'!DW741,Input_Details!$C$12,Input_Details!$C$11)","v":5.5},{"$f":"OFFSET('Raw Data'!DW837,Input_Details!$C$12,Input_Details!$C$11)","v":6.5}]
[null,"16:30:00",{"$f":"OFFSET('Raw Data'!EJ70,Input_Details!$B$12,Input_Details!$B$11)","v":8},{"$f":"OFFSET('Raw Data'!EK70,Input_Details!$B$12,Input_Details!$B$11)","v":3},{"$f":"OFFSET('Raw Data'!EL70,Input_Details!$B$12,Input_Details!$B$11)","v":9},{"$f":"OFFSET('Raw Data'!EM70,Input_Details!$B$12,Input_Details!$B$11)","v":8},{"$f":"OFFSET('Raw Data'!EN70,Input_Details!$B$12,Input_Details!$B$11)","v":7},{"$f":"OFFSET('Raw Data'!EO70,Input_Details!$B$12,Input_Details!$B$11)","v":9},{"$f":"OFFSET('Raw Data'!EP70,Input_Details!$B$12,Input_Details!$B$11)","v":12},{"$f":"OFFSET('Raw Data'!DW742,Input_Details!$C$12,Input_Details!$C$11)","v":6.9999999999999991},{"$f":"OFFSET('Raw Data'!DW838,Input_Details!$C$12,Input_Details!$C$11)","v":8}]
[null,"16:45:00",{"$f":"OFFSET('Raw Data'!EJ71,Input_Details!$B$12,Input_Details!$B$11)","v":7},{"$f":"OFFSET('Raw Data'!EK71,Input_Details!$B$12,Input_Details!$B$11)","v":10},{"$f":"OFFSET('Raw Data'!EL71,Input_Details!$B$12,Input_Details!$B$11)","v":2},{"$f":"OFFSET('Raw Data'!EM71,Input_Details!$B$12,Input_Details!$B$11)","v":12},{"$f":"OFFSET('Raw Data'!EN71,Input_Details!$B$12,Input_Details!$B$11)","v":4},{"$f":"OFFSET('Raw Data'!EO71,Input_Details!$B$12,Input_Details!$B$11)","v":8},{"$f":"OFFSET('Raw Data'!EP71,Input_Details!$B$12,Input_Details!$B$11)","v":8},{"$f":"OFFSET('Raw Data'!DW743,Input_Details!$C$12,Input_Details!$C$11)","v":6.9999999999999991},{"$f":"OFFSET('Raw Data'!DW839,Input_Details!$C$12,Input_Details!$C$11)","v":7.2857142857142847}]
[null,"17:00:00",{"$f":"OFFSET('Raw Data'!EJ72,Input_Details!$B$12,Input_Details!$B$11)","v":5},{"$f":"OFFSET('Raw Data'!EK72,Input_Details!$B$12,Input_Details!$B$11)","v":4},{"$f":"OFFSET('Raw Data'!EL72,Input_Details!$B$12,Input_Details!$B$11)","v":4},{"$f":"OFFSET('Raw Data'!EM72,Input_Details!$B$12,Input_Details!$B$11)","v":12},{"$f":"OFFSET('Raw Data'!EN72,Input_Details!$B$12,Input_Details!$B$11)","v":3},{"$f":"OFFSET('Raw Data'!EO72,Input_Details!$B$12,Input_Details!$B$11)","v":12},{"$f":"OFFSET('Raw Data'!EP72,Input_Details!$B$12,Input_Details!$B$11)","v":7},{"$f":"OFFSET('Raw Data'!DW744,Input_Details!$C$12,Input_Details!$C$11)","v":5.6},{"$f":"OFFSET('Raw Data'!DW840,Input_Details!$C$12,Input_Details!$C$11)","v":6.7142857142857144}]
[null,"17:15:00",{"$f":"OFFSET('Raw Data'!EJ73,Input_Details!$B$12,Input_Details!$B$11)","v":7},{"$f":"OFFSET('Raw Data'!EK73,Input_Details!$B$12,Input_Details!$B$11)","v":5},{"$f":"OFFSET('Raw Data'!EL73,Input_Details!$B$12,Input_Details!$B$11)","v":3},{"$f":"OFFSET('Raw Data'!EM73,Input_Details!$B$12,Input_Details!$B$11)","v":2},{"$f":"OFFSET('Raw Data'!EN73,Input_Details!$B$12,Input_Details!$B$11)","v":2},{"$f":"OFFSET('Raw Data'!EO73,Input_Details!$B$12,Input_Details!$B$11)","v":8},{"$f":"OFFSET('Raw Data'!EP73,Input_Details!$B$12,Input_Details!$B$11)","v":5},{"$f":"OFFSET('Raw Data'!DW745,Input_Details!$C$12,Input_Details!$C$11)","v":3.8000000000000003},{"$f":"OFFSET('Raw Data'!DW841,Input_Details!$C$12,Input_Details!$C$11)","v":4.5714285714285712}]
[null,"17:30:00",{"$f":"OFFSET('Raw Data'!EJ74,Input_Details!$B$12,Input_Details!$B$11)","v":10},{"$f":"OFFSET('Raw Data'!EK74,Input_Details!$B$12,Input_Details!$B$11)","v":9},{"$f":"OFFSET('Raw Data'!EL74,Input_Details!$B$12,Input_Details!$B$11)","v":7},{"$f":"OFFSET('Raw Data'!EM74,Input_Details!$B$12,Input_Details!$B$11)","v":5},{"$f":"OFFSET('Raw Data'!EN74,Input_Details!$B$12,Input_Details!$B$11)","v":7},{"$f":"OFFSET('Raw Data'!EO74,Input_Details!$B$12,Input_Details!$B$11)","v":7},{"$f":"OFFSET('Raw Data'!EP74,Input_Details!$B$12,Input_Details!$B$11)","v":6},{"$f":"OFFSET('Raw Data'!DW746,Input_Details!$C$12,Input_Details!$C$11)","v":7.6},{"$f":"OFFSET('Raw Data'!DW842,Input_Details!$C$12,Input_Details!$C$11)","v":7.2857142857142865}]
[null,"17:45:00",{"$f":"OFFSET('Raw Data'!EJ75,Input_Details!$B$12,Input_Details!$B$11)","v":6},{"$f":"OFFSET('Raw Data'!EK75,Input_Details!$B$12,Input_Details!$B$11)","v":10},{"$f":"OFFSET('Raw Data'!EL75,Input_Details!$B$12,Input_Details!$B$11)","v":11},{"$f":"OFFSET('Raw Data'!EM75,Input_Details!$B$12,Input_Details!$B$11)","v":4},{"$f":"OFFSET('Raw Data'!EN75,Input_Details!$B$12,Input_Details!$B$11)","v":4},{"$f":"OFFSET('Raw Data'!EO75,Input_Details!$B$12,Input_Details!$B$11)","v":6},{"$f":"OFFSET('Raw Data'!EP75,Input_Details!$B$12,Input_Details!$B$11)","v":5},{"$f":"OFFSET('Raw Data'!DW747,Input_Details!$C$12,Input_Details!$C$11)","v":7.0000000000000009},{"$f":"OFFSET('Raw Data'!DW843,Input_Details!$C$12,Input_Details!$C$11)","v":6.5714285714285721}]
[null,"18:00:00",{"$f":"OFFSET('Raw Data'!EJ76,Input_Details!$B$12,Input_Details!$B$11)","v":4},{"$f":"OFFSET('Raw Data'!EK76,Input_Details!$B$12,Input_Details!$B$11)","v":12},{"$f":"OFFSET('Raw Data'!EL76,Input_Details!$B$12,Input_Details!$B$11)","v":5},{"$f":"OFFSET('Raw Data'!EM76,Input_Details!$B$12,Input_Details!$B$11)","v":9},{"$f":"OFFSET('Raw Data'!EN76,Input_Details!$B$12,Input_Details!$B$11)","v":13},{"$f":"OFFSET('Raw Data'!EO76,Input_Details!$B$12,Input_Details!$B$11)","v":3},{"$f":"OFFSET('Raw Data'!EP76,Input_Details!$B$12,Input_Details!$B$11)","v":12},{"$f":"OFFSET('Raw Data'!DW748,Input_Details!$C$12,Input_Details!$C$11)","v":8.6000000000000014},{"$f":"OFFSET('Raw Data'!DW844,Input_Details!$C$12,Input_Details!$C$11)","v":8.2857142857142847}]
[null,"18:15:00",{"$f":"OFFSET('Raw Data'!EJ77,Input_Details!$B$12,Input_Details!$B$11)","v":10},{"$f":"OFFSET('Raw Data'!EK77,Input_Details!$B$12,Input_Details!$B$11)","v":8},{"$f":"OFFSET('Raw Data'!EL77,Input_Details!$B$12,Input_Details!$B$11)","v":7},{"$f":"OFFSET('Raw Data'!EM77,Input_Details!$B$12,Input_Details!$B$11)","v":2},{"$f":"OFFSET('Raw Data'!EN77,Input_Details!$B$12,Input_Details!$B$11)","v":7},{"$f":"OFFSET('Raw Data'!EO77,Input_Details!$B$12,Input_Details!$B$11)","v":13},{"$f":"OFFSET('Raw Data'!EP77,Input_Details!$B$12,Input_Details!$B$11)","v":5},{"$f":"OFFSET('Raw Data'!DW749,Input_Details!$C$12,Input_Details!$C$11)","v":6.8000000000000007},{"$f":"OFFSET('Raw Data'!DW845,Input_Details!$C$12,Input_Details!$C$11)","v":7.4285714285714288}]
[null,"18:30:00",{"$f":"OFFSET('Raw Data'!EJ78,Input_Details!$B$12,Input_Details!$B$11)","v":6},{"$f":"OFFSET('Raw Data'!EK78,Input_Details!$B$12,Input_Details!$B$11)","v":8},{"$f":"OFFSET('Raw Data'!EL78,Input_Details!$B$12,Input_Details!$B$11)","v":6},{"$f":"OFFSET('Raw Data'!EM78,Input_Details!$B$12,Input_Details!$B$11)","v":5},{"$f":"OFFSET('Raw Data'!EN78,Input_Details!$B$12,Input_Details!$B$11)","v":13},{"$f":"OFFSET('Raw Data'!EO78,Input_Details!$B$12,Input_Details!$B$11)","v":15},{"$f":"OFFSET('Raw Data'!EP78,Input_Details!$B$12,Input_Details!$B$11)","v":13},{"$f":"OFFSET('Raw Data'!DW750,Input_Details!$C$12,Input_Details!$C$11)","v":7.6000000000000005},{"$f":"OFFSET('Raw Data'!DW846,Input_Details!$C$12,Input_Details!$C$11)","v":9.4285714285714288}]
[null,"18:45:00",{"$f":"OFFSET('Raw Data'!EJ79,Input_Details!$B$12,Input_Details!$B$11)","v":5},{"$f":"OFFSET('Raw Data'!EK79,Input_Details!$B$12,Input_Details!$B$11)","v":13},{"$f":"OFFSET('Raw Data'!EL79,Input_Details!$B$12,Input_Details!$B$11)","v":4},{"$f":"OFFSET('Raw Data'!EM79,Input_Details!$B$12,Input_Details!$B$11)","v":7},{"$f":"OFFSET('Raw Data'!EN79,Input_Details!$B$12,Input_Details!$B$11)","v":10},{"$f":"OFFSET('Raw Data'!EO79,Input_Details!$B$12,Input_Details!$B$11)","v":11},{"$f":"OFFSET('Raw Data'!EP79,Input_Details!$B$12,Input_Details!$B$11)","v":11},{"$f":"OFFSET('Raw Data'!DW751,Input_Details!$C$12,Input_Details!$C$11)","v":7.8000000000000007},{"$f":"OFFSET('Raw Data'!DW847,Input_Details!$C$12,Input_Details!$C$11)","v":8.7142857142857135}]
[null,"19:00:00",{"$f":"OFFSET('Raw Data'!EJ80,Input_Details!$B$12,Input_Details!$B$11)","v":9},{"$f":"OFFSET('Raw Data'!EK80,Input_Details!$B$12,Input_Details!$B$11)","v":5},{"$f":"OFFSET('Raw Data'!EL80,Input_Details!$B$12,Input_Details!$B$11)","v":11},{"$f":"OFFSET('Raw Data'!EM80,Input_Details!$B$12,Input_Details!$B$11)","v":4},{"$f":"OFFSET('Raw Data'!EN80,Input_Details!$B$12,Input_Details!$B$11)","v":5},{"$f":"OFFSET('Raw Data'!EO80,Input_Details!$B$12,Input_Details!$B$11)","v":13},{"$f":"OFFSET('Raw Data'!EP80,Input_Details!$B$12,Input_Details!$B$11)","v":13},{"$f":"OFFSET('Raw Data'!DW752,Input_Details!$C$12,Input_Details!$C$11)","v":6.8000000000000007},{"$f":"OFFSET('Raw Data'!DW848,Input_Details!$C$12,Input_Details!$C$11)","v":8.571428571428573}]
[null,"19:15:00",{"$f":"OFFSET('Raw Data'!EJ81,Input_Details!$B$12,Input_Details!$B$11)","v":9},{"$f":"OFFSET('Raw Data'!EK81,Input_Details!$B$12,Input_Details!$B$11)","v":9},{"$f":"OFFSET('Raw Data'!EL81,Input_Details!$B$12,Input_Details!$B$11)","v":12},{"$f":"OFFSET('Raw Data'!EM81,Input_Details!$B$12,Input_Details!$B$11)","v":1},{"$f":"OFFSET('Raw Data'!EN81,Input_Details!$B$12,Input_Details!$B$11)","v":10},{"$f":"OFFSET('Raw Data'!EO81,Input_Details!$B$12,Input_Details!$B$11)","v":6},{"$f":"OFFSET('Raw Data'!EP81,Input_Details!$B$12,Input_Details!$B$11)","v":9},{"$f":"OFFSET('Raw Data'!DW753,Input_Details!$C$12,Input_Details!$C$11)","v":8.1999999999999993},{"$f":"OFFSET('Raw Data'!DW849,Input_Details!$C$12,Input_Details!$C$11)","v":8}]
[null,"19:30:00",{"$f":"OFFSET('Raw Data'!EJ82,Input_Details!$B$12,Input_Details!$B$11)","v":7},{"$f":"OFFSET('Raw Data'!EK82,Input_Details!$B$12,Input_Details!$B$11)","v":8},{"$f":"OFFSET('Raw Data'!EL82,Input_Details!$B$12,Input_Details!$B$11)","v":3},{"$f":"OFFSET('Raw Data'!EM82,Input_Details!$B$12,Input_Details!$B$11)","v":4},{"$f":"OFFSET('Raw Data'!EN82,Input_Details!$B$12,Input_Details!$B$11)","v":8},{"$f":"OFFSET('Raw Data'!EO82,Input_Details!$B$12,Input_Details!$B$11)","v":9},{"$f":"OFFSET('Raw Data'!EP82,Input_Details!$B$12,Input_Details!$B$11)","v":11},{"$f":"OFFSET('Raw Data'!DW754,Input_Details!$C$12,Input_Details!$C$11)","v":6},{"$f":"OFFSET('Raw Data'!DW850,Input_Details!$C$12,Input_Details!$C$11)","v":7.1428571428571432}]
[null,"19:45:00",{"$f":"OFFSET('Raw Data'!EJ83,Input_Details!$B$12,Input_Details!$B$11)","v":12},{"$f":"OFFSET('Raw Data'!EK83,Input_Details!$B$12,Input_Details!$B$11)","v":9},{"$f":"OFFSET('Raw Data'!EL83,Input_Details!$B$12,Input_Details!$B$11)","v":8},{"$f":"OFFSET('Raw Data'!EM83,Input_Details!$B$12,Input_Details!$B$11)","v":3},{"$f":"OFFSET('Raw Data'!EN83,Input_Details!$B$12,Input_Details!$B$11)","v":6},{"$f":"OFFSET('Raw Data'!EO83,Input_Details!$B$12,Input_Details!$B$11)","v":9},{"$f":"OFFSET('Raw Data'!EP83,Input_Details!$B$12,Input_Details!$B$11)","v":13},{"$f":"OFFSET('Raw Data'!DW755,Input_Details!$C$12,Input_Details!$C$11)","v":7.6000000000000005},{"$f":"OFFSET('Raw Data'!DW851,Input_Details!$C$12,Input_Details!$C$11)","v":8.5714285714285712}]
[null,"20:00:00",{"$f":"OFFSET('Raw Data'!EJ84,Input_Details!$B$12,Input_Details!$B$11)","v":4},{"$f":"OFFSET('Raw Data'!EK84,Input_Details!$B$12,Input_Details!$B$11)","v":6},{"$f":"OFFSET('Raw Data'!EL84,Input_Details!$B$12,Input_Details!$B$11)","v":2},{"$f":"OFFSET('Raw Data'!EM84,Input_Details!$B$12,Input_Details!$B$11)","v":2},{"$f":"OFFSET('Raw Data'!EN84,Input_Details!$B$12,Input_Details!$B$11)","v":9},{"$f":"OFFSET('Raw Data'!EO84,Input_Details!$B$12,Input_Details!$B$11)","v":7},{"$f":"OFFSET('Raw Data'!EP84,Input_Details!$B$12,Input_Details!$B$11)","v":7},{"$f":"OFFSET('Raw Data'!DW756,Input_Details!$C$12,Input_Details!$C$11)","v":4.5999999999999996},{"$f":"OFFSET('Raw Data'!DW852,Input_Details!$C$12,Input_Details!$C$11)","v":5.2857142857142865}]
[null,"20:15:00",{"$f":"OFFSET('Raw Data'!EJ85,Input_Details!$B$12,Input_Details!$B$11)","v":9},{"$f":"OFFSET('Raw Data'!EK85,Input_Details!$B$12,Input_Details!$B$11)","v":3},{"$f":"OFFSET('Raw Data'!EL85,Input_Details!$B$12,Input_Details!$B$11)","v":4},{"$f":"OFFSET('Raw Data'!EM85,Input_Details!$B$12,Input_Details!$B$11)","v":2},{"$f":"OFFSET('Raw Data'!EN85,Input_Details!$B$12,Input_Details!$B$11)","v":9},{"$f":"OFFSET('Raw Data'!EO85,Input_Details!$B$12,Input_Details!$B$11)","v":11},{"$f":"OFFSET('Raw Data'!EP85,Input_Details!$B$12,Input_Details!$B$11)","v":8},{"$f":"OFFSET('Raw Data'!DW757,Input_Details!$C$12,Input_Details!$C$11)","v":5.4},{"$f":"OFFSET('Raw Data'!DW853,Input_Details!$C$12,Input_Details!$C$11)","v":6.5714285714285712}]
[null,"20:30:00",{"$f":"OFFSET('Raw Data'!EJ86,Input_Details!$B$12,Input_Details!$B$11)","v":6},{"$f":"OFFSET('Raw Data'!EK86,Input_Details!$B$12,Input_Details!$B$11)","v":6},{"$f":"OFFSET('Raw Data'!EL86,Input_Details!$B$12,Input_Details!$B$11)","v":5},{"$f":"OFFSET('Raw Data'!EM86,Input_Details!$B$12,Input_Details!$B$11)","v":2},{"$f":"OFFSET('Raw Data'!EN86,Input_Details!$B$12,Input_Details!$B$11)","v":2},{"$f":"OFFSET('Raw Data'!EO86,Input_Details!$B$12,Input_Details!$B$11)","v":8},{"$f":"OFFSET('Raw Data'!EP86,Input_Details!$B$12,Input_Details!$B$11)","v":6},{"$f":"OFFSET('Raw Data'!DW758,Input_Details!$C$12,Input_Details!$C$11)","v":4.2},{"$f":"OFFSET('Raw Data'!DW854,Input_Details!$C$12,Input_Details!$C$11)","v":5}]
[null,"20:45:00",{"$f":"OFFSET('Raw Data'!EJ87,Input_Details!$B$12,Input_Details!$B$11)","v":4},{"$f":"OFFSET('Raw Data'!EK87,Input_Details!$B$12,Input_Details!$B$11)","v":4},{"$f":"OFFSET('Raw Data'!EL87,Input_Details!$B$12,Input_Details!$B$11)","v":3},{"$f":"OFFSET('Raw Data'!EM87,Input_Details!$B$12,Input_Details!$B$11)","v":4},{"$f":"OFFSET('Raw Data'!EN87,Input_Details!$B$12,Input_Details!$B$11)","v":6},{"$f":"OFFSET('Raw Data'!EO87,Input_Details!$B$12,Input_Details!$B$11)","v":11},{"$f":"OFFSET('Raw Data'!EP87,Input_Details!$B$12,Input_Details!$B$11)","v":11},{"$f":"OFFSET('Raw Data'!DW759,Input_Details!$C$12,Input_Details!$C$11)","v":4.2},{"$f":"OFFSET('Raw Data'!DW855,Input_Details!$C$12,Input_Details!$C$11)","v":6.1428571428571432}]
[null,"21:00:00",{"$f":"OFFSET('Raw Data'!EJ88,Input_Details!$B$12,Input_Details!$B$11)","v":7},{"$f":"OFFSET('Raw Data'!EK88,Input_Details!$B$12,Input_Details!$B$11)","v":1},{"$f":"OFFSET('Raw Data'!EL88,Input_Details!$B$12,Input_Details!$B$11)","v":6},{"$f":"OFFSET('Raw Data'!EM88,Input_Details!$B$12,Input_Details!$B$11)","v":1},{"$f":"OFFSET('Raw Data'!EN88,Input_Details!$B$12,Input_Details!$B$11)","v":10},{"$f":"OFFSET('Raw Data'!EO88,Input_Details!$B$12,Input_Details!$B$11)","v":11},{"$f":"OFFSET('Raw Data'!EP88,Input_Details!$B$12,Input_Details!$B$11)","v":4},{"$f":"OFFSET('Raw Data'!DW760,Input_Details!$C$12,Input_Details!$C$11)","v":5},{"$f":"OFFSET('Raw Data'!DW856,Input_Details!$C$12,Input_Details!$C$11)","v":5.7142857142857144}]
[null,"21:15:00",{"$f":"OFFSET('Raw Data'!EJ89,Input_Details!$B$12,Input_Details!$B$11)","v":3},{"$f":"OFFSET('Raw Data'!EK89,Input_Details!$B$12,Input_Details!$B$11)","v":8},{"$f":"OFFSET('Raw Data'!EL89,Input_Details!$B$12,Input_Details!$B$11)","v":4},{"$f":"OFFSET('Raw Data'!EM89,Input_Details!$B$12,Input_Details!$B$11)","v":3},{"$f":"OFFSET('Raw Data'!EN89,Input_Details!$B$12,Input_Details!$B$11)","v":9},{"$f":"OFFSET('Raw Data'!EO89,Input_Details!$B$12,Input_Details!$B$11)","v":5},{"$f":"OFFSET('Raw Data'!EP89,Input_Details!$B$12,Input_Details!$B$11)","v":9},{"$f":"OFFSET('Raw Data'!DW761,Input_Details!$C$12,Input_Details!$C$11)","v":5.4},{"$f":"OFFSET('Raw Data'!DW857,Input_Details!$C$12,Input_Details!$C$11)","v":5.8571428571428577}]
[null,"21:30:00",{"$f":"OFFSET('Raw Data'!EJ90,Input_Details!$B$12,Input_Details!$B$11)","v":3},{"$f":"OFFSET('Raw Data'!EK90,Input_Details!$B$12,Input_Details!$B$11)","v":4},{"$f":"OFFSET('Raw Data'!EL90,Input_Details!$B$12,Input_Details!$B$11)","v":2},{"$f":"OFFSET('Raw Data'!EM90,Input_Details!$B$12,Input_Details!$B$11)","v":2},{"$f":"OFFSET('Raw Data'!EN90,Input_Details!$B$12,Input_Details!$B$11)","v":6},{"$f":"OFFSET('Raw Data'!EO90,Input_Details!$B$12,Input_Details!$B$11)","v":11},{"$f":"OFFSET('Raw Data'!EP90,Input_Details!$B$12,Input_Details!$B$11)","v":3},{"$f":"OFFSET('Raw Data'!DW762,Input_Details!$C$12,Input_Details!$C$11)","v":3.4},{"$f":"OFFSET('Raw Data'!DW858,Input_Details!$C$12,Input_Details!$C$11)","v":4.4285714285714279}]
[null,"21:45:00",{"$f":"OFFSET('Raw Data'!EJ91,Input_Details!$B$12,Input_Details!$B$11)","v":7},{"$f":"OFFSET('Raw Data'!EK91,Input_Details!$B$12,Input_Details!$B$11)","v":7},{"$f":"OFFSET('Raw Data'!EL91,Input_Details!$B$12,Input_Details!$B$11)","v":4},{"$f":"OFFSET('Raw Data'!EM91,Input_Details!$B$12,Input_Details!$B$11)","v":3},{"$f":"OFFSET('Raw Data'!EN91,Input_Details!$B$12,Input_Details!$B$11)","v":1},{"$f":"OFFSET('Raw Data'!EO91,Input_Details!$B$12,Input_Details!$B$11)","v":8},{"$f":"OFFSET('Raw Data'!EP91,Input_Details!$B$12,Input_Details!$B$11)","v":6},{"$f":"OFFSET('Raw Data'!DW763,Input_Details!$C$12,Input_Details!$C$11)","v":4.4000000000000004},{"$f":"OFFSET('Raw Data'!DW859,Input_Details!$C$12,Input_Details!$C$11)","v":5.1428571428571432}]
[null,"22:00:00",{"$f":"OFFSET('Raw Data'!EJ92,Input_Details!$B$12,Input_Details!$B$11)","v":4},{"$f":"OFFSET('Raw Data'!EK92,Input_Details!$B$12,Input_Details!$B$11)","v":1},{"$f":"OFFSET('Raw Data'!EL92,Input_Details!$B$12,Input_Details!$B$11)","v":5},{"$f":"OFFSET('Raw Data'!EM92,Input_Details!$B$12,Input_Details!$B$11)","v":0},{"$f":"OFFSET('Raw Data'!EN92,Input_Details!$B$12,Input_Details!$B$11)","v":4},{"$f":"OFFSET('Raw Data'!EO92,Input_Details!$B$12,Input_Details!$B$11)","v":13},{"$f":"OFFSET('Raw Data'!EP92,Input_Details!$B$12,Input_Details!$B$11)","v":4},{"$f":"OFFSET('Raw Data'!DW764,Input_Details!$C$12,Input_Details!$C$11)","v":2.8},{"$f":"OFFSET('Raw Data'!DW860,Input_Details!$C$12,Input_Details!$C$11)","v":4.4285714285714288}]
[null,"22:15:00",{"$f":"OFFSET('Raw Data'!EJ93,Input_Details!$B$12,Input_Details!$B$11)","v":2},{"$f":"OFFSET('Raw Data'!EK93,Input_Details!$B$12,Input_Details!$B$11)","v":6},{"$f":"OFFSET('Raw Data'!EL93,Input_Details!$B$12,Input_Details!$B$11)","v":4},{"$f":"OFFSET('Raw Data'!EM93,Input_Details!$B$12,Input_Details!$B$11)","v":3},{"$f":"OFFSET('Raw Data'!EN93,Input_Details!$B$12,Input_Details!$B$11)","v":10},{"$f":"OFFSET('Raw Data'!EO93,Input_Details!$B$12,Input_Details!$B$11)","v":2},{"$f":"OFFSET('Raw Data'!EP93,Input_Details!$B$12,Input_Details!$B$11)","v":7},{"$f":"OFFSET('Raw Data'!DW765,Input_Details!$C$12,Input_Details!$C$11)","v":5},{"$f":"OFFSET('Raw Data'!DW861,Input_Details!$C$12,Input_Details!$C$11)","v":4.8571428571428577}]
[null,"22:30:00",{"$f":"OFFSET('Raw Data'!EJ94,Input_Details!$B$12,Input_Details!$B$11)","v":4},{"$f":"OFFSET('Raw Data'!EK94,Input_Details!$B$12,Input_Details!$B$11)","v":5},{"$f":"OFFSET('Raw Data'!EL94,Input_Details!$B$12,Input_Details!$B$11)","v":8},{"$f":"OFFSET('Raw Data'!EM94,Input_Details!$B$12,Input_Details!$B$11)","v":1},{"$f":"OFFSET('Raw Data'!EN94,Input_Details!$B$12,Input_Details!$B$11)","v":12},{"$f":"OFFSET('Raw Data'!EO94,Input_Details!$B$12,Input_Details!$B$11)","v":3},{"$f":"OFFSET('Raw Data'!EP94,Input_Details!$B$12,Input_Details!$B$11)","v":7},{"$f":"OFFSET('Raw Data'!DW766,Input_Details!$C$12,Input_Details!$C$11)","v":6},{"$f":"OFFSET('Raw Data'!DW862,Input_Details!$C$12,Input_Details!$C$11)","v":5.7142857142857153}]
[null,"22:45:00",{"$f":"OFFSET('Raw Data'!EJ95,Input_Details!$B$12,Input_Details!$B$11)","v":5},{"$f":"OFFSET('Raw Data'!EK95,Input_Details!$B$12,Input_Details!$B$11)","v":2},{"$f":"OFFSET('Raw Data'!EL95,Input_Details!$B$12,Input_Details!$B$11)","v":4},{"$f":"OFFSET('Raw Data'!EM95,Input_Details!$B$12,Input_Details!$B$11)","v":1},{"$f":"OFFSET('Raw Data'!EN95,Input_Details!$B$12,Input_Details!$B$11)","v":11},{"$f":"OFFSET('Raw Data'!EO95,Input_Details!$B$12,Input_Details!$B$11)","v":7},{"$f":"OFFSET('Raw Data'!EP95,Input_Details!$B$12,Input_Details!$B$11)","v":5},{"$f":"OFFSET('Raw Data'!DW767,Input_Details!$C$12,Input_Details!$C$11)","v":4.5999999999999996},{"$f":"OFFSET('Raw Data'!DW863,Input_Details!$C$12,Input_Details!$C$11)","v":5}]
[null,"23:00:00",{"$f":"OFFSET('Raw Data'!EJ96,Input_Details!$B$12,Input_Details!$B$11)","v":5},{"$f":"OFFSET('Raw Data'!EK96,Input_Details!$B$12,Input_Details!$B$11)","v":1},{"$f":"OFFSET('Raw Data'!EL96,Input_Details!$B$12,Input_Details!$B$11)","v":3},{"$f":"OFFSET('Raw Data'!EM96,Input_Details!$B$12,Input_Details!$B$11)","v":0},{"$f":"OFFSET('Raw Data'!EN96,Input_Details!$B$12,Input_Details!$B$11)","v":9},{"$f":"OFFSET('Raw Data'!EO96,Input_Details!$B$12,Input_Details!$B$11)","v":7},{"$f":"OFFSET('Raw Data'!EP96,Input_Details!$B$12,Input_Details!$B$11)","v":14},{"$f":"OFFSET('Raw Data'!DW768,Input_Details!$C$12,Input_Details!$C$11)","v":3.6},{"$f":"OFFSET('Raw Data'!DW864,Input_Details!$C$12,Input_Details!$C$11)","v":5.5714285714285712}]
[null,"23:15:00",{"$f":"OFFSET('Raw Data'!EJ97,Input_Details!$B$12,Input_Details!$B$11)","v":1},{"$f":"OFFSET('Raw Data'!EK97,Input_Details!$B$12,Input_Details!$B$11)","v":2},{"$f":"OFFSET('Raw Data'!EL97,Input_Details!$B$12,Input_Details!$B$11)","v":5},{"$f":"OFFSET('Raw Data'!EM97,Input_Details!$B$12,Input_Details!$B$11)","v":1},{"$f":"OFFSET('Raw Data'!EN97,Input_Details!$B$12,Input_Details!$B$11)","v":5},{"$f":"OFFSET('Raw Data'!EO97,Input_Details!$B$12,Input_Details!$B$11)","v":11},{"$f":"OFFSET('Raw Data'!EP97,Input_Details!$B$12,Input_Details!$B$11)","v":10},{"$f":"OFFSET('Raw Data'!DW769,Input_Details!$C$12,Input_Details!$C$11)","v":2.8000000000000003},{"$f":"OFFSET('Raw Data'!DW865,Input_Details!$C$12,Input_Details!$C$11)","v":5.0000000000000009}]
[null,"23:30:00",{"$f":"OFFSET('Raw Data'!EJ98,Input_Details!$B$12,Input_Details!$B$11)","v":3},{"$f":"OFFSET('Raw Data'!EK98,Input_Details!$B$12,Input_Details!$B$11)","v":3},{"$f":"OFFSET('Raw Data'!EL98,Input_Details!$B$12,Input_Details!$B$11)","v":2},{"$f":"OFFSET('Raw Data'!EM98,Input_Details!$B$12,Input_Details!$B$11)","v":1},{"$f":"OFFSET('Raw Data'!EN98,Input_Details!$B$12,Input_Details!$B$11)","v":8},{"$f":"OFFSET('Raw Data'!EO98,Input_Details!$B$12,Input_Details!$B$11)","v":6},{"$f":"OFFSET('Raw Data'!EP98,Input_Details!$B$12,Input_Details!$B$11)","v":3},{"$f":"OFFSET('Raw Data'!DW770,Input_Details!$C$12,Input_Details!$C$11)","v":3.4000000000000004},{"$f":"OFFSET('Raw Data'!DW866,Input_Details!$C$12,Input_Details!$C$11)","v":3.714285714285714}]
[null,"23:45:00",{"$f":"OFFSET('Raw Data'!EJ99,Input_Details!$B$12,Input_Details!$B$11)","v":5},{"$f":"OFFSET('Raw Data'!EK99,Input_Details!$B$12,Input_Details!$B$11)","v":1},{"$f":"OFFSET('Raw Data'!EL99,Input_Details!$B$12,Input_Details!$B$11)","v":4},{"$f":"OFFSET('Raw Data'!EM99,Input_Details!$B$12,Input_Details!$B$11)","v":1},{"$f":"OFFSET('Raw Data'!EN99,Input_Details!$B$12,Input_Details!$B$11)","v":7},{"$f":"OFFSET('Raw Data'!EO99,Input_Details!$B$12,Input_Details!$B$11)","v":5},{"$f":"OFFSET('Raw Data'!EP99,Input_Details!$B$12,Input_Details!$B$11)","v":3},{"$f":"OFFSET('Raw Data'!DW771,Input_Details!$C$12,Input_Details!$C$11)","v":3.6},{"$f":"OFFSET('Raw Data'!DW867,Input_Details!$C$12,Input_Details!$C$11)","v":3.7142857142857144}]
[null,"Total",{"$f":"SUM(C17:C112)","v":744},{"$f":"SUM(D17:D112)","v":734},762,627,739,618,580,{"$f":"SUM(J17:J112)","v":722.3},687.21428571428567]
[]
[null,"07:00-19:00",{"$f":"SUM(C45:C92)","v":578},{"$f":"SUM(D45:D92)","v":608},591,536,536,358,328,570.9,505.9285714285715]
[null,"06:00-22:00",{"$f":"SUM(C41:C104)","v":679},{"$f":"SUM(D41:D104)","v":696},681,585,629,483,434,655.10000000000014,599.07142857142844]
[null,"06:00-24:00",{"$f":"SUM(C41:C112)","v":708},{"$f":"SUM(D41:D112)","v":717},716,593,695,537,487,686.90000000000009,637.07142857142833]
[null,"00:00-24:00",{"$f":"SUM(C17:C112)","v":744},{"$f":"SUM(D17:D112)","v":734},762,627,739,618,580,722.3,687.21428571428567]

{"sheet":"Volume Summary-30min","index":5,"n_rows":70,"n_cols":22,"rows_kept":70,"cut":false,"hidden":false,"merged":[[5,8,5,9],[11,2,11,8],[0,8,0,9],[1,8,1,10],[2,8,2,10],[3,8,3,10],[6,8,6,9],[6,10,6,11],[11,9,13,9],[11,10,13,10],[7,1,9,6]]}
[]
[]
[]
[null,null,null,null,null,null,null,null,null,null,null,null,null,null,null,null,null,null,null,null,null,{"$f":"Input_Details!$I$1&\" - \"&Input_Details!$H$1","v":"3854-LON - Swan Street"}]
[null,null,null,null,null,null,null,null,null,null,null,null,null,null,null,null,null,null,null,null,null,{"$f":"\"prepared for \"&Input_Details!$J$1","v":"prepared for LB of Southwark"}]
[null,null,null,null,null,null,null,null,null,null,null,null,null,null,null,null,null,null,null,null,null,{"$f":"TEXT(MIN(C14:I14), \"dd mmm yyyy\")&\" - \"&TEXT(MAX(C14:I14), \"dd mmm yyyy\")","v":"17 Nov 2017 - 23 Nov 2017"}]
[]
[null,"30-min Volume Summary"]
[null,null,null,null,null,null,null,null,"Avg W'kday Total",null,{"$f":"+J65","v":722.29999999999984}]
[null,null,null,null,null,null,null,null,"7 Day Avg Total",null,{"$f":"+K65","v":687.21428571428567}]
[]
[null,null,"Day of Week",null,null,null,null,null,null,"W'kday Avg","7 Day Avg"]
[null,null,"Mon","Tue","Wed","Thu","Fri","Sat","Sun"]
[null,"Time",{"$f":"+Input_Details!Q3","v":"2017-11-20"},{"$f":"+Input_Details!R3","v":"2017-11-21"},{"$f":"+Input_Details!S3","v":"2017-11-22"},{"$f":"+Input_Details!T3","v":"2017-11-23"},{"$f":"+Input_Details!U3","v":"2017-11-17"},{"$f":"+Input_Details!V3","v":"2017-11-18"},{"$f":"+Input_Details!W3","v":"2017-11-19"}]
[null,"AM Peak",{"$f":"MAX(C31:C36)","v":91},{"$f":"MAX(D31:D36)","v":95},101,82,66,21,13,87,64.571428571428555]
[null,"PM Peak",{"$f":"MAX(C49:C54)","v":16},{"$f":"MAX(D49:D54)","v":21},18,20,23,26,24,15.400000000000002,18.142857142857142]
[null,"00:00:00",{"$f":"IF(COUNTIF('Volume Summary-15min'!C17:C18,\"-\")=2, \"-\", SUM('Volume Summary-15min'!C17:C18))","v":9},{"$f":"IF(COUNTIF('Volume Summary-15min'!D17:D18,\"-\")=2, \"-\", SUM('Volume Summary-15min'!D17:D18))","v":6},{"$f":"IF(COUNTIF('Volume Summary-15min'!E17:E18,\"-\")=2, \"-\", SUM('Volume Summary-15min'!E17:E18))","v":7},{"$f":"IF(COUNTIF('Volume Summary-15min'!F17:F18,\"-\")=2, \"-\", SUM('Volume Summary-15min'!F17:F18))","v":8},{"$f":"IF(COUNTIF('Volume Summary-15min'!G17:G18,\"-\")=2, \"-\", SUM('Volume Summary-15min'!G17:G18))","v":7},{"$f":"IF(COUNTIF('Volume Summary-15min'!H17:H18,\"-\")=2, \"-\", SUM('Volume Summary-15min'!H17:H18))","v":12},{"$f":"IF(COUNTIF('Volume Summary-15min'!I17:I18,\"-\")=2, \"-\", SUM('Volume Summary-15min'!I17:I18))","v":10},{"$f":"IF(COUNTIF('Volume Summary-15min'!J17:J18,\"-\")=2, \"-\", SUM('Volume Summary-15min'!J17:J18))","v":7.4},{"$f":"IF(COUNTIF('Volume Summary-15min'!K17:K18,\"-\")=2, \"-\", SUM('Volume Summary-15min'!K17:K18))","v":8.4285714285714288}]
[null,"00:30:00",{"$f":"IF(COUNTIF('Volume Summary-15min'!C19:C20,\"-\")=2,\"-\",SUM('Volume Summary-15min'!C19:C20))","v":4},{"$f":"IF(COUNTIF('Volume Summary-15min'!D19:D20,\"-\")=2,\"-\",SUM('Volume Summary-15min'!D19:D20))","v":0},{"$f":"IF(COUNTIF('Volume Summary-15min'!E19:E20,\"-\")=2,\"-\",SUM('Volume Summary-15min'!E19:E20))","v":7},{"$f":"IF(COUNTIF('Volume Summary-15min'!F19:F20,\"-\")=2,\"-\",SUM('Volume Summary-15min'!F19:F20))","v":2},{"$f":"IF(COUNTIF('Volume Summary-15min'!G19:G20,\"-\")=2,\"-\",SUM('Volume Summary-15min'!G19:G20))","v":9},{"$f":"IF(COUNTIF('Volume Summary-15min'!H19:H20,\"-\")=2,\"-\",SUM('Volume Summary-15min'!H19:H20))","v":10},{"$f":"IF(COUNTIF('Volume Summary-15min'!I19:I20,\"-\")=2,\"-\",SUM('Volume Summary-15min'!I19:I20))","v":17},{"$f":"IF(COUNTIF('Volume Summary-15min'!J19:J20,\"-\")=2,\"-\",SUM('Volume Summary-15min'!J19:J20))","v":4.4000000000000004},{"$f":"IF(COUNTIF('Volume Summary-15min'!K19:K20,\"-\")=2,\"-\",SUM('Volume Summary-15min'!K19:K20))","v":7}]
[null,"01:00:00",{"$f":"IF(COUNTIF('Volume Summary-15min'!C21:C22,\"-\")=2,\"-\",SUM('Volume Summary-15min'!C21:C22))","v":4},{"$f":"IF(COUNTIF('Volume Summary-15min'!D21:D22,\"-\")=2,\"-\",SUM('Volume Summary-15min'!D21:D22))","v":1},{"$f":"IF(COUNTIF('Volume Summary-15min'!E21:E22,\"-\")=2,\"-\",SUM('Volume Summary-15min'!E21:E22))","v":4},{"$f":"IF(COUNTIF('Volume Summary-15min'!F21:F22,\"-\")=2,\"-\",SUM('Volume Summary-15min'!F21:F22))","v":2},{"$f":"IF(COUNTIF('Volume Summary-15min'!G21:G22,\"-\")=2,\"-\",SUM('Volume Summary-15min'!G21:G22))","v":2},{"$f":"IF(COUNTIF('Volume Summary-15min'!H21:H22,\"-\")=2,\"-\",SUM('Volume Summary-15min'!H21:H22))","v":9},{"$f":"IF(COUNTIF('Volume Summary-15min'!I21:I22,\"-\")=2,\"-\",SUM('Volume Summary-15min'!I21:I22))","v":9},{"$f":"IF(COUNTIF('Volume Summary-15min'!J21:J22,\"-\")=2,\"-\",SUM('Volume Summary-15min'!J21:J22))","v":2.5999999999999996},{"$f":"IF(COUNTIF('Volume Summary-15min'!K21:K22,\"-\")=2,\"-\",SUM('Volume Summary-15min'!K21:K22))","v":4.4285714285714288}]
[null,"01:30:00",{"$f":"IF(COUNTIF('Volume Summary-15min'!C23:C24,\"-\")=2,\"-\",SUM('Volume Summary-15min'!C23:C24))","v":2},{"$f":"IF(COUNTIF('Volume Summary-15min'!D23:D24,\"-\")=2,\"-\",SUM('Volume Summary-15min'!D23:D24))","v":0},{"$f":"IF(COUNTIF('Volume Summary-15min'!E23:E24,\"-\")=2,\"-\",SUM('Volume Summary-15min'!E23:E24))","v":1},{"$f":"IF(COUNTIF('Volume Summary-15min'!F23:F24,\"-\")=2,\"-\",SUM('Volume Summary-15min'!F23:F24))","v":2},{"$f":"IF(COUNTIF('Volume Summary-15min'!G23:G24,\"-\")=2,\"-\",SUM('Volume Summary-15min'!G23:G24))","v":7},{"$f":"IF(COUNTIF('Volume Summary-15min'!H23:H24,\"-\")=2,\"-\",SUM('Volume Summary-15min'!H23:H24))","v":9},{"$f":"IF(COUNTIF('Volume Summary-15min'!I23:I24,\"-\")=2,\"-\",SUM('Volume Summary-15min'!I23:I24))","v":5},{"$f":"IF(COUNTIF('Volume Summary-15min'!J23:J24,\"-\")=2,\"-\",SUM('Volume Summary-15min'!J23:J24))","v":2.4},{"$f":"IF(COUNTIF('Volume Summary-15min'!K23:K24,\"-\")=2,\"-\",SUM('Volume Summary-15min'!K23:K24))","v":3.714285714285714}]
[null,"02:00:00",{"$f":"IF(COUNTIF('Volume Summary-15min'!C25:C26,\"-\")=2,\"-\",SUM('Volume Summary-15min'!C25:C26))","v":0},{"$f":"IF(COUNTIF('Volume Summary-15min'!D25:D26,\"-\")=2,\"-\",SUM('Volume Summary-15min'!D25:D26))","v":0},{"$f":"IF(COUNTIF('Volume Summary-15min'!E25:E26,\"-\")=2,\"-\",SUM('Volume Summary-15min'!E25:E26))","v":6},{"$f":"IF(COUNTIF('Volume Summary-15min'!F25:F26,\"-\")=2,\"-\",SUM('Volume Summary-15min'!F25:F26))","v":3},{"$f":"IF(COUNTIF('Volume Summary-15min'!G25:G26,\"-\")=2,\"-\",SUM('Volume Summary-15min'!G25:G26))","v":4},{"$f":"IF(COUNTIF('Volume Summary-15min'!H25:H26,\"-\")=2,\"-\",SUM('Volume Summary-15min'!H25:H26))","v":14},{"$f":"IF(COUNTIF('Volume Summary-15min'!I25:I26,\"-\")=2,\"-\",SUM('Volume Summary-15min'!I25:I26))","v":10},{"$f":"IF(COUNTIF('Volume Summary-15min'!J25:J26,\"-\")=2,\"-\",SUM('Volume Summary-15min'!J25:J26))","v":2.5999999999999996},{"$f":"IF(COUNTIF('Volume Summary-15min'!K25:K26,\"-\")=2,\"-\",SUM('Volume Summary-15min'!K25:K26))","v":5.2857142857142856}]
[null,"02:30:00",{"$f":"IF(COUNTIF('Volume Summary-15min'!C27:C28,\"-\")=2,\"-\",SUM('Volume Summary-15min'!C27:C28))","v":2},{"$f":"IF(COUNTIF('Volume Summary-15min'!D27:D28,\"-\")=2,\"-\",SUM('Volume Summary-15min'!D27:D28))","v":0},{"$f":"IF(COUNTIF('Volume Summary-15min'!E27:E28,\"-\")=2,\"-\",SUM('Volume Summary-15min'!E27:E28))","v":4},{"$f":"IF(COUNTIF('Volume Summary-15min'!F27:F28,\"-\")=2,\"-\",SUM('Volume Summary-15min'!F27:F28))","v":2},{"$f":"IF(COUNTIF('Volume Summary-15min'!G27:G28,\"-\")=2,\"-\",SUM('Volume Summary-15min'!G27:G28))","v":0},{"$f":"IF(COUNTIF('Volume Summary-15min'!H27:H28,\"-\")=2,\"-\",SUM('Volume Summary-15min'!H27:H28))","v":8},{"$f":"IF(COUNTIF('Volume Summary-15min'!I27:I28,\"-\")=2,\"-\",SUM('Volume Summary-15min'!I27:I28))","v":5},{"$f":"IF(COUNTIF('Volume Summary-15min'!J27:J28,\"-\")=2,\"-\",SUM('Volume Summary-15min'!J27:J28))","v":1.6},{"$f":"IF(COUNTIF('Volume Summary-15min'!K27:K28,\"-\")=2,\"-\",SUM('Volume Summary-15min'!K27:K28))","v":3}]
[null,"03:00:00",{"$f":"IF(COUNTIF('Volume Summary-15min'!C29:C30,\"-\")=2,\"-\",SUM('Volume Summary-15min'!C29:C30))","v":1},{"$f":"IF(COUNTIF('Volume Summary-15min'!D29:D30,\"-\")=2,\"-\",SUM('Volume Summary-15min'!D29:D30))","v":0},{"$f":"IF(COUNTIF('Volume Summary-15min'!E29:E30,\"-\")=2,\"-\",SUM('Volume Summary-15min'!E29:E30))","v":4},{"$f":"IF(COUNTIF('Volume Summary-15min'!F29:F30,\"-\")=2,\"-\",SUM('Volume Summary-15min'!F29:F30))","v":3},{"$f":"IF(COUNTIF('Volume Summary-15min'!G29:G30,\"-\")=2,\"-\",SUM('Volume Summary-15min'!G29:G30))","v":2},{"$f":"IF(COUNTIF('Volume Summary-15min'!H29:H30,\"-\")=2,\"-\",SUM('Volume Summary-15min'!H29:H30))","v":3},{"$f":"IF(COUNTIF('Volume Summary-15min'!I29:I30,\"-\")=2,\"-\",SUM('Volume Summary-15min'!I29:I30))","v":8},{"$f":"IF(COUNTIF('Volume Summary-15min'!J29:J30,\"-\")=2,\"-\",SUM('Volume Summary-15min'!J29:J30))","v":2},{"$f":"IF(COUNTIF('Volume Summary-15min'!K29:K30,\"-\")=2,\"-\",SUM('Volume Summary-15min'!K29:K30))","v":3}]
[null,"03:30:00",{"$f":"IF(COUNTIF('Volume Summary-15min'!C31:C32,\"-\")=2,\"-\",SUM('Volume Summary-15min'!C31:C32))","v":2},{"$f":"IF(COUNTIF('Volume Summary-15min'!D31:D32,\"-\")=2,\"-\",SUM('Volume Summary-15min'!D31:D32))","v":1},{"$f":"IF(COUNTIF('Volume Summary-15min'!E31:E32,\"-\")=2,\"-\",SUM('Volume Summary-15min'!E31:E32))","v":0},{"$f":"IF(COUNTIF('Volume Summary-15min'!F31:F32,\"-\")=2,\"-\",SUM('Volume Summary-15min'!F31:F32))","v":0},{"$f":"IF(COUNTIF('Volume Summary-15min'!G31:G32,\"-\")=2,\"-\",SUM('Volume Summary-15min'!G31:G32))","v":1},{"$f":"IF(COUNTIF('Volume Summary-15min'!H31:H32,\"-\")=2,\"-\",SUM('Volume Summary-15min'!H31:H32))","v":2},{"$f":"IF(COUNTIF('Volume Summary-15min'!I31:I32,\"-\")=2,\"-\",SUM('Volume Summary-15min'!I31:I32))","v":10},{"$f":"IF(COUNTIF('Volume Summary-15min'!J31:J32,\"-\")=2,\"-\",SUM('Volume Summary-15min'!J31:J32))","v":0.8},{"$f":"IF(COUNTIF('Volume Summary-15min'!K31:K32,\"-\")=2,\"-\",SUM('Volume Summary-15min'!K31:K32))","v":2.2857142857142856}]
[null,"04:00:00",{"$f":"IF(COUNTIF('Volume Summary-15min'!C33:C34,\"-\")=2,\"-\",SUM('Volume Summary-15min'!C33:C34))","v":0},{"$f":"IF(COUNTIF('Volume Summary-15min'!D33:D34,\"-\")=2,\"-\",SUM('Volume Summary-15min'!D33:D34))","v":0},{"$f":"IF(COUNTIF('Volume Summary-15min'!E33:E34,\"-\")=2,\"-\",SUM('Volume Summary-15min'!E33:E34))","v":1},{"$f":"IF(COUNTIF('Volume Summary-15min'!F33:F34,\"-\")=2,\"-\",SUM('Volume Summary-15min'!F33:F34))","v":3},{"$f":"IF(COUNTIF('Volume Summary-15min'!G33:G34,\"-\")=2,\"-\",SUM('Volume Summary-15min'!G33:G34))","v":2},{"$f":"IF(COUNTIF('Volume Summary-15min'!H33:H34,\"-\")=2,\"-\",SUM('Volume Summary-15min'!H33:H34))","v":4},{"$f":"IF(COUNTIF('Volume Summary-15min'!I33:I34,\"-\")=2,\"-\",SUM('Volume Summary-15min'!I33:I34))","v":4},{"$f":"IF(COUNTIF('Volume Summary-15min'!J33:J34,\"-\")=2,\"-\",SUM('Volume Summary-15min'!J33:J34))","v":1.2000000000000002},{"$f":"IF(COUNTIF('Volume Summary-15min'!K33:K34,\"-\")=2,\"-\",SUM('Volume Summary-15min'!K33:K34))","v":2}]
[null,"04:30:00",{"$f":"IF(COUNTIF('Volume Summary-15min'!C35:C36,\"-\")=2,\"-\",SUM('Volume Summary-15min'!C35:C36))","v":0},{"$f":"IF(COUNTIF('Volume Summary-15min'!D35:D36,\"-\")=2,\"-\",SUM('Volume Summary-15min'!D35:D36))","v":0},{"$f":"IF(COUNTIF('Volume Summary-15min'!E35:E36,\"-\")=2,\"-\",SUM('Volume Summary-15min'!E35:E36))","v":5},{"$f":"IF(COUNTIF('Volume Summary-15min'!F35:F36,\"-\")=2,\"-\",SUM('Volume Summary-15min'!F35:F36))","v":0},{"$f":"IF(COUNTIF('Volume Summary-15min'!G35:G36,\"-\")=2,\"-\",SUM('Volume Summary-15min'!G35:G36))","v":0},{"$f":"IF(COUNTIF('Volume Summary-15min'!H35:H36,\"-\")=2,\"-\",SUM('Volume Summary-15min'!H35:H36))","v":1},{"$f":"IF(COUNTIF('Volume Summary-15min'!I35:I36,\"-\")=2,\"-\",SUM('Volume Summary-15min'!I35:I36))","v":7},{"$f":"IF(COUNTIF('Volume Summary-15min'!J35:J36,\"-\")=2,\"-\",SUM('Volume Summary-15min'!J35:J36))","v":1},{"$f":"IF(COUNTIF('Volume Summary-15min'!K35:K36,\"-\")=2,\"-\",SUM('Volume Summary-15min'!K35:K36))","v":1.8571428571428572}]
[null,"05:00:00",{"$f":"IF(COUNTIF('Volume Summary-15min'!C37:C38,\"-\")=2,\"-\",SUM('Volume Summary-15min'!C37:C38))","v":3},{"$f":"IF(COUNTIF('Volume Summary-15min'!D37:D38,\"-\")=2,\"-\",SUM('Volume Summary-15min'!D37:D38))","v":5},{"$f":"IF(COUNTIF('Volume Summary-15min'!E37:E38,\"-\")=2,\"-\",SUM('Volume Summary-15min'!E37:E38))","v":3},{"$f":"IF(COUNTIF('Volume Summary-15min'!F37:F38,\"-\")=2,\"-\",SUM('Volume Summary-15min'!F37:F38))","v":2},{"$f":"IF(COUNTIF('Volume Summary-15min'!G37:G38,\"-\")=2,\"-\",SUM('Volume Summary-15min'!G37:G38))","v":7},{"$f":"IF(COUNTIF('Volume Summary-15min'!H37:H38,\"-\")=2,\"-\",SUM('Volume Summary-15min'!H37:H38))","v":5},{"$f":"IF(COUNTIF('Volume Summary-15min'!I37:I38,\"-\")=2,\"-\",SUM('Volume Summary-15min'!I37:I38))","v":4},{"$f":"IF(COUNTIF('Volume Summary-15min'!J37:J38,\"-\")=2,\"-\",SUM('Volume Summary-15min'!J37:J38))","v":4},{"$f":"IF(COUNTIF('Volume Summary-15min'!K37:K38,\"-\")=2,\"-\",SUM('Volume Summary-15min'!K37:K38))","v":4.1428571428571423}]
[null,"05:30:00",{"$f":"IF(COUNTIF('Volume Summary-15min'!C39:C40,\"-\")=2,\"-\",SUM('Volume Summary-15min'!C39:C40))","v":9},{"$f":"IF(COUNTIF('Volume Summary-15min'!D39:D40,\"-\")=2,\"-\",SUM('Volume Summary-15min'!D39:D40))","v":4},{"$f":"IF(COUNTIF('Volume Summary-15min'!E39:E40,\"-\")=2,\"-\",SUM('Volume Summary-15min'!E39:E40))","v":4},{"$f":"IF(COUNTIF('Volume Summary-15min'!F39:F40,\"-\")=2,\"-\",SUM('Volume Summary-15min'!F39:F40))","v":7},{"$f":"IF(COUNTIF('Volume Summary-15min'!G39:G40,\"-\")=2,\"-\",SUM('Volume Summary-15min'!G39:G40))","v":3},{"$f":"IF(COUNTIF('Volume Summary-15min'!H39:H40,\"-\")=2,\"-\",SUM('Volume Summary-15min'!H39:H40))","v":4},{"$f":"IF(COUNTIF('Volume Summary-15min'!I39:I40,\"-\")=2,\"-\",SUM('Volume Summary-15min'!I39:I40))","v":4},{"$f":"IF(COUNTIF('Volume Summary-15min'!J39:J40,\"-\")=2,\"-\",SUM('Volume Summary-15min'!J39:J40))","v":5.4},{"$f":"IF(COUNTIF('Volume Summary-15min'!K39:K40,\"-\")=2,\"-\",SUM('Volume Summary-15min'!K39:K40))","v":5}]
[null,"06:00:00",{"$f":"IF(COUNTIF('Volume Summary-15min'!C41:C42,\"-\")=2,\"-\",SUM('Volume Summary-15min'!C41:C42))","v":9},{"$f":"IF(COUNTIF('Volume Summary-15min'!D41:D42,\"-\")=2,\"-\",SUM('Volume Summary-15min'!D41:D42))","v":4},{"$f":"IF(COUNTIF('Volume Summary-15min'!E41:E42,\"-\")=2,\"-\",SUM('Volume Summary-15min'!E41:E42))","v":7},{"$f":"IF(COUNTIF('Volume Summary-15min'!F41:F42,\"-\")=2,\"-\",SUM('Volume Summary-15min'!F41:F42))","v":3},{"$f":"IF(COUNTIF('Volume Summary-15min'!G41:G42,\"-\")=2,\"-\",SUM('Volume Summary-15min'!G41:G42))","v":5},{"$f":"IF(COUNTIF('Volume Summary-15min'!H41:H42,\"-\")=2,\"-\",SUM('Volume Summary-15min'!H41:H42))","v":7},{"$f":"IF(COUNTIF('Volume Summary-15min'!I41:I42,\"-\")=2,\"-\",SUM('Volume Summary-15min'!I41:I42))","v":3},{"$f":"IF(COUNTIF('Volume Summary-15min'!J41:J42,\"-\")=2,\"-\",SUM('Volume Summary-15min'!J41:J42))","v":5.6},{"$f":"IF(COUNTIF('Volume Summary-15min'!K41:K42,\"-\")=2,\"-\",SUM('Volume Summary-15min'!K41:K42))","v":5.4285714285714288}]
[null,"06:30:00",{"$f":"IF(COUNTIF('Volume Summary-15min'!C43:C44,\"-\")=2,\"-\",SUM('Volume Summary-15min'!C43:C44))","v":12},{"$f":"IF(COUNTIF('Volume Summary-15min'!D43:D44,\"-\")=2,\"-\",SUM('Volume Summary-15min'!D43:D44))","v":14},{"$f":"IF(COUNTIF('Volume Summary-15min'!E43:E44,\"-\")=2,\"-\",SUM('Volume Summary-15min'!E43:E44))","v":19},{"$f":"IF(COUNTIF('Volume Summary-15min'!F43:F44,\"-\")=2,\"-\",SUM('Volume Summary-15min'!F43:F44))","v":15},{"$f":"IF(COUNTIF('Volume Summary-15min'!G43:G44,\"-\")=2,\"-\",SUM('Volume Summary-15min'!G43:G44))","v":7},{"$f":"IF(COUNTIF('Volume Summary-15min'!H43:H44,\"-\")=2,\"-\",SUM('Volume Summary-15min'!H43:H44))","v":9},{"$f":"IF(COUNTIF('Volume Summary-15min'!I43:I44,\"-\")=2,\"-\",SUM('Volume Summary-15min'!I43:I44))","v":3},{"$f":"IF(COUNTIF('Volume Summary-15min'!J43:J44,\"-\")=2,\"-\",SUM('Volume Summary-15min'!J43:J44))","v":13.4},{"$f":"IF(COUNTIF('Volume Summary-15min'!K43:K44,\"-\")=2,\"-\",SUM('Volume Summary-15min'!K43:K44))","v":11.285714285714285}]
[null,"07:00:00",{"$f":"IF(COUNTIF('Volume Summary-15min'!C45:C46,\"-\")=2,\"-\",SUM('Volume Summary-15min'!C45:C46))","v":18},{"$f":"IF(COUNTIF('Volume Summary-15min'!D45:D46,\"-\")=2,\"-\",SUM('Volume Summary-15min'!D45:D46))","v":20},{"$f":"IF(COUNTIF('Volume Summary-15min'!E45:E46,\"-\")=2,\"-\",SUM('Volume Summary-15min'!E45:E46))","v":27},{"$f":"IF(COUNTIF('Volume Summary-15min'!F45:F46,\"-\")=2,\"-\",SUM('Volume Summary-15min'!F45:F46))","v":26},{"$f":"IF(COUNTIF('Volume Summary-15min'!G45:G46,\"-\")=2,\"-\",SUM('Volume Summary-15min'!G45:G46))","v":14},{"$f":"IF(COUNTIF('Volume Summary-15min'!H45:H46,\"-\")=2,\"-\",SUM('Volume Summary-15min'!H45:H46))","v":4},{"$f":"IF(COUNTIF('Volume Summary-15min'!I45:I46,\"-\")=2,\"-\",SUM('Volume Summary-15min'!I45:I46))","v":3},{"$f":"IF(COUNTIF('Volume Summary-15min'!J45:J46,\"-\")=2,\"-\",SUM('Volume Summary-15min'!J45:J46))","v":20.999999999999996},{"$f":"IF(COUNTIF('Volume Summary-15min'!K45:K46,\"-\")=2,\"-\",SUM('Volume Summary-15min'!K45:K46))","v":16}]
[null,"07:30:00",{"$f":"IF(COUNTIF('Volume Summary-15min'!C47:C48,\"-\")=2,\"-\",SUM('Volume Summary-15min'!C47:C48))","v":41},{"$f":"IF(COUNTIF('Volume Summary-15min'!D47:D48,\"-\")=2,\"-\",SUM('Volume Summary-15min'!D47:D48))","v":53},{"$f":"IF(COUNTIF('Volume Summary-15min'!E47:E48,\"-\")=2,\"-\",SUM('Volume Summary-15min'!E47:E48))","v":51},{"$f":"IF(COUNTIF('Volume Summary-15min'!F47:F48,\"-\")=2,\"-\",SUM('Volume Summary-15min'!F47:F48))","v":42},{"$f":"IF(COUNTIF('Volume Summary-15min'!G47:G48,\"-\")=2,\"-\",SUM('Volume Summary-15min'!G47:G48))","v":44},{"$f":"IF(COUNTIF('Volume Summary-15min'!H47:H48,\"-\")=2,\"-\",SUM('Volume Summary-15min'!H47:H48))","v":9},{"$f":"IF(COUNTIF('Volume Summary-15min'!I47:I48,\"-\")=2,\"-\",SUM('Volume Summary-15min'!I47:I48))","v":4},{"$f":"IF(COUNTIF('Volume Summary-15min'!J47:J48,\"-\")=2,\"-\",SUM('Volume Summary-15min'!J47:J48))","v":46.199999999999996},{"$f":"IF(COUNTIF('Volume Summary-15min'!K47:K48,\"-\")=2,\"-\",SUM('Volume Summary-15min'!K47:K48))","v":34.857142857142854}]
[null,"08:00:00",{"$f":"IF(COUNTIF('Volume Summary-15min'!C49:C50,\"-\")=2,\"-\",SUM('Volume Summary-15min'!C49:C50))","v":78},{"$f":"IF(COUNTIF('Volume Summary-15min'!D49:D50,\"-\")=2,\"-\",SUM('Volume Summary-15min'!D49:D50))","v":90},{"$f":"IF(COUNTIF('Volume Summary-15min'!E49:E50,\"-\")=2,\"-\",SUM('Volume Summary-15min'!E49:E50))","v":66},{"$f":"IF(COUNTIF('Volume Summary-15min'!F49:F50,\"-\")=2,\"-\",SUM('Volume Summary-15min'!F49:F50))","v":65},{"$f":"IF(COUNTIF('Volume Summary-15min'!G49:G50,\"-\")=2,\"-\",SUM('Volume Summary-15min'!G49:G50))","v":57},{"$f":"IF(COUNTIF('Volume Summary-15min'!H49:H50,\"-\")=2,\"-\",SUM('Volume Summary-15min'!H49:H50))","v":6},{"$f":"IF(COUNTIF('Volume Summary-15min'!I49:I50,\"-\")=2,\"-\",SUM('Volume Summary-15min'!I49:I50))","v":5},{"$f":"IF(COUNTIF('Volume Summary-15min'!J49:J50,\"-\")=2,\"-\",SUM('Volume Summary-15min'!J49:J50))","v":71.2},{"$f":"IF(COUNTIF('Volume Summary-15min'!K49:K50,\"-\")=2,\"-\",SUM('Volume Summary-15min'!K49:K50))","v":52.428571428571431}]
[null,"08:30:00",{"$f":"IF(COUNTIF('Volume Summary-15min'!C51:C52,\"-\")=2,\"-\",SUM('Volume Summary-15min'!C51:C52))","v":91},{"$f":"IF(COUNTIF('Volume Summary-15min'!D51:D52,\"-\")=2,\"-\",SUM('Volume Summary-15min'!D51:D52))","v":95},{"$f":"IF(COUNTIF('Volume Summary-15min'!E51:E52,\"-\")=2,\"-\",SUM('Volume Summary-15min'!E51:E52))","v":101},{"$f":"IF(COUNTIF('Volume Summary-15min'!F51:F52,\"-\")=2,\"-\",SUM('Volume Summary-15min'!F51:F52))","v":82},{"$f":"IF(COUNTIF('Volume Summary-15min'!G51:G52,\"-\")=2,\"-\",SUM('Volume Summary-15min'!G51:G52))","v":66},{"$f":"IF(COUNTIF('Volume Summary-15min'!H51:H52,\"-\")=2,\"-\",SUM('Volume Summary-15min'!H51:H52))","v":6},{"$f":"IF(COUNTIF('Volume Summary-15min'!I51:I52,\"-\")=2,\"-\",SUM('Volume Summary-15min'!I51:I52))","v":11},{"$f":"IF(COUNTIF('Volume Summary-15min'!J51:J52,\"-\")=2,\"-\",SUM('Volume Summary-15min'!J51:J52))","v":87},{"$f":"IF(COUNTIF('Volume Summary-15min'!K51:K52,\"-\")=2,\"-\",SUM('Volume Summary-15min'!K51:K52))","v":64.571428571428555}]
[null,"09:00:00",{"$f":"IF(COUNTIF('Volume Summary-15min'!C53:C54,\"-\")=2,\"-\",SUM('Volume Summary-15min'!C53:C54))","v":59},{"$f":"IF(COUNTIF('Volume Summary-15min'!D53:D54,\"-\")=2,\"-\",SUM('Volume Summary-15min'!D53:D54))","v":72},{"$f":"IF(COUNTIF('Volume Summary-15min'!E53:E54,\"-\")=2,\"-\",SUM('Volume Summary-15min'!E53:E54))","v":75},{"$f":"IF(COUNTIF('Volume Summary-15min'!F53:F54,\"-\")=2,\"-\",SUM('Volume Summary-15min'!F53:F54))","v":60},{"$f":"IF(COUNTIF('Volume Summary-15min'!G53:G54,\"-\")=2,\"-\",SUM('Volume Summary-15min'!G53:G54))","v":53},{"$f":"IF(COUNTIF('Volume Summary-15min'!H53:H54,\"-\")=2,\"-\",SUM('Volume Summary-15min'!H53:H54))","v":13},{"$f":"IF(COUNTIF('Volume Summary-15min'!I53:I54,\"-\")=2,\"-\",SUM('Volume Summary-15min'!I53:I54))","v":8},{"$f":"IF(COUNTIF('Volume Summary-15min'!J53:J54,\"-\")=2,\"-\",SUM('Volume Summary-15min'!J53:J54))","v":63.8},{"$f":"IF(COUNTIF('Volume Summary-15min'!K53:K54,\"-\")=2,\"-\",SUM('Volume Summary-15min'!K53:K54))","v":48.571428571428569}]
[null,"09:30:00",{"$f":"IF(COUNTIF('Volume Summary-15min'!C55:C56,\"-\")=2,\"-\",SUM('Volume Summary-15min'!C55:C56))","v":40},{"$f":"IF(COUNTIF('Volume Summary-15min'!D55:D56,\"-\")=2,\"-\",SUM('Volume Summary-15min'!D55:D56))","v":42},{"$f":"IF(COUNTIF('Volume Summary-15min'!E55:E56,\"-\")=2,\"-\",SUM('Volume Summary-15min'!E55:E56))","v":46},{"$f":"IF(COUNTIF('Volume Summary-15min'!F55:F56,\"-\")=2,\"-\",SUM('Volume Summary-15min'!F55:F56))","v":40},{"$f":"IF(COUNTIF('Volume Summary-15min'!G55:G56,\"-\")=2,\"-\",SUM('Volume Summary-15min'!G55:G56))","v":43},{"$f":"IF(COUNTIF('Volume Summary-15min'!H55:H56,\"-\")=2,\"-\",SUM('Volume Summary-15min'!H55:H56))","v":21},{"$f":"IF(COUNTIF('Volume Summary-15min'!I55:I56,\"-\")=2,\"-\",SUM('Volume Summary-15min'!I55:I56))","v":13},{"$f":"IF(COUNTIF('Volume Summary-15min'!J55:J56,\"-\")=2,\"-\",SUM('Volume Summary-15min'!J55:J56))","v":42.199999999999996},{"$f":"IF(COUNTIF('Volume Summary-15min'!K55:K56,\"-\")=2,\"-\",SUM('Volume Summary-15min'!K55:K56))","v":35}]
[null,"10:00:00",{"$f":"IF(COUNTIF('Volume Summary-15min'!C57:C58,\"-\")=2,\"-\",SUM('Volume Summary-15min'!C57:C58))","v":21},{"$f":"IF(COUNTIF('Volume Summary-15min'!D57:D58,\"-\")=2,\"-\",SUM('Volume Summary-15min'!D57:D58))","v":27},{"$f":"IF(COUNTIF('Volume Summary-15min'!E57:E58,\"-\")=2,\"-\",SUM('Volume Summary-15min'!E57:E58))","v":14},{"$f":"IF(COUNTIF('Volume Summary-15min'!F57:F58,\"-\")=2,\"-\",SUM('Volume Summary-15min'!F57:F58))","v":20},{"$f":"IF(COUNTIF('Volume Summary-15min'!G57:G58,\"-\")=2,\"-\",SUM('Volume Summary-15min'!G57:G58))","v":11},{"$f":"IF(COUNTIF('Volume Summary-15min'!H57:H58,\"-\")=2,\"-\",SUM('Volume Summary-15min'!H57:H58))","v":27},{"$f":"IF(COUNTIF('Volume Summary-15min'!I57:I58,\"-\")=2,\"-\",SUM('Volume Summary-15min'!I57:I58))","v":8},{"$f":"IF(COUNTIF('Volume Summary-15min'!J57:J58,\"-\")=2,\"-\",SUM('Volume Summary-15min'!J57:J58))","v":18.600000000000001},{"$f":"IF(COUNTIF('Volume Summary-15min'!K57:K58,\"-\")=2,\"-\",SUM('Volume Summary-15min'!K57:K58))","v":18.285714285714288}]
[null,"10:30:00",{"$f":"IF(COUNTIF('Volume Summary-15min'!C59:C60,\"-\")=2,\"-\",SUM('Volume Summary-15min'!C59:C60))","v":13},{"$f":"IF(COUNTIF('Volume Summary-15min'!D59:D60,\"-\")=2,\"-\",SUM('Volume Summary-15min'!D59:D60))","v":14},{"$f":"IF(COUNTIF('Volume Summary-15min'!E59:E60,\"-\")=2,\"-\",SUM('Volume Summary-15min'!E59:E60))","v":18},{"$f":"IF(COUNTIF('Volume Summary-15min'!F59:F60,\"-\")=2,\"-\",SUM('Volume Summary-15min'!F59:F60))","v":14},{"$f":"IF(COUNTIF('Volume Summary-15min'!G59:G60,\"-\")=2,\"-\",SUM('Volume Summary-15min'!G59:G60))","v":19},{"$f":"IF(COUNTIF('Volume Summary-15min'!H59:H60,\"-\")=2,\"-\",SUM('Volume Summary-15min'!H59:H60))","v":13},{"$f":"IF(COUNTIF('Volume Summary-15min'!I59:I60,\"-\")=2,\"-\",SUM('Volume Summary-15min'!I59:I60))","v":9},{"$f":"IF(COUNTIF('Volume Summary-15min'!J59:J60,\"-\")=2,\"-\",SUM('Volume Summary-15min'!J59:J60))","v":15.600000000000001},{"$f":"IF(COUNTIF('Volume Summary-15min'!K59:K60,\"-\")=2,\"-\",SUM('Volume Summary-15min'!K59:K60))","v":14.285714285714286}]
[null,"11:00:00",{"$f":"IF(COUNTIF('Volume Summary-15min'!C61:C62,\"-\")=2,\"-\",SUM('Volume Summary-15min'!C61:C62))","v":8},{"$f":"IF(COUNTIF('Volume Summary-15min'!D61:D62,\"-\")=2,\"-\",SUM('Volume Summary-15min'!D61:D62))","v":10},{"$f":"IF(COUNTIF('Volume Summary-15min'!E61:E62,\"-\")=2,\"-\",SUM('Volume Summary-15min'!E61:E62))","v":23},{"$f":"IF(COUNTIF('Volume Summary-15min'!F61:F62,\"-\")=2,\"-\",SUM('Volume Summary-15min'!F61:F62))","v":16},{"$f":"IF(COUNTIF('Volume Summary-15min'!G61:G62,\"-\")=2,\"-\",SUM('Volume Summary-15min'!G61:G62))","v":14},{"$f":"IF(COUNTIF('Volume Summary-15min'!H61:H62,\"-\")=2,\"-\",SUM('Volume Summary-15min'!H61:H62))","v":15},{"$f":"IF(COUNTIF('Volume Summary-15min'!I61:I62,\"-\")=2,\"-\",SUM('Volume Summary-15min'!I61:I62))","v":8},{"$f":"IF(COUNTIF('Volume Summary-15min'!J61:J62,\"-\")=2,\"-\",SUM('Volume Summary-15min'!J61:J62))","v":14.2},{"$f":"IF(COUNTIF('Volume Summary-15min'!K61:K62,\"-\")=2,\"-\",SUM('Volume Summary-15min'!K61:K62))","v":13.428571428571431}]
[null,"11:30:00",{"$f":"IF(COUNTIF('Volume Summary-15min'!C63:C64,\"-\")=2,\"-\",SUM('Volume Summary-15min'!C63:C64))","v":13},{"$f":"IF(COUNTIF('Volume Summary-15min'!D63:D64,\"-\")=2,\"-\",SUM('Volume Summary-15min'!D63:D64))","v":11},{"$f":"IF(COUNTIF('Volume Summary-15min'!E63:E64,\"-\")=2,\"-\",SUM('Volume Summary-15min'!E63:E64))","v":14},{"$f":"IF(COUNTIF('Volume Summary-15min'!F63:F64,\"-\")=2,\"-\",SUM('Volume Summary-15min'!F63:F64))","v":13},{"$f":"IF(COUNTIF('Volume Summary-15min'!G63:G64,\"-\")=2,\"-\",SUM('Volume Summary-15min'!G63:G64))","v":12},{"$f":"IF(COUNTIF('Volume Summary-15min'!H63:H64,\"-\")=2,\"-\",SUM('Volume Summary-15min'!H63:H64))","v":15},{"$f":"IF(COUNTIF('Volume Summary-15min'!I63:I64,\"-\")=2,\"-\",SUM('Volume Summary-15min'!I63:I64))","v":17},{"$f":"IF(COUNTIF('Volume Summary-15min'!J63:J64,\"-\")=2,\"-\",SUM('Volume Summary-15min'!J63:J64))","v":12.600000000000001},{"$f":"IF(COUNTIF('Volume Summary-15min'!K63:K64,\"-\")=2,\"-\",SUM('Volume Summary-15min'!K63:K64))","v":13.571428571428573}]
[null,"12:00:00",{"$f":"IF(COUNTIF('Volume Summary-15min'!C65:C66,\"-\")=2,\"-\",SUM('Volume Summary-15min'!C65:C66))","v":19},{"$f":"IF(COUNTIF('Volume Summary-15min'!D65:D66,\"-\")=2,\"-\",SUM('Volume Summary-15min'!D65:D66))","v":9},{"$f":"IF(COUNTIF('Volume Summary-15min'!E65:E66,\"-\")=2,\"-\",SUM('Volume Summary-15min'!E65:E66))","v":14},{"$f":"IF(COUNTIF('Volume Summary-15min'!F65:F66,\"-\")=2,\"-\",SUM('Volume Summary-15min'!F65:F66))","v":11},{"$f":"IF(COUNTIF('Volume Summary-15min'!G65:G66,\"-\")=2,\"-\",SUM('Volume Summary-15min'!G65:G66))","v":17},{"$f":"IF(COUNTIF('Volume Summary-15min'!H65:H66,\"-\")=2,\"-\",SUM('Volume Summary-15min'!H65:H66))","v":14},{"$f":"IF(COUNTIF('Volume Summary-15min'!I65:I66,\"-\")=2,\"-\",SUM('Volume Summary-15min'!I65:I66))","v":13},{"$f":"IF(COUNTIF('Volume Summary-15min'!J65:J66,\"-\")=2,\"-\",SUM('Volume Summary-15min'!J65:J66))","v":14},{"$f":"IF(COUNTIF('Volume Summary-15min'!K65:K66,\"-\")=2,\"-\",SUM('Volume Summary-15min'!K65:K66))","v":13.857142857142858}]
[null,"12:30:00",{"$f":"IF(COUNTIF('Volume Summary-15min'!C67:C68,\"-\")=2,\"-\",SUM('Volume Summary-15min'!C67:C68))","v":15},{"$f":"IF(COUNTIF('Volume Summary-15min'!D67:D68,\"-\")=2,\"-\",SUM('Volume Summary-15min'!D67:D68))","v":11},{"$f":"IF(COUNTIF('Volume Summary-15min'!E67:E68,\"-\")=2,\"-\",SUM('Volume Summary-15min'!E67:E68))","v":8},{"$f":"IF(COUNTIF('Volume Summary-15min'!F67:F68,\"-\")=2,\"-\",SUM('Volume Summary-15min'!F67:F68))","v":13},{"$f":"IF(COUNTIF('Volume Summary-15min'!G67:G68,\"-\")=2,\"-\",SUM('Volume Summary-15min'!G67:G68))","v":22},{"$f":"IF(COUNTIF('Volume Summary-15min'!H67:H68,\"-\")=2,\"-\",SUM('Volume Summary-15min'!H67:H68))","v":21},{"$f":"IF(COUNTIF('Volume Summary-15min'!I67:I68,\"-\")=2,\"-\",SUM('Volume Summary-15min'!I67:I68))","v":16},{"$f":"IF(COUNTIF('Volume Summary-15min'!J67:J68,\"-\")=2,\"-\",SUM('Volume Summary-15min'!J67:J68))","v":13.8},{"$f":"IF(COUNTIF('Volume Summary-15min'!K67:K68,\"-\")=2,\"-\",SUM('Volume Summary-15min'!K67:K68))","v":15.142857142857142}]
[null,"13:00:00",{"$f":"IF(COUNTIF('Volume Summary-15min'!C69:C70,\"-\")=2,\"-\",SUM('Volume Summary-15min'!C69:C70))","v":17},{"$f":"IF(COUNTIF('Volume Summary-15min'!D69:D70,\"-\")=2,\"-\",SUM('Volume Summary-15min'!D69:D70))","v":12},{"$f":"IF(COUNTIF('Volume Summary-15min'!E69:E70,\"-\")=2,\"-\",SUM('Volume Summary-15min'!E69:E70))","v":15},{"$f":"IF(COUNTIF('Volume Summary-15min'!F69:F70,\"-\")=2,\"-\",SUM('Volume Summary-15min'!F69:F70))","v":15},{"$f":"IF(COUNTIF('Volume Summary-15min'!G69:G70,\"-\")=2,\"-\",SUM('Volume Summary-15min'!G69:G70))","v":27},{"$f":"IF(COUNTIF('Volume Summary-15min'!H69:H70,\"-\")=2,\"-\",SUM('Volume Summary-15min'!H69:H70))","v":17},{"$f":"IF(COUNTIF('Volume Summary-15min'!I69:I70,\"-\")=2,\"-\",SUM('Volume Summary-15min'!I69:I70))","v":16},{"$f":"IF(COUNTIF('Volume Summary-15min'!J69:J70,\"-\")=2,\"-\",SUM('Volume Summary-15min'!J69:J70))","v":17.2},{"$f":"IF(COUNTIF('Volume Summary-15min'!K69:K70,\"-\")=2,\"-\",SUM('Volume Summary-15min'!K69:K70))","v":17}]
[null,"13:30:00",{"$f":"IF(COUNTIF('Volume Summary-15min'!C71:C72,\"-\")=2,\"-\",SUM('Volume Summary-15min'!C71:C72))","v":11},{"$f":"IF(COUNTIF('Volume Summary-15min'!D71:D72,\"-\")=2,\"-\",SUM('Volume Summary-15min'!D71:D72))","v":13},{"$f":"IF(COUNTIF('Volume Summary-15min'!E71:E72,\"-\")=2,\"-\",SUM('Volume Summary-15min'!E71:E72))","v":13},{"$f":"IF(COUNTIF('Volume Summary-15min'!F71:F72,\"-\")=2,\"-\",SUM('Volume Summary-15min'!F71:F72))","v":11},{"$f":"IF(COUNTIF('Volume Summary-15min'!G71:G72,\"-\")=2,\"-\",SUM('Volume Summary-15min'!G71:G72))","v":13},{"$f":"IF(COUNTIF('Volume Summary-15min'!H71:H72,\"-\")=2,\"-\",SUM('Volume Summary-15min'!H71:H72))","v":17},{"$f":"IF(COUNTIF('Volume Summary-15min'!I71:I72,\"-\")=2,\"-\",SUM('Volume Summary-15min'!I71:I72))","v":22},{"$f":"IF(COUNTIF('Volume Summary-15min'!J71:J72,\"-\")=2,\"-\",SUM('Volume Summary-15min'!J71:J72))","v":12.2},{"$f":"IF(COUNTIF('Volume Summary-15min'!K71:K72,\"-\")=2,\"-\",SUM('Volume Summary-15min'!K71:K72))","v":14.285714285714288}]
[null,"14:00:00",{"$f":"IF(COUNTIF('Volume Summary-15min'!C73:C74,\"-\")=2,\"-\",SUM('Volume Summary-15min'!C73:C74))","v":10},{"$f":"IF(COUNTIF('Volume Summary-15min'!D73:D74,\"-\")=2,\"-\",SUM('Volume Summary-15min'!D73:D74))","v":8},{"$f":"IF(COUNTIF('Volume Summary-15min'!E73:E74,\"-\")=2,\"-\",SUM('Volume Summary-15min'!E73:E74))","v":10},{"$f":"IF(COUNTIF('Volume Summary-15min'!F73:F74,\"-\")=2,\"-\",SUM('Volume Summary-15min'!F73:F74))","v":7},{"$f":"IF(COUNTIF('Volume Summary-15min'!G73:G74,\"-\")=2,\"-\",SUM('Volume Summary-15min'!G73:G74))","v":10},{"$f":"IF(COUNTIF('Volume Summary-15min'!H73:H74,\"-\")=2,\"-\",SUM('Volume Summary-15min'!H73:H74))","v":16},{"$f":"IF(COUNTIF('Volume Summary-15min'!I73:I74,\"-\")=2,\"-\",SUM('Volume Summary-15min'!I73:I74))","v":18},{"$f":"IF(COUNTIF('Volume Summary-15min'!J73:J74,\"-\")=2,\"-\",SUM('Volume Summary-15min'!J73:J74))","v":9},{"$f":"IF(COUNTIF('Volume Summary-15min'!K73:K74,\"-\")=2,\"-\",SUM('Volume Summary-15min'!K73:K74))","v":11.285714285714286}]
[null,"14:30:00",{"$f":"IF(COUNTIF('Volume Summary-15min'!C75:C76,\"-\")=2,\"-\",SUM('Volume Summary-15min'!C75:C76))","v":16},{"$f":"IF(COUNTIF('Volume Summary-15min'!D75:D76,\"-\")=2,\"-\",SUM('Volume Summary-15min'!D75:D76))","v":13},{"$f":"IF(COUNTIF('Volume Summary-15min'!E75:E76,\"-\")=2,\"-\",SUM('Volume Summary-15min'!E75:E76))","v":8},{"$f":"IF(COUNTIF('Volume Summary-15min'!F75:F76,\"-\")=2,\"-\",SUM('Volume Summary-15min'!F75:F76))","v":5},{"$f":"IF(COUNTIF('Volume Summary-15min'!G75:G76,\"-\")=2,\"-\",SUM('Volume Summary-15min'!G75:G76))","v":10},{"$f":"IF(COUNTIF('Volume Summary-15min'!H75:H76,\"-\")=2,\"-\",SUM('Volume Summary-15min'!H75:H76))","v":18},{"$f":"IF(COUNTIF('Volume Summary-15min'!I75:I76,\"-\")=2,\"-\",SUM('Volume Summary-15min'!I75:I76))","v":15},{"$f":"IF(COUNTIF('Volume Summary-15min'!J75:J76,\"-\")=2,\"-\",SUM('Volume Summary-15min'!J75:J76))","v":10.400000000000002},{"$f":"IF(COUNTIF('Volume Summary-15min'!K75:K76,\"-\")=2,\"-\",SUM('Volume Summary-15min'!K75:K76))","v":12.142857142857142}]
[null,"15:00:00",{"$f":"IF(COUNTIF('Volume Summary-15min'!C77:C78,\"-\")=2,\"-\",SUM('Volume Summary-15min'!C77:C78))","v":12},{"$f":"IF(COUNTIF('Volume Summary-15min'!D77:D78,\"-\")=2,\"-\",SUM('Volume Summary-15min'!D77:D78))","v":8},{"$f":"IF(COUNTIF('Volume Summary-15min'!E77:E78,\"-\")=2,\"-\",SUM('Volume Summary-15min'!E77:E78))","v":11},{"$f":"IF(COUNTIF('Volume Summary-15min'!F77:F78,\"-\")=2,\"-\",SUM('Volume Summary-15min'!F77:F78))","v":11},{"$f":"IF(COUNTIF('Volume Summary-15min'!G77:G78,\"-\")=2,\"-\",SUM('Volume Summary-15min'!G77:G78))","v":10},{"$f":"IF(COUNTIF('Volume Summary-15min'!H77:H78,\"-\")=2,\"-\",SUM('Volume Summary-15min'!H77:H78))","v":7},{"$f":"IF(COUNTIF('Volume Summary-15min'!I77:I78,\"-\")=2,\"-\",SUM('Volume Summary-15min'!I77:I78))","v":21},{"$f":"IF(COUNTIF('Volume Summary-15min'!J77:J78,\"-\")=2,\"-\",SUM('Volume Summary-15min'!J77:J78))","v":10.399999999999999},{"$f":"IF(COUNTIF('Volume Summary-15min'!K77:K78,\"-\")=2,\"-\",SUM('Volume Summary-15min'!K77:K78))","v":11.428571428571429}]
[null,"15:30:00",{"$f":"IF(COUNTIF('Volume Summary-15min'!C79:C80,\"-\")=2,\"-\",SUM('Volume Summary-15min'!C79:C80))","v":16},{"$f":"IF(COUNTIF('Volume Summary-15min'!D79:D80,\"-\")=2,\"-\",SUM('Volume Summary-15min'!D79:D80))","v":13},{"$f":"IF(COUNTIF('Volume Summary-15min'!E79:E80,\"-\")=2,\"-\",SUM('Volume Summary-15min'!E79:E80))","v":11},{"$f":"IF(COUNTIF('Volume Summary-15min'!F79:F80,\"-\")=2,\"-\",SUM('Volume Summary-15min'!F79:F80))","v":12},{"$f":"IF(COUNTIF('Volume Summary-15min'!G79:G80,\"-\")=2,\"-\",SUM('Volume Summary-15min'!G79:G80))","v":13},{"$f":"IF(COUNTIF('Volume Summary-15min'!H79:H80,\"-\")=2,\"-\",SUM('Volume Summary-15min'!H79:H80))","v":14},{"$f":"IF(COUNTIF('Volume Summary-15min'!I79:I80,\"-\")=2,\"-\",SUM('Volume Summary-15min'!I79:I80))","v":16},{"$f":"IF(COUNTIF('Volume Summary-15min'!J79:J80,\"-\")=2,\"-\",SUM('Volume Summary-15min'!J79:J80))","v":13},{"$f":"IF(COUNTIF('Volume Summary-15min'!K79:K80,\"-\")=2,\"-\",SUM('Volume Summary-15min'!K79:K80))","v":13.571428571428571}]
[null,"16:00:00",{"$f":"IF(COUNTIF('Volume Summary-15min'!C81:C82,\"-\")=2,\"-\",SUM('Volume Summary-15min'!C81:C82))","v":12},{"$f":"IF(COUNTIF('Volume Summary-15min'!D81:D82,\"-\")=2,\"-\",SUM('Volume Summary-15min'!D81:D82))","v":5},{"$f":"IF(COUNTIF('Volume Summary-15min'!E81:E82,\"-\")=2,\"-\",SUM('Volume Summary-15min'!E81:E82))","v":8},{"$f":"IF(COUNTIF('Volume Summary-15min'!F81:F82,\"-\")=2,\"-\",SUM('Volume Summary-15min'!F81:F82))","v":7},{"$f":"IF(COUNTIF('Volume Summary-15min'!G81:G82,\"-\")=2,\"-\",SUM('Volume Summary-15min'!G81:G82))","v":11},{"$f":"IF(COUNTIF('Volume Summary-15min'!H81:H82,\"-\")=2,\"-\",SUM('Volume Summary-15min'!H81:H82))","v":13},{"$f":"IF(COUNTIF('Volume Summary-15min'!I81:I82,\"-\")=2,\"-\",SUM('Volume Summary-15min'!I81:I82))","v":21},{"$f":"IF(COUNTIF('Volume Summary-15min'!J81:J82,\"-\")=2,\"-\",SUM('Volume Summary-15min'!J81:J82))","v":9.6999999999999993},{"$f":"IF(COUNTIF('Volume Summary-15min'!K81:K82,\"-\")=2,\"-\",SUM('Volume Summary-15min'!K81:K82))","v":11.928571428571429}]
[null,"16:30:00",{"$f":"IF(COUNTIF('Volume Summary-15min'!C83:C84,\"-\")=2,\"-\",SUM('Volume Summary-15min'!C83:C84))","v":15},{"$f":"IF(COUNTIF('Volume Summary-15min'!D83:D84,\"-\")=2,\"-\",SUM('Volume Summary-15min'!D83:D84))","v":13},{"$f":"IF(COUNTIF('Volume Summary-15min'!E83:E84,\"-\")=2,\"-\",SUM('Volume Summary-15min'!E83:E84))","v":11},{"$f":"IF(COUNTIF('Volume Summary-15min'!F83:F84,\"-\")=2,\"-\",SUM('Volume Summary-15min'!F83:F84))","v":20},{"$f":"IF(COUNTIF('Volume Summary-15min'!G83:G84,\"-\")=2,\"-\",SUM('Volume Summary-15min'!G83:G84))","v":11},{"$f":"IF(COUNTIF('Volume Summary-15min'!H83:H84,\"-\")=2,\"-\",SUM('Volume Summary-15min'!H83:H84))","v":17},{"$f":"IF(COUNTIF('Volume Summary-15min'!I83:I84,\"-\")=2,\"-\",SUM('Volume Summary-15min'!I83:I84))","v":20},{"$f":"IF(COUNTIF('Volume Summary-15min'!J83:J84,\"-\")=2,\"-\",SUM('Volume Summary-15min'!J83:J84))","v":13.999999999999998},{"$f":"IF(COUNTIF('Volume Summary-15min'!K83:K84,\"-\")=2,\"-\",SUM('Volume Summary-15min'!K83:K84))","v":15.285714285714285}]
[null,"17:00:00",{"$f":"IF(COUNTIF('Volume Summary-15min'!C85:C86,\"-\")=2,\"-\",SUM('Volume Summary-15min'!C85:C86))","v":12},{"$f":"IF(COUNTIF('Volume Summary-15min'!D85:D86,\"-\")=2,\"-\",SUM('Volume Summary-15min'!D85:D86))","v":9},{"$f":"IF(COUNTIF('Volume Summary-15min'!E85:E86,\"-\")=2,\"-\",SUM('Volume Summary-15min'!E85:E86))","v":7},{"$f":"IF(COUNTIF('Volume Summary-15min'!F85:F86,\"-\")=2,\"-\",SUM('Volume Summary-15min'!F85:F86))","v":14},{"$f":"IF(COUNTIF('Volume Summary-15min'!G85:G86,\"-\")=2,\"-\",SUM('Volume Summary-15min'!G85:G86))","v":5},{"$f":"IF(COUNTIF('Volume Summary-15min'!H85:H86,\"-\")=2,\"-\",SUM('Volume Summary-15min'!H85:H86))","v":20},{"$f":"IF(COUNTIF('Volume Summary-15min'!I85:I86,\"-\")=2,\"-\",SUM('Volume Summary-15min'!I85:I86))","v":12},{"$f":"IF(COUNTIF('Volume Summary-15min'!J85:J86,\"-\")=2,\"-\",SUM('Volume Summary-15min'!J85:J86))","v":9.4},{"$f":"IF(COUNTIF('Volume Summary-15min'!K85:K86,\"-\")=2,\"-\",SUM('Volume Summary-15min'!K85:K86))","v":11.285714285714285}]
[null,"17:30:00",{"$f":"IF(COUNTIF('Volume Summary-15min'!C87:C88,\"-\")=2,\"-\",SUM('Volume Summary-15min'!C87:C88))","v":16},{"$f":"IF(COUNTIF('Volume Summary-15min'!D87:D88,\"-\")=2,\"-\",SUM('Volume Summary-15min'!D87:D88))","v":19},{"$f":"IF(COUNTIF('Volume Summary-15min'!E87:E88,\"-\")=2,\"-\",SUM('Volume Summary-15min'!E87:E88))","v":18},{"$f":"IF(COUNTIF('Volume Summary-15min'!F87:F88,\"-\")=2,\"-\",SUM('Volume Summary-15min'!F87:F88))","v":9},{"$f":"IF(COUNTIF('Volume Summary-15min'!G87:G88,\"-\")=2,\"-\",SUM('Volume Summary-15min'!G87:G88))","v":11},{"$f":"IF(COUNTIF('Volume Summary-15min'!H87:H88,\"-\")=2,\"-\",SUM('Volume Summary-15min'!H87:H88))","v":13},{"$f":"IF(COUNTIF('Volume Summary-15min'!I87:I88,\"-\")=2,\"-\",SUM('Volume Summary-15min'!I87:I88))","v":11},{"$f":"IF(COUNTIF('Volume Summary-15min'!J87:J88,\"-\")=2,\"-\",SUM('Volume Summary-15min'!J87:J88))","v":14.600000000000001},{"$f":"IF(COUNTIF('Volume Summary-15min'!K87:K88,\"-\")=2,\"-\",SUM('Volume Summary-15min'!K87:K88))","v":13.857142857142858}]
[null,"18:00:00",{"$f":"IF(COUNTIF('Volume Summary-15min'!C89:C90,\"-\")=2,\"-\",SUM('Volume Summary-15min'!C89:C90))","v":14},{"$f":"IF(COUNTIF('Volume Summary-15min'!D89:D90,\"-\")=2,\"-\",SUM('Volume Summary-15min'!D89:D90))","v":20},{"$f":"IF(COUNTIF('Volume Summary-15min'!E89:E90,\"-\")=2,\"-\",SUM('Volume Summary-15min'!E89:E90))","v":12},{"$f":"IF(COUNTIF('Volume Summary-15min'!F89:F90,\"-\")=2,\"-\",SUM('Volume Summary-15min'!F89:F90))","v":11},{"$f":"IF(COUNTIF('Volume Summary-15min'!G89:G90,\"-\")=2,\"-\",SUM('Volume Summary-15min'!G89:G90))","v":20},{"$f":"IF(COUNTIF('Volume Summary-15min'!H89:H90,\"-\")=2,\"-\",SUM('Volume Summary-15min'!H89:H90))","v":16},{"$f":"IF(COUNTIF('Volume Summary-15min'!I89:I90,\"-\")=2,\"-\",SUM('Volume Summary-15min'!I89:I90))","v":17},{"$f":"IF(COUNTIF('Volume Summary-15min'!J89:J90,\"-\")=2,\"-\",SUM('Volume Summary-15min'!J89:J90))","v":15.400000000000002},{"$f":"IF(COUNTIF('Volume Summary-15min'!K89:K90,\"-\")=2,\"-\",SUM('Volume Summary-15min'!K89:K90))","v":15.714285714285714}]
[null,"18:30:00",{"$f":"IF(COUNTIF('Volume Summary-15min'!C91:C92,\"-\")=2,\"-\",SUM('Volume Summary-15min'!C91:C92))","v":11},{"$f":"IF(COUNTIF('Volume Summary-15min'!D91:D92,\"-\")=2,\"-\",SUM('Volume Summary-15min'!D91:D92))","v":21},{"$f":"IF(COUNTIF('Volume Summary-15min'!E91:E92,\"-\")=2,\"-\",SUM('Volume Summary-15min'!E91:E92))","v":10},{"$f":"IF(COUNTIF('Volume Summary-15min'!F91:F92,\"-\")=2,\"-\",SUM('Volume Summary-15min'!F91:F92))","v":12},{"$f":"IF(COUNTIF('Volume Summary-15min'!G91:G92,\"-\")=2,\"-\",SUM('Volume Summary-15min'!G91:G92))","v":23},{"$f":"IF(COUNTIF('Volume Summary-15min'!H91:H92,\"-\")=2,\"-\",SUM('Volume Summary-15min'!H91:H92))","v":26},{"$f":"IF(COUNTIF('Volume Summary-15min'!I91:I92,\"-\")=2,\"-\",SUM('Volume Summary-15min'!I91:I92))","v":24},{"$f":"IF(COUNTIF('Volume Summary-15min'!J91:J92,\"-\")=2,\"-\",SUM('Volume Summary-15min'!J91:J92))","v":15.400000000000002},{"$f":"IF(COUNTIF('Volume Summary-15min'!K91:K92,\"-\")=2,\"-\",SUM('Volume Summary-15min'!K91:K92))","v":18.142857142857142}]
[null,"19:00:00",{"$f":"IF(COUNTIF('Volume Summary-15min'!C93:C94,\"-\")=2,\"-\",SUM('Volume Summary-15min'!C93:C94))","v":18},{"$f":"IF(COUNTIF('Volume Summary-15min'!D93:D94,\"-\")=2,\"-\",SUM('Volume Summary-15min'!D93:D94))","v":14},{"$f":"IF(COUNTIF('Volume Summary-15min'!E93:E94,\"-\")=2,\"-\",SUM('Volume Summary-15min'!E93:E94))","v":23},{"$f":"IF(COUNTIF('Volume Summary-15min'!F93:F94,\"-\")=2,\"-\",SUM('Volume Summary-15min'!F93:F94))","v":5},{"$f":"IF(COUNTIF('Volume Summary-15min'!G93:G94,\"-\")=2,\"-\",SUM('Volume Summary-15min'!G93:G94))","v":15},{"$f":"IF(COUNTIF('Volume Summary-15min'!H93:H94,\"-\")=2,\"-\",SUM('Volume Summary-15min'!H93:H94))","v":19},{"$f":"IF(COUNTIF('Volume Summary-15min'!I93:I94,\"-\")=2,\"-\",SUM('Volume Summary-15min'!I93:I94))","v":22},{"$f":"IF(COUNTIF('Volume Summary-15min'!J93:J94,\"-\")=2,\"-\",SUM('Volume Summary-15min'!J93:J94))","v":15},{"$f":"IF(COUNTIF('Volume Summary-15min'!K93:K94,\"-\")=2,\"-\",SUM('Volume Summary-15min'!K93:K94))","v":16.571428571428573}]
[null,"19:30:00",{"$f":"IF(COUNTIF('Volume Summary-15min'!C95:C96,\"-\")=2,\"-\",SUM('Volume Summary-15min'!C95:C96))","v":19},{"$f":"IF(COUNTIF('Volume Summary-15min'!D95:D96,\"-\")=2,\"-\",SUM('Volume Summary-15min'!D95:D96))","v":17},{"$f":"IF(COUNTIF('Volume Summary-15min'!E95:E96,\"-\")=2,\"-\",SUM('Volume Summary-15min'!E95:E96))","v":11},{"$f":"IF(COUNTIF('Volume Summary-15min'!F95:F96,\"-\")=2,\"-\",SUM('Volume Summary-15min'!F95:F96))","v":7},{"$f":"IF(COUNTIF('Volume Summary-15min'!G95:G96,\"-\")=2,\"-\",SUM('Volume Summary-15min'!G95:G96))","v":14},{"$f":"IF(COUNTIF('Volume Summary-15min'!H95:H96,\"-\")=2,\"-\",SUM('Volume Summary-15min'!H95:H96))","v":18},{"$f":"IF(COUNTIF('Volume Summary-15min'!I95:I96,\"-\")=2,\"-\",SUM('Volume Summary-15min'!I95:I96))","v":24},{"$f":"IF(COUNTIF('Volume Summary-15min'!J95:J96,\"-\")=2,\"-\",SUM('Volume Summary-15min'!J95:J96))","v":13.600000000000001},{"$f":"IF(COUNTIF('Volume Summary-15min'!K95:K96,\"-\")=2,\"-\",SUM('Volume Summary-15min'!K95:K96))","v":15.714285714285715}]
[null,"20:00:00",{"$f":"IF(COUNTIF('Volume Summary-15min'!C97:C98,\"-\")=2,\"-\",SUM('Volume Summary-15min'!C97:C98))","v":13},{"$f":"IF(COUNTIF('Volume Summary-15min'!D97:D98,\"-\")=2,\"-\",SUM('Volume Summary-15min'!D97:D98))","v":9},{"$f":"IF(COUNTIF('Volume Summary-15min'!E97:E98,\"-\")=2,\"-\",SUM('Volume Summary-15min'!E97:E98))","v":6},{"$f":"IF(COUNTIF('Volume Summary-15min'!F97:F98,\"-\")=2,\"-\",SUM('Volume Summary-15min'!F97:F98))","v":4},{"$f":"IF(COUNTIF('Volume Summary-15min'!G97:G98,\"-\")=2,\"-\",SUM('Volume Summary-15min'!G97:G98))","v":18},{"$f":"IF(COUNTIF('Volume Summary-15min'!H97:H98,\"-\")=2,\"-\",SUM('Volume Summary-15min'!H97:H98))","v":18},{"$f":"IF(COUNTIF('Volume Summary-15min'!I97:I98,\"-\")=2,\"-\",SUM('Volume Summary-15min'!I97:I98))","v":15},{"$f":"IF(COUNTIF('Volume Summary-15min'!J97:J98,\"-\")=2,\"-\",SUM('Volume Summary-15min'!J97:J98))","v":10},{"$f":"IF(COUNTIF('Volume Summary-15min'!K97:K98,\"-\")=2,\"-\",SUM('Volume Summary-15min'!K97:K98))","v":11.857142857142858}]
[null,"20:30:00",{"$f":"IF(COUNTIF('Volume Summary-15min'!C99:C100,\"-\")=2,\"-\",SUM('Volume Summary-15min'!C99:C100))","v":10},{"$f":"IF(COUNTIF('Volume Summary-15min'!D99:D100,\"-\")=2,\"-\",SUM('Volume Summary-15min'!D99:D100))","v":10},{"$f":"IF(COUNTIF('Volume Summary-15min'!E99:E100,\"-\")=2,\"-\",SUM('Volume Summary-15min'!E99:E100))","v":8},{"$f":"IF(COUNTIF('Volume Summary-15min'!F99:F100,\"-\")=2,\"-\",SUM('Volume Summary-15min'!F99:F100))","v":6},{"$f":"IF(COUNTIF('Volume Summary-15min'!G99:G100,\"-\")=2,\"-\",SUM('Volume Summary-15min'!G99:G100))","v":8},{"$f":"IF(COUNTIF('Volume Summary-15min'!H99:H100,\"-\")=2,\"-\",SUM('Volume Summary-15min'!H99:H100))","v":19},{"$f":"IF(COUNTIF('Volume Summary-15min'!I99:I100,\"-\")=2,\"-\",SUM('Volume Summary-15min'!I99:I100))","v":17},{"$f":"IF(COUNTIF('Volume Summary-15min'!J99:J100,\"-\")=2,\"-\",SUM('Volume Summary-15min'!J99:J100))","v":8.4},{"$f":"IF(COUNTIF('Volume Summary-15min'!K99:K100,\"-\")=2,\"-\",SUM('Volume Summary-15min'!K99:K100))","v":11.142857142857142}]
[null,"21:00:00",{"$f":"IF(COUNTIF('Volume Summary-15min'!C101:C102,\"-\")=2,\"-\",SUM('Volume Summary-15min'!C101:C102))","v":10},{"$f":"IF(COUNTIF('Volume Summary-15min'!D101:D102,\"-\")=2,\"-\",SUM('Volume Summary-15min'!D101:D102))","v":9},{"$f":"IF(COUNTIF('Volume Summary-15min'!E101:E102,\"-\")=2,\"-\",SUM('Volume Summary-15min'!E101:E102))","v":10},{"$f":"IF(COUNTIF('Volume Summary-15min'!F101:F102,\"-\")=2,\"-\",SUM('Volume Summary-15min'!F101:F102))","v":4},{"$f":"IF(COUNTIF('Volume Summary-15min'!G101:G102,\"-\")=2,\"-\",SUM('Volume Summary-15min'!G101:G102))","v":19},{"$f":"IF(COUNTIF('Volume Summary-15min'!H101:H102,\"-\")=2,\"-\",SUM('Volume Summary-15min'!H101:H102))","v":16},{"$f":"IF(COUNTIF('Volume Summary-15min'!I101:I102,\"-\")=2,\"-\",SUM('Volume Summary-15min'!I101:I102))","v":13},{"$f":"IF(COUNTIF('Volume Summary-15min'!J101:J102,\"-\")=2,\"-\",SUM('Volume Summary-15min'!J101:J102))","v":10.4},{"$f":"IF(COUNTIF('Volume Summary-15min'!K101:K102,\"-\")=2,\"-\",SUM('Volume Summary-15min'!K101:K102))","v":11.571428571428573}]
[null,"21:30:00",{"$f":"IF(COUNTIF('Volume Summary-15min'!C103:C104,\"-\")=2,\"-\",SUM('Volume Summary-15min'!C103:C104))","v":10},{"$f":"IF(COUNTIF('Volume Summary-15min'!D103:D104,\"-\")=2,\"-\",SUM('Volume Summary-15min'!D103:D104))","v":11},{"$f":"IF(COUNTIF('Volume Summary-15min'!E103:E104,\"-\")=2,\"-\",SUM('Volume Summary-15min'!E103:E104))","v":6},{"$f":"IF(COUNTIF('Volume Summary-15min'!F103:F104,\"-\")=2,\"-\",SUM('Volume Summary-15min'!F103:F104))","v":5},{"$f":"IF(COUNTIF('Volume Summary-15min'!G103:G104,\"-\")=2,\"-\",SUM('Volume Summary-15min'!G103:G104))","v":7},{"$f":"IF(COUNTIF('Volume Summary-15min'!H103:H104,\"-\")=2,\"-\",SUM('Volume Summary-15min'!H103:H104))","v":19},{"$f":"IF(COUNTIF('Volume Summary-15min'!I103:I104,\"-\")=2,\"-\",SUM('Volume Summary-15min'!I103:I104))","v":9},{"$f":"IF(COUNTIF('Volume Summary-15min'!J103:J104,\"-\")=2,\"-\",SUM('Volume Summary-15min'!J103:J104))","v":7.8000000000000007},{"$f":"IF(COUNTIF('Volume Summary-15min'!K103:K104,\"-\")=2,\"-\",SUM('Volume Summary-15min'!K103:K104))","v":9.5714285714285712}]
[null,"22:00:00",{"$f":"IF(COUNTIF('Volume Summary-15min'!C105:C106,\"-\")=2,\"-\",SUM('Volume Summary-15min'!C105:C106))","v":6},{"$f":"IF(COUNTIF('Volume Summary-15min'!D105:D106,\"-\")=2,\"-\",SUM('Volume Summary-15min'!D105:D106))","v":7},{"$f":"IF(COUNTIF('Volume Summary-15min'!E105:E106,\"-\")=2,\"-\",SUM('Volume Summary-15min'!E105:E106))","v":9},{"$f":"IF(COUNTIF('Volume Summary-15min'!F105:F106,\"-\")=2,\"-\",SUM('Volume Summary-15min'!F105:F106))","v":3},{"$f":"IF(COUNTIF('Volume Summary-15min'!G105:G106,\"-\")=2,\"-\",SUM('Volume Summary-15min'!G105:G106))","v":14},{"$f":"IF(COUNTIF('Volume Summary-15min'!H105:H106,\"-\")=2,\"-\",SUM('Volume Summary-15min'!H105:H106))","v":15},{"$f":"IF(COUNTIF('Volume Summary-15min'!I105:I106,\"-\")=2,\"-\",SUM('Volume Summary-15min'!I105:I106))","v":11},{"$f":"IF(COUNTIF('Volume Summary-15min'!J105:J106,\"-\")=2,\"-\",SUM('Volume Summary-15min'!J105:J106))","v":7.8},{"$f":"IF(COUNTIF('Volume Summary-15min'!K105:K106,\"-\")=2,\"-\",SUM('Volume Summary-15min'!K105:K106))","v":9.2857142857142865}]
[null,"22:30:00",{"$f":"IF(COUNTIF('Volume Summary-15min'!C107:C108,\"-\")=2,\"-\",SUM('Volume Summary-15min'!C107:C108))","v":9},{"$f":"IF(COUNTIF('Volume Summary-15min'!D107:D108,\"-\")=2,\"-\",SUM('Volume Summary-15min'!D107:D108))","v":7},{"$f":"IF(COUNTIF('Volume Summary-15min'!E107:E108,\"-\")=2,\"-\",SUM('Volume Summary-15min'!E107:E108))","v":12},{"$f":"IF(COUNTIF('Volume Summary-15min'!F107:F108,\"-\")=2,\"-\",SUM('Volume Summary-15min'!F107:F108))","v":2},{"$f":"IF(COUNTIF('Volume Summary-15min'!G107:G108,\"-\")=2,\"-\",SUM('Volume Summary-15min'!G107:G108))","v":23},{"$f":"IF(COUNTIF('Volume Summary-15min'!H107:H108,\"-\")=2,\"-\",SUM('Volume Summary-15min'!H107:H108))","v":10},{"$f":"IF(COUNTIF('Volume Summary-15min'!I107:I108,\"-\")=2,\"-\",SUM('Volume Summary-15min'!I107:I108))","v":12},{"$f":"IF(COUNTIF('Volume Summary-15min'!J107:J108,\"-\")=2,\"-\",SUM('Volume Summary-15min'!J107:J108))","v":10.6},{"$f":"IF(COUNTIF('Volume Summary-15min'!K107:K108,\"-\")=2,\"-\",SUM('Volume Summary-15min'!K107:K108))","v":10.714285714285715}]
[null,"23:00:00",{"$f":"IF(COUNTIF('Volume Summary-15min'!C109:C110,\"-\")=2,\"-\",SUM('Volume Summary-15min'!C109:C110))","v":6},{"$f":"IF(COUNTIF('Volume Summary-15min'!D109:D110,\"-\")=2,\"-\",SUM('Volume Summary-15min'!D109:D110))","v":3},{"$f":"IF(COUNTIF('Volume Summary-15min'!E109:E110,\"-\")=2,\"-\",SUM('Volume Summary-15min'!E109:E110))","v":8},{"$f":"IF(COUNTIF('Volume Summary-15min'!F109:F110,\"-\")=2,\"-\",SUM('Volume Summary-15min'!F109:F110))","v":1},{"$f":"IF(COUNTIF('Volume Summary-15min'!G109:G110,\"-\")=2,\"-\",SUM('Volume Summary-15min'!G109:G110))","v":14},{"$f":"IF(COUNTIF('Volume Summary-15min'!H109:H110,\"-\")=2,\"-\",SUM('Volume Summary-15min'!H109:H110))","v":18},{"$f":"IF(COUNTIF('Volume Summary-15min'!I109:I110,\"-\")=2,\"-\",SUM('Volume Summary-15min'!I109:I110))","v":24},{"$f":"IF(COUNTIF('Volume Summary-15min'!J109:J110,\"-\")=2,\"-\",SUM('Volume Summary-15min'!J109:J110))","v":6.4},{"$f":"IF(COUNTIF('Volume Summary-15min'!K109:K110,\"-\")=2,\"-\",SUM('Volume Summary-15min'!K109:K110))","v":10.571428571428573}]
[null,"23:30:00",{"$f":"IF(COUNTIF('Volume Summary-15min'!C111:C112,\"-\")=2,\"-\",SUM('Volume Summary-15min'!C111:C112))","v":8},{"$f":"IF(COUNTIF('Volume Summary-15min'!D111:D112,\"-\")=2,\"-\",SUM('Volume Summary-15min'!D111:D112))","v":4},{"$f":"IF(COUNTIF('Volume Summary-15min'!E111:E112,\"-\")=2,\"-\",SUM('Volume Summary-15min'!E111:E112))","v":6},{"$f":"IF(COUNTIF('Volume Summary-15min'!F111:F112,\"-\")=2,\"-\",SUM('Volume Summary-15min'!F111:F112))","v":2},{"$f":"IF(COUNTIF('Volume Summary-15min'!G111:G112,\"-\")=2,\"-\",SUM('Volume Summary-15min'!G111:G112))","v":15},{"$f":"IF(COUNTIF('Volume Summary-15min'!H111:H112,\"-\")=2,\"-\",SUM('Volume Summary-15min'!H111:H112))","v":11},{"$f":"IF(COUNTIF('Volume Summary-15min'!I111:I112,\"-\")=2,\"-\",SUM('Volume Summary-15min'!I111:I112))","v":6},{"$f":"IF(COUNTIF('Volume Summary-15min'!J111:J112,\"-\")=2,\"-\",SUM('Volume Summary-15min'!J111:J112))","v":7},{"$f":"IF(COUNTIF('Volume Summary-15min'!K111:K112,\"-\")=2,\"-\",SUM('Volume Summary-15min'!K111:K112))","v":7.4285714285714288}]
[null,"Total",{"$f":"SUM(C17:C64)","v":744},734,762,627,739,618,580,{"$f":"SUM(J17:J64)","v":722.29999999999984},687.21428571428567]
[]
[null,"07:00-19:00",{"$f":"SUM(C31:C54)","v":578},{"$f":"SUM(D31:D54)","v":608},591,536,536,358,328,{"$f":"SUM(J31:J54)","v":570.89999999999986},505.92857142857139]
[null,"06:00-22:00",{"$f":"SUM(C29:C60)","v":679},{"$f":"SUM(D29:D60)","v":696},681,585,629,483,434,655.09999999999991,599.07142857142844]
[null,"06:00-24:00",{"$f":"SUM(C29:C64)","v":708},{"$f":"SUM(D29:D64)","v":717},716,593,695,537,487,686.89999999999986,637.07142857142844]
[null,"00:00-24:00",{"$f":"SUM(C17:C64)","v":744},{"$f":"SUM(D17:D64)","v":734},762,627,739,618,580,722.29999999999984,687.21428571428567]

{"sheet":"Volume Summary-60min","index":6,"n_rows":46,"n_cols":22,"rows_kept":46,"cut":false,"hidden":false,"merged":[[5,8,5,9],[11,2,11,8],[0,8,0,9],[1,8,1,10],[2,8,2,10],[3,8,3,10],[6,8,6,9],[6,10,6,11],[11,9,13,9],[11,10,13,10],[7,1,9,6]]}
[]
[]
[]
[null,null,null,null,null,null,null,null,null,null,null,null,null,null,null,null,null,null,null,null,null,{"$f":"Input_Details!$I$1&\" - \"&Input_Details!$H$1","v":"3854-LON - Swan Street"}]
[null,null,null,null,null,null,null,null,null,null,null,null,null,null,null,null,null,null,null,null,null,{"$f":"\"prepared for \"&Input_Details!$J$1","v":"prepared for LB of Southwark"}]
[null,null,null,null,null,null,null,null,null,null,null,null,null,null,null,null,null,null,null,null,null,{"$f":"TEXT(MIN(C14:I14), \"dd mmm yyyy\")&\" - \"&TEXT(MAX(C14:I14), \"dd mmm yyyy\")","v":"17 Nov 2017 - 23 Nov 2017"}]
[]
[null,"60-min Volume Summary"]
[null,null,null,null,null,null,null,null,"Avg W'kday Total",null,{"$f":"+J41","v":722.3}]
[null,null,null,null,null,null,null,null,"7 Day Avg Total",null,{"$f":"+K41","v":687.21428571428567}]
[]
[null,null,"Day of Week",null,null,null,null,null,null,"W'kday Avg","7 Day Avg"]
[null,null,"Mon","Tue","Wed","Thu","Fri","Sat","Sun"]
[null,"Time",{"$f":"+Input_Details!Q3","v":"2017-11-20"},{"$f":"+Input_Details!R3","v":"2017-11-21"},{"$f":"+Input_Details!S3","v":"2017-11-22"},{"$f":"+Input_Details!T3","v":"2017-11-23"},{"$f":"+Input_Details!U3","v":"2017-11-17"},{"$f":"+Input_Details!V3","v":"2017-11-18"},{"$f":"+Input_Details!W3","v":"2017-11-19"}]
[null,"AM Peak",{"$f":"MAX(C24:C26)","v":169},{"$f":"MAX(D24:D26)","v":185},167,147,123,34,21,158.19999999999999,117]
[null,"PM Peak",{"$f":"MAX(C33:C35)","v":28},{"$f":"MAX(D33:D35)","v":41},25,27,43,42,41,30.800000000000004,33.857142857142854]
[null,"00:00:00",{"$f":"IF(COUNTIF('Volume Summary-15min'!C17:C20, \"-\")=4, \"-\", SUM('Volume Summary-15min'!C17:C20))","v":13},{"$f":"IF(COUNTIF('Volume Summary-15min'!D17:D20, \"-\")=4, \"-\", SUM('Volume Summary-15min'!D17:D20))","v":6},{"$f":"IF(COUNTIF('Volume Summary-15min'!E17:E20, \"-\")=4, \"-\", SUM('Volume Summary-15min'!E17:E20))","v":14},{"$f":"IF(COUNTIF('Volume Summary-15min'!F17:F20, \"-\")=4, \"-\", SUM('Volume Summary-15min'!F17:F20))","v":10},{"$f":"IF(COUNTIF('Volume Summary-15min'!G17:G20, \"-\")=4, \"-\", SUM('Volume Summary-15min'!G17:G20))","v":16},{"$f":"IF(COUNTIF('Volume Summary-15min'!H17:H20, \"-\")=4, \"-\", SUM('Volume Summary-15min'!H17:H20))","v":22},{"$f":"IF(COUNTIF('Volume Summary-15min'!I17:I20, \"-\")=4, \"-\", SUM('Volume Summary-15min'!I17:I20))","v":27},{"$f":"IF(COUNTIF('Volume Summary-15min'!J17:J20, \"-\")=4, \"-\", SUM('Volume Summary-15min'!J17:J20))","v":11.8},{"$f":"IF(COUNTIF('Volume Summary-15min'!K17:K20, \"-\")=4, \"-\", SUM('Volume Summary-15min'!K17:K20))","v":15.428571428571429}]
[null,"01:00:00",{"$f":"IF(COUNTIF('Volume Summary-15min'!C21:C24,\"-\")=4,\"-\",SUM('Volume Summary-15min'!C21:C24))","v":6},{"$f":"IF(COUNTIF('Volume Summary-15min'!D21:D24,\"-\")=4,\"-\",SUM('Volume Summary-15min'!D21:D24))","v":1},{"$f":"IF(COUNTIF('Volume Summary-15min'!E21:E24,\"-\")=4,\"-\",SUM('Volume Summary-15min'!E21:E24))","v":5},{"$f":"IF(COUNTIF('Volume Summary-15min'!F21:F24,\"-\")=4,\"-\",SUM('Volume Summary-15min'!F21:F24))","v":4},{"$f":"IF(COUNTIF('Volume Summary-15min'!G21:G24,\"-\")=4,\"-\",SUM('Volume Summary-15min'!G21:G24))","v":9},{"$f":"IF(COUNTIF('Volume Summary-15min'!H21:H24,\"-\")=4,\"-\",SUM('Volume Summary-15min'!H21:H24))","v":18},{"$f":"IF(COUNTIF('Volume Summary-15min'!I21:I24,\"-\")=4,\"-\",SUM('Volume Summary-15min'!I21:I24))","v":14},{"$f":"IF(COUNTIF('Volume Summary-15min'!J21:J24,\"-\")=4,\"-\",SUM('Volume Summary-15min'!J21:J24))","v":5},{"$f":"IF(COUNTIF('Volume Summary-15min'!K21:K24,\"-\")=4,\"-\",SUM('Volume Summary-15min'!K21:K24))","v":8.1428571428571423}]
[null,"02:00:00",{"$f":"IF(COUNTIF('Volume Summary-15min'!C25:C28,\"-\")=4,\"-\",SUM('Volume Summary-15min'!C25:C28))","v":2},{"$f":"IF(COUNTIF('Volume Summary-15min'!D25:D28,\"-\")=4,\"-\",SUM('Volume Summary-15min'!D25:D28))","v":0},{"$f":"IF(COUNTIF('Volume Summary-15min'!E25:E28,\"-\")=4,\"-\",SUM('Volume Summary-15min'!E25:E28))","v":10},{"$f":"IF(COUNTIF('Volume Summary-15min'!F25:F28,\"-\")=4,\"-\",SUM('Volume Summary-15min'!F25:F28))","v":5},{"$f":"IF(COUNTIF('Volume Summary-15min'!G25:G28,\"-\")=4,\"-\",SUM('Volume Summary-15min'!G25:G28))","v":4},{"$f":"IF(COUNTIF('Volume Summary-15min'!H25:H28,\"-\")=4,\"-\",SUM('Volume Summary-15min'!H25:H28))","v":22},{"$f":"IF(COUNTIF('Volume Summary-15min'!I25:I28,\"-\")=4,\"-\",SUM('Volume Summary-15min'!I25:I28))","v":15},{"$f":"IF(COUNTIF('Volume Summary-15min'!J25:J28,\"-\")=4,\"-\",SUM('Volume Summary-15min'!J25:J28))","v":4.1999999999999993},{"$f":"IF(COUNTIF('Volume Summary-15min'!K25:K28,\"-\")=4,\"-\",SUM('Volume Summary-15min'!K25:K28))","v":8.2857142857142865}]
[null,"03:00:00",{"$f":"IF(COUNTIF('Volume Summary-15min'!C29:C32,\"-\")=4,\"-\",SUM('Volume Summary-15min'!C29:C32))","v":3},{"$f":"IF(COUNTIF('Volume Summary-15min'!D29:D32,\"-\")=4,\"-\",SUM('Volume Summary-15min'!D29:D32))","v":1},{"$f":"IF(COUNTIF('Volume Summary-15min'!E29:E32,\"-\")=4,\"-\",SUM('Volume Summary-15min'!E29:E32))","v":4},{"$f":"IF(COUNTIF('Volume Summary-15min'!F29:F32,\"-\")=4,\"-\",SUM('Volume Summary-15min'!F29:F32))","v":3},{"$f":"IF(COUNTIF('Volume Summary-15min'!G29:G32,\"-\")=4,\"-\",SUM('Volume Summary-15min'!G29:G32))","v":3},{"$f":"IF(COUNTIF('Volume Summary-15min'!H29:H32,\"-\")=4,\"-\",SUM('Volume Summary-15min'!H29:H32))","v":5},{"$f":"IF(COUNTIF('Volume Summary-15min'!I29:I32,\"-\")=4,\"-\",SUM('Volume Summary-15min'!I29:I32))","v":18},{"$f":"IF(COUNTIF('Volume Summary-15min'!J29:J32,\"-\")=4,\"-\",SUM('Volume Summary-15min'!J29:J32))","v":2.8},{"$f":"IF(COUNTIF('Volume Summary-15min'!K29:K32,\"-\")=4,\"-\",SUM('Volume Summary-15min'!K29:K32))","v":5.2857142857142847}]
[null,"04:00:00",{"$f":"IF(COUNTIF('Volume Summary-15min'!C33:C36,\"-\")=4,\"-\",SUM('Volume Summary-15min'!C33:C36))","v":0},{"$f":"IF(COUNTIF('Volume Summary-15min'!D33:D36,\"-\")=4,\"-\",SUM('Volume Summary-15min'!D33:D36))","v":0},{"$f":"IF(COUNTIF('Volume Summary-15min'!E33:E36,\"-\")=4,\"-\",SUM('Volume Summary-15min'!E33:E36))","v":6},{"$f":"IF(COUNTIF('Volume Summary-15min'!F33:F36,\"-\")=4,\"-\",SUM('Volume Summary-15min'!F33:F36))","v":3},{"$f":"IF(COUNTIF('Volume Summary-15min'!G33:G36,\"-\")=4,\"-\",SUM('Volume Summary-15min'!G33:G36))","v":2},{"$f":"IF(COUNTIF('Volume Summary-15min'!H33:H36,\"-\")=4,\"-\",SUM('Volume Summary-15min'!H33:H36))","v":5},{"$f":"IF(COUNTIF('Volume Summary-15min'!I33:I36,\"-\")=4,\"-\",SUM('Volume Summary-15min'!I33:I36))","v":11},{"$f":"IF(COUNTIF('Volume Summary-15min'!J33:J36,\"-\")=4,\"-\",SUM('Volume Summary-15min'!J33:J36))","v":2.2000000000000002},{"$f":"IF(COUNTIF('Volume Summary-15min'!K33:K36,\"-\")=4,\"-\",SUM('Volume Summary-15min'!K33:K36))","v":3.8571428571428572}]
[null,"05:00:00",{"$f":"IF(COUNTIF('Volume Summary-15min'!C37:C40,\"-\")=4,\"-\",SUM('Volume Summary-15min'!C37:C40))","v":12},{"$f":"IF(COUNTIF('Volume Summary-15min'!D37:D40,\"-\")=4,\"-\",SUM('Volume Summary-15min'!D37:D40))","v":9},{"$f":"IF(COUNTIF('Volume Summary-15min'!E37:E40,\"-\")=4,\"-\",SUM('Volume Summary-15min'!E37:E40))","v":7},{"$f":"IF(COUNTIF('Volume Summary-15min'!F37:F40,\"-\")=4,\"-\",SUM('Volume Summary-15min'!F37:F40))","v":9},{"$f":"IF(COUNTIF('Volume Summary-15min'!G37:G40,\"-\")=4,\"-\",SUM('Volume Summary-15min'!G37:G40))","v":10},{"$f":"IF(COUNTIF('Volume Summary-15min'!H37:H40,\"-\")=4,\"-\",SUM('Volume Summary-15min'!H37:H40))","v":9},{"$f":"IF(COUNTIF('Volume Summary-15min'!I37:I40,\"-\")=4,\"-\",SUM('Volume Summary-15min'!I37:I40))","v":8},{"$f":"IF(COUNTIF('Volume Summary-15min'!J37:J40,\"-\")=4,\"-\",SUM('Volume Summary-15min'!J37:J40))","v":9.4},{"$f":"IF(COUNTIF('Volume Summary-15min'!K37:K40,\"-\")=4,\"-\",SUM('Volume Summary-15min'!K37:K40))","v":9.1428571428571423}]
[null,"06:00:00",{"$f":"IF(COUNTIF('Volume Summary-15min'!C41:C44,\"-\")=4,\"-\",SUM('Volume Summary-15min'!C41:C44))","v":21},{"$f":"IF(COUNTIF('Volume Summary-15min'!D41:D44,\"-\")=4,\"-\",SUM('Volume Summary-15min'!D41:D44))","v":18},{"$f":"IF(COUNTIF('Volume Summary-15min'!E41:E44,\"-\")=4,\"-\",SUM('Volume Summary-15min'!E41:E44))","v":26},{"$f":"IF(COUNTIF('Volume Summary-15min'!F41:F44,\"-\")=4,\"-\",SUM('Volume Summary-15min'!F41:F44))","v":18},{"$f":"IF(COUNTIF('Volume Summary-15min'!G41:G44,\"-\")=4,\"-\",SUM('Volume Summary-15min'!G41:G44))","v":12},{"$f":"IF(COUNTIF('Volume Summary-15min'!H41:H44,\"-\")=4,\"-\",SUM('Volume Summary-15min'!H41:H44))","v":16},{"$f":"IF(COUNTIF('Volume Summary-15min'!I41:I44,\"-\")=4,\"-\",SUM('Volume Summary-15min'!I41:I44))","v":6},{"$f":"IF(COUNTIF('Volume Summary-15min'!J41:J44,\"-\")=4,\"-\",SUM('Volume Summary-15min'!J41:J44))","v":19},{"$f":"IF(COUNTIF('Volume Summary-15min'!K41:K44,\"-\")=4,\"-\",SUM('Volume Summary-15min'!K41:K44))","v":16.714285714285715}]
[null,"07:00:00",{"$f":"IF(COUNTIF('Volume Summary-15min'!C45:C48,\"-\")=4,\"-\",SUM('Volume Summary-15min'!C45:C48))","v":59},{"$f":"IF(COUNTIF('Volume Summary-15min'!D45:D48,\"-\")=4,\"-\",SUM('Volume Summary-15min'!D45:D48))","v":73},{"$f":"IF(COUNTIF('Volume Summary-15min'!E45:E48,\"-\")=4,\"-\",SUM('Volume Summary-15min'!E45:E48))","v":78},{"$f":"IF(COUNTIF('Volume Summary-15min'!F45:F48,\"-\")=4,\"-\",SUM('Volume Summary-15min'!F45:F48))","v":68},{"$f":"IF(COUNTIF('Volume Summary-15min'!G45:G48,\"-\")=4,\"-\",SUM('Volume Summary-15min'!G45:G48))","v":58},{"$f":"IF(COUNTIF('Volume Summary-15min'!H45:H48,\"-\")=4,\"-\",SUM('Volume Summary-15min'!H45:H48))","v":13},{"$f":"IF(COUNTIF('Volume Summary-15min'!I45:I48,\"-\")=4,\"-\",SUM('Volume Summary-15min'!I45:I48))","v":7},{"$f":"IF(COUNTIF('Volume Summary-15min'!J45:J48,\"-\")=4,\"-\",SUM('Volume Summary-15min'!J45:J48))","v":67.199999999999989},{"$f":"IF(COUNTIF('Volume Summary-15min'!K45:K48,\"-\")=4,\"-\",SUM('Volume Summary-15min'!K45:K48))","v":50.857142857142854}]
[null,"08:00:00",{"$f":"IF(COUNTIF('Volume Summary-15min'!C49:C52, \"-\")=4, \"-\", SUM('Volume Summary-15min'!C49:C52))","v":169},{"$f":"IF(COUNTIF('Volume Summary-15min'!D49:D52, \"-\")=4, \"-\", SUM('Volume Summary-15min'!D49:D52))","v":185},{"$f":"IF(COUNTIF('Volume Summary-15min'!E49:E52, \"-\")=4, \"-\", SUM('Volume Summary-15min'!E49:E52))","v":167},{"$f":"IF(COUNTIF('Volume Summary-15min'!F49:F52, \"-\")=4, \"-\", SUM('Volume Summary-15min'!F49:F52))","v":147},{"$f":"IF(COUNTIF('Volume Summary-15min'!G49:G52, \"-\")=4, \"-\", SUM('Volume Summary-15min'!G49:G52))","v":123},{"$f":"IF(COUNTIF('Volume Summary-15min'!H49:H52, \"-\")=4, \"-\", SUM('Volume Summary-15min'!H49:H52))","v":12},{"$f":"IF(COUNTIF('Volume Summary-15min'!I49:I52, \"-\")=4, \"-\", SUM('Volume Summary-15min'!I49:I52))","v":16},{"$f":"IF(COUNTIF('Volume Summary-15min'!J49:J52, \"-\")=4, \"-\", SUM('Volume Summary-15min'!J49:J52))","v":158.19999999999999},{"$f":"IF(COUNTIF('Volume Summary-15min'!K49:K52, \"-\")=4, \"-\", SUM('Volume Summary-15min'!K49:K52))","v":117}]
[null,"09:00:00",{"$f":"IF(COUNTIF('Volume Summary-15min'!C53:C56, \"-\")=4, \"-\", SUM('Volume Summary-15min'!C53:C56))","v":99},{"$f":"IF(COUNTIF('Volume Summary-15min'!D53:D56, \"-\")=4, \"-\", SUM('Volume Summary-15min'!D53:D56))","v":114},{"$f":"IF(COUNTIF('Volume Summary-15min'!E53:E56, \"-\")=4, \"-\", SUM('Volume Summary-15min'!E53:E56))","v":121},{"$f":"IF(COUNTIF('Volume Summary-15min'!F53:F56, \"-\")=4, \"-\", SUM('Volume Summary-15min'!F53:F56))","v":100},{"$f":"IF(COUNTIF('Volume Summary-15min'!G53:G56, \"-\")=4, \"-\", SUM('Volume Summary-15min'!G53:G56))","v":96},{"$f":"IF(COUNTIF('Volume Summary-15min'!H53:H56, \"-\")=4, \"-\", SUM('Volume Summary-15min'!H53:H56))","v":34},{"$f":"IF(COUNTIF('Volume Summary-15min'!I53:I56, \"-\")=4, \"-\", SUM('Volume Summary-15min'!I53:I56))","v":21},{"$f":"IF(COUNTIF('Volume Summary-15min'!J53:J56, \"-\")=4, \"-\", SUM('Volume Summary-15min'!J53:J56))","v":105.99999999999999},{"$f":"IF(COUNTIF('Volume Summary-15min'!K53:K56, \"-\")=4, \"-\", SUM('Volume Summary-15min'!K53:K56))","v":83.571428571428569}]
[null,"10:00:00",{"$f":"IF(COUNTIF('Volume Summary-15min'!C57:C60, \"-\")=4, \"-\", SUM('Volume Summary-15min'!C57:C60))","v":34},{"$f":"IF(COUNTIF('Volume Summary-15min'!D57:D60, \"-\")=4, \"-\", SUM('Volume Summary-15min'!D57:D60))","v":41},{"$f":"IF(COUNTIF('Volume Summary-15min'!E57:E60, \"-\")=4, \"-\", SUM('Volume Summary-15min'!E57:E60))","v":32},{"$f":"IF(COUNTIF('Volume Summary-15min'!F57:F60, \"-\")=4, \"-\", SUM('Volume Summary-15min'!F57:F60))","v":34},{"$f":"IF(COUNTIF('Volume Summary-15min'!G57:G60, \"-\")=4, \"-\", SUM('Volume Summary-15min'!G57:G60))","v":30},{"$f":"IF(COUNTIF('Volume Summary-15min'!H57:H60, \"-\")=4, \"-\", SUM('Volume Summary-15min'!H57:H60))","v":40},{"$f":"IF(COUNTIF('Volume Summary-15min'!I57:I60, \"-\")=4, \"-\", SUM('Volume Summary-15min'!I57:I60))","v":17},{"$f":"IF(COUNTIF('Volume Summary-15min'!J57:J60, \"-\")=4, \"-\", SUM('Volume Summary-15min'!J57:J60))","v":34.200000000000003},{"$f":"IF(COUNTIF('Volume Summary-15min'!K57:K60, \"-\")=4, \"-\", SUM('Volume Summary-15min'!K57:K60))","v":32.571428571428577}]
[null,"11:00:00",{"$f":"IF(COUNTIF('Volume Summary-15min'!C61:C64,\"-\")=4,\"-\",SUM('Volume Summary-15min'!C61:C64))","v":21},{"$f":"IF(COUNTIF('Volume Summary-15min'!D61:D64,\"-\")=4,\"-\",SUM('Volume Summary-15min'!D61:D64))","v":21},{"$f":"IF(COUNTIF('Volume Summary-15min'!E61:E64,\"-\")=4,\"-\",SUM('Volume Summary-15min'!E61:E64))","v":37},{"$f":"IF(COUNTIF('Volume Summary-15min'!F61:F64,\"-\")=4,\"-\",SUM('Volume Summary-15min'!F61:F64))","v":29},{"$f":"IF(COUNTIF('Volume Summary-15min'!G61:G64,\"-\")=4,\"-\",SUM('Volume Summary-15min'!G61:G64))","v":26},{"$f":"IF(COUNTIF('Volume Summary-15min'!H61:H64,\"-\")=4,\"-\",SUM('Volume Summary-15min'!H61:H64))","v":30},{"$f":"IF(COUNTIF('Volume Summary-15min'!I61:I64,\"-\")=4,\"-\",SUM('Volume Summary-15min'!I61:I64))","v":25},{"$f":"IF(COUNTIF('Volume Summary-15min'!J61:J64,\"-\")=4,\"-\",SUM('Volume Summary-15min'!J61:J64))","v":26.8},{"$f":"IF(COUNTIF('Volume Summary-15min'!K61:K64,\"-\")=4,\"-\",SUM('Volume Summary-15min'!K61:K64))","v":27.000000000000004}]
[null,"12:00:00",{"$f":"IF(COUNTIF('Volume Summary-15min'!C65:C68, \"-\")=4, \"-\", SUM('Volume Summary-15min'!C65:C68))","v":34},{"$f":"IF(COUNTIF('Volume Summary-15min'!D65:D68, \"-\")=4, \"-\", SUM('Volume Summary-15min'!D65:D68))","v":20},{"$f":"IF(COUNTIF('Volume Summary-15min'!E65:E68, \"-\")=4, \"-\", SUM('Volume Summary-15min'!E65:E68))","v":22},{"$f":"IF(COUNTIF('Volume Summary-15min'!F65:F68, \"-\")=4, \"-\", SUM('Volume Summary-15min'!F65:F68))","v":24},{"$f":"IF(COUNTIF('Volume Summary-15min'!G65:G68, \"-\")=4, \"-\", SUM('Volume Summary-15min'!G65:G68))","v":39},{"$f":"IF(COUNTIF('Volume Summary-15min'!H65:H68, \"-\")=4, \"-\", SUM('Volume Summary-15min'!H65:H68))","v":35},{"$f":"IF(COUNTIF('Volume Summary-15min'!I65:I68, \"-\")=4, \"-\", SUM('Volume Summary-15min'!I65:I68))","v":29},{"$f":"IF(COUNTIF('Volume Summary-15min'!J65:J68, \"-\")=4, \"-\", SUM('Volume Summary-15min'!J65:J68))","v":27.8},{"$f":"IF(COUNTIF('Volume Summary-15min'!K65:K68, \"-\")=4, \"-\", SUM('Volume Summary-15min'!K65:K68))","v":29}]
[null,"13:00:00",{"$f":"IF(COUNTIF('Volume Summary-15min'!C69:C72, \"-\")=4, \"-\", SUM('Volume Summary-15min'!C69:C72))","v":28},{"$f":"IF(COUNTIF('Volume Summary-15min'!D69:D72, \"-\")=4, \"-\", SUM('Volume Summary-15min'!D69:D72))","v":25},{"$f":"IF(COUNTIF('Volume Summary-15min'!E69:E72, \"-\")=4, \"-\", SUM('Volume Summary-15min'!E69:E72))","v":28},{"$f":"IF(COUNTIF('Volume Summary-15min'!F69:F72, \"-\")=4, \"-\", SUM('Volume Summary-15min'!F69:F72))","v":26},{"$f":"IF(COUNTIF('Volume Summary-15min'!G69:G72, \"-\")=4, \"-\", SUM('Volume Summary-15min'!G69:G72))","v":40},{"$f":"IF(COUNTIF('Volume Summary-15min'!H69:H72, \"-\")=4, \"-\", SUM('Volume Summary-15min'!H69:H72))","v":34},{"$f":"IF(COUNTIF('Volume Summary-15min'!I69:I72, \"-\")=4, \"-\", SUM('Volume Summary-15min'!I69:I72))","v":38},{"$f":"IF(COUNTIF('Volume Summary-15min'!J69:J72, \"-\")=4, \"-\", SUM('Volume Summary-15min'!J69:J72))","v":29.4},{"$f":"IF(COUNTIF('Volume Summary-15min'!K69:K72, \"-\")=4, \"-\", SUM('Volume Summary-15min'!K69:K72))","v":31.285714285714288}]
[null,"14:00:00",{"$f":"IF(COUNTIF('Volume Summary-15min'!C73:C76,\"-\")=4,\"-\",SUM('Volume Summary-15min'!C73:C76))","v":26},{"$f":"IF(COUNTIF('Volume Summary-15min'!D73:D76,\"-\")=4,\"-\",SUM('Volume Summary-15min'!D73:D76))","v":21},{"$f":"IF(COUNTIF('Volume Summary-15min'!E73:E76,\"-\")=4,\"-\",SUM('Volume Summary-15min'!E73:E76))","v":18},{"$f":"IF(COUNTIF('Volume Summary-15min'!F73:F76,\"-\")=4,\"-\",SUM('Volume Summary-15min'!F73:F76))","v":12},{"$f":"IF(COUNTIF('Volume Summary-15min'!G73:G76,\"-\")=4,\"-\",SUM('Volume Summary-15min'!G73:G76))","v":20},{"$f":"IF(COUNTIF('Volume Summary-15min'!H73:H76,\"-\")=4,\"-\",SUM('Volume Summary-15min'!H73:H76))","v":34},{"$f":"IF(COUNTIF('Volume Summary-15min'!I73:I76,\"-\")=4,\"-\",SUM('Volume Summary-15min'!I73:I76))","v":33},{"$f":"IF(COUNTIF('Volume Summary-15min'!J73:J76,\"-\")=4,\"-\",SUM('Volume Summary-15min'!J73:J76))","v":19.400000000000002},{"$f":"IF(COUNTIF('Volume Summary-15min'!K73:K76,\"-\")=4,\"-\",SUM('Volume Summary-15min'!K73:K76))","v":23.428571428571431}]
[null,"15:00:00",{"$f":"IF(COUNTIF('Volume Summary-15min'!C77:C80,\"-\")=4,\"-\",SUM('Volume Summary-15min'!C77:C80))","v":28},{"$f":"IF(COUNTIF('Volume Summary-15min'!D77:D80,\"-\")=4,\"-\",SUM('Volume Summary-15min'!D77:D80))","v":21},{"$f":"IF(COUNTIF('Volume Summary-15min'!E77:E80,\"-\")=4,\"-\",SUM('Volume Summary-15min'!E77:E80))","v":22},{"$f":"IF(COUNTIF('Volume Summary-15min'!F77:F80,\"-\")=4,\"-\",SUM('Volume Summary-15min'!F77:F80))","v":23},{"$f":"IF(COUNTIF('Volume Summary-15min'!G77:G80,\"-\")=4,\"-\",SUM('Volume Summary-15min'!G77:G80))","v":23},{"$f":"IF(COUNTIF('Volume Summary-15min'!H77:H80,\"-\")=4,\"-\",SUM('Volume Summary-15min'!H77:H80))","v":21},{"$f":"IF(COUNTIF('Volume Summary-15min'!I77:I80,\"-\")=4,\"-\",SUM('Volume Summary-15min'!I77:I80))","v":37},{"$f":"IF(COUNTIF('Volume Summary-15min'!J77:J80,\"-\")=4,\"-\",SUM('Volume Summary-15min'!J77:J80))","v":23.4},{"$f":"IF(COUNTIF('Volume Summary-15min'!K77:K80,\"-\")=4,\"-\",SUM('Volume Summary-15min'!K77:K80))","v":25}]
[null,"16:00:00",{"$f":"IF(COUNTIF('Volume Summary-15min'!C81:C84,\"-\")=4,\"-\",SUM('Volume Summary-15min'!C81:C84))","v":27},{"$f":"IF(COUNTIF('Volume Summary-15min'!D81:D84,\"-\")=4,\"-\",SUM('Volume Summary-15min'!D81:D84))","v":18},{"$f":"IF(COUNTIF('Volume Summary-15min'!E81:E84,\"-\")=4,\"-\",SUM('Volume Summary-15min'!E81:E84))","v":19},{"$f":"IF(COUNTIF('Volume Summary-15min'!F81:F84,\"-\")=4,\"-\",SUM('Volume Summary-15min'!F81:F84))","v":27},{"$f":"IF(COUNTIF('Volume Summary-15min'!G81:G84,\"-\")=4,\"-\",SUM('Volume Summary-15min'!G81:G84))","v":22},{"$f":"IF(COUNTIF('Volume Summary-15min'!H81:H84,\"-\")=4,\"-\",SUM('Volume Summary-15min'!H81:H84))","v":30},{"$f":"IF(COUNTIF('Volume Summary-15min'!I81:I84,\"-\")=4,\"-\",SUM('Volume Summary-15min'!I81:I84))","v":41},{"$f":"IF(COUNTIF('Volume Summary-15min'!J81:J84,\"-\")=4,\"-\",SUM('Volume Summary-15min'!J81:J84))","v":23.7},{"$f":"IF(COUNTIF('Volume Summary-15min'!K81:K84,\"-\")=4,\"-\",SUM('Volume Summary-15min'!K81:K84))","v":27.214285714285715}]
[null,"17:00:00",{"$f":"IF(COUNTIF('Volume Summary-15min'!C85:C88,\"-\")=4,\"-\",SUM('Volume Summary-15min'!C85:C88))","v":28},{"$f":"IF(COUNTIF('Volume Summary-15min'!D85:D88,\"-\")=4,\"-\",SUM('Volume Summary-15min'!D85:D88))","v":28},{"$f":"IF(COUNTIF('Volume Summary-15min'!E85:E88,\"-\")=4,\"-\",SUM('Volume Summary-15min'!E85:E88))","v":25},{"$f":"IF(COUNTIF('Volume Summary-15min'!F85:F88,\"-\")=4,\"-\",SUM('Volume Summary-15min'!F85:F88))","v":23},{"$f":"IF(COUNTIF('Volume Summary-15min'!G85:G88,\"-\")=4,\"-\",SUM('Volume Summary-15min'!G85:G88))","v":16},{"$f":"IF(COUNTIF('Volume Summary-15min'!H85:H88,\"-\")=4,\"-\",SUM('Volume Summary-15min'!H85:H88))","v":33},{"$f":"IF(COUNTIF('Volume Summary-15min'!I85:I88,\"-\")=4,\"-\",SUM('Volume Summary-15min'!I85:I88))","v":23},{"$f":"IF(COUNTIF('Volume Summary-15min'!J85:J88,\"-\")=4,\"-\",SUM('Volume Summary-15min'!J85:J88))","v":24},{"$f":"IF(COUNTIF('Volume Summary-15min'!K85:K88,\"-\")=4,\"-\",SUM('Volume Summary-15min'!K85:K88))","v":25.142857142857142}]
[null,"18:00:00",{"$f":"IF(COUNTIF('Volume Summary-15min'!C89:C92,\"-\")=4,\"-\",SUM('Volume Summary-15min'!C89:C92))","v":25},{"$f":"IF(COUNTIF('Volume Summary-15min'!D89:D92,\"-\")=4,\"-\",SUM('Volume Summary-15min'!D89:D92))","v":41},{"$f":"IF(COUNTIF('Volume Summary-15min'!E89:E92,\"-\")=4,\"-\",SUM('Volume Summary-15min'!E89:E92))","v":22},{"$f":"IF(COUNTIF('Volume Summary-15min'!F89:F92,\"-\")=4,\"-\",SUM('Volume Summary-15min'!F89:F92))","v":23},{"$f":"IF(COUNTIF('Volume Summary-15min'!G89:G92,\"-\")=4,\"-\",SUM('Volume Summary-15min'!G89:G92))","v":43},{"$f":"IF(COUNTIF('Volume Summary-15min'!H89:H92,\"-\")=4,\"-\",SUM('Volume Summary-15min'!H89:H92))","v":42},{"$f":"IF(COUNTIF('Volume Summary-15min'!I89:I92,\"-\")=4,\"-\",SUM('Volume Summary-15min'!I89:I92))","v":41},{"$f":"IF(COUNTIF('Volume Summary-15min'!J89:J92,\"-\")=4,\"-\",SUM('Volume Summary-15min'!J89:J92))","v":30.800000000000004},{"$f":"IF(COUNTIF('Volume Summary-15min'!K89:K92,\"-\")=4,\"-\",SUM('Volume Summary-15min'!K89:K92))","v":33.857142857142854}]
[null,"19:00:00",{"$f":"IF(COUNTIF('Volume Summary-15min'!C93:C96,\"-\")=4,\"-\",SUM('Volume Summary-15min'!C93:C96))","v":37},{"$f":"IF(COUNTIF('Volume Summary-15min'!D93:D96,\"-\")=4,\"-\",SUM('Volume Summary-15min'!D93:D96))","v":31},{"$f":"IF(COUNTIF('Volume Summary-15min'!E93:E96,\"-\")=4,\"-\",SUM('Volume Summary-15min'!E93:E96))","v":34},{"$f":"IF(COUNTIF('Volume Summary-15min'!F93:F96,\"-\")=4,\"-\",SUM('Volume Summary-15min'!F93:F96))","v":12},{"$f":"IF(COUNTIF('Volume Summary-15min'!G93:G96,\"-\")=4,\"-\",SUM('Volume Summary-15min'!G93:G96))","v":29},{"$f":"IF(COUNTIF('Volume Summary-15min'!H93:H96,\"-\")=4,\"-\",SUM('Volume Summary-15min'!H93:H96))","v":37},{"$f":"IF(COUNTIF('Volume Summary-15min'!I93:I96,\"-\")=4,\"-\",SUM('Volume Summary-15min'!I93:I96))","v":46},{"$f":"IF(COUNTIF('Volume Summary-15min'!J93:J96,\"-\")=4,\"-\",SUM('Volume Summary-15min'!J93:J96))","v":28.6},{"$f":"IF(COUNTIF('Volume Summary-15min'!K93:K96,\"-\")=4,\"-\",SUM('Volume Summary-15min'!K93:K96))","v":32.285714285714285}]
[null,"20:00:00",{"$f":"IF(COUNTIF('Volume Summary-15min'!C97:C100,\"-\")=4,\"-\",SUM('Volume Summary-15min'!C97:C100))","v":23},{"$f":"IF(COUNTIF('Volume Summary-15min'!D97:D100,\"-\")=4,\"-\",SUM('Volume Summary-15min'!D97:D100))","v":19},{"$f":"IF(COUNTIF('Volume Summary-15min'!E97:E100,\"-\")=4,\"-\",SUM('Volume Summary-15min'!E97:E100))","v":14},{"$f":"IF(COUNTIF('Volume Summary-15min'!F97:F100,\"-\")=4,\"-\",SUM('Volume Summary-15min'!F97:F100))","v":10},{"$f":"IF(COUNTIF('Volume Summary-15min'!G97:G100,\"-\")=4,\"-\",SUM('Volume Summary-15min'!G97:G100))","v":26},{"$f":"IF(COUNTIF('Volume Summary-15min'!H97:H100,\"-\")=4,\"-\",SUM('Volume Summary-15min'!H97:H100))","v":37},{"$f":"IF(COUNTIF('Volume Summary-15min'!I97:I100,\"-\")=4,\"-\",SUM('Volume Summary-15min'!I97:I100))","v":32},{"$f":"IF(COUNTIF('Volume Summary-15min'!J97:J100,\"-\")=4,\"-\",SUM('Volume Summary-15min'!J97:J100))","v":18.399999999999999},{"$f":"IF(COUNTIF('Volume Summary-15min'!K97:K100,\"-\")=4,\"-\",SUM('Volume Summary-15min'!K97:K100))","v":23}]
[null,"21:00:00",{"$f":"IF(COUNTIF('Volume Summary-15min'!C101:C104,\"-\")=4,\"-\",SUM('Volume Summary-15min'!C101:C104))","v":20},{"$f":"IF(COUNTIF('Volume Summary-15min'!D101:D104,\"-\")=4,\"-\",SUM('Volume Summary-15min'!D101:D104))","v":20},{"$f":"IF(COUNTIF('Volume Summary-15min'!E101:E104,\"-\")=4,\"-\",SUM('Volume Summary-15min'!E101:E104))","v":16},{"$f":"IF(COUNTIF('Volume Summary-15min'!F101:F104,\"-\")=4,\"-\",SUM('Volume Summary-15min'!F101:F104))","v":9},{"$f":"IF(COUNTIF('Volume Summary-15min'!G101:G104,\"-\")=4,\"-\",SUM('Volume Summary-15min'!G101:G104))","v":26},{"$f":"IF(COUNTIF('Volume Summary-15min'!H101:H104,\"-\")=4,\"-\",SUM('Volume Summary-15min'!H101:H104))","v":35},{"$f":"IF(COUNTIF('Volume Summary-15min'!I101:I104,\"-\")=4,\"-\",SUM('Volume Summary-15min'!I101:I104))","v":22},{"$f":"IF(COUNTIF('Volume Summary-15min'!J101:J104,\"-\")=4,\"-\",SUM('Volume Summary-15min'!J101:J104))","v":18.200000000000003},{"$f":"IF(COUNTIF('Volume Summary-15min'!K101:K104,\"-\")=4,\"-\",SUM('Volume Summary-15min'!K101:K104))","v":21.142857142857142}]
[null,"22:00:00",{"$f":"IF(COUNTIF('Volume Summary-15min'!C105:C108,\"-\")=4,\"-\",SUM('Volume Summary-15min'!C105:C108))","v":15},{"$f":"IF(COUNTIF('Volume Summary-15min'!D105:D108,\"-\")=4,\"-\",SUM('Volume Summary-15min'!D105:D108))","v":14},{"$f":"IF(COUNTIF('Volume Summary-15min'!E105:E108,\"-\")=4,\"-\",SUM('Volume Summary-15min'!E105:E108))","v":21},{"$f":"IF(COUNTIF('Volume Summary-15min'!F105:F108,\"-\")=4,\"-\",SUM('Volume Summary-15min'!F105:F108))","v":5},{"$f":"IF(COUNTIF('Volume Summary-15min'!G105:G108,\"-\")=4,\"-\",SUM('Volume Summary-15min'!G105:G108))","v":37},{"$f":"IF(COUNTIF('Volume Summary-15min'!H105:H108,\"-\")=4,\"-\",SUM('Volume Summary-15min'!H105:H108))","v":25},{"$f":"IF(COUNTIF('Volume Summary-15min'!I105:I108,\"-\")=4,\"-\",SUM('Volume Summary-15min'!I105:I108))","v":23},{"$f":"IF(COUNTIF('Volume Summary-15min'!J105:J108,\"-\")=4,\"-\",SUM('Volume Summary-15min'!J105:J108))","v":18.399999999999999},{"$f":"IF(COUNTIF('Volume Summary-15min'!K105:K108,\"-\")=4,\"-\",SUM('Volume Summary-15min'!K105:K108))","v":20}]
[null,"23:00:00",{"$f":"IF(COUNTIF('Volume Summary-15min'!C109:C112,\"-\")=4,\"-\",SUM('Volume Summary-15min'!C109:C112))","v":14},{"$f":"IF(COUNTIF('Volume Summary-15min'!D109:D112,\"-\")=4,\"-\",SUM('Volume Summary-15min'!D109:D112))","v":7},{"$f":"IF(COUNTIF('Volume Summary-15min'!E109:E112,\"-\")=4,\"-\",SUM('Volume Summary-15min'!E109:E112))","v":14},{"$f":"IF(COUNTIF('Volume Summary-15min'!F109:F112,\"-\")=4,\"-\",SUM('Volume Summary-15min'!F109:F112))","v":3},{"$f":"IF(COUNTIF('Volume Summary-15min'!G109:G112,\"-\")=4,\"-\",SUM('Volume Summary-15min'!G109:G112))","v":29},{"$f":"IF(COUNTIF('Volume Summary-15min'!H109:H112,\"-\")=4,\"-\",SUM('Volume Summary-15min'!H109:H112))","v":29},{"$f":"IF(COUNTIF('Volume Summary-15min'!I109:I112,\"-\")=4,\"-\",SUM('Volume Summary-15min'!I109:I112))","v":30},{"$f":"IF(COUNTIF('Volume Summary-15min'!J109:J112,\"-\")=4,\"-\",SUM('Volume Summary-15min'!J109:J112))","v":13.4},{"$f":"IF(COUNTIF('Volume Summary-15min'!K109:K112,\"-\")=4,\"-\",SUM('Volume Summary-15min'!K109:K112))","v":18}]
[null,"Total",{"$f":"SUM(C17:C40)","v":744},734,762,627,739,618,580,{"$f":"SUM(J17:J40)","v":722.3},687.21428571428567]
[]
[null,"07:00-19:00",{"$f":"SUM(C24:C35)","v":578},{"$f":"SUM(D24:D35)","v":608},591,536,536,358,328,570.89999999999986,505.92857142857144]
[null,"06:00-22:00",{"$f":"SUM(C23:C38)","v":679},{"$f":"SUM(D23:D38)","v":696},681,585,629,483,434,655.09999999999991,599.07142857142856]
[null,"06:00-24:00",{"$f":"SUM(C23:C40)","v":708},{"$f":"SUM(D23:D40)","v":717},716,593,695,537,487,686.89999999999986,637.07142857142856]
[null,"00:00-24:00",{"$f":"SUM(C17:C40)","v":744},{"$f":"SUM(D17:D40)","v":734},762,627,739,618,580,722.3,687.21428571428567]

{"sheet":"Custom Volume Graph","index":7,"n_rows":8,"n_cols":19,"rows_kept":8,"cut":false,"hidden":false,"merged":[[7,1,9,6]]}
[]
[]
[]
[null,null,null,null,null,null,null,null,null,null,null,null,null,null,null,null,null,null,{"$f":"Input_Details!$I$1&\" - \"&Input_Details!$H$1","v":"3854-LON - Swan Street"}]
[null,null,null,null,null,null,null,null,null,null,null,null,null,null,null,null,null,null,{"$f":"\"prepared for \"&Input_Details!$J$1","v":"prepared for LB of Southwark"}]
[null,null,null,null,null,null,null,null,null,null,null,null,null,null,null,null,null,null,{"$f":"TEXT(MIN('Volume Summary-15min'!$C$14:$I$14), \"dd mmm yyyy\")&\" - \"&TEXT(MAX('Volume Summary-15min'!$C$14:$I$14), \"dd mmm yyyy\")","v":"17 Nov 2017 - 23 Nov 2017"}]
[]
[null,"Customisable Volume Graph"]

{"sheet":"Class Summary","index":8,"n_rows":114,"n_cols":32,"rows_kept":114,"cut":false,"hidden":false,"merged":[[7,1,9,14],[12,17,13,17],[12,21,13,21],[11,2,11,7],[11,9,11,14],[12,3,13,3],[12,4,13,4],[12,5,13,5],[12,6,13,6],[12,7,13,7],[12,18,13,18],[12,20,13,20],[12,9,13,9],[12,16,13,16],[11,1,13,1],[12,2,13,2],[12,11,13,11],[12,12,13,12],[11,16,11,21],[12,13,13,13],[12,10,13,10],[12,14,13,14],[12,19,13,19],[1,8,1,10],[2,8,2,10],[3,8,3,10],[5,8,5,9],[0,16,0,21]]}
[]
[]
[]
[null,null,null,null,null,null,null,null,null,null,null,null,null,null,null,null,null,null,null,null,null,null,null,null,null,null,null,null,null,null,null,{"$f":"Input_Details!$I$1&\" - \"&Input_Details!$H$1","v":"3854-LON - Swan Street"}]
[null,null,null,null,null,null,null,null,null,null,null,null,null,null,null,null,null,null,null,null,null,null,null,null,null,null,null,null,null,null,null,{"$f":"\"prepared for \"&Input_Details!$J$1","v":"prepared for LB of Southwark"}]
[null,null,null,null,null,null,null,null,null,null,null,null,null,null,null,null,null,null,null,null,null,null,null,null,null,null,null,null,null,null,null,{"$f":"TEXT(MIN('Volume Summary-15min'!$C$14:$I$14), \"dd mmm yyyy\")&\" - \"&TEXT(MAX('Volume Summary-15min'!$C$14:$I$14), \"dd mmm yyyy\")","v":"17 Nov 2017 - 23 Nov 2017"}]
[]
[null,{"$f":"\"Class Summary - \"&TEXT(AF10, \"dd mmm yyyy\")","v":"Class Summary - Site 1: Data loss Tue 21st Nov 16:15 - 16:30."}]
[]
[null,null,null,null,null,null,null,null,null,null,null,null,null,null,null,null,null,null,null,null,null,null,null,null,null,null,null,null,null,null,null,{"$f":"OFFSET(Input_Details!$Q$3, 0, Input_Details!$B$25-1)","v":"Site 1: Data loss Tue 21st Nov 16:15 - 16:30."}]
[]
[null,"Time",{"$f":"Input_Details!K3","v":"Northbound"},null,null,null,null,null,null,{"$f":"+Input_Details!L3","v":"Southbound"},null,null,null,null,null,null,"Combined"]
[null,null,"M'Cycle & P'Cycle","Cars","LGV & PSV 2Axle","OGV1 & PSV 3Axle","OGV2","Total",null,{"$f":"C13","v":"M'Cycle & P'Cycle"},{"$f":"D13","v":"Cars"},"LGV & PSV 2Axle","OGV1 & PSV 3Axle","OGV2","Total",null,{"$f":"J13","v":"M'Cycle & P'Cycle"},"Cars","LGV/PSV 2Axle","OGV1/PSV 3Axle","OGV2","Total"]
[]
[]
[null,"Total Traffic % ",{"$f":"IFERROR(C114/$H$114, \"-\")","v":0.48130970510868076},{"$f":"IFERROR(D114/$H$114, \"-\")","v":0.40509483594074475},4.8248650145368978E-2,3.3227190917901155E-3,6.2024089713415505E-2,"-",null,{"$f":"IFERROR(J114/$O$114, \"-\")","v":0.49007321007569199},{"$f":"IFERROR(K114/$O$114, \"-\")","v":0.40507507134880272},4.5973445836952488E-2,3.7225462216155863E-3,5.5155726516937606E-2,"-",null,{"$f":"IFERROR(Q114/$V$114, \"-\")","v":0.48593116084282156},{"$f":"IFERROR(R114/$V$114, \"-\")","v":0.40508441303494297},4.7048815600052377E-2,3.5335689045936404E-3,5.8402041617589336E-2,"-"]
[]
[null,"00:00:00",{"$f":"OFFSET('Raw Data'!DR4,Input_Details!$B$29,0)","v":0.6},{"$f":"OFFSET('Raw Data'!DS4,Input_Details!$B$29,0)","v":2.4},{"$f":"OFFSET('Raw Data'!DT4,Input_Details!$B$29,0)","v":0.2},{"$f":"OFFSET('Raw Data'!DU4,Input_Details!$B$29,0)","v":0.2},{"$f":"OFFSET('Raw Data'!DV4,Input_Details!$B$29,0)","v":0},{"$f":"OFFSET('Raw Data'!DW4,Input_Details!$B$29,0)","v":3.4000000000000004},null,{"$f":"OFFSET('Raw Data'!DX4,Input_Details!$B$29,0)","v":1.8},{"$f":"OFFSET('Raw Data'!DY4,Input_Details!$B$29,0)","v":1.8},{"$f":"OFFSET('Raw Data'!DZ4,Input_Details!$B$29,0)","v":0},{"$f":"OFFSET('Raw Data'!EA4,Input_Details!$B$29,0)","v":0},{"$f":"OFFSET('Raw Data'!EB4,Input_Details!$B$29,0)","v":0.4},{"$f":"OFFSET('Raw Data'!EC4,Input_Details!$B$29,0)","v":4},null,{"$f":"OFFSET('Raw Data'!ED4,Input_Details!$B$29,0)","v":2.4},{"$f":"OFFSET('Raw Data'!EE4,Input_Details!$B$29,0)","v":4.2},{"$f":"OFFSET('Raw Data'!EF4,Input_Details!$B$29,0)","v":0.2},{"$f":"OFFSET('Raw Data'!EG4,Input_Details!$B$29,0)","v":0.2},{"$f":"OFFSET('Raw Data'!EH4,Input_Details!$B$29,0)","v":0.4},{"$f":"OFFSET('Raw Data'!EI4,Input_Details!$B$29,0)","v":7.4}]
[null,"00:15:00",{"$f":"OFFSET('Raw Data'!DR5,Input_Details!$B$29,0)","v":0.4},{"$f":"OFFSET('Raw Data'!DS5,Input_Details!$B$29,0)","v":3.6},{"$f":"OFFSET('Raw Data'!DT5,Input_Details!$B$29,0)","v":0},{"$f":"OFFSET('Raw Data'!DU5,Input_Details!$B$29,0)","v":0},{"$f":"OFFSET('Raw Data'!DV5,Input_Details!$B$29,0)","v":0},{"$f":"OFFSET('Raw Data'!DW5,Input_Details!$B$29,0)","v":4},null,{"$f":"OFFSET('Raw Data'!DX5,Input_Details!$B$29,0)","v":0.4},{"$f":"OFFSET('Raw Data'!DY5,Input_Details!$B$29,0)","v":2.2000000000000002},{"$f":"OFFSET('Raw Data'!DZ5,Input_Details!$B$29,0)","v":0},{"$f":"OFFSET('Raw Data'!EA5,Input_Details!$B$29,0)","v":0},{"$f":"OFFSET('Raw Data'!EB5,Input_Details!$B$29,0)","v":0},{"$f":"OFFSET('Raw Data'!EC5,Input_Details!$B$29,0)","v":2.6},null,{"$f":"OFFSET('Raw Data'!ED5,Input_Details!$B$29,0)","v":0.8},{"$f":"OFFSET('Raw Data'!EE5,Input_Details!$B$29,0)","v":5.8000000000000007},{"$f":"OFFSET('Raw Data'!EF5,Input_Details!$B$29,0)","v":0},{"$f":"OFFSET('Raw Data'!EG5,Input_Details!$B$29,0)","v":0},{"$f":"OFFSET('Raw Data'!EH5,Input_Details!$B$29,0)","v":0},{"$f":"OFFSET('Raw Data'!EI5,Input_Details!$B$29,0)","v":6.6}]
[null,"00:30:00",{"$f":"OFFSET('Raw Data'!DR6,Input_Details!$B$29,0)","v":0},{"$f":"OFFSET('Raw Data'!DS6,Input_Details!$B$29,0)","v":1.8},{"$f":"OFFSET('Raw Data'!DT6,Input_Details!$B$29,0)","v":0},{"$f":"OFFSET('Raw Data'!DU6,Input_Details!$B$29,0)","v":0},{"$f":"OFFSET('Raw Data'!DV6,Input_Details!$B$29,0)","v":0},{"$f":"OFFSET('Raw Data'!DW6,Input_Details!$B$29,0)","v":1.8},null,{"$f":"OFFSET('Raw Data'!DX6,Input_Details!$B$29,0)","v":0.2},{"$f":"OFFSET('Raw Data'!DY6,Input_Details!$B$29,0)","v":1},{"$f":"OFFSET('Raw Data'!DZ6,Input_Details!$B$29,0)","v":0.2},{"$f":"OFFSET('Raw Data'!EA6,Input_Details!$B$29,0)","v":0},{"$f":"OFFSET('Raw Data'!EB6,Input_Details!$B$29,0)","v":0},{"$f":"OFFSET('Raw Data'!EC6,Input_Details!$B$29,0)","v":1.4},null,{"$f":"OFFSET('Raw Data'!ED6,Input_Details!$B$29,0)","v":0.2},{"$f":"OFFSET('Raw Data'!EE6,Input_Details!$B$29,0)","v":2.8},{"$f":"OFFSET('Raw Data'!EF6,Input_Details!$B$29,0)","v":0.2},{"$f":"OFFSET('Raw Data'!EG6,Input_Details!$B$29,0)","v":0},{"$f":"OFFSET('Raw Data'!EH6,Input_Details!$B$29,0)","v":0},{"$f":"OFFSET('Raw Data'!EI6,Input_Details!$B$29,0)","v":3.2}]
[null,"00:45:00",{"$f":"OFFSET('Raw Data'!DR7,Input_Details!$B$29,0)","v":0.2},{"$f":"OFFSET('Raw Data'!DS7,Input_Details!$B$29,0)","v":2.4},{"$f":"OFFSET('Raw Data'!DT7,Input_Details!$B$29,0)","v":0},{"$f":"OFFSET('Raw Data'!DU7,Input_Details!$B$29,0)","v":0},{"$f":"OFFSET('Raw Data'!DV7,Input_Details!$B$29,0)","v":0},{"$f":"OFFSET('Raw Data'!DW7,Input_Details!$B$29,0)","v":2.6},null,{"$f":"OFFSET('Raw Data'!DX7,Input_Details!$B$29,0)","v":0.8},{"$f":"OFFSET('Raw Data'!DY7,Input_Details!$B$29,0)","v":0.8},{"$f":"OFFSET('Raw Data'!DZ7,Input_Details!$B$29,0)","v":0},{"$f":"OFFSET('Raw Data'!EA7,Input_Details!$B$29,0)","v":0},{"$f":"OFFSET('Raw Data'!EB7,Input_Details!$B$29,0)","v":0},{"$f":"OFFSET('Raw Data'!EC7,Input_Details!$B$29,0)","v":1.6},null,{"$f":"OFFSET('Raw Data'!ED7,Input_Details!$B$29,0)","v":1},{"$f":"OFFSET('Raw Data'!EE7,Input_Details!$B$29,0)","v":3.2},{"$f":"OFFSET('Raw Data'!EF7,Input_Details!$B$29,0)","v":0},{"$f":"OFFSET('Raw Data'!EG7,Input_Details!$B$29,0)","v":0},{"$f":"OFFSET('Raw Data'!EH7,Input_Details!$B$29,0)","v":0},{"$f":"OFFSET('Raw Data'!EI7,Input_Details!$B$29,0)","v":4.2}]
[null,"01:00:00",{"$f":"OFFSET('Raw Data'!DR8,Input_Details!$B$29,0)","v":0.2},{"$f":"OFFSET('Raw Data'!DS8,Input_Details!$B$29,0)","v":0.8},{"$f":"OFFSET('Raw Data'!DT8,Input_Details!$B$29,0)","v":0},{"$f":"OFFSET('Raw Data'!DU8,Input_Details!$B$29,0)","v":0},{"$f":"OFFSET('Raw Data'!DV8,Input_Details!$B$29,0)","v":0},{"$f":"OFFSET('Raw Data'!DW8,Input_Details!$B$29,0)","v":1},null,{"$f":"OFFSET('Raw Data'!DX8,Input_Details!$B$29,0)","v":0.2},{"$f":"OFFSET('Raw Data'!DY8,Input_Details!$B$29,0)","v":0.8},{"$f":"OFFSET('Raw Data'!DZ8,Input_Details!$B$29,0)","v":0},{"$f":"OFFSET('Raw Data'!EA8,Input_Details!$B$29,0)","v":0},{"$f":"OFFSET('Raw Data'!EB8,Input_Details!$B$29,0)","v":0},{"$f":"OFFSET('Raw Data'!EC8,Input_Details!$B$29,0)","v":1},null,{"$f":"OFFSET('Raw Data'!ED8,Input_Details!$B$29,0)","v":0.4},{"$f":"OFFSET('Raw Data'!EE8,Input_Details!$B$29,0)","v":1.6},{"$f":"OFFSET('Raw Data'!EF8,Input_Details!$B$29,0)","v":0},{"$f":"OFFSET('Raw Data'!EG8,Input_Details!$B$29,0)","v":0},{"$f":"OFFSET('Raw Data'!EH8,Input_Details!$B$29,0)","v":0},{"$f":"OFFSET('Raw Data'!EI8,Input_Details!$B$29,0)","v":2}]
[null,"01:15:00",{"$f":"OFFSET('Raw Data'!DR9,Input_Details!$B$29,0)","v":0},{"$f":"OFFSET('Raw Data'!DS9,Input_Details!$B$29,0)","v":1.4},{"$f":"OFFSET('Raw Data'!DT9,Input_Details!$B$29,0)","v":0.2},{"$f":"OFFSET('Raw Data'!DU9,Input_Details!$B$29,0)","v":0},{"$f":"OFFSET('Raw Data'!DV9,Input_Details!$B$29,0)","v":0},{"$f":"OFFSET('Raw Data'!DW9,Input_Details!$B$29,0)","v":1.5999999999999999},null,{"$f":"OFFSET('Raw Data'!DX9,Input_Details!$B$29,0)","v":0.6},{"$f":"OFFSET('Raw Data'!DY9,Input_Details!$B$29,0)","v":1},{"$f":"OFFSET('Raw Data'!DZ9,Input_Details!$B$29,0)","v":0.2},{"$f":"OFFSET('Raw Data'!EA9,Input_Details!$B$29,0)","v":0},{"$f":"OFFSET('Raw Data'!EB9,Input_Details!$B$29,0)","v":0},{"$f":"OFFSET('Raw Data'!EC9,Input_Details!$B$29,0)","v":1.8},null,{"$f":"OFFSET('Raw Data'!ED9,Input_Details!$B$29,0)","v":0.6},{"$f":"OFFSET('Raw Data'!EE9,Input_Details!$B$29,0)","v":2.4},{"$f":"OFFSET('Raw Data'!EF9,Input_Details!$B$29,0)","v":0.4},{"$f":"OFFSET('Raw Data'!EG9,Input_Details!$B$29,0)","v":0},{"$f":"OFFSET('Raw Data'!EH9,Input_Details!$B$29,0)","v":0},{"$f":"OFFSET('Raw Data'!EI9,Input_Details!$B$29,0)","v":3.4}]
[null,"01:30:00",{"$f":"OFFSET('Raw Data'!DR10,Input_Details!$B$29,0)","v":0},{"$f":"OFFSET('Raw Data'!DS10,Input_Details!$B$29,0)","v":1},{"$f":"OFFSET('Raw Data'!DT10,Input_Details!$B$29,0)","v":0},{"$f":"OFFSET('Raw Data'!DU10,Input_Details!$B$29,0)","v":0},{"$f":"OFFSET('Raw Data'!DV10,Input_Details!$B$29,0)","v":0},{"$f":"OFFSET('Raw Data'!DW10,Input_Details!$B$29,0)","v":1},null,{"$f":"OFFSET('Raw Data'!DX10,Input_Details!$B$29,0)","v":0},{"$f":"OFFSET('Raw Data'!DY10,Input_Details!$B$29,0)","v":0.8},{"$f":"OFFSET('Raw Data'!DZ10,Input_Details!$B$29,0)","v":0.2},{"$f":"OFFSET('Raw Data'!EA10,Input_Details!$B$29,0)","v":0},{"$f":"OFFSET('Raw Data'!EB10,Input_Details!$B$29,0)","v":0},{"$f":"OFFSET('Raw Data'!EC10,Input_Details!$B$29,0)","v":1},null,{"$f":"OFFSET('Raw Data'!ED10,Input_Details!$B$29,0)","v":0},{"$f":"OFFSET('Raw Data'!EE10,Input_Details!$B$29,0)","v":1.8},{"$f":"OFFSET('Raw Data'!EF10,Input_Details!$B$29,0)","v":0.2},{"$f":"OFFSET('Raw Data'!EG10,Input_Details!$B$29,0)","v":0},{"$f":"OFFSET('Raw Data'!EH10,Input_Details!$B$29,0)","v":0},{"$f":"OFFSET('Raw Data'!EI10,Input_Details!$B$29,0)","v":2}]
[null,"01:45:00",{"$f":"OFFSET('Raw Data'!DR11,Input_Details!$B$29,0)","v":0.2},{"$f":"OFFSET('Raw Data'!DS11,Input_Details!$B$29,0)","v":1},{"$f":"OFFSET('Raw Data'!DT11,Input_Details!$B$29,0)","v":0.2},{"$f":"OFFSET('Raw Data'!DU11,Input_Details!$B$29,0)","v":0},{"$f":"OFFSET('Raw Data'!DV11,Input_Details!$B$29,0)","v":0},{"$f":"OFFSET('Raw Data'!DW11,Input_Details!$B$29,0)","v":1.4},null,{"$f":"OFFSET('Raw Data'!DX11,Input_Details!$B$29,0)","v":0.4},{"$f":"OFFSET('Raw Data'!DY11,Input_Details!$B$29,0)","v":0.4},{"$f":"OFFSET('Raw Data'!DZ11,Input_Details!$B$29,0)","v":0},{"$f":"OFFSET('Raw Data'!EA11,Input_Details!$B$29,0)","v":0},{"$f":"OFFSET('Raw Data'!EB11,Input_Details!$B$29,0)","v":0},{"$f":"OFFSET('Raw Data'!EC11,Input_Details!$B$29,0)","v":0.8},null,{"$f":"OFFSET('Raw Data'!ED11,Input_Details!$B$29,0)","v":0.60000000000000009},{"$f":"OFFSET('Raw Data'!EE11,Input_Details!$B$29,0)","v":1.4},{"$f":"OFFSET('Raw Data'!EF11,Input_Details!$B$29,0)","v":0.2},{"$f":"OFFSET('Raw Data'!EG11,Input_Details!$B$29,0)","v":0},{"$f":"OFFSET('Raw Data'!EH11,Input_Details!$B$29,0)","v":0},{"$f":"OFFSET('Raw Data'!EI11,Input_Details!$B$29,0)","v":2.2000000000000002}]
[null,"02:00:00",{"$f":"OFFSET('Raw Data'!DR12,Input_Details!$B$29,0)","v":0},{"$f":"OFFSET('Raw Data'!DS12,Input_Details!$B$29,0)","v":1.4},{"$f":"OFFSET('Raw Data'!DT12,Input_Details!$B$29,0)","v":0},{"$f":"OFFSET('Raw Data'!DU12,Input_Details!$B$29,0)","v":0},{"$f":"OFFSET('Raw Data'!DV12,Input_Details!$B$29,0)","v":0},{"$f":"OFFSET('Raw Data'!DW12,Input_Details!$B$29,0)","v":1.4},null,{"$f":"OFFSET('Raw Data'!DX12,Input_Details!$B$29,0)","v":0.4},{"$f":"OFFSET('Raw Data'!DY12,Input_Details!$B$29,0)","v":1},{"$f":"OFFSET('Raw Data'!DZ12,Input_Details!$B$29,0)","v":0},{"$f":"OFFSET('Raw Data'!EA12,Input_Details!$B$29,0)","v":0},{"$f":"OFFSET('Raw Data'!EB12,Input_Details!$B$29,0)","v":0},{"$f":"OFFSET('Raw Data'!EC12,Input_Details!$B$29,0)","v":1.4},null,{"$f":"OFFSET('Raw Data'!ED12,Input_Details!$B$29,0)","v":0.4},{"$f":"OFFSET('Raw Data'!EE12,Input_Details!$B$29,0)","v":2.4},{"$f":"OFFSET('Raw Data'!EF12,Input_Details!$B$29,0)","v":0},{"$f":"OFFSET('Raw Data'!EG12,Input_Details!$B$29,0)","v":0},{"$f":"OFFSET('Raw Data'!EH12,Input_Details!$B$29,0)","v":0},{"$f":"OFFSET('Raw Data'!EI12,Input_Details!$B$29,0)","v":2.8}]
[null,"02:15:00",{"$f":"OFFSET('Raw Data'!DR13,Input_Details!$B$29,0)","v":0},{"$f":"OFFSET('Raw Data'!DS13,Input_Details!$B$29,0)","v":1.2},{"$f":"OFFSET('Raw Data'!DT13,Input_Details!$B$29,0)","v":0},{"$f":"OFFSET('Raw Data'!DU13,Input_Details!$B$29,0)","v":0},{"$f":"OFFSET('Raw Data'!DV13,Input_Details!$B$29,0)","v":0},{"$f":"OFFSET('Raw Data'!DW13,Input_Details!$B$29,0)","v":1.2},null,{"$f":"OFFSET('Raw Data'!DX13,Input_Details!$B$29,0)","v":0.2},{"$f":"OFFSET('Raw Data'!DY13,Input_Details!$B$29,0)","v":0.2},{"$f":"OFFSET('Raw Data'!DZ13,Input_Details!$B$29,0)","v":0},{"$f":"OFFSET('Raw Data'!EA13,Input_Details!$B$29,0)","v":0},{"$f":"OFFSET('Raw Data'!EB13,Input_Details!$B$29,0)","v":0},{"$f":"OFFSET('Raw Data'!EC13,Input_Details!$B$29,0)","v":0.4},null,{"$f":"OFFSET('Raw Data'!ED13,Input_Details!$B$29,0)","v":0.2},{"$f":"OFFSET('Raw Data'!EE13,Input_Details!$B$29,0)","v":1.4},{"$f":"OFFSET('Raw Data'!EF13,Input_Details!$B$29,0)","v":0},{"$f":"OFFSET('Raw Data'!EG13,Input_Details!$B$29,0)","v":0},{"$f":"OFFSET('Raw Data'!EH13,Input_Details!$B$29,0)","v":0},{"$f":"OFFSET('Raw Data'!EI13,Input_Details!$B$29,0)","v":1.6}]
[null,"02:30:00",{"$f":"OFFSET('Raw Data'!DR14,Input_Details!$B$29,0)","v":0},{"$f":"OFFSET('Raw Data'!DS14,Input_Details!$B$29,0)","v":0.8},{"$f":"OFFSET('Raw Data'!DT14,Input_Details!$B$29,0)","v":0.2},{"$f":"OFFSET('Raw Data'!DU14,Input_Details!$B$29,0)","v":0},{"$f":"OFFSET('Raw Data'!DV14,Input_Details!$B$29,0)","v":0},{"$f":"OFFSET('Raw Data'!DW14,Input_Details!$B$29,0)","v":1},null,{"$f":"OFFSET('Raw Data'!DX14,Input_Details!$B$29,0)","v":0.4},{"$f":"OFFSET('Raw Data'!DY14,Input_Details!$B$29,0)","v":0},{"$f":"OFFSET('Raw Data'!DZ14,Input_Details!$B$29,0)","v":0},{"$f":"OFFSET('Raw Data'!EA14,Input_Details!$B$29,0)","v":0},{"$f":"OFFSET('Raw Data'!EB14,Input_Details!$B$29,0)","v":0},{"$f":"OFFSET('Raw Data'!EC14,Input_Details!$B$29,0)","v":0.4},null,{"$f":"OFFSET('Raw Data'!ED14,Input_Details!$B$29,0)","v":0.4},{"$f":"OFFSET('Raw Data'!EE14,Input_Details!$B$29,0)","v":0.8},{"$f":"OFFSET('Raw Data'!EF14,Input_Details!$B$29,0)","v":0.2},{"$f":"OFFSET('Raw Data'!EG14,Input_Details!$B$29,0)","v":0},{"$f":"OFFSET('Raw Data'!EH14,Input_Details!$B$29,0)","v":0},{"$f":"OFFSET('Raw Data'!EI14,Input_Details!$B$29,0)","v":1.4}]
[null,"02:45:00",{"$f":"OFFSET('Raw Data'!DR15,Input_Details!$B$29,0)","v":0.2},{"$f":"OFFSET('Raw Data'!DS15,Input_Details!$B$29,0)","v":0.4},{"$f":"OFFSET('Raw Data'!DT15,Input_Details!$B$29,0)","v":0},{"$f":"OFFSET('Raw Data'!DU15,Input_Details!$B$29,0)","v":0},{"$f":"OFFSET('Raw Data'!DV15,Input_Details!$B$29,0)","v":0},{"$f":"OFFSET('Raw Data'!DW15,Input_Details!$B$29,0)","v":0.60000000000000009},null,{"$f":"OFFSET('Raw Data'!DX15,Input_Details!$B$29,0)","v":0},{"$f":"OFFSET('Raw Data'!DY15,Input_Details!$B$29,0)","v":0.6},{"$f":"OFFSET('Raw Data'!DZ15,Input_Details!$B$29,0)","v":0},{"$f":"OFFSET('Raw Data'!EA15,Input_Details!$B$29,0)","v":0},{"$f":"OFFSET('Raw Data'!EB15,Input_Details!$B$29,0)","v":0},{"$f":"OFFSET('Raw Data'!EC15,Input_Details!$B$29,0)","v":0.6},null,{"$f":"OFFSET('Raw Data'!ED15,Input_Details!$B$29,0)","v":0.2},{"$f":"OFFSET('Raw Data'!EE15,Input_Details!$B$29,0)","v":1},{"$f":"OFFSET('Raw Data'!EF15,Input_Details!$B$29,0)","v":0},{"$f":"OFFSET('Raw Data'!EG15,Input_Details!$B$29,0)","v":0},{"$f":"OFFSET('Raw Data'!EH15,Input_Details!$B$29,0)","v":0},{"$f":"OFFSET('Raw Data'!EI15,Input_Details!$B$29,0)","v":1.2000000000000002}]
[null,"03:00:00",{"$f":"OFFSET('Raw Data'!DR16,Input_Details!$B$29,0)","v":0.4},{"$f":"OFFSET('Raw Data'!DS16,Input_Details!$B$29,0)","v":0.2},{"$f":"OFFSET('Raw Data'!DT16,Input_Details!$B$29,0)","v":0},{"$f":"OFFSET('Raw Data'!DU16,Input_Details!$B$29,0)","v":0},{"$f":"OFFSET('Raw Data'!DV16,Input_Details!$B$29,0)","v":0},{"$f":"OFFSET('Raw Data'!DW16,Input_Details!$B$29,0)","v":0.60000000000000009},null,{"$f":"OFFSET('Raw Data'!DX16,Input_Details!$B$29,0)","v":0.2},{"$f":"OFFSET('Raw Data'!DY16,Input_Details!$B$29,0)","v":0},{"$f":"OFFSET('Raw Data'!DZ16,Input_Details!$B$29,0)","v":0},{"$f":"OFFSET('Raw Data'!EA16,Input_Details!$B$29,0)","v":0},{"$f":"OFFSET('Raw Data'!EB16,Input_Details!$B$29,0)","v":0},{"$f":"OFFSET('Raw Data'!EC16,Input_Details!$B$29,0)","v":0.2},null,{"$f":"OFFSET('Raw Data'!ED16,Input_Details!$B$29,0)","v":0.60000000000000009},{"$f":"OFFSET('Raw Data'!EE16,Input_Details!$B$29,0)","v":0.2},{"$f":"OFFSET('Raw Data'!EF16,Input_Details!$B$29,0)","v":0},{"$f":"OFFSET('Raw Data'!EG16,Input_Details!$B$29,0)","v":0},{"$f":"OFFSET('Raw Data'!EH16,Input_Details!$B$29,0)","v":0},{"$f":"OFFSET('Raw Data'!EI16,Input_Details!$B$29,0)","v":0.8}]
[null,"03:15:00",{"$f":"OFFSET('Raw Data'!DR17,Input_Details!$B$29,0)","v":0},{"$f":"OFFSET('Raw Data'!DS17,Input_Details!$B$29,0)","v":1.4},{"$f":"OFFSET('Raw Data'!DT17,Input_Details!$B$29,0)","v":0},{"$f":"OFFSET('Raw Data'!DU17,Input_Details!$B$29,0)","v":0},{"$f":"OFFSET('Raw Data'!DV17,Input_Details!$B$29,0)","v":0},{"$f":"OFFSET('Raw Data'!DW17,Input_Details!$B$29,0)","v":1.4},null,{"$f":"OFFSET('Raw Data'!DX17,Input_Details!$B$29,0)","v":0},{"$f":"OFFSET('Raw Data'!DY17,Input_Details!$B$29,0)","v":0.4},{"$f":"OFFSET('Raw Data'!DZ17,Input_Details!$B$29,0)","v":0.2},{"$f":"OFFSET('Raw Data'!EA17,Input_Details!$B$29,0)","v":0},{"$f":"OFFSET('Raw Data'!EB17,Input_Details!$B$29,0)","v":0},{"$f":"OFFSET('Raw Data'!EC17,Input_Details!$B$29,0)","v":0.60000000000000009},null,{"$f":"OFFSET('Raw Data'!ED17,Input_Details!$B$29,0)","v":0},{"$f":"OFFSET('Raw Data'!EE17,Input_Details!$B$29,0)","v":1.7999999999999998},{"$f":"OFFSET('Raw Data'!EF17,Input_Details!$B$29,0)","v":0.2},{"$f":"OFFSET('Raw Data'!EG17,Input_Details!$B$29,0)","v":0},{"$f":"OFFSET('Raw Data'!EH17,Input_Details!$B$29,0)","v":0},{"$f":"OFFSET('Raw Data'!EI17,Input_Details!$B$29,0)","v":2}]
[null,"03:30:00",{"$f":"OFFSET('Raw Data'!DR18,Input_Details!$B$29,0)","v":0},{"$f":"OFFSET('Raw Data'!DS18,Input_Details!$B$29,0)","v":0.4},{"$f":"OFFSET('Raw Data'!DT18,Input_Details!$B$29,0)","v":0},{"$f":"OFFSET('Raw Data'!DU18,Input_Details!$B$29,0)","v":0},{"$f":"OFFSET('Raw Data'!DV18,Input_Details!$B$29,0)","v":0},{"$f":"OFFSET('Raw Data'!DW18,Input_Details!$B$29,0)","v":0.4},null,{"$f":"OFFSET('Raw Data'!DX18,Input_Details!$B$29,0)","v":0},{"$f":"OFFSET('Raw Data'!DY18,Input_Details!$B$29,0)","v":0.2},{"$f":"OFFSET('Raw Data'!DZ18,Input_Details!$B$29,0)","v":0.4},{"$f":"OFFSET('Raw Data'!EA18,Input_Details!$B$29,0)","v":0},{"$f":"OFFSET('Raw Data'!EB18,Input_Details!$B$29,0)","v":0},{"$f":"OFFSET('Raw Data'!EC18,Input_Details!$B$29,0)","v":0.60000000000000009},null,{"$f":"OFFSET('Raw Data'!ED18,Input_Details!$B$29,0)","v":0},{"$f":"OFFSET('Raw Data'!EE18,Input_Details!$B$29,0)","v":0.60000000000000009},{"$f":"OFFSET('Raw Data'!EF18,Input_Details!$B$29,0)","v":0.4},{"$f":"OFFSET('Raw Data'!EG18,Input_Details!$B$29,0)","v":0},{"$f":"OFFSET('Raw Data'!EH18,Input_Details!$B$29,0)","v":0},{"$f":"OFFSET('Raw Data'!EI18,Input_Details!$B$29,0)","v":1}]
[null,"03:45:00",{"$f":"OFFSET('Raw Data'!DR19,Input_Details!$B$29,0)","v":0.2},{"$f":"OFFSET('Raw Data'!DS19,Input_Details!$B$29,0)","v":0.2},{"$f":"OFFSET('Raw Data'!DT19,Input_Details!$B$29,0)","v":0},{"$f":"OFFSET('Raw Data'!DU19,Input_Details!$B$29,0)","v":0},{"$f":"OFFSET('Raw Data'!DV19,Input_Details!$B$29,0)","v":0},{"$f":"OFFSET('Raw Data'!DW19,Input_Details!$B$29,0)","v":0.4},null,{"$f":"OFFSET('Raw Data'!DX19,Input_Details!$B$29,0)","v":0},{"$f":"OFFSET('Raw Data'!DY19,Input_Details!$B$29,0)","v":1.6},{"$f":"OFFSET('Raw Data'!DZ19,Input_Details!$B$29,0)","v":0},{"$f":"OFFSET('Raw Data'!EA19,Input_Details!$B$29,0)","v":0},{"$f":"OFFSET('Raw Data'!EB19,Input_Details!$B$29,0)","v":0},{"$f":"OFFSET('Raw Data'!EC19,Input_Details!$B$29,0)","v":1.6},null,{"$f":"OFFSET('Raw Data'!ED19,Input_Details!$B$29,0)","v":0.2},{"$f":"OFFSET('Raw Data'!EE19,Input_Details!$B$29,0)","v":1.8},{"$f":"OFFSET('Raw Data'!EF19,Input_Details!$B$29,0)","v":0},{"$f":"OFFSET('Raw Data'!EG19,Input_Details!$B$29,0)","v":0},{"$f":"OFFSET('Raw Data'!EH19,Input_Details!$B$29,0)","v":0},{"$f":"OFFSET('Raw Data'!EI19,Input_Details!$B$29,0)","v":2}]
[null,"04:00:00",{"$f":"OFFSET('Raw Data'!DR20,Input_Details!$B$29,0)","v":0.2},{"$f":"OFFSET('Raw Data'!DS20,Input_Details!$B$29,0)","v":0.6},{"$f":"OFFSET('Raw Data'!DT20,Input_Details!$B$29,0)","v":0},{"$f":"OFFSET('Raw Data'!DU20,Input_Details!$B$29,0)","v":0},{"$f":"OFFSET('Raw Data'!DV20,Input_Details!$B$29,0)","v":0},{"$f":"OFFSET('Raw Data'!DW20,Input_Details!$B$29,0)","v":0.8},null,{"$f":"OFFSET('Raw Data'!DX20,Input_Details!$B$29,0)","v":0.2},{"$f":"OFFSET('Raw Data'!DY20,Input_Details!$B$29,0)","v":0.6},{"$f":"OFFSET('Raw Data'!DZ20,Input_Details!$B$29,0)","v":0},{"$f":"OFFSET('Raw Data'!EA20,Input_Details!$B$29,0)","v":0.2},{"$f":"OFFSET('Raw Data'!EB20,Input_Details!$B$29,0)","v":0},{"$f":"OFFSET('Raw Data'!EC20,Input_Details!$B$29,0)","v":1},null,{"$f":"OFFSET('Raw Data'!ED20,Input_Details!$B$29,0)","v":0.4},{"$f":"OFFSET('Raw Data'!EE20,Input_Details!$B$29,0)","v":1.2},{"$f":"OFFSET('Raw Data'!EF20,Input_Details!$B$29,0)","v":0},{"$f":"OFFSET('Raw Data'!EG20,Input_Details!$B$29,0)","v":0.2},{"$f":"OFFSET('Raw Data'!EH20,Input_Details!$B$29,0)","v":0},{"$f":"OFFSET('Raw Data'!EI20,Input_Details!$B$29,0)","v":1.8}]
[null,"04:15:00",{"$f":"OFFSET('Raw Data'!DR21,Input_Details!$B$29,0)","v":0},{"$f":"OFFSET('Raw Data'!DS21,Input_Details!$B$29,0)","v":0.4},{"$f":"OFFSET('Raw Data'!DT21,Input_Details!$B$29,0)","v":0},{"$f":"OFFSET('Raw Data'!DU21,Input_Details!$B$29,0)","v":0},{"$f":"OFFSET('Raw Data'!DV21,Input_Details!$B$29,0)","v":0},{"$f":"OFFSET('Raw Data'!DW21,Input_Details!$B$29,0)","v":0.4},null,{"$f":"OFFSET('Raw Data'!DX21,Input_Details!$B$29,0)","v":0},{"$f":"OFFSET('Raw Data'!DY21,Input_Details!$B$29,0)","v":0.2},{"$f":"OFFSET('Raw Data'!DZ21,Input_Details!$B$29,0)","v":0.2},{"$f":"OFFSET('Raw Data'!EA21,Input_Details!$B$29,0)","v":0},{"$f":"OFFSET('Raw Data'!EB21,Input_Details!$B$29,0)","v":0},{"$f":"OFFSET('Raw Data'!EC21,Input_Details!$B$29,0)","v":0.4},null,{"$f":"OFFSET('Raw Data'!ED21,Input_Details!$B$29,0)","v":0},{"$f":"OFFSET('Raw Data'!EE21,Input_Details!$B$29,0)","v":0.60000000000000009},{"$f":"OFFSET('Raw Data'!EF21,Input_Details!$B$29,0)","v":0.2},{"$f":"OFFSET('Raw Data'!EG21,Input_Details!$B$29,0)","v":0},{"$f":"OFFSET('Raw Data'!EH21,Input_Details!$B$29,0)","v":0},{"$f":"OFFSET('Raw Data'!EI21,Input_Details!$B$29,0)","v":0.8}]
[null,"04:30:00",{"$f":"OFFSET('Raw Data'!DR22,Input_Details!$B$29,0)","v":0.2},{"$f":"OFFSET('Raw Data'!DS22,Input_Details!$B$29,0)","v":0.4},{"$f":"OFFSET('Raw Data'!DT22,Input_Details!$B$29,0)","v":0},{"$f":"OFFSET('Raw Data'!DU22,Input_Details!$B$29,0)","v":0},{"$f":"OFFSET('Raw Data'!DV22,Input_Details!$B$29,0)","v":0},{"$f":"OFFSET('Raw Data'!DW22,Input_Details!$B$29,0)","v":0.60000000000000009},null,{"$f":"OFFSET('Raw Data'!DX22,Input_Details!$B$29,0)","v":0},{"$f":"OFFSET('Raw Data'!DY22,Input_Details!$B$29,0)","v":0.4},{"$f":"OFFSET('Raw Data'!DZ22,Input_Details!$B$29,0)","v":0},{"$f":"OFFSET('Raw Data'!EA22,Input_Details!$B$29,0)","v":0},{"$f":"OFFSET('Raw Data'!EB22,Input_Details!$B$29,0)","v":0},{"$f":"OFFSET('Raw Data'!EC22,Input_Details!$B$29,0)","v":0.4},null,{"$f":"OFFSET('Raw Data'!ED22,Input_Details!$B$29,0)","v":0.2},{"$f":"OFFSET('Raw Data'!EE22,Input_Details!$B$29,0)","v":0.8},{"$f":"OFFSET('Raw Data'!EF22,Input_Details!$B$29,0)","v":0},{"$f":"OFFSET('Raw Data'!EG22,Input_Details!$B$29,0)","v":0},{"$f":"OFFSET('Raw Data'!EH22,Input_Details!$B$29,0)","v":0},{"$f":"OFFSET('Raw Data'!EI22,Input_Details!$B$29,0)","v":1}]
[null,"04:45:00",{"$f":"OFFSET('Raw Data'!DR23,Input_Details!$B$29,0)","v":0},{"$f":"OFFSET('Raw Data'!DS23,Input_Details!$B$29,0)","v":0.2},{"$f":"OFFSET('Raw Data'!DT23,Input_Details!$B$29,0)","v":0},{"$f":"OFFSET('Raw Data'!DU23,Input_Details!$B$29,0)","v":0.2},{"$f":"OFFSET('Raw Data'!DV23,Input_Details!$B$29,0)","v":0},{"$f":"OFFSET('Raw Data'!DW23,Input_Details!$B$29,0)","v":0.4},null,{"$f":"OFFSET('Raw Data'!DX23,Input_Details!$B$29,0)","v":0},{"$f":"OFFSET('Raw Data'!DY23,Input_Details!$B$29,0)","v":0},{"$f":"OFFSET('Raw Data'!DZ23,Input_Details!$B$29,0)","v":0},{"$f":"OFFSET('Raw Data'!EA23,Input_Details!$B$29,0)","v":0},{"$f":"OFFSET('Raw Data'!EB23,Input_Details!$B$29,0)","v":0},{"$f":"OFFSET('Raw Data'!EC23,Input_Details!$B$29,0)","v":0},null,{"$f":"OFFSET('Raw Data'!ED23,Input_Details!$B$29,0)","v":0},{"$f":"OFFSET('Raw Data'!EE23,Input_Details!$B$29,0)","v":0.2},{"$f":"OFFSET('Raw Data'!EF23,Input_Details!$B$29,0)","v":0},{"$f":"OFFSET('Raw Data'!EG23,Input_Details!$B$29,0)","v":0.2},{"$f":"OFFSET('Raw Data'!EH23,Input_Details!$B$29,0)","v":0},{"$f":"OFFSET('Raw Data'!EI23,Input_Details!$B$29,0)","v":0.4}]
[null,"05:00:00",{"$f":"OFFSET('Raw Data'!DR24,Input_Details!$B$29,0)","v":0},{"$f":"OFFSET('Raw Data'!DS24,Input_Details!$B$29,0)","v":2},{"$f":"OFFSET('Raw Data'!DT24,Input_Details!$B$29,0)","v":0},{"$f":"OFFSET('Raw Data'!DU24,Input_Details!$B$29,0)","v":0},{"$f":"OFFSET('Raw Data'!DV24,Input_Details!$B$29,0)","v":0},{"$f":"OFFSET('Raw Data'!DW24,Input_Details!$B$29,0)","v":2},null,{"$f":"OFFSET('Raw Data'!DX24,Input_Details!$B$29,0)","v":0},{"$f":"OFFSET('Raw Data'!DY24,Input_Details!$B$29,0)","v":0.2},{"$f":"OFFSET('Raw Data'!DZ24,Input_Details!$B$29,0)","v":0},{"$f":"OFFSET('Raw Data'!EA24,Input_Details!$B$29,0)","v":0},{"$f":"OFFSET('Raw Data'!EB24,Input_Details!$B$29,0)","v":0},{"$f":"OFFSET('Raw Data'!EC24,Input_Details!$B$29,0)","v":0.2},null,{"$f":"OFFSET('Raw Data'!ED24,Input_Details!$B$29,0)","v":0},{"$f":"OFFSET('Raw Data'!EE24,Input_Details!$B$29,0)","v":2.2000000000000002},{"$f":"OFFSET('Raw Data'!EF24,Input_Details!$B$29,0)","v":0},{"$f":"OFFSET('Raw Data'!EG24,Input_Details!$B$29,0)","v":0},{"$f":"OFFSET('Raw Data'!EH24,Input_Details!$B$29,0)","v":0},{"$f":"OFFSET('Raw Data'!EI24,Input_Details!$B$29,0)","v":2.2000000000000002}]
[null,"05:15:00",{"$f":"OFFSET('Raw Data'!DR25,Input_Details!$B$29,0)","v":0.4},{"$f":"OFFSET('Raw Data'!DS25,Input_Details!$B$29,0)","v":1.4},{"$f":"OFFSET('Raw Data'!DT25,Input_Details!$B$29,0)","v":0.2},{"$f":"OFFSET('Raw Data'!DU25,Input_Details!$B$29,0)","v":0},{"$f":"OFFSET('Raw Data'!DV25,Input_Details!$B$29,0)","v":0},{"$f":"OFFSET('Raw Data'!DW25,Input_Details!$B$29,0)","v":1.9999999999999998},null,{"$f":"OFFSET('Raw Data'!DX25,Input_Details!$B$29,0)","v":0},{"$f":"OFFSET('Raw Data'!DY25,Input_Details!$B$29,0)","v":0.8},{"$f":"OFFSET('Raw Data'!DZ25,Input_Details!$B$29,0)","v":0.2},{"$f":"OFFSET('Raw Data'!EA25,Input_Details!$B$29,0)","v":0},{"$f":"OFFSET('Raw Data'!EB25,Input_Details!$B$29,0)","v":0},{"$f":"OFFSET('Raw Data'!EC25,Input_Details!$B$29,0)","v":1},null,{"$f":"OFFSET('Raw Data'!ED25,Input_Details!$B$29,0)","v":0.4},{"$f":"OFFSET('Raw Data'!EE25,Input_Details!$B$29,0)","v":2.2000000000000002},{"$f":"OFFSET('Raw Data'!EF25,Input_Details!$B$29,0)","v":0.4},{"$f":"OFFSET('Raw Data'!EG25,Input_Details!$B$29,0)","v":0},{"$f":"OFFSET('Raw Data'!EH25,Input_Details!$B$29,0)","v":0},{"$f":"OFFSET('Raw Data'!EI25,Input_Details!$B$29,0)","v":3}]
[null,"05:30:00",{"$f":"OFFSET('Raw Data'!DR26,Input_Details!$B$29,0)","v":1},{"$f":"OFFSET('Raw Data'!DS26,Input_Details!$B$29,0)","v":0.8},{"$f":"OFFSET('Raw Data'!DT26,Input_Details!$B$29,0)","v":0.6},{"$f":"OFFSET('Raw Data'!DU26,Input_Details!$B$29,0)","v":0},{"$f":"OFFSET('Raw Data'!DV26,Input_Details!$B$29,0)","v":0},{"$f":"OFFSET('Raw Data'!DW26,Input_Details!$B$29,0)","v":2.4},null,{"$f":"OFFSET('Raw Data'!DX26,Input_Details!$B$29,0)","v":0},{"$f":"OFFSET('Raw Data'!DY26,Input_Details!$B$29,0)","v":0},{"$f":"OFFSET('Raw Data'!DZ26,Input_Details!$B$29,0)","v":0},{"$f":"OFFSET('Raw Data'!EA26,Input_Details!$B$29,0)","v":0},{"$f":"OFFSET('Raw Data'!EB26,Input_Details!$B$29,0)","v":0},{"$f":"OFFSET('Raw Data'!EC26,Input_Details!$B$29,0)","v":0},null,{"$f":"OFFSET('Raw Data'!ED26,Input_Details!$B$29,0)","v":1},{"$f":"OFFSET('Raw Data'!EE26,Input_Details!$B$29,0)","v":0.8},{"$f":"OFFSET('Raw Data'!EF26,Input_Details!$B$29,0)","v":0.6},{"$f":"OFFSET('Raw Data'!EG26,Input_Details!$B$29,0)","v":0},{"$f":"OFFSET('Raw Data'!EH26,Input_Details!$B$29,0)","v":0},{"$f":"OFFSET('Raw Data'!EI26,Input_Details!$B$29,0)","v":2.4}]
[null,"05:45:00",{"$f":"OFFSET('Raw Data'!DR27,Input_Details!$B$29,0)","v":1.4},{"$f":"OFFSET('Raw Data'!DS27,Input_Details!$B$29,0)","v":0.6},{"$f":"OFFSET('Raw Data'!DT27,Input_Details!$B$29,0)","v":1},{"$f":"OFFSET('Raw Data'!DU27,Input_Details!$B$29,0)","v":0},{"$f":"OFFSET('Raw Data'!DV27,Input_Details!$B$29,0)","v":0},{"$f":"OFFSET('Raw Data'!DW27,Input_Details!$B$29,0)","v":3},null,{"$f":"OFFSET('Raw Data'!DX27,Input_Details!$B$29,0)","v":0},{"$f":"OFFSET('Raw Data'!DY27,Input_Details!$B$29,0)","v":1},{"$f":"OFFSET('Raw Data'!DZ27,Input_Details!$B$29,0)","v":0.2},{"$f":"OFFSET('Raw Data'!EA27,Input_Details!$B$29,0)","v":0},{"$f":"OFFSET('Raw Data'!EB27,Input_Details!$B$29,0)","v":0},{"$f":"OFFSET('Raw Data'!EC27,Input_Details!$B$29,0)","v":1.2},null,{"$f":"OFFSET('Raw Data'!ED27,Input_Details!$B$29,0)","v":1.4},{"$f":"OFFSET('Raw Data'!EE27,Input_Details!$B$29,0)","v":1.6},{"$f":"OFFSET('Raw Data'!EF27,Input_Details!$B$29,0)","v":1.2},{"$f":"OFFSET('Raw Data'!EG27,Input_Details!$B$29,0)","v":0},{"$f":"OFFSET('Raw Data'!EH27,Input_Details!$B$29,0)","v":0},{"$f":"OFFSET('Raw Data'!EI27,Input_Details!$B$29,0)","v":4.2}]
[null,"06:00:00",{"$f":"OFFSET('Raw Data'!DR28,Input_Details!$B$29,0)","v":1.4},{"$f":"OFFSET('Raw Data'!DS28,Input_Details!$B$29,0)","v":1},{"$f":"OFFSET('Raw Data'!DT28,Input_Details!$B$29,0)","v":0},{"$f":"OFFSET('Raw Data'!DU28,Input_Details!$B$29,0)","v":0},{"$f":"OFFSET('Raw Data'!DV28,Input_Details!$B$29,0)","v":0},{"$f":"OFFSET('Raw Data'!DW28,Input_Details!$B$29,0)","v":2.4},null,{"$f":"OFFSET('Raw Data'!DX28,Input_Details!$B$29,0)","v":0},{"$f":"OFFSET('Raw Data'!DY28,Input_Details!$B$29,0)","v":1},{"$f":"OFFSET('Raw Data'!DZ28,Input_Details!$B$29,0)","v":0},{"$f":"OFFSET('Raw Data'!EA28,Input_Details!$B$29,0)","v":0},{"$f":"OFFSET('Raw Data'!EB28,Input_Details!$B$29,0)","v":0},{"$f":"OFFSET('Raw Data'!EC28,Input_Details!$B$29,0)","v":1},null,{"$f":"OFFSET('Raw Data'!ED28,Input_Details!$B$29,0)","v":1.4},{"$f":"OFFSET('Raw Data'!EE28,Input_Details!$B$29,0)","v":2},{"$f":"OFFSET('Raw Data'!EF28,Input_Details!$B$29,0)","v":0},{"$f":"OFFSET('Raw Data'!EG28,Input_Details!$B$29,0)","v":0},{"$f":"OFFSET('Raw Data'!EH28,Input_Details!$B$29,0)","v":0},{"$f":"OFFSET('Raw Data'!EI28,Input_Details!$B$29,0)","v":3.4}]
[null,"06:15:00",{"$f":"OFFSET('Raw Data'!DR29,Input_Details!$B$29,0)","v":1.2},{"$f":"OFFSET('Raw Data'!DS29,Input_Details!$B$29,0)","v":1.8},{"$f":"OFFSET('Raw Data'!DT29,Input_Details!$B$29,0)","v":0.2},{"$f":"OFFSET('Raw Data'!DU29,Input_Details!$B$29,0)","v":0},{"$f":"OFFSET('Raw Data'!DV29,Input_Details!$B$29,0)","v":0},{"$f":"OFFSET('Raw Data'!DW29,Input_Details!$B$29,0)","v":3.2},null,{"$f":"OFFSET('Raw Data'!DX29,Input_Details!$B$29,0)","v":0},{"$f":"OFFSET('Raw Data'!DY29,Input_Details!$B$29,0)","v":1.8},{"$f":"OFFSET('Raw Data'!DZ29,Input_Details!$B$29,0)","v":0},{"$f":"OFFSET('Raw Data'!EA29,Input_Details!$B$29,0)","v":0},{"$f":"OFFSET('Raw Data'!EB29,Input_Details!$B$29,0)","v":0},{"$f":"OFFSET('Raw Data'!EC29,Input_Details!$B$29,0)","v":1.8},null,{"$f":"OFFSET('Raw Data'!ED29,Input_Details!$B$29,0)","v":1.2},{"$f":"OFFSET('Raw Data'!EE29,Input_Details!$B$29,0)","v":3.6},{"$f":"OFFSET('Raw Data'!EF29,Input_Details!$B$29,0)","v":0.2},{"$f":"OFFSET('Raw Data'!EG29,Input_Details!$B$29,0)","v":0},{"$f":"OFFSET('Raw Data'!EH29,Input_Details!$B$29,0)","v":0},{"$f":"OFFSET('Raw Data'!EI29,Input_Details!$B$29,0)","v":5}]
[null,"06:30:00",{"$f":"OFFSET('Raw Data'!DR30,Input_Details!$B$29,0)","v":2.4},{"$f":"OFFSET('Raw Data'!DS30,Input_Details!$B$29,0)","v":2},{"$f":"OFFSET('Raw Data'!DT30,Input_Details!$B$29,0)","v":0.4},{"$f":"OFFSET('Raw Data'!DU30,Input_Details!$B$29,0)","v":0},{"$f":"OFFSET('Raw Data'!DV30,Input_Details!$B$29,0)","v":0},{"$f":"OFFSET('Raw Data'!DW30,Input_Details!$B$29,0)","v":4.8000000000000007},null,{"$f":"OFFSET('Raw Data'!DX30,Input_Details!$B$29,0)","v":0.2},{"$f":"OFFSET('Raw Data'!DY30,Input_Details!$B$29,0)","v":1.8},{"$f":"OFFSET('Raw Data'!DZ30,Input_Details!$B$29,0)","v":0},{"$f":"OFFSET('Raw Data'!EA30,Input_Details!$B$29,0)","v":0},{"$f":"OFFSET('Raw Data'!EB30,Input_Details!$B$29,0)","v":0},{"$f":"OFFSET('Raw Data'!EC30,Input_Details!$B$29,0)","v":2},null,{"$f":"OFFSET('Raw Data'!ED30,Input_Details!$B$29,0)","v":2.6},{"$f":"OFFSET('Raw Data'!EE30,Input_Details!$B$29,0)","v":3.8},{"$f":"OFFSET('Raw Data'!EF30,Input_Details!$B$29,0)","v":0.4},{"$f":"OFFSET('Raw Data'!EG30,Input_Details!$B$29,0)","v":0},{"$f":"OFFSET('Raw Data'!EH30,Input_Details!$B$29,0)","v":0},{"$f":"OFFSET('Raw Data'!EI30,Input_Details!$B$29,0)","v":6.8000000000000007}]
[null,"06:45:00",{"$f":"OFFSET('Raw Data'!DR31,Input_Details!$B$29,0)","v":7.2},{"$f":"OFFSET('Raw Data'!DS31,Input_Details!$B$29,0)","v":0.8},{"$f":"OFFSET('Raw Data'!DT31,Input_Details!$B$29,0)","v":0.6},{"$f":"OFFSET('Raw Data'!DU31,Input_Details!$B$29,0)","v":0},{"$f":"OFFSET('Raw Data'!DV31,Input_Details!$B$29,0)","v":0},{"$f":"OFFSET('Raw Data'!DW31,Input_Details!$B$29,0)","v":8.6},null,{"$f":"OFFSET('Raw Data'!DX31,Input_Details!$B$29,0)","v":0.2},{"$f":"OFFSET('Raw Data'!DY31,Input_Details!$B$29,0)","v":1.8},{"$f":"OFFSET('Raw Data'!DZ31,Input_Details!$B$29,0)","v":0.4},{"$f":"OFFSET('Raw Data'!EA31,Input_Details!$B$29,0)","v":0},{"$f":"OFFSET('Raw Data'!EB31,Input_Details!$B$29,0)","v":0.2},{"$f":"OFFSET('Raw Data'!EC31,Input_Details!$B$29,0)","v":2.6},null,{"$f":"OFFSET('Raw Data'!ED31,Input_Details!$B$29,0)","v":7.4},{"$f":"OFFSET('Raw Data'!EE31,Input_Details!$B$29,0)","v":2.6},{"$f":"OFFSET('Raw Data'!EF31,Input_Details!$B$29,0)","v":1},{"$f":"OFFSET('Raw Data'!EG31,Input_Details!$B$29,0)","v":0},{"$f":"OFFSET('Raw Data'!EH31,Input_Details!$B$29,0)","v":0.2},{"$f":"OFFSET('Raw Data'!EI31,Input_Details!$B$29,0)","v":11.2}]
[null,"07:00:00",{"$f":"OFFSET('Raw Data'!DR32,Input_Details!$B$29,0)","v":6.6},{"$f":"OFFSET('Raw Data'!DS32,Input_Details!$B$29,0)","v":1.6},{"$f":"OFFSET('Raw Data'!DT32,Input_Details!$B$29,0)","v":0.2},{"$f":"OFFSET('Raw Data'!DU32,Input_Details!$B$29,0)","v":0},{"$f":"OFFSET('Raw Data'!DV32,Input_Details!$B$29,0)","v":0.2},{"$f":"OFFSET('Raw Data'!DW32,Input_Details!$B$29,0)","v":8.5999999999999979},null,{"$f":"OFFSET('Raw Data'!DX32,Input_Details!$B$29,0)","v":0.6},{"$f":"OFFSET('Raw Data'!DY32,Input_Details!$B$29,0)","v":2.4},{"$f":"OFFSET('Raw Data'!DZ32,Input_Details!$B$29,0)","v":0},{"$f":"OFFSET('Raw Data'!EA32,Input_Details!$B$29,0)","v":0},{"$f":"OFFSET('Raw Data'!EB32,Input_Details!$B$29,0)","v":0},{"$f":"OFFSET('Raw Data'!EC32,Input_Details!$B$29,0)","v":3},null,{"$f":"OFFSET('Raw Data'!ED32,Input_Details!$B$29,0)","v":7.1999999999999993},{"$f":"OFFSET('Raw Data'!EE32,Input_Details!$B$29,0)","v":4},{"$f":"OFFSET('Raw Data'!EF32,Input_Details!$B$29,0)","v":0.2},{"$f":"OFFSET('Raw Data'!EG32,Input_Details!$B$29,0)","v":0},{"$f":"OFFSET('Raw Data'!EH32,Input_Details!$B$29,0)","v":0.2},{"$f":"OFFSET('Raw Data'!EI32,Input_Details!$B$29,0)","v":11.599999999999998}]
[null,"07:15:00",{"$f":"OFFSET('Raw Data'!DR33,Input_Details!$B$29,0)","v":9.1999999999999993},{"$f":"OFFSET('Raw Data'!DS33,Input_Details!$B$29,0)","v":2.6},{"$f":"OFFSET('Raw Data'!DT33,Input_Details!$B$29,0)","v":0},{"$f":"OFFSET('Raw Data'!DU33,Input_Details!$B$29,0)","v":0},{"$f":"OFFSET('Raw Data'!DV33,Input_Details!$B$29,0)","v":0.6},{"$f":"OFFSET('Raw Data'!DW33,Input_Details!$B$29,0)","v":12.399999999999999},null,{"$f":"OFFSET('Raw Data'!DX33,Input_Details!$B$29,0)","v":0.2},{"$f":"OFFSET('Raw Data'!DY33,Input_Details!$B$29,0)","v":1.8},{"$f":"OFFSET('Raw Data'!DZ33,Input_Details!$B$29,0)","v":0.4},{"$f":"OFFSET('Raw Data'!EA33,Input_Details!$B$29,0)","v":0},{"$f":"OFFSET('Raw Data'!EB33,Input_Details!$B$29,0)","v":0},{"$f":"OFFSET('Raw Data'!EC33,Input_Details!$B$29,0)","v":2.4},null,{"$f":"OFFSET('Raw Data'!ED33,Input_Details!$B$29,0)","v":9.3999999999999986},{"$f":"OFFSET('Raw Data'!EE33,Input_Details!$B$29,0)","v":4.4000000000000004},{"$f":"OFFSET('Raw Data'!EF33,Input_Details!$B$29,0)","v":0.4},{"$f":"OFFSET('Raw Data'!EG33,Input_Details!$B$29,0)","v":0},{"$f":"OFFSET('Raw Data'!EH33,Input_Details!$B$29,0)","v":0.6},{"$f":"OFFSET('Raw Data'!EI33,Input_Details!$B$29,0)","v":14.799999999999999}]
[null,"07:30:00",{"$f":"OFFSET('Raw Data'!DR34,Input_Details!$B$29,0)","v":13.8},{"$f":"OFFSET('Raw Data'!DS34,Input_Details!$B$29,0)","v":3.2},{"$f":"OFFSET('Raw Data'!DT34,Input_Details!$B$29,0)","v":0},{"$f":"OFFSET('Raw Data'!DU34,Input_Details!$B$29,0)","v":0},{"$f":"OFFSET('Raw Data'!DV34,Input_Details!$B$29,0)","v":1.4},{"$f":"OFFSET('Raw Data'!DW34,Input_Details!$B$29,0)","v":18.399999999999999},null,{"$f":"OFFSET('Raw Data'!DX34,Input_Details!$B$29,0)","v":0.6},{"$f":"OFFSET('Raw Data'!DY34,Input_Details!$B$29,0)","v":2},{"$f":"OFFSET('Raw Data'!DZ34,Input_Details!$B$29,0)","v":0},{"$f":"OFFSET('Raw Data'!EA34,Input_Details!$B$29,0)","v":0},{"$f":"OFFSET('Raw Data'!EB34,Input_Details!$B$29,0)","v":0},{"$f":"OFFSET('Raw Data'!EC34,Input_Details!$B$29,0)","v":2.6},null,{"$f":"OFFSET('Raw Data'!ED34,Input_Details!$B$29,0)","v":14.4},{"$f":"OFFSET('Raw Data'!EE34,Input_Details!$B$29,0)","v":5.2},{"$f":"OFFSET('Raw Data'!EF34,Input_Details!$B$29,0)","v":0},{"$f":"OFFSET('Raw Data'!EG34,Input_Details!$B$29,0)","v":0},{"$f":"OFFSET('Raw Data'!EH34,Input_Details!$B$29,0)","v":1.4},{"$f":"OFFSET('Raw Data'!EI34,Input_Details!$B$29,0)","v":21}]
[null,"07:45:00",{"$f":"OFFSET('Raw Data'!DR35,Input_Details!$B$29,0)","v":20},{"$f":"OFFSET('Raw Data'!DS35,Input_Details!$B$29,0)","v":4},{"$f":"OFFSET('Raw Data'!DT35,Input_Details!$B$29,0)","v":0.2},{"$f":"OFFSET('Raw Data'!DU35,Input_Details!$B$29,0)","v":0.4},{"$f":"OFFSET('Raw Data'!DV35,Input_Details!$B$29,0)","v":3.2},{"$f":"OFFSET('Raw Data'!DW35,Input_Details!$B$29,0)","v":27.799999999999997},null,{"$f":"OFFSET('Raw Data'!DX35,Input_Details!$B$29,0)","v":1.4},{"$f":"OFFSET('Raw Data'!DY35,Input_Details!$B$29,0)","v":3},{"$f":"OFFSET('Raw Data'!DZ35,Input_Details!$B$29,0)","v":0.6},{"$f":"OFFSET('Raw Data'!EA35,Input_Details!$B$29,0)","v":0},{"$f":"OFFSET('Raw Data'!EB35,Input_Details!$B$29,0)","v":0},{"$f":"OFFSET('Raw Data'!EC35,Input_Details!$B$29,0)","v":5},null,{"$f":"OFFSET('Raw Data'!ED35,Input_Details!$B$29,0)","v":21.4},{"$f":"OFFSET('Raw Data'!EE35,Input_Details!$B$29,0)","v":7},{"$f":"OFFSET('Raw Data'!EF35,Input_Details!$B$29,0)","v":0.8},{"$f":"OFFSET('Raw Data'!EG35,Input_Details!$B$29,0)","v":0.4},{"$f":"OFFSET('Raw Data'!EH35,Input_Details!$B$29,0)","v":3.2},{"$f":"OFFSET('Raw Data'!EI35,Input_Details!$B$29,0)","v":32.799999999999997}]
[null,"08:00:00",{"$f":"OFFSET('Raw Data'!DR36,Input_Details!$B$29,0)","v":21.2},{"$f":"OFFSET('Raw Data'!DS36,Input_Details!$B$29,0)","v":3.8},{"$f":"OFFSET('Raw Data'!DT36,Input_Details!$B$29,0)","v":0.8},{"$f":"OFFSET('Raw Data'!DU36,Input_Details!$B$29,0)","v":0},{"$f":"OFFSET('Raw Data'!DV36,Input_Details!$B$29,0)","v":3.6000000000000005},{"$f":"OFFSET('Raw Data'!DW36,Input_Details!$B$29,0)","v":29.4},null,{"$f":"OFFSET('Raw Data'!DX36,Input_Details!$B$29,0)","v":1.2},{"$f":"OFFSET('Raw Data'!DY36,Input_Details!$B$29,0)","v":3.2},{"$f":"OFFSET('Raw Data'!DZ36,Input_Details!$B$29,0)","v":0.4},{"$f":"OFFSET('Raw Data'!EA36,Input_Details!$B$29,0)","v":0},{"$f":"OFFSET('Raw Data'!EB36,Input_Details!$B$29,0)","v":0},{"$f":"OFFSET('Raw Data'!EC36,Input_Details!$B$29,0)","v":4.8000000000000007},null,{"$f":"OFFSET('Raw Data'!ED36,Input_Details!$B$29,0)","v":22.4},{"$f":"OFFSET('Raw Data'!EE36,Input_Details!$B$29,0)","v":7},{"$f":"OFFSET('Raw Data'!EF36,Input_Details!$B$29,0)","v":1.2000000000000002},{"$f":"OFFSET('Raw Data'!EG36,Input_Details!$B$29,0)","v":0},{"$f":"OFFSET('Raw Data'!EH36,Input_Details!$B$29,0)","v":3.6000000000000005},{"$f":"OFFSET('Raw Data'!EI36,Input_Details!$B$29,0)","v":34.200000000000003}]
[null,"08:15:00",{"$f":"OFFSET('Raw Data'!DR37,Input_Details!$B$29,0)","v":27},{"$f":"OFFSET('Raw Data'!DS37,Input_Details!$B$29,0)","v":6.4},{"$f":"OFFSET('Raw Data'!DT37,Input_Details!$B$29,0)","v":2.6},{"$f":"OFFSET('Raw Data'!DU37,Input_Details!$B$29,0)","v":0.2},{"$f":"OFFSET('Raw Data'!DV37,Input_Details!$B$29,0)","v":5.6},{"$f":"OFFSET('Raw Data'!DW37,Input_Details!$B$29,0)","v":41.800000000000004},null,{"$f":"OFFSET('Raw Data'!DX37,Input_Details!$B$29,0)","v":0.4},{"$f":"OFFSET('Raw Data'!DY37,Input_Details!$B$29,0)","v":2.4},{"$f":"OFFSET('Raw Data'!DZ37,Input_Details!$B$29,0)","v":1},{"$f":"OFFSET('Raw Data'!EA37,Input_Details!$B$29,0)","v":0},{"$f":"OFFSET('Raw Data'!EB37,Input_Details!$B$29,0)","v":0},{"$f":"OFFSET('Raw Data'!EC37,Input_Details!$B$29,0)","v":3.8},null,{"$f":"OFFSET('Raw Data'!ED37,Input_Details!$B$29,0)","v":27.4},{"$f":"OFFSET('Raw Data'!EE37,Input_Details!$B$29,0)","v":8.8000000000000007},{"$f":"OFFSET('Raw Data'!EF37,Input_Details!$B$29,0)","v":3.6},{"$f":"OFFSET('Raw Data'!EG37,Input_Details!$B$29,0)","v":0.2},{"$f":"OFFSET('Raw Data'!EH37,Input_Details!$B$29,0)","v":5.6},{"$f":"OFFSET('Raw Data'!EI37,Input_Details!$B$29,0)","v":45.6}]
[null,"08:30:00",{"$f":"OFFSET('Raw Data'!DR38,Input_Details!$B$29,0)","v":26.2},{"$f":"OFFSET('Raw Data'!DS38,Input_Details!$B$29,0)","v":8.1999999999999993},{"$f":"OFFSET('Raw Data'!DT38,Input_Details!$B$29,0)","v":0.4},{"$f":"OFFSET('Raw Data'!DU38,Input_Details!$B$29,0)","v":0},{"$f":"OFFSET('Raw Data'!DV38,Input_Details!$B$29,0)","v":8.2000000000000011},{"$f":"OFFSET('Raw Data'!DW38,Input_Details!$B$29,0)","v":42.999999999999993},null,{"$f":"OFFSET('Raw Data'!DX38,Input_Details!$B$29,0)","v":0.6},{"$f":"OFFSET('Raw Data'!DY38,Input_Details!$B$29,0)","v":4.2},{"$f":"OFFSET('Raw Data'!DZ38,Input_Details!$B$29,0)","v":0.8},{"$f":"OFFSET('Raw Data'!EA38,Input_Details!$B$29,0)","v":0},{"$f":"OFFSET('Raw Data'!EB38,Input_Details!$B$29,0)","v":0},{"$f":"OFFSET('Raw Data'!EC38,Input_Details!$B$29,0)","v":5.6},null,{"$f":"OFFSET('Raw Data'!ED38,Input_Details!$B$29,0)","v":26.8},{"$f":"OFFSET('Raw Data'!EE38,Input_Details!$B$29,0)","v":12.399999999999999},{"$f":"OFFSET('Raw Data'!EF38,Input_Details!$B$29,0)","v":1.2000000000000002},{"$f":"OFFSET('Raw Data'!EG38,Input_Details!$B$29,0)","v":0},{"$f":"OFFSET('Raw Data'!EH38,Input_Details!$B$29,0)","v":8.2000000000000011},{"$f":"OFFSET('Raw Data'!EI38,Input_Details!$B$29,0)","v":48.599999999999994}]
[null,"08:45:00",{"$f":"OFFSET('Raw Data'!DR39,Input_Details!$B$29,0)","v":29},{"$f":"OFFSET('Raw Data'!DS39,Input_Details!$B$29,0)","v":8.6},{"$f":"OFFSET('Raw Data'!DT39,Input_Details!$B$29,0)","v":0.6},{"$f":"OFFSET('Raw Data'!DU39,Input_Details!$B$29,0)","v":0.6},{"$f":"OFFSET('Raw Data'!DV39,Input_Details!$B$29,0)","v":5.2},{"$f":"OFFSET('Raw Data'!DW39,Input_Details!$B$29,0)","v":44.000000000000007},null,{"$f":"OFFSET('Raw Data'!DX39,Input_Details!$B$29,0)","v":0.6},{"$f":"OFFSET('Raw Data'!DY39,Input_Details!$B$29,0)","v":5.4},{"$f":"OFFSET('Raw Data'!DZ39,Input_Details!$B$29,0)","v":0},{"$f":"OFFSET('Raw Data'!EA39,Input_Details!$B$29,0)","v":0},{"$f":"OFFSET('Raw Data'!EB39,Input_Details!$B$29,0)","v":0},{"$f":"OFFSET('Raw Data'!EC39,Input_Details!$B$29,0)","v":6},null,{"$f":"OFFSET('Raw Data'!ED39,Input_Details!$B$29,0)","v":29.6},{"$f":"OFFSET('Raw Data'!EE39,Input_Details!$B$29,0)","v":14},{"$f":"OFFSET('Raw Data'!EF39,Input_Details!$B$29,0)","v":0.6},{"$f":"OFFSET('Raw Data'!EG39,Input_Details!$B$29,0)","v":0.6},{"$f":"OFFSET('Raw Data'!EH39,Input_Details!$B$29,0)","v":5.2},{"$f":"OFFSET('Raw Data'!EI39,Input_Details!$B$29,0)","v":50.000000000000007}]
[null,"09:00:00",{"$f":"OFFSET('Raw Data'!DR40,Input_Details!$B$29,0)","v":21.8},{"$f":"OFFSET('Raw Data'!DS40,Input_Details!$B$29,0)","v":6.8},{"$f":"OFFSET('Raw Data'!DT40,Input_Details!$B$29,0)","v":0.8},{"$f":"OFFSET('Raw Data'!DU40,Input_Details!$B$29,0)","v":0},{"$f":"OFFSET('Raw Data'!DV40,Input_Details!$B$29,0)","v":6.6000000000000005},{"$f":"OFFSET('Raw Data'!DW40,Input_Details!$B$29,0)","v":36},null,{"$f":"OFFSET('Raw Data'!DX40,Input_Details!$B$29,0)","v":1.8},{"$f":"OFFSET('Raw Data'!DY40,Input_Details!$B$29,0)","v":6.4},{"$f":"OFFSET('Raw Data'!DZ40,Input_Details!$B$29,0)","v":0.2},{"$f":"OFFSET('Raw Data'!EA40,Input_Details!$B$29,0)","v":0.2},{"$f":"OFFSET('Raw Data'!EB40,Input_Details!$B$29,0)","v":0},{"$f":"OFFSET('Raw Data'!EC40,Input_Details!$B$29,0)","v":8.6},null,{"$f":"OFFSET('Raw Data'!ED40,Input_Details!$B$29,0)","v":23.6},{"$f":"OFFSET('Raw Data'!EE40,Input_Details!$B$29,0)","v":13.2},{"$f":"OFFSET('Raw Data'!EF40,Input_Details!$B$29,0)","v":1},{"$f":"OFFSET('Raw Data'!EG40,Input_Details!$B$29,0)","v":0.2},{"$f":"OFFSET('Raw Data'!EH40,Input_Details!$B$29,0)","v":6.6000000000000005},{"$f":"OFFSET('Raw Data'!EI40,Input_Details!$B$29,0)","v":44.6}]
[null,"09:15:00",{"$f":"OFFSET('Raw Data'!DR41,Input_Details!$B$29,0)","v":19.600000000000001},{"$f":"OFFSET('Raw Data'!DS41,Input_Details!$B$29,0)","v":4},{"$f":"OFFSET('Raw Data'!DT41,Input_Details!$B$29,0)","v":0.2},{"$f":"OFFSET('Raw Data'!DU41,Input_Details!$B$29,0)","v":0},{"$f":"OFFSET('Raw Data'!DV41,Input_Details!$B$29,0)","v":4},{"$f":"OFFSET('Raw Data'!DW41,Input_Details!$B$29,0)","v":27.8},null,{"$f":"OFFSET('Raw Data'!DX41,Input_Details!$B$29,0)","v":1},{"$f":"OFFSET('Raw Data'!DY41,Input_Details!$B$29,0)","v":3.4},{"$f":"OFFSET('Raw Data'!DZ41,Input_Details!$B$29,0)","v":0.4},{"$f":"OFFSET('Raw Data'!EA41,Input_Details!$B$29,0)","v":0},{"$f":"OFFSET('Raw Data'!EB41,Input_Details!$B$29,0)","v":0.2},{"$f":"OFFSET('Raw Data'!EC41,Input_Details!$B$29,0)","v":5.0000000000000009},null,{"$f":"OFFSET('Raw Data'!ED41,Input_Details!$B$29,0)","v":20.6},{"$f":"OFFSET('Raw Data'!EE41,Input_Details!$B$29,0)","v":7.4},{"$f":"OFFSET('Raw Data'!EF41,Input_Details!$B$29,0)","v":0.60000000000000009},{"$f":"OFFSET('Raw Data'!EG41,Input_Details!$B$29,0)","v":0},{"$f":"OFFSET('Raw Data'!EH41,Input_Details!$B$29,0)","v":4.2},{"$f":"OFFSET('Raw Data'!EI41,Input_Details!$B$29,0)","v":32.800000000000004}]
[null,"09:30:00",{"$f":"OFFSET('Raw Data'!DR42,Input_Details!$B$29,0)","v":15.6},{"$f":"OFFSET('Raw Data'!DS42,Input_Details!$B$29,0)","v":4.2},{"$f":"OFFSET('Raw Data'!DT42,Input_Details!$B$29,0)","v":0.8},{"$f":"OFFSET('Raw Data'!DU42,Input_Details!$B$29,0)","v":0.4},{"$f":"OFFSET('Raw Data'!DV42,Input_Details!$B$29,0)","v":3.6},{"$f":"OFFSET('Raw Data'!DW42,Input_Details!$B$29,0)","v":24.599999999999998},null,{"$f":"OFFSET('Raw Data'!DX42,Input_Details!$B$29,0)","v":0.6},{"$f":"OFFSET('Raw Data'!DY42,Input_Details!$B$29,0)","v":3.6},{"$f":"OFFSET('Raw Data'!DZ42,Input_Details!$B$29,0)","v":0.4},{"$f":"OFFSET('Raw Data'!EA42,Input_Details!$B$29,0)","v":0.2},{"$f":"OFFSET('Raw Data'!EB42,Input_Details!$B$29,0)","v":0},{"$f":"OFFSET('Raw Data'!EC42,Input_Details!$B$29,0)","v":4.8000000000000007},null,{"$f":"OFFSET('Raw Data'!ED42,Input_Details!$B$29,0)","v":16.2},{"$f":"OFFSET('Raw Data'!EE42,Input_Details!$B$29,0)","v":7.8000000000000007},{"$f":"OFFSET('Raw Data'!EF42,Input_Details!$B$29,0)","v":1.2000000000000002},{"$f":"OFFSET('Raw Data'!EG42,Input_Details!$B$29,0)","v":0.60000000000000009},{"$f":"OFFSET('Raw Data'!EH42,Input_Details!$B$29,0)","v":3.6},{"$f":"OFFSET('Raw Data'!EI42,Input_Details!$B$29,0)","v":29.4}]
[null,"09:45:00",{"$f":"OFFSET('Raw Data'!DR43,Input_Details!$B$29,0)","v":12.4},{"$f":"OFFSET('Raw Data'!DS43,Input_Details!$B$29,0)","v":4.5999999999999996},{"$f":"OFFSET('Raw Data'!DT43,Input_Details!$B$29,0)","v":0.2},{"$f":"OFFSET('Raw Data'!DU43,Input_Details!$B$29,0)","v":0},{"$f":"OFFSET('Raw Data'!DV43,Input_Details!$B$29,0)","v":0.4},{"$f":"OFFSET('Raw Data'!DW43,Input_Details!$B$29,0)","v":17.599999999999998},null,{"$f":"OFFSET('Raw Data'!DX43,Input_Details!$B$29,0)","v":0.6},{"$f":"OFFSET('Raw Data'!DY43,Input_Details!$B$29,0)","v":2.6},{"$f":"OFFSET('Raw Data'!DZ43,Input_Details!$B$29,0)","v":0.4},{"$f":"OFFSET('Raw Data'!EA43,Input_Details!$B$29,0)","v":0},{"$f":"OFFSET('Raw Data'!EB43,Input_Details!$B$29,0)","v":0},{"$f":"OFFSET('Raw Data'!EC43,Input_Details!$B$29,0)","v":3.6},null,{"$f":"OFFSET('Raw Data'!ED43,Input_Details!$B$29,0)","v":13},{"$f":"OFFSET('Raw Data'!EE43,Input_Details!$B$29,0)","v":7.1999999999999993},{"$f":"OFFSET('Raw Data'!EF43,Input_Details!$B$29,0)","v":0.60000000000000009},{"$f":"OFFSET('Raw Data'!EG43,Input_Details!$B$29,0)","v":0},{"$f":"OFFSET('Raw Data'!EH43,Input_Details!$B$29,0)","v":0.4},{"$f":"OFFSET('Raw Data'!EI43,Input_Details!$B$29,0)","v":21.2}]
[null,"10:00:00",{"$f":"OFFSET('Raw Data'!DR44,Input_Details!$B$29,0)","v":8.1999999999999993},{"$f":"OFFSET('Raw Data'!DS44,Input_Details!$B$29,0)","v":3.6},{"$f":"OFFSET('Raw Data'!DT44,Input_Details!$B$29,0)","v":0.2},{"$f":"OFFSET('Raw Data'!DU44,Input_Details!$B$29,0)","v":0},{"$f":"OFFSET('Raw Data'!DV44,Input_Details!$B$29,0)","v":0.4},{"$f":"OFFSET('Raw Data'!DW44,Input_Details!$B$29,0)","v":12.399999999999999},null,{"$f":"OFFSET('Raw Data'!DX44,Input_Details!$B$29,0)","v":0.8},{"$f":"OFFSET('Raw Data'!DY44,Input_Details!$B$29,0)","v":3.4},{"$f":"OFFSET('Raw Data'!DZ44,Input_Details!$B$29,0)","v":0.4},{"$f":"OFFSET('Raw Data'!EA44,Input_Details!$B$29,0)","v":0},{"$f":"OFFSET('Raw Data'!EB44,Input_Details!$B$29,0)","v":0},{"$f":"OFFSET('Raw Data'!EC44,Input_Details!$B$29,0)","v":4.6000000000000005},null,{"$f":"OFFSET('Raw Data'!ED44,Input_Details!$B$29,0)","v":9},{"$f":"OFFSET('Raw Data'!EE44,Input_Details!$B$29,0)","v":7},{"$f":"OFFSET('Raw Data'!EF44,Input_Details!$B$29,0)","v":0.60000000000000009},{"$f":"OFFSET('Raw Data'!EG44,Input_Details!$B$29,0)","v":0},{"$f":"OFFSET('Raw Data'!EH44,Input_Details!$B$29,0)","v":0.4},{"$f":"OFFSET('Raw Data'!EI44,Input_Details!$B$29,0)","v":17}]
[null,"10:15:00",{"$f":"OFFSET('Raw Data'!DR45,Input_Details!$B$29,0)","v":3.2},{"$f":"OFFSET('Raw Data'!DS45,Input_Details!$B$29,0)","v":2.6},{"$f":"OFFSET('Raw Data'!DT45,Input_Details!$B$29,0)","v":0.4},{"$f":"OFFSET('Raw Data'!DU45,Input_Details!$B$29,0)","v":0},{"$f":"OFFSET('Raw Data'!DV45,Input_Details!$B$29,0)","v":0},{"$f":"OFFSET('Raw Data'!DW45,Input_Details!$B$29,0)","v":6.2000000000000011},null,{"$f":"OFFSET('Raw Data'!DX45,Input_Details!$B$29,0)","v":0.8},{"$f":"OFFSET('Raw Data'!DY45,Input_Details!$B$29,0)","v":5},{"$f":"OFFSET('Raw Data'!DZ45,Input_Details!$B$29,0)","v":0.4},{"$f":"OFFSET('Raw Data'!EA45,Input_Details!$B$29,0)","v":0},{"$f":"OFFSET('Raw Data'!EB45,Input_Details!$B$29,0)","v":0},{"$f":"OFFSET('Raw Data'!EC45,Input_Details!$B$29,0)","v":6.2},null,{"$f":"OFFSET('Raw Data'!ED45,Input_Details!$B$29,0)","v":4},{"$f":"OFFSET('Raw Data'!EE45,Input_Details!$B$29,0)","v":7.6},{"$f":"OFFSET('Raw Data'!EF45,Input_Details!$B$29,0)","v":0.8},{"$f":"OFFSET('Raw Data'!EG45,Input_Details!$B$29,0)","v":0},{"$f":"OFFSET('Raw Data'!EH45,Input_Details!$B$29,0)","v":0},{"$f":"OFFSET('Raw Data'!EI45,Input_Details!$B$29,0)","v":12.400000000000002}]
[null,"10:30:00",{"$f":"OFFSET('Raw Data'!DR46,Input_Details!$B$29,0)","v":5.2},{"$f":"OFFSET('Raw Data'!DS46,Input_Details!$B$29,0)","v":2.6},{"$f":"OFFSET('Raw Data'!DT46,Input_Details!$B$29,0)","v":0.6},{"$f":"OFFSET('Raw Data'!DU46,Input_Details!$B$29,0)","v":0},{"$f":"OFFSET('Raw Data'!DV46,Input_Details!$B$29,0)","v":0},{"$f":"OFFSET('Raw Data'!DW46,Input_Details!$B$29,0)","v":8.4},null,{"$f":"OFFSET('Raw Data'!DX46,Input_Details!$B$29,0)","v":1},{"$f":"OFFSET('Raw Data'!DY46,Input_Details!$B$29,0)","v":2},{"$f":"OFFSET('Raw Data'!DZ46,Input_Details!$B$29,0)","v":1},{"$f":"OFFSET('Raw Data'!EA46,Input_Details!$B$29,0)","v":0},{"$f":"OFFSET('Raw Data'!EB46,Input_Details!$B$29,0)","v":0},{"$f":"OFFSET('Raw Data'!EC46,Input_Details!$B$29,0)","v":4},null,{"$f":"OFFSET('Raw Data'!ED46,Input_Details!$B$29,0)","v":6.2},{"$f":"OFFSET('Raw Data'!EE46,Input_Details!$B$29,0)","v":4.5999999999999996},{"$f":"OFFSET('Raw Data'!EF46,Input_Details!$B$29,0)","v":1.6},{"$f":"OFFSET('Raw Data'!EG46,Input_Details!$B$29,0)","v":0},{"$f":"OFFSET('Raw Data'!EH46,Input_Details!$B$29,0)","v":0},{"$f":"OFFSET('Raw Data'!EI46,Input_Details!$B$29,0)","v":12.4}]
[null,"10:45:00",{"$f":"OFFSET('Raw Data'!DR47,Input_Details!$B$29,0)","v":3.8},{"$f":"OFFSET('Raw Data'!DS47,Input_Details!$B$29,0)","v":2.6},{"$f":"OFFSET('Raw Data'!DT47,Input_Details!$B$29,0)","v":0.8},{"$f":"OFFSET('Raw Data'!DU47,Input_Details!$B$29,0)","v":0},{"$f":"OFFSET('Raw Data'!DV47,Input_Details!$B$29,0)","v":0},{"$f":"OFFSET('Raw Data'!DW47,Input_Details!$B$29,0)","v":7.2},null,{"$f":"OFFSET('Raw Data'!DX47,Input_Details!$B$29,0)","v":1.6},{"$f":"OFFSET('Raw Data'!DY47,Input_Details!$B$29,0)","v":3.4},{"$f":"OFFSET('Raw Data'!DZ47,Input_Details!$B$29,0)","v":0.8},{"$f":"OFFSET('Raw Data'!EA47,Input_Details!$B$29,0)","v":0},{"$f":"OFFSET('Raw Data'!EB47,Input_Details!$B$29,0)","v":0},{"$f":"OFFSET('Raw Data'!EC47,Input_Details!$B$29,0)","v":5.8},null,{"$f":"OFFSET('Raw Data'!ED47,Input_Details!$B$29,0)","v":5.4},{"$f":"OFFSET('Raw Data'!EE47,Input_Details!$B$29,0)","v":6},{"$f":"OFFSET('Raw Data'!EF47,Input_Details!$B$29,0)","v":1.6},{"$f":"OFFSET('Raw Data'!EG47,Input_Details!$B$29,0)","v":0},{"$f":"OFFSET('Raw Data'!EH47,Input_Details!$B$29,0)","v":0},{"$f":"OFFSET('Raw Data'!EI47,Input_Details!$B$29,0)","v":13}]
[null,"11:00:00",{"$f":"OFFSET('Raw Data'!DR48,Input_Details!$B$29,0)","v":3.2},{"$f":"OFFSET('Raw Data'!DS48,Input_Details!$B$29,0)","v":4},{"$f":"OFFSET('Raw Data'!DT48,Input_Details!$B$29,0)","v":0.8},{"$f":"OFFSET('Raw Data'!DU48,Input_Details!$B$29,0)","v":0},{"$f":"OFFSET('Raw Data'!DV48,Input_Details!$B$29,0)","v":0.2},{"$f":"OFFSET('Raw Data'!DW48,Input_Details!$B$29,0)","v":8.1999999999999993},null,{"$f":"OFFSET('Raw Data'!DX48,Input_Details!$B$29,0)","v":1},{"$f":"OFFSET('Raw Data'!DY48,Input_Details!$B$29,0)","v":5},{"$f":"OFFSET('Raw Data'!DZ48,Input_Details!$B$29,0)","v":0.6},{"$f":"OFFSET('Raw Data'!EA48,Input_Details!$B$29,0)","v":0},{"$f":"OFFSET('Raw Data'!EB48,Input_Details!$B$29,0)","v":0},{"$f":"OFFSET('Raw Data'!EC48,Input_Details!$B$29,0)","v":6.6},null,{"$f":"OFFSET('Raw Data'!ED48,Input_Details!$B$29,0)","v":4.2},{"$f":"OFFSET('Raw Data'!EE48,Input_Details!$B$29,0)","v":9},{"$f":"OFFSET('Raw Data'!EF48,Input_Details!$B$29,0)","v":1.4},{"$f":"OFFSET('Raw Data'!EG48,Input_Details!$B$29,0)","v":0},{"$f":"OFFSET('Raw Data'!EH48,Input_Details!$B$29,0)","v":0.2},{"$f":"OFFSET('Raw Data'!EI48,Input_Details!$B$29,0)","v":14.799999999999999}]
[null,"11:15:00",{"$f":"OFFSET('Raw Data'!DR49,Input_Details!$B$29,0)","v":2.8},{"$f":"OFFSET('Raw Data'!DS49,Input_Details!$B$29,0)","v":2.6},{"$f":"OFFSET('Raw Data'!DT49,Input_Details!$B$29,0)","v":0.6},{"$f":"OFFSET('Raw Data'!DU49,Input_Details!$B$29,0)","v":0},{"$f":"OFFSET('Raw Data'!DV49,Input_Details!$B$29,0)","v":0},{"$f":"OFFSET('Raw Data'!DW49,Input_Details!$B$29,0)","v":6},null,{"$f":"OFFSET('Raw Data'!DX49,Input_Details!$B$29,0)","v":0.6},{"$f":"OFFSET('Raw Data'!DY49,Input_Details!$B$29,0)","v":2.8},{"$f":"OFFSET('Raw Data'!DZ49,Input_Details!$B$29,0)","v":0.6},{"$f":"OFFSET('Raw Data'!EA49,Input_Details!$B$29,0)","v":0},{"$f":"OFFSET('Raw Data'!EB49,Input_Details!$B$29,0)","v":0},{"$f":"OFFSET('Raw Data'!EC49,Input_Details!$B$29,0)","v":4},null,{"$f":"OFFSET('Raw Data'!ED49,Input_Details!$B$29,0)","v":3.4},{"$f":"OFFSET('Raw Data'!EE49,Input_Details!$B$29,0)","v":5.4},{"$f":"OFFSET('Raw Data'!EF49,Input_Details!$B$29,0)","v":1.2},{"$f":"OFFSET('Raw Data'!EG49,Input_Details!$B$29,0)","v":0},{"$f":"OFFSET('Raw Data'!EH49,Input_Details!$B$29,0)","v":0},{"$f":"OFFSET('Raw Data'!EI49,Input_Details!$B$29,0)","v":10}]
[null,"11:30:00",{"$f":"OFFSET('Raw Data'!DR50,Input_Details!$B$29,0)","v":2.8},{"$f":"OFFSET('Raw Data'!DS50,Input_Details!$B$29,0)","v":2.8},{"$f":"OFFSET('Raw Data'!DT50,Input_Details!$B$29,0)","v":1},{"$f":"OFFSET('Raw Data'!DU50,Input_Details!$B$29,0)","v":0},{"$f":"OFFSET('Raw Data'!DV50,Input_Details!$B$29,0)","v":0.2},{"$f":"OFFSET('Raw Data'!DW50,Input_Details!$B$29,0)","v":6.8},null,{"$f":"OFFSET('Raw Data'!DX50,Input_Details!$B$29,0)","v":2},{"$f":"OFFSET('Raw Data'!DY50,Input_Details!$B$29,0)","v":3.8},{"$f":"OFFSET('Raw Data'!DZ50,Input_Details!$B$29,0)","v":0.6},{"$f":"OFFSET('Raw Data'!EA50,Input_Details!$B$29,0)","v":0},{"$f":"OFFSET('Raw Data'!EB50,Input_Details!$B$29,0)","v":0.2},{"$f":"OFFSET('Raw Data'!EC50,Input_Details!$B$29,0)","v":6.6},null,{"$f":"OFFSET('Raw Data'!ED50,Input_Details!$B$29,0)","v":4.8},{"$f":"OFFSET('Raw Data'!EE50,Input_Details!$B$29,0)","v":6.6},{"$f":"OFFSET('Raw Data'!EF50,Input_Details!$B$29,0)","v":1.6},{"$f":"OFFSET('Raw Data'!EG50,Input_Details!$B$29,0)","v":0},{"$f":"OFFSET('Raw Data'!EH50,Input_Details!$B$29,0)","v":0.4},{"$f":"OFFSET('Raw Data'!EI50,Input_Details!$B$29,0)","v":13.399999999999999}]
[null,"11:45:00",{"$f":"OFFSET('Raw Data'!DR51,Input_Details!$B$29,0)","v":2.2000000000000002},{"$f":"OFFSET('Raw Data'!DS51,Input_Details!$B$29,0)","v":3.6},{"$f":"OFFSET('Raw Data'!DT51,Input_Details!$B$29,0)","v":0},{"$f":"OFFSET('Raw Data'!DU51,Input_Details!$B$29,0)","v":0},{"$f":"OFFSET('Raw Data'!DV51,Input_Details!$B$29,0)","v":0},{"$f":"OFFSET('Raw Data'!DW51,Input_Details!$B$29,0)","v":5.8000000000000007},null,{"$f":"OFFSET('Raw Data'!DX51,Input_Details!$B$29,0)","v":1.2},{"$f":"OFFSET('Raw Data'!DY51,Input_Details!$B$29,0)","v":3.2},{"$f":"OFFSET('Raw Data'!DZ51,Input_Details!$B$29,0)","v":0.6},{"$f":"OFFSET('Raw Data'!EA51,Input_Details!$B$29,0)","v":0},{"$f":"OFFSET('Raw Data'!EB51,Input_Details!$B$29,0)","v":0},{"$f":"OFFSET('Raw Data'!EC51,Input_Details!$B$29,0)","v":5},null,{"$f":"OFFSET('Raw Data'!ED51,Input_Details!$B$29,0)","v":3.4000000000000004},{"$f":"OFFSET('Raw Data'!EE51,Input_Details!$B$29,0)","v":6.8000000000000007},{"$f":"OFFSET('Raw Data'!EF51,Input_Details!$B$29,0)","v":0.6},{"$f":"OFFSET('Raw Data'!EG51,Input_Details!$B$29,0)","v":0},{"$f":"OFFSET('Raw Data'!EH51,Input_Details!$B$29,0)","v":0},{"$f":"OFFSET('Raw Data'!EI51,Input_Details!$B$29,0)","v":10.8}]
[null,"12:00:00",{"$f":"OFFSET('Raw Data'!DR52,Input_Details!$B$29,0)","v":1.4},{"$f":"OFFSET('Raw Data'!DS52,Input_Details!$B$29,0)","v":4},{"$f":"OFFSET('Raw Data'!DT52,Input_Details!$B$29,0)","v":1},{"$f":"OFFSET('Raw Data'!DU52,Input_Details!$B$29,0)","v":0},{"$f":"OFFSET('Raw Data'!DV52,Input_Details!$B$29,0)","v":0.2},{"$f":"OFFSET('Raw Data'!DW52,Input_Details!$B$29,0)","v":6.6000000000000005},null,{"$f":"OFFSET('Raw Data'!DX52,Input_Details!$B$29,0)","v":1.6},{"$f":"OFFSET('Raw Data'!DY52,Input_Details!$B$29,0)","v":3},{"$f":"OFFSET('Raw Data'!DZ52,Input_Details!$B$29,0)","v":0},{"$f":"OFFSET('Raw Data'!EA52,Input_Details!$B$29,0)","v":0},{"$f":"OFFSET('Raw Data'!EB52,Input_Details!$B$29,0)","v":0},{"$f":"OFFSET('Raw Data'!EC52,Input_Details!$B$29,0)","v":4.5999999999999996},null,{"$f":"OFFSET('Raw Data'!ED52,Input_Details!$B$29,0)","v":3},{"$f":"OFFSET('Raw Data'!EE52,Input_Details!$B$29,0)","v":7},{"$f":"OFFSET('Raw Data'!EF52,Input_Details!$B$29,0)","v":1},{"$f":"OFFSET('Raw Data'!EG52,Input_Details!$B$29,0)","v":0},{"$f":"OFFSET('Raw Data'!EH52,Input_Details!$B$29,0)","v":0.2},{"$f":"OFFSET('Raw Data'!EI52,Input_Details!$B$29,0)","v":11.2}]
[null,"12:15:00",{"$f":"OFFSET('Raw Data'!DR53,Input_Details!$B$29,0)","v":3.8},{"$f":"OFFSET('Raw Data'!DS53,Input_Details!$B$29,0)","v":2.8},{"$f":"OFFSET('Raw Data'!DT53,Input_Details!$B$29,0)","v":0.8},{"$f":"OFFSET('Raw Data'!DU53,Input_Details!$B$29,0)","v":0},{"$f":"OFFSET('Raw Data'!DV53,Input_Details!$B$29,0)","v":0},{"$f":"OFFSET('Raw Data'!DW53,Input_Details!$B$29,0)","v":7.3999999999999995},null,{"$f":"OFFSET('Raw Data'!DX53,Input_Details!$B$29,0)","v":2.2000000000000002},{"$f":"OFFSET('Raw Data'!DY53,Input_Details!$B$29,0)","v":2},{"$f":"OFFSET('Raw Data'!DZ53,Input_Details!$B$29,0)","v":0.6},{"$f":"OFFSET('Raw Data'!EA53,Input_Details!$B$29,0)","v":0},{"$f":"OFFSET('Raw Data'!EB53,Input_Details!$B$29,0)","v":0},{"$f":"OFFSET('Raw Data'!EC53,Input_Details!$B$29,0)","v":4.8},null,{"$f":"OFFSET('Raw Data'!ED53,Input_Details!$B$29,0)","v":6},{"$f":"OFFSET('Raw Data'!EE53,Input_Details!$B$29,0)","v":4.8},{"$f":"OFFSET('Raw Data'!EF53,Input_Details!$B$29,0)","v":1.4},{"$f":"OFFSET('Raw Data'!EG53,Input_Details!$B$29,0)","v":0},{"$f":"OFFSET('Raw Data'!EH53,Input_Details!$B$29,0)","v":0},{"$f":"OFFSET('Raw Data'!EI53,Input_Details!$B$29,0)","v":12.2}]
[null,"12:30:00",{"$f":"OFFSET('Raw Data'!DR54,Input_Details!$B$29,0)","v":2.2000000000000002},{"$f":"OFFSET('Raw Data'!DS54,Input_Details!$B$29,0)","v":2.6},{"$f":"OFFSET('Raw Data'!DT54,Input_Details!$B$29,0)","v":1},{"$f":"OFFSET('Raw Data'!DU54,Input_Details!$B$29,0)","v":0},{"$f":"OFFSET('Raw Data'!DV54,Input_Details!$B$29,0)","v":0.2},{"$f":"OFFSET('Raw Data'!DW54,Input_Details!$B$29,0)","v":6.0000000000000009},null,{"$f":"OFFSET('Raw Data'!DX54,Input_Details!$B$29,0)","v":2},{"$f":"OFFSET('Raw Data'!DY54,Input_Details!$B$29,0)","v":3},{"$f":"OFFSET('Raw Data'!DZ54,Input_Details!$B$29,0)","v":1},{"$f":"OFFSET('Raw Data'!EA54,Input_Details!$B$29,0)","v":0},{"$f":"OFFSET('Raw Data'!EB54,Input_Details!$B$29,0)","v":0.2},{"$f":"OFFSET('Raw Data'!EC54,Input_Details!$B$29,0)","v":6.2},null,{"$f":"OFFSET('Raw Data'!ED54,Input_Details!$B$29,0)","v":4.2},{"$f":"OFFSET('Raw Data'!EE54,Input_Details!$B$29,0)","v":5.6},{"$f":"OFFSET('Raw Data'!EF54,Input_Details!$B$29,0)","v":2},{"$f":"OFFSET('Raw Data'!EG54,Input_Details!$B$29,0)","v":0},{"$f":"OFFSET('Raw Data'!EH54,Input_Details!$B$29,0)","v":0.4},{"$f":"OFFSET('Raw Data'!EI54,Input_Details!$B$29,0)","v":12.200000000000001}]
[null,"12:45:00",{"$f":"OFFSET('Raw Data'!DR55,Input_Details!$B$29,0)","v":2.6},{"$f":"OFFSET('Raw Data'!DS55,Input_Details!$B$29,0)","v":4.8},{"$f":"OFFSET('Raw Data'!DT55,Input_Details!$B$29,0)","v":0.2},{"$f":"OFFSET('Raw Data'!DU55,Input_Details!$B$29,0)","v":0},{"$f":"OFFSET('Raw Data'!DV55,Input_Details!$B$29,0)","v":0.2},{"$f":"OFFSET('Raw Data'!DW55,Input_Details!$B$29,0)","v":7.8000000000000007},null,{"$f":"OFFSET('Raw Data'!DX55,Input_Details!$B$29,0)","v":1.4},{"$f":"OFFSET('Raw Data'!DY55,Input_Details!$B$29,0)","v":3.2},{"$f":"OFFSET('Raw Data'!DZ55,Input_Details!$B$29,0)","v":0.6},{"$f":"OFFSET('Raw Data'!EA55,Input_Details!$B$29,0)","v":0},{"$f":"OFFSET('Raw Data'!EB55,Input_Details!$B$29,0)","v":0},{"$f":"OFFSET('Raw Data'!EC55,Input_Details!$B$29,0)","v":5.1999999999999993},null,{"$f":"OFFSET('Raw Data'!ED55,Input_Details!$B$29,0)","v":4},{"$f":"OFFSET('Raw Data'!EE55,Input_Details!$B$29,0)","v":8},{"$f":"OFFSET('Raw Data'!EF55,Input_Details!$B$29,0)","v":0.8},{"$f":"OFFSET('Raw Data'!EG55,Input_Details!$B$29,0)","v":0},{"$f":"OFFSET('Raw Data'!EH55,Input_Details!$B$29,0)","v":0.2},{"$f":"OFFSET('Raw Data'!EI55,Input_Details!$B$29,0)","v":13}]
[null,"13:00:00",{"$f":"OFFSET('Raw Data'!DR56,Input_Details!$B$29,0)","v":2.4},{"$f":"OFFSET('Raw Data'!DS56,Input_Details!$B$29,0)","v":6.8},{"$f":"OFFSET('Raw Data'!DT56,Input_Details!$B$29,0)","v":0.6},{"$f":"OFFSET('Raw Data'!DU56,Input_Details!$B$29,0)","v":0},{"$f":"OFFSET('Raw Data'!DV56,Input_Details!$B$29,0)","v":0},{"$f":"OFFSET('Raw Data'!DW56,Input_Details!$B$29,0)","v":9.7999999999999989},null,{"$f":"OFFSET('Raw Data'!DX56,Input_Details!$B$29,0)","v":1.8},{"$f":"OFFSET('Raw Data'!DY56,Input_Details!$B$29,0)","v":3.4},{"$f":"OFFSET('Raw Data'!DZ56,Input_Details!$B$29,0)","v":0.6},{"$f":"OFFSET('Raw Data'!EA56,Input_Details!$B$29,0)","v":0},{"$f":"OFFSET('Raw Data'!EB56,Input_Details!$B$29,0)","v":0},{"$f":"OFFSET('Raw Data'!EC56,Input_Details!$B$29,0)","v":5.8},null,{"$f":"OFFSET('Raw Data'!ED56,Input_Details!$B$29,0)","v":4.2},{"$f":"OFFSET('Raw Data'!EE56,Input_Details!$B$29,0)","v":10.199999999999999},{"$f":"OFFSET('Raw Data'!EF56,Input_Details!$B$29,0)","v":1.2},{"$f":"OFFSET('Raw Data'!EG56,Input_Details!$B$29,0)","v":0},{"$f":"OFFSET('Raw Data'!EH56,Input_Details!$B$29,0)","v":0},{"$f":"OFFSET('Raw Data'!EI56,Input_Details!$B$29,0)","v":15.599999999999998}]
[null,"13:15:00",{"$f":"OFFSET('Raw Data'!DR57,Input_Details!$B$29,0)","v":2.6},{"$f":"OFFSET('Raw Data'!DS57,Input_Details!$B$29,0)","v":4.2},{"$f":"OFFSET('Raw Data'!DT57,Input_Details!$B$29,0)","v":0.6},{"$f":"OFFSET('Raw Data'!DU57,Input_Details!$B$29,0)","v":0},{"$f":"OFFSET('Raw Data'!DV57,Input_Details!$B$29,0)","v":0},{"$f":"OFFSET('Raw Data'!DW57,Input_Details!$B$29,0)","v":7.4},null,{"$f":"OFFSET('Raw Data'!DX57,Input_Details!$B$29,0)","v":1.6},{"$f":"OFFSET('Raw Data'!DY57,Input_Details!$B$29,0)","v":4.2},{"$f":"OFFSET('Raw Data'!DZ57,Input_Details!$B$29,0)","v":1},{"$f":"OFFSET('Raw Data'!EA57,Input_Details!$B$29,0)","v":0.4},{"$f":"OFFSET('Raw Data'!EB57,Input_Details!$B$29,0)","v":0.2},{"$f":"OFFSET('Raw Data'!EC57,Input_Details!$B$29,0)","v":7.4000000000000012},null,{"$f":"OFFSET('Raw Data'!ED57,Input_Details!$B$29,0)","v":4.2},{"$f":"OFFSET('Raw Data'!EE57,Input_Details!$B$29,0)","v":8.4},{"$f":"OFFSET('Raw Data'!EF57,Input_Details!$B$29,0)","v":1.6},{"$f":"OFFSET('Raw Data'!EG57,Input_Details!$B$29,0)","v":0.4},{"$f":"OFFSET('Raw Data'!EH57,Input_Details!$B$29,0)","v":0.2},{"$f":"OFFSET('Raw Data'!EI57,Input_Details!$B$29,0)","v":14.8}]
[null,"13:30:00",{"$f":"OFFSET('Raw Data'!DR58,Input_Details!$B$29,0)","v":2.8},{"$f":"OFFSET('Raw Data'!DS58,Input_Details!$B$29,0)","v":3.4},{"$f":"OFFSET('Raw Data'!DT58,Input_Details!$B$29,0)","v":0.4},{"$f":"OFFSET('Raw Data'!DU58,Input_Details!$B$29,0)","v":0},{"$f":"OFFSET('Raw Data'!DV58,Input_Details!$B$29,0)","v":0},{"$f":"OFFSET('Raw Data'!DW58,Input_Details!$B$29,0)","v":6.6},null,{"$f":"OFFSET('Raw Data'!DX58,Input_Details!$B$29,0)","v":4.2},{"$f":"OFFSET('Raw Data'!DY58,Input_Details!$B$29,0)","v":4.8},{"$f":"OFFSET('Raw Data'!DZ58,Input_Details!$B$29,0)","v":0.8},{"$f":"OFFSET('Raw Data'!EA58,Input_Details!$B$29,0)","v":0.2},{"$f":"OFFSET('Raw Data'!EB58,Input_Details!$B$29,0)","v":0},{"$f":"OFFSET('Raw Data'!EC58,Input_Details!$B$29,0)","v":10},null,{"$f":"OFFSET('Raw Data'!ED58,Input_Details!$B$29,0)","v":7},{"$f":"OFFSET('Raw Data'!EE58,Input_Details!$B$29,0)","v":8.1999999999999993},{"$f":"OFFSET('Raw Data'!EF58,Input_Details!$B$29,0)","v":1.2000000000000002},{"$f":"OFFSET('Raw Data'!EG58,Input_Details!$B$29,0)","v":0.2},{"$f":"OFFSET('Raw Data'!EH58,Input_Details!$B$29,0)","v":0},{"$f":"OFFSET('Raw Data'!EI58,Input_Details!$B$29,0)","v":16.600000000000001}]
[null,"13:45:00",{"$f":"OFFSET('Raw Data'!DR59,Input_Details!$B$29,0)","v":1.8},{"$f":"OFFSET('Raw Data'!DS59,Input_Details!$B$29,0)","v":2.6},{"$f":"OFFSET('Raw Data'!DT59,Input_Details!$B$29,0)","v":1},{"$f":"OFFSET('Raw Data'!DU59,Input_Details!$B$29,0)","v":0.2},{"$f":"OFFSET('Raw Data'!DV59,Input_Details!$B$29,0)","v":0},{"$f":"OFFSET('Raw Data'!DW59,Input_Details!$B$29,0)","v":5.6000000000000005},null,{"$f":"OFFSET('Raw Data'!DX59,Input_Details!$B$29,0)","v":2},{"$f":"OFFSET('Raw Data'!DY59,Input_Details!$B$29,0)","v":2.4},{"$f":"OFFSET('Raw Data'!DZ59,Input_Details!$B$29,0)","v":0.8},{"$f":"OFFSET('Raw Data'!EA59,Input_Details!$B$29,0)","v":0},{"$f":"OFFSET('Raw Data'!EB59,Input_Details!$B$29,0)","v":0},{"$f":"OFFSET('Raw Data'!EC59,Input_Details!$B$29,0)","v":5.2},null,{"$f":"OFFSET('Raw Data'!ED59,Input_Details!$B$29,0)","v":3.8},{"$f":"OFFSET('Raw Data'!EE59,Input_Details!$B$29,0)","v":5},{"$f":"OFFSET('Raw Data'!EF59,Input_Details!$B$29,0)","v":1.8},{"$f":"OFFSET('Raw Data'!EG59,Input_Details!$B$29,0)","v":0.2},{"$f":"OFFSET('Raw Data'!EH59,Input_Details!$B$29,0)","v":0},{"$f":"OFFSET('Raw Data'!EI59,Input_Details!$B$29,0)","v":10.8}]
[null,"14:00:00",{"$f":"OFFSET('Raw Data'!DR60,Input_Details!$B$29,0)","v":1.6},{"$f":"OFFSET('Raw Data'!DS60,Input_Details!$B$29,0)","v":2.2000000000000002},{"$f":"OFFSET('Raw Data'!DT60,Input_Details!$B$29,0)","v":0.2},{"$f":"OFFSET('Raw Data'!DU60,Input_Details!$B$29,0)","v":0},{"$f":"OFFSET('Raw Data'!DV60,Input_Details!$B$29,0)","v":0},{"$f":"OFFSET('Raw Data'!DW60,Input_Details!$B$29,0)","v":4},null,{"$f":"OFFSET('Raw Data'!DX60,Input_Details!$B$29,0)","v":1.6},{"$f":"OFFSET('Raw Data'!DY60,Input_Details!$B$29,0)","v":5},{"$f":"OFFSET('Raw Data'!DZ60,Input_Details!$B$29,0)","v":0.4},{"$f":"OFFSET('Raw Data'!EA60,Input_Details!$B$29,0)","v":0},{"$f":"OFFSET('Raw Data'!EB60,Input_Details!$B$29,0)","v":0},{"$f":"OFFSET('Raw Data'!EC60,Input_Details!$B$29,0)","v":7},null,{"$f":"OFFSET('Raw Data'!ED60,Input_Details!$B$29,0)","v":3.2},{"$f":"OFFSET('Raw Data'!EE60,Input_Details!$B$29,0)","v":7.2},{"$f":"OFFSET('Raw Data'!EF60,Input_Details!$B$29,0)","v":0.60000000000000009},{"$f":"OFFSET('Raw Data'!EG60,Input_Details!$B$29,0)","v":0},{"$f":"OFFSET('Raw Data'!EH60,Input_Details!$B$29,0)","v":0},{"$f":"OFFSET('Raw Data'!EI60,Input_Details!$B$29,0)","v":11}]
[null,"14:15:00",{"$f":"OFFSET('Raw Data'!DR61,Input_Details!$B$29,0)","v":1},{"$f":"OFFSET('Raw Data'!DS61,Input_Details!$B$29,0)","v":3.2},{"$f":"OFFSET('Raw Data'!DT61,Input_Details!$B$29,0)","v":0.8},{"$f":"OFFSET('Raw Data'!DU61,Input_Details!$B$29,0)","v":0},{"$f":"OFFSET('Raw Data'!DV61,Input_Details!$B$29,0)","v":0},{"$f":"OFFSET('Raw Data'!DW61,Input_Details!$B$29,0)","v":5},null,{"$f":"OFFSET('Raw Data'!DX61,Input_Details!$B$29,0)","v":2.8},{"$f":"OFFSET('Raw Data'!DY61,Input_Details!$B$29,0)","v":4.8},{"$f":"OFFSET('Raw Data'!DZ61,Input_Details!$B$29,0)","v":0.4},{"$f":"OFFSET('Raw Data'!EA61,Input_Details!$B$29,0)","v":0.2},{"$f":"OFFSET('Raw Data'!EB61,Input_Details!$B$29,0)","v":0},{"$f":"OFFSET('Raw Data'!EC61,Input_Details!$B$29,0)","v":8.1999999999999993},null,{"$f":"OFFSET('Raw Data'!ED61,Input_Details!$B$29,0)","v":3.8},{"$f":"OFFSET('Raw Data'!EE61,Input_Details!$B$29,0)","v":8},{"$f":"OFFSET('Raw Data'!EF61,Input_Details!$B$29,0)","v":1.2000000000000002},{"$f":"OFFSET('Raw Data'!EG61,Input_Details!$B$29,0)","v":0.2},{"$f":"OFFSET('Raw Data'!EH61,Input_Details!$B$29,0)","v":0},{"$f":"OFFSET('Raw Data'!EI61,Input_Details!$B$29,0)","v":13.2}]
[null,"14:30:00",{"$f":"OFFSET('Raw Data'!DR62,Input_Details!$B$29,0)","v":2.8},{"$f":"OFFSET('Raw Data'!DS62,Input_Details!$B$29,0)","v":2.6},{"$f":"OFFSET('Raw Data'!DT62,Input_Details!$B$29,0)","v":0.4},{"$f":"OFFSET('Raw Data'!DU62,Input_Details!$B$29,0)","v":0},{"$f":"OFFSET('Raw Data'!DV62,Input_Details!$B$29,0)","v":0},{"$f":"OFFSET('Raw Data'!DW62,Input_Details!$B$29,0)","v":5.8000000000000007},null,{"$f":"OFFSET('Raw Data'!DX62,Input_Details!$B$29,0)","v":3.8},{"$f":"OFFSET('Raw Data'!DY62,Input_Details!$B$29,0)","v":4.2},{"$f":"OFFSET('Raw Data'!DZ62,Input_Details!$B$29,0)","v":1.6},{"$f":"OFFSET('Raw Data'!EA62,Input_Details!$B$29,0)","v":0},{"$f":"OFFSET('Raw Data'!EB62,Input_Details!$B$29,0)","v":0},{"$f":"OFFSET('Raw Data'!EC62,Input_Details!$B$29,0)","v":9.6},null,{"$f":"OFFSET('Raw Data'!ED62,Input_Details!$B$29,0)","v":6.6},{"$f":"OFFSET('Raw Data'!EE62,Input_Details!$B$29,0)","v":6.8000000000000007},{"$f":"OFFSET('Raw Data'!EF62,Input_Details!$B$29,0)","v":2},{"$f":"OFFSET('Raw Data'!EG62,Input_Details!$B$29,0)","v":0},{"$f":"OFFSET('Raw Data'!EH62,Input_Details!$B$29,0)","v":0},{"$f":"OFFSET('Raw Data'!EI62,Input_Details!$B$29,0)","v":15.4}]
[null,"14:45:00",{"$f":"OFFSET('Raw Data'!DR63,Input_Details!$B$29,0)","v":0.8},{"$f":"OFFSET('Raw Data'!DS63,Input_Details!$B$29,0)","v":3.4},{"$f":"OFFSET('Raw Data'!DT63,Input_Details!$B$29,0)","v":0.4},{"$f":"OFFSET('Raw Data'!DU63,Input_Details!$B$29,0)","v":0},{"$f":"OFFSET('Raw Data'!DV63,Input_Details!$B$29,0)","v":0},{"$f":"OFFSET('Raw Data'!DW63,Input_Details!$B$29,0)","v":4.6000000000000005},null,{"$f":"OFFSET('Raw Data'!DX63,Input_Details!$B$29,0)","v":3.4},{"$f":"OFFSET('Raw Data'!DY63,Input_Details!$B$29,0)","v":4.5999999999999996},{"$f":"OFFSET('Raw Data'!DZ63,Input_Details!$B$29,0)","v":1},{"$f":"OFFSET('Raw Data'!EA63,Input_Details!$B$29,0)","v":0},{"$f":"OFFSET('Raw Data'!EB63,Input_Details!$B$29,0)","v":0},{"$f":"OFFSET('Raw Data'!EC63,Input_Details!$B$29,0)","v":9},null,{"$f":"OFFSET('Raw Data'!ED63,Input_Details!$B$29,0)","v":4.2},{"$f":"OFFSET('Raw Data'!EE63,Input_Details!$B$29,0)","v":8},{"$f":"OFFSET('Raw Data'!EF63,Input_Details!$B$29,0)","v":1.4},{"$f":"OFFSET('Raw Data'!EG63,Input_Details!$B$29,0)","v":0},{"$f":"OFFSET('Raw Data'!EH63,Input_Details!$B$29,0)","v":0},{"$f":"OFFSET('Raw Data'!EI63,Input_Details!$B$29,0)","v":13.600000000000001}]
[null,"15:00:00",{"$f":"OFFSET('Raw Data'!DR64,Input_Details!$B$29,0)","v":1},{"$f":"OFFSET('Raw Data'!DS64,Input_Details!$B$29,0)","v":3},{"$f":"OFFSET('Raw Data'!DT64,Input_Details!$B$29,0)","v":0.8},{"$f":"OFFSET('Raw Data'!DU64,Input_Details!$B$29,0)","v":0},{"$f":"OFFSET('Raw Data'!DV64,Input_Details!$B$29,0)","v":0},{"$f":"OFFSET('Raw Data'!DW64,Input_Details!$B$29,0)","v":4.8},null,{"$f":"OFFSET('Raw Data'!DX64,Input_Details!$B$29,0)","v":4},{"$f":"OFFSET('Raw Data'!DY64,Input_Details!$B$29,0)","v":7.6},{"$f":"OFFSET('Raw Data'!DZ64,Input_Details!$B$29,0)","v":1},{"$f":"OFFSET('Raw Data'!EA64,Input_Details!$B$29,0)","v":0},{"$f":"OFFSET('Raw Data'!EB64,Input_Details!$B$29,0)","v":0},{"$f":"OFFSET('Raw Data'!EC64,Input_Details!$B$29,0)","v":12.6},null,{"$f":"OFFSET('Raw Data'!ED64,Input_Details!$B$29,0)","v":5},{"$f":"OFFSET('Raw Data'!EE64,Input_Details!$B$29,0)","v":10.6},{"$f":"OFFSET('Raw Data'!EF64,Input_Details!$B$29,0)","v":1.8},{"$f":"OFFSET('Raw Data'!EG64,Input_Details!$B$29,0)","v":0},{"$f":"OFFSET('Raw Data'!EH64,Input_Details!$B$29,0)","v":0},{"$f":"OFFSET('Raw Data'!EI64,Input_Details!$B$29,0)","v":17.399999999999999}]
[null,"15:15:00",{"$f":"OFFSET('Raw Data'!DR65,Input_Details!$B$29,0)","v":1.8},{"$f":"OFFSET('Raw Data'!DS65,Input_Details!$B$29,0)","v":3.2},{"$f":"OFFSET('Raw Data'!DT65,Input_Details!$B$29,0)","v":0.6},{"$f":"OFFSET('Raw Data'!DU65,Input_Details!$B$29,0)","v":0},{"$f":"OFFSET('Raw Data'!DV65,Input_Details!$B$29,0)","v":0},{"$f":"OFFSET('Raw Data'!DW65,Input_Details!$B$29,0)","v":5.6},null,{"$f":"OFFSET('Raw Data'!DX65,Input_Details!$B$29,0)","v":3.4},{"$f":"OFFSET('Raw Data'!DY65,Input_Details!$B$29,0)","v":2.8},{"$f":"OFFSET('Raw Data'!DZ65,Input_Details!$B$29,0)","v":1.6},{"$f":"OFFSET('Raw Data'!EA65,Input_Details!$B$29,0)","v":0},{"$f":"OFFSET('Raw Data'!EB65,Input_Details!$B$29,0)","v":0},{"$f":"OFFSET('Raw Data'!EC65,Input_Details!$B$29,0)","v":7.7999999999999989},null,{"$f":"OFFSET('Raw Data'!ED65,Input_Details!$B$29,0)","v":5.2},{"$f":"OFFSET('Raw Data'!EE65,Input_Details!$B$29,0)","v":6},{"$f":"OFFSET('Raw Data'!EF65,Input_Details!$B$29,0)","v":2.2000000000000002},{"$f":"OFFSET('Raw Data'!EG65,Input_Details!$B$29,0)","v":0},{"$f":"OFFSET('Raw Data'!EH65,Input_Details!$B$29,0)","v":0},{"$f":"OFFSET('Raw Data'!EI65,Input_Details!$B$29,0)","v":13.399999999999999}]
[null,"15:30:00",{"$f":"OFFSET('Raw Data'!DR66,Input_Details!$B$29,0)","v":1.8},{"$f":"OFFSET('Raw Data'!DS66,Input_Details!$B$29,0)","v":3},{"$f":"OFFSET('Raw Data'!DT66,Input_Details!$B$29,0)","v":1.2},{"$f":"OFFSET('Raw Data'!DU66,Input_Details!$B$29,0)","v":0},{"$f":"OFFSET('Raw Data'!DV66,Input_Details!$B$29,0)","v":0},{"$f":"OFFSET('Raw Data'!DW66,Input_Details!$B$29,0)","v":6},null,{"$f":"OFFSET('Raw Data'!DX66,Input_Details!$B$29,0)","v":4},{"$f":"OFFSET('Raw Data'!DY66,Input_Details!$B$29,0)","v":3},{"$f":"OFFSET('Raw Data'!DZ66,Input_Details!$B$29,0)","v":1.4},{"$f":"OFFSET('Raw Data'!EA66,Input_Details!$B$29,0)","v":0},{"$f":"OFFSET('Raw Data'!EB66,Input_Details!$B$29,0)","v":0},{"$f":"OFFSET('Raw Data'!EC66,Input_Details!$B$29,0)","v":8.4},null,{"$f":"OFFSET('Raw Data'!ED66,Input_Details!$B$29,0)","v":5.8},{"$f":"OFFSET('Raw Data'!EE66,Input_Details!$B$29,0)","v":6},{"$f":"OFFSET('Raw Data'!EF66,Input_Details!$B$29,0)","v":2.5999999999999996},{"$f":"OFFSET('Raw Data'!EG66,Input_Details!$B$29,0)","v":0},{"$f":"OFFSET('Raw Data'!EH66,Input_Details!$B$29,0)","v":0},{"$f":"OFFSET('Raw Data'!EI66,Input_Details!$B$29,0)","v":14.4}]
[null,"15:45:00",{"$f":"OFFSET('Raw Data'!DR67,Input_Details!$B$29,0)","v":2.6},{"$f":"OFFSET('Raw Data'!DS67,Input_Details!$B$29,0)","v":4},{"$f":"OFFSET('Raw Data'!DT67,Input_Details!$B$29,0)","v":0.4},{"$f":"OFFSET('Raw Data'!DU67,Input_Details!$B$29,0)","v":0},{"$f":"OFFSET('Raw Data'!DV67,Input_Details!$B$29,0)","v":0},{"$f":"OFFSET('Raw Data'!DW67,Input_Details!$B$29,0)","v":7},null,{"$f":"OFFSET('Raw Data'!DX67,Input_Details!$B$29,0)","v":4.2},{"$f":"OFFSET('Raw Data'!DY67,Input_Details!$B$29,0)","v":4},{"$f":"OFFSET('Raw Data'!DZ67,Input_Details!$B$29,0)","v":0.6},{"$f":"OFFSET('Raw Data'!EA67,Input_Details!$B$29,0)","v":0},{"$f":"OFFSET('Raw Data'!EB67,Input_Details!$B$29,0)","v":0},{"$f":"OFFSET('Raw Data'!EC67,Input_Details!$B$29,0)","v":8.7999999999999989},null,{"$f":"OFFSET('Raw Data'!ED67,Input_Details!$B$29,0)","v":6.8000000000000007},{"$f":"OFFSET('Raw Data'!EE67,Input_Details!$B$29,0)","v":8},{"$f":"OFFSET('Raw Data'!EF67,Input_Details!$B$29,0)","v":1},{"$f":"OFFSET('Raw Data'!EG67,Input_Details!$B$29,0)","v":0},{"$f":"OFFSET('Raw Data'!EH67,Input_Details!$B$29,0)","v":0},{"$f":"OFFSET('Raw Data'!EI67,Input_Details!$B$29,0)","v":15.799999999999999}]
[null,"16:00:00",{"$f":"OFFSET('Raw Data'!DR68,Input_Details!$B$29,0)","v":0.6},{"$f":"OFFSET('Raw Data'!DS68,Input_Details!$B$29,0)","v":3},{"$f":"OFFSET('Raw Data'!DT68,Input_Details!$B$29,0)","v":0.6},{"$f":"OFFSET('Raw Data'!DU68,Input_Details!$B$29,0)","v":0},{"$f":"OFFSET('Raw Data'!DV68,Input_Details!$B$29,0)","v":0},{"$f":"OFFSET('Raw Data'!DW68,Input_Details!$B$29,0)","v":4.2},null,{"$f":"OFFSET('Raw Data'!DX68,Input_Details!$B$29,0)","v":3.2},{"$f":"OFFSET('Raw Data'!DY68,Input_Details!$B$29,0)","v":6.6},{"$f":"OFFSET('Raw Data'!DZ68,Input_Details!$B$29,0)","v":0.8},{"$f":"OFFSET('Raw Data'!EA68,Input_Details!$B$29,0)","v":0.2},{"$f":"OFFSET('Raw Data'!EB68,Input_Details!$B$29,0)","v":0},{"$f":"OFFSET('Raw Data'!EC68,Input_Details!$B$29,0)","v":10.8},null,{"$f":"OFFSET('Raw Data'!ED68,Input_Details!$B$29,0)","v":3.8000000000000003},{"$f":"OFFSET('Raw Data'!EE68,Input_Details!$B$29,0)","v":9.6},{"$f":"OFFSET('Raw Data'!EF68,Input_Details!$B$29,0)","v":1.4},{"$f":"OFFSET('Raw Data'!EG68,Input_Details!$B$29,0)","v":0.2},{"$f":"OFFSET('Raw Data'!EH68,Input_Details!$B$29,0)","v":0},{"$f":"OFFSET('Raw Data'!EI68,Input_Details!$B$29,0)","v":15}]
[null,"16:15:00",{"$f":"OFFSET('Raw Data'!DR69,Input_Details!$B$29,0)","v":2.25},{"$f":"OFFSET('Raw Data'!DS69,Input_Details!$B$29,0)","v":3},{"$f":"OFFSET('Raw Data'!DT69,Input_Details!$B$29,0)","v":0.25},{"$f":"OFFSET('Raw Data'!DU69,Input_Details!$B$29,0)","v":0},{"$f":"OFFSET('Raw Data'!DV69,Input_Details!$B$29,0)","v":0},{"$f":"OFFSET('Raw Data'!DW69,Input_Details!$B$29,0)","v":5.5},null,{"$f":"OFFSET('Raw Data'!DX69,Input_Details!$B$29,0)","v":3.75},{"$f":"OFFSET('Raw Data'!DY69,Input_Details!$B$29,0)","v":5.25},{"$f":"OFFSET('Raw Data'!DZ69,Input_Details!$B$29,0)","v":0.25},{"$f":"OFFSET('Raw Data'!EA69,Input_Details!$B$29,0)","v":0},{"$f":"OFFSET('Raw Data'!EB69,Input_Details!$B$29,0)","v":0.25},{"$f":"OFFSET('Raw Data'!EC69,Input_Details!$B$29,0)","v":9.5},null,{"$f":"OFFSET('Raw Data'!ED69,Input_Details!$B$29,0)","v":6},{"$f":"OFFSET('Raw Data'!EE69,Input_Details!$B$29,0)","v":8.25},{"$f":"OFFSET('Raw Data'!EF69,Input_Details!$B$29,0)","v":0.5},{"$f":"OFFSET('Raw Data'!EG69,Input_Details!$B$29,0)","v":0},{"$f":"OFFSET('Raw Data'!EH69,Input_Details!$B$29,0)","v":0.25},{"$f":"OFFSET('Raw Data'!EI69,Input_Details!$B$29,0)","v":15}]
[null,"16:30:00",{"$f":"OFFSET('Raw Data'!DR70,Input_Details!$B$29,0)","v":2.4},{"$f":"OFFSET('Raw Data'!DS70,Input_Details!$B$29,0)","v":2.8},{"$f":"OFFSET('Raw Data'!DT70,Input_Details!$B$29,0)","v":1.8},{"$f":"OFFSET('Raw Data'!DU70,Input_Details!$B$29,0)","v":0},{"$f":"OFFSET('Raw Data'!DV70,Input_Details!$B$29,0)","v":0},{"$f":"OFFSET('Raw Data'!DW70,Input_Details!$B$29,0)","v":6.9999999999999991},null,{"$f":"OFFSET('Raw Data'!DX70,Input_Details!$B$29,0)","v":9.4},{"$f":"OFFSET('Raw Data'!DY70,Input_Details!$B$29,0)","v":4.5999999999999996},{"$f":"OFFSET('Raw Data'!DZ70,Input_Details!$B$29,0)","v":0.6},{"$f":"OFFSET('Raw Data'!EA70,Input_Details!$B$29,0)","v":0},{"$f":"OFFSET('Raw Data'!EB70,Input_Details!$B$29,0)","v":0.2},{"$f":"OFFSET('Raw Data'!EC70,Input_Details!$B$29,0)","v":14.799999999999999},null,{"$f":"OFFSET('Raw Data'!ED70,Input_Details!$B$29,0)","v":11.8},{"$f":"OFFSET('Raw Data'!EE70,Input_Details!$B$29,0)","v":7.3999999999999995},{"$f":"OFFSET('Raw Data'!EF70,Input_Details!$B$29,0)","v":2.4},{"$f":"OFFSET('Raw Data'!EG70,Input_Details!$B$29,0)","v":0},{"$f":"OFFSET('Raw Data'!EH70,Input_Details!$B$29,0)","v":0.2},{"$f":"OFFSET('Raw Data'!EI70,Input_Details!$B$29,0)","v":21.799999999999997}]
[null,"16:45:00",{"$f":"OFFSET('Raw Data'!DR71,Input_Details!$B$29,0)","v":1.4},{"$f":"OFFSET('Raw Data'!DS71,Input_Details!$B$29,0)","v":4.8},{"$f":"OFFSET('Raw Data'!DT71,Input_Details!$B$29,0)","v":0.8},{"$f":"OFFSET('Raw Data'!DU71,Input_Details!$B$29,0)","v":0},{"$f":"OFFSET('Raw Data'!DV71,Input_Details!$B$29,0)","v":0},{"$f":"OFFSET('Raw Data'!DW71,Input_Details!$B$29,0)","v":6.9999999999999991},null,{"$f":"OFFSET('Raw Data'!DX71,Input_Details!$B$29,0)","v":8.8000000000000007},{"$f":"OFFSET('Raw Data'!DY71,Input_Details!$B$29,0)","v":7},{"$f":"OFFSET('Raw Data'!DZ71,Input_Details!$B$29,0)","v":1.2},{"$f":"OFFSET('Raw Data'!EA71,Input_Details!$B$29,0)","v":0},{"$f":"OFFSET('Raw Data'!EB71,Input_Details!$B$29,0)","v":0.4},{"$f":"OFFSET('Raw Data'!EC71,Input_Details!$B$29,0)","v":17.399999999999999},null,{"$f":"OFFSET('Raw Data'!ED71,Input_Details!$B$29,0)","v":10.200000000000001},{"$f":"OFFSET('Raw Data'!EE71,Input_Details!$B$29,0)","v":11.8},{"$f":"OFFSET('Raw Data'!EF71,Input_Details!$B$29,0)","v":2},{"$f":"OFFSET('Raw Data'!EG71,Input_Details!$B$29,0)","v":0},{"$f":"OFFSET('Raw Data'!EH71,Input_Details!$B$29,0)","v":0.4},{"$f":"OFFSET('Raw Data'!EI71,Input_Details!$B$29,0)","v":24.4}]
[null,"17:00:00",{"$f":"OFFSET('Raw Data'!DR72,Input_Details!$B$29,0)","v":2},{"$f":"OFFSET('Raw Data'!DS72,Input_Details!$B$29,0)","v":3.6},{"$f":"OFFSET('Raw Data'!DT72,Input_Details!$B$29,0)","v":0},{"$f":"OFFSET('Raw Data'!DU72,Input_Details!$B$29,0)","v":0},{"$f":"OFFSET('Raw Data'!DV72,Input_Details!$B$29,0)","v":0},{"$f":"OFFSET('Raw Data'!DW72,Input_Details!$B$29,0)","v":5.6},null,{"$f":"OFFSET('Raw Data'!DX72,Input_Details!$B$29,0)","v":10.199999999999999},{"$f":"OFFSET('Raw Data'!DY72,Input_Details!$B$29,0)","v":4.8},{"$f":"OFFSET('Raw Data'!DZ72,Input_Details!$B$29,0)","v":0.4},{"$f":"OFFSET('Raw Data'!EA72,Input_Details!$B$29,0)","v":0},{"$f":"OFFSET('Raw Data'!EB72,Input_Details!$B$29,0)","v":0.60000000000000009},{"$f":"OFFSET('Raw Data'!EC72,Input_Details!$B$29,0)","v":16},null,{"$f":"OFFSET('Raw Data'!ED72,Input_Details!$B$29,0)","v":12.2},{"$f":"OFFSET('Raw Data'!EE72,Input_Details!$B$29,0)","v":8.4},{"$f":"OFFSET('Raw Data'!EF72,Input_Details!$B$29,0)","v":0.4},{"$f":"OFFSET('Raw Data'!EG72,Input_Details!$B$29,0)","v":0},{"$f":"OFFSET('Raw Data'!EH72,Input_Details!$B$29,0)","v":0.60000000000000009},{"$f":"OFFSET('Raw Data'!EI72,Input_Details!$B$29,0)","v":21.6}]
[null,"17:15:00",{"$f":"OFFSET('Raw Data'!DR73,Input_Details!$B$29,0)","v":1.6},{"$f":"OFFSET('Raw Data'!DS73,Input_Details!$B$29,0)","v":1.8},{"$f":"OFFSET('Raw Data'!DT73,Input_Details!$B$29,0)","v":0.4},{"$f":"OFFSET('Raw Data'!DU73,Input_Details!$B$29,0)","v":0},{"$f":"OFFSET('Raw Data'!DV73,Input_Details!$B$29,0)","v":0},{"$f":"OFFSET('Raw Data'!DW73,Input_Details!$B$29,0)","v":3.8000000000000003},null,{"$f":"OFFSET('Raw Data'!DX73,Input_Details!$B$29,0)","v":15.4},{"$f":"OFFSET('Raw Data'!DY73,Input_Details!$B$29,0)","v":5.6},{"$f":"OFFSET('Raw Data'!DZ73,Input_Details!$B$29,0)","v":0.8},{"$f":"OFFSET('Raw Data'!EA73,Input_Details!$B$29,0)","v":0},{"$f":"OFFSET('Raw Data'!EB73,Input_Details!$B$29,0)","v":1.5999999999999999},{"$f":"OFFSET('Raw Data'!EC73,Input_Details!$B$29,0)","v":23.4},null,{"$f":"OFFSET('Raw Data'!ED73,Input_Details!$B$29,0)","v":17},{"$f":"OFFSET('Raw Data'!EE73,Input_Details!$B$29,0)","v":7.3999999999999995},{"$f":"OFFSET('Raw Data'!EF73,Input_Details!$B$29,0)","v":1.2000000000000002},{"$f":"OFFSET('Raw Data'!EG73,Input_Details!$B$29,0)","v":0},{"$f":"OFFSET('Raw Data'!EH73,Input_Details!$B$29,0)","v":1.5999999999999999},{"$f":"OFFSET('Raw Data'!EI73,Input_Details!$B$29,0)","v":27.2}]
[null,"17:30:00",{"$f":"OFFSET('Raw Data'!DR74,Input_Details!$B$29,0)","v":2.6},{"$f":"OFFSET('Raw Data'!DS74,Input_Details!$B$29,0)","v":4.5999999999999996},{"$f":"OFFSET('Raw Data'!DT74,Input_Details!$B$29,0)","v":0.4},{"$f":"OFFSET('Raw Data'!DU74,Input_Details!$B$29,0)","v":0},{"$f":"OFFSET('Raw Data'!DV74,Input_Details!$B$29,0)","v":0},{"$f":"OFFSET('Raw Data'!DW74,Input_Details!$B$29,0)","v":7.6},null,{"$f":"OFFSET('Raw Data'!DX74,Input_Details!$B$29,0)","v":18.399999999999999},{"$f":"OFFSET('Raw Data'!DY74,Input_Details!$B$29,0)","v":6.2},{"$f":"OFFSET('Raw Data'!DZ74,Input_Details!$B$29,0)","v":0.6},{"$f":"OFFSET('Raw Data'!EA74,Input_Details!$B$29,0)","v":0.2},{"$f":"OFFSET('Raw Data'!EB74,Input_Details!$B$29,0)","v":3.6},{"$f":"OFFSET('Raw Data'!EC74,Input_Details!$B$29,0)","v":28.999999999999996},null,{"$f":"OFFSET('Raw Data'!ED74,Input_Details!$B$29,0)","v":21},{"$f":"OFFSET('Raw Data'!EE74,Input_Details!$B$29,0)","v":10.8},{"$f":"OFFSET('Raw Data'!EF74,Input_Details!$B$29,0)","v":1},{"$f":"OFFSET('Raw Data'!EG74,Input_Details!$B$29,0)","v":0.2},{"$f":"OFFSET('Raw Data'!EH74,Input_Details!$B$29,0)","v":3.6},{"$f":"OFFSET('Raw Data'!EI74,Input_Details!$B$29,0)","v":36.599999999999994}]
[null,"17:45:00",{"$f":"OFFSET('Raw Data'!DR75,Input_Details!$B$29,0)","v":3.2},{"$f":"OFFSET('Raw Data'!DS75,Input_Details!$B$29,0)","v":3.6},{"$f":"OFFSET('Raw Data'!DT75,Input_Details!$B$29,0)","v":0.2},{"$f":"OFFSET('Raw Data'!DU75,Input_Details!$B$29,0)","v":0},{"$f":"OFFSET('Raw Data'!DV75,Input_Details!$B$29,0)","v":0},{"$f":"OFFSET('Raw Data'!DW75,Input_Details!$B$29,0)","v":7.0000000000000009},null,{"$f":"OFFSET('Raw Data'!DX75,Input_Details!$B$29,0)","v":21.8},{"$f":"OFFSET('Raw Data'!DY75,Input_Details!$B$29,0)","v":7.4},{"$f":"OFFSET('Raw Data'!DZ75,Input_Details!$B$29,0)","v":0.2},{"$f":"OFFSET('Raw Data'!EA75,Input_Details!$B$29,0)","v":0.2},{"$f":"OFFSET('Raw Data'!EB75,Input_Details!$B$29,0)","v":3.2},{"$f":"OFFSET('Raw Data'!EC75,Input_Details!$B$29,0)","v":32.800000000000004},null,{"$f":"OFFSET('Raw Data'!ED75,Input_Details!$B$29,0)","v":25},{"$f":"OFFSET('Raw Data'!EE75,Input_Details!$B$29,0)","v":11},{"$f":"OFFSET('Raw Data'!EF75,Input_Details!$B$29,0)","v":0.4},{"$f":"OFFSET('Raw Data'!EG75,Input_Details!$B$29,0)","v":0.2},{"$f":"OFFSET('Raw Data'!EH75,Input_Details!$B$29,0)","v":3.2},{"$f":"OFFSET('Raw Data'!EI75,Input_Details!$B$29,0)","v":39.800000000000004}]
[null,"18:00:00",{"$f":"OFFSET('Raw Data'!DR76,Input_Details!$B$29,0)","v":2.4},{"$f":"OFFSET('Raw Data'!DS76,Input_Details!$B$29,0)","v":5.4},{"$f":"OFFSET('Raw Data'!DT76,Input_Details!$B$29,0)","v":0.8},{"$f":"OFFSET('Raw Data'!DU76,Input_Details!$B$29,0)","v":0},{"$f":"OFFSET('Raw Data'!DV76,Input_Details!$B$29,0)","v":0},{"$f":"OFFSET('Raw Data'!DW76,Input_Details!$B$29,0)","v":8.6000000000000014},null,{"$f":"OFFSET('Raw Data'!DX76,Input_Details!$B$29,0)","v":23},{"$f":"OFFSET('Raw Data'!DY76,Input_Details!$B$29,0)","v":8},{"$f":"OFFSET('Raw Data'!DZ76,Input_Details!$B$29,0)","v":1.2},{"$f":"OFFSET('Raw Data'!EA76,Input_Details!$B$29,0)","v":0},{"$f":"OFFSET('Raw Data'!EB76,Input_Details!$B$29,0)","v":5.6000000000000005},{"$f":"OFFSET('Raw Data'!EC76,Input_Details!$B$29,0)","v":37.800000000000004},null,{"$f":"OFFSET('Raw Data'!ED76,Input_Details!$B$29,0)","v":25.4},{"$f":"OFFSET('Raw Data'!EE76,Input_Details!$B$29,0)","v":13.4},{"$f":"OFFSET('Raw Data'!EF76,Input_Details!$B$29,0)","v":2},{"$f":"OFFSET('Raw Data'!EG76,Input_Details!$B$29,0)","v":0},{"$f":"OFFSET('Raw Data'!EH76,Input_Details!$B$29,0)","v":5.6000000000000005},{"$f":"OFFSET('Raw Data'!EI76,Input_Details!$B$29,0)","v":46.400000000000006}]
[null,"18:15:00",{"$f":"OFFSET('Raw Data'!DR77,Input_Details!$B$29,0)","v":2.2000000000000002},{"$f":"OFFSET('Raw Data'!DS77,Input_Details!$B$29,0)","v":4},{"$f":"OFFSET('Raw Data'!DT77,Input_Details!$B$29,0)","v":0.4},{"$f":"OFFSET('Raw Data'!DU77,Input_Details!$B$29,0)","v":0.2},{"$f":"OFFSET('Raw Data'!DV77,Input_Details!$B$29,0)","v":0},{"$f":"OFFSET('Raw Data'!DW77,Input_Details!$B$29,0)","v":6.8000000000000007},null,{"$f":"OFFSET('Raw Data'!DX77,Input_Details!$B$29,0)","v":25.4},{"$f":"OFFSET('Raw Data'!DY77,Input_Details!$B$29,0)","v":8.4},{"$f":"OFFSET('Raw Data'!DZ77,Input_Details!$B$29,0)","v":0.2},{"$f":"OFFSET('Raw Data'!EA77,Input_Details!$B$29,0)","v":0.2},{"$f":"OFFSET('Raw Data'!EB77,Input_Details!$B$29,0)","v":4.8000000000000007},{"$f":"OFFSET('Raw Data'!EC77,Input_Details!$B$29,0)","v":39},null,{"$f":"OFFSET('Raw Data'!ED77,Input_Details!$B$29,0)","v":27.599999999999998},{"$f":"OFFSET('Raw Data'!EE77,Input_Details!$B$29,0)","v":12.4},{"$f":"OFFSET('Raw Data'!EF77,Input_Details!$B$29,0)","v":0.60000000000000009},{"$f":"OFFSET('Raw Data'!EG77,Input_Details!$B$29,0)","v":0.4},{"$f":"OFFSET('Raw Data'!EH77,Input_Details!$B$29,0)","v":4.8000000000000007},{"$f":"OFFSET('Raw Data'!EI77,Input_Details!$B$29,0)","v":45.8}]
[null,"18:30:00",{"$f":"OFFSET('Raw Data'!DR78,Input_Details!$B$29,0)","v":2.2000000000000002},{"$f":"OFFSET('Raw Data'!DS78,Input_Details!$B$29,0)","v":4.8},{"$f":"OFFSET('Raw Data'!DT78,Input_Details!$B$29,0)","v":0.2},{"$f":"OFFSET('Raw Data'!DU78,Input_Details!$B$29,0)","v":0},{"$f":"OFFSET('Raw Data'!DV78,Input_Details!$B$29,0)","v":0.4},{"$f":"OFFSET('Raw Data'!DW78,Input_Details!$B$29,0)","v":7.6000000000000005},null,{"$f":"OFFSET('Raw Data'!DX78,Input_Details!$B$29,0)","v":20},{"$f":"OFFSET('Raw Data'!DY78,Input_Details!$B$29,0)","v":7.6},{"$f":"OFFSET('Raw Data'!DZ78,Input_Details!$B$29,0)","v":0.4},{"$f":"OFFSET('Raw Data'!EA78,Input_Details!$B$29,0)","v":0.2},{"$f":"OFFSET('Raw Data'!EB78,Input_Details!$B$29,0)","v":7.2000000000000011},{"$f":"OFFSET('Raw Data'!EC78,Input_Details!$B$29,0)","v":35.400000000000006},null,{"$f":"OFFSET('Raw Data'!ED78,Input_Details!$B$29,0)","v":22.2},{"$f":"OFFSET('Raw Data'!EE78,Input_Details!$B$29,0)","v":12.399999999999999},{"$f":"OFFSET('Raw Data'!EF78,Input_Details!$B$29,0)","v":0.60000000000000009},{"$f":"OFFSET('Raw Data'!EG78,Input_Details!$B$29,0)","v":0.2},{"$f":"OFFSET('Raw Data'!EH78,Input_Details!$B$29,0)","v":7.6000000000000014},{"$f":"OFFSET('Raw Data'!EI78,Input_Details!$B$29,0)","v":43.000000000000007}]
[null,"18:45:00",{"$f":"OFFSET('Raw Data'!DR79,Input_Details!$B$29,0)","v":2.8},{"$f":"OFFSET('Raw Data'!DS79,Input_Details!$B$29,0)","v":4.4000000000000004},{"$f":"OFFSET('Raw Data'!DT79,Input_Details!$B$29,0)","v":0.4},{"$f":"OFFSET('Raw Data'!DU79,Input_Details!$B$29,0)","v":0},{"$f":"OFFSET('Raw Data'!DV79,Input_Details!$B$29,0)","v":0.2},{"$f":"OFFSET('Raw Data'!DW79,Input_Details!$B$29,0)","v":7.8000000000000007},null,{"$f":"OFFSET('Raw Data'!DX79,Input_Details!$B$29,0)","v":22.6},{"$f":"OFFSET('Raw Data'!DY79,Input_Details!$B$29,0)","v":6},{"$f":"OFFSET('Raw Data'!DZ79,Input_Details!$B$29,0)","v":0.6},{"$f":"OFFSET('Raw Data'!EA79,Input_Details!$B$29,0)","v":0},{"$f":"OFFSET('Raw Data'!EB79,Input_Details!$B$29,0)","v":3.4},{"$f":"OFFSET('Raw Data'!EC79,Input_Details!$B$29,0)","v":32.6},null,{"$f":"OFFSET('Raw Data'!ED79,Input_Details!$B$29,0)","v":25.400000000000002},{"$f":"OFFSET('Raw Data'!EE79,Input_Details!$B$29,0)","v":10.4},{"$f":"OFFSET('Raw Data'!EF79,Input_Details!$B$29,0)","v":1},{"$f":"OFFSET('Raw Data'!EG79,Input_Details!$B$29,0)","v":0},{"$f":"OFFSET('Raw Data'!EH79,Input_Details!$B$29,0)","v":3.6},{"$f":"OFFSET('Raw Data'!EI79,Input_Details!$B$29,0)","v":40.400000000000006}]
[null,"19:00:00",{"$f":"OFFSET('Raw Data'!DR80,Input_Details!$B$29,0)","v":1.4},{"$f":"OFFSET('Raw Data'!DS80,Input_Details!$B$29,0)","v":5},{"$f":"OFFSET('Raw Data'!DT80,Input_Details!$B$29,0)","v":0.4},{"$f":"OFFSET('Raw Data'!DU80,Input_Details!$B$29,0)","v":0},{"$f":"OFFSET('Raw Data'!DV80,Input_Details!$B$29,0)","v":0},{"$f":"OFFSET('Raw Data'!DW80,Input_Details!$B$29,0)","v":6.8000000000000007},null,{"$f":"OFFSET('Raw Data'!DX80,Input_Details!$B$29,0)","v":18.2},{"$f":"OFFSET('Raw Data'!DY80,Input_Details!$B$29,0)","v":5.6},{"$f":"OFFSET('Raw Data'!DZ80,Input_Details!$B$29,0)","v":0.8},{"$f":"OFFSET('Raw Data'!EA80,Input_Details!$B$29,0)","v":0.4},{"$f":"OFFSET('Raw Data'!EB80,Input_Details!$B$29,0)","v":2.4},{"$f":"OFFSET('Raw Data'!EC80,Input_Details!$B$29,0)","v":27.399999999999995},null,{"$f":"OFFSET('Raw Data'!ED80,Input_Details!$B$29,0)","v":19.599999999999998},{"$f":"OFFSET('Raw Data'!EE80,Input_Details!$B$29,0)","v":10.6},{"$f":"OFFSET('Raw Data'!EF80,Input_Details!$B$29,0)","v":1.2000000000000002},{"$f":"OFFSET('Raw Data'!EG80,Input_Details!$B$29,0)","v":0.4},{"$f":"OFFSET('Raw Data'!EH80,Input_Details!$B$29,0)","v":2.4},{"$f":"OFFSET('Raw Data'!EI80,Input_Details!$B$29,0)","v":34.199999999999996}]
[null,"19:15:00",{"$f":"OFFSET('Raw Data'!DR81,Input_Details!$B$29,0)","v":1.8},{"$f":"OFFSET('Raw Data'!DS81,Input_Details!$B$29,0)","v":6.2},{"$f":"OFFSET('Raw Data'!DT81,Input_Details!$B$29,0)","v":0.2},{"$f":"OFFSET('Raw Data'!DU81,Input_Details!$B$29,0)","v":0},{"$f":"OFFSET('Raw Data'!DV81,Input_Details!$B$29,0)","v":0},{"$f":"OFFSET('Raw Data'!DW81,Input_Details!$B$29,0)","v":8.1999999999999993},null,{"$f":"OFFSET('Raw Data'!DX81,Input_Details!$B$29,0)","v":17},{"$f":"OFFSET('Raw Data'!DY81,Input_Details!$B$29,0)","v":5.2},{"$f":"OFFSET('Raw Data'!DZ81,Input_Details!$B$29,0)","v":0.2},{"$f":"OFFSET('Raw Data'!EA81,Input_Details!$B$29,0)","v":0},{"$f":"OFFSET('Raw Data'!EB81,Input_Details!$B$29,0)","v":1.6},{"$f":"OFFSET('Raw Data'!EC81,Input_Details!$B$29,0)","v":23.999999999999996},null,{"$f":"OFFSET('Raw Data'!ED81,Input_Details!$B$29,0)","v":18.8},{"$f":"OFFSET('Raw Data'!EE81,Input_Details!$B$29,0)","v":11.4},{"$f":"OFFSET('Raw Data'!EF81,Input_Details!$B$29,0)","v":0.4},{"$f":"OFFSET('Raw Data'!EG81,Input_Details!$B$29,0)","v":0},{"$f":"OFFSET('Raw Data'!EH81,Input_Details!$B$29,0)","v":1.6},{"$f":"OFFSET('Raw Data'!EI81,Input_Details!$B$29,0)","v":32.199999999999996}]
[null,"19:30:00",{"$f":"OFFSET('Raw Data'!DR82,Input_Details!$B$29,0)","v":1.4},{"$f":"OFFSET('Raw Data'!DS82,Input_Details!$B$29,0)","v":4.5999999999999996},{"$f":"OFFSET('Raw Data'!DT82,Input_Details!$B$29,0)","v":0},{"$f":"OFFSET('Raw Data'!DU82,Input_Details!$B$29,0)","v":0},{"$f":"OFFSET('Raw Data'!DV82,Input_Details!$B$29,0)","v":0},{"$f":"OFFSET('Raw Data'!DW82,Input_Details!$B$29,0)","v":6},null,{"$f":"OFFSET('Raw Data'!DX82,Input_Details!$B$29,0)","v":16},{"$f":"OFFSET('Raw Data'!DY82,Input_Details!$B$29,0)","v":6.6},{"$f":"OFFSET('Raw Data'!DZ82,Input_Details!$B$29,0)","v":0.4},{"$f":"OFFSET('Raw Data'!EA82,Input_Details!$B$29,0)","v":0},{"$f":"OFFSET('Raw Data'!EB82,Input_Details!$B$29,0)","v":2.6},{"$f":"OFFSET('Raw Data'!EC82,Input_Details!$B$29,0)","v":25.6},null,{"$f":"OFFSET('Raw Data'!ED82,Input_Details!$B$29,0)","v":17.399999999999999},{"$f":"OFFSET('Raw Data'!EE82,Input_Details!$B$29,0)","v":11.2},{"$f":"OFFSET('Raw Data'!EF82,Input_Details!$B$29,0)","v":0.4},{"$f":"OFFSET('Raw Data'!EG82,Input_Details!$B$29,0)","v":0},{"$f":"OFFSET('Raw Data'!EH82,Input_Details!$B$29,0)","v":2.6},{"$f":"OFFSET('Raw Data'!EI82,Input_Details!$B$29,0)","v":31.6}]
[null,"19:45:00",{"$f":"OFFSET('Raw Data'!DR83,Input_Details!$B$29,0)","v":1.2},{"$f":"OFFSET('Raw Data'!DS83,Input_Details!$B$29,0)","v":5.2},{"$f":"OFFSET('Raw Data'!DT83,Input_Details!$B$29,0)","v":1.2},{"$f":"OFFSET('Raw Data'!DU83,Input_Details!$B$29,0)","v":0},{"$f":"OFFSET('Raw Data'!DV83,Input_Details!$B$29,0)","v":0},{"$f":"OFFSET('Raw Data'!DW83,Input_Details!$B$29,0)","v":7.6000000000000005},null,{"$f":"OFFSET('Raw Data'!DX83,Input_Details!$B$29,0)","v":10.4},{"$f":"OFFSET('Raw Data'!DY83,Input_Details!$B$29,0)","v":6.2},{"$f":"OFFSET('Raw Data'!DZ83,Input_Details!$B$29,0)","v":0.6},{"$f":"OFFSET('Raw Data'!EA83,Input_Details!$B$29,0)","v":0},{"$f":"OFFSET('Raw Data'!EB83,Input_Details!$B$29,0)","v":1.8},{"$f":"OFFSET('Raw Data'!EC83,Input_Details!$B$29,0)","v":19.000000000000004},null,{"$f":"OFFSET('Raw Data'!ED83,Input_Details!$B$29,0)","v":11.6},{"$f":"OFFSET('Raw Data'!EE83,Input_Details!$B$29,0)","v":11.4},{"$f":"OFFSET('Raw Data'!EF83,Input_Details!$B$29,0)","v":1.7999999999999998},{"$f":"OFFSET('Raw Data'!EG83,Input_Details!$B$29,0)","v":0},{"$f":"OFFSET('Raw Data'!EH83,Input_Details!$B$29,0)","v":1.8},{"$f":"OFFSET('Raw Data'!EI83,Input_Details!$B$29,0)","v":26.600000000000005}]
[null,"20:00:00",{"$f":"OFFSET('Raw Data'!DR84,Input_Details!$B$29,0)","v":0},{"$f":"OFFSET('Raw Data'!DS84,Input_Details!$B$29,0)","v":4.5999999999999996},{"$f":"OFFSET('Raw Data'!DT84,Input_Details!$B$29,0)","v":0},{"$f":"OFFSET('Raw Data'!DU84,Input_Details!$B$29,0)","v":0},{"$f":"OFFSET('Raw Data'!DV84,Input_Details!$B$29,0)","v":0},{"$f":"OFFSET('Raw Data'!DW84,Input_Details!$B$29,0)","v":4.5999999999999996},null,{"$f":"OFFSET('Raw Data'!DX84,Input_Details!$B$29,0)","v":9.8000000000000007},{"$f":"OFFSET('Raw Data'!DY84,Input_Details!$B$29,0)","v":6.6},{"$f":"OFFSET('Raw Data'!DZ84,Input_Details!$B$29,0)","v":0.8},{"$f":"OFFSET('Raw Data'!EA84,Input_Details!$B$29,0)","v":0},{"$f":"OFFSET('Raw Data'!EB84,Input_Details!$B$29,0)","v":0.6},{"$f":"OFFSET('Raw Data'!EC84,Input_Details!$B$29,0)","v":17.8},null,{"$f":"OFFSET('Raw Data'!ED84,Input_Details!$B$29,0)","v":9.8000000000000007},{"$f":"OFFSET('Raw Data'!EE84,Input_Details!$B$29,0)","v":11.2},{"$f":"OFFSET('Raw Data'!EF84,Input_Details!$B$29,0)","v":0.8},{"$f":"OFFSET('Raw Data'!EG84,Input_Details!$B$29,0)","v":0},{"$f":"OFFSET('Raw Data'!EH84,Input_Details!$B$29,0)","v":0.6},{"$f":"OFFSET('Raw Data'!EI84,Input_Details!$B$29,0)","v":22.4}]
[null,"20:15:00",{"$f":"OFFSET('Raw Data'!DR85,Input_Details!$B$29,0)","v":0.6},{"$f":"OFFSET('Raw Data'!DS85,Input_Details!$B$29,0)","v":4.4000000000000004},{"$f":"OFFSET('Raw Data'!DT85,Input_Details!$B$29,0)","v":0.4},{"$f":"OFFSET('Raw Data'!DU85,Input_Details!$B$29,0)","v":0},{"$f":"OFFSET('Raw Data'!DV85,Input_Details!$B$29,0)","v":0},{"$f":"OFFSET('Raw Data'!DW85,Input_Details!$B$29,0)","v":5.4},null,{"$f":"OFFSET('Raw Data'!DX85,Input_Details!$B$29,0)","v":7.4},{"$f":"OFFSET('Raw Data'!DY85,Input_Details!$B$29,0)","v":5},{"$f":"OFFSET('Raw Data'!DZ85,Input_Details!$B$29,0)","v":0.4},{"$f":"OFFSET('Raw Data'!EA85,Input_Details!$B$29,0)","v":0},{"$f":"OFFSET('Raw Data'!EB85,Input_Details!$B$29,0)","v":0},{"$f":"OFFSET('Raw Data'!EC85,Input_Details!$B$29,0)","v":12.799999999999999},null,{"$f":"OFFSET('Raw Data'!ED85,Input_Details!$B$29,0)","v":8},{"$f":"OFFSET('Raw Data'!EE85,Input_Details!$B$29,0)","v":9.4},{"$f":"OFFSET('Raw Data'!EF85,Input_Details!$B$29,0)","v":0.8},{"$f":"OFFSET('Raw Data'!EG85,Input_Details!$B$29,0)","v":0},{"$f":"OFFSET('Raw Data'!EH85,Input_Details!$B$29,0)","v":0},{"$f":"OFFSET('Raw Data'!EI85,Input_Details!$B$29,0)","v":18.2}]
[null,"20:30:00",{"$f":"OFFSET('Raw Data'!DR86,Input_Details!$B$29,0)","v":0.8},{"$f":"OFFSET('Raw Data'!DS86,Input_Details!$B$29,0)","v":3.4},{"$f":"OFFSET('Raw Data'!DT86,Input_Details!$B$29,0)","v":0},{"$f":"OFFSET('Raw Data'!DU86,Input_Details!$B$29,0)","v":0},{"$f":"OFFSET('Raw Data'!DV86,Input_Details!$B$29,0)","v":0},{"$f":"OFFSET('Raw Data'!DW86,Input_Details!$B$29,0)","v":4.2},null,{"$f":"OFFSET('Raw Data'!DX86,Input_Details!$B$29,0)","v":7.4},{"$f":"OFFSET('Raw Data'!DY86,Input_Details!$B$29,0)","v":5.2},{"$f":"OFFSET('Raw Data'!DZ86,Input_Details!$B$29,0)","v":0.4},{"$f":"OFFSET('Raw Data'!EA86,Input_Details!$B$29,0)","v":0},{"$f":"OFFSET('Raw Data'!EB86,Input_Details!$B$29,0)","v":1.5999999999999999},{"$f":"OFFSET('Raw Data'!EC86,Input_Details!$B$29,0)","v":14.600000000000001},null,{"$f":"OFFSET('Raw Data'!ED86,Input_Details!$B$29,0)","v":8.2000000000000011},{"$f":"OFFSET('Raw Data'!EE86,Input_Details!$B$29,0)","v":8.6},{"$f":"OFFSET('Raw Data'!EF86,Input_Details!$B$29,0)","v":0.4},{"$f":"OFFSET('Raw Data'!EG86,Input_Details!$B$29,0)","v":0},{"$f":"OFFSET('Raw Data'!EH86,Input_Details!$B$29,0)","v":1.5999999999999999},{"$f":"OFFSET('Raw Data'!EI86,Input_Details!$B$29,0)","v":18.8}]
[null,"20:45:00",{"$f":"OFFSET('Raw Data'!DR87,Input_Details!$B$29,0)","v":1},{"$f":"OFFSET('Raw Data'!DS87,Input_Details!$B$29,0)","v":3.2},{"$f":"OFFSET('Raw Data'!DT87,Input_Details!$B$29,0)","v":0},{"$f":"OFFSET('Raw Data'!DU87,Input_Details!$B$29,0)","v":0},{"$f":"OFFSET('Raw Data'!DV87,Input_Details!$B$29,0)","v":0},{"$f":"OFFSET('Raw Data'!DW87,Input_Details!$B$29,0)","v":4.2},null,{"$f":"OFFSET('Raw Data'!DX87,Input_Details!$B$29,0)","v":8.8000000000000007},{"$f":"OFFSET('Raw Data'!DY87,Input_Details!$B$29,0)","v":4.2},{"$f":"OFFSET('Raw Data'!DZ87,Input_Details!$B$29,0)","v":0.4},{"$f":"OFFSET('Raw Data'!EA87,Input_Details!$B$29,0)","v":0},{"$f":"OFFSET('Raw Data'!EB87,Input_Details!$B$29,0)","v":0.4},{"$f":"OFFSET('Raw Data'!EC87,Input_Details!$B$29,0)","v":13.8},null,{"$f":"OFFSET('Raw Data'!ED87,Input_Details!$B$29,0)","v":9.8000000000000007},{"$f":"OFFSET('Raw Data'!EE87,Input_Details!$B$29,0)","v":7.4},{"$f":"OFFSET('Raw Data'!EF87,Input_Details!$B$29,0)","v":0.4},{"$f":"OFFSET('Raw Data'!EG87,Input_Details!$B$29,0)","v":0},{"$f":"OFFSET('Raw Data'!EH87,Input_Details!$B$29,0)","v":0.4},{"$f":"OFFSET('Raw Data'!EI87,Input_Details!$B$29,0)","v":18}]
[null,"21:00:00",{"$f":"OFFSET('Raw Data'!DR88,Input_Details!$B$29,0)","v":1},{"$f":"OFFSET('Raw Data'!DS88,Input_Details!$B$29,0)","v":3.8},{"$f":"OFFSET('Raw Data'!DT88,Input_Details!$B$29,0)","v":0.2},{"$f":"OFFSET('Raw Data'!DU88,Input_Details!$B$29,0)","v":0},{"$f":"OFFSET('Raw Data'!DV88,Input_Details!$B$29,0)","v":0},{"$f":"OFFSET('Raw Data'!DW88,Input_Details!$B$29,0)","v":5},null,{"$f":"OFFSET('Raw Data'!DX88,Input_Details!$B$29,0)","v":4.8},{"$f":"OFFSET('Raw Data'!DY88,Input_Details!$B$29,0)","v":5.4},{"$f":"OFFSET('Raw Data'!DZ88,Input_Details!$B$29,0)","v":0},{"$f":"OFFSET('Raw Data'!EA88,Input_Details!$B$29,0)","v":0},{"$f":"OFFSET('Raw Data'!EB88,Input_Details!$B$29,0)","v":0},{"$f":"OFFSET('Raw Data'!EC88,Input_Details!$B$29,0)","v":10.199999999999999},null,{"$f":"OFFSET('Raw Data'!ED88,Input_Details!$B$29,0)","v":5.8},{"$f":"OFFSET('Raw Data'!EE88,Input_Details!$B$29,0)","v":9.1999999999999993},{"$f":"OFFSET('Raw Data'!EF88,Input_Details!$B$29,0)","v":0.2},{"$f":"OFFSET('Raw Data'!EG88,Input_Details!$B$29,0)","v":0},{"$f":"OFFSET('Raw Data'!EH88,Input_Details!$B$29,0)","v":0},{"$f":"OFFSET('Raw Data'!EI88,Input_Details!$B$29,0)","v":15.2}]
[null,"21:15:00",{"$f":"OFFSET('Raw Data'!DR89,Input_Details!$B$29,0)","v":0.4},{"$f":"OFFSET('Raw Data'!DS89,Input_Details!$B$29,0)","v":4.8},{"$f":"OFFSET('Raw Data'!DT89,Input_Details!$B$29,0)","v":0},{"$f":"OFFSET('Raw Data'!DU89,Input_Details!$B$29,0)","v":0},{"$f":"OFFSET('Raw Data'!DV89,Input_Details!$B$29,0)","v":0.2},{"$f":"OFFSET('Raw Data'!DW89,Input_Details!$B$29,0)","v":5.4},null,{"$f":"OFFSET('Raw Data'!DX89,Input_Details!$B$29,0)","v":5.2},{"$f":"OFFSET('Raw Data'!DY89,Input_Details!$B$29,0)","v":4.8},{"$f":"OFFSET('Raw Data'!DZ89,Input_Details!$B$29,0)","v":0},{"$f":"OFFSET('Raw Data'!EA89,Input_Details!$B$29,0)","v":0},{"$f":"OFFSET('Raw Data'!EB89,Input_Details!$B$29,0)","v":0.2},{"$f":"OFFSET('Raw Data'!EC89,Input_Details!$B$29,0)","v":10.199999999999999},null,{"$f":"OFFSET('Raw Data'!ED89,Input_Details!$B$29,0)","v":5.6000000000000005},{"$f":"OFFSET('Raw Data'!EE89,Input_Details!$B$29,0)","v":9.6},{"$f":"OFFSET('Raw Data'!EF89,Input_Details!$B$29,0)","v":0},{"$f":"OFFSET('Raw Data'!EG89,Input_Details!$B$29,0)","v":0},{"$f":"OFFSET('Raw Data'!EH89,Input_Details!$B$29,0)","v":0.4},{"$f":"OFFSET('Raw Data'!EI89,Input_Details!$B$29,0)","v":15.6}]
[null,"21:30:00",{"$f":"OFFSET('Raw Data'!DR90,Input_Details!$B$29,0)","v":1},{"$f":"OFFSET('Raw Data'!DS90,Input_Details!$B$29,0)","v":2},{"$f":"OFFSET('Raw Data'!DT90,Input_Details!$B$29,0)","v":0.4},{"$f":"OFFSET('Raw Data'!DU90,Input_Details!$B$29,0)","v":0},{"$f":"OFFSET('Raw Data'!DV90,Input_Details!$B$29,0)","v":0},{"$f":"OFFSET('Raw Data'!DW90,Input_Details!$B$29,0)","v":3.4},null,{"$f":"OFFSET('Raw Data'!DX90,Input_Details!$B$29,0)","v":5.4},{"$f":"OFFSET('Raw Data'!DY90,Input_Details!$B$29,0)","v":5.8},{"$f":"OFFSET('Raw Data'!DZ90,Input_Details!$B$29,0)","v":0.2},{"$f":"OFFSET('Raw Data'!EA90,Input_Details!$B$29,0)","v":0},{"$f":"OFFSET('Raw Data'!EB90,Input_Details!$B$29,0)","v":0.4},{"$f":"OFFSET('Raw Data'!EC90,Input_Details!$B$29,0)","v":11.799999999999999},null,{"$f":"OFFSET('Raw Data'!ED90,Input_Details!$B$29,0)","v":6.4},{"$f":"OFFSET('Raw Data'!EE90,Input_Details!$B$29,0)","v":7.8},{"$f":"OFFSET('Raw Data'!EF90,Input_Details!$B$29,0)","v":0.60000000000000009},{"$f":"OFFSET('Raw Data'!EG90,Input_Details!$B$29,0)","v":0},{"$f":"OFFSET('Raw Data'!EH90,Input_Details!$B$29,0)","v":0.4},{"$f":"OFFSET('Raw Data'!EI90,Input_Details!$B$29,0)","v":15.2}]
[null,"21:45:00",{"$f":"OFFSET('Raw Data'!DR91,Input_Details!$B$29,0)","v":1},{"$f":"OFFSET('Raw Data'!DS91,Input_Details!$B$29,0)","v":3.4},{"$f":"OFFSET('Raw Data'!DT91,Input_Details!$B$29,0)","v":0},{"$f":"OFFSET('Raw Data'!DU91,Input_Details!$B$29,0)","v":0},{"$f":"OFFSET('Raw Data'!DV91,Input_Details!$B$29,0)","v":0},{"$f":"OFFSET('Raw Data'!DW91,Input_Details!$B$29,0)","v":4.4000000000000004},null,{"$f":"OFFSET('Raw Data'!DX91,Input_Details!$B$29,0)","v":6.2},{"$f":"OFFSET('Raw Data'!DY91,Input_Details!$B$29,0)","v":5},{"$f":"OFFSET('Raw Data'!DZ91,Input_Details!$B$29,0)","v":0},{"$f":"OFFSET('Raw Data'!EA91,Input_Details!$B$29,0)","v":0.2},{"$f":"OFFSET('Raw Data'!EB91,Input_Details!$B$29,0)","v":0},{"$f":"OFFSET('Raw Data'!EC91,Input_Details!$B$29,0)","v":11.399999999999999},null,{"$f":"OFFSET('Raw Data'!ED91,Input_Details!$B$29,0)","v":7.2},{"$f":"OFFSET('Raw Data'!EE91,Input_Details!$B$29,0)","v":8.4},{"$f":"OFFSET('Raw Data'!EF91,Input_Details!$B$29,0)","v":0},{"$f":"OFFSET('Raw Data'!EG91,Input_Details!$B$29,0)","v":0.2},{"$f":"OFFSET('Raw Data'!EH91,Input_Details!$B$29,0)","v":0},{"$f":"OFFSET('Raw Data'!EI91,Input_Details!$B$29,0)","v":15.799999999999999}]
[null,"22:00:00",{"$f":"OFFSET('Raw Data'!DR92,Input_Details!$B$29,0)","v":1},{"$f":"OFFSET('Raw Data'!DS92,Input_Details!$B$29,0)","v":1.8},{"$f":"OFFSET('Raw Data'!DT92,Input_Details!$B$29,0)","v":0},{"$f":"OFFSET('Raw Data'!DU92,Input_Details!$B$29,0)","v":0},{"$f":"OFFSET('Raw Data'!DV92,Input_Details!$B$29,0)","v":0},{"$f":"OFFSET('Raw Data'!DW92,Input_Details!$B$29,0)","v":2.8},null,{"$f":"OFFSET('Raw Data'!DX92,Input_Details!$B$29,0)","v":4.5999999999999996},{"$f":"OFFSET('Raw Data'!DY92,Input_Details!$B$29,0)","v":4.2},{"$f":"OFFSET('Raw Data'!DZ92,Input_Details!$B$29,0)","v":0},{"$f":"OFFSET('Raw Data'!EA92,Input_Details!$B$29,0)","v":0},{"$f":"OFFSET('Raw Data'!EB92,Input_Details!$B$29,0)","v":0},{"$f":"OFFSET('Raw Data'!EC92,Input_Details!$B$29,0)","v":8.8000000000000007},null,{"$f":"OFFSET('Raw Data'!ED92,Input_Details!$B$29,0)","v":5.6},{"$f":"OFFSET('Raw Data'!EE92,Input_Details!$B$29,0)","v":6},{"$f":"OFFSET('Raw Data'!EF92,Input_Details!$B$29,0)","v":0},{"$f":"OFFSET('Raw Data'!EG92,Input_Details!$B$29,0)","v":0},{"$f":"OFFSET('Raw Data'!EH92,Input_Details!$B$29,0)","v":0},{"$f":"OFFSET('Raw Data'!EI92,Input_Details!$B$29,0)","v":11.600000000000001}]
[null,"22:15:00",{"$f":"OFFSET('Raw Data'!DR93,Input_Details!$B$29,0)","v":1.6},{"$f":"OFFSET('Raw Data'!DS93,Input_Details!$B$29,0)","v":3.4},{"$f":"OFFSET('Raw Data'!DT93,Input_Details!$B$29,0)","v":0},{"$f":"OFFSET('Raw Data'!DU93,Input_Details!$B$29,0)","v":0},{"$f":"OFFSET('Raw Data'!DV93,Input_Details!$B$29,0)","v":0},{"$f":"OFFSET('Raw Data'!DW93,Input_Details!$B$29,0)","v":5},null,{"$f":"OFFSET('Raw Data'!DX93,Input_Details!$B$29,0)","v":4},{"$f":"OFFSET('Raw Data'!DY93,Input_Details!$B$29,0)","v":3},{"$f":"OFFSET('Raw Data'!DZ93,Input_Details!$B$29,0)","v":0.2},{"$f":"OFFSET('Raw Data'!EA93,Input_Details!$B$29,0)","v":0},{"$f":"OFFSET('Raw Data'!EB93,Input_Details!$B$29,0)","v":0.2},{"$f":"OFFSET('Raw Data'!EC93,Input_Details!$B$29,0)","v":7.4},null,{"$f":"OFFSET('Raw Data'!ED93,Input_Details!$B$29,0)","v":5.6},{"$f":"OFFSET('Raw Data'!EE93,Input_Details!$B$29,0)","v":6.4},{"$f":"OFFSET('Raw Data'!EF93,Input_Details!$B$29,0)","v":0.2},{"$f":"OFFSET('Raw Data'!EG93,Input_Details!$B$29,0)","v":0},{"$f":"OFFSET('Raw Data'!EH93,Input_Details!$B$29,0)","v":0.2},{"$f":"OFFSET('Raw Data'!EI93,Input_Details!$B$29,0)","v":12.4}]
[null,"22:30:00",{"$f":"OFFSET('Raw Data'!DR94,Input_Details!$B$29,0)","v":1.2},{"$f":"OFFSET('Raw Data'!DS94,Input_Details!$B$29,0)","v":4.5999999999999996},{"$f":"OFFSET('Raw Data'!DT94,Input_Details!$B$29,0)","v":0.2},{"$f":"OFFSET('Raw Data'!DU94,Input_Details!$B$29,0)","v":0},{"$f":"OFFSET('Raw Data'!DV94,Input_Details!$B$29,0)","v":0},{"$f":"OFFSET('Raw Data'!DW94,Input_Details!$B$29,0)","v":6},null,{"$f":"OFFSET('Raw Data'!DX94,Input_Details!$B$29,0)","v":4},{"$f":"OFFSET('Raw Data'!DY94,Input_Details!$B$29,0)","v":4.6000000000000005},{"$f":"OFFSET('Raw Data'!DZ94,Input_Details!$B$29,0)","v":0},{"$f":"OFFSET('Raw Data'!EA94,Input_Details!$B$29,0)","v":0},{"$f":"OFFSET('Raw Data'!EB94,Input_Details!$B$29,0)","v":0},{"$f":"OFFSET('Raw Data'!EC94,Input_Details!$B$29,0)","v":8.6},null,{"$f":"OFFSET('Raw Data'!ED94,Input_Details!$B$29,0)","v":5.2},{"$f":"OFFSET('Raw Data'!EE94,Input_Details!$B$29,0)","v":9.1999999999999993},{"$f":"OFFSET('Raw Data'!EF94,Input_Details!$B$29,0)","v":0.2},{"$f":"OFFSET('Raw Data'!EG94,Input_Details!$B$29,0)","v":0},{"$f":"OFFSET('Raw Data'!EH94,Input_Details!$B$29,0)","v":0},{"$f":"OFFSET('Raw Data'!EI94,Input_Details!$B$29,0)","v":14.6}]
[null,"22:45:00",{"$f":"OFFSET('Raw Data'!DR95,Input_Details!$B$29,0)","v":0.6},{"$f":"OFFSET('Raw Data'!DS95,Input_Details!$B$29,0)","v":3.8},{"$f":"OFFSET('Raw Data'!DT95,Input_Details!$B$29,0)","v":0.2},{"$f":"OFFSET('Raw Data'!DU95,Input_Details!$B$29,0)","v":0},{"$f":"OFFSET('Raw Data'!DV95,Input_Details!$B$29,0)","v":0},{"$f":"OFFSET('Raw Data'!DW95,Input_Details!$B$29,0)","v":4.5999999999999996},null,{"$f":"OFFSET('Raw Data'!DX95,Input_Details!$B$29,0)","v":3.6},{"$f":"OFFSET('Raw Data'!DY95,Input_Details!$B$29,0)","v":3},{"$f":"OFFSET('Raw Data'!DZ95,Input_Details!$B$29,0)","v":0},{"$f":"OFFSET('Raw Data'!EA95,Input_Details!$B$29,0)","v":0},{"$f":"OFFSET('Raw Data'!EB95,Input_Details!$B$29,0)","v":0},{"$f":"OFFSET('Raw Data'!EC95,Input_Details!$B$29,0)","v":6.6},null,{"$f":"OFFSET('Raw Data'!ED95,Input_Details!$B$29,0)","v":4.2},{"$f":"OFFSET('Raw Data'!EE95,Input_Details!$B$29,0)","v":6.8},{"$f":"OFFSET('Raw Data'!EF95,Input_Details!$B$29,0)","v":0.2},{"$f":"OFFSET('Raw Data'!EG95,Input_Details!$B$29,0)","v":0},{"$f":"OFFSET('Raw Data'!EH95,Input_Details!$B$29,0)","v":0},{"$f":"OFFSET('Raw Data'!EI95,Input_Details!$B$29,0)","v":11.2}]
[null,"23:00:00",{"$f":"OFFSET('Raw Data'!DR96,Input_Details!$B$29,0)","v":0.6},{"$f":"OFFSET('Raw Data'!DS96,Input_Details!$B$29,0)","v":3},{"$f":"OFFSET('Raw Data'!DT96,Input_Details!$B$29,0)","v":0},{"$f":"OFFSET('Raw Data'!DU96,Input_Details!$B$29,0)","v":0},{"$f":"OFFSET('Raw Data'!DV96,Input_Details!$B$29,0)","v":0},{"$f":"OFFSET('Raw Data'!DW96,Input_Details!$B$29,0)","v":3.6},null,{"$f":"OFFSET('Raw Data'!DX96,Input_Details!$B$29,0)","v":3.6},{"$f":"OFFSET('Raw Data'!DY96,Input_Details!$B$29,0)","v":3.6},{"$f":"OFFSET('Raw Data'!DZ96,Input_Details!$B$29,0)","v":0.2},{"$f":"OFFSET('Raw Data'!EA96,Input_Details!$B$29,0)","v":0},{"$f":"OFFSET('Raw Data'!EB96,Input_Details!$B$29,0)","v":0.4},{"$f":"OFFSET('Raw Data'!EC96,Input_Details!$B$29,0)","v":7.8000000000000007},null,{"$f":"OFFSET('Raw Data'!ED96,Input_Details!$B$29,0)","v":4.2},{"$f":"OFFSET('Raw Data'!EE96,Input_Details!$B$29,0)","v":6.6},{"$f":"OFFSET('Raw Data'!EF96,Input_Details!$B$29,0)","v":0.2},{"$f":"OFFSET('Raw Data'!EG96,Input_Details!$B$29,0)","v":0},{"$f":"OFFSET('Raw Data'!EH96,Input_Details!$B$29,0)","v":0.4},{"$f":"OFFSET('Raw Data'!EI96,Input_Details!$B$29,0)","v":11.4}]
[null,"23:15:00",{"$f":"OFFSET('Raw Data'!DR97,Input_Details!$B$29,0)","v":0.6},{"$f":"OFFSET('Raw Data'!DS97,Input_Details!$B$29,0)","v":2.2000000000000002},{"$f":"OFFSET('Raw Data'!DT97,Input_Details!$B$29,0)","v":0},{"$f":"OFFSET('Raw Data'!DU97,Input_Details!$B$29,0)","v":0},{"$f":"OFFSET('Raw Data'!DV97,Input_Details!$B$29,0)","v":0},{"$f":"OFFSET('Raw Data'!DW97,Input_Details!$B$29,0)","v":2.8000000000000003},null,{"$f":"OFFSET('Raw Data'!DX97,Input_Details!$B$29,0)","v":3.4},{"$f":"OFFSET('Raw Data'!DY97,Input_Details!$B$29,0)","v":3.2},{"$f":"OFFSET('Raw Data'!DZ97,Input_Details!$B$29,0)","v":0},{"$f":"OFFSET('Raw Data'!EA97,Input_Details!$B$29,0)","v":0},{"$f":"OFFSET('Raw Data'!EB97,Input_Details!$B$29,0)","v":0},{"$f":"OFFSET('Raw Data'!EC97,Input_Details!$B$29,0)","v":6.6},null,{"$f":"OFFSET('Raw Data'!ED97,Input_Details!$B$29,0)","v":4},{"$f":"OFFSET('Raw Data'!EE97,Input_Details!$B$29,0)","v":5.4},{"$f":"OFFSET('Raw Data'!EF97,Input_Details!$B$29,0)","v":0},{"$f":"OFFSET('Raw Data'!EG97,Input_Details!$B$29,0)","v":0},{"$f":"OFFSET('Raw Data'!EH97,Input_Details!$B$29,0)","v":0},{"$f":"OFFSET('Raw Data'!EI97,Input_Details!$B$29,0)","v":9.4}]
[null,"23:30:00",{"$f":"OFFSET('Raw Data'!DR98,Input_Details!$B$29,0)","v":0.2},{"$f":"OFFSET('Raw Data'!DS98,Input_Details!$B$29,0)","v":3.2},{"$f":"OFFSET('Raw Data'!DT98,Input_Details!$B$29,0)","v":0},{"$f":"OFFSET('Raw Data'!DU98,Input_Details!$B$29,0)","v":0},{"$f":"OFFSET('Raw Data'!DV98,Input_Details!$B$29,0)","v":0},{"$f":"OFFSET('Raw Data'!DW98,Input_Details!$B$29,0)","v":3.4000000000000004},null,{"$f":"OFFSET('Raw Data'!DX98,Input_Details!$B$29,0)","v":2.6},{"$f":"OFFSET('Raw Data'!DY98,Input_Details!$B$29,0)","v":4.8},{"$f":"OFFSET('Raw Data'!DZ98,Input_Details!$B$29,0)","v":0},{"$f":"OFFSET('Raw Data'!EA98,Input_Details!$B$29,0)","v":0},{"$f":"OFFSET('Raw Data'!EB98,Input_Details!$B$29,0)","v":0},{"$f":"OFFSET('Raw Data'!EC98,Input_Details!$B$29,0)","v":7.4},null,{"$f":"OFFSET('Raw Data'!ED98,Input_Details!$B$29,0)","v":2.8000000000000003},{"$f":"OFFSET('Raw Data'!EE98,Input_Details!$B$29,0)","v":8},{"$f":"OFFSET('Raw Data'!EF98,Input_Details!$B$29,0)","v":0},{"$f":"OFFSET('Raw Data'!EG98,Input_Details!$B$29,0)","v":0},{"$f":"OFFSET('Raw Data'!EH98,Input_Details!$B$29,0)","v":0},{"$f":"OFFSET('Raw Data'!EI98,Input_Details!$B$29,0)","v":10.8}]
[null,"23:45:00",{"$f":"OFFSET('Raw Data'!DR99,Input_Details!$B$29,0)","v":0},{"$f":"OFFSET('Raw Data'!DS99,Input_Details!$B$29,0)","v":3.6},{"$f":"OFFSET('Raw Data'!DT99,Input_Details!$B$29,0)","v":0},{"$f":"OFFSET('Raw Data'!DU99,Input_Details!$B$29,0)","v":0},{"$f":"OFFSET('Raw Data'!DV99,Input_Details!$B$29,0)","v":0},{"$f":"OFFSET('Raw Data'!DW99,Input_Details!$B$29,0)","v":3.6},null,{"$f":"OFFSET('Raw Data'!DX99,Input_Details!$B$29,0)","v":1.8},{"$f":"OFFSET('Raw Data'!DY99,Input_Details!$B$29,0)","v":3.6},{"$f":"OFFSET('Raw Data'!DZ99,Input_Details!$B$29,0)","v":0},{"$f":"OFFSET('Raw Data'!EA99,Input_Details!$B$29,0)","v":0},{"$f":"OFFSET('Raw Data'!EB99,Input_Details!$B$29,0)","v":0},{"$f":"OFFSET('Raw Data'!EC99,Input_Details!$B$29,0)","v":5.4},null,{"$f":"OFFSET('Raw Data'!ED99,Input_Details!$B$29,0)","v":1.8},{"$f":"OFFSET('Raw Data'!EE99,Input_Details!$B$29,0)","v":7.2},{"$f":"OFFSET('Raw Data'!EF99,Input_Details!$B$29,0)","v":0},{"$f":"OFFSET('Raw Data'!EG99,Input_Details!$B$29,0)","v":0},{"$f":"OFFSET('Raw Data'!EH99,Input_Details!$B$29,0)","v":0},{"$f":"OFFSET('Raw Data'!EI99,Input_Details!$B$29,0)","v":9}]
[null,"Total",{"$f":"SUM(C18:C113)","v":347.65000000000009},{"$f":"SUM(D18:D113)","v":292.59999999999991},34.850000000000009,2.4000000000000004,44.800000000000018,722.3,null,394.95000000000005,326.45,37.049999999999997,3,44.45,805.89999999999975,null,742.59999999999991,619.04999999999984,71.900000000000048,5.4000000000000012,89.250000000000028,1528.2]

{"sheet":"12-Class Breakdown","index":9,"n_rows":119,"n_cols":43,"rows_kept":119,"cut":false,"hidden":false,"merged":[[11,2,11,13],[11,16,11,27],[11,1,13,1],[1,8,1,10],[2,8,2,10],[3,8,3,10],[5,8,5,9],[12,2,12,4],[12,5,12,7],[12,8,12,13],[12,16,12,18],[12,19,12,21],[7,1,9,20],[0,16,0,21],[6,16,6,24],[11,30,11,42],[12,30,12,32],[12,33,12,35],[12,36,12,41],[12,22,12,27]]}
[]
[]
[]
[null,null,null,null,null,null,null,null,null,null,null,null,null,null,null,null,null,null,null,null,null,null,null,null,null,null,null,null,null,null,null,null,null,null,null,null,null,null,null,null,null,null,{"$f":"Input_Details!$I$1&\" - \"&Input_Details!$H$1","v":"3854-LON - Swan Street"}]
[null,null,null,null,null,null,null,null,null,null,null,null,null,null,null,null,null,null,null,null,null,null,null,null,null,null,null,null,null,null,null,null,null,null,null,null,null,null,null,null,null,null,{"$f":"\"prepared for \"&Input_Details!$J$1","v":"prepared for LB of Southwark"}]
[null,null,null,null,null,null,null,null,null,null,null,null,null,null,null,null,null,null,null,null,null,null,null,null,null,null,null,null,null,null,null,null,null,null,null,null,null,null,null,null,null,null,{"$f":"TEXT(MIN('Volume Summary-15min'!$C$14:$I$14), \"dd mmm yyyy\")&\" - \"&TEXT(MAX('Volume Summary-15min'!$C$14:$I$14), \"dd mmm yyyy\")","v":"17 Nov 2017 - 23 Nov 2017"}]
[]
[null,{"$f":"\"12-Class Vehicle Breakdown - \"&TEXT($AQ$10, \"dd mmm yyy\")","v":"12-Class Vehicle Breakdown - Site 1: Data loss Tue 21st Nov 16:15 - 16:30."}]
[]
[null,null,null,null,null,null,null,null,null,null,null,null,null,null,null,null,null,null,null,null,null,null,null,null,null,null,null,null,null,null,null,null,null,null,null,null,null,null,null,null,null,null,{"$f":"OFFSET(Input_Details!$Q$3, 0, Input_Details!$B$25-1)","v":"Site 1: Data loss Tue 21st Nov 16:15 - 16:30."}]
[]
[null,"Time",{"$f":"Input_Details!$K$3","v":"Northbound"},null,null,null,null,null,null,null,null,null,null,null,null,null,{"$f":"Input_Details!$L$3","v":"Southbound"},null,null,null,null,null,null,null,null,null,null,null,null,null,"Combined"]
[null,null,"Light",null,null,"Medium",null,null,"Heavy",null,null,null,null,null,null,null,"Light",null,null,"Medium",null,null,"Heavy",null,null,null,null,null,null,null,"Light",null,null,"Medium",null,null,"Heavy"]
[null,null,"Class 1","Class 2","Class 3","Class 4","Class 5","Class 6","Class 7","Class 8","Class 9","Class 10","Class 11","Class 12","Total",null,"Class 1","Class 2","Class 3","Class 4","Class 5","Class 6","Class 7","Class 8","Class 9","Class 10","Class 11","Class 12","Total",null,"Class 1","Class 2","Class 3","Class 4","Class 5","Class 6","Class 7","Class 8","Class 9","Class 10","Class 11","Class 12","Total"]
[]
[null,"24hr Tot",{"$f":"C115","v":347.65000000000009},{"$f":"D115","v":292.39999999999992},0.2,34.850000000000009,2.4000000000000004,34.000000000000014,0,0.4,0.60000000000000009,5.8,1.8000000000000003,2.2000000000000002,722.3,null,{"$f":"Q115","v":394.95000000000005},{"$f":"R115","v":325.25},1.2,37.049999999999997,3,34.85,0,0.60000000000000009,0.4,6.6000000000000005,1.6,0.4,805.90000000000009,null,{"$f":"AE115","v":742.59999999999991},{"$f":"AF115","v":617.64999999999986},1.4,71.900000000000048,5.4000000000000012,68.850000000000037,0,1,1,12.4,3.4000000000000004,2.6000000000000005,1528.2000000000003]
[null,"Traffic %",{"$f":"IFERROR(C115/$O$115, \"-\")","v":0.48130970510868076},{"$f":"IFERROR(D115/$O$115, \"-\")","v":0.40481794268309557},2.7689325764917625E-4,4.8248650145368978E-2,3.3227190917901155E-3,4.7071853800359983E-2,0,5.537865152983525E-4,8.3067977294752886E-4,8.0299044718261121E-3,2.4920393188425866E-3,3.0458258341409393E-3,"-",null,{"$f":"IFERROR(Q115/$AC$115, \"-\")","v":0.49007321007569177},{"$f":"IFERROR(R115/$AC$115, \"-\")","v":0.40358605286015631},1.4890184886462339E-3,4.5973445836952467E-2,3.7225462216155846E-3,4.3243578607767709E-2,0,7.4450924432311705E-4,4.9633949621541136E-4,8.1896016875542873E-3,1.9853579848616455E-3,4.9633949621541136E-4,"-",null,{"$f":"IFERROR(AE115/$AQ$115, \"-\")","v":0.48593116084282145},{"$f":"IFERROR(AF115/$AQ$115, \"-\")","v":0.40416830257819641},9.1611045674649895E-4,4.704881560005237E-2,3.53356890459364E-3,4.5053003533568919E-2,0,6.5436461196178501E-4,6.5436461196178501E-4,8.1141211883261344E-3,2.2248396806700691E-3,1.7013479911006414E-3,"-"]
[]
[null,"00:00:00",{"$f":"IF(OFFSET('Raw Data'!H4,Input_Details!$B$29,0)=\"\", \"-\", OFFSET('Raw Data'!H4,Input_Details!$B$29,0))","v":0.6},{"$f":"IF(OFFSET('Raw Data'!I4,Input_Details!$B$29,0)=\"\", \"-\", OFFSET('Raw Data'!I4,Input_Details!$B$29,0))","v":2.4},{"$f":"IF(OFFSET('Raw Data'!J4,Input_Details!$B$29,0)=\"\", \"-\", OFFSET('Raw Data'!J4,Input_Details!$B$29,0))","v":0},{"$f":"IF(OFFSET('Raw Data'!K4,Input_Details!$B$29,0)=\"\", \"-\", OFFSET('Raw Data'!K4,Input_Details!$B$29,0))","v":0.2},{"$f":"IF(OFFSET('Raw Data'!L4,Input_Details!$B$29,0)=\"\", \"-\", OFFSET('Raw Data'!L4,Input_Details!$B$29,0))","v":0.2},{"$f":"IF(OFFSET('Raw Data'!M4,Input_Details!$B$29,0)=\"\", \"-\", OFFSET('Raw Data'!M4,Input_Details!$B$29,0))","v":0},{"$f":"IF(OFFSET('Raw Data'!N4,Input_Details!$B$29,0)=\"\", \"-\", OFFSET('Raw Data'!N4,Input_Details!$B$29,0))","v":0},{"$f":"IF(OFFSET('Raw Data'!O4,Input_Details!$B$29,0)=\"\", \"-\", OFFSET('Raw Data'!O4,Input_Details!$B$29,0))","v":0},{"$f":"IF(OFFSET('Raw Data'!P4,Input_Details!$B$29,0)=\"\", \"-\", OFFSET('Raw Data'!P4,Input_Details!$B$29,0))","v":0},{"$f":"IF(OFFSET('Raw Data'!Q4,Input_Details!$B$29,0)=\"\", \"-\", OFFSET('Raw Data'!Q4,Input_Details!$B$29,0))","v":0},{"$f":"IF(OFFSET('Raw Data'!R4,Input_Details!$B$29,0)=\"\", \"-\", OFFSET('Raw Data'!R4,Input_Details!$B$29,0))","v":0},{"$f":"IF(OFFSET('Raw Data'!S4,Input_Details!$B$29,0)=\"\", \"-\", OFFSET('Raw Data'!S4,Input_Details!$B$29,0))","v":0},{"$f":"IF(C19=\"-\", \"-\", SUM(C19:N19))","v":3.4000000000000004},null,{"$f":"IF(OFFSET('Raw Data'!AU4,Input_Details!$B$29,0)=\"\", \"-\", OFFSET('Raw Data'!AU4,Input_Details!$B$29,0))","v":1.8},{"$f":"IF(OFFSET('Raw Data'!AV4,Input_Details!$B$29,0)=\"\", \"-\", OFFSET('Raw Data'!AV4,Input_Details!$B$29,0))","v":1.8},{"$f":"IF(OFFSET('Raw Data'!AW4,Input_Details!$B$29,0)=\"\", \"-\", OFFSET('Raw Data'!AW4,Input_Details!$B$29,0))","v":0},{"$f":"IF(OFFSET('Raw Data'!AX4,Input_Details!$B$29,0)=\"\", \"-\", OFFSET('Raw Data'!AX4,Input_Details!$B$29,0))","v":0},{"$f":"IF(OFFSET('Raw Data'!AY4,Input_Details!$B$29,0)=\"\", \"-\", OFFSET('Raw Data'!AY4,Input_Details!$B$29,0))","v":0},{"$f":"IF(OFFSET('Raw Data'!AZ4,Input_Details!$B$29,0)=\"\", \"-\", OFFSET('Raw Data'!AZ4,Input_Details!$B$29,0))","v":0.4},{"$f":"IF(OFFSET('Raw Data'!BA4,Input_Details!$B$29,0)=\"\", \"-\", OFFSET('Raw Data'!BA4,Input_Details!$B$29,0))","v":0},{"$f":"IF(OFFSET('Raw Data'!BB4,Input_Details!$B$29,0)=\"\", \"-\", OFFSET('Raw Data'!BB4,Input_Details!$B$29,0))","v":0},{"$f":"IF(OFFSET('Raw Data'!BC4,Input_Details!$B$29,0)=\"\", \"-\", OFFSET('Raw Data'!BC4,Input_Details!$B$29,0))","v":0},{"$f":"IF(OFFSET('Raw Data'!BD4,Input_Details!$B$29,0)=\"\", \"-\", OFFSET('Raw Data'!BD4,Input_Details!$B$29,0))","v":0},{"$f":"IF(OFFSET('Raw Data'!BE4,Input_Details!$B$29,0)=\"\", \"-\", OFFSET('Raw Data'!BE4,Input_Details!$B$29,0))","v":0},{"$f":"IF(OFFSET('Raw Data'!BF4,Input_Details!$B$29,0)=\"\", \"-\", OFFSET('Raw Data'!BF4,Input_Details!$B$29,0))","v":0},{"$f":"IF(Q19=\"-\", \"-\", SUM(Q19:AB19))","v":4},null,{"$f":"IF(OR(C19=\"-\", Q19=\"-\"), \"-\", SUM(C19,Q19))","v":2.4},{"$f":"IF(OR(D19=\"-\", R19=\"-\"), \"-\", SUM(D19,R19))","v":4.2},{"$f":"IF(OR(E19=\"-\", S19=\"-\"), \"-\", SUM(E19,S19))","v":0},{"$f":"IF(OR(F19=\"-\", T19=\"-\"), \"-\", SUM(F19,T19))","v":0.2},{"$f":"IF(OR(G19=\"-\", U19=\"-\"), \"-\", SUM(G19,U19))","v":0.2},{"$f":"IF(OR(H19=\"-\", V19=\"-\"), \"-\", SUM(H19,V19))","v":0.4},{"$f":"IF(OR(I19=\"-\", W19=\"-\"), \"-\", SUM(I19,W19))","v":0},{"$f":"IF(OR(J19=\"-\", X19=\"-\"), \"-\", SUM(J19,X19))","v":0},{"$f":"IF(OR(K19=\"-\", Y19=\"-\"), \"-\", SUM(K19,Y19))","v":0},{"$f":"IF(OR(L19=\"-\", Z19=\"-\"), \"-\", SUM(L19,Z19))","v":0},{"$f":"IF(OR(M19=\"-\", AA19=\"-\"), \"-\", SUM(M19,AA19))","v":0},{"$f":"IF(OR(N19=\"-\", AB19=\"-\"), \"-\", SUM(N19,AB19))","v":0},{"$f":"IF(AE19=\"-\", \"-\", SUM(AE19:AP19))","v":7.4}]
[null,"00:15:00",{"$f":"IF(OFFSET('Raw Data'!H5,Input_Details!$B$29,0)=\"\", \"-\", OFFSET('Raw Data'!H5,Input_Details!$B$29,0))","v":0.4},{"$f":"IF(OFFSET('Raw Data'!I5,Input_Details!$B$29,0)=\"\", \"-\", OFFSET('Raw Data'!I5,Input_Details!$B$29,0))","v":3.6},{"$f":"IF(OFFSET('Raw Data'!J5,Input_Details!$B$29,0)=\"\", \"-\", OFFSET('Raw Data'!J5,Input_Details!$B$29,0))","v":0},{"$f":"IF(OFFSET('Raw Data'!K5,Input_Details!$B$29,0)=\"\", \"-\", OFFSET('Raw Data'!K5,Input_Details!$B$29,0))","v":0},{"$f":"IF(OFFSET('Raw Data'!L5,Input_Details!$B$29,0)=\"\", \"-\", OFFSET('Raw Data'!L5,Input_Details!$B$29,0))","v":0},{"$f":"IF(OFFSET('Raw Data'!M5,Input_Details!$B$29,0)=\"\", \"-\", OFFSET('Raw Data'!M5,Input_Details!$B$29,0))","v":0},{"$f":"IF(OFFSET('Raw Data'!N5,Input_Details!$B$29,0)=\"\", \"-\", OFFSET('Raw Data'!N5,Input_Details!$B$29,0))","v":0},{"$f":"IF(OFFSET('Raw Data'!O5,Input_Details!$B$29,0)=\"\", \"-\", OFFSET('Raw Data'!O5,Input_Details!$B$29,0))","v":0},{"$f":"IF(OFFSET('Raw Data'!P5,Input_Details!$B$29,0)=\"\", \"-\", OFFSET('Raw Data'!P5,Input_Details!$B$29,0))","v":0},{"$f":"IF(OFFSET('Raw Data'!Q5,Input_Details!$B$29,0)=\"\", \"-\", OFFSET('Raw Data'!Q5,Input_Details!$B$29,0))","v":0},{"$f":"IF(OFFSET('Raw Data'!R5,Input_Details!$B$29,0)=\"\", \"-\", OFFSET('Raw Data'!R5,Input_Details!$B$29,0))","v":0},{"$f":"IF(OFFSET('Raw Data'!S5,Input_Details!$B$29,0)=\"\", \"-\", OFFSET('Raw Data'!S5,Input_Details!$B$29,0))","v":0},{"$f":"IF(C20=\"-\", \"-\", SUM(C20:N20))","v":4},null,{"$f":"IF(OFFSET('Raw Data'!AU5,Input_Details!$B$29,0)=\"\", \"-\", OFFSET('Raw Data'!AU5,Input_Details!$B$29,0))","v":0.4},{"$f":"IF(OFFSET('Raw Data'!AV5,Input_Details!$B$29,0)=\"\", \"-\", OFFSET('Raw Data'!AV5,Input_Details!$B$29,0))","v":2.2000000000000002},{"$f":"IF(OFFSET('Raw Data'!AW5,Input_Details!$B$29,0)=\"\", \"-\", OFFSET('Raw Data'!AW5,Input_Details!$B$29,0))","v":0},{"$f":"IF(OFFSET('Raw Data'!AX5,Input_Details!$B$29,0)=\"\", \"-\", OFFSET('Raw Data'!AX5,Input_Details!$B$29,0))","v":0},{"$f":"IF(OFFSET('Raw Data'!AY5,Input_Details!$B$29,0)=\"\", \"-\", OFFSET('Raw Data'!AY5,Input_Details!$B$29,0))","v":0},{"$f":"IF(OFFSET('Raw Data'!AZ5,Input_Details!$B$29,0)=\"\", \"-\", OFFSET('Raw Data'!AZ5,Input_Details!$B$29,0))","v":0},{"$f":"IF(OFFSET('Raw Data'!BA5,Input_Details!$B$29,0)=\"\", \"-\", OFFSET('Raw Data'!BA5,Input_Details!$B$29,0))","v":0},{"$f":"IF(OFFSET('Raw Data'!BB5,Input_Details!$B$29,0)=\"\", \"-\", OFFSET('Raw Data'!BB5,Input_Details!$B$29,0))","v":0},{"$f":"IF(OFFSET('Raw Data'!BC5,Input_Details!$B$29,0)=\"\", \"-\", OFFSET('Raw Data'!BC5,Input_Details!$B$29,0))","v":0},{"$f":"IF(OFFSET('Raw Data'!BD5,Input_Details!$B$29,0)=\"\", \"-\", OFFSET('Raw Data'!BD5,Input_Details!$B$29,0))","v":0},{"$f":"IF(OFFSET('Raw Data'!BE5,Input_Details!$B$29,0)=\"\", \"-\", OFFSET('Raw Data'!BE5,Input_Details!$B$29,0))","v":0},{"$f":"IF(OFFSET('Raw Data'!BF5,Input_Details!$B$29,0)=\"\", \"-\", OFFSET('Raw Data'!BF5,Input_Details!$B$29,0))","v":0},{"$f":"IF(Q20=\"-\", \"-\", SUM(Q20:AB20))","v":2.6},null,{"$f":"IF(OR(C20=\"-\", Q20=\"-\"), \"-\", SUM(C20,Q20))","v":0.8},5.8000000000000007,0,0,0,0,0,0,0,0,0,0,{"$f":"IF(AE20=\"-\", \"-\", SUM(AE20:AP20))","v":6.6000000000000005}]
[null,"00:30:00",{"$f":"IF(OFFSET('Raw Data'!H6,Input_Details!$B$29,0)=\"\", \"-\", OFFSET('Raw Data'!H6,Input_Details!$B$29,0))","v":0},{"$f":"IF(OFFSET('Raw Data'!I6,Input_Details!$B$29,0)=\"\", \"-\", OFFSET('Raw Data'!I6,Input_Details!$B$29,0))","v":1.8},{"$f":"IF(OFFSET('Raw Data'!J6,Input_Details!$B$29,0)=\"\", \"-\", OFFSET('Raw Data'!J6,Input_Details!$B$29,0))","v":0},{"$f":"IF(OFFSET('Raw Data'!K6,Input_Details!$B$29,0)=\"\", \"-\", OFFSET('Raw Data'!K6,Input_Details!$B$29,0))","v":0},{"$f":"IF(OFFSET('Raw Data'!L6,Input_Details!$B$29,0)=\"\", \"-\", OFFSET('Raw Data'!L6,Input_Details!$B$29,0))","v":0},{"$f":"IF(OFFSET('Raw Data'!M6,Input_Details!$B$29,0)=\"\", \"-\", OFFSET('Raw Data'!M6,Input_Details!$B$29,0))","v":0},{"$f":"IF(OFFSET('Raw Data'!N6,Input_Details!$B$29,0)=\"\", \"-\", OFFSET('Raw Data'!N6,Input_Details!$B$29,0))","v":0},{"$f":"IF(OFFSET('Raw Data'!O6,Input_Details!$B$29,0)=\"\", \"-\", OFFSET('Raw Data'!O6,Input_Details!$B$29,0))","v":0},{"$f":"IF(OFFSET('Raw Data'!P6,Input_Details!$B$29,0)=\"\", \"-\", OFFSET('Raw Data'!P6,Input_Details!$B$29,0))","v":0},{"$f":"IF(OFFSET('Raw Data'!Q6,Input_Details!$B$29,0)=\"\", \"-\", OFFSET('Raw Data'!Q6,Input_Details!$B$29,0))","v":0},{"$f":"IF(OFFSET('Raw Data'!R6,Input_Details!$B$29,0)=\"\", \"-\", OFFSET('Raw Data'!R6,Input_Details!$B$29,0))","v":0},{"$f":"IF(OFFSET('Raw Data'!S6,Input_Details!$B$29,0)=\"\", \"-\", OFFSET('Raw Data'!S6,Input_Details!$B$29,0))","v":0},1.8,null,{"$f":"IF(OFFSET('Raw Data'!AU6,Input_Details!$B$29,0)=\"\", \"-\", OFFSET('Raw Data'!AU6,Input_Details!$B$29,0))","v":0.2},{"$f":"IF(OFFSET('Raw Data'!AV6,Input_Details!$B$29,0)=\"\", \"-\", OFFSET('Raw Data'!AV6,Input_Details!$B$29,0))","v":1},{"$f":"IF(OFFSET('Raw Data'!AW6,Input_Details!$B$29,0)=\"\", \"-\", OFFSET('Raw Data'!AW6,Input_Details!$B$29,0))","v":0},{"$f":"IF(OFFSET('Raw Data'!AX6,Input_Details!$B$29,0)=\"\", \"-\", OFFSET('Raw Data'!AX6,Input_Details!$B$29,0))","v":0.2},{"$f":"IF(OFFSET('Raw Data'!AY6,Input_Details!$B$29,0)=\"\", \"-\", OFFSET('Raw Data'!AY6,Input_Details!$B$29,0))","v":0},{"$f":"IF(OFFSET('Raw Data'!AZ6,Input_Details!$B$29,0)=\"\", \"-\", OFFSET('Raw Data'!AZ6,Input_Details!$B$29,0))","v":0},{"$f":"IF(OFFSET('Raw Data'!BA6,Input_Details!$B$29,0)=\"\", \"-\", OFFSET('Raw Data'!BA6,Input_Details!$B$29,0))","v":0},{"$f":"IF(OFFSET('Raw Data'!BB6,Input_Details!$B$29,0)=\"\", \"-\", OFFSET('Raw Data'!BB6,Input_Details!$B$29,0))","v":0},{"$f":"IF(OFFSET('Raw Data'!BC6,Input_Details!$B$29,0)=\"\", \"-\", OFFSET('Raw Data'!BC6,Input_Details!$B$29,0))","v":0},{"$f":"IF(OFFSET('Raw Data'!BD6,Input_Details!$B$29,0)=\"\", \"-\", OFFSET('Raw Data'!BD6,Input_Details!$B$29,0))","v":0},{"$f":"IF(OFFSET('Raw Data'!BE6,Input_Details!$B$29,0)=\"\", \"-\", OFFSET('Raw Data'!BE6,Input_Details!$B$29,0))","v":0},{"$f":"IF(OFFSET('Raw Data'!BF6,Input_Details!$B$29,0)=\"\", \"-\", OFFSET('Raw Data'!BF6,Input_Details!$B$29,0))","v":0},1.4,null,0.2,2.8,0,0.2,0,0,0,0,0,0,0,0,3.2]
[null,"00:45:00",{"$f":"IF(OFFSET('Raw Data'!H7,Input_Details!$B$29,0)=\"\", \"-\", OFFSET('Raw Data'!H7,Input_Details!$B$29,0))","v":0.2},{"$f":"IF(OFFSET('Raw Data'!I7,Input_Details!$B$29,0)=\"\", \"-\", OFFSET('Raw Data'!I7,Input_Details!$B$29,0))","v":2.4},{"$f":"IF(OFFSET('Raw Data'!J7,Input_Details!$B$29,0)=\"\", \"-\", OFFSET('Raw Data'!J7,Input_Details!$B$29,0))","v":0},{"$f":"IF(OFFSET('Raw Data'!K7,Input_Details!$B$29,0)=\"\", \"-\", OFFSET('Raw Data'!K7,Input_Details!$B$29,0))","v":0},{"$f":"IF(OFFSET('Raw Data'!L7,Input_Details!$B$29,0)=\"\", \"-\", OFFSET('Raw Data'!L7,Input_Details!$B$29,0))","v":0},{"$f":"IF(OFFSET('Raw Data'!M7,Input_Details!$B$29,0)=\"\", \"-\", OFFSET('Raw Data'!M7,Input_Details!$B$29,0))","v":0},{"$f":"IF(OFFSET('Raw Data'!N7,Input_Details!$B$29,0)=\"\", \"-\", OFFSET('Raw Data'!N7,Input_Details!$B$29,0))","v":0},{"$f":"IF(OFFSET('Raw Data'!O7,Input_Details!$B$29,0)=\"\", \"-\", OFFSET('Raw Data'!O7,Input_Details!$B$29,0))","v":0},{"$f":"IF(OFFSET('Raw Data'!P7,Input_Details!$B$29,0)=\"\", \"-\", OFFSET('Raw Data'!P7,Input_Details!$B$29,0))","v":0},{"$f":"IF(OFFSET('Raw Data'!Q7,Input_Details!$B$29,0)=\"\", \"-\", OFFSET('Raw Data'!Q7,Input_Details!$B$29,0))","v":0},{"$f":"IF(OFFSET('Raw Data'!R7,Input_Details!$B$29,0)=\"\", \"-\", OFFSET('Raw Data'!R7,Input_Details!$B$29,0))","v":0},{"$f":"IF(OFFSET('Raw Data'!S7,Input_Details!$B$29,0)=\"\", \"-\", OFFSET('Raw Data'!S7,Input_Details!$B$29,0))","v":0},2.6,null,{"$f":"IF(OFFSET('Raw Data'!AU7,Input_Details!$B$29,0)=\"\", \"-\", OFFSET('Raw Data'!AU7,Input_Details!$B$29,0))","v":0.8},{"$f":"IF(OFFSET('Raw Data'!AV7,Input_Details!$B$29,0)=\"\", \"-\", OFFSET('Raw Data'!AV7,Input_Details!$B$29,0))","v":0.8},{"$f":"IF(OFFSET('Raw Data'!AW7,Input_Details!$B$29,0)=\"\", \"-\", OFFSET('Raw Data'!AW7,Input_Details!$B$29,0))","v":0},{"$f":"IF(OFFSET('Raw Data'!AX7,Input_Details!$B$29,0)=\"\", \"-\", OFFSET('Raw Data'!AX7,Input_Details!$B$29,0))","v":0},{"$f":"IF(OFFSET('Raw Data'!AY7,Input_Details!$B$29,0)=\"\", \"-\", OFFSET('Raw Data'!AY7,Input_Details!$B$29,0))","v":0},{"$f":"IF(OFFSET('Raw Data'!AZ7,Input_Details!$B$29,0)=\"\", \"-\", OFFSET('Raw Data'!AZ7,Input_Details!$B$29,0))","v":0},{"$f":"IF(OFFSET('Raw Data'!BA7,Input_Details!$B$29,0)=\"\", \"-\", OFFSET('Raw Data'!BA7,Input_Details!$B$29,0))","v":0},{"$f":"IF(OFFSET('Raw Data'!BB7,Input_Details!$B$29,0)=\"\", \"-\", OFFSET('Raw Data'!BB7,Input_Details!$B$29,0))","v":0},{"$f":"IF(OFFSET('Raw Data'!BC7,Input_Details!$B$29,0)=\"\", \"-\", OFFSET('Raw Data'!BC7,Input_Details!$B$29,0))","v":0},{"$f":"IF(OFFSET('Raw Data'!BD7,Input_Details!$B$29,0)=\"\", \"-\", OFFSET('Raw Data'!BD7,Input_Details!$B$29,0))","v":0},{"$f":"IF(OFFSET('Raw Data'!BE7,Input_Details!$B$29,0)=\"\", \"-\", OFFSET('Raw Data'!BE7,Input_Details!$B$29,0))","v":0},{"$f":"IF(OFFSET('Raw Data'!BF7,Input_Details!$B$29,0)=\"\", \"-\", OFFSET('Raw Data'!BF7,Input_Details!$B$29,0))","v":0},1.6,null,1,3.2,0,0,0,0,0,0,0,0,0,0,4.2]
[null,"01:00:00",{"$f":"IF(OFFSET('Raw Data'!H8,Input_Details!$B$29,0)=\"\", \"-\", OFFSET('Raw Data'!H8,Input_Details!$B$29,0))","v":0.2},{"$f":"IF(OFFSET('Raw Data'!I8,Input_Details!$B$29,0)=\"\", \"-\", OFFSET('Raw Data'!I8,Input_Details!$B$29,0))","v":0.8},{"$f":"IF(OFFSET('Raw Data'!J8,Input_Details!$B$29,0)=\"\", \"-\", OFFSET('Raw Data'!J8,Input_Details!$B$29,0))","v":0},{"$f":"IF(OFFSET('Raw Data'!K8,Input_Details!$B$29,0)=\"\", \"-\", OFFSET('Raw Data'!K8,Input_Details!$B$29,0))","v":0},{"$f":"IF(OFFSET('Raw Data'!L8,Input_Details!$B$29,0)=\"\", \"-\", OFFSET('Raw Data'!L8,Input_Details!$B$29,0))","v":0},{"$f":"IF(OFFSET('Raw Data'!M8,Input_Details!$B$29,0)=\"\", \"-\", OFFSET('Raw Data'!M8,Input_Details!$B$29,0))","v":0},{"$f":"IF(OFFSET('Raw Data'!N8,Input_Details!$B$29,0)=\"\", \"-\", OFFSET('Raw Data'!N8,Input_Details!$B$29,0))","v":0},{"$f":"IF(OFFSET('Raw Data'!O8,Input_Details!$B$29,0)=\"\", \"-\", OFFSET('Raw Data'!O8,Input_Details!$B$29,0))","v":0},{"$f":"IF(OFFSET('Raw Data'!P8,Input_Details!$B$29,0)=\"\", \"-\", OFFSET('Raw Data'!P8,Input_Details!$B$29,0))","v":0},{"$f":"IF(OFFSET('Raw Data'!Q8,Input_Details!$B$29,0)=\"\", \"-\", OFFSET('Raw Data'!Q8,Input_Details!$B$29,0))","v":0},{"$f":"IF(OFFSET('Raw Data'!R8,Input_Details!$B$29,0)=\"\", \"-\", OFFSET('Raw Data'!R8,Input_Details!$B$29,0))","v":0},{"$f":"IF(OFFSET('Raw Data'!S8,Input_Details!$B$29,0)=\"\", \"-\", OFFSET('Raw Data'!S8,Input_Details!$B$29,0))","v":0},1,null,{"$f":"IF(OFFSET('Raw Data'!AU8,Input_Details!$B$29,0)=\"\", \"-\", OFFSET('Raw Data'!AU8,Input_Details!$B$29,0))","v":0.2},{"$f":"IF(OFFSET('Raw Data'!AV8,Input_Details!$B$29,0)=\"\", \"-\", OFFSET('Raw Data'!AV8,Input_Details!$B$29,0))","v":0.8},{"$f":"IF(OFFSET('Raw Data'!AW8,Input_Details!$B$29,0)=\"\", \"-\", OFFSET('Raw Data'!AW8,Input_Details!$B$29,0))","v":0},{"$f":"IF(OFFSET('Raw Data'!AX8,Input_Details!$B$29,0)=\"\", \"-\", OFFSET('Raw Data'!AX8,Input_Details!$B$29,0))","v":0},{"$f":"IF(OFFSET('Raw Data'!AY8,Input_Details!$B$29,0)=\"\", \"-\", OFFSET('Raw Data'!AY8,Input_Details!$B$29,0))","v":0},{"$f":"IF(OFFSET('Raw Data'!AZ8,Input_Details!$B$29,0)=\"\", \"-\", OFFSET('Raw Data'!AZ8,Input_Details!$B$29,0))","v":0},{"$f":"IF(OFFSET('Raw Data'!BA8,Input_Details!$B$29,0)=\"\", \"-\", OFFSET('Raw Data'!BA8,Input_Details!$B$29,0))","v":0},{"$f":"IF(OFFSET('Raw Data'!BB8,Input_Details!$B$29,0)=\"\", \"-\", OFFSET('Raw Data'!BB8,Input_Details!$B$29,0))","v":0},{"$f":"IF(OFFSET('Raw Data'!BC8,Input_Details!$B$29,0)=\"\", \"-\", OFFSET('Raw Data'!BC8,Input_Details!$B$29,0))","v":0},{"$f":"IF(OFFSET('Raw Data'!BD8,Input_Details!$B$29,0)=\"\", \"-\", OFFSET('Raw Data'!BD8,Input_Details!$B$29,0))","v":0},{"$f":"IF(OFFSET('Raw Data'!BE8,Input_Details!$B$29,0)=\"\", \"-\", OFFSET('Raw Data'!BE8,Input_Details!$B$29,0))","v":0},{"$f":"IF(OFFSET('Raw Data'!BF8,Input_Details!$B$29,0)=\"\", \"-\", OFFSET('Raw Data'!BF8,Input_Details!$B$29,0))","v":0},1,null,0.4,1.6,0,0,0,0,0,0,0,0,0,0,2]
[null,"01:15:00",{"$f":"IF(OFFSET('Raw Data'!H9,Input_Details!$B$29,0)=\"\", \"-\", OFFSET('Raw Data'!H9,Input_Details!$B$29,0))","v":0},{"$f":"IF(OFFSET('Raw Data'!I9,Input_Details!$B$29,0)=\"\", \"-\", OFFSET('Raw Data'!I9,Input_Details!$B$29,0))","v":1.4},{"$f":"IF(OFFSET('Raw Data'!J9,Input_Details!$B$29,0)=\"\", \"-\", OFFSET('Raw Data'!J9,Input_Details!$B$29,0))","v":0},{"$f":"IF(OFFSET('Raw Data'!K9,Input_Details!$B$29,0)=\"\", \"-\", OFFSET('Raw Data'!K9,Input_Details!$B$29,0))","v":0.2},{"$f":"IF(OFFSET('Raw Data'!L9,Input_Details!$B$29,0)=\"\", \"-\", OFFSET('Raw Data'!L9,Input_Details!$B$29,0))","v":0},{"$f":"IF(OFFSET('Raw Data'!M9,Input_Details!$B$29,0)=\"\", \"-\", OFFSET('Raw Data'!M9,Input_Details!$B$29,0))","v":0},{"$f":"IF(OFFSET('Raw Data'!N9,Input_Details!$B$29,0)=\"\", \"-\", OFFSET('Raw Data'!N9,Input_Details!$B$29,0))","v":0},{"$f":"IF(OFFSET('Raw Data'!O9,Input_Details!$B$29,0)=\"\", \"-\", OFFSET('Raw Data'!O9,Input_Details!$B$29,0))","v":0},{"$f":"IF(OFFSET('Raw Data'!P9,Input_Details!$B$29,0)=\"\", \"-\", OFFSET('Raw Data'!P9,Input_Details!$B$29,0))","v":0},{"$f":"IF(OFFSET('Raw Data'!Q9,Input_Details!$B$29,0)=\"\", \"-\", OFFSET('Raw Data'!Q9,Input_Details!$B$29,0))","v":0},{"$f":"IF(OFFSET('Raw Data'!R9,Input_Details!$B$29,0)=\"\", \"-\", OFFSET('Raw Data'!R9,Input_Details!$B$29,0))","v":0},{"$f":"IF(OFFSET('Raw Data'!S9,Input_Details!$B$29,0)=\"\", \"-\", OFFSET('Raw Data'!S9,Input_Details!$B$29,0))","v":0},1.5999999999999999,null,{"$f":"IF(OFFSET('Raw Data'!AU9,Input_Details!$B$29,0)=\"\", \"-\", OFFSET('Raw Data'!AU9,Input_Details!$B$29,0))","v":0.6},{"$f":"IF(OFFSET('Raw Data'!AV9,Input_Details!$B$29,0)=\"\", \"-\", OFFSET('Raw Data'!AV9,Input_Details!$B$29,0))","v":1},{"$f":"IF(OFFSET('Raw Data'!AW9,Input_Details!$B$29,0)=\"\", \"-\", OFFSET('Raw Data'!AW9,Input_Details!$B$29,0))","v":0},{"$f":"IF(OFFSET('Raw Data'!AX9,Input_Details!$B$29,0)=\"\", \"-\", OFFSET('Raw Data'!AX9,Input_Details!$B$29,0))","v":0.2},{"$f":"IF(OFFSET('Raw Data'!AY9,Input_Details!$B$29,0)=\"\", \"-\", OFFSET('Raw Data'!AY9,Input_Details!$B$29,0))","v":0},{"$f":"IF(OFFSET('Raw Data'!AZ9,Input_Details!$B$29,0)=\"\", \"-\", OFFSET('Raw Data'!AZ9,Input_Details!$B$29,0))","v":0},{"$f":"IF(OFFSET('Raw Data'!BA9,Input_Details!$B$29,0)=\"\", \"-\", OFFSET('Raw Data'!BA9,Input_Details!$B$29,0))","v":0},{"$f":"IF(OFFSET('Raw Data'!BB9,Input_Details!$B$29,0)=\"\", \"-\", OFFSET('Raw Data'!BB9,Input_Details!$B$29,0))","v":0},{"$f":"IF(OFFSET('Raw Data'!BC9,Input_Details!$B$29,0)=\"\", \"-\", OFFSET('Raw Data'!BC9,Input_Details!$B$29,0))","v":0},{"$f":"IF(OFFSET('Raw Data'!BD9,Input_Details!$B$29,0)=\"\", \"-\", OFFSET('Raw Data'!BD9,Input_Details!$B$29,0))","v":0},{"$f":"IF(OFFSET('Raw Data'!BE9,Input_Details!$B$29,0)=\"\", \"-\", OFFSET('Raw Data'!BE9,Input_Details!$B$29,0))","v":0},{"$f":"IF(OFFSET('Raw Data'!BF9,Input_Details!$B$29,0)=\"\", \"-\", OFFSET('Raw Data'!BF9,Input_Details!$B$29,0))","v":0},1.8,null,0.6,2.4,0,0.4,0,0,0,0,0,0,0,0,3.4]
[null,"01:30:00",{"$f":"IF(OFFSET('Raw Data'!H10,Input_Details!$B$29,0)=\"\", \"-\", OFFSET('Raw Data'!H10,Input_Details!$B$29,0))","v":0},{"$f":"IF(OFFSET('Raw Data'!I10,Input_Details!$B$29,0)=\"\", \"-\", OFFSET('Raw Data'!I10,Input_Details!$B$29,0))","v":1},{"$f":"IF(OFFSET('Raw Data'!J10,Input_Details!$B$29,0)=\"\", \"-\", OFFSET('Raw Data'!J10,Input_Details!$B$29,0))","v":0},{"$f":"IF(OFFSET('Raw Data'!K10,Input_Details!$B$29,0)=\"\", \"-\", OFFSET('Raw Data'!K10,Input_Details!$B$29,0))","v":0},{"$f":"IF(OFFSET('Raw Data'!L10,Input_Details!$B$29,0)=\"\", \"-\", OFFSET('Raw Data'!L10,Input_Details!$B$29,0))","v":0},{"$f":"IF(OFFSET('Raw Data'!M10,Input_Details!$B$29,0)=\"\", \"-\", OFFSET('Raw Data'!M10,Input_Details!$B$29,0))","v":0},{"$f":"IF(OFFSET('Raw Data'!N10,Input_Details!$B$29,0)=\"\", \"-\", OFFSET('Raw Data'!N10,Input_Details!$B$29,0))","v":0},{"$f":"IF(OFFSET('Raw Data'!O10,Input_Details!$B$29,0)=\"\", \"-\", OFFSET('Raw Data'!O10,Input_Details!$B$29,0))","v":0},{"$f":"IF(OFFSET('Raw Data'!P10,Input_Details!$B$29,0)=\"\", \"-\", OFFSET('Raw Data'!P10,Input_Details!$B$29,0))","v":0},{"$f":"IF(OFFSET('Raw Data'!Q10,Input_Details!$B$29,0)=\"\", \"-\", OFFSET('Raw Data'!Q10,Input_Details!$B$29,0))","v":0},{"$f":"IF(OFFSET('Raw Data'!R10,Input_Details!$B$29,0)=\"\", \"-\", OFFSET('Raw Data'!R10,Input_Details!$B$29,0))","v":0},{"$f":"IF(OFFSET('Raw Data'!S10,Input_Details!$B$29,0)=\"\", \"-\", OFFSET('Raw Data'!S10,Input_Details!$B$29,0))","v":0},1,null,{"$f":"IF(OFFSET('Raw Data'!AU10,Input_Details!$B$29,0)=\"\", \"-\", OFFSET('Raw Data'!AU10,Input_Details!$B$29,0))","v":0},{"$f":"IF(OFFSET('Raw Data'!AV10,Input_Details!$B$29,0)=\"\", \"-\", OFFSET('Raw Data'!AV10,Input_Details!$B$29,0))","v":0.8},{"$f":"IF(OFFSET('Raw Data'!AW10,Input_Details!$B$29,0)=\"\", \"-\", OFFSET('Raw Data'!AW10,Input_Details!$B$29,0))","v":0},{"$f":"IF(OFFSET('Raw Data'!AX10,Input_Details!$B$29,0)=\"\", \"-\", OFFSET('Raw Data'!AX10,Input_Details!$B$29,0))","v":0.2},{"$f":"IF(OFFSET('Raw Data'!AY10,Input_Details!$B$29,0)=\"\", \"-\", OFFSET('Raw Data'!AY10,Input_Details!$B$29,0))","v":0},{"$f":"IF(OFFSET('Raw Data'!AZ10,Input_Details!$B$29,0)=\"\", \"-\", OFFSET('Raw Data'!AZ10,Input_Details!$B$29,0))","v":0},{"$f":"IF(OFFSET('Raw Data'!BA10,Input_Details!$B$29,0)=\"\", \"-\", OFFSET('Raw Data'!BA10,Input_Details!$B$29,0))","v":0},{"$f":"IF(OFFSET('Raw Data'!BB10,Input_Details!$B$29,0)=\"\", \"-\", OFFSET('Raw Data'!BB10,Input_Details!$B$29,0))","v":0},{"$f":"IF(OFFSET('Raw Data'!BC10,Input_Details!$B$29,0)=\"\", \"-\", OFFSET('Raw Data'!BC10,Input_Details!$B$29,0))","v":0},{"$f":"IF(OFFSET('Raw Data'!BD10,Input_Details!$B$29,0)=\"\", \"-\", OFFSET('Raw Data'!BD10,Input_Details!$B$29,0))","v":0},{"$f":"IF(OFFSET('Raw Data'!BE10,Input_Details!$B$29,0)=\"\", \"-\", OFFSET('Raw Data'!BE10,Input_Details!$B$29,0))","v":0},{"$f":"IF(OFFSET('Raw Data'!BF10,Input_Details!$B$29,0)=\"\", \"-\", OFFSET('Raw Data'!BF10,Input_Details!$B$29,0))","v":0},1,null,0,1.8,0,0.2,0,0,0,0,0,0,0,0,2]
[null,"01:45:00",{"$f":"IF(OFFSET('Raw Data'!H11,Input_Details!$B$29,0)=\"\", \"-\", OFFSET('Raw Data'!H11,Input_Details!$B$29,0))","v":0.2},{"$f":"IF(OFFSET('Raw Data'!I11,Input_Details!$B$29,0)=\"\", \"-\", OFFSET('Raw Data'!I11,Input_Details!$B$29,0))","v":1},{"$f":"IF(OFFSET('Raw Data'!J11,Input_Details!$B$29,0)=\"\", \"-\", OFFSET('Raw Data'!J11,Input_Details!$B$29,0))","v":0},{"$f":"IF(OFFSET('Raw Data'!K11,Input_Details!$B$29,0)=\"\", \"-\", OFFSET('Raw Data'!K11,Input_Details!$B$29,0))","v":0.2},{"$f":"IF(OFFSET('Raw Data'!L11,Input_Details!$B$29,0)=\"\", \"-\", OFFSET('Raw Data'!L11,Input_Details!$B$29,0))","v":0},{"$f":"IF(OFFSET('Raw Data'!M11,Input_Details!$B$29,0)=\"\", \"-\", OFFSET('Raw Data'!M11,Input_Details!$B$29,0))","v":0},{"$f":"IF(OFFSET('Raw Data'!N11,Input_Details!$B$29,0)=\"\", \"-\", OFFSET('Raw Data'!N11,Input_Details!$B$29,0))","v":0},{"$f":"IF(OFFSET('Raw Data'!O11,Input_Details!$B$29,0)=\"\", \"-\", OFFSET('Raw Data'!O11,Input_Details!$B$29,0))","v":0},{"$f":"IF(OFFSET('Raw Data'!P11,Input_Details!$B$29,0)=\"\", \"-\", OFFSET('Raw Data'!P11,Input_Details!$B$29,0))","v":0},{"$f":"IF(OFFSET('Raw Data'!Q11,Input_Details!$B$29,0)=\"\", \"-\", OFFSET('Raw Data'!Q11,Input_Details!$B$29,0))","v":0},{"$f":"IF(OFFSET('Raw Data'!R11,Input_Details!$B$29,0)=\"\", \"-\", OFFSET('Raw Data'!R11,Input_Details!$B$29,0))","v":0},{"$f":"IF(OFFSET('Raw Data'!S11,Input_Details!$B$29,0)=\"\", \"-\", OFFSET('Raw Data'!S11,Input_Details!$B$29,0))","v":0},1.4,null,{"$f":"IF(OFFSET('Raw Data'!AU11,Input_Details!$B$29,0)=\"\", \"-\", OFFSET('Raw Data'!AU11,Input_Details!$B$29,0))","v":0.4},{"$f":"IF(OFFSET('Raw Data'!AV11,Input_Details!$B$29,0)=\"\", \"-\", OFFSET('Raw Data'!AV11,Input_Details!$B$29,0))","v":0.4},{"$f":"IF(OFFSET('Raw Data'!AW11,Input_Details!$B$29,0)=\"\", \"-\", OFFSET('Raw Data'!AW11,Input_Details!$B$29,0))","v":0},{"$f":"IF(OFFSET('Raw Data'!AX11,Input_Details!$B$29,0)=\"\", \"-\", OFFSET('Raw Data'!AX11,Input_Details!$B$29,0))","v":0},{"$f":"IF(OFFSET('Raw Data'!AY11,Input_Details!$B$29,0)=\"\", \"-\", OFFSET('Raw Data'!AY11,Input_Details!$B$29,0))","v":0},{"$f":"IF(OFFSET('Raw Data'!AZ11,Input_Details!$B$29,0)=\"\", \"-\", OFFSET('Raw Data'!AZ11,Input_Details!$B$29,0))","v":0},{"$f":"IF(OFFSET('Raw Data'!BA11,Input_Details!$B$29,0)=\"\", \"-\", OFFSET('Raw Data'!BA11,Input_Details!$B$29,0))","v":0},{"$f":"IF(OFFSET('Raw Data'!BB11,Input_Details!$B$29,0)=\"\", \"-\", OFFSET('Raw Data'!BB11,Input_Details!$B$29,0))","v":0},{"$f":"IF(OFFSET('Raw Data'!BC11,Input_Details!$B$29,0)=\"\", \"-\", OFFSET('Raw Data'!BC11,Input_Details!$B$29,0))","v":0},{"$f":"IF(OFFSET('Raw Data'!BD11,Input_Details!$B$29,0)=\"\", \"-\", OFFSET('Raw Data'!BD11,Input_Details!$B$29,0))","v":0},{"$f":"IF(OFFSET('Raw Data'!BE11,Input_Details!$B$29,0)=\"\", \"-\", OFFSET('Raw Data'!BE11,Input_Details!$B$29,0))","v":0},{"$f":"IF(OFFSET('Raw Data'!BF11,Input_Details!$B$29,0)=\"\", \"-\", OFFSET('Raw Data'!BF11,Input_Details!$B$29,0))","v":0},0.8,null,0.60000000000000009,1.4,0,0.2,0,0,0,0,0,0,0,0,2.2000000000000002]
[null,"02:00:00",{"$f":"IF(OFFSET('Raw Data'!H12,Input_Details!$B$29,0)=\"\", \"-\", OFFSET('Raw Data'!H12,Input_Details!$B$29,0))","v":0},{"$f":"IF(OFFSET('Raw Data'!I12,Input_Details!$B$29,0)=\"\", \"-\", OFFSET('Raw Data'!I12,Input_Details!$B$29,0))","v":1.4},{"$f":"IF(OFFSET('Raw Data'!J12,Input_Details!$B$29,0)=\"\", \"-\", OFFSET('Raw Data'!J12,Input_Details!$B$29,0))","v":0},{"$f":"IF(OFFSET('Raw Data'!K12,Input_Details!$B$29,0)=\"\", \"-\", OFFSET('Raw Data'!K12,Input_Details!$B$29,0))","v":0},{"$f":"IF(OFFSET('Raw Data'!L12,Input_Details!$B$29,0)=\"\", \"-\", OFFSET('Raw Data'!L12,Input_Details!$B$29,0))","v":0},{"$f":"IF(OFFSET('Raw Data'!M12,Input_Details!$B$29,0)=\"\", \"-\", OFFSET('Raw Data'!M12,Input_Details!$B$29,0))","v":0},{"$f":"IF(OFFSET('Raw Data'!N12,Input_Details!$B$29,0)=\"\", \"-\", OFFSET('Raw Data'!N12,Input_Details!$B$29,0))","v":0},{"$f":"IF(OFFSET('Raw Data'!O12,Input_Details!$B$29,0)=\"\", \"-\", OFFSET('Raw Data'!O12,Input_Details!$B$29,0))","v":0},{"$f":"IF(OFFSET('Raw Data'!P12,Input_Details!$B$29,0)=\"\", \"-\", OFFSET('Raw Data'!P12,Input_Details!$B$29,0))","v":0},{"$f":"IF(OFFSET('Raw Data'!Q12,Input_Details!$B$29,0)=\"\", \"-\", OFFSET('Raw Data'!Q12,Input_Details!$B$29,0))","v":0},{"$f":"IF(OFFSET('Raw Data'!R12,Input_Details!$B$29,0)=\"\", \"-\", OFFSET('Raw Data'!R12,Input_Details!$B$29,0))","v":0},{"$f":"IF(OFFSET('Raw Data'!S12,Input_Details!$B$29,0)=\"\", \"-\", OFFSET('Raw Data'!S12,Input_Details!$B$29,0))","v":0},1.4,null,{"$f":"IF(OFFSET('Raw Data'!AU12,Input_Details!$B$29,0)=\"\", \"-\", OFFSET('Raw Data'!AU12,Input_Details!$B$29,0))","v":0.4},{"$f":"IF(OFFSET('Raw Data'!AV12,Input_Details!$B$29,0)=\"\", \"-\", OFFSET('Raw Data'!AV12,Input_Details!$B$29,0))","v":1},{"$f":"IF(OFFSET('Raw Data'!AW12,Input_Details!$B$29,0)=\"\", \"-\", OFFSET('Raw Data'!AW12,Input_Details!$B$29,0))","v":0},{"$f":"IF(OFFSET('Raw Data'!AX12,Input_Details!$B$29,0)=\"\", \"-\", OFFSET('Raw Data'!AX12,Input_Details!$B$29,0))","v":0},{"$f":"IF(OFFSET('Raw Data'!AY12,Input_Details!$B$29,0)=\"\", \"-\", OFFSET('Raw Data'!AY12,Input_Details!$B$29,0))","v":0},{"$f":"IF(OFFSET('Raw Data'!AZ12,Input_Details!$B$29,0)=\"\", \"-\", OFFSET('Raw Data'!AZ12,Input_Details!$B$29,0))","v":0},{"$f":"IF(OFFSET('Raw Data'!BA12,Input_Details!$B$29,0)=\"\", \"-\", OFFSET('Raw Data'!BA12,Input_Details!$B$29,0))","v":0},{"$f":"IF(OFFSET('Raw Data'!BB12,Input_Details!$B$29,0)=\"\", \"-\", OFFSET('Raw Data'!BB12,Input_Details!$B$29,0))","v":0},{"$f":"IF(OFFSET('Raw Data'!BC12,Input_Details!$B$29,0)=\"\", \"-\", OFFSET('Raw Data'!BC12,Input_Details!$B$29,0))","v":0},{"$f":"IF(OFFSET('Raw Data'!BD12,Input_Details!$B$29,0)=\"\", \"-\", OFFSET('Raw Data'!BD12,Input_Details!$B$29,0))","v":0},{"$f":"IF(OFFSET('Raw Data'!BE12,Input_Details!$B$29,0)=\"\", \"-\", OFFSET('Raw Data'!BE12,Input_Details!$B$29,0))","v":0},{"$f":"IF(OFFSET('Raw Data'!BF12,Input_Details!$B$29,0)=\"\", \"-\", OFFSET('Raw Data'!BF12,Input_Details!$B$29,0))","v":0},1.4,null,0.4,2.4,0,0,0,0,0,0,0,0,0,0,2.8]
[null,"02:15:00",{"$f":"IF(OFFSET('Raw Data'!H13,Input_Details!$B$29,0)=\"\", \"-\", OFFSET('Raw Data'!H13,Input_Details!$B$29,0))","v":0},{"$f":"IF(OFFSET('Raw Data'!I13,Input_Details!$B$29,0)=\"\", \"-\", OFFSET('Raw Data'!I13,Input_Details!$B$29,0))","v":1.2},{"$f":"IF(OFFSET('Raw Data'!J13,Input_Details!$B$29,0)=\"\", \"-\", OFFSET('Raw Data'!J13,Input_Details!$B$29,0))","v":0},{"$f":"IF(OFFSET('Raw Data'!K13,Input_Details!$B$29,0)=\"\", \"-\", OFFSET('Raw Data'!K13,Input_Details!$B$29,0))","v":0},{"$f":"IF(OFFSET('Raw Data'!L13,Input_Details!$B$29,0)=\"\", \"-\", OFFSET('Raw Data'!L13,Input_Details!$B$29,0))","v":0},{"$f":"IF(OFFSET('Raw Data'!M13,Input_Details!$B$29,0)=\"\", \"-\", OFFSET('Raw Data'!M13,Input_Details!$B$29,0))","v":0},{"$f":"IF(OFFSET('Raw Data'!N13,Input_Details!$B$29,0)=\"\", \"-\", OFFSET('Raw Data'!N13,Input_Details!$B$29,0))","v":0},{"$f":"IF(OFFSET('Raw Data'!O13,Input_Details!$B$29,0)=\"\", \"-\", OFFSET('Raw Data'!O13,Input_Details!$B$29,0))","v":0},{"$f":"IF(OFFSET('Raw Data'!P13,Input_Details!$B$29,0)=\"\", \"-\", OFFSET('Raw Data'!P13,Input_Details!$B$29,0))","v":0},{"$f":"IF(OFFSET('Raw Data'!Q13,Input_Details!$B$29,0)=\"\", \"-\", OFFSET('Raw Data'!Q13,Input_Details!$B$29,0))","v":0},{"$f":"IF(OFFSET('Raw Data'!R13,Input_Details!$B$29,0)=\"\", \"-\", OFFSET('Raw Data'!R13,Input_Details!$B$29,0))","v":0},{"$f":"IF(OFFSET('Raw Data'!S13,Input_Details!$B$29,0)=\"\", \"-\", OFFSET('Raw Data'!S13,Input_Details!$B$29,0))","v":0},1.2,null,{"$f":"IF(OFFSET('Raw Data'!AU13,Input_Details!$B$29,0)=\"\", \"-\", OFFSET('Raw Data'!AU13,Input_Details!$B$29,0))","v":0.2},{"$f":"IF(OFFSET('Raw Data'!AV13,Input_Details!$B$29,0)=\"\", \"-\", OFFSET('Raw Data'!AV13,Input_Details!$B$29,0))","v":0.2},{"$f":"IF(OFFSET('Raw Data'!AW13,Input_Details!$B$29,0)=\"\", \"-\", OFFSET('Raw Data'!AW13,Input_Details!$B$29,0))","v":0},{"$f":"IF(OFFSET('Raw Data'!AX13,Input_Details!$B$29,0)=\"\", \"-\", OFFSET('Raw Data'!AX13,Input_Details!$B$29,0))","v":0},{"$f":"IF(OFFSET('Raw Data'!AY13,Input_Details!$B$29,0)=\"\", \"-\", OFFSET('Raw Data'!AY13,Input_Details!$B$29,0))","v":0},{"$f":"IF(OFFSET('Raw Data'!AZ13,Input_Details!$B$29,0)=\"\", \"-\", OFFSET('Raw Data'!AZ13,Input_Details!$B$29,0))","v":0},{"$f":"IF(OFFSET('Raw Data'!BA13,Input_Details!$B$29,0)=\"\", \"-\", OFFSET('Raw Data'!BA13,Input_Details!$B$29,0))","v":0},{"$f":"IF(OFFSET('Raw Data'!BB13,Input_Details!$B$29,0)=\"\", \"-\", OFFSET('Raw Data'!BB13,Input_Details!$B$29,0))","v":0},{"$f":"IF(OFFSET('Raw Data'!BC13,Input_Details!$B$29,0)=\"\", \"-\", OFFSET('Raw Data'!BC13,Input_Details!$B$29,0))","v":0},{"$f":"IF(OFFSET('Raw Data'!BD13,Input_Details!$B$29,0)=\"\", \"-\", OFFSET('Raw Data'!BD13,Input_Details!$B$29,0))","v":0},{"$f":"IF(OFFSET('Raw Data'!BE13,Input_Details!$B$29,0)=\"\", \"-\", OFFSET('Raw Data'!BE13,Input_Details!$B$29,0))","v":0},{"$f":"IF(OFFSET('Raw Data'!BF13,Input_Details!$B$29,0)=\"\", \"-\", OFFSET('Raw Data'!BF13,Input_Details!$B$29,0))","v":0},0.4,null,0.2,1.4,0,0,0,0,0,0,0,0,0,0,1.5999999999999999]
[null,"02:30:00",{"$f":"IF(OFFSET('Raw Data'!H14,Input_Details!$B$29,0)=\"\", \"-\", OFFSET('Raw Data'!H14,Input_Details!$B$29,0))","v":0},{"$f":"IF(OFFSET('Raw Data'!I14,Input_Details!$B$29,0)=\"\", \"-\", OFFSET('Raw Data'!I14,Input_Details!$B$29,0))","v":0.8},{"$f":"IF(OFFSET('Raw Data'!J14,Input_Details!$B$29,0)=\"\", \"-\", OFFSET('Raw Data'!J14,Input_Details!$B$29,0))","v":0},{"$f":"IF(OFFSET('Raw Data'!K14,Input_Details!$B$29,0)=\"\", \"-\", OFFSET('Raw Data'!K14,Input_Details!$B$29,0))","v":0.2},{"$f":"IF(OFFSET('Raw Data'!L14,Input_Details!$B$29,0)=\"\", \"-\", OFFSET('Raw Data'!L14,Input_Details!$B$29,0))","v":0},{"$f":"IF(OFFSET('Raw Data'!M14,Input_Details!$B$29,0)=\"\", \"-\", OFFSET('Raw Data'!M14,Input_Details!$B$29,0))","v":0},{"$f":"IF(OFFSET('Raw Data'!N14,Input_Details!$B$29,0)=\"\", \"-\", OFFSET('Raw Data'!N14,Input_Details!$B$29,0))","v":0},{"$f":"IF(OFFSET('Raw Data'!O14,Input_Details!$B$29,0)=\"\", \"-\", OFFSET('Raw Data'!O14,Input_Details!$B$29,0))","v":0},{"$f":"IF(OFFSET('Raw Data'!P14,Input_Details!$B$29,0)=\"\", \"-\", OFFSET('Raw Data'!P14,Input_Details!$B$29,0))","v":0},{"$f":"IF(OFFSET('Raw Data'!Q14,Input_Details!$B$29,0)=\"\", \"-\", OFFSET('Raw Data'!Q14,Input_Details!$B$29,0))","v":0},{"$f":"IF(OFFSET('Raw Data'!R14,Input_Details!$B$29,0)=\"\", \"-\", OFFSET('Raw Data'!R14,Input_Details!$B$29,0))","v":0},{"$f":"IF(OFFSET('Raw Data'!S14,Input_Details!$B$29,0)=\"\", \"-\", OFFSET('Raw Data'!S14,Input_Details!$B$29,0))","v":0},1,null,{"$f":"IF(OFFSET('Raw Data'!AU14,Input_Details!$B$29,0)=\"\", \"-\", OFFSET('Raw Data'!AU14,Input_Details!$B$29,0))","v":0.4},{"$f":"IF(OFFSET('Raw Data'!AV14,Input_Details!$B$29,0)=\"\", \"-\", OFFSET('Raw Data'!AV14,Input_Details!$B$29,0))","v":0},{"$f":"IF(OFFSET('Raw Data'!AW14,Input_Details!$B$29,0)=\"\", \"-\", OFFSET('Raw Data'!AW14,Input_Details!$B$29,0))","v":0},{"$f":"IF(OFFSET('Raw Data'!AX14,Input_Details!$B$29,0)=\"\", \"-\", OFFSET('Raw Data'!AX14,Input_Details!$B$29,0))","v":0},{"$f":"IF(OFFSET('Raw Data'!AY14,Input_Details!$B$29,0)=\"\", \"-\", OFFSET('Raw Data'!AY14,Input_Details!$B$29,0))","v":0},{"$f":"IF(OFFSET('Raw Data'!AZ14,Input_Details!$B$29,0)=\"\", \"-\", OFFSET('Raw Data'!AZ14,Input_Details!$B$29,0))","v":0},{"$f":"IF(OFFSET('Raw Data'!BA14,Input_Details!$B$29,0)=\"\", \"-\", OFFSET('Raw Data'!BA14,Input_Details!$B$29,0))","v":0},{"$f":"IF(OFFSET('Raw Data'!BB14,Input_Details!$B$29,0)=\"\", \"-\", OFFSET('Raw Data'!BB14,Input_Details!$B$29,0))","v":0},{"$f":"IF(OFFSET('Raw Data'!BC14,Input_Details!$B$29,0)=\"\", \"-\", OFFSET('Raw Data'!BC14,Input_Details!$B$29,0))","v":0},{"$f":"IF(OFFSET('Raw Data'!BD14,Input_Details!$B$29,0)=\"\", \"-\", OFFSET('Raw Data'!BD14,Input_Details!$B$29,0))","v":0},{"$f":"IF(OFFSET('Raw Data'!BE14,Input_Details!$B$29,0)=\"\", \"-\", OFFSET('Raw Data'!BE14,Input_Details!$B$29,0))","v":0},{"$f":"IF(OFFSET('Raw Data'!BF14,Input_Details!$B$29,0)=\"\", \"-\", OFFSET('Raw Data'!BF14,Input_Details!$B$29,0))","v":0},0.4,null,0.4,0.8,0,0.2,0,0,0,0,0,0,0,0,1.4000000000000001]
[null,"02:45:00",{"$f":"IF(OFFSET('Raw Data'!H15,Input_Details!$B$29,0)=\"\", \"-\", OFFSET('Raw Data'!H15,Input_Details!$B$29,0))","v":0.2},{"$f":"IF(OFFSET('Raw Data'!I15,Input_Details!$B$29,0)=\"\", \"-\", OFFSET('Raw Data'!I15,Input_Details!$B$29,0))","v":0.4},{"$f":"IF(OFFSET('Raw Data'!J15,Input_Details!$B$29,0)=\"\", \"-\", OFFSET('Raw Data'!J15,Input_Details!$B$29,0))","v":0},{"$f":"IF(OFFSET('Raw Data'!K15,Input_Details!$B$29,0)=\"\", \"-\", OFFSET('Raw Data'!K15,Input_Details!$B$29,0))","v":0},{"$f":"IF(OFFSET('Raw Data'!L15,Input_Details!$B$29,0)=\"\", \"-\", OFFSET('Raw Data'!L15,Input_Details!$B$29,0))","v":0},{"$f":"IF(OFFSET('Raw Data'!M15,Input_Details!$B$29,0)=\"\", \"-\", OFFSET('Raw Data'!M15,Input_Details!$B$29,0))","v":0},{"$f":"IF(OFFSET('Raw Data'!N15,Input_Details!$B$29,0)=\"\", \"-\", OFFSET('Raw Data'!N15,Input_Details!$B$29,0))","v":0},{"$f":"IF(OFFSET('Raw Data'!O15,Input_Details!$B$29,0)=\"\", \"-\", OFFSET('Raw Data'!O15,Input_Details!$B$29,0))","v":0},{"$f":"IF(OFFSET('Raw Data'!P15,Input_Details!$B$29,0)=\"\", \"-\", OFFSET('Raw Data'!P15,Input_Details!$B$29,0))","v":0},{"$f":"IF(OFFSET('Raw Data'!Q15,Input_Details!$B$29,0)=\"\", \"-\", OFFSET('Raw Data'!Q15,Input_Details!$B$29,0))","v":0},{"$f":"IF(OFFSET('Raw Data'!R15,Input_Details!$B$29,0)=\"\", \"-\", OFFSET('Raw Data'!R15,Input_Details!$B$29,0))","v":0},{"$f":"IF(OFFSET('Raw Data'!S15,Input_Details!$B$29,0)=\"\", \"-\", OFFSET('Raw Data'!S15,Input_Details!$B$29,0))","v":0},0.60000000000000009,null,{"$f":"IF(OFFSET('Raw Data'!AU15,Input_Details!$B$29,0)=\"\", \"-\", OFFSET('Raw Data'!AU15,Input_Details!$B$29,0))","v":0},{"$f":"IF(OFFSET('Raw Data'!AV15,Input_Details!$B$29,0)=\"\", \"-\", OFFSET('Raw Data'!AV15,Input_Details!$B$29,0))","v":0.6},{"$f":"IF(OFFSET('Raw Data'!AW15,Input_Details!$B$29,0)=\"\", \"-\", OFFSET('Raw Data'!AW15,Input_Details!$B$29,0))","v":0},{"$f":"IF(OFFSET('Raw Data'!AX15,Input_Details!$B$29,0)=\"\", \"-\", OFFSET('Raw Data'!AX15,Input_Details!$B$29,0))","v":0},{"$f":"IF(OFFSET('Raw Data'!AY15,Input_Details!$B$29,0)=\"\", \"-\", OFFSET('Raw Data'!AY15,Input_Details!$B$29,0))","v":0},{"$f":"IF(OFFSET('Raw Data'!AZ15,Input_Details!$B$29,0)=\"\", \"-\", OFFSET('Raw Data'!AZ15,Input_Details!$B$29,0))","v":0},{"$f":"IF(OFFSET('Raw Data'!BA15,Input_Details!$B$29,0)=\"\", \"-\", OFFSET('Raw Data'!BA15,Input_Details!$B$29,0))","v":0},{"$f":"IF(OFFSET('Raw Data'!BB15,Input_Details!$B$29,0)=\"\", \"-\", OFFSET('Raw Data'!BB15,Input_Details!$B$29,0))","v":0},{"$f":"IF(OFFSET('Raw Data'!BC15,Input_Details!$B$29,0)=\"\", \"-\", OFFSET('Raw Data'!BC15,Input_Details!$B$29,0))","v":0},{"$f":"IF(OFFSET('Raw Data'!BD15,Input_Details!$B$29,0)=\"\", \"-\", OFFSET('Raw Data'!BD15,Input_Details!$B$29,0))","v":0},{"$f":"IF(OFFSET('Raw Data'!BE15,Input_Details!$B$29,0)=\"\", \"-\", OFFSET('Raw Data'!BE15,Input_Details!$B$29,0))","v":0},{"$f":"IF(OFFSET('Raw Data'!BF15,Input_Details!$B$29,0)=\"\", \"-\", OFFSET('Raw Data'!BF15,Input_Details!$B$29,0))","v":0},0.6,null,0.2,1,0,0,0,0,0,0,0,0,0,0,1.2]
[null,"03:00:00",{"$f":"IF(OFFSET('Raw Data'!H16,Input_Details!$B$29,0)=\"\", \"-\", OFFSET('Raw Data'!H16,Input_Details!$B$29,0))","v":0.4},{"$f":"IF(OFFSET('Raw Data'!I16,Input_Details!$B$29,0)=\"\", \"-\", OFFSET('Raw Data'!I16,Input_Details!$B$29,0))","v":0.2},{"$f":"IF(OFFSET('Raw Data'!J16,Input_Details!$B$29,0)=\"\", \"-\", OFFSET('Raw Data'!J16,Input_Details!$B$29,0))","v":0},{"$f":"IF(OFFSET('Raw Data'!K16,Input_Details!$B$29,0)=\"\", \"-\", OFFSET('Raw Data'!K16,Input_Details!$B$29,0))","v":0},{"$f":"IF(OFFSET('Raw Data'!L16,Input_Details!$B$29,0)=\"\", \"-\", OFFSET('Raw Data'!L16,Input_Details!$B$29,0))","v":0},{"$f":"IF(OFFSET('Raw Data'!M16,Input_Details!$B$29,0)=\"\", \"-\", OFFSET('Raw Data'!M16,Input_Details!$B$29,0))","v":0},{"$f":"IF(OFFSET('Raw Data'!N16,Input_Details!$B$29,0)=\"\", \"-\", OFFSET('Raw Data'!N16,Input_Details!$B$29,0))","v":0},{"$f":"IF(OFFSET('Raw Data'!O16,Input_Details!$B$29,0)=\"\", \"-\", OFFSET('Raw Data'!O16,Input_Details!$B$29,0))","v":0},{"$f":"IF(OFFSET('Raw Data'!P16,Input_Details!$B$29,0)=\"\", \"-\", OFFSET('Raw Data'!P16,Input_Details!$B$29,0))","v":0},{"$f":"IF(OFFSET('Raw Data'!Q16,Input_Details!$B$29,0)=\"\", \"-\", OFFSET('Raw Data'!Q16,Input_Details!$B$29,0))","v":0},{"$f":"IF(OFFSET('Raw Data'!R16,Input_Details!$B$29,0)=\"\", \"-\", OFFSET('Raw Data'!R16,Input_Details!$B$29,0))","v":0},{"$f":"IF(OFFSET('Raw Data'!S16,Input_Details!$B$29,0)=\"\", \"-\", OFFSET('Raw Data'!S16,Input_Details!$B$29,0))","v":0},0.60000000000000009,null,{"$f":"IF(OFFSET('Raw Data'!AU16,Input_Details!$B$29,0)=\"\", \"-\", OFFSET('Raw Data'!AU16,Input_Details!$B$29,0))","v":0.2},{"$f":"IF(OFFSET('Raw Data'!AV16,Input_Details!$B$29,0)=\"\", \"-\", OFFSET('Raw Data'!AV16,Input_Details!$B$29,0))","v":0},{"$f":"IF(OFFSET('Raw Data'!AW16,Input_Details!$B$29,0)=\"\", \"-\", OFFSET('Raw Data'!AW16,Input_Details!$B$29,0))","v":0},{"$f":"IF(OFFSET('Raw Data'!AX16,Input_Details!$B$29,0)=\"\", \"-\", OFFSET('Raw Data'!AX16,Input_Details!$B$29,0))","v":0},{"$f":"IF(OFFSET('Raw Data'!AY16,Input_Details!$B$29,0)=\"\", \"-\", OFFSET('Raw Data'!AY16,Input_Details!$B$29,0))","v":0},{"$f":"IF(OFFSET('Raw Data'!AZ16,Input_Details!$B$29,0)=\"\", \"-\", OFFSET('Raw Data'!AZ16,Input_Details!$B$29,0))","v":0},{"$f":"IF(OFFSET('Raw Data'!BA16,Input_Details!$B$29,0)=\"\", \"-\", OFFSET('Raw Data'!BA16,Input_Details!$B$29,0))","v":0},{"$f":"IF(OFFSET('Raw Data'!BB16,Input_Details!$B$29,0)=\"\", \"-\", OFFSET('Raw Data'!BB16,Input_Details!$B$29,0))","v":0},{"$f":"IF(OFFSET('Raw Data'!BC16,Input_Details!$B$29,0)=\"\", \"-\", OFFSET('Raw Data'!BC16,Input_Details!$B$29,0))","v":0},{"$f":"IF(OFFSET('Raw Data'!BD16,Input_Details!$B$29,0)=\"\", \"-\", OFFSET('Raw Data'!BD16,Input_Details!$B$29,0))","v":0},{"$f":"IF(OFFSET('Raw Data'!BE16,Input_Details!$B$29,0)=\"\", \"-\", OFFSET('Raw Data'!BE16,Input_Details!$B$29,0))","v":0},{"$f":"IF(OFFSET('Raw Data'!BF16,Input_Details!$B$29,0)=\"\", \"-\", OFFSET('Raw Data'!BF16,Input_Details!$B$29,0))","v":0},0.2,null,0.60000000000000009,0.2,0,0,0,0,0,0,0,0,0,0,0.8]
[null,"03:15:00",{"$f":"IF(OFFSET('Raw Data'!H17,Input_Details!$B$29,0)=\"\", \"-\", OFFSET('Raw Data'!H17,Input_Details!$B$29,0))","v":0},{"$f":"IF(OFFSET('Raw Data'!I17,Input_Details!$B$29,0)=\"\", \"-\", OFFSET('Raw Data'!I17,Input_Details!$B$29,0))","v":1.4},{"$f":"IF(OFFSET('Raw Data'!J17,Input_Details!$B$29,0)=\"\", \"-\", OFFSET('Raw Data'!J17,Input_Details!$B$29,0))","v":0},{"$f":"IF(OFFSET('Raw Data'!K17,Input_Details!$B$29,0)=\"\", \"-\", OFFSET('Raw Data'!K17,Input_Details!$B$29,0))","v":0},{"$f":"IF(OFFSET('Raw Data'!L17,Input_Details!$B$29,0)=\"\", \"-\", OFFSET('Raw Data'!L17,Input_Details!$B$29,0))","v":0},{"$f":"IF(OFFSET('Raw Data'!M17,Input_Details!$B$29,0)=\"\", \"-\", OFFSET('Raw Data'!M17,Input_Details!$B$29,0))","v":0},{"$f":"IF(OFFSET('Raw Data'!N17,Input_Details!$B$29,0)=\"\", \"-\", OFFSET('Raw Data'!N17,Input_Details!$B$29,0))","v":0},{"$f":"IF(OFFSET('Raw Data'!O17,Input_Details!$B$29,0)=\"\", \"-\", OFFSET('Raw Data'!O17,Input_Details!$B$29,0))","v":0},{"$f":"IF(OFFSET('Raw Data'!P17,Input_Details!$B$29,0)=\"\", \"-\", OFFSET('Raw Data'!P17,Input_Details!$B$29,0))","v":0},{"$f":"IF(OFFSET('Raw Data'!Q17,Input_Details!$B$29,0)=\"\", \"-\", OFFSET('Raw Data'!Q17,Input_Details!$B$29,0))","v":0},{"$f":"IF(OFFSET('Raw Data'!R17,Input_Details!$B$29,0)=\"\", \"-\", OFFSET('Raw Data'!R17,Input_Details!$B$29,0))","v":0},{"$f":"IF(OFFSET('Raw Data'!S17,Input_Details!$B$29,0)=\"\", \"-\", OFFSET('Raw Data'!S17,Input_Details!$B$29,0))","v":0},1.4,null,{"$f":"IF(OFFSET('Raw Data'!AU17,Input_Details!$B$29,0)=\"\", \"-\", OFFSET('Raw Data'!AU17,Input_Details!$B$29,0))","v":0},{"$f":"IF(OFFSET('Raw Data'!AV17,Input_Details!$B$29,0)=\"\", \"-\", OFFSET('Raw Data'!AV17,Input_Details!$B$29,0))","v":0.4},{"$f":"IF(OFFSET('Raw Data'!AW17,Input_Details!$B$29,0)=\"\", \"-\", OFFSET('Raw Data'!AW17,Input_Details!$B$29,0))","v":0},{"$f":"IF(OFFSET('Raw Data'!AX17,Input_Details!$B$29,0)=\"\", \"-\", OFFSET('Raw Data'!AX17,Input_Details!$B$29,0))","v":0.2},{"$f":"IF(OFFSET('Raw Data'!AY17,Input_Details!$B$29,0)=\"\", \"-\", OFFSET('Raw Data'!AY17,Input_Details!$B$29,0))","v":0},{"$f":"IF(OFFSET('Raw Data'!AZ17,Input_Details!$B$29,0)=\"\", \"-\", OFFSET('Raw Data'!AZ17,Input_Details!$B$29,0))","v":0},{"$f":"IF(OFFSET('Raw Data'!BA17,Input_Details!$B$29,0)=\"\", \"-\", OFFSET('Raw Data'!BA17,Input_Details!$B$29,0))","v":0},{"$f":"IF(OFFSET('Raw Data'!BB17,Input_Details!$B$29,0)=\"\", \"-\", OFFSET('Raw Data'!BB17,Input_Details!$B$29,0))","v":0},{"$f":"IF(OFFSET('Raw Data'!BC17,Input_Details!$B$29,0)=\"\", \"-\", OFFSET('Raw Data'!BC17,Input_Details!$B$29,0))","v":0},{"$f":"IF(OFFSET('Raw Data'!BD17,Input_Details!$B$29,0)=\"\", \"-\", OFFSET('Raw Data'!BD17,Input_Details!$B$29,0))","v":0},{"$f":"IF(OFFSET('Raw Data'!BE17,Input_Details!$B$29,0)=\"\", \"-\", OFFSET('Raw Data'!BE17,Input_Details!$B$29,0))","v":0},{"$f":"IF(OFFSET('Raw Data'!BF17,Input_Details!$B$29,0)=\"\", \"-\", OFFSET('Raw Data'!BF17,Input_Details!$B$29,0))","v":0},0.60000000000000009,null,0,1.7999999999999998,0,0.2,0,0,0,0,0,0,0,0,1.9999999999999998]
[null,"03:30:00",{"$f":"IF(OFFSET('Raw Data'!H18,Input_Details!$B$29,0)=\"\", \"-\", OFFSET('Raw Data'!H18,Input_Details!$B$29,0))","v":0},{"$f":"IF(OFFSET('Raw Data'!I18,Input_Details!$B$29,0)=\"\", \"-\", OFFSET('Raw Data'!I18,Input_Details!$B$29,0))","v":0.4},{"$f":"IF(OFFSET('Raw Data'!J18,Input_Details!$B$29,0)=\"\", \"-\", OFFSET('Raw Data'!J18,Input_Details!$B$29,0))","v":0},{"$f":"IF(OFFSET('Raw Data'!K18,Input_Details!$B$29,0)=\"\", \"-\", OFFSET('Raw Data'!K18,Input_Details!$B$29,0))","v":0},{"$f":"IF(OFFSET('Raw Data'!L18,Input_Details!$B$29,0)=\"\", \"-\", OFFSET('Raw Data'!L18,Input_Details!$B$29,0))","v":0},{"$f":"IF(OFFSET('Raw Data'!M18,Input_Details!$B$29,0)=\"\", \"-\", OFFSET('Raw Data'!M18,Input_Details!$B$29,0))","v":0},{"$f":"IF(OFFSET('Raw Data'!N18,Input_Details!$B$29,0)=\"\", \"-\", OFFSET('Raw Data'!N18,Input_Details!$B$29,0))","v":0},{"$f":"IF(OFFSET('Raw Data'!O18,Input_Details!$B$29,0)=\"\", \"-\", OFFSET('Raw Data'!O18,Input_Details!$B$29,0))","v":0},{"$f":"IF(OFFSET('Raw Data'!P18,Input_Details!$B$29,0)=\"\", \"-\", OFFSET('Raw Data'!P18,Input_Details!$B$29,0))","v":0},{"$f":"IF(OFFSET('Raw Data'!Q18,Input_Details!$B$29,0)=\"\", \"-\", OFFSET('Raw Data'!Q18,Input_Details!$B$29,0))","v":0},{"$f":"IF(OFFSET('Raw Data'!R18,Input_Details!$B$29,0)=\"\", \"-\", OFFSET('Raw Data'!R18,Input_Details!$B$29,0))","v":0},{"$f":"IF(OFFSET('Raw Data'!S18,Input_Details!$B$29,0)=\"\", \"-\", OFFSET('Raw Data'!S18,Input_Details!$B$29,0))","v":0},0.4,null,{"$f":"IF(OFFSET('Raw Data'!AU18,Input_Details!$B$29,0)=\"\", \"-\", OFFSET('Raw Data'!AU18,Input_Details!$B$29,0))","v":0},{"$f":"IF(OFFSET('Raw Data'!AV18,Input_Details!$B$29,0)=\"\", \"-\", OFFSET('Raw Data'!AV18,Input_Details!$B$29,0))","v":0.2},{"$f":"IF(OFFSET('Raw Data'!AW18,Input_Details!$B$29,0)=\"\", \"-\", OFFSET('Raw Data'!AW18,Input_Details!$B$29,0))","v":0},{"$f":"IF(OFFSET('Raw Data'!AX18,Input_Details!$B$29,0)=\"\", \"-\", OFFSET('Raw Data'!AX18,Input_Details!$B$29,0))","v":0.4},{"$f":"IF(OFFSET('Raw Data'!AY18,Input_Details!$B$29,0)=\"\", \"-\", OFFSET('Raw Data'!AY18,Input_Details!$B$29,0))","v":0},{"$f":"IF(OFFSET('Raw Data'!AZ18,Input_Details!$B$29,0)=\"\", \"-\", OFFSET('Raw Data'!AZ18,Input_Details!$B$29,0))","v":0},{"$f":"IF(OFFSET('Raw Data'!BA18,Input_Details!$B$29,0)=\"\", \"-\", OFFSET('Raw Data'!BA18,Input_Details!$B$29,0))","v":0},{"$f":"IF(OFFSET('Raw Data'!BB18,Input_Details!$B$29,0)=\"\", \"-\", OFFSET('Raw Data'!BB18,Input_Details!$B$29,0))","v":0},{"$f":"IF(OFFSET('Raw Data'!BC18,Input_Details!$B$29,0)=\"\", \"-\", OFFSET('Raw Data'!BC18,Input_Details!$B$29,0))","v":0},{"$f":"IF(OFFSET('Raw Data'!BD18,Input_Details!$B$29,0)=\"\", \"-\", OFFSET('Raw Data'!BD18,Input_Details!$B$29,0))","v":0},{"$f":"IF(OFFSET('Raw Data'!BE18,Input_Details!$B$29,0)=\"\", \"-\", OFFSET('Raw Data'!BE18,Input_Details!$B$29,0))","v":0},{"$f":"IF(OFFSET('Raw Data'!BF18,Input_Details!$B$29,0)=\"\", \"-\", OFFSET('Raw Data'!BF18,Input_Details!$B$29,0))","v":0},0.60000000000000009,null,0,0.60000000000000009,0,0.4,0,0,0,0,0,0,0,0,1]
[null,"03:45:00",{"$f":"IF(OFFSET('Raw Data'!H19,Input_Details!$B$29,0)=\"\", \"-\", OFFSET('Raw Data'!H19,Input_Details!$B$29,0))","v":0.2},{"$f":"IF(OFFSET('Raw Data'!I19,Input_Details!$B$29,0)=\"\", \"-\", OFFSET('Raw Data'!I19,Input_Details!$B$29,0))","v":0.2},{"$f":"IF(OFFSET('Raw Data'!J19,Input_Details!$B$29,0)=\"\", \"-\", OFFSET('Raw Data'!J19,Input_Details!$B$29,0))","v":0},{"$f":"IF(OFFSET('Raw Data'!K19,Input_Details!$B$29,0)=\"\", \"-\", OFFSET('Raw Data'!K19,Input_Details!$B$29,0))","v":0},{"$f":"IF(OFFSET('Raw Data'!L19,Input_Details!$B$29,0)=\"\", \"-\", OFFSET('Raw Data'!L19,Input_Details!$B$29,0))","v":0},{"$f":"IF(OFFSET('Raw Data'!M19,Input_Details!$B$29,0)=\"\", \"-\", OFFSET('Raw Data'!M19,Input_Details!$B$29,0))","v":0},{"$f":"IF(OFFSET('Raw Data'!N19,Input_Details!$B$29,0)=\"\", \"-\", OFFSET('Raw Data'!N19,Input_Details!$B$29,0))","v":0},{"$f":"IF(OFFSET('Raw Data'!O19,Input_Details!$B$29,0)=\"\", \"-\", OFFSET('Raw Data'!O19,Input_Details!$B$29,0))","v":0},{"$f":"IF(OFFSET('Raw Data'!P19,Input_Details!$B$29,0)=\"\", \"-\", OFFSET('Raw Data'!P19,Input_Details!$B$29,0))","v":0},{"$f":"IF(OFFSET('Raw Data'!Q19,Input_Details!$B$29,0)=\"\", \"-\", OFFSET('Raw Data'!Q19,Input_Details!$B$29,0))","v":0},{"$f":"IF(OFFSET('Raw Data'!R19,Input_Details!$B$29,0)=\"\", \"-\", OFFSET('Raw Data'!R19,Input_Details!$B$29,0))","v":0},{"$f":"IF(OFFSET('Raw Data'!S19,Input_Details!$B$29,0)=\"\", \"-\", OFFSET('Raw Data'!S19,Input_Details!$B$29,0))","v":0},0.4,null,{"$f":"IF(OFFSET('Raw Data'!AU19,Input_Details!$B$29,0)=\"\", \"-\", OFFSET('Raw Data'!AU19,Input_Details!$B$29,0))","v":0},{"$f":"IF(OFFSET('Raw Data'!AV19,Input_Details!$B$29,0)=\"\", \"-\", OFFSET('Raw Data'!AV19,Input_Details!$B$29,0))","v":1.6},{"$f":"IF(OFFSET('Raw Data'!AW19,Input_Details!$B$29,0)=\"\", \"-\", OFFSET('Raw Data'!AW19,Input_Details!$B$29,0))","v":0},{"$f":"IF(OFFSET('Raw Data'!AX19,Input_Details!$B$29,0)=\"\", \"-\", OFFSET('Raw Data'!AX19,Input_Details!$B$29,0))","v":0},{"$f":"IF(OFFSET('Raw Data'!AY19,Input_Details!$B$29,0)=\"\", \"-\", OFFSET('Raw Data'!AY19,Input_Details!$B$29,0))","v":0},{"$f":"IF(OFFSET('Raw Data'!AZ19,Input_Details!$B$29,0)=\"\", \"-\", OFFSET('Raw Data'!AZ19,Input_Details!$B$29,0))","v":0},{"$f":"IF(OFFSET('Raw Data'!BA19,Input_Details!$B$29,0)=\"\", \"-\", OFFSET('Raw Data'!BA19,Input_Details!$B$29,0))","v":0},{"$f":"IF(OFFSET('Raw Data'!BB19,Input_Details!$B$29,0)=\"\", \"-\", OFFSET('Raw Data'!BB19,Input_Details!$B$29,0))","v":0},{"$f":"IF(OFFSET('Raw Data'!BC19,Input_Details!$B$29,0)=\"\", \"-\", OFFSET('Raw Data'!BC19,Input_Details!$B$29,0))","v":0},{"$f":"IF(OFFSET('Raw Data'!BD19,Input_Details!$B$29,0)=\"\", \"-\", OFFSET('Raw Data'!BD19,Input_Details!$B$29,0))","v":0},{"$f":"IF(OFFSET('Raw Data'!BE19,Input_Details!$B$29,0)=\"\", \"-\", OFFSET('Raw Data'!BE19,Input_Details!$B$29,0))","v":0},{"$f":"IF(OFFSET('Raw Data'!BF19,Input_Details!$B$29,0)=\"\", \"-\", OFFSET('Raw Data'!BF19,Input_Details!$B$29,0))","v":0},1.6,null,0.2,1.8,0,0,0,0,0,0,0,0,0,0,2]
[null,"04:00:00",{"$f":"IF(OFFSET('Raw Data'!H20,Input_Details!$B$29,0)=\"\", \"-\", OFFSET('Raw Data'!H20,Input_Details!$B$29,0))","v":0.2},{"$f":"IF(OFFSET('Raw Data'!I20,Input_Details!$B$29,0)=\"\", \"-\", OFFSET('Raw Data'!I20,Input_Details!$B$29,0))","v":0.6},{"$f":"IF(OFFSET('Raw Data'!J20,Input_Details!$B$29,0)=\"\", \"-\", OFFSET('Raw Data'!J20,Input_Details!$B$29,0))","v":0},{"$f":"IF(OFFSET('Raw Data'!K20,Input_Details!$B$29,0)=\"\", \"-\", OFFSET('Raw Data'!K20,Input_Details!$B$29,0))","v":0},{"$f":"IF(OFFSET('Raw Data'!L20,Input_Details!$B$29,0)=\"\", \"-\", OFFSET('Raw Data'!L20,Input_Details!$B$29,0))","v":0},{"$f":"IF(OFFSET('Raw Data'!M20,Input_Details!$B$29,0)=\"\", \"-\", OFFSET('Raw Data'!M20,Input_Details!$B$29,0))","v":0},{"$f":"IF(OFFSET('Raw Data'!N20,Input_Details!$B$29,0)=\"\", \"-\", OFFSET('Raw Data'!N20,Input_Details!$B$29,0))","v":0},{"$f":"IF(OFFSET('Raw Data'!O20,Input_Details!$B$29,0)=\"\", \"-\", OFFSET('Raw Data'!O20,Input_Details!$B$29,0))","v":0},{"$f":"IF(OFFSET('Raw Data'!P20,Input_Details!$B$29,0)=\"\", \"-\", OFFSET('Raw Data'!P20,Input_Details!$B$29,0))","v":0},{"$f":"IF(OFFSET('Raw Data'!Q20,Input_Details!$B$29,0)=\"\", \"-\", OFFSET('Raw Data'!Q20,Input_Details!$B$29,0))","v":0},{"$f":"IF(OFFSET('Raw Data'!R20,Input_Details!$B$29,0)=\"\", \"-\", OFFSET('Raw Data'!R20,Input_Details!$B$29,0))","v":0},{"$f":"IF(OFFSET('Raw Data'!S20,Input_Details!$B$29,0)=\"\", \"-\", OFFSET('Raw Data'!S20,Input_Details!$B$29,0))","v":0},0.8,null,{"$f":"IF(OFFSET('Raw Data'!AU20,Input_Details!$B$29,0)=\"\", \"-\", OFFSET('Raw Data'!AU20,Input_Details!$B$29,0))","v":0.2},{"$f":"IF(OFFSET('Raw Data'!AV20,Input_Details!$B$29,0)=\"\", \"-\", OFFSET('Raw Data'!AV20,Input_Details!$B$29,0))","v":0.6},{"$f":"IF(OFFSET('Raw Data'!AW20,Input_Details!$B$29,0)=\"\", \"-\", OFFSET('Raw Data'!AW20,Input_Details!$B$29,0))","v":0},{"$f":"IF(OFFSET('Raw Data'!AX20,Input_Details!$B$29,0)=\"\", \"-\", OFFSET('Raw Data'!AX20,Input_Details!$B$29,0))","v":0},{"$f":"IF(OFFSET('Raw Data'!AY20,Input_Details!$B$29,0)=\"\", \"-\", OFFSET('Raw Data'!AY20,Input_Details!$B$29,0))","v":0.2},{"$f":"IF(OFFSET('Raw Data'!AZ20,Input_Details!$B$29,0)=\"\", \"-\", OFFSET('Raw Data'!AZ20,Input_Details!$B$29,0))","v":0},{"$f":"IF(OFFSET('Raw Data'!BA20,Input_Details!$B$29,0)=\"\", \"-\", OFFSET('Raw Data'!BA20,Input_Details!$B$29,0))","v":0},{"$f":"IF(OFFSET('Raw Data'!BB20,Input_Details!$B$29,0)=\"\", \"-\", OFFSET('Raw Data'!BB20,Input_Details!$B$29,0))","v":0},{"$f":"IF(OFFSET('Raw Data'!BC20,Input_Details!$B$29,0)=\"\", \"-\", OFFSET('Raw Data'!BC20,Input_Details!$B$29,0))","v":0},{"$f":"IF(OFFSET('Raw Data'!BD20,Input_Details!$B$29,0)=\"\", \"-\", OFFSET('Raw Data'!BD20,Input_Details!$B$29,0))","v":0},{"$f":"IF(OFFSET('Raw Data'!BE20,Input_Details!$B$29,0)=\"\", \"-\", OFFSET('Raw Data'!BE20,Input_Details!$B$29,0))","v":0},{"$f":"IF(OFFSET('Raw Data'!BF20,Input_Details!$B$29,0)=\"\", \"-\", OFFSET('Raw Data'!BF20,Input_Details!$B$29,0))","v":0},1,null,0.4,1.2,0,0,0.2,0,0,0,0,0,0,0,1.8]
[null,"04:15:00",{"$f":"IF(OFFSET('Raw Data'!H21,Input_Details!$B$29,0)=\"\", \"-\", OFFSET('Raw Data'!H21,Input_Details!$B$29,0))","v":0},{"$f":"IF(OFFSET('Raw Data'!I21,Input_Details!$B$29,0)=\"\", \"-\", OFFSET('Raw Data'!I21,Input_Details!$B$29,0))","v":0.4},{"$f":"IF(OFFSET('Raw Data'!J21,Input_Details!$B$29,0)=\"\", \"-\", OFFSET('Raw Data'!J21,Input_Details!$B$29,0))","v":0},{"$f":"IF(OFFSET('Raw Data'!K21,Input_Details!$B$29,0)=\"\", \"-\", OFFSET('Raw Data'!K21,Input_Details!$B$29,0))","v":0},{"$f":"IF(OFFSET('Raw Data'!L21,Input_Details!$B$29,0)=\"\", \"-\", OFFSET('Raw Data'!L21,Input_Details!$B$29,0))","v":0},{"$f":"IF(OFFSET('Raw Data'!M21,Input_Details!$B$29,0)=\"\", \"-\", OFFSET('Raw Data'!M21,Input_Details!$B$29,0))","v":0},{"$f":"IF(OFFSET('Raw Data'!N21,Input_Details!$B$29,0)=\"\", \"-\", OFFSET('Raw Data'!N21,Input_Details!$B$29,0))","v":0},{"$f":"IF(OFFSET('Raw Data'!O21,Input_Details!$B$29,0)=\"\", \"-\", OFFSET('Raw Data'!O21,Input_Details!$B$29,0))","v":0},{"$f":"IF(OFFSET('Raw Data'!P21,Input_Details!$B$29,0)=\"\", \"-\", OFFSET('Raw Data'!P21,Input_Details!$B$29,0))","v":0},{"$f":"IF(OFFSET('Raw Data'!Q21,Input_Details!$B$29,0)=\"\", \"-\", OFFSET('Raw Data'!Q21,Input_Details!$B$29,0))","v":0},{"$f":"IF(OFFSET('Raw Data'!R21,Input_Details!$B$29,0)=\"\", \"-\", OFFSET('Raw Data'!R21,Input_Details!$B$29,0))","v":0},{"$f":"IF(OFFSET('Raw Data'!S21,Input_Details!$B$29,0)=\"\", \"-\", OFFSET('Raw Data'!S21,Input_Details!$B$29,0))","v":0},0.4,null,{"$f":"IF(OFFSET('Raw Data'!AU21,Input_Details!$B$29,0)=\"\", \"-\", OFFSET('Raw Data'!AU21,Input_Details!$B$29,0))","v":0},{"$f":"IF(OFFSET('Raw Data'!AV21,Input_Details!$B$29,0)=\"\", \"-\", OFFSET('Raw Data'!AV21,Input_Details!$B$29,0))","v":0.2},{"$f":"IF(OFFSET('Raw Data'!AW21,Input_Details!$B$29,0)=\"\", \"-\", OFFSET('Raw Data'!AW21,Input_Details!$B$29,0))","v":0},{"$f":"IF(OFFSET('Raw Data'!AX21,Input_Details!$B$29,0)=\"\", \"-\", OFFSET('Raw Data'!AX21,Input_Details!$B$29,0))","v":0.2},{"$f":"IF(OFFSET('Raw Data'!AY21,Input_Details!$B$29,0)=\"\", \"-\", OFFSET('Raw Data'!AY21,Input_Details!$B$29,0))","v":0},{"$f":"IF(OFFSET('Raw Data'!AZ21,Input_Details!$B$29,0)=\"\", \"-\", OFFSET('Raw Data'!AZ21,Input_Details!$B$29,0))","v":0},{"$f":"IF(OFFSET('Raw Data'!BA21,Input_Details!$B$29,0)=\"\", \"-\", OFFSET('Raw Data'!BA21,Input_Details!$B$29,0))","v":0},{"$f":"IF(OFFSET('Raw Data'!BB21,Input_Details!$B$29,0)=\"\", \"-\", OFFSET('Raw Data'!BB21,Input_Details!$B$29,0))","v":0},{"$f":"IF(OFFSET('Raw Data'!BC21,Input_Details!$B$29,0)=\"\", \"-\", OFFSET('Raw Data'!BC21,Input_Details!$B$29,0))","v":0},{"$f":"IF(OFFSET('Raw Data'!BD21,Input_Details!$B$29,0)=\"\", \"-\", OFFSET('Raw Data'!BD21,Input_Details!$B$29,0))","v":0},{"$f":"IF(OFFSET('Raw Data'!BE21,Input_Details!$B$29,0)=\"\", \"-\", OFFSET('Raw Data'!BE21,Input_Details!$B$29,0))","v":0},{"$f":"IF(OFFSET('Raw Data'!BF21,Input_Details!$B$29,0)=\"\", \"-\", OFFSET('Raw Data'!BF21,Input_Details!$B$29,0))","v":0},0.4,null,0,0.60000000000000009,0,0.2,0,0,0,0,0,0,0,0,0.8]
[null,"04:30:00",{"$f":"IF(OFFSET('Raw Data'!H22,Input_Details!$B$29,0)=\"\", \"-\", OFFSET('Raw Data'!H22,Input_Details!$B$29,0))","v":0.2},{"$f":"IF(OFFSET('Raw Data'!I22,Input_Details!$B$29,0)=\"\", \"-\", OFFSET('Raw Data'!I22,Input_Details!$B$29,0))","v":0.4},{"$f":"IF(OFFSET('Raw Data'!J22,Input_Details!$B$29,0)=\"\", \"-\", OFFSET('Raw Data'!J22,Input_Details!$B$29,0))","v":0},{"$f":"IF(OFFSET('Raw Data'!K22,Input_Details!$B$29,0)=\"\", \"-\", OFFSET('Raw Data'!K22,Input_Details!$B$29,0))","v":0},{"$f":"IF(OFFSET('Raw Data'!L22,Input_Details!$B$29,0)=\"\", \"-\", OFFSET('Raw Data'!L22,Input_Details!$B$29,0))","v":0},{"$f":"IF(OFFSET('Raw Data'!M22,Input_Details!$B$29,0)=\"\", \"-\", OFFSET('Raw Data'!M22,Input_Details!$B$29,0))","v":0},{"$f":"IF(OFFSET('Raw Data'!N22,Input_Details!$B$29,0)=\"\", \"-\", OFFSET('Raw Data'!N22,Input_Details!$B$29,0))","v":0},{"$f":"IF(OFFSET('Raw Data'!O22,Input_Details!$B$29,0)=\"\", \"-\", OFFSET('Raw Data'!O22,Input_Details!$B$29,0))","v":0},{"$f":"IF(OFFSET('Raw Data'!P22,Input_Details!$B$29,0)=\"\", \"-\", OFFSET('Raw Data'!P22,Input_Details!$B$29,0))","v":0},{"$f":"IF(OFFSET('Raw Data'!Q22,Input_Details!$B$29,0)=\"\", \"-\", OFFSET('Raw Data'!Q22,Input_Details!$B$29,0))","v":0},{"$f":"IF(OFFSET('Raw Data'!R22,Input_Details!$B$29,0)=\"\", \"-\", OFFSET('Raw Data'!R22,Input_Details!$B$29,0))","v":0},{"$f":"IF(OFFSET('Raw Data'!S22,Input_Details!$B$29,0)=\"\", \"-\", OFFSET('Raw Data'!S22,Input_Details!$B$29,0))","v":0},0.60000000000000009,null,{"$f":"IF(OFFSET('Raw Data'!AU22,Input_Details!$B$29,0)=\"\", \"-\", OFFSET('Raw Data'!AU22,Input_Details!$B$29,0))","v":0},{"$f":"IF(OFFSET('Raw Data'!AV22,Input_Details!$B$29,0)=\"\", \"-\", OFFSET('Raw Data'!AV22,Input_Details!$B$29,0))","v":0.4},{"$f":"IF(OFFSET('Raw Data'!AW22,Input_Details!$B$29,0)=\"\", \"-\", OFFSET('Raw Data'!AW22,Input_Details!$B$29,0))","v":0},{"$f":"IF(OFFSET('Raw Data'!AX22,Input_Details!$B$29,0)=\"\", \"-\", OFFSET('Raw Data'!AX22,Input_Details!$B$29,0))","v":0},{"$f":"IF(OFFSET('Raw Data'!AY22,Input_Details!$B$29,0)=\"\", \"-\", OFFSET('Raw Data'!AY22,Input_Details!$B$29,0))","v":0},{"$f":"IF(OFFSET('Raw Data'!AZ22,Input_Details!$B$29,0)=\"\", \"-\", OFFSET('Raw Data'!AZ22,Input_Details!$B$29,0))","v":0},{"$f":"IF(OFFSET('Raw Data'!BA22,Input_Details!$B$29,0)=\"\", \"-\", OFFSET('Raw Data'!BA22,Input_Details!$B$29,0))","v":0},{"$f":"IF(OFFSET('Raw Data'!BB22,Input_Details!$B$29,0)=\"\", \"-\", OFFSET('Raw Data'!BB22,Input_Details!$B$29,0))","v":0},{"$f":"IF(OFFSET('Raw Data'!BC22,Input_Details!$B$29,0)=\"\", \"-\", OFFSET('Raw Data'!BC22,Input_Details!$B$29,0))","v":0},{"$f":"IF(OFFSET('Raw Data'!BD22,Input_Details!$B$29,0)=\"\", \"-\", OFFSET('Raw Data'!BD22,Input_Details!$B$29,0))","v":0},{"$f":"IF(OFFSET('Raw Data'!BE22,Input_Details!$B$29,0)=\"\", \"-\", OFFSET('Raw Data'!BE22,Input_Details!$B$29,0))","v":0},{"$f":"IF(OFFSET('Raw Data'!BF22,Input_Details!$B$29,0)=\"\", \"-\", OFFSET('Raw Data'!BF22,Input_Details!$B$29,0))","v":0},0.4,null,0.2,0.8,0,0,0,0,0,0,0,0,0,0,1]
[null,"04:45:00",{"$f":"IF(OFFSET('Raw Data'!H23,Input_Details!$B$29,0)=\"\", \"-\", OFFSET('Raw Data'!H23,Input_Details!$B$29,0))","v":0},{"$f":"IF(OFFSET('Raw Data'!I23,Input_Details!$B$29,0)=\"\", \"-\", OFFSET('Raw Data'!I23,Input_Details!$B$29,0))","v":0.2},{"$f":"IF(OFFSET('Raw Data'!J23,Input_Details!$B$29,0)=\"\", \"-\", OFFSET('Raw Data'!J23,Input_Details!$B$29,0))","v":0},{"$f":"IF(OFFSET('Raw Data'!K23,Input_Details!$B$29,0)=\"\", \"-\", OFFSET('Raw Data'!K23,Input_Details!$B$29,0))","v":0},{"$f":"IF(OFFSET('Raw Data'!L23,Input_Details!$B$29,0)=\"\", \"-\", OFFSET('Raw Data'!L23,Input_Details!$B$29,0))","v":0.2},{"$f":"IF(OFFSET('Raw Data'!M23,Input_Details!$B$29,0)=\"\", \"-\", OFFSET('Raw Data'!M23,Input_Details!$B$29,0))","v":0},{"$f":"IF(OFFSET('Raw Data'!N23,Input_Details!$B$29,0)=\"\", \"-\", OFFSET('Raw Data'!N23,Input_Details!$B$29,0))","v":0},{"$f":"IF(OFFSET('Raw Data'!O23,Input_Details!$B$29,0)=\"\", \"-\", OFFSET('Raw Data'!O23,Input_Details!$B$29,0))","v":0},{"$f":"IF(OFFSET('Raw Data'!P23,Input_Details!$B$29,0)=\"\", \"-\", OFFSET('Raw Data'!P23,Input_Details!$B$29,0))","v":0},{"$f":"IF(OFFSET('Raw Data'!Q23,Input_Details!$B$29,0)=\"\", \"-\", OFFSET('Raw Data'!Q23,Input_Details!$B$29,0))","v":0},{"$f":"IF(OFFSET('Raw Data'!R23,Input_Details!$B$29,0)=\"\", \"-\", OFFSET('Raw Data'!R23,Input_Details!$B$29,0))","v":0},{"$f":"IF(OFFSET('Raw Data'!S23,Input_Details!$B$29,0)=\"\", \"-\", OFFSET('Raw Data'!S23,Input_Details!$B$29,0))","v":0},0.4,null,{"$f":"IF(OFFSET('Raw Data'!AU23,Input_Details!$B$29,0)=\"\", \"-\", OFFSET('Raw Data'!AU23,Input_Details!$B$29,0))","v":0},{"$f":"IF(OFFSET('Raw Data'!AV23,Input_Details!$B$29,0)=\"\", \"-\", OFFSET('Raw Data'!AV23,Input_Details!$B$29,0))","v":0},{"$f":"IF(OFFSET('Raw Data'!AW23,Input_Details!$B$29,0)=\"\", \"-\", OFFSET('Raw Data'!AW23,Input_Details!$B$29,0))","v":0},{"$f":"IF(OFFSET('Raw Data'!AX23,Input_Details!$B$29,0)=\"\", \"-\", OFFSET('Raw Data'!AX23,Input_Details!$B$29,0))","v":0},{"$f":"IF(OFFSET('Raw Data'!AY23,Input_Details!$B$29,0)=\"\", \"-\", OFFSET('Raw Data'!AY23,Input_Details!$B$29,0))","v":0},{"$f":"IF(OFFSET('Raw Data'!AZ23,Input_Details!$B$29,0)=\"\", \"-\", OFFSET('Raw Data'!AZ23,Input_Details!$B$29,0))","v":0},{"$f":"IF(OFFSET('Raw Data'!BA23,Input_Details!$B$29,0)=\"\", \"-\", OFFSET('Raw Data'!BA23,Input_Details!$B$29,0))","v":0},{"$f":"IF(OFFSET('Raw Data'!BB23,Input_Details!$B$29,0)=\"\", \"-\", OFFSET('Raw Data'!BB23,Input_Details!$B$29,0))","v":0},{"$f":"IF(OFFSET('Raw Data'!BC23,Input_Details!$B$29,0)=\"\", \"-\", OFFSET('Raw Data'!BC23,Input_Details!$B$29,0))","v":0},{"$f":"IF(OFFSET('Raw Data'!BD23,Input_Details!$B$29,0)=\"\", \"-\", OFFSET('Raw Data'!BD23,Input_Details!$B$29,0))","v":0},{"$f":"IF(OFFSET('Raw Data'!BE23,Input_Details!$B$29,0)=\"\", \"-\", OFFSET('Raw Data'!BE23,Input_Details!$B$29,0))","v":0},{"$f":"IF(OFFSET('Raw Data'!BF23,Input_Details!$B$29,0)=\"\", \"-\", OFFSET('Raw Data'!BF23,Input_Details!$B$29,0))","v":0},0,null,0,0.2,0,0,0.2,0,0,0,0,0,0,0,0.4]
[null,"05:00:00",{"$f":"IF(OFFSET('Raw Data'!H24,Input_Details!$B$29,0)=\"\", \"-\", OFFSET('Raw Data'!H24,Input_Details!$B$29,0))","v":0},{"$f":"IF(OFFSET('Raw Data'!I24,Input_Details!$B$29,0)=\"\", \"-\", OFFSET('Raw Data'!I24,Input_Details!$B$29,0))","v":2},{"$f":"IF(OFFSET('Raw Data'!J24,Input_Details!$B$29,0)=\"\", \"-\", OFFSET('Raw Data'!J24,Input_Details!$B$29,0))","v":0},{"$f":"IF(OFFSET('Raw Data'!K24,Input_Details!$B$29,0)=\"\", \"-\", OFFSET('Raw Data'!K24,Input_Details!$B$29,0))","v":0},{"$f":"IF(OFFSET('Raw Data'!L24,Input_Details!$B$29,0)=\"\", \"-\", OFFSET('Raw Data'!L24,Input_Details!$B$29,0))","v":0},{"$f":"IF(OFFSET('Raw Data'!M24,Input_Details!$B$29,0)=\"\", \"-\", OFFSET('Raw Data'!M24,Input_Details!$B$29,0))","v":0},{"$f":"IF(OFFSET('Raw Data'!N24,Input_Details!$B$29,0)=\"\", \"-\", OFFSET('Raw Data'!N24,Input_Details!$B$29,0))","v":0},{"$f":"IF(OFFSET('Raw Data'!O24,Input_Details!$B$29,0)=\"\", \"-\", OFFSET('Raw Data'!O24,Input_Details!$B$29,0))","v":0},{"$f":"IF(OFFSET('Raw Data'!P24,Input_Details!$B$29,0)=\"\", \"-\", OFFSET('Raw Data'!P24,Input_Details!$B$29,0))","v":0},{"$f":"IF(OFFSET('Raw Data'!Q24,Input_Details!$B$29,0)=\"\", \"-\", OFFSET('Raw Data'!Q24,Input_Details!$B$29,0))","v":0},{"$f":"IF(OFFSET('Raw Data'!R24,Input_Details!$B$29,0)=\"\", \"-\", OFFSET('Raw Data'!R24,Input_Details!$B$29,0))","v":0},{"$f":"IF(OFFSET('Raw Data'!S24,Input_Details!$B$29,0)=\"\", \"-\", OFFSET('Raw Data'!S24,Input_Details!$B$29,0))","v":0},2,null,{"$f":"IF(OFFSET('Raw Data'!AU24,Input_Details!$B$29,0)=\"\", \"-\", OFFSET('Raw Data'!AU24,Input_Details!$B$29,0))","v":0},{"$f":"IF(OFFSET('Raw Data'!AV24,Input_Details!$B$29,0)=\"\", \"-\", OFFSET('Raw Data'!AV24,Input_Details!$B$29,0))","v":0.2},{"$f":"IF(OFFSET('Raw Data'!AW24,Input_Details!$B$29,0)=\"\", \"-\", OFFSET('Raw Data'!AW24,Input_Details!$B$29,0))","v":0},{"$f":"IF(OFFSET('Raw Data'!AX24,Input_Details!$B$29,0)=\"\", \"-\", OFFSET('Raw Data'!AX24,Input_Details!$B$29,0))","v":0},{"$f":"IF(OFFSET('Raw Data'!AY24,Input_Details!$B$29,0)=\"\", \"-\", OFFSET('Raw Data'!AY24,Input_Details!$B$29,0))","v":0},{"$f":"IF(OFFSET('Raw Data'!AZ24,Input_Details!$B$29,0)=\"\", \"-\", OFFSET('Raw Data'!AZ24,Input_Details!$B$29,0))","v":0},{"$f":"IF(OFFSET('Raw Data'!BA24,Input_Details!$B$29,0)=\"\", \"-\", OFFSET('Raw Data'!BA24,Input_Details!$B$29,0))","v":0},{"$f":"IF(OFFSET('Raw Data'!BB24,Input_Details!$B$29,0)=\"\", \"-\", OFFSET('Raw Data'!BB24,Input_Details!$B$29,0))","v":0},{"$f":"IF(OFFSET('Raw Data'!BC24,Input_Details!$B$29,0)=\"\", \"-\", OFFSET('Raw Data'!BC24,Input_Details!$B$29,0))","v":0},{"$f":"IF(OFFSET('Raw Data'!BD24,Input_Details!$B$29,0)=\"\", \"-\", OFFSET('Raw Data'!BD24,Input_Details!$B$29,0))","v":0},{"$f":"IF(OFFSET('Raw Data'!BE24,Input_Details!$B$29,0)=\"\", \"-\", OFFSET('Raw Data'!BE24,Input_Details!$B$29,0))","v":0},{"$f":"IF(OFFSET('Raw Data'!BF24,Input_Details!$B$29,0)=\"\", \"-\", OFFSET('Raw Data'!BF24,Input_Details!$B$29,0))","v":0},0.2,null,0,2.2000000000000002,0,0,0,0,0,0,0,0,0,0,2.2000000000000002]
[null,"05:15:00",{"$f":"IF(OFFSET('Raw Data'!H25,Input_Details!$B$29,0)=\"\", \"-\", OFFSET('Raw Data'!H25,Input_Details!$B$29,0))","v":0.4},{"$f":"IF(OFFSET('Raw Data'!I25,Input_Details!$B$29,0)=\"\", \"-\", OFFSET('Raw Data'!I25,Input_Details!$B$29,0))","v":1.4},{"$f":"IF(OFFSET('Raw Data'!J25,Input_Details!$B$29,0)=\"\", \"-\", OFFSET('Raw Data'!J25,Input_Details!$B$29,0))","v":0},{"$f":"IF(OFFSET('Raw Data'!K25,Input_Details!$B$29,0)=\"\", \"-\", OFFSET('Raw Data'!K25,Input_Details!$B$29,0))","v":0.2},{"$f":"IF(OFFSET('Raw Data'!L25,Input_Details!$B$29,0)=\"\", \"-\", OFFSET('Raw Data'!L25,Input_Details!$B$29,0))","v":0},{"$f":"IF(OFFSET('Raw Data'!M25,Input_Details!$B$29,0)=\"\", \"-\", OFFSET('Raw Data'!M25,Input_Details!$B$29,0))","v":0},{"$f":"IF(OFFSET('Raw Data'!N25,Input_Details!$B$29,0)=\"\", \"-\", OFFSET('Raw Data'!N25,Input_Details!$B$29,0))","v":0},{"$f":"IF(OFFSET('Raw Data'!O25,Input_Details!$B$29,0)=\"\", \"-\", OFFSET('Raw Data'!O25,Input_Details!$B$29,0))","v":0},{"$f":"IF(OFFSET('Raw Data'!P25,Input_Details!$B$29,0)=\"\", \"-\", OFFSET('Raw Data'!P25,Input_Details!$B$29,0))","v":0},{"$f":"IF(OFFSET('Raw Data'!Q25,Input_Details!$B$29,0)=\"\", \"-\", OFFSET('Raw Data'!Q25,Input_Details!$B$29,0))","v":0},{"$f":"IF(OFFSET('Raw Data'!R25,Input_Details!$B$29,0)=\"\", \"-\", OFFSET('Raw Data'!R25,Input_Details!$B$29,0))","v":0},{"$f":"IF(OFFSET('Raw Data'!S25,Input_Details!$B$29,0)=\"\", \"-\", OFFSET('Raw Data'!S25,Input_Details!$B$29,0))","v":0},1.9999999999999998,null,{"$f":"IF(OFFSET('Raw Data'!AU25,Input_Details!$B$29,0)=\"\", \"-\", OFFSET('Raw Data'!AU25,Input_Details!$B$29,0))","v":0},{"$f":"IF(OFFSET('Raw Data'!AV25,Input_Details!$B$29,0)=\"\", \"-\", OFFSET('Raw Data'!AV25,Input_Details!$B$29,0))","v":0.8},{"$f":"IF(OFFSET('Raw Data'!AW25,Input_Details!$B$29,0)=\"\", \"-\", OFFSET('Raw Data'!AW25,Input_Details!$B$29,0))","v":0},{"$f":"IF(OFFSET('Raw Data'!AX25,Input_Details!$B$29,0)=\"\", \"-\", OFFSET('Raw Data'!AX25,Input_Details!$B$29,0))","v":0.2},{"$f":"IF(OFFSET('Raw Data'!AY25,Input_Details!$B$29,0)=\"\", \"-\", OFFSET('Raw Data'!AY25,Input_Details!$B$29,0))","v":0},{"$f":"IF(OFFSET('Raw Data'!AZ25,Input_Details!$B$29,0)=\"\", \"-\", OFFSET('Raw Data'!AZ25,Input_Details!$B$29,0))","v":0},{"$f":"IF(OFFSET('Raw Data'!BA25,Input_Details!$B$29,0)=\"\", \"-\", OFFSET('Raw Data'!BA25,Input_Details!$B$29,0))","v":0},{"$f":"IF(OFFSET('Raw Data'!BB25,Input_Details!$B$29,0)=\"\", \"-\", OFFSET('Raw Data'!BB25,Input_Details!$B$29,0))","v":0},{"$f":"IF(OFFSET('Raw Data'!BC25,Input_Details!$B$29,0)=\"\", \"-\", OFFSET('Raw Data'!BC25,Input_Details!$B$29,0))","v":0},{"$f":"IF(OFFSET('Raw Data'!BD25,Input_Details!$B$29,0)=\"\", \"-\", OFFSET('Raw Data'!BD25,Input_Details!$B$29,0))","v":0},{"$f":"IF(OFFSET('Raw Data'!BE25,Input_Details!$B$29,0)=\"\", \"-\", OFFSET('Raw Data'!BE25,Input_Details!$B$29,0))","v":0},{"$f":"IF(OFFSET('Raw Data'!BF25,Input_Details!$B$29,0)=\"\", \"-\", OFFSET('Raw Data'!BF25,Input_Details!$B$29,0))","v":0},1,null,0.4,2.2000000000000002,0,0.4,0,0,0,0,0,0,0,0,3]
[null,"05:30:00",{"$f":"IF(OFFSET('Raw Data'!H26,Input_Details!$B$29,0)=\"\", \"-\", OFFSET('Raw Data'!H26,Input_Details!$B$29,0))","v":1},{"$f":"IF(OFFSET('Raw Data'!I26,Input_Details!$B$29,0)=\"\", \"-\", OFFSET('Raw Data'!I26,Input_Details!$B$29,0))","v":0.8},{"$f":"IF(OFFSET('Raw Data'!J26,Input_Details!$B$29,0)=\"\", \"-\", OFFSET('Raw Data'!J26,Input_Details!$B$29,0))","v":0},{"$f":"IF(OFFSET('Raw Data'!K26,Input_Details!$B$29,0)=\"\", \"-\", OFFSET('Raw Data'!K26,Input_Details!$B$29,0))","v":0.6},{"$f":"IF(OFFSET('Raw Data'!L26,Input_Details!$B$29,0)=\"\", \"-\", OFFSET('Raw Data'!L26,Input_Details!$B$29,0))","v":0},{"$f":"IF(OFFSET('Raw Data'!M26,Input_Details!$B$29,0)=\"\", \"-\", OFFSET('Raw Data'!M26,Input_Details!$B$29,0))","v":0},{"$f":"IF(OFFSET('Raw Data'!N26,Input_Details!$B$29,0)=\"\", \"-\", OFFSET('Raw Data'!N26,Input_Details!$B$29,0))","v":0},{"$f":"IF(OFFSET('Raw Data'!O26,Input_Details!$B$29,0)=\"\", \"-\", OFFSET('Raw Data'!O26,Input_Details!$B$29,0))","v":0},{"$f":"IF(OFFSET('Raw Data'!P26,Input_Details!$B$29,0)=\"\", \"-\", OFFSET('Raw Data'!P26,Input_Details!$B$29,0))","v":0},{"$f":"IF(OFFSET('Raw Data'!Q26,Input_Details!$B$29,0)=\"\", \"-\", OFFSET('Raw Data'!Q26,Input_Details!$B$29,0))","v":0},{"$f":"IF(OFFSET('Raw Data'!R26,Input_Details!$B$29,0)=\"\", \"-\", OFFSET('Raw Data'!R26,Input_Details!$B$29,0))","v":0},{"$f":"IF(OFFSET('Raw Data'!S26,Input_Details!$B$29,0)=\"\", \"-\", OFFSET('Raw Data'!S26,Input_Details!$B$29,0))","v":0},2.4,null,{"$f":"IF(OFFSET('Raw Data'!AU26,Input_Details!$B$29,0)=\"\", \"-\", OFFSET('Raw Data'!AU26,Input_Details!$B$29,0))","v":0},{"$f":"IF(OFFSET('Raw Data'!AV26,Input_Details!$B$29,0)=\"\", \"-\", OFFSET('Raw Data'!AV26,Input_Details!$B$29,0))","v":0},{"$f":"IF(OFFSET('Raw Data'!AW26,Input_Details!$B$29,0)=\"\", \"-\", OFFSET('Raw Data'!AW26,Input_Details!$B$29,0))","v":0},{"$f":"IF(OFFSET('Raw Data'!AX26,Input_Details!$B$29,0)=\"\", \"-\", OFFSET('Raw Data'!AX26,Input_Details!$B$29,0))","v":0},{"$f":"IF(OFFSET('Raw Data'!AY26,Input_Details!$B$29,0)=\"\", \"-\", OFFSET('Raw Data'!AY26,Input_Details!$B$29,0))","v":0},{"$f":"IF(OFFSET('Raw Data'!AZ26,Input_Details!$B$29,0)=\"\", \"-\", OFFSET('Raw Data'!AZ26,Input_Details!$B$29,0))","v":0},{"$f":"IF(OFFSET('Raw Data'!BA26,Input_Details!$B$29,0)=\"\", \"-\", OFFSET('Raw Data'!BA26,Input_Details!$B$29,0))","v":0},{"$f":"IF(OFFSET('Raw Data'!BB26,Input_Details!$B$29,0)=\"\", \"-\", OFFSET('Raw Data'!BB26,Input_Details!$B$29,0))","v":0},{"$f":"IF(OFFSET('Raw Data'!BC26,Input_Details!$B$29,0)=\"\", \"-\", OFFSET('Raw Data'!BC26,Input_Details!$B$29,0))","v":0},{"$f":"IF(OFFSET('Raw Data'!BD26,Input_Details!$B$29,0)=\"\", \"-\", OFFSET('Raw Data'!BD26,Input_Details!$B$29,0))","v":0},{"$f":"IF(OFFSET('Raw Data'!BE26,Input_Details!$B$29,0)=\"\", \"-\", OFFSET('Raw Data'!BE26,Input_Details!$B$29,0))","v":0},{"$f":"IF(OFFSET('Raw Data'!BF26,Input_Details!$B$29,0)=\"\", \"-\", OFFSET('Raw Data'!BF26,Input_Details!$B$29,0))","v":0},0,null,1,0.8,0,0.6,0,0,0,0,0,0,0,0,2.4]
[null,"05:45:00",{"$f":"IF(OFFSET('Raw Data'!H27,Input_Details!$B$29,0)=\"\", \"-\", OFFSET('Raw Data'!H27,Input_Details!$B$29,0))","v":1.4},{"$f":"IF(OFFSET('Raw Data'!I27,Input_Details!$B$29,0)=\"\", \"-\", OFFSET('Raw Data'!I27,Input_Details!$B$29,0))","v":0.6},{"$f":"IF(OFFSET('Raw Data'!J27,Input_Details!$B$29,0)=\"\", \"-\", OFFSET('Raw Data'!J27,Input_Details!$B$29,0))","v":0},{"$f":"IF(OFFSET('Raw Data'!K27,Input_Details!$B$29,0)=\"\", \"-\", OFFSET('Raw Data'!K27,Input_Details!$B$29,0))","v":1},{"$f":"IF(OFFSET('Raw Data'!L27,Input_Details!$B$29,0)=\"\", \"-\", OFFSET('Raw Data'!L27,Input_Details!$B$29,0))","v":0},{"$f":"IF(OFFSET('Raw Data'!M27,Input_Details!$B$29,0)=\"\", \"-\", OFFSET('Raw Data'!M27,Input_Details!$B$29,0))","v":0},{"$f":"IF(OFFSET('Raw Data'!N27,Input_Details!$B$29,0)=\"\", \"-\", OFFSET('Raw Data'!N27,Input_Details!$B$29,0))","v":0},{"$f":"IF(OFFSET('Raw Data'!O27,Input_Details!$B$29,0)=\"\", \"-\", OFFSET('Raw Data'!O27,Input_Details!$B$29,0))","v":0},{"$f":"IF(OFFSET('Raw Data'!P27,Input_Details!$B$29,0)=\"\", \"-\", OFFSET('Raw Data'!P27,Input_Details!$B$29,0))","v":0},{"$f":"IF(OFFSET('Raw Data'!Q27,Input_Details!$B$29,0)=\"\", \"-\", OFFSET('Raw Data'!Q27,Input_Details!$B$29,0))","v":0},{"$f":"IF(OFFSET('Raw Data'!R27,Input_Details!$B$29,0)=\"\", \"-\", OFFSET('Raw Data'!R27,Input_Details!$B$29,0))","v":0},{"$f":"IF(OFFSET('Raw Data'!S27,Input_Details!$B$29,0)=\"\", \"-\", OFFSET('Raw Data'!S27,Input_Details!$B$29,0))","v":0},3,null,{"$f":"IF(OFFSET('Raw Data'!AU27,Input_Details!$B$29,0)=\"\", \"-\", OFFSET('Raw Data'!AU27,Input_Details!$B$29,0))","v":0},{"$f":"IF(OFFSET('Raw Data'!AV27,Input_Details!$B$29,0)=\"\", \"-\", OFFSET('Raw Data'!AV27,Input_Details!$B$29,0))","v":1},{"$f":"IF(OFFSET('Raw Data'!AW27,Input_Details!$B$29,0)=\"\", \"-\", OFFSET('Raw Data'!AW27,Input_Details!$B$29,0))","v":0},{"$f":"IF(OFFSET('Raw Data'!AX27,Input_Details!$B$29,0)=\"\", \"-\", OFFSET('Raw Data'!AX27,Input_Details!$B$29,0))","v":0.2},{"$f":"IF(OFFSET('Raw Data'!AY27,Input_Details!$B$29,0)=\"\", \"-\", OFFSET('Raw Data'!AY27,Input_Details!$B$29,0))","v":0},{"$f":"IF(OFFSET('Raw Data'!AZ27,Input_Details!$B$29,0)=\"\", \"-\", OFFSET('Raw Data'!AZ27,Input_Details!$B$29,0))","v":0},{"$f":"IF(OFFSET('Raw Data'!BA27,Input_Details!$B$29,0)=\"\", \"-\", OFFSET('Raw Data'!BA27,Input_Details!$B$29,0))","v":0},{"$f":"IF(OFFSET('Raw Data'!BB27,Input_Details!$B$29,0)=\"\", \"-\", OFFSET('Raw Data'!BB27,Input_Details!$B$29,0))","v":0},{"$f":"IF(OFFSET('Raw Data'!BC27,Input_Details!$B$29,0)=\"\", \"-\", OFFSET('Raw Data'!BC27,Input_Details!$B$29,0))","v":0},{"$f":"IF(OFFSET('Raw Data'!BD27,Input_Details!$B$29,0)=\"\", \"-\", OFFSET('Raw Data'!BD27,Input_Details!$B$29,0))","v":0},{"$f":"IF(OFFSET('Raw Data'!BE27,Input_Details!$B$29,0)=\"\", \"-\", OFFSET('Raw Data'!BE27,Input_Details!$B$29,0))","v":0},{"$f":"IF(OFFSET('Raw Data'!BF27,Input_Details!$B$29,0)=\"\", \"-\", OFFSET('Raw Data'!BF27,Input_Details!$B$29,0))","v":0},1.2,null,1.4,1.6,0,1.2,0,0,0,0,0,0,0,0,4.2]
[null,"06:00:00",{"$f":"IF(OFFSET('Raw Data'!H28,Input_Details!$B$29,0)=\"\", \"-\", OFFSET('Raw Data'!H28,Input_Details!$B$29,0))","v":1.4},{"$f":"IF(OFFSET('Raw Data'!I28,Input_Details!$B$29,0)=\"\", \"-\", OFFSET('Raw Data'!I28,Input_Details!$B$29,0))","v":1},{"$f":"IF(OFFSET('Raw Data'!J28,Input_Details!$B$29,0)=\"\", \"-\", OFFSET('Raw Data'!J28,Input_Details!$B$29,0))","v":0},{"$f":"IF(OFFSET('Raw Data'!K28,Input_Details!$B$29,0)=\"\", \"-\", OFFSET('Raw Data'!K28,Input_Details!$B$29,0))","v":0},{"$f":"IF(OFFSET('Raw Data'!L28,Input_Details!$B$29,0)=\"\", \"-\", OFFSET('Raw Data'!L28,Input_Details!$B$29,0))","v":0},{"$f":"IF(OFFSET('Raw Data'!M28,Input_Details!$B$29,0)=\"\", \"-\", OFFSET('Raw Data'!M28,Input_Details!$B$29,0))","v":0},{"$f":"IF(OFFSET('Raw Data'!N28,Input_Details!$B$29,0)=\"\", \"-\", OFFSET('Raw Data'!N28,Input_Details!$B$29,0))","v":0},{"$f":"IF(OFFSET('Raw Data'!O28,Input_Details!$B$29,0)=\"\", \"-\", OFFSET('Raw Data'!O28,Input_Details!$B$29,0))","v":0},{"$f":"IF(OFFSET('Raw Data'!P28,Input_Details!$B$29,0)=\"\", \"-\", OFFSET('Raw Data'!P28,Input_Details!$B$29,0))","v":0},{"$f":"IF(OFFSET('Raw Data'!Q28,Input_Details!$B$29,0)=\"\", \"-\", OFFSET('Raw Data'!Q28,Input_Details!$B$29,0))","v":0},{"$f":"IF(OFFSET('Raw Data'!R28,Input_Details!$B$29,0)=\"\", \"-\", OFFSET('Raw Data'!R28,Input_Details!$B$29,0))","v":0},{"$f":"IF(OFFSET('Raw Data'!S28,Input_Details!$B$29,0)=\"\", \"-\", OFFSET('Raw Data'!S28,Input_Details!$B$29,0))","v":0},2.4,null,{"$f":"IF(OFFSET('Raw Data'!AU28,Input_Details!$B$29,0)=\"\", \"-\", OFFSET('Raw Data'!AU28,Input_Details!$B$29,0))","v":0},{"$f":"IF(OFFSET('Raw Data'!AV28,Input_Details!$B$29,0)=\"\", \"-\", OFFSET('Raw Data'!AV28,Input_Details!$B$29,0))","v":1},{"$f":"IF(OFFSET('Raw Data'!AW28,Input_Details!$B$29,0)=\"\", \"-\", OFFSET('Raw Data'!AW28,Input_Details!$B$29,0))","v":0},{"$f":"IF(OFFSET('Raw Data'!AX28,Input_Details!$B$29,0)=\"\", \"-\", OFFSET('Raw Data'!AX28,Input_Details!$B$29,0))","v":0},{"$f":"IF(OFFSET('Raw Data'!AY28,Input_Details!$B$29,0)=\"\", \"-\", OFFSET('Raw Data'!AY28,Input_Details!$B$29,0))","v":0},{"$f":"IF(OFFSET('Raw Data'!AZ28,Input_Details!$B$29,0)=\"\", \"-\", OFFSET('Raw Data'!AZ28,Input_Details!$B$29,0))","v":0},{"$f":"IF(OFFSET('Raw Data'!BA28,Input_Details!$B$29,0)=\"\", \"-\", OFFSET('Raw Data'!BA28,Input_Details!$B$29,0))","v":0},{"$f":"IF(OFFSET('Raw Data'!BB28,Input_Details!$B$29,0)=\"\", \"-\", OFFSET('Raw Data'!BB28,Input_Details!$B$29,0))","v":0},{"$f":"IF(OFFSET('Raw Data'!BC28,Input_Details!$B$29,0)=\"\", \"-\", OFFSET('Raw Data'!BC28,Input_Details!$B$29,0))","v":0},{"$f":"IF(OFFSET('Raw Data'!BD28,Input_Details!$B$29,0)=\"\", \"-\", OFFSET('Raw Data'!BD28,Input_Details!$B$29,0))","v":0},{"$f":"IF(OFFSET('Raw Data'!BE28,Input_Details!$B$29,0)=\"\", \"-\", OFFSET('Raw Data'!BE28,Input_Details!$B$29,0))","v":0},{"$f":"IF(OFFSET('Raw Data'!BF28,Input_Details!$B$29,0)=\"\", \"-\", OFFSET('Raw Data'!BF28,Input_Details!$B$29,0))","v":0},1,null,1.4,2,0,0,0,0,0,0,0,0,0,0,3.4]
[null,"06:15:00",{"$f":"IF(OFFSET('Raw Data'!H29,Input_Details!$B$29,0)=\"\", \"-\", OFFSET('Raw Data'!H29,Input_Details!$B$29,0))","v":1.2},{"$f":"IF(OFFSET('Raw Data'!I29,Input_Details!$B$29,0)=\"\", \"-\", OFFSET('Raw Data'!I29,Input_Details!$B$29,0))","v":1.8},{"$f":"IF(OFFSET('Raw Data'!J29,Input_Details!$B$29,0)=\"\", \"-\", OFFSET('Raw Data'!J29,Input_Details!$B$29,0))","v":0},{"$f":"IF(OFFSET('Raw Data'!K29,Input_Details!$B$29,0)=\"\", \"-\", OFFSET('Raw Data'!K29,Input_Details!$B$29,0))","v":0.2},{"$f":"IF(OFFSET('Raw Data'!L29,Input_Details!$B$29,0)=\"\", \"-\", OFFSET('Raw Data'!L29,Input_Details!$B$29,0))","v":0},{"$f":"IF(OFFSET('Raw Data'!M29,Input_Details!$B$29,0)=\"\", \"-\", OFFSET('Raw Data'!M29,Input_Details!$B$29,0))","v":0},{"$f":"IF(OFFSET('Raw Data'!N29,Input_Details!$B$29,0)=\"\", \"-\", OFFSET('Raw Data'!N29,Input_Details!$B$29,0))","v":0},{"$f":"IF(OFFSET('Raw Data'!O29,Input_Details!$B$29,0)=\"\", \"-\", OFFSET('Raw Data'!O29,Input_Details!$B$29,0))","v":0},{"$f":"IF(OFFSET('Raw Data'!P29,Input_Details!$B$29,0)=\"\", \"-\", OFFSET('Raw Data'!P29,Input_Details!$B$29,0))","v":0},{"$f":"IF(OFFSET('Raw Data'!Q29,Input_Details!$B$29,0)=\"\", \"-\", OFFSET('Raw Data'!Q29,Input_Details!$B$29,0))","v":0},{"$f":"IF(OFFSET('Raw Data'!R29,Input_Details!$B$29,0)=\"\", \"-\", OFFSET('Raw Data'!R29,Input_Details!$B$29,0))","v":0},{"$f":"IF(OFFSET('Raw Data'!S29,Input_Details!$B$29,0)=\"\", \"-\", OFFSET('Raw Data'!S29,Input_Details!$B$29,0))","v":0},3.2,null,{"$f":"IF(OFFSET('Raw Data'!AU29,Input_Details!$B$29,0)=\"\", \"-\", OFFSET('Raw Data'!AU29,Input_Details!$B$29,0))","v":0},{"$f":"IF(OFFSET('Raw Data'!AV29,Input_Details!$B$29,0)=\"\", \"-\", OFFSET('Raw Data'!AV29,Input_Details!$B$29,0))","v":1.8},{"$f":"IF(OFFSET('Raw Data'!AW29,Input_Details!$B$29,0)=\"\", \"-\", OFFSET('Raw Data'!AW29,Input_Details!$B$29,0))","v":0},{"$f":"IF(OFFSET('Raw Data'!AX29,Input_Details!$B$29,0)=\"\", \"-\", OFFSET('Raw Data'!AX29,Input_Details!$B$29,0))","v":0},{"$f":"IF(OFFSET('Raw Data'!AY29,Input_Details!$B$29,0)=\"\", \"-\", OFFSET('Raw Data'!AY29,Input_Details!$B$29,0))","v":0},{"$f":"IF(OFFSET('Raw Data'!AZ29,Input_Details!$B$29,0)=\"\", \"-\", OFFSET('Raw Data'!AZ29,Input_Details!$B$29,0))","v":0},{"$f":"IF(OFFSET('Raw Data'!BA29,Input_Details!$B$29,0)=\"\", \"-\", OFFSET('Raw Data'!BA29,Input_Details!$B$29,0))","v":0},{"$f":"IF(OFFSET('Raw Data'!BB29,Input_Details!$B$29,0)=\"\", \"-\", OFFSET('Raw Data'!BB29,Input_Details!$B$29,0))","v":0},{"$f":"IF(OFFSET('Raw Data'!BC29,Input_Details!$B$29,0)=\"\", \"-\", OFFSET('Raw Data'!BC29,Input_Details!$B$29,0))","v":0},{"$f":"IF(OFFSET('Raw Data'!BD29,Input_Details!$B$29,0)=\"\", \"-\", OFFSET('Raw Data'!BD29,Input_Details!$B$29,0))","v":0},{"$f":"IF(OFFSET('Raw Data'!BE29,Input_Details!$B$29,0)=\"\", \"-\", OFFSET('Raw Data'!BE29,Input_Details!$B$29,0))","v":0},{"$f":"IF(OFFSET('Raw Data'!BF29,Input_Details!$B$29,0)=\"\", \"-\", OFFSET('Raw Data'!BF29,Input_Details!$B$29,0))","v":0},1.8,null,1.2,3.6,0,0.2,0,0,0,0,0,0,0,0,5]
[null,"06:30:00",{"$f":"IF(OFFSET('Raw Data'!H30,Input_Details!$B$29,0)=\"\", \"-\", OFFSET('Raw Data'!H30,Input_Details!$B$29,0))","v":2.4},{"$f":"IF(OFFSET('Raw Data'!I30,Input_Details!$B$29,0)=\"\", \"-\", OFFSET('Raw Data'!I30,Input_Details!$B$29,0))","v":2},{"$f":"IF(OFFSET('Raw Data'!J30,Input_Details!$B$29,0)=\"\", \"-\", OFFSET('Raw Data'!J30,Input_Details!$B$29,0))","v":0},{"$f":"IF(OFFSET('Raw Data'!K30,Input_Details!$B$29,0)=\"\", \"-\", OFFSET('Raw Data'!K30,Input_Details!$B$29,0))","v":0.4},{"$f":"IF(OFFSET('Raw Data'!L30,Input_Details!$B$29,0)=\"\", \"-\", OFFSET('Raw Data'!L30,Input_Details!$B$29,0))","v":0},{"$f":"IF(OFFSET('Raw Data'!M30,Input_Details!$B$29,0)=\"\", \"-\", OFFSET('Raw Data'!M30,Input_Details!$B$29,0))","v":0},{"$f":"IF(OFFSET('Raw Data'!N30,Input_Details!$B$29,0)=\"\", \"-\", OFFSET('Raw Data'!N30,Input_Details!$B$29,0))","v":0},{"$f":"IF(OFFSET('Raw Data'!O30,Input_Details!$B$29,0)=\"\", \"-\", OFFSET('Raw Data'!O30,Input_Details!$B$29,0))","v":0},{"$f":"IF(OFFSET('Raw Data'!P30,Input_Details!$B$29,0)=\"\", \"-\", OFFSET('Raw Data'!P30,Input_Details!$B$29,0))","v":0},{"$f":"IF(OFFSET('Raw Data'!Q30,Input_Details!$B$29,0)=\"\", \"-\", OFFSET('Raw Data'!Q30,Input_Details!$B$29,0))","v":0},{"$f":"IF(OFFSET('Raw Data'!R30,Input_Details!$B$29,0)=\"\", \"-\", OFFSET('Raw Data'!R30,Input_Details!$B$29,0))","v":0},{"$f":"IF(OFFSET('Raw Data'!S30,Input_Details!$B$29,0)=\"\", \"-\", OFFSET('Raw Data'!S30,Input_Details!$B$29,0))","v":0},4.8000000000000007,null,{"$f":"IF(OFFSET('Raw Data'!AU30,Input_Details!$B$29,0)=\"\", \"-\", OFFSET('Raw Data'!AU30,Input_Details!$B$29,0))","v":0.2},{"$f":"IF(OFFSET('Raw Data'!AV30,Input_Details!$B$29,0)=\"\", \"-\", OFFSET('Raw Data'!AV30,Input_Details!$B$29,0))","v":1.8},{"$f":"IF(OFFSET('Raw Data'!AW30,Input_Details!$B$29,0)=\"\", \"-\", OFFSET('Raw Data'!AW30,Input_Details!$B$29,0))","v":0},{"$f":"IF(OFFSET('Raw Data'!AX30,Input_Details!$B$29,0)=\"\", \"-\", OFFSET('Raw Data'!AX30,Input_Details!$B$29,0))","v":0},{"$f":"IF(OFFSET('Raw Data'!AY30,Input_Details!$B$29,0)=\"\", \"-\", OFFSET('Raw Data'!AY30,Input_Details!$B$29,0))","v":0},{"$f":"IF(OFFSET('Raw Data'!AZ30,Input_Details!$B$29,0)=\"\", \"-\", OFFSET('Raw Data'!AZ30,Input_Details!$B$29,0))","v":0},{"$f":"IF(OFFSET('Raw Data'!BA30,Input_Details!$B$29,0)=\"\", \"-\", OFFSET('Raw Data'!BA30,Input_Details!$B$29,0))","v":0},{"$f":"IF(OFFSET('Raw Data'!BB30,Input_Details!$B$29,0)=\"\", \"-\", OFFSET('Raw Data'!BB30,Input_Details!$B$29,0))","v":0},{"$f":"IF(OFFSET('Raw Data'!BC30,Input_Details!$B$29,0)=\"\", \"-\", OFFSET('Raw Data'!BC30,Input_Details!$B$29,0))","v":0},{"$f":"IF(OFFSET('Raw Data'!BD30,Input_Details!$B$29,0)=\"\", \"-\", OFFSET('Raw Data'!BD30,Input_Details!$B$29,0))","v":0},{"$f":"IF(OFFSET('Raw Data'!BE30,Input_Details!$B$29,0)=\"\", \"-\", OFFSET('Raw Data'!BE30,Input_Details!$B$29,0))","v":0},{"$f":"IF(OFFSET('Raw Data'!BF30,Input_Details!$B$29,0)=\"\", \"-\", OFFSET('Raw Data'!BF30,Input_Details!$B$29,0))","v":0},2,null,2.6,3.8,0,0.4,0,0,0,0,0,0,0,0,6.8000000000000007]
[null,"06:45:00",{"$f":"IF(OFFSET('Raw Data'!H31,Input_Details!$B$29,0)=\"\", \"-\", OFFSET('Raw Data'!H31,Input_Details!$B$29,0))","v":7.2},{"$f":"IF(OFFSET('Raw Data'!I31,Input_Details!$B$29,0)=\"\", \"-\", OFFSET('Raw Data'!I31,Input_Details!$B$29,0))","v":0.8},{"$f":"IF(OFFSET('Raw Data'!J31,Input_Details!$B$29,0)=\"\", \"-\", OFFSET('Raw Data'!J31,Input_Details!$B$29,0))","v":0},{"$f":"IF(OFFSET('Raw Data'!K31,Input_Details!$B$29,0)=\"\", \"-\", OFFSET('Raw Data'!K31,Input_Details!$B$29,0))","v":0.6},{"$f":"IF(OFFSET('Raw Data'!L31,Input_Details!$B$29,0)=\"\", \"-\", OFFSET('Raw Data'!L31,Input_Details!$B$29,0))","v":0},{"$f":"IF(OFFSET('Raw Data'!M31,Input_Details!$B$29,0)=\"\", \"-\", OFFSET('Raw Data'!M31,Input_Details!$B$29,0))","v":0},{"$f":"IF(OFFSET('Raw Data'!N31,Input_Details!$B$29,0)=\"\", \"-\", OFFSET('Raw Data'!N31,Input_Details!$B$29,0))","v":0},{"$f":"IF(OFFSET('Raw Data'!O31,Input_Details!$B$29,0)=\"\", \"-\", OFFSET('Raw Data'!O31,Input_Details!$B$29,0))","v":0},{"$f":"IF(OFFSET('Raw Data'!P31,Input_Details!$B$29,0)=\"\", \"-\", OFFSET('Raw Data'!P31,Input_Details!$B$29,0))","v":0},{"$f":"IF(OFFSET('Raw Data'!Q31,Input_Details!$B$29,0)=\"\", \"-\", OFFSET('Raw Data'!Q31,Input_Details!$B$29,0))","v":0},{"$f":"IF(OFFSET('Raw Data'!R31,Input_Details!$B$29,0)=\"\", \"-\", OFFSET('Raw Data'!R31,Input_Details!$B$29,0))","v":0},{"$f":"IF(OFFSET('Raw Data'!S31,Input_Details!$B$29,0)=\"\", \"-\", OFFSET('Raw Data'!S31,Input_Details!$B$29,0))","v":0},8.6,null,{"$f":"IF(OFFSET('Raw Data'!AU31,Input_Details!$B$29,0)=\"\", \"-\", OFFSET('Raw Data'!AU31,Input_Details!$B$29,0))","v":0.2},{"$f":"IF(OFFSET('Raw Data'!AV31,Input_Details!$B$29,0)=\"\", \"-\", OFFSET('Raw Data'!AV31,Input_Details!$B$29,0))","v":1.8},{"$f":"IF(OFFSET('Raw Data'!AW31,Input_Details!$B$29,0)=\"\", \"-\", OFFSET('Raw Data'!AW31,Input_Details!$B$29,0))","v":0},{"$f":"IF(OFFSET('Raw Data'!AX31,Input_Details!$B$29,0)=\"\", \"-\", OFFSET('Raw Data'!AX31,Input_Details!$B$29,0))","v":0.4},{"$f":"IF(OFFSET('Raw Data'!AY31,Input_Details!$B$29,0)=\"\", \"-\", OFFSET('Raw Data'!AY31,Input_Details!$B$29,0))","v":0},{"$f":"IF(OFFSET('Raw Data'!AZ31,Input_Details!$B$29,0)=\"\", \"-\", OFFSET('Raw Data'!AZ31,Input_Details!$B$29,0))","v":0.2},{"$f":"IF(OFFSET('Raw Data'!BA31,Input_Details!$B$29,0)=\"\", \"-\", OFFSET('Raw Data'!BA31,Input_Details!$B$29,0))","v":0},{"$f":"IF(OFFSET('Raw Data'!BB31,Input_Details!$B$29,0)=\"\", \"-\", OFFSET('Raw Data'!BB31,Input_Details!$B$29,0))","v":0},{"$f":"IF(OFFSET('Raw Data'!BC31,Input_Details!$B$29,0)=\"\", \"-\", OFFSET('Raw Data'!BC31,Input_Details!$B$29,0))","v":0},{"$f":"IF(OFFSET('Raw Data'!BD31,Input_Details!$B$29,0)=\"\", \"-\", OFFSET('Raw Data'!BD31,Input_Details!$B$29,0))","v":0},{"$f":"IF(OFFSET('Raw Data'!BE31,Input_Details!$B$29,0)=\"\", \"-\", OFFSET('Raw Data'!BE31,Input_Details!$B$29,0))","v":0},{"$f":"IF(OFFSET('Raw Data'!BF31,Input_Details!$B$29,0)=\"\", \"-\", OFFSET('Raw Data'!BF31,Input_Details!$B$29,0))","v":0},2.6,null,7.4,2.6,0,1,0,0.2,0,0,0,0,0,0,11.2]
[null,"07:00:00",{"$f":"IF(OFFSET('Raw Data'!H32,Input_Details!$B$29,0)=\"\", \"-\", OFFSET('Raw Data'!H32,Input_Details!$B$29,0))","v":6.6},{"$f":"IF(OFFSET('Raw Data'!I32,Input_Details!$B$29,0)=\"\", \"-\", OFFSET('Raw Data'!I32,Input_Details!$B$29,0))","v":1.6},{"$f":"IF(OFFSET('Raw Data'!J32,Input_Details!$B$29,0)=\"\", \"-\", OFFSET('Raw Data'!J32,Input_Details!$B$29,0))","v":0},{"$f":"IF(OFFSET('Raw Data'!K32,Input_Details!$B$29,0)=\"\", \"-\", OFFSET('Raw Data'!K32,Input_Details!$B$29,0))","v":0.2},{"$f":"IF(OFFSET('Raw Data'!L32,Input_Details!$B$29,0)=\"\", \"-\", OFFSET('Raw Data'!L32,Input_Details!$B$29,0))","v":0},{"$f":"IF(OFFSET('Raw Data'!M32,Input_Details!$B$29,0)=\"\", \"-\", OFFSET('Raw Data'!M32,Input_Details!$B$29,0))","v":0.2},{"$f":"IF(OFFSET('Raw Data'!N32,Input_Details!$B$29,0)=\"\", \"-\", OFFSET('Raw Data'!N32,Input_Details!$B$29,0))","v":0},{"$f":"IF(OFFSET('Raw Data'!O32,Input_Details!$B$29,0)=\"\", \"-\", OFFSET('Raw Data'!O32,Input_Details!$B$29,0))","v":0},{"$f":"IF(OFFSET('Raw Data'!P32,Input_Details!$B$29,0)=\"\", \"-\", OFFSET('Raw Data'!P32,Input_Details!$B$29,0))","v":0},{"$f":"IF(OFFSET('Raw Data'!Q32,Input_Details!$B$29,0)=\"\", \"-\", OFFSET('Raw Data'!Q32,Input_Details!$B$29,0))","v":0},{"$f":"IF(OFFSET('Raw Data'!R32,Input_Details!$B$29,0)=\"\", \"-\", OFFSET('Raw Data'!R32,Input_Details!$B$29,0))","v":0},{"$f":"IF(OFFSET('Raw Data'!S32,Input_Details!$B$29,0)=\"\", \"-\", OFFSET('Raw Data'!S32,Input_Details!$B$29,0))","v":0},8.5999999999999979,null,{"$f":"IF(OFFSET('Raw Data'!AU32,Input_Details!$B$29,0)=\"\", \"-\", OFFSET('Raw Data'!AU32,Input_Details!$B$29,0))","v":0.6},{"$f":"IF(OFFSET('Raw Data'!AV32,Input_Details!$B$29,0)=\"\", \"-\", OFFSET('Raw Data'!AV32,Input_Details!$B$29,0))","v":2.4},{"$f":"IF(OFFSET('Raw Data'!AW32,Input_Details!$B$29,0)=\"\", \"-\", OFFSET('Raw Data'!AW32,Input_Details!$B$29,0))","v":0},{"$f":"IF(OFFSET('Raw Data'!AX32,Input_Details!$B$29,0)=\"\", \"-\", OFFSET('Raw Data'!AX32,Input_Details!$B$29,0))","v":0},{"$f":"IF(OFFSET('Raw Data'!AY32,Input_Details!$B$29,0)=\"\", \"-\", OFFSET('Raw Data'!AY32,Input_Details!$B$29,0))","v":0},{"$f":"IF(OFFSET('Raw Data'!AZ32,Input_Details!$B$29,0)=\"\", \"-\", OFFSET('Raw Data'!AZ32,Input_Details!$B$29,0))","v":0},{"$f":"IF(OFFSET('Raw Data'!BA32,Input_Details!$B$29,0)=\"\", \"-\", OFFSET('Raw Data'!BA32,Input_Details!$B$29,0))","v":0},{"$f":"IF(OFFSET('Raw Data'!BB32,Input_Details!$B$29,0)=\"\", \"-\", OFFSET('Raw Data'!BB32,Input_Details!$B$29,0))","v":0},{"$f":"IF(OFFSET('Raw Data'!BC32,Input_Details!$B$29,0)=\"\", \"-\", OFFSET('Raw Data'!BC32,Input_Details!$B$29,0))","v":0},{"$f":"IF(OFFSET('Raw Data'!BD32,Input_Details!$B$29,0)=\"\", \"-\", OFFSET('Raw Data'!BD32,Input_Details!$B$29,0))","v":0},{"$f":"IF(OFFSET('Raw Data'!BE32,Input_Details!$B$29,0)=\"\", \"-\", OFFSET('Raw Data'!BE32,Input_Details!$B$29,0))","v":0},{"$f":"IF(OFFSET('Raw Data'!BF32,Input_Details!$B$29,0)=\"\", \"-\", OFFSET('Raw Data'!BF32,Input_Details!$B$29,0))","v":0},3,null,7.1999999999999993,4,0,0.2,0,0.2,0,0,0,0,0,0,11.599999999999998]
[null,"07:15:00",{"$f":"IF(OFFSET('Raw Data'!H33,Input_Details!$B$29,0)=\"\", \"-\", OFFSET('Raw Data'!H33,Input_Details!$B$29,0))","v":9.1999999999999993},{"$f":"IF(OFFSET('Raw Data'!I33,Input_Details!$B$29,0)=\"\", \"-\", OFFSET('Raw Data'!I33,Input_Details!$B$29,0))","v":2.6},{"$f":"IF(OFFSET('Raw Data'!J33,Input_Details!$B$29,0)=\"\", \"-\", OFFSET('Raw Data'!J33,Input_Details!$B$29,0))","v":0},{"$f":"IF(OFFSET('Raw Data'!K33,Input_Details!$B$29,0)=\"\", \"-\", OFFSET('Raw Data'!K33,Input_Details!$B$29,0))","v":0},{"$f":"IF(OFFSET('Raw Data'!L33,Input_Details!$B$29,0)=\"\", \"-\", OFFSET('Raw Data'!L33,Input_Details!$B$29,0))","v":0},{"$f":"IF(OFFSET('Raw Data'!M33,Input_Details!$B$29,0)=\"\", \"-\", OFFSET('Raw Data'!M33,Input_Details!$B$29,0))","v":0.6},{"$f":"IF(OFFSET('Raw Data'!N33,Input_Details!$B$29,0)=\"\", \"-\", OFFSET('Raw Data'!N33,Input_Details!$B$29,0))","v":0},{"$f":"IF(OFFSET('Raw Data'!O33,Input_Details!$B$29,0)=\"\", \"-\", OFFSET('Raw Data'!O33,Input_Details!$B$29,0))","v":0},{"$f":"IF(OFFSET('Raw Data'!P33,Input_Details!$B$29,0)=\"\", \"-\", OFFSET('Raw Data'!P33,Input_Details!$B$29,0))","v":0},{"$f":"IF(OFFSET('Raw Data'!Q33,Input_Details!$B$29,0)=\"\", \"-\", OFFSET('Raw Data'!Q33,Input_Details!$B$29,0))","v":0},{"$f":"IF(OFFSET('Raw Data'!R33,Input_Details!$B$29,0)=\"\", \"-\", OFFSET('Raw Data'!R33,Input_Details!$B$29,0))","v":0},{"$f":"IF(OFFSET('Raw Data'!S33,Input_Details!$B$29,0)=\"\", \"-\", OFFSET('Raw Data'!S33,Input_Details!$B$29,0))","v":0},12.399999999999999,null,{"$f":"IF(OFFSET('Raw Data'!AU33,Input_Details!$B$29,0)=\"\", \"-\", OFFSET('Raw Data'!AU33,Input_Details!$B$29,0))","v":0.2},{"$f":"IF(OFFSET('Raw Data'!AV33,Input_Details!$B$29,0)=\"\", \"-\", OFFSET('Raw Data'!AV33,Input_Details!$B$29,0))","v":1.8},{"$f":"IF(OFFSET('Raw Data'!AW33,Input_Details!$B$29,0)=\"\", \"-\", OFFSET('Raw Data'!AW33,Input_Details!$B$29,0))","v":0},{"$f":"IF(OFFSET('Raw Data'!AX33,Input_Details!$B$29,0)=\"\", \"-\", OFFSET('Raw Data'!AX33,Input_Details!$B$29,0))","v":0.4},{"$f":"IF(OFFSET('Raw Data'!AY33,Input_Details!$B$29,0)=\"\", \"-\", OFFSET('Raw Data'!AY33,Input_Details!$B$29,0))","v":0},{"$f":"IF(OFFSET('Raw Data'!AZ33,Input_Details!$B$29,0)=\"\", \"-\", OFFSET('Raw Data'!AZ33,Input_Details!$B$29,0))","v":0},{"$f":"IF(OFFSET('Raw Data'!BA33,Input_Details!$B$29,0)=\"\", \"-\", OFFSET('Raw Data'!BA33,Input_Details!$B$29,0))","v":0},{"$f":"IF(OFFSET('Raw Data'!BB33,Input_Details!$B$29,0)=\"\", \"-\", OFFSET('Raw Data'!BB33,Input_Details!$B$29,0))","v":0},{"$f":"IF(OFFSET('Raw Data'!BC33,Input_Details!$B$29,0)=\"\", \"-\", OFFSET('Raw Data'!BC33,Input_Details!$B$29,0))","v":0},{"$f":"IF(OFFSET('Raw Data'!BD33,Input_Details!$B$29,0)=\"\", \"-\", OFFSET('Raw Data'!BD33,Input_Details!$B$29,0))","v":0},{"$f":"IF(OFFSET('Raw Data'!BE33,Input_Details!$B$29,0)=\"\", \"-\", OFFSET('Raw Data'!BE33,Input_Details!$B$29,0))","v":0},{"$f":"IF(OFFSET('Raw Data'!BF33,Input_Details!$B$29,0)=\"\", \"-\", OFFSET('Raw Data'!BF33,Input_Details!$B$29,0))","v":0},2.4,null,9.3999999999999986,4.4000000000000004,0,0.4,0,0.6,0,0,0,0,0,0,14.799999999999999]
[null,"07:30:00",{"$f":"IF(OFFSET('Raw Data'!H34,Input_Details!$B$29,0)=\"\", \"-\", OFFSET('Raw Data'!H34,Input_Details!$B$29,0))","v":13.8},{"$f":"IF(OFFSET('Raw Data'!I34,Input_Details!$B$29,0)=\"\", \"-\", OFFSET('Raw Data'!I34,Input_Details!$B$29,0))","v":3.2},{"$f":"IF(OFFSET('Raw Data'!J34,Input_Details!$B$29,0)=\"\", \"-\", OFFSET('Raw Data'!J34,Input_Details!$B$29,0))","v":0},{"$f":"IF(OFFSET('Raw Data'!K34,Input_Details!$B$29,0)=\"\", \"-\", OFFSET('Raw Data'!K34,Input_Details!$B$29,0))","v":0},{"$f":"IF(OFFSET('Raw Data'!L34,Input_Details!$B$29,0)=\"\", \"-\", OFFSET('Raw Data'!L34,Input_Details!$B$29,0))","v":0},{"$f":"IF(OFFSET('Raw Data'!M34,Input_Details!$B$29,0)=\"\", \"-\", OFFSET('Raw Data'!M34,Input_Details!$B$29,0))","v":1.4},{"$f":"IF(OFFSET('Raw Data'!N34,Input_Details!$B$29,0)=\"\", \"-\", OFFSET('Raw Data'!N34,Input_Details!$B$29,0))","v":0},{"$f":"IF(OFFSET('Raw Data'!O34,Input_Details!$B$29,0)=\"\", \"-\", OFFSET('Raw Data'!O34,Input_Details!$B$29,0))","v":0},{"$f":"IF(OFFSET('Raw Data'!P34,Input_Details!$B$29,0)=\"\", \"-\", OFFSET('Raw Data'!P34,Input_Details!$B$29,0))","v":0},{"$f":"IF(OFFSET('Raw Data'!Q34,Input_Details!$B$29,0)=\"\", \"-\", OFFSET('Raw Data'!Q34,Input_Details!$B$29,0))","v":0},{"$f":"IF(OFFSET('Raw Data'!R34,Input_Details!$B$29,0)=\"\", \"-\", OFFSET('Raw Data'!R34,Input_Details!$B$29,0))","v":0},{"$f":"IF(OFFSET('Raw Data'!S34,Input_Details!$B$29,0)=\"\", \"-\", OFFSET('Raw Data'!S34,Input_Details!$B$29,0))","v":0},18.399999999999999,null,{"$f":"IF(OFFSET('Raw Data'!AU34,Input_Details!$B$29,0)=\"\", \"-\", OFFSET('Raw Data'!AU34,Input_Details!$B$29,0))","v":0.6},{"$f":"IF(OFFSET('Raw Data'!AV34,Input_Details!$B$29,0)=\"\", \"-\", OFFSET('Raw Data'!AV34,Input_Details!$B$29,0))","v":2},{"$f":"IF(OFFSET('Raw Data'!AW34,Input_Details!$B$29,0)=\"\", \"-\", OFFSET('Raw Data'!AW34,Input_Details!$B$29,0))","v":0},{"$f":"IF(OFFSET('Raw Data'!AX34,Input_Details!$B$29,0)=\"\", \"-\", OFFSET('Raw Data'!AX34,Input_Details!$B$29,0))","v":0},{"$f":"IF(OFFSET('Raw Data'!AY34,Input_Details!$B$29,0)=\"\", \"-\", OFFSET('Raw Data'!AY34,Input_Details!$B$29,0))","v":0},{"$f":"IF(OFFSET('Raw Data'!AZ34,Input_Details!$B$29,0)=\"\", \"-\", OFFSET('Raw Data'!AZ34,Input_Details!$B$29,0))","v":0},{"$f":"IF(OFFSET('Raw Data'!BA34,Input_Details!$B$29,0)=\"\", \"-\", OFFSET('Raw Data'!BA34,Input_Details!$B$29,0))","v":0},{"$f":"IF(OFFSET('Raw Data'!BB34,Input_Details!$B$29,0)=\"\", \"-\", OFFSET('Raw Data'!BB34,Input_Details!$B$29,0))","v":0},{"$f":"IF(OFFSET('Raw Data'!BC34,Input_Details!$B$29,0)=\"\", \"-\", OFFSET('Raw Data'!BC34,Input_Details!$B$29,0))","v":0},{"$f":"IF(OFFSET('Raw Data'!BD34,Input_Details!$B$29,0)=\"\", \"-\", OFFSET('Raw Data'!BD34,Input_Details!$B$29,0))","v":0},{"$f":"IF(OFFSET('Raw Data'!BE34,Input_Details!$B$29,0)=\"\", \"-\", OFFSET('Raw Data'!BE34,Input_Details!$B$29,0))","v":0},{"$f":"IF(OFFSET('Raw Data'!BF34,Input_Details!$B$29,0)=\"\", \"-\", OFFSET('Raw Data'!BF34,Input_Details!$B$29,0))","v":0},2.6,null,14.4,5.2,0,0,0,1.4,0,0,0,0,0,0,21]
[null,"07:45:00",{"$f":"IF(OFFSET('Raw Data'!H35,Input_Details!$B$29,0)=\"\", \"-\", OFFSET('Raw Data'!H35,Input_Details!$B$29,0))","v":20},{"$f":"IF(OFFSET('Raw Data'!I35,Input_Details!$B$29,0)=\"\", \"-\", OFFSET('Raw Data'!I35,Input_Details!$B$29,0))","v":4},{"$f":"IF(OFFSET('Raw Data'!J35,Input_Details!$B$29,0)=\"\", \"-\", OFFSET('Raw Data'!J35,Input_Details!$B$29,0))","v":0},{"$f":"IF(OFFSET('Raw Data'!K35,Input_Details!$B$29,0)=\"\", \"-\", OFFSET('Raw Data'!K35,Input_Details!$B$29,0))","v":0.2},{"$f":"IF(OFFSET('Raw Data'!L35,Input_Details!$B$29,0)=\"\", \"-\", OFFSET('Raw Data'!L35,Input_Details!$B$29,0))","v":0.4},{"$f":"IF(OFFSET('Raw Data'!M35,Input_Details!$B$29,0)=\"\", \"-\", OFFSET('Raw Data'!M35,Input_Details!$B$29,0))","v":3},{"$f":"IF(OFFSET('Raw Data'!N35,Input_Details!$B$29,0)=\"\", \"-\", OFFSET('Raw Data'!N35,Input_Details!$B$29,0))","v":0},{"$f":"IF(OFFSET('Raw Data'!O35,Input_Details!$B$29,0)=\"\", \"-\", OFFSET('Raw Data'!O35,Input_Details!$B$29,0))","v":0.2},{"$f":"IF(OFFSET('Raw Data'!P35,Input_Details!$B$29,0)=\"\", \"-\", OFFSET('Raw Data'!P35,Input_Details!$B$29,0))","v":0},{"$f":"IF(OFFSET('Raw Data'!Q35,Input_Details!$B$29,0)=\"\", \"-\", OFFSET('Raw Data'!Q35,Input_Details!$B$29,0))","v":0},{"$f":"IF(OFFSET('Raw Data'!R35,Input_Details!$B$29,0)=\"\", \"-\", OFFSET('Raw Data'!R35,Input_Details!$B$29,0))","v":0},{"$f":"IF(OFFSET('Raw Data'!S35,Input_Details!$B$29,0)=\"\", \"-\", OFFSET('Raw Data'!S35,Input_Details!$B$29,0))","v":0},27.799999999999997,null,{"$f":"IF(OFFSET('Raw Data'!AU35,Input_Details!$B$29,0)=\"\", \"-\", OFFSET('Raw Data'!AU35,Input_Details!$B$29,0))","v":1.4},{"$f":"IF(OFFSET('Raw Data'!AV35,Input_Details!$B$29,0)=\"\", \"-\", OFFSET('Raw Data'!AV35,Input_Details!$B$29,0))","v":3},{"$f":"IF(OFFSET('Raw Data'!AW35,Input_Details!$B$29,0)=\"\", \"-\", OFFSET('Raw Data'!AW35,Input_Details!$B$29,0))","v":0},{"$f":"IF(OFFSET('Raw Data'!AX35,Input_Details!$B$29,0)=\"\", \"-\", OFFSET('Raw Data'!AX35,Input_Details!$B$29,0))","v":0.6},{"$f":"IF(OFFSET('Raw Data'!AY35,Input_Details!$B$29,0)=\"\", \"-\", OFFSET('Raw Data'!AY35,Input_Details!$B$29,0))","v":0},{"$f":"IF(OFFSET('Raw Data'!AZ35,Input_Details!$B$29,0)=\"\", \"-\", OFFSET('Raw Data'!AZ35,Input_Details!$B$29,0))","v":0},{"$f":"IF(OFFSET('Raw Data'!BA35,Input_Details!$B$29,0)=\"\", \"-\", OFFSET('Raw Data'!BA35,Input_Details!$B$29,0))","v":0},{"$f":"IF(OFFSET('Raw Data'!BB35,Input_Details!$B$29,0)=\"\", \"-\", OFFSET('Raw Data'!BB35,Input_Details!$B$29,0))","v":0},{"$f":"IF(OFFSET('Raw Data'!BC35,Input_Details!$B$29,0)=\"\", \"-\", OFFSET('Raw Data'!BC35,Input_Details!$B$29,0))","v":0},{"$f":"IF(OFFSET('Raw Data'!BD35,Input_Details!$B$29,0)=\"\", \"-\", OFFSET('Raw Data'!BD35,Input_Details!$B$29,0))","v":0},{"$f":"IF(OFFSET('Raw Data'!BE35,Input_Details!$B$29,0)=\"\", \"-\", OFFSET('Raw Data'!BE35,Input_Details!$B$29,0))","v":0},{"$f":"IF(OFFSET('Raw Data'!BF35,Input_Details!$B$29,0)=\"\", \"-\", OFFSET('Raw Data'!BF35,Input_Details!$B$29,0))","v":0},5,null,21.4,7,0,0.8,0.4,3,0,0.2,0,0,0,0,32.799999999999997]
[null,"08:00:00",{"$f":"IF(OFFSET('Raw Data'!H36,Input_Details!$B$29,0)=\"\", \"-\", OFFSET('Raw Data'!H36,Input_Details!$B$29,0))","v":21.2},{"$f":"IF(OFFSET('Raw Data'!I36,Input_Details!$B$29,0)=\"\", \"-\", OFFSET('Raw Data'!I36,Input_Details!$B$29,0))","v":3.8},{"$f":"IF(OFFSET('Raw Data'!J36,Input_Details!$B$29,0)=\"\", \"-\", OFFSET('Raw Data'!J36,Input_Details!$B$29,0))","v":0},{"$f":"IF(OFFSET('Raw Data'!K36,Input_Details!$B$29,0)=\"\", \"-\", OFFSET('Raw Data'!K36,Input_Details!$B$29,0))","v":0.8},{"$f":"IF(OFFSET('Raw Data'!L36,Input_Details!$B$29,0)=\"\", \"-\", OFFSET('Raw Data'!L36,Input_Details!$B$29,0))","v":0},{"$f":"IF(OFFSET('Raw Data'!M36,Input_Details!$B$29,0)=\"\", \"-\", OFFSET('Raw Data'!M36,Input_Details!$B$29,0))","v":3.2},{"$f":"IF(OFFSET('Raw Data'!N36,Input_Details!$B$29,0)=\"\", \"-\", OFFSET('Raw Data'!N36,Input_Details!$B$29,0))","v":0},{"$f":"IF(OFFSET('Raw Data'!O36,Input_Details!$B$29,0)=\"\", \"-\", OFFSET('Raw Data'!O36,Input_Details!$B$29,0))","v":0},{"$f":"IF(OFFSET('Raw Data'!P36,Input_Details!$B$29,0)=\"\", \"-\", OFFSET('Raw Data'!P36,Input_Details!$B$29,0))","v":0.2},{"$f":"IF(OFFSET('Raw Data'!Q36,Input_Details!$B$29,0)=\"\", \"-\", OFFSET('Raw Data'!Q36,Input_Details!$B$29,0))","v":0.2},{"$f":"IF(OFFSET('Raw Data'!R36,Input_Details!$B$29,0)=\"\", \"-\", OFFSET('Raw Data'!R36,Input_Details!$B$29,0))","v":0},{"$f":"IF(OFFSET('Raw Data'!S36,Input_Details!$B$29,0)=\"\", \"-\", OFFSET('Raw Data'!S36,Input_Details!$B$29,0))","v":0},29.4,null,{"$f":"IF(OFFSET('Raw Data'!AU36,Input_Details!$B$29,0)=\"\", \"-\", OFFSET('Raw Data'!AU36,Input_Details!$B$29,0))","v":1.2},{"$f":"IF(OFFSET('Raw Data'!AV36,Input_Details!$B$29,0)=\"\", \"-\", OFFSET('Raw Data'!AV36,Input_Details!$B$29,0))","v":3.2},{"$f":"IF(OFFSET('Raw Data'!AW36,Input_Details!$B$29,0)=\"\", \"-\", OFFSET('Raw Data'!AW36,Input_Details!$B$29,0))","v":0},{"$f":"IF(OFFSET('Raw Data'!AX36,Input_Details!$B$29,0)=\"\", \"-\", OFFSET('Raw Data'!AX36,Input_Details!$B$29,0))","v":0.4},{"$f":"IF(OFFSET('Raw Data'!AY36,Input_Details!$B$29,0)=\"\", \"-\", OFFSET('Raw Data'!AY36,Input_Details!$B$29,0))","v":0},{"$f":"IF(OFFSET('Raw Data'!AZ36,Input_Details!$B$29,0)=\"\", \"-\", OFFSET('Raw Data'!AZ36,Input_Details!$B$29,0))","v":0},{"$f":"IF(OFFSET('Raw Data'!BA36,Input_Details!$B$29,0)=\"\", \"-\", OFFSET('Raw Data'!BA36,Input_Details!$B$29,0))","v":0},{"$f":"IF(OFFSET('Raw Data'!BB36,Input_Details!$B$29,0)=\"\", \"-\", OFFSET('Raw Data'!BB36,Input_Details!$B$29,0))","v":0},{"$f":"IF(OFFSET('Raw Data'!BC36,Input_Details!$B$29,0)=\"\", \"-\", OFFSET('Raw Data'!BC36,Input_Details!$B$29,0))","v":0},{"$f":"IF(OFFSET('Raw Data'!BD36,Input_Details!$B$29,0)=\"\", \"-\", OFFSET('Raw Data'!BD36,Input_Details!$B$29,0))","v":0},{"$f":"IF(OFFSET('Raw Data'!BE36,Input_Details!$B$29,0)=\"\", \"-\", OFFSET('Raw Data'!BE36,Input_Details!$B$29,0))","v":0},{"$f":"IF(OFFSET('Raw Data'!BF36,Input_Details!$B$29,0)=\"\", \"-\", OFFSET('Raw Data'!BF36,Input_Details!$B$29,0))","v":0},4.8000000000000007,null,22.4,7,0,1.2000000000000002,0,3.2,0,0,0.2,0.2,0,0,34.200000000000003]
[null,"08:15:00",{"$f":"IF(OFFSET('Raw Data'!H37,Input_Details!$B$29,0)=\"\", \"-\", OFFSET('Raw Data'!H37,Input_Details!$B$29,0))","v":27},{"$f":"IF(OFFSET('Raw Data'!I37,Input_Details!$B$29,0)=\"\", \"-\", OFFSET('Raw Data'!I37,Input_Details!$B$29,0))","v":6.4},{"$f":"IF(OFFSET('Raw Data'!J37,Input_Details!$B$29,0)=\"\", \"-\", OFFSET('Raw Data'!J37,Input_Details!$B$29,0))","v":0},{"$f":"IF(OFFSET('Raw Data'!K37,Input_Details!$B$29,0)=\"\", \"-\", OFFSET('Raw Data'!K37,Input_Details!$B$29,0))","v":2.6},{"$f":"IF(OFFSET('Raw Data'!L37,Input_Details!$B$29,0)=\"\", \"-\", OFFSET('Raw Data'!L37,Input_Details!$B$29,0))","v":0.2},{"$f":"IF(OFFSET('Raw Data'!M37,Input_Details!$B$29,0)=\"\", \"-\", OFFSET('Raw Data'!M37,Input_Details!$B$29,0))","v":4.5999999999999996},{"$f":"IF(OFFSET('Raw Data'!N37,Input_Details!$B$29,0)=\"\", \"-\", OFFSET('Raw Data'!N37,Input_Details!$B$29,0))","v":0},{"$f":"IF(OFFSET('Raw Data'!O37,Input_Details!$B$29,0)=\"\", \"-\", OFFSET('Raw Data'!O37,Input_Details!$B$29,0))","v":0},{"$f":"IF(OFFSET('Raw Data'!P37,Input_Details!$B$29,0)=\"\", \"-\", OFFSET('Raw Data'!P37,Input_Details!$B$29,0))","v":0},{"$f":"IF(OFFSET('Raw Data'!Q37,Input_Details!$B$29,0)=\"\", \"-\", OFFSET('Raw Data'!Q37,Input_Details!$B$29,0))","v":0.6},{"$f":"IF(OFFSET('Raw Data'!R37,Input_Details!$B$29,0)=\"\", \"-\", OFFSET('Raw Data'!R37,Input_Details!$B$29,0))","v":0.4},{"$f":"IF(OFFSET('Raw Data'!S37,Input_Details!$B$29,0)=\"\", \"-\", OFFSET('Raw Data'!S37,Input_Details!$B$29,0))","v":0},41.800000000000004,null,{"$f":"IF(OFFSET('Raw Data'!AU37,Input_Details!$B$29,0)=\"\", \"-\", OFFSET('Raw Data'!AU37,Input_Details!$B$29,0))","v":0.4},{"$f":"IF(OFFSET('Raw Data'!AV37,Input_Details!$B$29,0)=\"\", \"-\", OFFSET('Raw Data'!AV37,Input_Details!$B$29,0))","v":2.4},{"$f":"IF(OFFSET('Raw Data'!AW37,Input_Details!$B$29,0)=\"\", \"-\", OFFSET('Raw Data'!AW37,Input_Details!$B$29,0))","v":0},{"$f":"IF(OFFSET('Raw Data'!AX37,Input_Details!$B$29,0)=\"\", \"-\", OFFSET('Raw Data'!AX37,Input_Details!$B$29,0))","v":1},{"$f":"IF(OFFSET('Raw Data'!AY37,Input_Details!$B$29,0)=\"\", \"-\", OFFSET('Raw Data'!AY37,Input_Details!$B$29,0))","v":0},{"$f":"IF(OFFSET('Raw Data'!AZ37,Input_Details!$B$29,0)=\"\", \"-\", OFFSET('Raw Data'!AZ37,Input_Details!$B$29,0))","v":0},{"$f":"IF(OFFSET('Raw Data'!BA37,Input_Details!$B$29,0)=\"\", \"-\", OFFSET('Raw Data'!BA37,Input_Details!$B$29,0))","v":0},{"$f":"IF(OFFSET('Raw Data'!BB37,Input_Details!$B$29,0)=\"\", \"-\", OFFSET('Raw Data'!BB37,Input_Details!$B$29,0))","v":0},{"$f":"IF(OFFSET('Raw Data'!BC37,Input_Details!$B$29,0)=\"\", \"-\", OFFSET('Raw Data'!BC37,Input_Details!$B$29,0))","v":0},{"$f":"IF(OFFSET('Raw Data'!BD37,Input_Details!$B$29,0)=\"\", \"-\", OFFSET('Raw Data'!BD37,Input_Details!$B$29,0))","v":0},{"$f":"IF(OFFSET('Raw Data'!BE37,Input_Details!$B$29,0)=\"\", \"-\", OFFSET('Raw Data'!BE37,Input_Details!$B$29,0))","v":0},{"$f":"IF(OFFSET('Raw Data'!BF37,Input_Details!$B$29,0)=\"\", \"-\", OFFSET('Raw Data'!BF37,Input_Details!$B$29,0))","v":0},3.8,null,27.4,8.8000000000000007,0,3.6,0.2,4.5999999999999996,0,0,0,0.6,0.4,0,45.600000000000009]
[null,"08:30:00",{"$f":"IF(OFFSET('Raw Data'!H38,Input_Details!$B$29,0)=\"\", \"-\", OFFSET('Raw Data'!H38,Input_Details!$B$29,0))","v":26.2},{"$f":"IF(OFFSET('Raw Data'!I38,Input_Details!$B$29,0)=\"\", \"-\", OFFSET('Raw Data'!I38,Input_Details!$B$29,0))","v":8.1999999999999993},{"$f":"IF(OFFSET('Raw Data'!J38,Input_Details!$B$29,0)=\"\", \"-\", OFFSET('Raw Data'!J38,Input_Details!$B$29,0))","v":0},{"$f":"IF(OFFSET('Raw Data'!K38,Input_Details!$B$29,0)=\"\", \"-\", OFFSET('Raw Data'!K38,Input_Details!$B$29,0))","v":0.4},{"$f":"IF(OFFSET('Raw Data'!L38,Input_Details!$B$29,0)=\"\", \"-\", OFFSET('Raw Data'!L38,Input_Details!$B$29,0))","v":0},{"$f":"IF(OFFSET('Raw Data'!M38,Input_Details!$B$29,0)=\"\", \"-\", OFFSET('Raw Data'!M38,Input_Details!$B$29,0))","v":5.4},{"$f":"IF(OFFSET('Raw Data'!N38,Input_Details!$B$29,0)=\"\", \"-\", OFFSET('Raw Data'!N38,Input_Details!$B$29,0))","v":0},{"$f":"IF(OFFSET('Raw Data'!O38,Input_Details!$B$29,0)=\"\", \"-\", OFFSET('Raw Data'!O38,Input_Details!$B$29,0))","v":0},{"$f":"IF(OFFSET('Raw Data'!P38,Input_Details!$B$29,0)=\"\", \"-\", OFFSET('Raw Data'!P38,Input_Details!$B$29,0))","v":0.2},{"$f":"IF(OFFSET('Raw Data'!Q38,Input_Details!$B$29,0)=\"\", \"-\", OFFSET('Raw Data'!Q38,Input_Details!$B$29,0))","v":1.8},{"$f":"IF(OFFSET('Raw Data'!R38,Input_Details!$B$29,0)=\"\", \"-\", OFFSET('Raw Data'!R38,Input_Details!$B$29,0))","v":0.4},{"$f":"IF(OFFSET('Raw Data'!S38,Input_Details!$B$29,0)=\"\", \"-\", OFFSET('Raw Data'!S38,Input_Details!$B$29,0))","v":0.4},42.999999999999993,null,{"$f":"IF(OFFSET('Raw Data'!AU38,Input_Details!$B$29,0)=\"\", \"-\", OFFSET('Raw Data'!AU38,Input_Details!$B$29,0))","v":0.6},{"$f":"IF(OFFSET('Raw Data'!AV38,Input_Details!$B$29,0)=\"\", \"-\", OFFSET('Raw Data'!AV38,Input_Details!$B$29,0))","v":4.2},{"$f":"IF(OFFSET('Raw Data'!AW38,Input_Details!$B$29,0)=\"\", \"-\", OFFSET('Raw Data'!AW38,Input_Details!$B$29,0))","v":0},{"$f":"IF(OFFSET('Raw Data'!AX38,Input_Details!$B$29,0)=\"\", \"-\", OFFSET('Raw Data'!AX38,Input_Details!$B$29,0))","v":0.8},{"$f":"IF(OFFSET('Raw Data'!AY38,Input_Details!$B$29,0)=\"\", \"-\", OFFSET('Raw Data'!AY38,Input_Details!$B$29,0))","v":0},{"$f":"IF(OFFSET('Raw Data'!AZ38,Input_Details!$B$29,0)=\"\", \"-\", OFFSET('Raw Data'!AZ38,Input_Details!$B$29,0))","v":0},{"$f":"IF(OFFSET('Raw Data'!BA38,Input_Details!$B$29,0)=\"\", \"-\", OFFSET('Raw Data'!BA38,Input_Details!$B$29,0))","v":0},{"$f":"IF(OFFSET('Raw Data'!BB38,Input_Details!$B$29,0)=\"\", \"-\", OFFSET('Raw Data'!BB38,Input_Details!$B$29,0))","v":0},{"$f":"IF(OFFSET('Raw Data'!BC38,Input_Details!$B$29,0)=\"\", \"-\", OFFSET('Raw Data'!BC38,Input_Details!$B$29,0))","v":0},{"$f":"IF(OFFSET('Raw Data'!BD38,Input_Details!$B$29,0)=\"\", \"-\", OFFSET('Raw Data'!BD38,Input_Details!$B$29,0))","v":0},{"$f":"IF(OFFSET('Raw Data'!BE38,Input_Details!$B$29,0)=\"\", \"-\", OFFSET('Raw Data'!BE38,Input_Details!$B$29,0))","v":0},{"$f":"IF(OFFSET('Raw Data'!BF38,Input_Details!$B$29,0)=\"\", \"-\", OFFSET('Raw Data'!BF38,Input_Details!$B$29,0))","v":0},5.6,null,26.8,12.399999999999999,0,1.2000000000000002,0,5.4,0,0,0.2,1.8,0.4,0.4,48.6]
[null,"08:45:00",{"$f":"IF(OFFSET('Raw Data'!H39,Input_Details!$B$29,0)=\"\", \"-\", OFFSET('Raw Data'!H39,Input_Details!$B$29,0))","v":29},{"$f":"IF(OFFSET('Raw Data'!I39,Input_Details!$B$29,0)=\"\", \"-\", OFFSET('Raw Data'!I39,Input_Details!$B$29,0))","v":8.6},{"$f":"IF(OFFSET('Raw Data'!J39,Input_Details!$B$29,0)=\"\", \"-\", OFFSET('Raw Data'!J39,Input_Details!$B$29,0))","v":0},{"$f":"IF(OFFSET('Raw Data'!K39,Input_Details!$B$29,0)=\"\", \"-\", OFFSET('Raw Data'!K39,Input_Details!$B$29,0))","v":0.6},{"$f":"IF(OFFSET('Raw Data'!L39,Input_Details!$B$29,0)=\"\", \"-\", OFFSET('Raw Data'!L39,Input_Details!$B$29,0))","v":0.6},{"$f":"IF(OFFSET('Raw Data'!M39,Input_Details!$B$29,0)=\"\", \"-\", OFFSET('Raw Data'!M39,Input_Details!$B$29,0))","v":2.6},{"$f":"IF(OFFSET('Raw Data'!N39,Input_Details!$B$29,0)=\"\", \"-\", OFFSET('Raw Data'!N39,Input_Details!$B$29,0))","v":0},{"$f":"IF(OFFSET('Raw Data'!O39,Input_Details!$B$29,0)=\"\", \"-\", OFFSET('Raw Data'!O39,Input_Details!$B$29,0))","v":0},{"$f":"IF(OFFSET('Raw Data'!P39,Input_Details!$B$29,0)=\"\", \"-\", OFFSET('Raw Data'!P39,Input_Details!$B$29,0))","v":0},{"$f":"IF(OFFSET('Raw Data'!Q39,Input_Details!$B$29,0)=\"\", \"-\", OFFSET('Raw Data'!Q39,Input_Details!$B$29,0))","v":1.6},{"$f":"IF(OFFSET('Raw Data'!R39,Input_Details!$B$29,0)=\"\", \"-\", OFFSET('Raw Data'!R39,Input_Details!$B$29,0))","v":0.4},{"$f":"IF(OFFSET('Raw Data'!S39,Input_Details!$B$29,0)=\"\", \"-\", OFFSET('Raw Data'!S39,Input_Details!$B$29,0))","v":0.6},44.000000000000007,null,{"$f":"IF(OFFSET('Raw Data'!AU39,Input_Details!$B$29,0)=\"\", \"-\", OFFSET('Raw Data'!AU39,Input_Details!$B$29,0))","v":0.6},{"$f":"IF(OFFSET('Raw Data'!AV39,Input_Details!$B$29,0)=\"\", \"-\", OFFSET('Raw Data'!AV39,Input_Details!$B$29,0))","v":5.4},{"$f":"IF(OFFSET('Raw Data'!AW39,Input_Details!$B$29,0)=\"\", \"-\", OFFSET('Raw Data'!AW39,Input_Details!$B$29,0))","v":0},{"$f":"IF(OFFSET('Raw Data'!AX39,Input_Details!$B$29,0)=\"\", \"-\", OFFSET('Raw Data'!AX39,Input_Details!$B$29,0))","v":0},{"$f":"IF(OFFSET('Raw Data'!AY39,Input_Details!$B$29,0)=\"\", \"-\", OFFSET('Raw Data'!AY39,Input_Details!$B$29,0))","v":0},{"$f":"IF(OFFSET('Raw Data'!AZ39,Input_Details!$B$29,0)=\"\", \"-\", OFFSET('Raw Data'!AZ39,Input_Details!$B$29,0))","v":0},{"$f":"IF(OFFSET('Raw Data'!BA39,Input_Details!$B$29,0)=\"\", \"-\", OFFSET('Raw Data'!BA39,Input_Details!$B$29,0))","v":0},{"$f":"IF(OFFSET('Raw Data'!BB39,Input_Details!$B$29,0)=\"\", \"-\", OFFSET('Raw Data'!BB39,Input_Details!$B$29,0))","v":0},{"$f":"IF(OFFSET('Raw Data'!BC39,Input_Details!$B$29,0)=\"\", \"-\", OFFSET('Raw Data'!BC39,Input_Details!$B$29,0))","v":0},{"$f":"IF(OFFSET('Raw Data'!BD39,Input_Details!$B$29,0)=\"\", \"-\", OFFSET('Raw Data'!BD39,Input_Details!$B$29,0))","v":0},{"$f":"IF(OFFSET('Raw Data'!BE39,Input_Details!$B$29,0)=\"\", \"-\", OFFSET('Raw Data'!BE39,Input_Details!$B$29,0))","v":0},{"$f":"IF(OFFSET('Raw Data'!BF39,Input_Details!$B$29,0)=\"\", \"-\", OFFSET('Raw Data'!BF39,Input_Details!$B$29,0))","v":0},6,null,29.6,14,0,0.6,0.6,2.6,0,0,0,1.6,0.4,0.6,50.000000000000007]
[null,"09:00:00",{"$f":"IF(OFFSET('Raw Data'!H40,Input_Details!$B$29,0)=\"\", \"-\", OFFSET('Raw Data'!H40,Input_Details!$B$29,0))","v":21.8},{"$f":"IF(OFFSET('Raw Data'!I40,Input_Details!$B$29,0)=\"\", \"-\", OFFSET('Raw Data'!I40,Input_Details!$B$29,0))","v":6.6},{"$f":"IF(OFFSET('Raw Data'!J40,Input_Details!$B$29,0)=\"\", \"-\", OFFSET('Raw Data'!J40,Input_Details!$B$29,0))","v":0.2},{"$f":"IF(OFFSET('Raw Data'!K40,Input_Details!$B$29,0)=\"\", \"-\", OFFSET('Raw Data'!K40,Input_Details!$B$29,0))","v":0.8},{"$f":"IF(OFFSET('Raw Data'!L40,Input_Details!$B$29,0)=\"\", \"-\", OFFSET('Raw Data'!L40,Input_Details!$B$29,0))","v":0},{"$f":"IF(OFFSET('Raw Data'!M40,Input_Details!$B$29,0)=\"\", \"-\", OFFSET('Raw Data'!M40,Input_Details!$B$29,0))","v":4.4000000000000004},{"$f":"IF(OFFSET('Raw Data'!N40,Input_Details!$B$29,0)=\"\", \"-\", OFFSET('Raw Data'!N40,Input_Details!$B$29,0))","v":0},{"$f":"IF(OFFSET('Raw Data'!O40,Input_Details!$B$29,0)=\"\", \"-\", OFFSET('Raw Data'!O40,Input_Details!$B$29,0))","v":0},{"$f":"IF(OFFSET('Raw Data'!P40,Input_Details!$B$29,0)=\"\", \"-\", OFFSET('Raw Data'!P40,Input_Details!$B$29,0))","v":0.2},{"$f":"IF(OFFSET('Raw Data'!Q40,Input_Details!$B$29,0)=\"\", \"-\", OFFSET('Raw Data'!Q40,Input_Details!$B$29,0))","v":1.4},{"$f":"IF(OFFSET('Raw Data'!R40,Input_Details!$B$29,0)=\"\", \"-\", OFFSET('Raw Data'!R40,Input_Details!$B$29,0))","v":0.2},{"$f":"IF(OFFSET('Raw Data'!S40,Input_Details!$B$29,0)=\"\", \"-\", OFFSET('Raw Data'!S40,Input_Details!$B$29,0))","v":0.4},36,null,{"$f":"IF(OFFSET('Raw Data'!AU40,Input_Details!$B$29,0)=\"\", \"-\", OFFSET('Raw Data'!AU40,Input_Details!$B$29,0))","v":1.8},{"$f":"IF(OFFSET('Raw Data'!AV40,Input_Details!$B$29,0)=\"\", \"-\", OFFSET('Raw Data'!AV40,Input_Details!$B$29,0))","v":6.4},{"$f":"IF(OFFSET('Raw Data'!AW40,Input_Details!$B$29,0)=\"\", \"-\", OFFSET('Raw Data'!AW40,Input_Details!$B$29,0))","v":0},{"$f":"IF(OFFSET('Raw Data'!AX40,Input_Details!$B$29,0)=\"\", \"-\", OFFSET('Raw Data'!AX40,Input_Details!$B$29,0))","v":0.2},{"$f":"IF(OFFSET('Raw Data'!AY40,Input_Details!$B$29,0)=\"\", \"-\", OFFSET('Raw Data'!AY40,Input_Details!$B$29,0))","v":0.2},{"$f":"IF(OFFSET('Raw Data'!AZ40,Input_Details!$B$29,0)=\"\", \"-\", OFFSET('Raw Data'!AZ40,Input_Details!$B$29,0))","v":0},{"$f":"IF(OFFSET('Raw Data'!BA40,Input_Details!$B$29,0)=\"\", \"-\", OFFSET('Raw Data'!BA40,Input_Details!$B$29,0))","v":0},{"$f":"IF(OFFSET('Raw Data'!BB40,Input_Details!$B$29,0)=\"\", \"-\", OFFSET('Raw Data'!BB40,Input_Details!$B$29,0))","v":0},{"$f":"IF(OFFSET('Raw Data'!BC40,Input_Details!$B$29,0)=\"\", \"-\", OFFSET('Raw Data'!BC40,Input_Details!$B$29,0))","v":0},{"$f":"IF(OFFSET('Raw Data'!BD40,Input_Details!$B$29,0)=\"\", \"-\", OFFSET('Raw Data'!BD40,Input_Details!$B$29,0))","v":0},{"$f":"IF(OFFSET('Raw Data'!BE40,Input_Details!$B$29,0)=\"\", \"-\", OFFSET('Raw Data'!BE40,Input_Details!$B$29,0))","v":0},{"$f":"IF(OFFSET('Raw Data'!BF40,Input_Details!$B$29,0)=\"\", \"-\", OFFSET('Raw Data'!BF40,Input_Details!$B$29,0))","v":0},8.6,null,23.6,13,0.2,1,0.2,4.4000000000000004,0,0,0.2,1.4,0.2,0.4,44.600000000000009]
[null,"09:15:00",{"$f":"IF(OFFSET('Raw Data'!H41,Input_Details!$B$29,0)=\"\", \"-\", OFFSET('Raw Data'!H41,Input_Details!$B$29,0))","v":19.600000000000001},{"$f":"IF(OFFSET('Raw Data'!I41,Input_Details!$B$29,0)=\"\", \"-\", OFFSET('Raw Data'!I41,Input_Details!$B$29,0))","v":4},{"$f":"IF(OFFSET('Raw Data'!J41,Input_Details!$B$29,0)=\"\", \"-\", OFFSET('Raw Data'!J41,Input_Details!$B$29,0))","v":0},{"$f":"IF(OFFSET('Raw Data'!K41,Input_Details!$B$29,0)=\"\", \"-\", OFFSET('Raw Data'!K41,Input_Details!$B$29,0))","v":0.2},{"$f":"IF(OFFSET('Raw Data'!L41,Input_Details!$B$29,0)=\"\", \"-\", OFFSET('Raw Data'!L41,Input_Details!$B$29,0))","v":0},{"$f":"IF(OFFSET('Raw Data'!M41,Input_Details!$B$29,0)=\"\", \"-\", OFFSET('Raw Data'!M41,Input_Details!$B$29,0))","v":3.2},{"$f":"IF(OFFSET('Raw Data'!N41,Input_Details!$B$29,0)=\"\", \"-\", OFFSET('Raw Data'!N41,Input_Details!$B$29,0))","v":0},{"$f":"IF(OFFSET('Raw Data'!O41,Input_Details!$B$29,0)=\"\", \"-\", OFFSET('Raw Data'!O41,Input_Details!$B$29,0))","v":0},{"$f":"IF(OFFSET('Raw Data'!P41,Input_Details!$B$29,0)=\"\", \"-\", OFFSET('Raw Data'!P41,Input_Details!$B$29,0))","v":0},{"$f":"IF(OFFSET('Raw Data'!Q41,Input_Details!$B$29,0)=\"\", \"-\", OFFSET('Raw Data'!Q41,Input_Details!$B$29,0))","v":0},{"$f":"IF(OFFSET('Raw Data'!R41,Input_Details!$B$29,0)=\"\", \"-\", OFFSET('Raw Data'!R41,Input_Details!$B$29,0))","v":0},{"$f":"IF(OFFSET('Raw Data'!S41,Input_Details!$B$29,0)=\"\", \"-\", OFFSET('Raw Data'!S41,Input_Details!$B$29,0))","v":0.8},27.8,null,{"$f":"IF(OFFSET('Raw Data'!AU41,Input_Details!$B$29,0)=\"\", \"-\", OFFSET('Raw Data'!AU41,Input_Details!$B$29,0))","v":1},{"$f":"IF(OFFSET('Raw Data'!AV41,Input_Details!$B$29,0)=\"\", \"-\", OFFSET('Raw Data'!AV41,Input_Details!$B$29,0))","v":3.4},{"$f":"IF(OFFSET('Raw Data'!AW41,Input_Details!$B$29,0)=\"\", \"-\", OFFSET('Raw Data'!AW41,Input_Details!$B$29,0))","v":0},{"$f":"IF(OFFSET('Raw Data'!AX41,Input_Details!$B$29,0)=\"\", \"-\", OFFSET('Raw Data'!AX41,Input_Details!$B$29,0))","v":0.4},{"$f":"IF(OFFSET('Raw Data'!AY41,Input_Details!$B$29,0)=\"\", \"-\", OFFSET('Raw Data'!AY41,Input_Details!$B$29,0))","v":0},{"$f":"IF(OFFSET('Raw Data'!AZ41,Input_Details!$B$29,0)=\"\", \"-\", OFFSET('Raw Data'!AZ41,Input_Details!$B$29,0))","v":0},{"$f":"IF(OFFSET('Raw Data'!BA41,Input_Details!$B$29,0)=\"\", \"-\", OFFSET('Raw Data'!BA41,Input_Details!$B$29,0))","v":0},{"$f":"IF(OFFSET('Raw Data'!BB41,Input_Details!$B$29,0)=\"\", \"-\", OFFSET('Raw Data'!BB41,Input_Details!$B$29,0))","v":0.2},{"$f":"IF(OFFSET('Raw Data'!BC41,Input_Details!$B$29,0)=\"\", \"-\", OFFSET('Raw Data'!BC41,Input_Details!$B$29,0))","v":0},{"$f":"IF(OFFSET('Raw Data'!BD41,Input_Details!$B$29,0)=\"\", \"-\", OFFSET('Raw Data'!BD41,Input_Details!$B$29,0))","v":0},{"$f":"IF(OFFSET('Raw Data'!BE41,Input_Details!$B$29,0)=\"\", \"-\", OFFSET('Raw Data'!BE41,Input_Details!$B$29,0))","v":0},{"$f":"IF(OFFSET('Raw Data'!BF41,Input_Details!$B$29,0)=\"\", \"-\", OFFSET('Raw Data'!BF41,Input_Details!$B$29,0))","v":0},5.0000000000000009,null,20.6,7.4,0,0.60000000000000009,0,3.2,0,0.2,0,0,0,0.8,32.799999999999997]
[null,"09:30:00",{"$f":"IF(OFFSET('Raw Data'!H42,Input_Details!$B$29,0)=\"\", \"-\", OFFSET('Raw Data'!H42,Input_Details!$B$29,0))","v":15.6},{"$f":"IF(OFFSET('Raw Data'!I42,Input_Details!$B$29,0)=\"\", \"-\", OFFSET('Raw Data'!I42,Input_Details!$B$29,0))","v":4.2},{"$f":"IF(OFFSET('Raw Data'!J42,Input_Details!$B$29,0)=\"\", \"-\", OFFSET('Raw Data'!J42,Input_Details!$B$29,0))","v":0},{"$f":"IF(OFFSET('Raw Data'!K42,Input_Details!$B$29,0)=\"\", \"-\", OFFSET('Raw Data'!K42,Input_Details!$B$29,0))","v":0.8},{"$f":"IF(OFFSET('Raw Data'!L42,Input_Details!$B$29,0)=\"\", \"-\", OFFSET('Raw Data'!L42,Input_Details!$B$29,0))","v":0.4},{"$f":"IF(OFFSET('Raw Data'!M42,Input_Details!$B$29,0)=\"\", \"-\", OFFSET('Raw Data'!M42,Input_Details!$B$29,0))","v":3},{"$f":"IF(OFFSET('Raw Data'!N42,Input_Details!$B$29,0)=\"\", \"-\", OFFSET('Raw Data'!N42,Input_Details!$B$29,0))","v":0},{"$f":"IF(OFFSET('Raw Data'!O42,Input_Details!$B$29,0)=\"\", \"-\", OFFSET('Raw Data'!O42,Input_Details!$B$29,0))","v":0},{"$f":"IF(OFFSET('Raw Data'!P42,Input_Details!$B$29,0)=\"\", \"-\", OFFSET('Raw Data'!P42,Input_Details!$B$29,0))","v":0},{"$f":"IF(OFFSET('Raw Data'!Q42,Input_Details!$B$29,0)=\"\", \"-\", OFFSET('Raw Data'!Q42,Input_Details!$B$29,0))","v":0.2},{"$f":"IF(OFFSET('Raw Data'!R42,Input_Details!$B$29,0)=\"\", \"-\", OFFSET('Raw Data'!R42,Input_Details!$B$29,0))","v":0.4},{"$f":"IF(OFFSET('Raw Data'!S42,Input_Details!$B$29,0)=\"\", \"-\", OFFSET('Raw Data'!S42,Input_Details!$B$29,0))","v":0},24.599999999999998,null,{"$f":"IF(OFFSET('Raw Data'!AU42,Input_Details!$B$29,0)=\"\", \"-\", OFFSET('Raw Data'!AU42,Input_Details!$B$29,0))","v":0.6},{"$f":"IF(OFFSET('Raw Data'!AV42,Input_Details!$B$29,0)=\"\", \"-\", OFFSET('Raw Data'!AV42,Input_Details!$B$29,0))","v":3.6},{"$f":"IF(OFFSET('Raw Data'!AW42,Input_Details!$B$29,0)=\"\", \"-\", OFFSET('Raw Data'!AW42,Input_Details!$B$29,0))","v":0},{"$f":"IF(OFFSET('Raw Data'!AX42,Input_Details!$B$29,0)=\"\", \"-\", OFFSET('Raw Data'!AX42,Input_Details!$B$29,0))","v":0.4},{"$f":"IF(OFFSET('Raw Data'!AY42,Input_Details!$B$29,0)=\"\", \"-\", OFFSET('Raw Data'!AY42,Input_Details!$B$29,0))","v":0.2},{"$f":"IF(OFFSET('Raw Data'!AZ42,Input_Details!$B$29,0)=\"\", \"-\", OFFSET('Raw Data'!AZ42,Input_Details!$B$29,0))","v":0},{"$f":"IF(OFFSET('Raw Data'!BA42,Input_Details!$B$29,0)=\"\", \"-\", OFFSET('Raw Data'!BA42,Input_Details!$B$29,0))","v":0},{"$f":"IF(OFFSET('Raw Data'!BB42,Input_Details!$B$29,0)=\"\", \"-\", OFFSET('Raw Data'!BB42,Input_Details!$B$29,0))","v":0},{"$f":"IF(OFFSET('Raw Data'!BC42,Input_Details!$B$29,0)=\"\", \"-\", OFFSET('Raw Data'!BC42,Input_Details!$B$29,0))","v":0},{"$f":"IF(OFFSET('Raw Data'!BD42,Input_Details!$B$29,0)=\"\", \"-\", OFFSET('Raw Data'!BD42,Input_Details!$B$29,0))","v":0},{"$f":"IF(OFFSET('Raw Data'!BE42,Input_Details!$B$29,0)=\"\", \"-\", OFFSET('Raw Data'!BE42,Input_Details!$B$29,0))","v":0},{"$f":"IF(OFFSET('Raw Data'!BF42,Input_Details!$B$29,0)=\"\", \"-\", OFFSET('Raw Data'!BF42,Input_Details!$B$29,0))","v":0},4.8000000000000007,null,16.2,7.8000000000000007,0,1.2000000000000002,0.60000000000000009,3,0,0,0,0.2,0.4,0,29.4]
[null,"09:45:00",{"$f":"IF(OFFSET('Raw Data'!H43,Input_Details!$B$29,0)=\"\", \"-\", OFFSET('Raw Data'!H43,Input_Details!$B$29,0))","v":12.4},{"$f":"IF(OFFSET('Raw Data'!I43,Input_Details!$B$29,0)=\"\", \"-\", OFFSET('Raw Data'!I43,Input_Details!$B$29,0))","v":4.5999999999999996},{"$f":"IF(OFFSET('Raw Data'!J43,Input_Details!$B$29,0)=\"\", \"-\", OFFSET('Raw Data'!J43,Input_Details!$B$29,0))","v":0},{"$f":"IF(OFFSET('Raw Data'!K43,Input_Details!$B$29,0)=\"\", \"-\", OFFSET('Raw Data'!K43,Input_Details!$B$29,0))","v":0.2},{"$f":"IF(OFFSET('Raw Data'!L43,Input_Details!$B$29,0)=\"\", \"-\", OFFSET('Raw Data'!L43,Input_Details!$B$29,0))","v":0},{"$f":"IF(OFFSET('Raw Data'!M43,Input_Details!$B$29,0)=\"\", \"-\", OFFSET('Raw Data'!M43,Input_Details!$B$29,0))","v":0.4},{"$f":"IF(OFFSET('Raw Data'!N43,Input_Details!$B$29,0)=\"\", \"-\", OFFSET('Raw Data'!N43,Input_Details!$B$29,0))","v":0},{"$f":"IF(OFFSET('Raw Data'!O43,Input_Details!$B$29,0)=\"\", \"-\", OFFSET('Raw Data'!O43,Input_Details!$B$29,0))","v":0},{"$f":"IF(OFFSET('Raw Data'!P43,Input_Details!$B$29,0)=\"\", \"-\", OFFSET('Raw Data'!P43,Input_Details!$B$29,0))","v":0},{"$f":"IF(OFFSET('Raw Data'!Q43,Input_Details!$B$29,0)=\"\", \"-\", OFFSET('Raw Data'!Q43,Input_Details!$B$29,0))","v":0},{"$f":"IF(OFFSET('Raw Data'!R43,Input_Details!$B$29,0)=\"\", \"-\", OFFSET('Raw Data'!R43,Input_Details!$B$29,0))","v":0},{"$f":"IF(OFFSET('Raw Data'!S43,Input_Details!$B$29,0)=\"\", \"-\", OFFSET('Raw Data'!S43,Input_Details!$B$29,0))","v":0},17.599999999999998,null,{"$f":"IF(OFFSET('Raw Data'!AU43,Input_Details!$B$29,0)=\"\", \"-\", OFFSET('Raw Data'!AU43,Input_Details!$B$29,0))","v":0.6},{"$f":"IF(OFFSET('Raw Data'!AV43,Input_Details!$B$29,0)=\"\", \"-\", OFFSET('Raw Data'!AV43,Input_Details!$B$29,0))","v":2.6},{"$f":"IF(OFFSET('Raw Data'!AW43,Input_Details!$B$29,0)=\"\", \"-\", OFFSET('Raw Data'!AW43,Input_Details!$B$29,0))","v":0},{"$f":"IF(OFFSET('Raw Data'!AX43,Input_Details!$B$29,0)=\"\", \"-\", OFFSET('Raw Data'!AX43,Input_Details!$B$29,0))","v":0.4},{"$f":"IF(OFFSET('Raw Data'!AY43,Input_Details!$B$29,0)=\"\", \"-\", OFFSET('Raw Data'!AY43,Input_Details!$B$29,0))","v":0},{"$f":"IF(OFFSET('Raw Data'!AZ43,Input_Details!$B$29,0)=\"\", \"-\", OFFSET('Raw Data'!AZ43,Input_Details!$B$29,0))","v":0},{"$f":"IF(OFFSET('Raw Data'!BA43,Input_Details!$B$29,0)=\"\", \"-\", OFFSET('Raw Data'!BA43,Input_Details!$B$29,0))","v":0},{"$f":"IF(OFFSET('Raw Data'!BB43,Input_Details!$B$29,0)=\"\", \"-\", OFFSET('Raw Data'!BB43,Input_Details!$B$29,0))","v":0},{"$f":"IF(OFFSET('Raw Data'!BC43,Input_Details!$B$29,0)=\"\", \"-\", OFFSET('Raw Data'!BC43,Input_Details!$B$29,0))","v":0},{"$f":"IF(OFFSET('Raw Data'!BD43,Input_Details!$B$29,0)=\"\", \"-\", OFFSET('Raw Data'!BD43,Input_Details!$B$29,0))","v":0},{"$f":"IF(OFFSET('Raw Data'!BE43,Input_Details!$B$29,0)=\"\", \"-\", OFFSET('Raw Data'!BE43,Input_Details!$B$29,0))","v":0},{"$f":"IF(OFFSET('Raw Data'!BF43,Input_Details!$B$29,0)=\"\", \"-\", OFFSET('Raw Data'!BF43,Input_Details!$B$29,0))","v":0},3.6,null,13,7.1999999999999993,0,0.60000000000000009,0,0.4,0,0,0,0,0,0,21.2]
[null,"10:00:00",{"$f":"IF(OFFSET('Raw Data'!H44,Input_Details!$B$29,0)=\"\", \"-\", OFFSET('Raw Data'!H44,Input_Details!$B$29,0))","v":8.1999999999999993},{"$f":"IF(OFFSET('Raw Data'!I44,Input_Details!$B$29,0)=\"\", \"-\", OFFSET('Raw Data'!I44,Input_Details!$B$29,0))","v":3.6},{"$f":"IF(OFFSET('Raw Data'!J44,Input_Details!$B$29,0)=\"\", \"-\", OFFSET('Raw Data'!J44,Input_Details!$B$29,0))","v":0},{"$f":"IF(OFFSET('Raw Data'!K44,Input_Details!$B$29,0)=\"\", \"-\", OFFSET('Raw Data'!K44,Input_Details!$B$29,0))","v":0.2},{"$f":"IF(OFFSET('Raw Data'!L44,Input_Details!$B$29,0)=\"\", \"-\", OFFSET('Raw Data'!L44,Input_Details!$B$29,0))","v":0},{"$f":"IF(OFFSET('Raw Data'!M44,Input_Details!$B$29,0)=\"\", \"-\", OFFSET('Raw Data'!M44,Input_Details!$B$29,0))","v":0.4},{"$f":"IF(OFFSET('Raw Data'!N44,Input_Details!$B$29,0)=\"\", \"-\", OFFSET('Raw Data'!N44,Input_Details!$B$29,0))","v":0},{"$f":"IF(OFFSET('Raw Data'!O44,Input_Details!$B$29,0)=\"\", \"-\", OFFSET('Raw Data'!O44,Input_Details!$B$29,0))","v":0},{"$f":"IF(OFFSET('Raw Data'!P44,Input_Details!$B$29,0)=\"\", \"-\", OFFSET('Raw Data'!P44,Input_Details!$B$29,0))","v":0},{"$f":"IF(OFFSET('Raw Data'!Q44,Input_Details!$B$29,0)=\"\", \"-\", OFFSET('Raw Data'!Q44,Input_Details!$B$29,0))","v":0},{"$f":"IF(OFFSET('Raw Data'!R44,Input_Details!$B$29,0)=\"\", \"-\", OFFSET('Raw Data'!R44,Input_Details!$B$29,0))","v":0},{"$f":"IF(OFFSET('Raw Data'!S44,Input_Details!$B$29,0)=\"\", \"-\", OFFSET('Raw Data'!S44,Input_Details!$B$29,0))","v":0},12.399999999999999,null,{"$f":"IF(OFFSET('Raw Data'!AU44,Input_Details!$B$29,0)=\"\", \"-\", OFFSET('Raw Data'!AU44,Input_Details!$B$29,0))","v":0.8},{"$f":"IF(OFFSET('Raw Data'!AV44,Input_Details!$B$29,0)=\"\", \"-\", OFFSET('Raw Data'!AV44,Input_Details!$B$29,0))","v":3.4},{"$f":"IF(OFFSET('Raw Data'!AW44,Input_Details!$B$29,0)=\"\", \"-\", OFFSET('Raw Data'!AW44,Input_Details!$B$29,0))","v":0},{"$f":"IF(OFFSET('Raw Data'!AX44,Input_Details!$B$29,0)=\"\", \"-\", OFFSET('Raw Data'!AX44,Input_Details!$B$29,0))","v":0.4},{"$f":"IF(OFFSET('Raw Data'!AY44,Input_Details!$B$29,0)=\"\", \"-\", OFFSET('Raw Data'!AY44,Input_Details!$B$29,0))","v":0},{"$f":"IF(OFFSET('Raw Data'!AZ44,Input_Details!$B$29,0)=\"\", \"-\", OFFSET('Raw Data'!AZ44,Input_Details!$B$29,0))","v":0},{"$f":"IF(OFFSET('Raw Data'!BA44,Input_Details!$B$29,0)=\"\", \"-\", OFFSET('Raw Data'!BA44,Input_Details!$B$29,0))","v":0},{"$f":"IF(OFFSET('Raw Data'!BB44,Input_Details!$B$29,0)=\"\", \"-\", OFFSET('Raw Data'!BB44,Input_Details!$B$29,0))","v":0},{"$f":"IF(OFFSET('Raw Data'!BC44,Input_Details!$B$29,0)=\"\", \"-\", OFFSET('Raw Data'!BC44,Input_Details!$B$29,0))","v":0},{"$f":"IF(OFFSET('Raw Data'!BD44,Input_Details!$B$29,0)=\"\", \"-\", OFFSET('Raw Data'!BD44,Input_Details!$B$29,0))","v":0},{"$f":"IF(OFFSET('Raw Data'!BE44,Input_Details!$B$29,0)=\"\", \"-\", OFFSET('Raw Data'!BE44,Input_Details!$B$29,0))","v":0},{"$f":"IF(OFFSET('Raw Data'!BF44,Input_Details!$B$29,0)=\"\", \"-\", OFFSET('Raw Data'!BF44,Input_Details!$B$29,0))","v":0},4.6000000000000005,null,9,7,0,0.60000000000000009,0,0.4,0,0,0,0,0,0,17]
[null,"10:15:00",{"$f":"IF(OFFSET('Raw Data'!H45,Input_Details!$B$29,0)=\"\", \"-\", OFFSET('Raw Data'!H45,Input_Details!$B$29,0))","v":3.2},{"$f":"IF(OFFSET('Raw Data'!I45,Input_Details!$B$29,0)=\"\", \"-\", OFFSET('Raw Data'!I45,Input_Details!$B$29,0))","v":2.6},{"$f":"IF(OFFSET('Raw Data'!J45,Input_Details!$B$29,0)=\"\", \"-\", OFFSET('Raw Data'!J45,Input_Details!$B$29,0))","v":0},{"$f":"IF(OFFSET('Raw Data'!K45,Input_Details!$B$29,0)=\"\", \"-\", OFFSET('Raw Data'!K45,Input_Details!$B$29,0))","v":0.4},{"$f":"IF(OFFSET('Raw Data'!L45,Input_Details!$B$29,0)=\"\", \"-\", OFFSET('Raw Data'!L45,Input_Details!$B$29,0))","v":0},{"$f":"IF(OFFSET('Raw Data'!M45,Input_Details!$B$29,0)=\"\", \"-\", OFFSET('Raw Data'!M45,Input_Details!$B$29,0))","v":0},{"$f":"IF(OFFSET('Raw Data'!N45,Input_Details!$B$29,0)=\"\", \"-\", OFFSET('Raw Data'!N45,Input_Details!$B$29,0))","v":0},{"$f":"IF(OFFSET('Raw Data'!O45,Input_Details!$B$29,0)=\"\", \"-\", OFFSET('Raw Data'!O45,Input_Details!$B$29,0))","v":0},{"$f":"IF(OFFSET('Raw Data'!P45,Input_Details!$B$29,0)=\"\", \"-\", OFFSET('Raw Data'!P45,Input_Details!$B$29,0))","v":0},{"$f":"IF(OFFSET('Raw Data'!Q45,Input_Details!$B$29,0)=\"\", \"-\", OFFSET('Raw Data'!Q45,Input_Details!$B$29,0))","v":0},{"$f":"IF(OFFSET('Raw Data'!R45,Input_Details!$B$29,0)=\"\", \"-\", OFFSET('Raw Data'!R45,Input_Details!$B$29,0))","v":0},{"$f":"IF(OFFSET('Raw Data'!S45,Input_Details!$B$29,0)=\"\", \"-\", OFFSET('Raw Data'!S45,Input_Details!$B$29,0))","v":0},6.2000000000000011,null,{"$f":"IF(OFFSET('Raw Data'!AU45,Input_Details!$B$29,0)=\"\", \"-\", OFFSET('Raw Data'!AU45,Input_Details!$B$29,0))","v":0.8},{"$f":"IF(OFFSET('Raw Data'!AV45,Input_Details!$B$29,0)=\"\", \"-\", OFFSET('Raw Data'!AV45,Input_Details!$B$29,0))","v":5},{"$f":"IF(OFFSET('Raw Data'!AW45,Input_Details!$B$29,0)=\"\", \"-\", OFFSET('Raw Data'!AW45,Input_Details!$B$29,0))","v":0},{"$f":"IF(OFFSET('Raw Data'!AX45,Input_Details!$B$29,0)=\"\", \"-\", OFFSET('Raw Data'!AX45,Input_Details!$B$29,0))","v":0.4},{"$f":"IF(OFFSET('Raw Data'!AY45,Input_Details!$B$29,0)=\"\", \"-\", OFFSET('Raw Data'!AY45,Input_Details!$B$29,0))","v":0},{"$f":"IF(OFFSET('Raw Data'!AZ45,Input_Details!$B$29,0)=\"\", \"-\", OFFSET('Raw Data'!AZ45,Input_Details!$B$29,0))","v":0},{"$f":"IF(OFFSET('Raw Data'!BA45,Input_Details!$B$29,0)=\"\", \"-\", OFFSET('Raw Data'!BA45,Input_Details!$B$29,0))","v":0},{"$f":"IF(OFFSET('Raw Data'!BB45,Input_Details!$B$29,0)=\"\", \"-\", OFFSET('Raw Data'!BB45,Input_Details!$B$29,0))","v":0},{"$f":"IF(OFFSET('Raw Data'!BC45,Input_Details!$B$29,0)=\"\", \"-\", OFFSET('Raw Data'!BC45,Input_Details!$B$29,0))","v":0},{"$f":"IF(OFFSET('Raw Data'!BD45,Input_Details!$B$29,0)=\"\", \"-\", OFFSET('Raw Data'!BD45,Input_Details!$B$29,0))","v":0},{"$f":"IF(OFFSET('Raw Data'!BE45,Input_Details!$B$29,0)=\"\", \"-\", OFFSET('Raw Data'!BE45,Input_Details!$B$29,0))","v":0},{"$f":"IF(OFFSET('Raw Data'!BF45,Input_Details!$B$29,0)=\"\", \"-\", OFFSET('Raw Data'!BF45,Input_Details!$B$29,0))","v":0},6.2,null,4,7.6,0,0.8,0,0,0,0,0,0,0,0,12.4]
[null,"10:30:00",{"$f":"IF(OFFSET('Raw Data'!H46,Input_Details!$B$29,0)=\"\", \"-\", OFFSET('Raw Data'!H46,Input_Details!$B$29,0))","v":5.2},{"$f":"IF(OFFSET('Raw Data'!I46,Input_Details!$B$29,0)=\"\", \"-\", OFFSET('Raw Data'!I46,Input_Details!$B$29,0))","v":2.6},{"$f":"IF(OFFSET('Raw Data'!J46,Input_Details!$B$29,0)=\"\", \"-\", OFFSET('Raw Data'!J46,Input_Details!$B$29,0))","v":0},{"$f":"IF(OFFSET('Raw Data'!K46,Input_Details!$B$29,0)=\"\", \"-\", OFFSET('Raw Data'!K46,Input_Details!$B$29,0))","v":0.6},{"$f":"IF(OFFSET('Raw Data'!L46,Input_Details!$B$29,0)=\"\", \"-\", OFFSET('Raw Data'!L46,Input_Details!$B$29,0))","v":0},{"$f":"IF(OFFSET('Raw Data'!M46,Input_Details!$B$29,0)=\"\", \"-\", OFFSET('Raw Data'!M46,Input_Details!$B$29,0))","v":0},{"$f":"IF(OFFSET('Raw Data'!N46,Input_Details!$B$29,0)=\"\", \"-\", OFFSET('Raw Data'!N46,Input_Details!$B$29,0))","v":0},{"$f":"IF(OFFSET('Raw Data'!O46,Input_Details!$B$29,0)=\"\", \"-\", OFFSET('Raw Data'!O46,Input_Details!$B$29,0))","v":0},{"$f":"IF(OFFSET('Raw Data'!P46,Input_Details!$B$29,0)=\"\", \"-\", OFFSET('Raw Data'!P46,Input_Details!$B$29,0))","v":0},{"$f":"IF(OFFSET('Raw Data'!Q46,Input_Details!$B$29,0)=\"\", \"-\", OFFSET('Raw Data'!Q46,Input_Details!$B$29,0))","v":0},{"$f":"IF(OFFSET('Raw Data'!R46,Input_Details!$B$29,0)=\"\", \"-\", OFFSET('Raw Data'!R46,Input_Details!$B$29,0))","v":0},{"$f":"IF(OFFSET('Raw Data'!S46,Input_Details!$B$29,0)=\"\", \"-\", OFFSET('Raw Data'!S46,Input_Details!$B$29,0))","v":0},8.4,null,{"$f":"IF(OFFSET('Raw Data'!AU46,Input_Details!$B$29,0)=\"\", \"-\", OFFSET('Raw Data'!AU46,Input_Details!$B$29,0))","v":1},{"$f":"IF(OFFSET('Raw Data'!AV46,Input_Details!$B$29,0)=\"\", \"-\", OFFSET('Raw Data'!AV46,Input_Details!$B$29,0))","v":2},{"$f":"IF(OFFSET('Raw Data'!AW46,Input_Details!$B$29,0)=\"\", \"-\", OFFSET('Raw Data'!AW46,Input_Details!$B$29,0))","v":0},{"$f":"IF(OFFSET('Raw Data'!AX46,Input_Details!$B$29,0)=\"\", \"-\", OFFSET('Raw Data'!AX46,Input_Details!$B$29,0))","v":1},{"$f":"IF(OFFSET('Raw Data'!AY46,Input_Details!$B$29,0)=\"\", \"-\", OFFSET('Raw Data'!AY46,Input_Details!$B$29,0))","v":0},{"$f":"IF(OFFSET('Raw Data'!AZ46,Input_Details!$B$29,0)=\"\", \"-\", OFFSET('Raw Data'!AZ46,Input_Details!$B$29,0))","v":0},{"$f":"IF(OFFSET('Raw Data'!BA46,Input_Details!$B$29,0)=\"\", \"-\", OFFSET('Raw Data'!BA46,Input_Details!$B$29,0))","v":0},{"$f":"IF(OFFSET('Raw Data'!BB46,Input_Details!$B$29,0)=\"\", \"-\", OFFSET('Raw Data'!BB46,Input_Details!$B$29,0))","v":0},{"$f":"IF(OFFSET('Raw Data'!BC46,Input_Details!$B$29,0)=\"\", \"-\", OFFSET('Raw Data'!BC46,Input_Details!$B$29,0))","v":0},{"$f":"IF(OFFSET('Raw Data'!BD46,Input_Details!$B$29,0)=\"\", \"-\", OFFSET('Raw Data'!BD46,Input_Details!$B$29,0))","v":0},{"$f":"IF(OFFSET('Raw Data'!BE46,Input_Details!$B$29,0)=\"\", \"-\", OFFSET('Raw Data'!BE46,Input_Details!$B$29,0))","v":0},{"$f":"IF(OFFSET('Raw Data'!BF46,Input_Details!$B$29,0)=\"\", \"-\", OFFSET('Raw Data'!BF46,Input_Details!$B$29,0))","v":0},4,null,6.2,4.5999999999999996,0,1.6,0,0,0,0,0,0,0,0,12.4]
[null,"10:45:00",{"$f":"IF(OFFSET('Raw Data'!H47,Input_Details!$B$29,0)=\"\", \"-\", OFFSET('Raw Data'!H47,Input_Details!$B$29,0))","v":3.8},{"$f":"IF(OFFSET('Raw Data'!I47,Input_Details!$B$29,0)=\"\", \"-\", OFFSET('Raw Data'!I47,Input_Details!$B$29,0))","v":2.6},{"$f":"IF(OFFSET('Raw Data'!J47,Input_Details!$B$29,0)=\"\", \"-\", OFFSET('Raw Data'!J47,Input_Details!$B$29,0))","v":0},{"$f":"IF(OFFSET('Raw Data'!K47,Input_Details!$B$29,0)=\"\", \"-\", OFFSET('Raw Data'!K47,Input_Details!$B$29,0))","v":0.8},{"$f":"IF(OFFSET('Raw Data'!L47,Input_Details!$B$29,0)=\"\", \"-\", OFFSET('Raw Data'!L47,Input_Details!$B$29,0))","v":0},{"$f":"IF(OFFSET('Raw Data'!M47,Input_Details!$B$29,0)=\"\", \"-\", OFFSET('Raw Data'!M47,Input_Details!$B$29,0))","v":0},{"$f":"IF(OFFSET('Raw Data'!N47,Input_Details!$B$29,0)=\"\", \"-\", OFFSET('Raw Data'!N47,Input_Details!$B$29,0))","v":0},{"$f":"IF(OFFSET('Raw Data'!O47,Input_Details!$B$29,0)=\"\", \"-\", OFFSET('Raw Data'!O47,Input_Details!$B$29,0))","v":0},{"$f":"IF(OFFSET('Raw Data'!P47,Input_Details!$B$29,0)=\"\", \"-\", OFFSET('Raw Data'!P47,Input_Details!$B$29,0))","v":0},{"$f":"IF(OFFSET('Raw Data'!Q47,Input_Details!$B$29,0)=\"\", \"-\", OFFSET('Raw Data'!Q47,Input_Details!$B$29,0))","v":0},{"$f":"IF(OFFSET('Raw Data'!R47,Input_Details!$B$29,0)=\"\", \"-\", OFFSET('Raw Data'!R47,Input_Details!$B$29,0))","v":0},{"$f":"IF(OFFSET('Raw Data'!S47,Input_Details!$B$29,0)=\"\", \"-\", OFFSET('Raw Data'!S47,Input_Details!$B$29,0))","v":0},7.2,null,{"$f":"IF(OFFSET('Raw Data'!AU47,Input_Details!$B$29,0)=\"\", \"-\", OFFSET('Raw Data'!AU47,Input_Details!$B$29,0))","v":1.6},{"$f":"IF(OFFSET('Raw Data'!AV47,Input_Details!$B$29,0)=\"\", \"-\", OFFSET('Raw Data'!AV47,Input_Details!$B$29,0))","v":3.4},{"$f":"IF(OFFSET('Raw Data'!AW47,Input_Details!$B$29,0)=\"\", \"-\", OFFSET('Raw Data'!AW47,Input_Details!$B$29,0))","v":0},{"$f":"IF(OFFSET('Raw Data'!AX47,Input_Details!$B$29,0)=\"\", \"-\", OFFSET('Raw Data'!AX47,Input_Details!$B$29,0))","v":0.8},{"$f":"IF(OFFSET('Raw Data'!AY47,Input_Details!$B$29,0)=\"\", \"-\", OFFSET('Raw Data'!AY47,Input_Details!$B$29,0))","v":0},{"$f":"IF(OFFSET('Raw Data'!AZ47,Input_Details!$B$29,0)=\"\", \"-\", OFFSET('Raw Data'!AZ47,Input_Details!$B$29,0))","v":0},{"$f":"IF(OFFSET('Raw Data'!BA47,Input_Details!$B$29,0)=\"\", \"-\", OFFSET('Raw Data'!BA47,Input_Details!$B$29,0))","v":0},{"$f":"IF(OFFSET('Raw Data'!BB47,Input_Details!$B$29,0)=\"\", \"-\", OFFSET('Raw Data'!BB47,Input_Details!$B$29,0))","v":0},{"$f":"IF(OFFSET('Raw Data'!BC47,Input_Details!$B$29,0)=\"\", \"-\", OFFSET('Raw Data'!BC47,Input_Details!$B$29,0))","v":0},{"$f":"IF(OFFSET('Raw Data'!BD47,Input_Details!$B$29,0)=\"\", \"-\", OFFSET('Raw Data'!BD47,Input_Details!$B$29,0))","v":0},{"$f":"IF(OFFSET('Raw Data'!BE47,Input_Details!$B$29,0)=\"\", \"-\", OFFSET('Raw Data'!BE47,Input_Details!$B$29,0))","v":0},{"$f":"IF(OFFSET('Raw Data'!BF47,Input_Details!$B$29,0)=\"\", \"-\", OFFSET('Raw Data'!BF47,Input_Details!$B$29,0))","v":0},5.8,null,5.4,6,0,1.6,0,0,0,0,0,0,0,0,13]
[null,"11:00:00",{"$f":"IF(OFFSET('Raw Data'!H48,Input_Details!$B$29,0)=\"\", \"-\", OFFSET('Raw Data'!H48,Input_Details!$B$29,0))","v":3.2},{"$f":"IF(OFFSET('Raw Data'!I48,Input_Details!$B$29,0)=\"\", \"-\", OFFSET('Raw Data'!I48,Input_Details!$B$29,0))","v":4},{"$f":"IF(OFFSET('Raw Data'!J48,Input_Details!$B$29,0)=\"\", \"-\", OFFSET('Raw Data'!J48,Input_Details!$B$29,0))","v":0},{"$f":"IF(OFFSET('Raw Data'!K48,Input_Details!$B$29,0)=\"\", \"-\", OFFSET('Raw Data'!K48,Input_Details!$B$29,0))","v":0.8},{"$f":"IF(OFFSET('Raw Data'!L48,Input_Details!$B$29,0)=\"\", \"-\", OFFSET('Raw Data'!L48,Input_Details!$B$29,0))","v":0},{"$f":"IF(OFFSET('Raw Data'!M48,Input_Details!$B$29,0)=\"\", \"-\", OFFSET('Raw Data'!M48,Input_Details!$B$29,0))","v":0.2},{"$f":"IF(OFFSET('Raw Data'!N48,Input_Details!$B$29,0)=\"\", \"-\", OFFSET('Raw Data'!N48,Input_Details!$B$29,0))","v":0},{"$f":"IF(OFFSET('Raw Data'!O48,Input_Details!$B$29,0)=\"\", \"-\", OFFSET('Raw Data'!O48,Input_Details!$B$29,0))","v":0},{"$f":"IF(OFFSET('Raw Data'!P48,Input_Details!$B$29,0)=\"\", \"-\", OFFSET('Raw Data'!P48,Input_Details!$B$29,0))","v":0},{"$f":"IF(OFFSET('Raw Data'!Q48,Input_Details!$B$29,0)=\"\", \"-\", OFFSET('Raw Data'!Q48,Input_Details!$B$29,0))","v":0},{"$f":"IF(OFFSET('Raw Data'!R48,Input_Details!$B$29,0)=\"\", \"-\", OFFSET('Raw Data'!R48,Input_Details!$B$29,0))","v":0},{"$f":"IF(OFFSET('Raw Data'!S48,Input_Details!$B$29,0)=\"\", \"-\", OFFSET('Raw Data'!S48,Input_Details!$B$29,0))","v":0},8.1999999999999993,null,{"$f":"IF(OFFSET('Raw Data'!AU48,Input_Details!$B$29,0)=\"\", \"-\", OFFSET('Raw Data'!AU48,Input_Details!$B$29,0))","v":1},{"$f":"IF(OFFSET('Raw Data'!AV48,Input_Details!$B$29,0)=\"\", \"-\", OFFSET('Raw Data'!AV48,Input_Details!$B$29,0))","v":5},{"$f":"IF(OFFSET('Raw Data'!AW48,Input_Details!$B$29,0)=\"\", \"-\", OFFSET('Raw Data'!AW48,Input_Details!$B$29,0))","v":0},{"$f":"IF(OFFSET('Raw Data'!AX48,Input_Details!$B$29,0)=\"\", \"-\", OFFSET('Raw Data'!AX48,Input_Details!$B$29,0))","v":0.6},{"$f":"IF(OFFSET('Raw Data'!AY48,Input_Details!$B$29,0)=\"\", \"-\", OFFSET('Raw Data'!AY48,Input_Details!$B$29,0))","v":0},{"$f":"IF(OFFSET('Raw Data'!AZ48,Input_Details!$B$29,0)=\"\", \"-\", OFFSET('Raw Data'!AZ48,Input_Details!$B$29,0))","v":0},{"$f":"IF(OFFSET('Raw Data'!BA48,Input_Details!$B$29,0)=\"\", \"-\", OFFSET('Raw Data'!BA48,Input_Details!$B$29,0))","v":0},{"$f":"IF(OFFSET('Raw Data'!BB48,Input_Details!$B$29,0)=\"\", \"-\", OFFSET('Raw Data'!BB48,Input_Details!$B$29,0))","v":0},{"$f":"IF(OFFSET('Raw Data'!BC48,Input_Details!$B$29,0)=\"\", \"-\", OFFSET('Raw Data'!BC48,Input_Details!$B$29,0))","v":0},{"$f":"IF(OFFSET('Raw Data'!BD48,Input_Details!$B$29,0)=\"\", \"-\", OFFSET('Raw Data'!BD48,Input_Details!$B$29,0))","v":0},{"$f":"IF(OFFSET('Raw Data'!BE48,Input_Details!$B$29,0)=\"\", \"-\", OFFSET('Raw Data'!BE48,Input_Details!$B$29,0))","v":0},{"$f":"IF(OFFSET('Raw Data'!BF48,Input_Details!$B$29,0)=\"\", \"-\", OFFSET('Raw Data'!BF48,Input_Details!$B$29,0))","v":0},6.6,null,4.2,9,0,1.4,0,0.2,0,0,0,0,0,0,14.799999999999999]
[null,"11:15:00",{"$f":"IF(OFFSET('Raw Data'!H49,Input_Details!$B$29,0)=\"\", \"-\", OFFSET('Raw Data'!H49,Input_Details!$B$29,0))","v":2.8},{"$f":"IF(OFFSET('Raw Data'!I49,Input_Details!$B$29,0)=\"\", \"-\", OFFSET('Raw Data'!I49,Input_Details!$B$29,0))","v":2.6},{"$f":"IF(OFFSET('Raw Data'!J49,Input_Details!$B$29,0)=\"\", \"-\", OFFSET('Raw Data'!J49,Input_Details!$B$29,0))","v":0},{"$f":"IF(OFFSET('Raw Data'!K49,Input_Details!$B$29,0)=\"\", \"-\", OFFSET('Raw Data'!K49,Input_Details!$B$29,0))","v":0.6},{"$f":"IF(OFFSET('Raw Data'!L49,Input_Details!$B$29,0)=\"\", \"-\", OFFSET('Raw Data'!L49,Input_Details!$B$29,0))","v":0},{"$f":"IF(OFFSET('Raw Data'!M49,Input_Details!$B$29,0)=\"\", \"-\", OFFSET('Raw Data'!M49,Input_Details!$B$29,0))","v":0},{"$f":"IF(OFFSET('Raw Data'!N49,Input_Details!$B$29,0)=\"\", \"-\", OFFSET('Raw Data'!N49,Input_Details!$B$29,0))","v":0},{"$f":"IF(OFFSET('Raw Data'!O49,Input_Details!$B$29,0)=\"\", \"-\", OFFSET('Raw Data'!O49,Input_Details!$B$29,0))","v":0},{"$f":"IF(OFFSET('Raw Data'!P49,Input_Details!$B$29,0)=\"\", \"-\", OFFSET('Raw Data'!P49,Input_Details!$B$29,0))","v":0},{"$f":"IF(OFFSET('Raw Data'!Q49,Input_Details!$B$29,0)=\"\", \"-\", OFFSET('Raw Data'!Q49,Input_Details!$B$29,0))","v":0},{"$f":"IF(OFFSET('Raw Data'!R49,Input_Details!$B$29,0)=\"\", \"-\", OFFSET('Raw Data'!R49,Input_Details!$B$29,0))","v":0},{"$f":"IF(OFFSET('Raw Data'!S49,Input_Details!$B$29,0)=\"\", \"-\", OFFSET('Raw Data'!S49,Input_Details!$B$29,0))","v":0},6,null,{"$f":"IF(OFFSET('Raw Data'!AU49,Input_Details!$B$29,0)=\"\", \"-\", OFFSET('Raw Data'!AU49,Input_Details!$B$29,0))","v":0.6},{"$f":"IF(OFFSET('Raw Data'!AV49,Input_Details!$B$29,0)=\"\", \"-\", OFFSET('Raw Data'!AV49,Input_Details!$B$29,0))","v":2.8},{"$f":"IF(OFFSET('Raw Data'!AW49,Input_Details!$B$29,0)=\"\", \"-\", OFFSET('Raw Data'!AW49,Input_Details!$B$29,0))","v":0},{"$f":"IF(OFFSET('Raw Data'!AX49,Input_Details!$B$29,0)=\"\", \"-\", OFFSET('Raw Data'!AX49,Input_Details!$B$29,0))","v":0.6},{"$f":"IF(OFFSET('Raw Data'!AY49,Input_Details!$B$29,0)=\"\", \"-\", OFFSET('Raw Data'!AY49,Input_Details!$B$29,0))","v":0},{"$f":"IF(OFFSET('Raw Data'!AZ49,Input_Details!$B$29,0)=\"\", \"-\", OFFSET('Raw Data'!AZ49,Input_Details!$B$29,0))","v":0},{"$f":"IF(OFFSET('Raw Data'!BA49,Input_Details!$B$29,0)=\"\", \"-\", OFFSET('Raw Data'!BA49,Input_Details!$B$29,0))","v":0},{"$f":"IF(OFFSET('Raw Data'!BB49,Input_Details!$B$29,0)=\"\", \"-\", OFFSET('Raw Data'!BB49,Input_Details!$B$29,0))","v":0},{"$f":"IF(OFFSET('Raw Data'!BC49,Input_Details!$B$29,0)=\"\", \"-\", OFFSET('Raw Data'!BC49,Input_Details!$B$29,0))","v":0},{"$f":"IF(OFFSET('Raw Data'!BD49,Input_Details!$B$29,0)=\"\", \"-\", OFFSET('Raw Data'!BD49,Input_Details!$B$29,0))","v":0},{"$f":"IF(OFFSET('Raw Data'!BE49,Input_Details!$B$29,0)=\"\", \"-\", OFFSET('Raw Data'!BE49,Input_Details!$B$29,0))","v":0},{"$f":"IF(OFFSET('Raw Data'!BF49,Input_Details!$B$29,0)=\"\", \"-\", OFFSET('Raw Data'!BF49,Input_Details!$B$29,0))","v":0},4,null,3.4,5.4,0,1.2,0,0,0,0,0,0,0,0,10]
[null,"11:30:00",{"$f":"IF(OFFSET('Raw Data'!H50,Input_Details!$B$29,0)=\"\", \"-\", OFFSET('Raw Data'!H50,Input_Details!$B$29,0))","v":2.8},{"$f":"IF(OFFSET('Raw Data'!I50,Input_Details!$B$29,0)=\"\", \"-\", OFFSET('Raw Data'!I50,Input_Details!$B$29,0))","v":2.8},{"$f":"IF(OFFSET('Raw Data'!J50,Input_Details!$B$29,0)=\"\", \"-\", OFFSET('Raw Data'!J50,Input_Details!$B$29,0))","v":0},{"$f":"IF(OFFSET('Raw Data'!K50,Input_Details!$B$29,0)=\"\", \"-\", OFFSET('Raw Data'!K50,Input_Details!$B$29,0))","v":1},{"$f":"IF(OFFSET('Raw Data'!L50,Input_Details!$B$29,0)=\"\", \"-\", OFFSET('Raw Data'!L50,Input_Details!$B$29,0))","v":0},{"$f":"IF(OFFSET('Raw Data'!M50,Input_Details!$B$29,0)=\"\", \"-\", OFFSET('Raw Data'!M50,Input_Details!$B$29,0))","v":0},{"$f":"IF(OFFSET('Raw Data'!N50,Input_Details!$B$29,0)=\"\", \"-\", OFFSET('Raw Data'!N50,Input_Details!$B$29,0))","v":0},{"$f":"IF(OFFSET('Raw Data'!O50,Input_Details!$B$29,0)=\"\", \"-\", OFFSET('Raw Data'!O50,Input_Details!$B$29,0))","v":0.2},{"$f":"IF(OFFSET('Raw Data'!P50,Input_Details!$B$29,0)=\"\", \"-\", OFFSET('Raw Data'!P50,Input_Details!$B$29,0))","v":0},{"$f":"IF(OFFSET('Raw Data'!Q50,Input_Details!$B$29,0)=\"\", \"-\", OFFSET('Raw Data'!Q50,Input_Details!$B$29,0))","v":0},{"$f":"IF(OFFSET('Raw Data'!R50,Input_Details!$B$29,0)=\"\", \"-\", OFFSET('Raw Data'!R50,Input_Details!$B$29,0))","v":0},{"$f":"IF(OFFSET('Raw Data'!S50,Input_Details!$B$29,0)=\"\", \"-\", OFFSET('Raw Data'!S50,Input_Details!$B$29,0))","v":0},6.8,null,{"$f":"IF(OFFSET('Raw Data'!AU50,Input_Details!$B$29,0)=\"\", \"-\", OFFSET('Raw Data'!AU50,Input_Details!$B$29,0))","v":2},{"$f":"IF(OFFSET('Raw Data'!AV50,Input_Details!$B$29,0)=\"\", \"-\", OFFSET('Raw Data'!AV50,Input_Details!$B$29,0))","v":3.8},{"$f":"IF(OFFSET('Raw Data'!AW50,Input_Details!$B$29,0)=\"\", \"-\", OFFSET('Raw Data'!AW50,Input_Details!$B$29,0))","v":0},{"$f":"IF(OFFSET('Raw Data'!AX50,Input_Details!$B$29,0)=\"\", \"-\", OFFSET('Raw Data'!AX50,Input_Details!$B$29,0))","v":0.6},{"$f":"IF(OFFSET('Raw Data'!AY50,Input_Details!$B$29,0)=\"\", \"-\", OFFSET('Raw Data'!AY50,Input_Details!$B$29,0))","v":0},{"$f":"IF(OFFSET('Raw Data'!AZ50,Input_Details!$B$29,0)=\"\", \"-\", OFFSET('Raw Data'!AZ50,Input_Details!$B$29,0))","v":0.2},{"$f":"IF(OFFSET('Raw Data'!BA50,Input_Details!$B$29,0)=\"\", \"-\", OFFSET('Raw Data'!BA50,Input_Details!$B$29,0))","v":0},{"$f":"IF(OFFSET('Raw Data'!BB50,Input_Details!$B$29,0)=\"\", \"-\", OFFSET('Raw Data'!BB50,Input_Details!$B$29,0))","v":0},{"$f":"IF(OFFSET('Raw Data'!BC50,Input_Details!$B$29,0)=\"\", \"-\", OFFSET('Raw Data'!BC50,Input_Details!$B$29,0))","v":0},{"$f":"IF(OFFSET('Raw Data'!BD50,Input_Details!$B$29,0)=\"\", \"-\", OFFSET('Raw Data'!BD50,Input_Details!$B$29,0))","v":0},{"$f":"IF(OFFSET('Raw Data'!BE50,Input_Details!$B$29,0)=\"\", \"-\", OFFSET('Raw Data'!BE50,Input_Details!$B$29,0))","v":0},{"$f":"IF(OFFSET('Raw Data'!BF50,Input_Details!$B$29,0)=\"\", \"-\", OFFSET('Raw Data'!BF50,Input_Details!$B$29,0))","v":0},6.6,null,4.8,6.6,0,1.6,0,0.2,0,0.2,0,0,0,0,13.399999999999997]
[null,"11:45:00",{"$f":"IF(OFFSET('Raw Data'!H51,Input_Details!$B$29,0)=\"\", \"-\", OFFSET('Raw Data'!H51,Input_Details!$B$29,0))","v":2.2000000000000002},{"$f":"IF(OFFSET('Raw Data'!I51,Input_Details!$B$29,0)=\"\", \"-\", OFFSET('Raw Data'!I51,Input_Details!$B$29,0))","v":3.6},{"$f":"IF(OFFSET('Raw Data'!J51,Input_Details!$B$29,0)=\"\", \"-\", OFFSET('Raw Data'!J51,Input_Details!$B$29,0))","v":0},{"$f":"IF(OFFSET('Raw Data'!K51,Input_Details!$B$29,0)=\"\", \"-\", OFFSET('Raw Data'!K51,Input_Details!$B$29,0))","v":0},{"$f":"IF(OFFSET('Raw Data'!L51,Input_Details!$B$29,0)=\"\", \"-\", OFFSET('Raw Data'!L51,Input_Details!$B$29,0))","v":0},{"$f":"IF(OFFSET('Raw Data'!M51,Input_Details!$B$29,0)=\"\", \"-\", OFFSET('Raw Data'!M51,Input_Details!$B$29,0))","v":0},{"$f":"IF(OFFSET('Raw Data'!N51,Input_Details!$B$29,0)=\"\", \"-\", OFFSET('Raw Data'!N51,Input_Details!$B$29,0))","v":0},{"$f":"IF(OFFSET('Raw Data'!O51,Input_Details!$B$29,0)=\"\", \"-\", OFFSET('Raw Data'!O51,Input_Details!$B$29,0))","v":0},{"$f":"IF(OFFSET('Raw Data'!P51,Input_Details!$B$29,0)=\"\", \"-\", OFFSET('Raw Data'!P51,Input_Details!$B$29,0))","v":0},{"$f":"IF(OFFSET('Raw Data'!Q51,Input_Details!$B$29,0)=\"\", \"-\", OFFSET('Raw Data'!Q51,Input_Details!$B$29,0))","v":0},{"$f":"IF(OFFSET('Raw Data'!R51,Input_Details!$B$29,0)=\"\", \"-\", OFFSET('Raw Data'!R51,Input_Details!$B$29,0))","v":0},{"$f":"IF(OFFSET('Raw Data'!S51,Input_Details!$B$29,0)=\"\", \"-\", OFFSET('Raw Data'!S51,Input_Details!$B$29,0))","v":0},5.8000000000000007,null,{"$f":"IF(OFFSET('Raw Data'!AU51,Input_Details!$B$29,0)=\"\", \"-\", OFFSET('Raw Data'!AU51,Input_Details!$B$29,0))","v":1.2},{"$f":"IF(OFFSET('Raw Data'!AV51,Input_Details!$B$29,0)=\"\", \"-\", OFFSET('Raw Data'!AV51,Input_Details!$B$29,0))","v":3.2},{"$f":"IF(OFFSET('Raw Data'!AW51,Input_Details!$B$29,0)=\"\", \"-\", OFFSET('Raw Data'!AW51,Input_Details!$B$29,0))","v":0},{"$f":"IF(OFFSET('Raw Data'!AX51,Input_Details!$B$29,0)=\"\", \"-\", OFFSET('Raw Data'!AX51,Input_Details!$B$29,0))","v":0.6},{"$f":"IF(OFFSET('Raw Data'!AY51,Input_Details!$B$29,0)=\"\", \"-\", OFFSET('Raw Data'!AY51,Input_Details!$B$29,0))","v":0},{"$f":"IF(OFFSET('Raw Data'!AZ51,Input_Details!$B$29,0)=\"\", \"-\", OFFSET('Raw Data'!AZ51,Input_Details!$B$29,0))","v":0},{"$f":"IF(OFFSET('Raw Data'!BA51,Input_Details!$B$29,0)=\"\", \"-\", OFFSET('Raw Data'!BA51,Input_Details!$B$29,0))","v":0},{"$f":"IF(OFFSET('Raw Data'!BB51,Input_Details!$B$29,0)=\"\", \"-\", OFFSET('Raw Data'!BB51,Input_Details!$B$29,0))","v":0},{"$f":"IF(OFFSET('Raw Data'!BC51,Input_Details!$B$29,0)=\"\", \"-\", OFFSET('Raw Data'!BC51,Input_Details!$B$29,0))","v":0},{"$f":"IF(OFFSET('Raw Data'!BD51,Input_Details!$B$29,0)=\"\", \"-\", OFFSET('Raw Data'!BD51,Input_Details!$B$29,0))","v":0},{"$f":"IF(OFFSET('Raw Data'!BE51,Input_Details!$B$29,0)=\"\", \"-\", OFFSET('Raw Data'!BE51,Input_Details!$B$29,0))","v":0},{"$f":"IF(OFFSET('Raw Data'!BF51,Input_Details!$B$29,0)=\"\", \"-\", OFFSET('Raw Data'!BF51,Input_Details!$B$29,0))","v":0},5,null,3.4000000000000004,6.8000000000000007,0,0.6,0,0,0,0,0,0,0,0,10.8]
[null,"12:00:00",{"$f":"IF(OFFSET('Raw Data'!H52,Input_Details!$B$29,0)=\"\", \"-\", OFFSET('Raw Data'!H52,Input_Details!$B$29,0))","v":1.4},{"$f":"IF(OFFSET('Raw Data'!I52,Input_Details!$B$29,0)=\"\", \"-\", OFFSET('Raw Data'!I52,Input_Details!$B$29,0))","v":4},{"$f":"IF(OFFSET('Raw Data'!J52,Input_Details!$B$29,0)=\"\", \"-\", OFFSET('Raw Data'!J52,Input_Details!$B$29,0))","v":0},{"$f":"IF(OFFSET('Raw Data'!K52,Input_Details!$B$29,0)=\"\", \"-\", OFFSET('Raw Data'!K52,Input_Details!$B$29,0))","v":1},{"$f":"IF(OFFSET('Raw Data'!L52,Input_Details!$B$29,0)=\"\", \"-\", OFFSET('Raw Data'!L52,Input_Details!$B$29,0))","v":0},{"$f":"IF(OFFSET('Raw Data'!M52,Input_Details!$B$29,0)=\"\", \"-\", OFFSET('Raw Data'!M52,Input_Details!$B$29,0))","v":0.2},{"$f":"IF(OFFSET('Raw Data'!N52,Input_Details!$B$29,0)=\"\", \"-\", OFFSET('Raw Data'!N52,Input_Details!$B$29,0))","v":0},{"$f":"IF(OFFSET('Raw Data'!O52,Input_Details!$B$29,0)=\"\", \"-\", OFFSET('Raw Data'!O52,Input_Details!$B$29,0))","v":0},{"$f":"IF(OFFSET('Raw Data'!P52,Input_Details!$B$29,0)=\"\", \"-\", OFFSET('Raw Data'!P52,Input_Details!$B$29,0))","v":0},{"$f":"IF(OFFSET('Raw Data'!Q52,Input_Details!$B$29,0)=\"\", \"-\", OFFSET('Raw Data'!Q52,Input_Details!$B$29,0))","v":0},{"$f":"IF(OFFSET('Raw Data'!R52,Input_Details!$B$29,0)=\"\", \"-\", OFFSET('Raw Data'!R52,Input_Details!$B$29,0))","v":0},{"$f":"IF(OFFSET('Raw Data'!S52,Input_Details!$B$29,0)=\"\", \"-\", OFFSET('Raw Data'!S52,Input_Details!$B$29,0))","v":0},6.6000000000000005,null,{"$f":"IF(OFFSET('Raw Data'!AU52,Input_Details!$B$29,0)=\"\", \"-\", OFFSET('Raw Data'!AU52,Input_Details!$B$29,0))","v":1.6},{"$f":"IF(OFFSET('Raw Data'!AV52,Input_Details!$B$29,0)=\"\", \"-\", OFFSET('Raw Data'!AV52,Input_Details!$B$29,0))","v":3},{"$f":"IF(OFFSET('Raw Data'!AW52,Input_Details!$B$29,0)=\"\", \"-\", OFFSET('Raw Data'!AW52,Input_Details!$B$29,0))","v":0},{"$f":"IF(OFFSET('Raw Data'!AX52,Input_Details!$B$29,0)=\"\", \"-\", OFFSET('Raw Data'!AX52,Input_Details!$B$29,0))","v":0},{"$f":"IF(OFFSET('Raw Data'!AY52,Input_Details!$B$29,0)=\"\", \"-\", OFFSET('Raw Data'!AY52,Input_Details!$B$29,0))","v":0},{"$f":"IF(OFFSET('Raw Data'!AZ52,Input_Details!$B$29,0)=\"\", \"-\", OFFSET('Raw Data'!AZ52,Input_Details!$B$29,0))","v":0},{"$f":"IF(OFFSET('Raw Data'!BA52,Input_Details!$B$29,0)=\"\", \"-\", OFFSET('Raw Data'!BA52,Input_Details!$B$29,0))","v":0},{"$f":"IF(OFFSET('Raw Data'!BB52,Input_Details!$B$29,0)=\"\", \"-\", OFFSET('Raw Data'!BB52,Input_Details!$B$29,0))","v":0},{"$f":"IF(OFFSET('Raw Data'!BC52,Input_Details!$B$29,0)=\"\", \"-\", OFFSET('Raw Data'!BC52,Input_Details!$B$29,0))","v":0},{"$f":"IF(OFFSET('Raw Data'!BD52,Input_Details!$B$29,0)=\"\", \"-\", OFFSET('Raw Data'!BD52,Input_Details!$B$29,0))","v":0},{"$f":"IF(OFFSET('Raw Data'!BE52,Input_Details!$B$29,0)=\"\", \"-\", OFFSET('Raw Data'!BE52,Input_Details!$B$29,0))","v":0},{"$f":"IF(OFFSET('Raw Data'!BF52,Input_Details!$B$29,0)=\"\", \"-\", OFFSET('Raw Data'!BF52,Input_Details!$B$29,0))","v":0},4.5999999999999996,null,3,7,0,1,0,0.2,0,0,0,0,0,0,11.2]
[null,"12:15:00",{"$f":"IF(OFFSET('Raw Data'!H53,Input_Details!$B$29,0)=\"\", \"-\", OFFSET('Raw Data'!H53,Input_Details!$B$29,0))","v":3.8},{"$f":"IF(OFFSET('Raw Data'!I53,Input_Details!$B$29,0)=\"\", \"-\", OFFSET('Raw Data'!I53,Input_Details!$B$29,0))","v":2.8},{"$f":"IF(OFFSET('Raw Data'!J53,Input_Details!$B$29,0)=\"\", \"-\", OFFSET('Raw Data'!J53,Input_Details!$B$29,0))","v":0},{"$f":"IF(OFFSET('Raw Data'!K53,Input_Details!$B$29,0)=\"\", \"-\", OFFSET('Raw Data'!K53,Input_Details!$B$29,0))","v":0.8},{"$f":"IF(OFFSET('Raw Data'!L53,Input_Details!$B$29,0)=\"\", \"-\", OFFSET('Raw Data'!L53,Input_Details!$B$29,0))","v":0},{"$f":"IF(OFFSET('Raw Data'!M53,Input_Details!$B$29,0)=\"\", \"-\", OFFSET('Raw Data'!M53,Input_Details!$B$29,0))","v":0},{"$f":"IF(OFFSET('Raw Data'!N53,Input_Details!$B$29,0)=\"\", \"-\", OFFSET('Raw Data'!N53,Input_Details!$B$29,0))","v":0},{"$f":"IF(OFFSET('Raw Data'!O53,Input_Details!$B$29,0)=\"\", \"-\", OFFSET('Raw Data'!O53,Input_Details!$B$29,0))","v":0},{"$f":"IF(OFFSET('Raw Data'!P53,Input_Details!$B$29,0)=\"\", \"-\", OFFSET('Raw Data'!P53,Input_Details!$B$29,0))","v":0},{"$f":"IF(OFFSET('Raw Data'!Q53,Input_Details!$B$29,0)=\"\", \"-\", OFFSET('Raw Data'!Q53,Input_Details!$B$29,0))","v":0},{"$f":"IF(OFFSET('Raw Data'!R53,Input_Details!$B$29,0)=\"\", \"-\", OFFSET('Raw Data'!R53,Input_Details!$B$29,0))","v":0},{"$f":"IF(OFFSET('Raw Data'!S53,Input_Details!$B$29,0)=\"\", \"-\", OFFSET('Raw Data'!S53,Input_Details!$B$29,0))","v":0},7.3999999999999995,null,{"$f":"IF(OFFSET('Raw Data'!AU53,Input_Details!$B$29,0)=\"\", \"-\", OFFSET('Raw Data'!AU53,Input_Details!$B$29,0))","v":2.2000000000000002},{"$f":"IF(OFFSET('Raw Data'!AV53,Input_Details!$B$29,0)=\"\", \"-\", OFFSET('Raw Data'!AV53,Input_Details!$B$29,0))","v":2},{"$f":"IF(OFFSET('Raw Data'!AW53,Input_Details!$B$29,0)=\"\", \"-\", OFFSET('Raw Data'!AW53,Input_Details!$B$29,0))","v":0},{"$f":"IF(OFFSET('Raw Data'!AX53,Input_Details!$B$29,0)=\"\", \"-\", OFFSET('Raw Data'!AX53,Input_Details!$B$29,0))","v":0.6},{"$f":"IF(OFFSET('Raw Data'!AY53,Input_Details!$B$29,0)=\"\", \"-\", OFFSET('Raw Data'!AY53,Input_Details!$B$29,0))","v":0},{"$f":"IF(OFFSET('Raw Data'!AZ53,Input_Details!$B$29,0)=\"\", \"-\", OFFSET('Raw Data'!AZ53,Input_Details!$B$29,0))","v":0},{"$f":"IF(OFFSET('Raw Data'!BA53,Input_Details!$B$29,0)=\"\", \"-\", OFFSET('Raw Data'!BA53,Input_Details!$B$29,0))","v":0},{"$f":"IF(OFFSET('Raw Data'!BB53,Input_Details!$B$29,0)=\"\", \"-\", OFFSET('Raw Data'!BB53,Input_Details!$B$29,0))","v":0},{"$f":"IF(OFFSET('Raw Data'!BC53,Input_Details!$B$29,0)=\"\", \"-\", OFFSET('Raw Data'!BC53,Input_Details!$B$29,0))","v":0},{"$f":"IF(OFFSET('Raw Data'!BD53,Input_Details!$B$29,0)=\"\", \"-\", OFFSET('Raw Data'!BD53,Input_Details!$B$29,0))","v":0},{"$f":"IF(OFFSET('Raw Data'!BE53,Input_Details!$B$29,0)=\"\", \"-\", OFFSET('Raw Data'!BE53,Input_Details!$B$29,0))","v":0},{"$f":"IF(OFFSET('Raw Data'!BF53,Input_Details!$B$29,0)=\"\", \"-\", OFFSET('Raw Data'!BF53,Input_Details!$B$29,0))","v":0},4.8,null,6,4.8,0,1.4,0,0,0,0,0,0,0,0,12.200000000000001]
[null,"12:30:00",{"$f":"IF(OFFSET('Raw Data'!H54,Input_Details!$B$29,0)=\"\", \"-\", OFFSET('Raw Data'!H54,Input_Details!$B$29,0))","v":2.2000000000000002},{"$f":"IF(OFFSET('Raw Data'!I54,Input_Details!$B$29,0)=\"\", \"-\", OFFSET('Raw Data'!I54,Input_Details!$B$29,0))","v":2.6},{"$f":"IF(OFFSET('Raw Data'!J54,Input_Details!$B$29,0)=\"\", \"-\", OFFSET('Raw Data'!J54,Input_Details!$B$29,0))","v":0},{"$f":"IF(OFFSET('Raw Data'!K54,Input_Details!$B$29,0)=\"\", \"-\", OFFSET('Raw Data'!K54,Input_Details!$B$29,0))","v":1},{"$f":"IF(OFFSET('Raw Data'!L54,Input_Details!$B$29,0)=\"\", \"-\", OFFSET('Raw Data'!L54,Input_Details!$B$29,0))","v":0},{"$f":"IF(OFFSET('Raw Data'!M54,Input_Details!$B$29,0)=\"\", \"-\", OFFSET('Raw Data'!M54,Input_Details!$B$29,0))","v":0.2},{"$f":"IF(OFFSET('Raw Data'!N54,Input_Details!$B$29,0)=\"\", \"-\", OFFSET('Raw Data'!N54,Input_Details!$B$29,0))","v":0},{"$f":"IF(OFFSET('Raw Data'!O54,Input_Details!$B$29,0)=\"\", \"-\", OFFSET('Raw Data'!O54,Input_Details!$B$29,0))","v":0},{"$f":"IF(OFFSET('Raw Data'!P54,Input_Details!$B$29,0)=\"\", \"-\", OFFSET('Raw Data'!P54,Input_Details!$B$29,0))","v":0},{"$f":"IF(OFFSET('Raw Data'!Q54,Input_Details!$B$29,0)=\"\", \"-\", OFFSET('Raw Data'!Q54,Input_Details!$B$29,0))","v":0},{"$f":"IF(OFFSET('Raw Data'!R54,Input_Details!$B$29,0)=\"\", \"-\", OFFSET('Raw Data'!R54,Input_Details!$B$29,0))","v":0},{"$f":"IF(OFFSET('Raw Data'!S54,Input_Details!$B$29,0)=\"\", \"-\", OFFSET('Raw Data'!S54,Input_Details!$B$29,0))","v":0},6.0000000000000009,null,{"$f":"IF(OFFSET('Raw Data'!AU54,Input_Details!$B$29,0)=\"\", \"-\", OFFSET('Raw Data'!AU54,Input_Details!$B$29,0))","v":2},{"$f":"IF(OFFSET('Raw Data'!AV54,Input_Details!$B$29,0)=\"\", \"-\", OFFSET('Raw Data'!AV54,Input_Details!$B$29,0))","v":3},{"$f":"IF(OFFSET('Raw Data'!AW54,Input_Details!$B$29,0)=\"\", \"-\", OFFSET('Raw Data'!AW54,Input_Details!$B$29,0))","v":0},{"$f":"IF(OFFSET('Raw Data'!AX54,Input_Details!$B$29,0)=\"\", \"-\", OFFSET('Raw Data'!AX54,Input_Details!$B$29,0))","v":1},{"$f":"IF(OFFSET('Raw Data'!AY54,Input_Details!$B$29,0)=\"\", \"-\", OFFSET('Raw Data'!AY54,Input_Details!$B$29,0))","v":0},{"$f":"IF(OFFSET('Raw Data'!AZ54,Input_Details!$B$29,0)=\"\", \"-\", OFFSET('Raw Data'!AZ54,Input_Details!$B$29,0))","v":0.2},{"$f":"IF(OFFSET('Raw Data'!BA54,Input_Details!$B$29,0)=\"\", \"-\", OFFSET('Raw Data'!BA54,Input_Details!$B$29,0))","v":0},{"$f":"IF(OFFSET('Raw Data'!BB54,Input_Details!$B$29,0)=\"\", \"-\", OFFSET('Raw Data'!BB54,Input_Details!$B$29,0))","v":0},{"$f":"IF(OFFSET('Raw Data'!BC54,Input_Details!$B$29,0)=\"\", \"-\", OFFSET('Raw Data'!BC54,Input_Details!$B$29,0))","v":0},{"$f":"IF(OFFSET('Raw Data'!BD54,Input_Details!$B$29,0)=\"\", \"-\", OFFSET('Raw Data'!BD54,Input_Details!$B$29,0))","v":0},{"$f":"IF(OFFSET('Raw Data'!BE54,Input_Details!$B$29,0)=\"\", \"-\", OFFSET('Raw Data'!BE54,Input_Details!$B$29,0))","v":0},{"$f":"IF(OFFSET('Raw Data'!BF54,Input_Details!$B$29,0)=\"\", \"-\", OFFSET('Raw Data'!BF54,Input_Details!$B$29,0))","v":0},6.2,null,4.2,5.6,0,2,0,0.4,0,0,0,0,0,0,12.200000000000001]
[null,"12:45:00",{"$f":"IF(OFFSET('Raw Data'!H55,Input_Details!$B$29,0)=\"\", \"-\", OFFSET('Raw Data'!H55,Input_Details!$B$29,0))","v":2.6},{"$f":"IF(OFFSET('Raw Data'!I55,Input_Details!$B$29,0)=\"\", \"-\", OFFSET('Raw Data'!I55,Input_Details!$B$29,0))","v":4.8},{"$f":"IF(OFFSET('Raw Data'!J55,Input_Details!$B$29,0)=\"\", \"-\", OFFSET('Raw Data'!J55,Input_Details!$B$29,0))","v":0},{"$f":"IF(OFFSET('Raw Data'!K55,Input_Details!$B$29,0)=\"\", \"-\", OFFSET('Raw Data'!K55,Input_Details!$B$29,0))","v":0.2},{"$f":"IF(OFFSET('Raw Data'!L55,Input_Details!$B$29,0)=\"\", \"-\", OFFSET('Raw Data'!L55,Input_Details!$B$29,0))","v":0},{"$f":"IF(OFFSET('Raw Data'!M55,Input_Details!$B$29,0)=\"\", \"-\", OFFSET('Raw Data'!M55,Input_Details!$B$29,0))","v":0.2},{"$f":"IF(OFFSET('Raw Data'!N55,Input_Details!$B$29,0)=\"\", \"-\", OFFSET('Raw Data'!N55,Input_Details!$B$29,0))","v":0},{"$f":"IF(OFFSET('Raw Data'!O55,Input_Details!$B$29,0)=\"\", \"-\", OFFSET('Raw Data'!O55,Input_Details!$B$29,0))","v":0},{"$f":"IF(OFFSET('Raw Data'!P55,Input_Details!$B$29,0)=\"\", \"-\", OFFSET('Raw Data'!P55,Input_Details!$B$29,0))","v":0},{"$f":"IF(OFFSET('Raw Data'!Q55,Input_Details!$B$29,0)=\"\", \"-\", OFFSET('Raw Data'!Q55,Input_Details!$B$29,0))","v":0},{"$f":"IF(OFFSET('Raw Data'!R55,Input_Details!$B$29,0)=\"\", \"-\", OFFSET('Raw Data'!R55,Input_Details!$B$29,0))","v":0},{"$f":"IF(OFFSET('Raw Data'!S55,Input_Details!$B$29,0)=\"\", \"-\", OFFSET('Raw Data'!S55,Input_Details!$B$29,0))","v":0},7.8000000000000007,null,{"$f":"IF(OFFSET('Raw Data'!AU55,Input_Details!$B$29,0)=\"\", \"-\", OFFSET('Raw Data'!AU55,Input_Details!$B$29,0))","v":1.4},{"$f":"IF(OFFSET('Raw Data'!AV55,Input_Details!$B$29,0)=\"\", \"-\", OFFSET('Raw Data'!AV55,Input_Details!$B$29,0))","v":3.2},{"$f":"IF(OFFSET('Raw Data'!AW55,Input_Details!$B$29,0)=\"\", \"-\", OFFSET('Raw Data'!AW55,Input_Details!$B$29,0))","v":0},{"$f":"IF(OFFSET('Raw Data'!AX55,Input_Details!$B$29,0)=\"\", \"-\", OFFSET('Raw Data'!AX55,Input_Details!$B$29,0))","v":0.6},{"$f":"IF(OFFSET('Raw Data'!AY55,Input_Details!$B$29,0)=\"\", \"-\", OFFSET('Raw Data'!AY55,Input_Details!$B$29,0))","v":0},{"$f":"IF(OFFSET('Raw Data'!AZ55,Input_Details!$B$29,0)=\"\", \"-\", OFFSET('Raw Data'!AZ55,Input_Details!$B$29,0))","v":0},{"$f":"IF(OFFSET('Raw Data'!BA55,Input_Details!$B$29,0)=\"\", \"-\", OFFSET('Raw Data'!BA55,Input_Details!$B$29,0))","v":0},{"$f":"IF(OFFSET('Raw Data'!BB55,Input_Details!$B$29,0)=\"\", \"-\", OFFSET('Raw Data'!BB55,Input_Details!$B$29,0))","v":0},{"$f":"IF(OFFSET('Raw Data'!BC55,Input_Details!$B$29,0)=\"\", \"-\", OFFSET('Raw Data'!BC55,Input_Details!$B$29,0))","v":0},{"$f":"IF(OFFSET('Raw Data'!BD55,Input_Details!$B$29,0)=\"\", \"-\", OFFSET('Raw Data'!BD55,Input_Details!$B$29,0))","v":0},{"$f":"IF(OFFSET('Raw Data'!BE55,Input_Details!$B$29,0)=\"\", \"-\", OFFSET('Raw Data'!BE55,Input_Details!$B$29,0))","v":0},{"$f":"IF(OFFSET('Raw Data'!BF55,Input_Details!$B$29,0)=\"\", \"-\", OFFSET('Raw Data'!BF55,Input_Details!$B$29,0))","v":0},5.1999999999999993,null,4,8,0,0.8,0,0.2,0,0,0,0,0,0,13]
[null,"13:00:00",{"$f":"IF(OFFSET('Raw Data'!H56,Input_Details!$B$29,0)=\"\", \"-\", OFFSET('Raw Data'!H56,Input_Details!$B$29,0))","v":2.4},{"$f":"IF(OFFSET('Raw Data'!I56,Input_Details!$B$29,0)=\"\", \"-\", OFFSET('Raw Data'!I56,Input_Details!$B$29,0))","v":6.8},{"$f":"IF(OFFSET('Raw Data'!J56,Input_Details!$B$29,0)=\"\", \"-\", OFFSET('Raw Data'!J56,Input_Details!$B$29,0))","v":0},{"$f":"IF(OFFSET('Raw Data'!K56,Input_Details!$B$29,0)=\"\", \"-\", OFFSET('Raw Data'!K56,Input_Details!$B$29,0))","v":0.6},{"$f":"IF(OFFSET('Raw Data'!L56,Input_Details!$B$29,0)=\"\", \"-\", OFFSET('Raw Data'!L56,Input_Details!$B$29,0))","v":0},{"$f":"IF(OFFSET('Raw Data'!M56,Input_Details!$B$29,0)=\"\", \"-\", OFFSET('Raw Data'!M56,Input_Details!$B$29,0))","v":0},{"$f":"IF(OFFSET('Raw Data'!N56,Input_Details!$B$29,0)=\"\", \"-\", OFFSET('Raw Data'!N56,Input_Details!$B$29,0))","v":0},{"$f":"IF(OFFSET('Raw Data'!O56,Input_Details!$B$29,0)=\"\", \"-\", OFFSET('Raw Data'!O56,Input_Details!$B$29,0))","v":0},{"$f":"IF(OFFSET('Raw Data'!P56,Input_Details!$B$29,0)=\"\", \"-\", OFFSET('Raw Data'!P56,Input_Details!$B$29,0))","v":0},{"$f":"IF(OFFSET('Raw Data'!Q56,Input_Details!$B$29,0)=\"\", \"-\", OFFSET('Raw Data'!Q56,Input_Details!$B$29,0))","v":0},{"$f":"IF(OFFSET('Raw Data'!R56,Input_Details!$B$29,0)=\"\", \"-\", OFFSET('Raw Data'!R56,Input_Details!$B$29,0))","v":0},{"$f":"IF(OFFSET('Raw Data'!S56,Input_Details!$B$29,0)=\"\", \"-\", OFFSET('Raw Data'!S56,Input_Details!$B$29,0))","v":0},9.7999999999999989,null,{"$f":"IF(OFFSET('Raw Data'!AU56,Input_Details!$B$29,0)=\"\", \"-\", OFFSET('Raw Data'!AU56,Input_Details!$B$29,0))","v":1.8},{"$f":"IF(OFFSET('Raw Data'!AV56,Input_Details!$B$29,0)=\"\", \"-\", OFFSET('Raw Data'!AV56,Input_Details!$B$29,0))","v":3.4},{"$f":"IF(OFFSET('Raw Data'!AW56,Input_Details!$B$29,0)=\"\", \"-\", OFFSET('Raw Data'!AW56,Input_Details!$B$29,0))","v":0},{"$f":"IF(OFFSET('Raw Data'!AX56,Input_Details!$B$29,0)=\"\", \"-\", OFFSET('Raw Data'!AX56,Input_Details!$B$29,0))","v":0.6},{"$f":"IF(OFFSET('Raw Data'!AY56,Input_Details!$B$29,0)=\"\", \"-\", OFFSET('Raw Data'!AY56,Input_Details!$B$29,0))","v":0},{"$f":"IF(OFFSET('Raw Data'!AZ56,Input_Details!$B$29,0)=\"\", \"-\", OFFSET('Raw Data'!AZ56,Input_Details!$B$29,0))","v":0},{"$f":"IF(OFFSET('Raw Data'!BA56,Input_Details!$B$29,0)=\"\", \"-\", OFFSET('Raw Data'!BA56,Input_Details!$B$29,0))","v":0},{"$f":"IF(OFFSET('Raw Data'!BB56,Input_Details!$B$29,0)=\"\", \"-\", OFFSET('Raw Data'!BB56,Input_Details!$B$29,0))","v":0},{"$f":"IF(OFFSET('Raw Data'!BC56,Input_Details!$B$29,0)=\"\", \"-\", OFFSET('Raw Data'!BC56,Input_Details!$B$29,0))","v":0},{"$f":"IF(OFFSET('Raw Data'!BD56,Input_Details!$B$29,0)=\"\", \"-\", OFFSET('Raw Data'!BD56,Input_Details!$B$29,0))","v":0},{"$f":"IF(OFFSET('Raw Data'!BE56,Input_Details!$B$29,0)=\"\", \"-\", OFFSET('Raw Data'!BE56,Input_Details!$B$29,0))","v":0},{"$f":"IF(OFFSET('Raw Data'!BF56,Input_Details!$B$29,0)=\"\", \"-\", OFFSET('Raw Data'!BF56,Input_Details!$B$29,0))","v":0},5.8,null,4.2,10.199999999999999,0,1.2,0,0,0,0,0,0,0,0,15.599999999999998]
[null,"13:15:00",{"$f":"IF(OFFSET('Raw Data'!H57,Input_Details!$B$29,0)=\"\", \"-\", OFFSET('Raw Data'!H57,Input_Details!$B$29,0))","v":2.6},{"$f":"IF(OFFSET('Raw Data'!I57,Input_Details!$B$29,0)=\"\", \"-\", OFFSET('Raw Data'!I57,Input_Details!$B$29,0))","v":4.2},{"$f":"IF(OFFSET('Raw Data'!J57,Input_Details!$B$29,0)=\"\", \"-\", OFFSET('Raw Data'!J57,Input_Details!$B$29,0))","v":0},{"$f":"IF(OFFSET('Raw Data'!K57,Input_Details!$B$29,0)=\"\", \"-\", OFFSET('Raw Data'!K57,Input_Details!$B$29,0))","v":0.6},{"$f":"IF(OFFSET('Raw Data'!L57,Input_Details!$B$29,0)=\"\", \"-\", OFFSET('Raw Data'!L57,Input_Details!$B$29,0))","v":0},{"$f":"IF(OFFSET('Raw Data'!M57,Input_Details!$B$29,0)=\"\", \"-\", OFFSET('Raw Data'!M57,Input_Details!$B$29,0))","v":0},{"$f":"IF(OFFSET('Raw Data'!N57,Input_Details!$B$29,0)=\"\", \"-\", OFFSET('Raw Data'!N57,Input_Details!$B$29,0))","v":0},{"$f":"IF(OFFSET('Raw Data'!O57,Input_Details!$B$29,0)=\"\", \"-\", OFFSET('Raw Data'!O57,Input_Details!$B$29,0))","v":0},{"$f":"IF(OFFSET('Raw Data'!P57,Input_Details!$B$29,0)=\"\", \"-\", OFFSET('Raw Data'!P57,Input_Details!$B$29,0))","v":0},{"$f":"IF(OFFSET('Raw Data'!Q57,Input_Details!$B$29,0)=\"\", \"-\", OFFSET('Raw Data'!Q57,Input_Details!$B$29,0))","v":0},{"$f":"IF(OFFSET('Raw Data'!R57,Input_Details!$B$29,0)=\"\", \"-\", OFFSET('Raw Data'!R57,Input_Details!$B$29,0))","v":0},{"$f":"IF(OFFSET('Raw Data'!S57,Input_Details!$B$29,0)=\"\", \"-\", OFFSET('Raw Data'!S57,Input_Details!$B$29,0))","v":0},7.4,null,{"$f":"IF(OFFSET('Raw Data'!AU57,Input_Details!$B$29,0)=\"\", \"-\", OFFSET('Raw Data'!AU57,Input_Details!$B$29,0))","v":1.6},{"$f":"IF(OFFSET('Raw Data'!AV57,Input_Details!$B$29,0)=\"\", \"-\", OFFSET('Raw Data'!AV57,Input_Details!$B$29,0))","v":4.2},{"$f":"IF(OFFSET('Raw Data'!AW57,Input_Details!$B$29,0)=\"\", \"-\", OFFSET('Raw Data'!AW57,Input_Details!$B$29,0))","v":0},{"$f":"IF(OFFSET('Raw Data'!AX57,Input_Details!$B$29,0)=\"\", \"-\", OFFSET('Raw Data'!AX57,Input_Details!$B$29,0))","v":1},{"$f":"IF(OFFSET('Raw Data'!AY57,Input_Details!$B$29,0)=\"\", \"-\", OFFSET('Raw Data'!AY57,Input_Details!$B$29,0))","v":0.4},{"$f":"IF(OFFSET('Raw Data'!AZ57,Input_Details!$B$29,0)=\"\", \"-\", OFFSET('Raw Data'!AZ57,Input_Details!$B$29,0))","v":0.2},{"$f":"IF(OFFSET('Raw Data'!BA57,Input_Details!$B$29,0)=\"\", \"-\", OFFSET('Raw Data'!BA57,Input_Details!$B$29,0))","v":0},{"$f":"IF(OFFSET('Raw Data'!BB57,Input_Details!$B$29,0)=\"\", \"-\", OFFSET('Raw Data'!BB57,Input_Details!$B$29,0))","v":0},{"$f":"IF(OFFSET('Raw Data'!BC57,Input_Details!$B$29,0)=\"\", \"-\", OFFSET('Raw Data'!BC57,Input_Details!$B$29,0))","v":0},{"$f":"IF(OFFSET('Raw Data'!BD57,Input_Details!$B$29,0)=\"\", \"-\", OFFSET('Raw Data'!BD57,Input_Details!$B$29,0))","v":0},{"$f":"IF(OFFSET('Raw Data'!BE57,Input_Details!$B$29,0)=\"\", \"-\", OFFSET('Raw Data'!BE57,Input_Details!$B$29,0))","v":0},{"$f":"IF(OFFSET('Raw Data'!BF57,Input_Details!$B$29,0)=\"\", \"-\", OFFSET('Raw Data'!BF57,Input_Details!$B$29,0))","v":0},7.4000000000000012,null,4.2,8.4,0,1.6,0.4,0.2,0,0,0,0,0,0,14.8]
[null,"13:30:00",{"$f":"IF(OFFSET('Raw Data'!H58,Input_Details!$B$29,0)=\"\", \"-\", OFFSET('Raw Data'!H58,Input_Details!$B$29,0))","v":2.8},{"$f":"IF(OFFSET('Raw Data'!I58,Input_Details!$B$29,0)=\"\", \"-\", OFFSET('Raw Data'!I58,Input_Details!$B$29,0))","v":3.4},{"$f":"IF(OFFSET('Raw Data'!J58,Input_Details!$B$29,0)=\"\", \"-\", OFFSET('Raw Data'!J58,Input_Details!$B$29,0))","v":0},{"$f":"IF(OFFSET('Raw Data'!K58,Input_Details!$B$29,0)=\"\", \"-\", OFFSET('Raw Data'!K58,Input_Details!$B$29,0))","v":0.4},{"$f":"IF(OFFSET('Raw Data'!L58,Input_Details!$B$29,0)=\"\", \"-\", OFFSET('Raw Data'!L58,Input_Details!$B$29,0))","v":0},{"$f":"IF(OFFSET('Raw Data'!M58,Input_Details!$B$29,0)=\"\", \"-\", OFFSET('Raw Data'!M58,Input_Details!$B$29,0))","v":0},{"$f":"IF(OFFSET('Raw Data'!N58,Input_Details!$B$29,0)=\"\", \"-\", OFFSET('Raw Data'!N58,Input_Details!$B$29,0))","v":0},{"$f":"IF(OFFSET('Raw Data'!O58,Input_Details!$B$29,0)=\"\", \"-\", OFFSET('Raw Data'!O58,Input_Details!$B$29,0))","v":0},{"$f":"IF(OFFSET('Raw Data'!P58,Input_Details!$B$29,0)=\"\", \"-\", OFFSET('Raw Data'!P58,Input_Details!$B$29,0))","v":0},{"$f":"IF(OFFSET('Raw Data'!Q58,Input_Details!$B$29,0)=\"\", \"-\", OFFSET('Raw Data'!Q58,Input_Details!$B$29,0))","v":0},{"$f":"IF(OFFSET('Raw Data'!R58,Input_Details!$B$29,0)=\"\", \"-\", OFFSET('Raw Data'!R58,Input_Details!$B$29,0))","v":0},{"$f":"IF(OFFSET('Raw Data'!S58,Input_Details!$B$29,0)=\"\", \"-\", OFFSET('Raw Data'!S58,Input_Details!$B$29,0))","v":0},6.6,null,{"$f":"IF(OFFSET('Raw Data'!AU58,Input_Details!$B$29,0)=\"\", \"-\", OFFSET('Raw Data'!AU58,Input_Details!$B$29,0))","v":4.2},{"$f":"IF(OFFSET('Raw Data'!AV58,Input_Details!$B$29,0)=\"\", \"-\", OFFSET('Raw Data'!AV58,Input_Details!$B$29,0))","v":4.8},{"$f":"IF(OFFSET('Raw Data'!AW58,Input_Details!$B$29,0)=\"\", \"-\", OFFSET('Raw Data'!AW58,Input_Details!$B$29,0))","v":0},{"$f":"IF(OFFSET('Raw Data'!AX58,Input_Details!$B$29,0)=\"\", \"-\", OFFSET('Raw Data'!AX58,Input_Details!$B$29,0))","v":0.8},{"$f":"IF(OFFSET('Raw Data'!AY58,Input_Details!$B$29,0)=\"\", \"-\", OFFSET('Raw Data'!AY58,Input_Details!$B$29,0))","v":0.2},{"$f":"IF(OFFSET('Raw Data'!AZ58,Input_Details!$B$29,0)=\"\", \"-\", OFFSET('Raw Data'!AZ58,Input_Details!$B$29,0))","v":0},{"$f":"IF(OFFSET('Raw Data'!BA58,Input_Details!$B$29,0)=\"\", \"-\", OFFSET('Raw Data'!BA58,Input_Details!$B$29,0))","v":0},{"$f":"IF(OFFSET('Raw Data'!BB58,Input_Details!$B$29,0)=\"\", \"-\", OFFSET('Raw Data'!BB58,Input_Details!$B$29,0))","v":0},{"$f":"IF(OFFSET('Raw Data'!BC58,Input_Details!$B$29,0)=\"\", \"-\", OFFSET('Raw Data'!BC58,Input_Details!$B$29,0))","v":0},{"$f":"IF(OFFSET('Raw Data'!BD58,Input_Details!$B$29,0)=\"\", \"-\", OFFSET('Raw Data'!BD58,Input_Details!$B$29,0))","v":0},{"$f":"IF(OFFSET('Raw Data'!BE58,Input_Details!$B$29,0)=\"\", \"-\", OFFSET('Raw Data'!BE58,Input_Details!$B$29,0))","v":0},{"$f":"IF(OFFSET('Raw Data'!BF58,Input_Details!$B$29,0)=\"\", \"-\", OFFSET('Raw Data'!BF58,Input_Details!$B$29,0))","v":0},10,null,7,8.1999999999999993,0,1.2000000000000002,0.2,0,0,0,0,0,0,0,16.599999999999998]
[null,"13:45:00",{"$f":"IF(OFFSET('Raw Data'!H59,Input_Details!$B$29,0)=\"\", \"-\", OFFSET('Raw Data'!H59,Input_Details!$B$29,0))","v":1.8},{"$f":"IF(OFFSET('Raw Data'!I59,Input_Details!$B$29,0)=\"\", \"-\", OFFSET('Raw Data'!I59,Input_Details!$B$29,0))","v":2.6},{"$f":"IF(OFFSET('Raw Data'!J59,Input_Details!$B$29,0)=\"\", \"-\", OFFSET('Raw Data'!J59,Input_Details!$B$29,0))","v":0},{"$f":"IF(OFFSET('Raw Data'!K59,Input_Details!$B$29,0)=\"\", \"-\", OFFSET('Raw Data'!K59,Input_Details!$B$29,0))","v":1},{"$f":"IF(OFFSET('Raw Data'!L59,Input_Details!$B$29,0)=\"\", \"-\", OFFSET('Raw Data'!L59,Input_Details!$B$29,0))","v":0.2},{"$f":"IF(OFFSET('Raw Data'!M59,Input_Details!$B$29,0)=\"\", \"-\", OFFSET('Raw Data'!M59,Input_Details!$B$29,0))","v":0},{"$f":"IF(OFFSET('Raw Data'!N59,Input_Details!$B$29,0)=\"\", \"-\", OFFSET('Raw Data'!N59,Input_Details!$B$29,0))","v":0},{"$f":"IF(OFFSET('Raw Data'!O59,Input_Details!$B$29,0)=\"\", \"-\", OFFSET('Raw Data'!O59,Input_Details!$B$29,0))","v":0},{"$f":"IF(OFFSET('Raw Data'!P59,Input_Details!$B$29,0)=\"\", \"-\", OFFSET('Raw Data'!P59,Input_Details!$B$29,0))","v":0},{"$f":"IF(OFFSET('Raw Data'!Q59,Input_Details!$B$29,0)=\"\", \"-\", OFFSET('Raw Data'!Q59,Input_Details!$B$29,0))","v":0},{"$f":"IF(OFFSET('Raw Data'!R59,Input_Details!$B$29,0)=\"\", \"-\", OFFSET('Raw Data'!R59,Input_Details!$B$29,0))","v":0},{"$f":"IF(OFFSET('Raw Data'!S59,Input_Details!$B$29,0)=\"\", \"-\", OFFSET('Raw Data'!S59,Input_Details!$B$29,0))","v":0},5.6000000000000005,null,{"$f":"IF(OFFSET('Raw Data'!AU59,Input_Details!$B$29,0)=\"\", \"-\", OFFSET('Raw Data'!AU59,Input_Details!$B$29,0))","v":2},{"$f":"IF(OFFSET('Raw Data'!AV59,Input_Details!$B$29,0)=\"\", \"-\", OFFSET('Raw Data'!AV59,Input_Details!$B$29,0))","v":2.4},{"$f":"IF(OFFSET('Raw Data'!AW59,Input_Details!$B$29,0)=\"\", \"-\", OFFSET('Raw Data'!AW59,Input_Details!$B$29,0))","v":0},{"$f":"IF(OFFSET('Raw Data'!AX59,Input_Details!$B$29,0)=\"\", \"-\", OFFSET('Raw Data'!AX59,Input_Details!$B$29,0))","v":0.8},{"$f":"IF(OFFSET('Raw Data'!AY59,Input_Details!$B$29,0)=\"\", \"-\", OFFSET('Raw Data'!AY59,Input_Details!$B$29,0))","v":0},{"$f":"IF(OFFSET('Raw Data'!AZ59,Input_Details!$B$29,0)=\"\", \"-\", OFFSET('Raw Data'!AZ59,Input_Details!$B$29,0))","v":0},{"$f":"IF(OFFSET('Raw Data'!BA59,Input_Details!$B$29,0)=\"\", \"-\", OFFSET('Raw Data'!BA59,Input_Details!$B$29,0))","v":0},{"$f":"IF(OFFSET('Raw Data'!BB59,Input_Details!$B$29,0)=\"\", \"-\", OFFSET('Raw Data'!BB59,Input_Details!$B$29,0))","v":0},{"$f":"IF(OFFSET('Raw Data'!BC59,Input_Details!$B$29,0)=\"\", \"-\", OFFSET('Raw Data'!BC59,Input_Details!$B$29,0))","v":0},{"$f":"IF(OFFSET('Raw Data'!BD59,Input_Details!$B$29,0)=\"\", \"-\", OFFSET('Raw Data'!BD59,Input_Details!$B$29,0))","v":0},{"$f":"IF(OFFSET('Raw Data'!BE59,Input_Details!$B$29,0)=\"\", \"-\", OFFSET('Raw Data'!BE59,Input_Details!$B$29,0))","v":0},{"$f":"IF(OFFSET('Raw Data'!BF59,Input_Details!$B$29,0)=\"\", \"-\", OFFSET('Raw Data'!BF59,Input_Details!$B$29,0))","v":0},5.2,null,3.8,5,0,1.8,0.2,0,0,0,0,0,0,0,10.8]
[null,"14:00:00",{"$f":"IF(OFFSET('Raw Data'!H60,Input_Details!$B$29,0)=\"\", \"-\", OFFSET('Raw Data'!H60,Input_Details!$B$29,0))","v":1.6},{"$f":"IF(OFFSET('Raw Data'!I60,Input_Details!$B$29,0)=\"\", \"-\", OFFSET('Raw Data'!I60,Input_Details!$B$29,0))","v":2.2000000000000002},{"$f":"IF(OFFSET('Raw Data'!J60,Input_Details!$B$29,0)=\"\", \"-\", OFFSET('Raw Data'!J60,Input_Details!$B$29,0))","v":0},{"$f":"IF(OFFSET('Raw Data'!K60,Input_Details!$B$29,0)=\"\", \"-\", OFFSET('Raw Data'!K60,Input_Details!$B$29,0))","v":0.2},{"$f":"IF(OFFSET('Raw Data'!L60,Input_Details!$B$29,0)=\"\", \"-\", OFFSET('Raw Data'!L60,Input_Details!$B$29,0))","v":0},{"$f":"IF(OFFSET('Raw Data'!M60,Input_Details!$B$29,0)=\"\", \"-\", OFFSET('Raw Data'!M60,Input_Details!$B$29,0))","v":0},{"$f":"IF(OFFSET('Raw Data'!N60,Input_Details!$B$29,0)=\"\", \"-\", OFFSET('Raw Data'!N60,Input_Details!$B$29,0))","v":0},{"$f":"IF(OFFSET('Raw Data'!O60,Input_Details!$B$29,0)=\"\", \"-\", OFFSET('Raw Data'!O60,Input_Details!$B$29,0))","v":0},{"$f":"IF(OFFSET('Raw Data'!P60,Input_Details!$B$29,0)=\"\", \"-\", OFFSET('Raw Data'!P60,Input_Details!$B$29,0))","v":0},{"$f":"IF(OFFSET('Raw Data'!Q60,Input_Details!$B$29,0)=\"\", \"-\", OFFSET('Raw Data'!Q60,Input_Details!$B$29,0))","v":0},{"$f":"IF(OFFSET('Raw Data'!R60,Input_Details!$B$29,0)=\"\", \"-\", OFFSET('Raw Data'!R60,Input_Details!$B$29,0))","v":0},{"$f":"IF(OFFSET('Raw Data'!S60,Input_Details!$B$29,0)=\"\", \"-\", OFFSET('Raw Data'!S60,Input_Details!$B$29,0))","v":0},4,null,{"$f":"IF(OFFSET('Raw Data'!AU60,Input_Details!$B$29,0)=\"\", \"-\", OFFSET('Raw Data'!AU60,Input_Details!$B$29,0))","v":1.6},{"$f":"IF(OFFSET('Raw Data'!AV60,Input_Details!$B$29,0)=\"\", \"-\", OFFSET('Raw Data'!AV60,Input_Details!$B$29,0))","v":5},{"$f":"IF(OFFSET('Raw Data'!AW60,Input_Details!$B$29,0)=\"\", \"-\", OFFSET('Raw Data'!AW60,Input_Details!$B$29,0))","v":0},{"$f":"IF(OFFSET('Raw Data'!AX60,Input_Details!$B$29,0)=\"\", \"-\", OFFSET('Raw Data'!AX60,Input_Details!$B$29,0))","v":0.4},{"$f":"IF(OFFSET('Raw Data'!AY60,Input_Details!$B$29,0)=\"\", \"-\", OFFSET('Raw Data'!AY60,Input_Details!$B$29,0))","v":0},{"$f":"IF(OFFSET('Raw Data'!AZ60,Input_Details!$B$29,0)=\"\", \"-\", OFFSET('Raw Data'!AZ60,Input_Details!$B$29,0))","v":0},{"$f":"IF(OFFSET('Raw Data'!BA60,Input_Details!$B$29,0)=\"\", \"-\", OFFSET('Raw Data'!BA60,Input_Details!$B$29,0))","v":0},{"$f":"IF(OFFSET('Raw Data'!BB60,Input_Details!$B$29,0)=\"\", \"-\", OFFSET('Raw Data'!BB60,Input_Details!$B$29,0))","v":0},{"$f":"IF(OFFSET('Raw Data'!BC60,Input_Details!$B$29,0)=\"\", \"-\", OFFSET('Raw Data'!BC60,Input_Details!$B$29,0))","v":0},{"$f":"IF(OFFSET('Raw Data'!BD60,Input_Details!$B$29,0)=\"\", \"-\", OFFSET('Raw Data'!BD60,Input_Details!$B$29,0))","v":0},{"$f":"IF(OFFSET('Raw Data'!BE60,Input_Details!$B$29,0)=\"\", \"-\", OFFSET('Raw Data'!BE60,Input_Details!$B$29,0))","v":0},{"$f":"IF(OFFSET('Raw Data'!BF60,Input_Details!$B$29,0)=\"\", \"-\", OFFSET('Raw Data'!BF60,Input_Details!$B$29,0))","v":0},7,null,3.2,7.2,0,0.60000000000000009,0,0,0,0,0,0,0,0,11]
[null,"14:15:00",{"$f":"IF(OFFSET('Raw Data'!H61,Input_Details!$B$29,0)=\"\", \"-\", OFFSET('Raw Data'!H61,Input_Details!$B$29,0))","v":1},{"$f":"IF(OFFSET('Raw Data'!I61,Input_Details!$B$29,0)=\"\", \"-\", OFFSET('Raw Data'!I61,Input_Details!$B$29,0))","v":3.2},{"$f":"IF(OFFSET('Raw Data'!J61,Input_Details!$B$29,0)=\"\", \"-\", OFFSET('Raw Data'!J61,Input_Details!$B$29,0))","v":0},{"$f":"IF(OFFSET('Raw Data'!K61,Input_Details!$B$29,0)=\"\", \"-\", OFFSET('Raw Data'!K61,Input_Details!$B$29,0))","v":0.8},{"$f":"IF(OFFSET('Raw Data'!L61,Input_Details!$B$29,0)=\"\", \"-\", OFFSET('Raw Data'!L61,Input_Details!$B$29,0))","v":0},{"$f":"IF(OFFSET('Raw Data'!M61,Input_Details!$B$29,0)=\"\", \"-\", OFFSET('Raw Data'!M61,Input_Details!$B$29,0))","v":0},{"$f":"IF(OFFSET('Raw Data'!N61,Input_Details!$B$29,0)=\"\", \"-\", OFFSET('Raw Data'!N61,Input_Details!$B$29,0))","v":0},{"$f":"IF(OFFSET('Raw Data'!O61,Input_Details!$B$29,0)=\"\", \"-\", OFFSET('Raw Data'!O61,Input_Details!$B$29,0))","v":0},{"$f":"IF(OFFSET('Raw Data'!P61,Input_Details!$B$29,0)=\"\", \"-\", OFFSET('Raw Data'!P61,Input_Details!$B$29,0))","v":0},{"$f":"IF(OFFSET('Raw Data'!Q61,Input_Details!$B$29,0)=\"\", \"-\", OFFSET('Raw Data'!Q61,Input_Details!$B$29,0))","v":0},{"$f":"IF(OFFSET('Raw Data'!R61,Input_Details!$B$29,0)=\"\", \"-\", OFFSET('Raw Data'!R61,Input_Details!$B$29,0))","v":0},{"$f":"IF(OFFSET('Raw Data'!S61,Input_Details!$B$29,0)=\"\", \"-\", OFFSET('Raw Data'!S61,Input_Details!$B$29,0))","v":0},5,null,{"$f":"IF(OFFSET('Raw Data'!AU61,Input_Details!$B$29,0)=\"\", \"-\", OFFSET('Raw Data'!AU61,Input_Details!$B$29,0))","v":2.8},{"$f":"IF(OFFSET('Raw Data'!AV61,Input_Details!$B$29,0)=\"\", \"-\", OFFSET('Raw Data'!AV61,Input_Details!$B$29,0))","v":4.8},{"$f":"IF(OFFSET('Raw Data'!AW61,Input_Details!$B$29,0)=\"\", \"-\", OFFSET('Raw Data'!AW61,Input_Details!$B$29,0))","v":0},{"$f":"IF(OFFSET('Raw Data'!AX61,Input_Details!$B$29,0)=\"\", \"-\", OFFSET('Raw Data'!AX61,Input_Details!$B$29,0))","v":0.4},{"$f":"IF(OFFSET('Raw Data'!AY61,Input_Details!$B$29,0)=\"\", \"-\", OFFSET('Raw Data'!AY61,Input_Details!$B$29,0))","v":0.2},{"$f":"IF(OFFSET('Raw Data'!AZ61,Input_Details!$B$29,0)=\"\", \"-\", OFFSET('Raw Data'!AZ61,Input_Details!$B$29,0))","v":0},{"$f":"IF(OFFSET('Raw Data'!BA61,Input_Details!$B$29,0)=\"\", \"-\", OFFSET('Raw Data'!BA61,Input_Details!$B$29,0))","v":0},{"$f":"IF(OFFSET('Raw Data'!BB61,Input_Details!$B$29,0)=\"\", \"-\", OFFSET('Raw Data'!BB61,Input_Details!$B$29,0))","v":0},{"$f":"IF(OFFSET('Raw Data'!BC61,Input_Details!$B$29,0)=\"\", \"-\", OFFSET('Raw Data'!BC61,Input_Details!$B$29,0))","v":0},{"$f":"IF(OFFSET('Raw Data'!BD61,Input_Details!$B$29,0)=\"\", \"-\", OFFSET('Raw Data'!BD61,Input_Details!$B$29,0))","v":0},{"$f":"IF(OFFSET('Raw Data'!BE61,Input_Details!$B$29,0)=\"\", \"-\", OFFSET('Raw Data'!BE61,Input_Details!$B$29,0))","v":0},{"$f":"IF(OFFSET('Raw Data'!BF61,Input_Details!$B$29,0)=\"\", \"-\", OFFSET('Raw Data'!BF61,Input_Details!$B$29,0))","v":0},8.1999999999999993,null,3.8,8,0,1.2000000000000002,0.2,0,0,0,0,0,0,0,13.2]
[null,"14:30:00",{"$f":"IF(OFFSET('Raw Data'!H62,Input_Details!$B$29,0)=\"\", \"-\", OFFSET('Raw Data'!H62,Input_Details!$B$29,0))","v":2.8},{"$f":"IF(OFFSET('Raw Data'!I62,Input_Details!$B$29,0)=\"\", \"-\", OFFSET('Raw Data'!I62,Input_Details!$B$29,0))","v":2.6},{"$f":"IF(OFFSET('Raw Data'!J62,Input_Details!$B$29,0)=\"\", \"-\", OFFSET('Raw Data'!J62,Input_Details!$B$29,0))","v":0},{"$f":"IF(OFFSET('Raw Data'!K62,Input_Details!$B$29,0)=\"\", \"-\", OFFSET('Raw Data'!K62,Input_Details!$B$29,0))","v":0.4},{"$f":"IF(OFFSET('Raw Data'!L62,Input_Details!$B$29,0)=\"\", \"-\", OFFSET('Raw Data'!L62,Input_Details!$B$29,0))","v":0},{"$f":"IF(OFFSET('Raw Data'!M62,Input_Details!$B$29,0)=\"\", \"-\", OFFSET('Raw Data'!M62,Input_Details!$B$29,0))","v":0},{"$f":"IF(OFFSET('Raw Data'!N62,Input_Details!$B$29,0)=\"\", \"-\", OFFSET('Raw Data'!N62,Input_Details!$B$29,0))","v":0},{"$f":"IF(OFFSET('Raw Data'!O62,Input_Details!$B$29,0)=\"\", \"-\", OFFSET('Raw Data'!O62,Input_Details!$B$29,0))","v":0},{"$f":"IF(OFFSET('Raw Data'!P62,Input_Details!$B$29,0)=\"\", \"-\", OFFSET('Raw Data'!P62,Input_Details!$B$29,0))","v":0},{"$f":"IF(OFFSET('Raw Data'!Q62,Input_Details!$B$29,0)=\"\", \"-\", OFFSET('Raw Data'!Q62,Input_Details!$B$29,0))","v":0},{"$f":"IF(OFFSET('Raw Data'!R62,Input_Details!$B$29,0)=\"\", \"-\", OFFSET('Raw Data'!R62,Input_Details!$B$29,0))","v":0},{"$f":"IF(OFFSET('Raw Data'!S62,Input_Details!$B$29,0)=\"\", \"-\", OFFSET('Raw Data'!S62,Input_Details!$B$29,0))","v":0},5.8000000000000007,null,{"$f":"IF(OFFSET('Raw Data'!AU62,Input_Details!$B$29,0)=\"\", \"-\", OFFSET('Raw Data'!AU62,Input_Details!$B$29,0))","v":3.8},{"$f":"IF(OFFSET('Raw Data'!AV62,Input_Details!$B$29,0)=\"\", \"-\", OFFSET('Raw Data'!AV62,Input_Details!$B$29,0))","v":4.2},{"$f":"IF(OFFSET('Raw Data'!AW62,Input_Details!$B$29,0)=\"\", \"-\", OFFSET('Raw Data'!AW62,Input_Details!$B$29,0))","v":0},{"$f":"IF(OFFSET('Raw Data'!AX62,Input_Details!$B$29,0)=\"\", \"-\", OFFSET('Raw Data'!AX62,Input_Details!$B$29,0))","v":1.6},{"$f":"IF(OFFSET('Raw Data'!AY62,Input_Details!$B$29,0)=\"\", \"-\", OFFSET('Raw Data'!AY62,Input_Details!$B$29,0))","v":0},{"$f":"IF(OFFSET('Raw Data'!AZ62,Input_Details!$B$29,0)=\"\", \"-\", OFFSET('Raw Data'!AZ62,Input_Details!$B$29,0))","v":0},{"$f":"IF(OFFSET('Raw Data'!BA62,Input_Details!$B$29,0)=\"\", \"-\", OFFSET('Raw Data'!BA62,Input_Details!$B$29,0))","v":0},{"$f":"IF(OFFSET('Raw Data'!BB62,Input_Details!$B$29,0)=\"\", \"-\", OFFSET('Raw Data'!BB62,Input_Details!$B$29,0))","v":0},{"$f":"IF(OFFSET('Raw Data'!BC62,Input_Details!$B$29,0)=\"\", \"-\", OFFSET('Raw Data'!BC62,Input_Details!$B$29,0))","v":0},{"$f":"IF(OFFSET('Raw Data'!BD62,Input_Details!$B$29,0)=\"\", \"-\", OFFSET('Raw Data'!BD62,Input_Details!$B$29,0))","v":0},{"$f":"IF(OFFSET('Raw Data'!BE62,Input_Details!$B$29,0)=\"\", \"-\", OFFSET('Raw Data'!BE62,Input_Details!$B$29,0))","v":0},{"$f":"IF(OFFSET('Raw Data'!BF62,Input_Details!$B$29,0)=\"\", \"-\", OFFSET('Raw Data'!BF62,Input_Details!$B$29,0))","v":0},9.6,null,6.6,6.8000000000000007,0,2,0,0,0,0,0,0,0,0,15.4]
[null,"14:45:00",{"$f":"IF(OFFSET('Raw Data'!H63,Input_Details!$B$29,0)=\"\", \"-\", OFFSET('Raw Data'!H63,Input_Details!$B$29,0))","v":0.8},{"$f":"IF(OFFSET('Raw Data'!I63,Input_Details!$B$29,0)=\"\", \"-\", OFFSET('Raw Data'!I63,Input_Details!$B$29,0))","v":3.4},{"$f":"IF(OFFSET('Raw Data'!J63,Input_Details!$B$29,0)=\"\", \"-\", OFFSET('Raw Data'!J63,Input_Details!$B$29,0))","v":0},{"$f":"IF(OFFSET('Raw Data'!K63,Input_Details!$B$29,0)=\"\", \"-\", OFFSET('Raw Data'!K63,Input_Details!$B$29,0))","v":0.4},{"$f":"IF(OFFSET('Raw Data'!L63,Input_Details!$B$29,0)=\"\", \"-\", OFFSET('Raw Data'!L63,Input_Details!$B$29,0))","v":0},{"$f":"IF(OFFSET('Raw Data'!M63,Input_Details!$B$29,0)=\"\", \"-\", OFFSET('Raw Data'!M63,Input_Details!$B$29,0))","v":0},{"$f":"IF(OFFSET('Raw Data'!N63,Input_Details!$B$29,0)=\"\", \"-\", OFFSET('Raw Data'!N63,Input_Details!$B$29,0))","v":0},{"$f":"IF(OFFSET('Raw Data'!O63,Input_Details!$B$29,0)=\"\", \"-\", OFFSET('Raw Data'!O63,Input_Details!$B$29,0))","v":0},{"$f":"IF(OFFSET('Raw Data'!P63,Input_Details!$B$29,0)=\"\", \"-\", OFFSET('Raw Data'!P63,Input_Details!$B$29,0))","v":0},{"$f":"IF(OFFSET('Raw Data'!Q63,Input_Details!$B$29,0)=\"\", \"-\", OFFSET('Raw Data'!Q63,Input_Details!$B$29,0))","v":0},{"$f":"IF(OFFSET('Raw Data'!R63,Input_Details!$B$29,0)=\"\", \"-\", OFFSET('Raw Data'!R63,Input_Details!$B$29,0))","v":0},{"$f":"IF(OFFSET('Raw Data'!S63,Input_Details!$B$29,0)=\"\", \"-\", OFFSET('Raw Data'!S63,Input_Details!$B$29,0))","v":0},4.6000000000000005,null,{"$f":"IF(OFFSET('Raw Data'!AU63,Input_Details!$B$29,0)=\"\", \"-\", OFFSET('Raw Data'!AU63,Input_Details!$B$29,0))","v":3.4},{"$f":"IF(OFFSET('Raw Data'!AV63,Input_Details!$B$29,0)=\"\", \"-\", OFFSET('Raw Data'!AV63,Input_Details!$B$29,0))","v":4.5999999999999996},{"$f":"IF(OFFSET('Raw Data'!AW63,Input_Details!$B$29,0)=\"\", \"-\", OFFSET('Raw Data'!AW63,Input_Details!$B$29,0))","v":0},{"$f":"IF(OFFSET('Raw Data'!AX63,Input_Details!$B$29,0)=\"\", \"-\", OFFSET('Raw Data'!AX63,Input_Details!$B$29,0))","v":1},{"$f":"IF(OFFSET('Raw Data'!AY63,Input_Details!$B$29,0)=\"\", \"-\", OFFSET('Raw Data'!AY63,Input_Details!$B$29,0))","v":0},{"$f":"IF(OFFSET('Raw Data'!AZ63,Input_Details!$B$29,0)=\"\", \"-\", OFFSET('Raw Data'!AZ63,Input_Details!$B$29,0))","v":0},{"$f":"IF(OFFSET('Raw Data'!BA63,Input_Details!$B$29,0)=\"\", \"-\", OFFSET('Raw Data'!BA63,Input_Details!$B$29,0))","v":0},{"$f":"IF(OFFSET('Raw Data'!BB63,Input_Details!$B$29,0)=\"\", \"-\", OFFSET('Raw Data'!BB63,Input_Details!$B$29,0))","v":0},{"$f":"IF(OFFSET('Raw Data'!BC63,Input_Details!$B$29,0)=\"\", \"-\", OFFSET('Raw Data'!BC63,Input_Details!$B$29,0))","v":0},{"$f":"IF(OFFSET('Raw Data'!BD63,Input_Details!$B$29,0)=\"\", \"-\", OFFSET('Raw Data'!BD63,Input_Details!$B$29,0))","v":0},{"$f":"IF(OFFSET('Raw Data'!BE63,Input_Details!$B$29,0)=\"\", \"-\", OFFSET('Raw Data'!BE63,Input_Details!$B$29,0))","v":0},{"$f":"IF(OFFSET('Raw Data'!BF63,Input_Details!$B$29,0)=\"\", \"-\", OFFSET('Raw Data'!BF63,Input_Details!$B$29,0))","v":0},9,null,4.2,8,0,1.4,0,0,0,0,0,0,0,0,13.6]
[null,"15:00:00",{"$f":"IF(OFFSET('Raw Data'!H64,Input_Details!$B$29,0)=\"\", \"-\", OFFSET('Raw Data'!H64,Input_Details!$B$29,0))","v":1},{"$f":"IF(OFFSET('Raw Data'!I64,Input_Details!$B$29,0)=\"\", \"-\", OFFSET('Raw Data'!I64,Input_Details!$B$29,0))","v":3},{"$f":"IF(OFFSET('Raw Data'!J64,Input_Details!$B$29,0)=\"\", \"-\", OFFSET('Raw Data'!J64,Input_Details!$B$29,0))","v":0},{"$f":"IF(OFFSET('Raw Data'!K64,Input_Details!$B$29,0)=\"\", \"-\", OFFSET('Raw Data'!K64,Input_Details!$B$29,0))","v":0.8},{"$f":"IF(OFFSET('Raw Data'!L64,Input_Details!$B$29,0)=\"\", \"-\", OFFSET('Raw Data'!L64,Input_Details!$B$29,0))","v":0},{"$f":"IF(OFFSET('Raw Data'!M64,Input_Details!$B$29,0)=\"\", \"-\", OFFSET('Raw Data'!M64,Input_Details!$B$29,0))","v":0},{"$f":"IF(OFFSET('Raw Data'!N64,Input_Details!$B$29,0)=\"\", \"-\", OFFSET('Raw Data'!N64,Input_Details!$B$29,0))","v":0},{"$f":"IF(OFFSET('Raw Data'!O64,Input_Details!$B$29,0)=\"\", \"-\", OFFSET('Raw Data'!O64,Input_Details!$B$29,0))","v":0},{"$f":"IF(OFFSET('Raw Data'!P64,Input_Details!$B$29,0)=\"\", \"-\", OFFSET('Raw Data'!P64,Input_Details!$B$29,0))","v":0},{"$f":"IF(OFFSET('Raw Data'!Q64,Input_Details!$B$29,0)=\"\", \"-\", OFFSET('Raw Data'!Q64,Input_Details!$B$29,0))","v":0},{"$f":"IF(OFFSET('Raw Data'!R64,Input_Details!$B$29,0)=\"\", \"-\", OFFSET('Raw Data'!R64,Input_Details!$B$29,0))","v":0},{"$f":"IF(OFFSET('Raw Data'!S64,Input_Details!$B$29,0)=\"\", \"-\", OFFSET('Raw Data'!S64,Input_Details!$B$29,0))","v":0},4.8,null,{"$f":"IF(OFFSET('Raw Data'!AU64,Input_Details!$B$29,0)=\"\", \"-\", OFFSET('Raw Data'!AU64,Input_Details!$B$29,0))","v":4},{"$f":"IF(OFFSET('Raw Data'!AV64,Input_Details!$B$29,0)=\"\", \"-\", OFFSET('Raw Data'!AV64,Input_Details!$B$29,0))","v":7.6},{"$f":"IF(OFFSET('Raw Data'!AW64,Input_Details!$B$29,0)=\"\", \"-\", OFFSET('Raw Data'!AW64,Input_Details!$B$29,0))","v":0},{"$f":"IF(OFFSET('Raw Data'!AX64,Input_Details!$B$29,0)=\"\", \"-\", OFFSET('Raw Data'!AX64,Input_Details!$B$29,0))","v":1},{"$f":"IF(OFFSET('Raw Data'!AY64,Input_Details!$B$29,0)=\"\", \"-\", OFFSET('Raw Data'!AY64,Input_Details!$B$29,0))","v":0},{"$f":"IF(OFFSET('Raw Data'!AZ64,Input_Details!$B$29,0)=\"\", \"-\", OFFSET('Raw Data'!AZ64,Input_Details!$B$29,0))","v":0},{"$f":"IF(OFFSET('Raw Data'!BA64,Input_Details!$B$29,0)=\"\", \"-\", OFFSET('Raw Data'!BA64,Input_Details!$B$29,0))","v":0},{"$f":"IF(OFFSET('Raw Data'!BB64,Input_Details!$B$29,0)=\"\", \"-\", OFFSET('Raw Data'!BB64,Input_Details!$B$29,0))","v":0},{"$f":"IF(OFFSET('Raw Data'!BC64,Input_Details!$B$29,0)=\"\", \"-\", OFFSET('Raw Data'!BC64,Input_Details!$B$29,0))","v":0},{"$f":"IF(OFFSET('Raw Data'!BD64,Input_Details!$B$29,0)=\"\", \"-\", OFFSET('Raw Data'!BD64,Input_Details!$B$29,0))","v":0},{"$f":"IF(OFFSET('Raw Data'!BE64,Input_Details!$B$29,0)=\"\", \"-\", OFFSET('Raw Data'!BE64,Input_Details!$B$29,0))","v":0},{"$f":"IF(OFFSET('Raw Data'!BF64,Input_Details!$B$29,0)=\"\", \"-\", OFFSET('Raw Data'!BF64,Input_Details!$B$29,0))","v":0},12.6,null,5,10.6,0,1.8,0,0,0,0,0,0,0,0,17.399999999999999]
[null,"15:15:00",{"$f":"IF(OFFSET('Raw Data'!H65,Input_Details!$B$29,0)=\"\", \"-\", OFFSET('Raw Data'!H65,Input_Details!$B$29,0))","v":1.8},{"$f":"IF(OFFSET('Raw Data'!I65,Input_Details!$B$29,0)=\"\", \"-\", OFFSET('Raw Data'!I65,Input_Details!$B$29,0))","v":3.2},{"$f":"IF(OFFSET('Raw Data'!J65,Input_Details!$B$29,0)=\"\", \"-\", OFFSET('Raw Data'!J65,Input_Details!$B$29,0))","v":0},{"$f":"IF(OFFSET('Raw Data'!K65,Input_Details!$B$29,0)=\"\", \"-\", OFFSET('Raw Data'!K65,Input_Details!$B$29,0))","v":0.6},{"$f":"IF(OFFSET('Raw Data'!L65,Input_Details!$B$29,0)=\"\", \"-\", OFFSET('Raw Data'!L65,Input_Details!$B$29,0))","v":0},{"$f":"IF(OFFSET('Raw Data'!M65,Input_Details!$B$29,0)=\"\", \"-\", OFFSET('Raw Data'!M65,Input_Details!$B$29,0))","v":0},{"$f":"IF(OFFSET('Raw Data'!N65,Input_Details!$B$29,0)=\"\", \"-\", OFFSET('Raw Data'!N65,Input_Details!$B$29,0))","v":0},{"$f":"IF(OFFSET('Raw Data'!O65,Input_Details!$B$29,0)=\"\", \"-\", OFFSET('Raw Data'!O65,Input_Details!$B$29,0))","v":0},{"$f":"IF(OFFSET('Raw Data'!P65,Input_Details!$B$29,0)=\"\", \"-\", OFFSET('Raw Data'!P65,Input_Details!$B$29,0))","v":0},{"$f":"IF(OFFSET('Raw Data'!Q65,Input_Details!$B$29,0)=\"\", \"-\", OFFSET('Raw Data'!Q65,Input_Details!$B$29,0))","v":0},{"$f":"IF(OFFSET('Raw Data'!R65,Input_Details!$B$29,0)=\"\", \"-\", OFFSET('Raw Data'!R65,Input_Details!$B$29,0))","v":0},{"$f":"IF(OFFSET('Raw Data'!S65,Input_Details!$B$29,0)=\"\", \"-\", OFFSET('Raw Data'!S65,Input_Details!$B$29,0))","v":0},5.6,null,{"$f":"IF(OFFSET('Raw Data'!AU65,Input_Details!$B$29,0)=\"\", \"-\", OFFSET('Raw Data'!AU65,Input_Details!$B$29,0))","v":3.4},{"$f":"IF(OFFSET('Raw Data'!AV65,Input_Details!$B$29,0)=\"\", \"-\", OFFSET('Raw Data'!AV65,Input_Details!$B$29,0))","v":2.8},{"$f":"IF(OFFSET('Raw Data'!AW65,Input_Details!$B$29,0)=\"\", \"-\", OFFSET('Raw Data'!AW65,Input_Details!$B$29,0))","v":0},{"$f":"IF(OFFSET('Raw Data'!AX65,Input_Details!$B$29,0)=\"\", \"-\", OFFSET('Raw Data'!AX65,Input_Details!$B$29,0))","v":1.6},{"$f":"IF(OFFSET('Raw Data'!AY65,Input_Details!$B$29,0)=\"\", \"-\", OFFSET('Raw Data'!AY65,Input_Details!$B$29,0))","v":0},{"$f":"IF(OFFSET('Raw Data'!AZ65,Input_Details!$B$29,0)=\"\", \"-\", OFFSET('Raw Data'!AZ65,Input_Details!$B$29,0))","v":0},{"$f":"IF(OFFSET('Raw Data'!BA65,Input_Details!$B$29,0)=\"\", \"-\", OFFSET('Raw Data'!BA65,Input_Details!$B$29,0))","v":0},{"$f":"IF(OFFSET('Raw Data'!BB65,Input_Details!$B$29,0)=\"\", \"-\", OFFSET('Raw Data'!BB65,Input_Details!$B$29,0))","v":0},{"$f":"IF(OFFSET('Raw Data'!BC65,Input_Details!$B$29,0)=\"\", \"-\", OFFSET('Raw Data'!BC65,Input_Details!$B$29,0))","v":0},{"$f":"IF(OFFSET('Raw Data'!BD65,Input_Details!$B$29,0)=\"\", \"-\", OFFSET('Raw Data'!BD65,Input_Details!$B$29,0))","v":0},{"$f":"IF(OFFSET('Raw Data'!BE65,Input_Details!$B$29,0)=\"\", \"-\", OFFSET('Raw Data'!BE65,Input_Details!$B$29,0))","v":0},{"$f":"IF(OFFSET('Raw Data'!BF65,Input_Details!$B$29,0)=\"\", \"-\", OFFSET('Raw Data'!BF65,Input_Details!$B$29,0))","v":0},7.7999999999999989,null,5.2,6,0,2.2000000000000002,0,0,0,0,0,0,0,0,13.399999999999999]
[null,"15:30:00",{"$f":"IF(OFFSET('Raw Data'!H66,Input_Details!$B$29,0)=\"\", \"-\", OFFSET('Raw Data'!H66,Input_Details!$B$29,0))","v":1.8},{"$f":"IF(OFFSET('Raw Data'!I66,Input_Details!$B$29,0)=\"\", \"-\", OFFSET('Raw Data'!I66,Input_Details!$B$29,0))","v":3},{"$f":"IF(OFFSET('Raw Data'!J66,Input_Details!$B$29,0)=\"\", \"-\", OFFSET('Raw Data'!J66,Input_Details!$B$29,0))","v":0},{"$f":"IF(OFFSET('Raw Data'!K66,Input_Details!$B$29,0)=\"\", \"-\", OFFSET('Raw Data'!K66,Input_Details!$B$29,0))","v":1.2},{"$f":"IF(OFFSET('Raw Data'!L66,Input_Details!$B$29,0)=\"\", \"-\", OFFSET('Raw Data'!L66,Input_Details!$B$29,0))","v":0},{"$f":"IF(OFFSET('Raw Data'!M66,Input_Details!$B$29,0)=\"\", \"-\", OFFSET('Raw Data'!M66,Input_Details!$B$29,0))","v":0},{"$f":"IF(OFFSET('Raw Data'!N66,Input_Details!$B$29,0)=\"\", \"-\", OFFSET('Raw Data'!N66,Input_Details!$B$29,0))","v":0},{"$f":"IF(OFFSET('Raw Data'!O66,Input_Details!$B$29,0)=\"\", \"-\", OFFSET('Raw Data'!O66,Input_Details!$B$29,0))","v":0},{"$f":"IF(OFFSET('Raw Data'!P66,Input_Details!$B$29,0)=\"\", \"-\", OFFSET('Raw Data'!P66,Input_Details!$B$29,0))","v":0},{"$f":"IF(OFFSET('Raw Data'!Q66,Input_Details!$B$29,0)=\"\", \"-\", OFFSET('Raw Data'!Q66,Input_Details!$B$29,0))","v":0},{"$f":"IF(OFFSET('Raw Data'!R66,Input_Details!$B$29,0)=\"\", \"-\", OFFSET('Raw Data'!R66,Input_Details!$B$29,0))","v":0},{"$f":"IF(OFFSET('Raw Data'!S66,Input_Details!$B$29,0)=\"\", \"-\", OFFSET('Raw Data'!S66,Input_Details!$B$29,0))","v":0},6,null,{"$f":"IF(OFFSET('Raw Data'!AU66,Input_Details!$B$29,0)=\"\", \"-\", OFFSET('Raw Data'!AU66,Input_Details!$B$29,0))","v":4},{"$f":"IF(OFFSET('Raw Data'!AV66,Input_Details!$B$29,0)=\"\", \"-\", OFFSET('Raw Data'!AV66,Input_Details!$B$29,0))","v":3},{"$f":"IF(OFFSET('Raw Data'!AW66,Input_Details!$B$29,0)=\"\", \"-\", OFFSET('Raw Data'!AW66,Input_Details!$B$29,0))","v":0},{"$f":"IF(OFFSET('Raw Data'!AX66,Input_Details!$B$29,0)=\"\", \"-\", OFFSET('Raw Data'!AX66,Input_Details!$B$29,0))","v":1.4},{"$f":"IF(OFFSET('Raw Data'!AY66,Input_Details!$B$29,0)=\"\", \"-\", OFFSET('Raw Data'!AY66,Input_Details!$B$29,0))","v":0},{"$f":"IF(OFFSET('Raw Data'!AZ66,Input_Details!$B$29,0)=\"\", \"-\", OFFSET('Raw Data'!AZ66,Input_Details!$B$29,0))","v":0},{"$f":"IF(OFFSET('Raw Data'!BA66,Input_Details!$B$29,0)=\"\", \"-\", OFFSET('Raw Data'!BA66,Input_Details!$B$29,0))","v":0},{"$f":"IF(OFFSET('Raw Data'!BB66,Input_Details!$B$29,0)=\"\", \"-\", OFFSET('Raw Data'!BB66,Input_Details!$B$29,0))","v":0},{"$f":"IF(OFFSET('Raw Data'!BC66,Input_Details!$B$29,0)=\"\", \"-\", OFFSET('Raw Data'!BC66,Input_Details!$B$29,0))","v":0},{"$f":"IF(OFFSET('Raw Data'!BD66,Input_Details!$B$29,0)=\"\", \"-\", OFFSET('Raw Data'!BD66,Input_Details!$B$29,0))","v":0},{"$f":"IF(OFFSET('Raw Data'!BE66,Input_Details!$B$29,0)=\"\", \"-\", OFFSET('Raw Data'!BE66,Input_Details!$B$29,0))","v":0},{"$f":"IF(OFFSET('Raw Data'!BF66,Input_Details!$B$29,0)=\"\", \"-\", OFFSET('Raw Data'!BF66,Input_Details!$B$29,0))","v":0},8.4,null,5.8,6,0,2.5999999999999996,0,0,0,0,0,0,0,0,14.4]
[null,"15:45:00",{"$f":"IF(OFFSET('Raw Data'!H67,Input_Details!$B$29,0)=\"\", \"-\", OFFSET('Raw Data'!H67,Input_Details!$B$29,0))","v":2.6},{"$f":"IF(OFFSET('Raw Data'!I67,Input_Details!$B$29,0)=\"\", \"-\", OFFSET('Raw Data'!I67,Input_Details!$B$29,0))","v":4},{"$f":"IF(OFFSET('Raw Data'!J67,Input_Details!$B$29,0)=\"\", \"-\", OFFSET('Raw Data'!J67,Input_Details!$B$29,0))","v":0},{"$f":"IF(OFFSET('Raw Data'!K67,Input_Details!$B$29,0)=\"\", \"-\", OFFSET('Raw Data'!K67,Input_Details!$B$29,0))","v":0.4},{"$f":"IF(OFFSET('Raw Data'!L67,Input_Details!$B$29,0)=\"\", \"-\", OFFSET('Raw Data'!L67,Input_Details!$B$29,0))","v":0},{"$f":"IF(OFFSET('Raw Data'!M67,Input_Details!$B$29,0)=\"\", \"-\", OFFSET('Raw Data'!M67,Input_Details!$B$29,0))","v":0},{"$f":"IF(OFFSET('Raw Data'!N67,Input_Details!$B$29,0)=\"\", \"-\", OFFSET('Raw Data'!N67,Input_Details!$B$29,0))","v":0},{"$f":"IF(OFFSET('Raw Data'!O67,Input_Details!$B$29,0)=\"\", \"-\", OFFSET('Raw Data'!O67,Input_Details!$B$29,0))","v":0},{"$f":"IF(OFFSET('Raw Data'!P67,Input_Details!$B$29,0)=\"\", \"-\", OFFSET('Raw Data'!P67,Input_Details!$B$29,0))","v":0},{"$f":"IF(OFFSET('Raw Data'!Q67,Input_Details!$B$29,0)=\"\", \"-\", OFFSET('Raw Data'!Q67,Input_Details!$B$29,0))","v":0},{"$f":"IF(OFFSET('Raw Data'!R67,Input_Details!$B$29,0)=\"\", \"-\", OFFSET('Raw Data'!R67,Input_Details!$B$29,0))","v":0},{"$f":"IF(OFFSET('Raw Data'!S67,Input_Details!$B$29,0)=\"\", \"-\", OFFSET('Raw Data'!S67,Input_Details!$B$29,0))","v":0},7,null,{"$f":"IF(OFFSET('Raw Data'!AU67,Input_Details!$B$29,0)=\"\", \"-\", OFFSET('Raw Data'!AU67,Input_Details!$B$29,0))","v":4.2},{"$f":"IF(OFFSET('Raw Data'!AV67,Input_Details!$B$29,0)=\"\", \"-\", OFFSET('Raw Data'!AV67,Input_Details!$B$29,0))","v":4},{"$f":"IF(OFFSET('Raw Data'!AW67,Input_Details!$B$29,0)=\"\", \"-\", OFFSET('Raw Data'!AW67,Input_Details!$B$29,0))","v":0},{"$f":"IF(OFFSET('Raw Data'!AX67,Input_Details!$B$29,0)=\"\", \"-\", OFFSET('Raw Data'!AX67,Input_Details!$B$29,0))","v":0.6},{"$f":"IF(OFFSET('Raw Data'!AY67,Input_Details!$B$29,0)=\"\", \"-\", OFFSET('Raw Data'!AY67,Input_Details!$B$29,0))","v":0},{"$f":"IF(OFFSET('Raw Data'!AZ67,Input_Details!$B$29,0)=\"\", \"-\", OFFSET('Raw Data'!AZ67,Input_Details!$B$29,0))","v":0},{"$f":"IF(OFFSET('Raw Data'!BA67,Input_Details!$B$29,0)=\"\", \"-\", OFFSET('Raw Data'!BA67,Input_Details!$B$29,0))","v":0},{"$f":"IF(OFFSET('Raw Data'!BB67,Input_Details!$B$29,0)=\"\", \"-\", OFFSET('Raw Data'!BB67,Input_Details!$B$29,0))","v":0},{"$f":"IF(OFFSET('Raw Data'!BC67,Input_Details!$B$29,0)=\"\", \"-\", OFFSET('Raw Data'!BC67,Input_Details!$B$29,0))","v":0},{"$f":"IF(OFFSET('Raw Data'!BD67,Input_Details!$B$29,0)=\"\", \"-\", OFFSET('Raw Data'!BD67,Input_Details!$B$29,0))","v":0},{"$f":"IF(OFFSET('Raw Data'!BE67,Input_Details!$B$29,0)=\"\", \"-\", OFFSET('Raw Data'!BE67,Input_Details!$B$29,0))","v":0},{"$f":"IF(OFFSET('Raw Data'!BF67,Input_Details!$B$29,0)=\"\", \"-\", OFFSET('Raw Data'!BF67,Input_Details!$B$29,0))","v":0},8.7999999999999989,null,6.8000000000000007,8,0,1,0,0,0,0,0,0,0,0,15.8]
[null,"16:00:00",{"$f":"IF(OFFSET('Raw Data'!H68,Input_Details!$B$29,0)=\"\", \"-\", OFFSET('Raw Data'!H68,Input_Details!$B$29,0))","v":0.6},{"$f":"IF(OFFSET('Raw Data'!I68,Input_Details!$B$29,0)=\"\", \"-\", OFFSET('Raw Data'!I68,Input_Details!$B$29,0))","v":3},{"$f":"IF(OFFSET('Raw Data'!J68,Input_Details!$B$29,0)=\"\", \"-\", OFFSET('Raw Data'!J68,Input_Details!$B$29,0))","v":0},{"$f":"IF(OFFSET('Raw Data'!K68,Input_Details!$B$29,0)=\"\", \"-\", OFFSET('Raw Data'!K68,Input_Details!$B$29,0))","v":0.6},{"$f":"IF(OFFSET('Raw Data'!L68,Input_Details!$B$29,0)=\"\", \"-\", OFFSET('Raw Data'!L68,Input_Details!$B$29,0))","v":0},{"$f":"IF(OFFSET('Raw Data'!M68,Input_Details!$B$29,0)=\"\", \"-\", OFFSET('Raw Data'!M68,Input_Details!$B$29,0))","v":0},{"$f":"IF(OFFSET('Raw Data'!N68,Input_Details!$B$29,0)=\"\", \"-\", OFFSET('Raw Data'!N68,Input_Details!$B$29,0))","v":0},{"$f":"IF(OFFSET('Raw Data'!O68,Input_Details!$B$29,0)=\"\", \"-\", OFFSET('Raw Data'!O68,Input_Details!$B$29,0))","v":0},{"$f":"IF(OFFSET('Raw Data'!P68,Input_Details!$B$29,0)=\"\", \"-\", OFFSET('Raw Data'!P68,Input_Details!$B$29,0))","v":0},{"$f":"IF(OFFSET('Raw Data'!Q68,Input_Details!$B$29,0)=\"\", \"-\", OFFSET('Raw Data'!Q68,Input_Details!$B$29,0))","v":0},{"$f":"IF(OFFSET('Raw Data'!R68,Input_Details!$B$29,0)=\"\", \"-\", OFFSET('Raw Data'!R68,Input_Details!$B$29,0))","v":0},{"$f":"IF(OFFSET('Raw Data'!S68,Input_Details!$B$29,0)=\"\", \"-\", OFFSET('Raw Data'!S68,Input_Details!$B$29,0))","v":0},4.2,null,{"$f":"IF(OFFSET('Raw Data'!AU68,Input_Details!$B$29,0)=\"\", \"-\", OFFSET('Raw Data'!AU68,Input_Details!$B$29,0))","v":3.2},{"$f":"IF(OFFSET('Raw Data'!AV68,Input_Details!$B$29,0)=\"\", \"-\", OFFSET('Raw Data'!AV68,Input_Details!$B$29,0))","v":6.6},{"$f":"IF(OFFSET('Raw Data'!AW68,Input_Details!$B$29,0)=\"\", \"-\", OFFSET('Raw Data'!AW68,Input_Details!$B$29,0))","v":0},{"$f":"IF(OFFSET('Raw Data'!AX68,Input_Details!$B$29,0)=\"\", \"-\", OFFSET('Raw Data'!AX68,Input_Details!$B$29,0))","v":0.8},{"$f":"IF(OFFSET('Raw Data'!AY68,Input_Details!$B$29,0)=\"\", \"-\", OFFSET('Raw Data'!AY68,Input_Details!$B$29,0))","v":0.2},{"$f":"IF(OFFSET('Raw Data'!AZ68,Input_Details!$B$29,0)=\"\", \"-\", OFFSET('Raw Data'!AZ68,Input_Details!$B$29,0))","v":0},{"$f":"IF(OFFSET('Raw Data'!BA68,Input_Details!$B$29,0)=\"\", \"-\", OFFSET('Raw Data'!BA68,Input_Details!$B$29,0))","v":0},{"$f":"IF(OFFSET('Raw Data'!BB68,Input_Details!$B$29,0)=\"\", \"-\", OFFSET('Raw Data'!BB68,Input_Details!$B$29,0))","v":0},{"$f":"IF(OFFSET('Raw Data'!BC68,Input_Details!$B$29,0)=\"\", \"-\", OFFSET('Raw Data'!BC68,Input_Details!$B$29,0))","v":0},{"$f":"IF(OFFSET('Raw Data'!BD68,Input_Details!$B$29,0)=\"\", \"-\", OFFSET('Raw Data'!BD68,Input_Details!$B$29,0))","v":0},{"$f":"IF(OFFSET('Raw Data'!BE68,Input_Details!$B$29,0)=\"\", \"-\", OFFSET('Raw Data'!BE68,Input_Details!$B$29,0))","v":0},{"$f":"IF(OFFSET('Raw Data'!BF68,Input_Details!$B$29,0)=\"\", \"-\", OFFSET('Raw Data'!BF68,Input_Details!$B$29,0))","v":0},10.8,null,3.8000000000000003,{"$f":"IF(OR(D83=\"-\", R83=\"-\"), \"-\", SUM(D83,R83))","v":9.6},{"$f":"IF(OR(E83=\"-\", S83=\"-\"), \"-\", SUM(E83,S83))","v":0},{"$f":"IF(OR(F83=\"-\", T83=\"-\"), \"-\", SUM(F83,T83))","v":1.4},{"$f":"IF(OR(G83=\"-\", U83=\"-\"), \"-\", SUM(G83,U83))","v":0.2},{"$f":"IF(OR(H83=\"-\", V83=\"-\"), \"-\", SUM(H83,V83))","v":0},{"$f":"IF(OR(I83=\"-\", W83=\"-\"), \"-\", SUM(I83,W83))","v":0},{"$f":"IF(OR(J83=\"-\", X83=\"-\"), \"-\", SUM(J83,X83))","v":0},{"$f":"IF(OR(K83=\"-\", Y83=\"-\"), \"-\", SUM(K83,Y83))","v":0},{"$f":"IF(OR(L83=\"-\", Z83=\"-\"), \"-\", SUM(L83,Z83))","v":0},{"$f":"IF(OR(M83=\"-\", AA83=\"-\"), \"-\", SUM(M83,AA83))","v":0},{"$f":"IF(OR(N83=\"-\", AB83=\"-\"), \"-\", SUM(N83,AB83))","v":0},15]
[null,"16:15:00",{"$f":"IF(OFFSET('Raw Data'!H69,Input_Details!$B$29,0)=\"\", \"-\", OFFSET('Raw Data'!H69,Input_Details!$B$29,0))","v":2.25},{"$f":"IF(OFFSET('Raw Data'!I69,Input_Details!$B$29,0)=\"\", \"-\", OFFSET('Raw Data'!I69,Input_Details!$B$29,0))","v":3},{"$f":"IF(OFFSET('Raw Data'!J69,Input_Details!$B$29,0)=\"\", \"-\", OFFSET('Raw Data'!J69,Input_Details!$B$29,0))","v":0},{"$f":"IF(OFFSET('Raw Data'!K69,Input_Details!$B$29,0)=\"\", \"-\", OFFSET('Raw Data'!K69,Input_Details!$B$29,0))","v":0.25},{"$f":"IF(OFFSET('Raw Data'!L69,Input_Details!$B$29,0)=\"\", \"-\", OFFSET('Raw Data'!L69,Input_Details!$B$29,0))","v":0},{"$f":"IF(OFFSET('Raw Data'!M69,Input_Details!$B$29,0)=\"\", \"-\", OFFSET('Raw Data'!M69,Input_Details!$B$29,0))","v":0},{"$f":"IF(OFFSET('Raw Data'!N69,Input_Details!$B$29,0)=\"\", \"-\", OFFSET('Raw Data'!N69,Input_Details!$B$29,0))","v":0},{"$f":"IF(OFFSET('Raw Data'!O69,Input_Details!$B$29,0)=\"\", \"-\", OFFSET('Raw Data'!O69,Input_Details!$B$29,0))","v":0},{"$f":"IF(OFFSET('Raw Data'!P69,Input_Details!$B$29,0)=\"\", \"-\", OFFSET('Raw Data'!P69,Input_Details!$B$29,0))","v":0},{"$f":"IF(OFFSET('Raw Data'!Q69,Input_Details!$B$29,0)=\"\", \"-\", OFFSET('Raw Data'!Q69,Input_Details!$B$29,0))","v":0},{"$f":"IF(OFFSET('Raw Data'!R69,Input_Details!$B$29,0)=\"\", \"-\", OFFSET('Raw Data'!R69,Input_Details!$B$29,0))","v":0},{"$f":"IF(OFFSET('Raw Data'!S69,Input_Details!$B$29,0)=\"\", \"-\", OFFSET('Raw Data'!S69,Input_Details!$B$29,0))","v":0},{"$f":"IF(C84=\"-\", \"-\", SUM(C84:N84))","v":5.5},null,{"$f":"IF(OFFSET('Raw Data'!AU69,Input_Details!$B$29,0)=\"\", \"-\", OFFSET('Raw Data'!AU69,Input_Details!$B$29,0))","v":3.75},{"$f":"IF(OFFSET('Raw Data'!AV69,Input_Details!$B$29,0)=\"\", \"-\", OFFSET('Raw Data'!AV69,Input_Details!$B$29,0))","v":5.25},{"$f":"IF(OFFSET('Raw Data'!AW69,Input_Details!$B$29,0)=\"\", \"-\", OFFSET('Raw Data'!AW69,Input_Details!$B$29,0))","v":0},{"$f":"IF(OFFSET('Raw Data'!AX69,Input_Details!$B$29,0)=\"\", \"-\", OFFSET('Raw Data'!AX69,Input_Details!$B$29,0))","v":0.25},{"$f":"IF(OFFSET('Raw Data'!AY69,Input_Details!$B$29,0)=\"\", \"-\", OFFSET('Raw Data'!AY69,Input_Details!$B$29,0))","v":0},{"$f":"IF(OFFSET('Raw Data'!AZ69,Input_Details!$B$29,0)=\"\", \"-\", OFFSET('Raw Data'!AZ69,Input_Details!$B$29,0))","v":0.25},{"$f":"IF(OFFSET('Raw Data'!BA69,Input_Details!$B$29,0)=\"\", \"-\", OFFSET('Raw Data'!BA69,Input_Details!$B$29,0))","v":0},{"$f":"IF(OFFSET('Raw Data'!BB69,Input_Details!$B$29,0)=\"\", \"-\", OFFSET('Raw Data'!BB69,Input_Details!$B$29,0))","v":0},{"$f":"IF(OFFSET('Raw Data'!BC69,Input_Details!$B$29,0)=\"\", \"-\", OFFSET('Raw Data'!BC69,Input_Details!$B$29,0))","v":0},{"$f":"IF(OFFSET('Raw Data'!BD69,Input_Details!$B$29,0)=\"\", \"-\", OFFSET('Raw Data'!BD69,Input_Details!$B$29,0))","v":0},{"$f":"IF(OFFSET('Raw Data'!BE69,Input_Details!$B$29,0)=\"\", \"-\", OFFSET('Raw Data'!BE69,Input_Details!$B$29,0))","v":0},{"$f":"IF(OFFSET('Raw Data'!BF69,Input_Details!$B$29,0)=\"\", \"-\", OFFSET('Raw Data'!BF69,Input_Details!$B$29,0))","v":0},{"$f":"IF(Q84=\"-\", \"-\", SUM(Q84:AB84))","v":9.5},null,{"$f":"IF(OR(C84=\"-\", Q84=\"-\"), \"-\", SUM(C84,Q84))","v":6},8.25,0,0.5,0,0.25,0,0,0,0,0,0,{"$f":"IF(AE84=\"-\", \"-\", SUM(AE84:AP84))","v":15}]
[null,"16:30:00",{"$f":"IF(OFFSET('Raw Data'!H70,Input_Details!$B$29,0)=\"\", \"-\", OFFSET('Raw Data'!H70,Input_Details!$B$29,0))","v":2.4},{"$f":"IF(OFFSET('Raw Data'!I70,Input_Details!$B$29,0)=\"\", \"-\", OFFSET('Raw Data'!I70,Input_Details!$B$29,0))","v":2.8},{"$f":"IF(OFFSET('Raw Data'!J70,Input_Details!$B$29,0)=\"\", \"-\", OFFSET('Raw Data'!J70,Input_Details!$B$29,0))","v":0},{"$f":"IF(OFFSET('Raw Data'!K70,Input_Details!$B$29,0)=\"\", \"-\", OFFSET('Raw Data'!K70,Input_Details!$B$29,0))","v":1.8},{"$f":"IF(OFFSET('Raw Data'!L70,Input_Details!$B$29,0)=\"\", \"-\", OFFSET('Raw Data'!L70,Input_Details!$B$29,0))","v":0},{"$f":"IF(OFFSET('Raw Data'!M70,Input_Details!$B$29,0)=\"\", \"-\", OFFSET('Raw Data'!M70,Input_Details!$B$29,0))","v":0},{"$f":"IF(OFFSET('Raw Data'!N70,Input_Details!$B$29,0)=\"\", \"-\", OFFSET('Raw Data'!N70,Input_Details!$B$29,0))","v":0},{"$f":"IF(OFFSET('Raw Data'!O70,Input_Details!$B$29,0)=\"\", \"-\", OFFSET('Raw Data'!O70,Input_Details!$B$29,0))","v":0},{"$f":"IF(OFFSET('Raw Data'!P70,Input_Details!$B$29,0)=\"\", \"-\", OFFSET('Raw Data'!P70,Input_Details!$B$29,0))","v":0},{"$f":"IF(OFFSET('Raw Data'!Q70,Input_Details!$B$29,0)=\"\", \"-\", OFFSET('Raw Data'!Q70,Input_Details!$B$29,0))","v":0},{"$f":"IF(OFFSET('Raw Data'!R70,Input_Details!$B$29,0)=\"\", \"-\", OFFSET('Raw Data'!R70,Input_Details!$B$29,0))","v":0},{"$f":"IF(OFFSET('Raw Data'!S70,Input_Details!$B$29,0)=\"\", \"-\", OFFSET('Raw Data'!S70,Input_Details!$B$29,0))","v":0},6.9999999999999991,null,{"$f":"IF(OFFSET('Raw Data'!AU70,Input_Details!$B$29,0)=\"\", \"-\", OFFSET('Raw Data'!AU70,Input_Details!$B$29,0))","v":9.4},{"$f":"IF(OFFSET('Raw Data'!AV70,Input_Details!$B$29,0)=\"\", \"-\", OFFSET('Raw Data'!AV70,Input_Details!$B$29,0))","v":4.5999999999999996},{"$f":"IF(OFFSET('Raw Data'!AW70,Input_Details!$B$29,0)=\"\", \"-\", OFFSET('Raw Data'!AW70,Input_Details!$B$29,0))","v":0},{"$f":"IF(OFFSET('Raw Data'!AX70,Input_Details!$B$29,0)=\"\", \"-\", OFFSET('Raw Data'!AX70,Input_Details!$B$29,0))","v":0.6},{"$f":"IF(OFFSET('Raw Data'!AY70,Input_Details!$B$29,0)=\"\", \"-\", OFFSET('Raw Data'!AY70,Input_Details!$B$29,0))","v":0},{"$f":"IF(OFFSET('Raw Data'!AZ70,Input_Details!$B$29,0)=\"\", \"-\", OFFSET('Raw Data'!AZ70,Input_Details!$B$29,0))","v":0.2},{"$f":"IF(OFFSET('Raw Data'!BA70,Input_Details!$B$29,0)=\"\", \"-\", OFFSET('Raw Data'!BA70,Input_Details!$B$29,0))","v":0},{"$f":"IF(OFFSET('Raw Data'!BB70,Input_Details!$B$29,0)=\"\", \"-\", OFFSET('Raw Data'!BB70,Input_Details!$B$29,0))","v":0},{"$f":"IF(OFFSET('Raw Data'!BC70,Input_Details!$B$29,0)=\"\", \"-\", OFFSET('Raw Data'!BC70,Input_Details!$B$29,0))","v":0},{"$f":"IF(OFFSET('Raw Data'!BD70,Input_Details!$B$29,0)=\"\", \"-\", OFFSET('Raw Data'!BD70,Input_Details!$B$29,0))","v":0},{"$f":"IF(OFFSET('Raw Data'!BE70,Input_Details!$B$29,0)=\"\", \"-\", OFFSET('Raw Data'!BE70,Input_Details!$B$29,0))","v":0},{"$f":"IF(OFFSET('Raw Data'!BF70,Input_Details!$B$29,0)=\"\", \"-\", OFFSET('Raw Data'!BF70,Input_Details!$B$29,0))","v":0},14.799999999999999,null,11.8,7.3999999999999995,0,2.4,0,0.2,0,0,0,0,0,0,21.799999999999997]
[null,"16:45:00",{"$f":"IF(OFFSET('Raw Data'!H71,Input_Details!$B$29,0)=\"\", \"-\", OFFSET('Raw Data'!H71,Input_Details!$B$29,0))","v":1.4},{"$f":"IF(OFFSET('Raw Data'!I71,Input_Details!$B$29,0)=\"\", \"-\", OFFSET('Raw Data'!I71,Input_Details!$B$29,0))","v":4.8},{"$f":"IF(OFFSET('Raw Data'!J71,Input_Details!$B$29,0)=\"\", \"-\", OFFSET('Raw Data'!J71,Input_Details!$B$29,0))","v":0},{"$f":"IF(OFFSET('Raw Data'!K71,Input_Details!$B$29,0)=\"\", \"-\", OFFSET('Raw Data'!K71,Input_Details!$B$29,0))","v":0.8},{"$f":"IF(OFFSET('Raw Data'!L71,Input_Details!$B$29,0)=\"\", \"-\", OFFSET('Raw Data'!L71,Input_Details!$B$29,0))","v":0},{"$f":"IF(OFFSET('Raw Data'!M71,Input_Details!$B$29,0)=\"\", \"-\", OFFSET('Raw Data'!M71,Input_Details!$B$29,0))","v":0},{"$f":"IF(OFFSET('Raw Data'!N71,Input_Details!$B$29,0)=\"\", \"-\", OFFSET('Raw Data'!N71,Input_Details!$B$29,0))","v":0},{"$f":"IF(OFFSET('Raw Data'!O71,Input_Details!$B$29,0)=\"\", \"-\", OFFSET('Raw Data'!O71,Input_Details!$B$29,0))","v":0},{"$f":"IF(OFFSET('Raw Data'!P71,Input_Details!$B$29,0)=\"\", \"-\", OFFSET('Raw Data'!P71,Input_Details!$B$29,0))","v":0},{"$f":"IF(OFFSET('Raw Data'!Q71,Input_Details!$B$29,0)=\"\", \"-\", OFFSET('Raw Data'!Q71,Input_Details!$B$29,0))","v":0},{"$f":"IF(OFFSET('Raw Data'!R71,Input_Details!$B$29,0)=\"\", \"-\", OFFSET('Raw Data'!R71,Input_Details!$B$29,0))","v":0},{"$f":"IF(OFFSET('Raw Data'!S71,Input_Details!$B$29,0)=\"\", \"-\", OFFSET('Raw Data'!S71,Input_Details!$B$29,0))","v":0},6.9999999999999991,null,{"$f":"IF(OFFSET('Raw Data'!AU71,Input_Details!$B$29,0)=\"\", \"-\", OFFSET('Raw Data'!AU71,Input_Details!$B$29,0))","v":8.8000000000000007},{"$f":"IF(OFFSET('Raw Data'!AV71,Input_Details!$B$29,0)=\"\", \"-\", OFFSET('Raw Data'!AV71,Input_Details!$B$29,0))","v":7},{"$f":"IF(OFFSET('Raw Data'!AW71,Input_Details!$B$29,0)=\"\", \"-\", OFFSET('Raw Data'!AW71,Input_Details!$B$29,0))","v":0},{"$f":"IF(OFFSET('Raw Data'!AX71,Input_Details!$B$29,0)=\"\", \"-\", OFFSET('Raw Data'!AX71,Input_Details!$B$29,0))","v":1.2},{"$f":"IF(OFFSET('Raw Data'!AY71,Input_Details!$B$29,0)=\"\", \"-\", OFFSET('Raw Data'!AY71,Input_Details!$B$29,0))","v":0},{"$f":"IF(OFFSET('Raw Data'!AZ71,Input_Details!$B$29,0)=\"\", \"-\", OFFSET('Raw Data'!AZ71,Input_Details!$B$29,0))","v":0.4},{"$f":"IF(OFFSET('Raw Data'!BA71,Input_Details!$B$29,0)=\"\", \"-\", OFFSET('Raw Data'!BA71,Input_Details!$B$29,0))","v":0},{"$f":"IF(OFFSET('Raw Data'!BB71,Input_Details!$B$29,0)=\"\", \"-\", OFFSET('Raw Data'!BB71,Input_Details!$B$29,0))","v":0},{"$f":"IF(OFFSET('Raw Data'!BC71,Input_Details!$B$29,0)=\"\", \"-\", OFFSET('Raw Data'!BC71,Input_Details!$B$29,0))","v":0},{"$f":"IF(OFFSET('Raw Data'!BD71,Input_Details!$B$29,0)=\"\", \"-\", OFFSET('Raw Data'!BD71,Input_Details!$B$29,0))","v":0},{"$f":"IF(OFFSET('Raw Data'!BE71,Input_Details!$B$29,0)=\"\", \"-\", OFFSET('Raw Data'!BE71,Input_Details!$B$29,0))","v":0},{"$f":"IF(OFFSET('Raw Data'!BF71,Input_Details!$B$29,0)=\"\", \"-\", OFFSET('Raw Data'!BF71,Input_Details!$B$29,0))","v":0},17.399999999999999,null,10.200000000000001,11.8,0,2,0,0.4,0,0,0,0,0,0,24.4]
[null,"17:00:00",{"$f":"IF(OFFSET('Raw Data'!H72,Input_Details!$B$29,0)=\"\", \"-\", OFFSET('Raw Data'!H72,Input_Details!$B$29,0))","v":2},{"$f":"IF(OFFSET('Raw Data'!I72,Input_Details!$B$29,0)=\"\", \"-\", OFFSET('Raw Data'!I72,Input_Details!$B$29,0))","v":3.6},{"$f":"IF(OFFSET('Raw Data'!J72,Input_Details!$B$29,0)=\"\", \"-\", OFFSET('Raw Data'!J72,Input_Details!$B$29,0))","v":0},{"$f":"IF(OFFSET('Raw Data'!K72,Input_Details!$B$29,0)=\"\", \"-\", OFFSET('Raw Data'!K72,Input_Details!$B$29,0))","v":0},{"$f":"IF(OFFSET('Raw Data'!L72,Input_Details!$B$29,0)=\"\", \"-\", OFFSET('Raw Data'!L72,Input_Details!$B$29,0))","v":0},{"$f":"IF(OFFSET('Raw Data'!M72,Input_Details!$B$29,0)=\"\", \"-\", OFFSET('Raw Data'!M72,Input_Details!$B$29,0))","v":0},{"$f":"IF(OFFSET('Raw Data'!N72,Input_Details!$B$29,0)=\"\", \"-\", OFFSET('Raw Data'!N72,Input_Details!$B$29,0))","v":0},{"$f":"IF(OFFSET('Raw Data'!O72,Input_Details!$B$29,0)=\"\", \"-\", OFFSET('Raw Data'!O72,Input_Details!$B$29,0))","v":0},{"$f":"IF(OFFSET('Raw Data'!P72,Input_Details!$B$29,0)=\"\", \"-\", OFFSET('Raw Data'!P72,Input_Details!$B$29,0))","v":0},{"$f":"IF(OFFSET('Raw Data'!Q72,Input_Details!$B$29,0)=\"\", \"-\", OFFSET('Raw Data'!Q72,Input_Details!$B$29,0))","v":0},{"$f":"IF(OFFSET('Raw Data'!R72,Input_Details!$B$29,0)=\"\", \"-\", OFFSET('Raw Data'!R72,Input_Details!$B$29,0))","v":0},{"$f":"IF(OFFSET('Raw Data'!S72,Input_Details!$B$29,0)=\"\", \"-\", OFFSET('Raw Data'!S72,Input_Details!$B$29,0))","v":0},5.6,null,{"$f":"IF(OFFSET('Raw Data'!AU72,Input_Details!$B$29,0)=\"\", \"-\", OFFSET('Raw Data'!AU72,Input_Details!$B$29,0))","v":10.199999999999999},{"$f":"IF(OFFSET('Raw Data'!AV72,Input_Details!$B$29,0)=\"\", \"-\", OFFSET('Raw Data'!AV72,Input_Details!$B$29,0))","v":4.8},{"$f":"IF(OFFSET('Raw Data'!AW72,Input_Details!$B$29,0)=\"\", \"-\", OFFSET('Raw Data'!AW72,Input_Details!$B$29,0))","v":0},{"$f":"IF(OFFSET('Raw Data'!AX72,Input_Details!$B$29,0)=\"\", \"-\", OFFSET('Raw Data'!AX72,Input_Details!$B$29,0))","v":0.4},{"$f":"IF(OFFSET('Raw Data'!AY72,Input_Details!$B$29,0)=\"\", \"-\", OFFSET('Raw Data'!AY72,Input_Details!$B$29,0))","v":0},{"$f":"IF(OFFSET('Raw Data'!AZ72,Input_Details!$B$29,0)=\"\", \"-\", OFFSET('Raw Data'!AZ72,Input_Details!$B$29,0))","v":0.4},{"$f":"IF(OFFSET('Raw Data'!BA72,Input_Details!$B$29,0)=\"\", \"-\", OFFSET('Raw Data'!BA72,Input_Details!$B$29,0))","v":0},{"$f":"IF(OFFSET('Raw Data'!BB72,Input_Details!$B$29,0)=\"\", \"-\", OFFSET('Raw Data'!BB72,Input_Details!$B$29,0))","v":0},{"$f":"IF(OFFSET('Raw Data'!BC72,Input_Details!$B$29,0)=\"\", \"-\", OFFSET('Raw Data'!BC72,Input_Details!$B$29,0))","v":0},{"$f":"IF(OFFSET('Raw Data'!BD72,Input_Details!$B$29,0)=\"\", \"-\", OFFSET('Raw Data'!BD72,Input_Details!$B$29,0))","v":0.2},{"$f":"IF(OFFSET('Raw Data'!BE72,Input_Details!$B$29,0)=\"\", \"-\", OFFSET('Raw Data'!BE72,Input_Details!$B$29,0))","v":0},{"$f":"IF(OFFSET('Raw Data'!BF72,Input_Details!$B$29,0)=\"\", \"-\", OFFSET('Raw Data'!BF72,Input_Details!$B$29,0))","v":0},16,null,12.2,8.4,0,0.4,0,0.4,0,0,0,0.2,0,0,21.599999999999998]
[null,"17:15:00",{"$f":"IF(OFFSET('Raw Data'!H73,Input_Details!$B$29,0)=\"\", \"-\", OFFSET('Raw Data'!H73,Input_Details!$B$29,0))","v":1.6},{"$f":"IF(OFFSET('Raw Data'!I73,Input_Details!$B$29,0)=\"\", \"-\", OFFSET('Raw Data'!I73,Input_Details!$B$29,0))","v":1.8},{"$f":"IF(OFFSET('Raw Data'!J73,Input_Details!$B$29,0)=\"\", \"-\", OFFSET('Raw Data'!J73,Input_Details!$B$29,0))","v":0},{"$f":"IF(OFFSET('Raw Data'!K73,Input_Details!$B$29,0)=\"\", \"-\", OFFSET('Raw Data'!K73,Input_Details!$B$29,0))","v":0.4},{"$f":"IF(OFFSET('Raw Data'!L73,Input_Details!$B$29,0)=\"\", \"-\", OFFSET('Raw Data'!L73,Input_Details!$B$29,0))","v":0},{"$f":"IF(OFFSET('Raw Data'!M73,Input_Details!$B$29,0)=\"\", \"-\", OFFSET('Raw Data'!M73,Input_Details!$B$29,0))","v":0},{"$f":"IF(OFFSET('Raw Data'!N73,Input_Details!$B$29,0)=\"\", \"-\", OFFSET('Raw Data'!N73,Input_Details!$B$29,0))","v":0},{"$f":"IF(OFFSET('Raw Data'!O73,Input_Details!$B$29,0)=\"\", \"-\", OFFSET('Raw Data'!O73,Input_Details!$B$29,0))","v":0},{"$f":"IF(OFFSET('Raw Data'!P73,Input_Details!$B$29,0)=\"\", \"-\", OFFSET('Raw Data'!P73,Input_Details!$B$29,0))","v":0},{"$f":"IF(OFFSET('Raw Data'!Q73,Input_Details!$B$29,0)=\"\", \"-\", OFFSET('Raw Data'!Q73,Input_Details!$B$29,0))","v":0},{"$f":"IF(OFFSET('Raw Data'!R73,Input_Details!$B$29,0)=\"\", \"-\", OFFSET('Raw Data'!R73,Input_Details!$B$29,0))","v":0},{"$f":"IF(OFFSET('Raw Data'!S73,Input_Details!$B$29,0)=\"\", \"-\", OFFSET('Raw Data'!S73,Input_Details!$B$29,0))","v":0},3.8000000000000003,null,{"$f":"IF(OFFSET('Raw Data'!AU73,Input_Details!$B$29,0)=\"\", \"-\", OFFSET('Raw Data'!AU73,Input_Details!$B$29,0))","v":15.4},{"$f":"IF(OFFSET('Raw Data'!AV73,Input_Details!$B$29,0)=\"\", \"-\", OFFSET('Raw Data'!AV73,Input_Details!$B$29,0))","v":5.6},{"$f":"IF(OFFSET('Raw Data'!AW73,Input_Details!$B$29,0)=\"\", \"-\", OFFSET('Raw Data'!AW73,Input_Details!$B$29,0))","v":0},{"$f":"IF(OFFSET('Raw Data'!AX73,Input_Details!$B$29,0)=\"\", \"-\", OFFSET('Raw Data'!AX73,Input_Details!$B$29,0))","v":0.8},{"$f":"IF(OFFSET('Raw Data'!AY73,Input_Details!$B$29,0)=\"\", \"-\", OFFSET('Raw Data'!AY73,Input_Details!$B$29,0))","v":0},{"$f":"IF(OFFSET('Raw Data'!AZ73,Input_Details!$B$29,0)=\"\", \"-\", OFFSET('Raw Data'!AZ73,Input_Details!$B$29,0))","v":1.2},{"$f":"IF(OFFSET('Raw Data'!BA73,Input_Details!$B$29,0)=\"\", \"-\", OFFSET('Raw Data'!BA73,Input_Details!$B$29,0))","v":0},{"$f":"IF(OFFSET('Raw Data'!BB73,Input_Details!$B$29,0)=\"\", \"-\", OFFSET('Raw Data'!BB73,Input_Details!$B$29,0))","v":0},{"$f":"IF(OFFSET('Raw Data'!BC73,Input_Details!$B$29,0)=\"\", \"-\", OFFSET('Raw Data'!BC73,Input_Details!$B$29,0))","v":0.2},{"$f":"IF(OFFSET('Raw Data'!BD73,Input_Details!$B$29,0)=\"\", \"-\", OFFSET('Raw Data'!BD73,Input_Details!$B$29,0))","v":0},{"$f":"IF(OFFSET('Raw Data'!BE73,Input_Details!$B$29,0)=\"\", \"-\", OFFSET('Raw Data'!BE73,Input_Details!$B$29,0))","v":0.2},{"$f":"IF(OFFSET('Raw Data'!BF73,Input_Details!$B$29,0)=\"\", \"-\", OFFSET('Raw Data'!BF73,Input_Details!$B$29,0))","v":0},23.4,null,17,7.3999999999999995,0,1.2000000000000002,0,1.2,0,0,0.2,0,0.2,0,27.199999999999996]
[null,"17:30:00",{"$f":"IF(OFFSET('Raw Data'!H74,Input_Details!$B$29,0)=\"\", \"-\", OFFSET('Raw Data'!H74,Input_Details!$B$29,0))","v":2.6},{"$f":"IF(OFFSET('Raw Data'!I74,Input_Details!$B$29,0)=\"\", \"-\", OFFSET('Raw Data'!I74,Input_Details!$B$29,0))","v":4.5999999999999996},{"$f":"IF(OFFSET('Raw Data'!J74,Input_Details!$B$29,0)=\"\", \"-\", OFFSET('Raw Data'!J74,Input_Details!$B$29,0))","v":0},{"$f":"IF(OFFSET('Raw Data'!K74,Input_Details!$B$29,0)=\"\", \"-\", OFFSET('Raw Data'!K74,Input_Details!$B$29,0))","v":0.4},{"$f":"IF(OFFSET('Raw Data'!L74,Input_Details!$B$29,0)=\"\", \"-\", OFFSET('Raw Data'!L74,Input_Details!$B$29,0))","v":0},{"$f":"IF(OFFSET('Raw Data'!M74,Input_Details!$B$29,0)=\"\", \"-\", OFFSET('Raw Data'!M74,Input_Details!$B$29,0))","v":0},{"$f":"IF(OFFSET('Raw Data'!N74,Input_Details!$B$29,0)=\"\", \"-\", OFFSET('Raw Data'!N74,Input_Details!$B$29,0))","v":0},{"$f":"IF(OFFSET('Raw Data'!O74,Input_Details!$B$29,0)=\"\", \"-\", OFFSET('Raw Data'!O74,Input_Details!$B$29,0))","v":0},{"$f":"IF(OFFSET('Raw Data'!P74,Input_Details!$B$29,0)=\"\", \"-\", OFFSET('Raw Data'!P74,Input_Details!$B$29,0))","v":0},{"$f":"IF(OFFSET('Raw Data'!Q74,Input_Details!$B$29,0)=\"\", \"-\", OFFSET('Raw Data'!Q74,Input_Details!$B$29,0))","v":0},{"$f":"IF(OFFSET('Raw Data'!R74,Input_Details!$B$29,0)=\"\", \"-\", OFFSET('Raw Data'!R74,Input_Details!$B$29,0))","v":0},{"$f":"IF(OFFSET('Raw Data'!S74,Input_Details!$B$29,0)=\"\", \"-\", OFFSET('Raw Data'!S74,Input_Details!$B$29,0))","v":0},7.6,null,{"$f":"IF(OFFSET('Raw Data'!AU74,Input_Details!$B$29,0)=\"\", \"-\", OFFSET('Raw Data'!AU74,Input_Details!$B$29,0))","v":18.399999999999999},{"$f":"IF(OFFSET('Raw Data'!AV74,Input_Details!$B$29,0)=\"\", \"-\", OFFSET('Raw Data'!AV74,Input_Details!$B$29,0))","v":6.2},{"$f":"IF(OFFSET('Raw Data'!AW74,Input_Details!$B$29,0)=\"\", \"-\", OFFSET('Raw Data'!AW74,Input_Details!$B$29,0))","v":0},{"$f":"IF(OFFSET('Raw Data'!AX74,Input_Details!$B$29,0)=\"\", \"-\", OFFSET('Raw Data'!AX74,Input_Details!$B$29,0))","v":0.6},{"$f":"IF(OFFSET('Raw Data'!AY74,Input_Details!$B$29,0)=\"\", \"-\", OFFSET('Raw Data'!AY74,Input_Details!$B$29,0))","v":0.2},{"$f":"IF(OFFSET('Raw Data'!AZ74,Input_Details!$B$29,0)=\"\", \"-\", OFFSET('Raw Data'!AZ74,Input_Details!$B$29,0))","v":2.4},{"$f":"IF(OFFSET('Raw Data'!BA74,Input_Details!$B$29,0)=\"\", \"-\", OFFSET('Raw Data'!BA74,Input_Details!$B$29,0))","v":0},{"$f":"IF(OFFSET('Raw Data'!BB74,Input_Details!$B$29,0)=\"\", \"-\", OFFSET('Raw Data'!BB74,Input_Details!$B$29,0))","v":0},{"$f":"IF(OFFSET('Raw Data'!BC74,Input_Details!$B$29,0)=\"\", \"-\", OFFSET('Raw Data'!BC74,Input_Details!$B$29,0))","v":0},{"$f":"IF(OFFSET('Raw Data'!BD74,Input_Details!$B$29,0)=\"\", \"-\", OFFSET('Raw Data'!BD74,Input_Details!$B$29,0))","v":1},{"$f":"IF(OFFSET('Raw Data'!BE74,Input_Details!$B$29,0)=\"\", \"-\", OFFSET('Raw Data'!BE74,Input_Details!$B$29,0))","v":0},{"$f":"IF(OFFSET('Raw Data'!BF74,Input_Details!$B$29,0)=\"\", \"-\", OFFSET('Raw Data'!BF74,Input_Details!$B$29,0))","v":0.2},28.999999999999996,null,21,10.8,0,1,0.2,2.4,0,0,0,1,0,0.2,36.6]
[null,"17:45:00",{"$f":"IF(OFFSET('Raw Data'!H75,Input_Details!$B$29,0)=\"\", \"-\", OFFSET('Raw Data'!H75,Input_Details!$B$29,0))","v":3.2},{"$f":"IF(OFFSET('Raw Data'!I75,Input_Details!$B$29,0)=\"\", \"-\", OFFSET('Raw Data'!I75,Input_Details!$B$29,0))","v":3.6},{"$f":"IF(OFFSET('Raw Data'!J75,Input_Details!$B$29,0)=\"\", \"-\", OFFSET('Raw Data'!J75,Input_Details!$B$29,0))","v":0},{"$f":"IF(OFFSET('Raw Data'!K75,Input_Details!$B$29,0)=\"\", \"-\", OFFSET('Raw Data'!K75,Input_Details!$B$29,0))","v":0.2},{"$f":"IF(OFFSET('Raw Data'!L75,Input_Details!$B$29,0)=\"\", \"-\", OFFSET('Raw Data'!L75,Input_Details!$B$29,0))","v":0},{"$f":"IF(OFFSET('Raw Data'!M75,Input_Details!$B$29,0)=\"\", \"-\", OFFSET('Raw Data'!M75,Input_Details!$B$29,0))","v":0},{"$f":"IF(OFFSET('Raw Data'!N75,Input_Details!$B$29,0)=\"\", \"-\", OFFSET('Raw Data'!N75,Input_Details!$B$29,0))","v":0},{"$f":"IF(OFFSET('Raw Data'!O75,Input_Details!$B$29,0)=\"\", \"-\", OFFSET('Raw Data'!O75,Input_Details!$B$29,0))","v":0},{"$f":"IF(OFFSET('Raw Data'!P75,Input_Details!$B$29,0)=\"\", \"-\", OFFSET('Raw Data'!P75,Input_Details!$B$29,0))","v":0},{"$f":"IF(OFFSET('Raw Data'!Q75,Input_Details!$B$29,0)=\"\", \"-\", OFFSET('Raw Data'!Q75,Input_Details!$B$29,0))","v":0},{"$f":"IF(OFFSET('Raw Data'!R75,Input_Details!$B$29,0)=\"\", \"-\", OFFSET('Raw Data'!R75,Input_Details!$B$29,0))","v":0},{"$f":"IF(OFFSET('Raw Data'!S75,Input_Details!$B$29,0)=\"\", \"-\", OFFSET('Raw Data'!S75,Input_Details!$B$29,0))","v":0},7.0000000000000009,null,{"$f":"IF(OFFSET('Raw Data'!AU75,Input_Details!$B$29,0)=\"\", \"-\", OFFSET('Raw Data'!AU75,Input_Details!$B$29,0))","v":21.8},{"$f":"IF(OFFSET('Raw Data'!AV75,Input_Details!$B$29,0)=\"\", \"-\", OFFSET('Raw Data'!AV75,Input_Details!$B$29,0))","v":7.2},{"$f":"IF(OFFSET('Raw Data'!AW75,Input_Details!$B$29,0)=\"\", \"-\", OFFSET('Raw Data'!AW75,Input_Details!$B$29,0))","v":0.2},{"$f":"IF(OFFSET('Raw Data'!AX75,Input_Details!$B$29,0)=\"\", \"-\", OFFSET('Raw Data'!AX75,Input_Details!$B$29,0))","v":0.2},{"$f":"IF(OFFSET('Raw Data'!AY75,Input_Details!$B$29,0)=\"\", \"-\", OFFSET('Raw Data'!AY75,Input_Details!$B$29,0))","v":0.2},{"$f":"IF(OFFSET('Raw Data'!AZ75,Input_Details!$B$29,0)=\"\", \"-\", OFFSET('Raw Data'!AZ75,Input_Details!$B$29,0))","v":2.8},{"$f":"IF(OFFSET('Raw Data'!BA75,Input_Details!$B$29,0)=\"\", \"-\", OFFSET('Raw Data'!BA75,Input_Details!$B$29,0))","v":0},{"$f":"IF(OFFSET('Raw Data'!BB75,Input_Details!$B$29,0)=\"\", \"-\", OFFSET('Raw Data'!BB75,Input_Details!$B$29,0))","v":0},{"$f":"IF(OFFSET('Raw Data'!BC75,Input_Details!$B$29,0)=\"\", \"-\", OFFSET('Raw Data'!BC75,Input_Details!$B$29,0))","v":0},{"$f":"IF(OFFSET('Raw Data'!BD75,Input_Details!$B$29,0)=\"\", \"-\", OFFSET('Raw Data'!BD75,Input_Details!$B$29,0))","v":0.2},{"$f":"IF(OFFSET('Raw Data'!BE75,Input_Details!$B$29,0)=\"\", \"-\", OFFSET('Raw Data'!BE75,Input_Details!$B$29,0))","v":0.2},{"$f":"IF(OFFSET('Raw Data'!BF75,Input_Details!$B$29,0)=\"\", \"-\", OFFSET('Raw Data'!BF75,Input_Details!$B$29,0))","v":0},32.800000000000004,null,25,10.8,0.2,0.4,0.2,2.8,0,0,0,0.2,0.2,0,39.800000000000004]
[null,"18:00:00",{"$f":"IF(OFFSET('Raw Data'!H76,Input_Details!$B$29,0)=\"\", \"-\", OFFSET('Raw Data'!H76,Input_Details!$B$29,0))","v":2.4},{"$f":"IF(OFFSET('Raw Data'!I76,Input_Details!$B$29,0)=\"\", \"-\", OFFSET('Raw Data'!I76,Input_Details!$B$29,0))","v":5.4},{"$f":"IF(OFFSET('Raw Data'!J76,Input_Details!$B$29,0)=\"\", \"-\", OFFSET('Raw Data'!J76,Input_Details!$B$29,0))","v":0},{"$f":"IF(OFFSET('Raw Data'!K76,Input_Details!$B$29,0)=\"\", \"-\", OFFSET('Raw Data'!K76,Input_Details!$B$29,0))","v":0.8},{"$f":"IF(OFFSET('Raw Data'!L76,Input_Details!$B$29,0)=\"\", \"-\", OFFSET('Raw Data'!L76,Input_Details!$B$29,0))","v":0},{"$f":"IF(OFFSET('Raw Data'!M76,Input_Details!$B$29,0)=\"\", \"-\", OFFSET('Raw Data'!M76,Input_Details!$B$29,0))","v":0},{"$f":"IF(OFFSET('Raw Data'!N76,Input_Details!$B$29,0)=\"\", \"-\", OFFSET('Raw Data'!N76,Input_Details!$B$29,0))","v":0},{"$f":"IF(OFFSET('Raw Data'!O76,Input_Details!$B$29,0)=\"\", \"-\", OFFSET('Raw Data'!O76,Input_Details!$B$29,0))","v":0},{"$f":"IF(OFFSET('Raw Data'!P76,Input_Details!$B$29,0)=\"\", \"-\", OFFSET('Raw Data'!P76,Input_Details!$B$29,0))","v":0},{"$f":"IF(OFFSET('Raw Data'!Q76,Input_Details!$B$29,0)=\"\", \"-\", OFFSET('Raw Data'!Q76,Input_Details!$B$29,0))","v":0},{"$f":"IF(OFFSET('Raw Data'!R76,Input_Details!$B$29,0)=\"\", \"-\", OFFSET('Raw Data'!R76,Input_Details!$B$29,0))","v":0},{"$f":"IF(OFFSET('Raw Data'!S76,Input_Details!$B$29,0)=\"\", \"-\", OFFSET('Raw Data'!S76,Input_Details!$B$29,0))","v":0},8.6000000000000014,null,{"$f":"IF(OFFSET('Raw Data'!AU76,Input_Details!$B$29,0)=\"\", \"-\", OFFSET('Raw Data'!AU76,Input_Details!$B$29,0))","v":23},{"$f":"IF(OFFSET('Raw Data'!AV76,Input_Details!$B$29,0)=\"\", \"-\", OFFSET('Raw Data'!AV76,Input_Details!$B$29,0))","v":7.8},{"$f":"IF(OFFSET('Raw Data'!AW76,Input_Details!$B$29,0)=\"\", \"-\", OFFSET('Raw Data'!AW76,Input_Details!$B$29,0))","v":0.2},{"$f":"IF(OFFSET('Raw Data'!AX76,Input_Details!$B$29,0)=\"\", \"-\", OFFSET('Raw Data'!AX76,Input_Details!$B$29,0))","v":1.2},{"$f":"IF(OFFSET('Raw Data'!AY76,Input_Details!$B$29,0)=\"\", \"-\", OFFSET('Raw Data'!AY76,Input_Details!$B$29,0))","v":0},{"$f":"IF(OFFSET('Raw Data'!AZ76,Input_Details!$B$29,0)=\"\", \"-\", OFFSET('Raw Data'!AZ76,Input_Details!$B$29,0))","v":3},{"$f":"IF(OFFSET('Raw Data'!BA76,Input_Details!$B$29,0)=\"\", \"-\", OFFSET('Raw Data'!BA76,Input_Details!$B$29,0))","v":0},{"$f":"IF(OFFSET('Raw Data'!BB76,Input_Details!$B$29,0)=\"\", \"-\", OFFSET('Raw Data'!BB76,Input_Details!$B$29,0))","v":0},{"$f":"IF(OFFSET('Raw Data'!BC76,Input_Details!$B$29,0)=\"\", \"-\", OFFSET('Raw Data'!BC76,Input_Details!$B$29,0))","v":0},{"$f":"IF(OFFSET('Raw Data'!BD76,Input_Details!$B$29,0)=\"\", \"-\", OFFSET('Raw Data'!BD76,Input_Details!$B$29,0))","v":2.2000000000000002},{"$f":"IF(OFFSET('Raw Data'!BE76,Input_Details!$B$29,0)=\"\", \"-\", OFFSET('Raw Data'!BE76,Input_Details!$B$29,0))","v":0.4},{"$f":"IF(OFFSET('Raw Data'!BF76,Input_Details!$B$29,0)=\"\", \"-\", OFFSET('Raw Data'!BF76,Input_Details!$B$29,0))","v":0},37.800000000000004,null,25.4,13.2,0.2,2,0,3,0,0,0,2.2000000000000002,0.4,0,46.4]
[null,"18:15:00",{"$f":"IF(OFFSET('Raw Data'!H77,Input_Details!$B$29,0)=\"\", \"-\", OFFSET('Raw Data'!H77,Input_Details!$B$29,0))","v":2.2000000000000002},{"$f":"IF(OFFSET('Raw Data'!I77,Input_Details!$B$29,0)=\"\", \"-\", OFFSET('Raw Data'!I77,Input_Details!$B$29,0))","v":4},{"$f":"IF(OFFSET('Raw Data'!J77,Input_Details!$B$29,0)=\"\", \"-\", OFFSET('Raw Data'!J77,Input_Details!$B$29,0))","v":0},{"$f":"IF(OFFSET('Raw Data'!K77,Input_Details!$B$29,0)=\"\", \"-\", OFFSET('Raw Data'!K77,Input_Details!$B$29,0))","v":0.4},{"$f":"IF(OFFSET('Raw Data'!L77,Input_Details!$B$29,0)=\"\", \"-\", OFFSET('Raw Data'!L77,Input_Details!$B$29,0))","v":0.2},{"$f":"IF(OFFSET('Raw Data'!M77,Input_Details!$B$29,0)=\"\", \"-\", OFFSET('Raw Data'!M77,Input_Details!$B$29,0))","v":0},{"$f":"IF(OFFSET('Raw Data'!N77,Input_Details!$B$29,0)=\"\", \"-\", OFFSET('Raw Data'!N77,Input_Details!$B$29,0))","v":0},{"$f":"IF(OFFSET('Raw Data'!O77,Input_Details!$B$29,0)=\"\", \"-\", OFFSET('Raw Data'!O77,Input_Details!$B$29,0))","v":0},{"$f":"IF(OFFSET('Raw Data'!P77,Input_Details!$B$29,0)=\"\", \"-\", OFFSET('Raw Data'!P77,Input_Details!$B$29,0))","v":0},{"$f":"IF(OFFSET('Raw Data'!Q77,Input_Details!$B$29,0)=\"\", \"-\", OFFSET('Raw Data'!Q77,Input_Details!$B$29,0))","v":0},{"$f":"IF(OFFSET('Raw Data'!R77,Input_Details!$B$29,0)=\"\", \"-\", OFFSET('Raw Data'!R77,Input_Details!$B$29,0))","v":0},{"$f":"IF(OFFSET('Raw Data'!S77,Input_Details!$B$29,0)=\"\", \"-\", OFFSET('Raw Data'!S77,Input_Details!$B$29,0))","v":0},6.8000000000000007,null,{"$f":"IF(OFFSET('Raw Data'!AU77,Input_Details!$B$29,0)=\"\", \"-\", OFFSET('Raw Data'!AU77,Input_Details!$B$29,0))","v":25.4},{"$f":"IF(OFFSET('Raw Data'!AV77,Input_Details!$B$29,0)=\"\", \"-\", OFFSET('Raw Data'!AV77,Input_Details!$B$29,0))","v":8.4},{"$f":"IF(OFFSET('Raw Data'!AW77,Input_Details!$B$29,0)=\"\", \"-\", OFFSET('Raw Data'!AW77,Input_Details!$B$29,0))","v":0},{"$f":"IF(OFFSET('Raw Data'!AX77,Input_Details!$B$29,0)=\"\", \"-\", OFFSET('Raw Data'!AX77,Input_Details!$B$29,0))","v":0.2},{"$f":"IF(OFFSET('Raw Data'!AY77,Input_Details!$B$29,0)=\"\", \"-\", OFFSET('Raw Data'!AY77,Input_Details!$B$29,0))","v":0.2},{"$f":"IF(OFFSET('Raw Data'!AZ77,Input_Details!$B$29,0)=\"\", \"-\", OFFSET('Raw Data'!AZ77,Input_Details!$B$29,0))","v":3.4},{"$f":"IF(OFFSET('Raw Data'!BA77,Input_Details!$B$29,0)=\"\", \"-\", OFFSET('Raw Data'!BA77,Input_Details!$B$29,0))","v":0},{"$f":"IF(OFFSET('Raw Data'!BB77,Input_Details!$B$29,0)=\"\", \"-\", OFFSET('Raw Data'!BB77,Input_Details!$B$29,0))","v":0},{"$f":"IF(OFFSET('Raw Data'!BC77,Input_Details!$B$29,0)=\"\", \"-\", OFFSET('Raw Data'!BC77,Input_Details!$B$29,0))","v":0},{"$f":"IF(OFFSET('Raw Data'!BD77,Input_Details!$B$29,0)=\"\", \"-\", OFFSET('Raw Data'!BD77,Input_Details!$B$29,0))","v":1},{"$f":"IF(OFFSET('Raw Data'!BE77,Input_Details!$B$29,0)=\"\", \"-\", OFFSET('Raw Data'!BE77,Input_Details!$B$29,0))","v":0.4},{"$f":"IF(OFFSET('Raw Data'!BF77,Input_Details!$B$29,0)=\"\", \"-\", OFFSET('Raw Data'!BF77,Input_Details!$B$29,0))","v":0},39,null,27.599999999999998,12.4,0,0.60000000000000009,0.4,3.4,0,0,0,1,0.4,0,45.8]
[null,"18:30:00",{"$f":"IF(OFFSET('Raw Data'!H78,Input_Details!$B$29,0)=\"\", \"-\", OFFSET('Raw Data'!H78,Input_Details!$B$29,0))","v":2.2000000000000002},{"$f":"IF(OFFSET('Raw Data'!I78,Input_Details!$B$29,0)=\"\", \"-\", OFFSET('Raw Data'!I78,Input_Details!$B$29,0))","v":4.8},{"$f":"IF(OFFSET('Raw Data'!J78,Input_Details!$B$29,0)=\"\", \"-\", OFFSET('Raw Data'!J78,Input_Details!$B$29,0))","v":0},{"$f":"IF(OFFSET('Raw Data'!K78,Input_Details!$B$29,0)=\"\", \"-\", OFFSET('Raw Data'!K78,Input_Details!$B$29,0))","v":0.2},{"$f":"IF(OFFSET('Raw Data'!L78,Input_Details!$B$29,0)=\"\", \"-\", OFFSET('Raw Data'!L78,Input_Details!$B$29,0))","v":0},{"$f":"IF(OFFSET('Raw Data'!M78,Input_Details!$B$29,0)=\"\", \"-\", OFFSET('Raw Data'!M78,Input_Details!$B$29,0))","v":0.4},{"$f":"IF(OFFSET('Raw Data'!N78,Input_Details!$B$29,0)=\"\", \"-\", OFFSET('Raw Data'!N78,Input_Details!$B$29,0))","v":0},{"$f":"IF(OFFSET('Raw Data'!O78,Input_Details!$B$29,0)=\"\", \"-\", OFFSET('Raw Data'!O78,Input_Details!$B$29,0))","v":0},{"$f":"IF(OFFSET('Raw Data'!P78,Input_Details!$B$29,0)=\"\", \"-\", OFFSET('Raw Data'!P78,Input_Details!$B$29,0))","v":0},{"$f":"IF(OFFSET('Raw Data'!Q78,Input_Details!$B$29,0)=\"\", \"-\", OFFSET('Raw Data'!Q78,Input_Details!$B$29,0))","v":0},{"$f":"IF(OFFSET('Raw Data'!R78,Input_Details!$B$29,0)=\"\", \"-\", OFFSET('Raw Data'!R78,Input_Details!$B$29,0))","v":0},{"$f":"IF(OFFSET('Raw Data'!S78,Input_Details!$B$29,0)=\"\", \"-\", OFFSET('Raw Data'!S78,Input_Details!$B$29,0))","v":0},7.6000000000000005,null,{"$f":"IF(OFFSET('Raw Data'!AU78,Input_Details!$B$29,0)=\"\", \"-\", OFFSET('Raw Data'!AU78,Input_Details!$B$29,0))","v":20},{"$f":"IF(OFFSET('Raw Data'!AV78,Input_Details!$B$29,0)=\"\", \"-\", OFFSET('Raw Data'!AV78,Input_Details!$B$29,0))","v":7.6},{"$f":"IF(OFFSET('Raw Data'!AW78,Input_Details!$B$29,0)=\"\", \"-\", OFFSET('Raw Data'!AW78,Input_Details!$B$29,0))","v":0},{"$f":"IF(OFFSET('Raw Data'!AX78,Input_Details!$B$29,0)=\"\", \"-\", OFFSET('Raw Data'!AX78,Input_Details!$B$29,0))","v":0.4},{"$f":"IF(OFFSET('Raw Data'!AY78,Input_Details!$B$29,0)=\"\", \"-\", OFFSET('Raw Data'!AY78,Input_Details!$B$29,0))","v":0.2},{"$f":"IF(OFFSET('Raw Data'!AZ78,Input_Details!$B$29,0)=\"\", \"-\", OFFSET('Raw Data'!AZ78,Input_Details!$B$29,0))","v":5.4},{"$f":"IF(OFFSET('Raw Data'!BA78,Input_Details!$B$29,0)=\"\", \"-\", OFFSET('Raw Data'!BA78,Input_Details!$B$29,0))","v":0},{"$f":"IF(OFFSET('Raw Data'!BB78,Input_Details!$B$29,0)=\"\", \"-\", OFFSET('Raw Data'!BB78,Input_Details!$B$29,0))","v":0.2},{"$f":"IF(OFFSET('Raw Data'!BC78,Input_Details!$B$29,0)=\"\", \"-\", OFFSET('Raw Data'!BC78,Input_Details!$B$29,0))","v":0.2},{"$f":"IF(OFFSET('Raw Data'!BD78,Input_Details!$B$29,0)=\"\", \"-\", OFFSET('Raw Data'!BD78,Input_Details!$B$29,0))","v":0.8},{"$f":"IF(OFFSET('Raw Data'!BE78,Input_Details!$B$29,0)=\"\", \"-\", OFFSET('Raw Data'!BE78,Input_Details!$B$29,0))","v":0.4},{"$f":"IF(OFFSET('Raw Data'!BF78,Input_Details!$B$29,0)=\"\", \"-\", OFFSET('Raw Data'!BF78,Input_Details!$B$29,0))","v":0.2},35.400000000000006,null,22.2,12.399999999999999,0,0.60000000000000009,0.2,5.8000000000000007,0,0.2,0.2,0.8,0.4,0.2,43.000000000000007]
[null,"18:45:00",{"$f":"IF(OFFSET('Raw Data'!H79,Input_Details!$B$29,0)=\"\", \"-\", OFFSET('Raw Data'!H79,Input_Details!$B$29,0))","v":2.8},{"$f":"IF(OFFSET('Raw Data'!I79,Input_Details!$B$29,0)=\"\", \"-\", OFFSET('Raw Data'!I79,Input_Details!$B$29,0))","v":4.4000000000000004},{"$f":"IF(OFFSET('Raw Data'!J79,Input_Details!$B$29,0)=\"\", \"-\", OFFSET('Raw Data'!J79,Input_Details!$B$29,0))","v":0},{"$f":"IF(OFFSET('Raw Data'!K79,Input_Details!$B$29,0)=\"\", \"-\", OFFSET('Raw Data'!K79,Input_Details!$B$29,0))","v":0.4},{"$f":"IF(OFFSET('Raw Data'!L79,Input_Details!$B$29,0)=\"\", \"-\", OFFSET('Raw Data'!L79,Input_Details!$B$29,0))","v":0},{"$f":"IF(OFFSET('Raw Data'!M79,Input_Details!$B$29,0)=\"\", \"-\", OFFSET('Raw Data'!M79,Input_Details!$B$29,0))","v":0.2},{"$f":"IF(OFFSET('Raw Data'!N79,Input_Details!$B$29,0)=\"\", \"-\", OFFSET('Raw Data'!N79,Input_Details!$B$29,0))","v":0},{"$f":"IF(OFFSET('Raw Data'!O79,Input_Details!$B$29,0)=\"\", \"-\", OFFSET('Raw Data'!O79,Input_Details!$B$29,0))","v":0},{"$f":"IF(OFFSET('Raw Data'!P79,Input_Details!$B$29,0)=\"\", \"-\", OFFSET('Raw Data'!P79,Input_Details!$B$29,0))","v":0},{"$f":"IF(OFFSET('Raw Data'!Q79,Input_Details!$B$29,0)=\"\", \"-\", OFFSET('Raw Data'!Q79,Input_Details!$B$29,0))","v":0},{"$f":"IF(OFFSET('Raw Data'!R79,Input_Details!$B$29,0)=\"\", \"-\", OFFSET('Raw Data'!R79,Input_Details!$B$29,0))","v":0},{"$f":"IF(OFFSET('Raw Data'!S79,Input_Details!$B$29,0)=\"\", \"-\", OFFSET('Raw Data'!S79,Input_Details!$B$29,0))","v":0},7.8000000000000007,null,{"$f":"IF(OFFSET('Raw Data'!AU79,Input_Details!$B$29,0)=\"\", \"-\", OFFSET('Raw Data'!AU79,Input_Details!$B$29,0))","v":22.6},{"$f":"IF(OFFSET('Raw Data'!AV79,Input_Details!$B$29,0)=\"\", \"-\", OFFSET('Raw Data'!AV79,Input_Details!$B$29,0))","v":6},{"$f":"IF(OFFSET('Raw Data'!AW79,Input_Details!$B$29,0)=\"\", \"-\", OFFSET('Raw Data'!AW79,Input_Details!$B$29,0))","v":0},{"$f":"IF(OFFSET('Raw Data'!AX79,Input_Details!$B$29,0)=\"\", \"-\", OFFSET('Raw Data'!AX79,Input_Details!$B$29,0))","v":0.6},{"$f":"IF(OFFSET('Raw Data'!AY79,Input_Details!$B$29,0)=\"\", \"-\", OFFSET('Raw Data'!AY79,Input_Details!$B$29,0))","v":0},{"$f":"IF(OFFSET('Raw Data'!AZ79,Input_Details!$B$29,0)=\"\", \"-\", OFFSET('Raw Data'!AZ79,Input_Details!$B$29,0))","v":3},{"$f":"IF(OFFSET('Raw Data'!BA79,Input_Details!$B$29,0)=\"\", \"-\", OFFSET('Raw Data'!BA79,Input_Details!$B$29,0))","v":0},{"$f":"IF(OFFSET('Raw Data'!BB79,Input_Details!$B$29,0)=\"\", \"-\", OFFSET('Raw Data'!BB79,Input_Details!$B$29,0))","v":0},{"$f":"IF(OFFSET('Raw Data'!BC79,Input_Details!$B$29,0)=\"\", \"-\", OFFSET('Raw Data'!BC79,Input_Details!$B$29,0))","v":0},{"$f":"IF(OFFSET('Raw Data'!BD79,Input_Details!$B$29,0)=\"\", \"-\", OFFSET('Raw Data'!BD79,Input_Details!$B$29,0))","v":0.4},{"$f":"IF(OFFSET('Raw Data'!BE79,Input_Details!$B$29,0)=\"\", \"-\", OFFSET('Raw Data'!BE79,Input_Details!$B$29,0))","v":0},{"$f":"IF(OFFSET('Raw Data'!BF79,Input_Details!$B$29,0)=\"\", \"-\", OFFSET('Raw Data'!BF79,Input_Details!$B$29,0))","v":0},32.6,null,25.400000000000002,10.4,0,1,0,3.2,0,0,0,0.4,0,0,40.400000000000006]
[null,"19:00:00",{"$f":"IF(OFFSET('Raw Data'!H80,Input_Details!$B$29,0)=\"\", \"-\", OFFSET('Raw Data'!H80,Input_Details!$B$29,0))","v":1.4},{"$f":"IF(OFFSET('Raw Data'!I80,Input_Details!$B$29,0)=\"\", \"-\", OFFSET('Raw Data'!I80,Input_Details!$B$29,0))","v":5},{"$f":"IF(OFFSET('Raw Data'!J80,Input_Details!$B$29,0)=\"\", \"-\", OFFSET('Raw Data'!J80,Input_Details!$B$29,0))","v":0},{"$f":"IF(OFFSET('Raw Data'!K80,Input_Details!$B$29,0)=\"\", \"-\", OFFSET('Raw Data'!K80,Input_Details!$B$29,0))","v":0.4},{"$f":"IF(OFFSET('Raw Data'!L80,Input_Details!$B$29,0)=\"\", \"-\", OFFSET('Raw Data'!L80,Input_Details!$B$29,0))","v":0},{"$f":"IF(OFFSET('Raw Data'!M80,Input_Details!$B$29,0)=\"\", \"-\", OFFSET('Raw Data'!M80,Input_Details!$B$29,0))","v":0},{"$f":"IF(OFFSET('Raw Data'!N80,Input_Details!$B$29,0)=\"\", \"-\", OFFSET('Raw Data'!N80,Input_Details!$B$29,0))","v":0},{"$f":"IF(OFFSET('Raw Data'!O80,Input_Details!$B$29,0)=\"\", \"-\", OFFSET('Raw Data'!O80,Input_Details!$B$29,0))","v":0},{"$f":"IF(OFFSET('Raw Data'!P80,Input_Details!$B$29,0)=\"\", \"-\", OFFSET('Raw Data'!P80,Input_Details!$B$29,0))","v":0},{"$f":"IF(OFFSET('Raw Data'!Q80,Input_Details!$B$29,0)=\"\", \"-\", OFFSET('Raw Data'!Q80,Input_Details!$B$29,0))","v":0},{"$f":"IF(OFFSET('Raw Data'!R80,Input_Details!$B$29,0)=\"\", \"-\", OFFSET('Raw Data'!R80,Input_Details!$B$29,0))","v":0},{"$f":"IF(OFFSET('Raw Data'!S80,Input_Details!$B$29,0)=\"\", \"-\", OFFSET('Raw Data'!S80,Input_Details!$B$29,0))","v":0},6.8000000000000007,null,{"$f":"IF(OFFSET('Raw Data'!AU80,Input_Details!$B$29,0)=\"\", \"-\", OFFSET('Raw Data'!AU80,Input_Details!$B$29,0))","v":18.2},{"$f":"IF(OFFSET('Raw Data'!AV80,Input_Details!$B$29,0)=\"\", \"-\", OFFSET('Raw Data'!AV80,Input_Details!$B$29,0))","v":5.6},{"$f":"IF(OFFSET('Raw Data'!AW80,Input_Details!$B$29,0)=\"\", \"-\", OFFSET('Raw Data'!AW80,Input_Details!$B$29,0))","v":0},{"$f":"IF(OFFSET('Raw Data'!AX80,Input_Details!$B$29,0)=\"\", \"-\", OFFSET('Raw Data'!AX80,Input_Details!$B$29,0))","v":0.8},{"$f":"IF(OFFSET('Raw Data'!AY80,Input_Details!$B$29,0)=\"\", \"-\", OFFSET('Raw Data'!AY80,Input_Details!$B$29,0))","v":0.4},{"$f":"IF(OFFSET('Raw Data'!AZ80,Input_Details!$B$29,0)=\"\", \"-\", OFFSET('Raw Data'!AZ80,Input_Details!$B$29,0))","v":2.4},{"$f":"IF(OFFSET('Raw Data'!BA80,Input_Details!$B$29,0)=\"\", \"-\", OFFSET('Raw Data'!BA80,Input_Details!$B$29,0))","v":0},{"$f":"IF(OFFSET('Raw Data'!BB80,Input_Details!$B$29,0)=\"\", \"-\", OFFSET('Raw Data'!BB80,Input_Details!$B$29,0))","v":0},{"$f":"IF(OFFSET('Raw Data'!BC80,Input_Details!$B$29,0)=\"\", \"-\", OFFSET('Raw Data'!BC80,Input_Details!$B$29,0))","v":0},{"$f":"IF(OFFSET('Raw Data'!BD80,Input_Details!$B$29,0)=\"\", \"-\", OFFSET('Raw Data'!BD80,Input_Details!$B$29,0))","v":0},{"$f":"IF(OFFSET('Raw Data'!BE80,Input_Details!$B$29,0)=\"\", \"-\", OFFSET('Raw Data'!BE80,Input_Details!$B$29,0))","v":0},{"$f":"IF(OFFSET('Raw Data'!BF80,Input_Details!$B$29,0)=\"\", \"-\", OFFSET('Raw Data'!BF80,Input_Details!$B$29,0))","v":0},27.399999999999995,null,19.599999999999998,10.6,0,1.2000000000000002,0.4,2.4,0,0,0,0,0,0,34.199999999999996]
[null,"19:15:00",{"$f":"IF(OFFSET('Raw Data'!H81,Input_Details!$B$29,0)=\"\", \"-\", OFFSET('Raw Data'!H81,Input_Details!$B$29,0))","v":1.8},{"$f":"IF(OFFSET('Raw Data'!I81,Input_Details!$B$29,0)=\"\", \"-\", OFFSET('Raw Data'!I81,Input_Details!$B$29,0))","v":6.2},{"$f":"IF(OFFSET('Raw Data'!J81,Input_Details!$B$29,0)=\"\", \"-\", OFFSET('Raw Data'!J81,Input_Details!$B$29,0))","v":0},{"$f":"IF(OFFSET('Raw Data'!K81,Input_Details!$B$29,0)=\"\", \"-\", OFFSET('Raw Data'!K81,Input_Details!$B$29,0))","v":0.2},{"$f":"IF(OFFSET('Raw Data'!L81,Input_Details!$B$29,0)=\"\", \"-\", OFFSET('Raw Data'!L81,Input_Details!$B$29,0))","v":0},{"$f":"IF(OFFSET('Raw Data'!M81,Input_Details!$B$29,0)=\"\", \"-\", OFFSET('Raw Data'!M81,Input_Details!$B$29,0))","v":0},{"$f":"IF(OFFSET('Raw Data'!N81,Input_Details!$B$29,0)=\"\", \"-\", OFFSET('Raw Data'!N81,Input_Details!$B$29,0))","v":0},{"$f":"IF(OFFSET('Raw Data'!O81,Input_Details!$B$29,0)=\"\", \"-\", OFFSET('Raw Data'!O81,Input_Details!$B$29,0))","v":0},{"$f":"IF(OFFSET('Raw Data'!P81,Input_Details!$B$29,0)=\"\", \"-\", OFFSET('Raw Data'!P81,Input_Details!$B$29,0))","v":0},{"$f":"IF(OFFSET('Raw Data'!Q81,Input_Details!$B$29,0)=\"\", \"-\", OFFSET('Raw Data'!Q81,Input_Details!$B$29,0))","v":0},{"$f":"IF(OFFSET('Raw Data'!R81,Input_Details!$B$29,0)=\"\", \"-\", OFFSET('Raw Data'!R81,Input_Details!$B$29,0))","v":0},{"$f":"IF(OFFSET('Raw Data'!S81,Input_Details!$B$29,0)=\"\", \"-\", OFFSET('Raw Data'!S81,Input_Details!$B$29,0))","v":0},8.1999999999999993,null,{"$f":"IF(OFFSET('Raw Data'!AU81,Input_Details!$B$29,0)=\"\", \"-\", OFFSET('Raw Data'!AU81,Input_Details!$B$29,0))","v":17},{"$f":"IF(OFFSET('Raw Data'!AV81,Input_Details!$B$29,0)=\"\", \"-\", OFFSET('Raw Data'!AV81,Input_Details!$B$29,0))","v":4.8},{"$f":"IF(OFFSET('Raw Data'!AW81,Input_Details!$B$29,0)=\"\", \"-\", OFFSET('Raw Data'!AW81,Input_Details!$B$29,0))","v":0.4},{"$f":"IF(OFFSET('Raw Data'!AX81,Input_Details!$B$29,0)=\"\", \"-\", OFFSET('Raw Data'!AX81,Input_Details!$B$29,0))","v":0.2},{"$f":"IF(OFFSET('Raw Data'!AY81,Input_Details!$B$29,0)=\"\", \"-\", OFFSET('Raw Data'!AY81,Input_Details!$B$29,0))","v":0},{"$f":"IF(OFFSET('Raw Data'!AZ81,Input_Details!$B$29,0)=\"\", \"-\", OFFSET('Raw Data'!AZ81,Input_Details!$B$29,0))","v":1},{"$f":"IF(OFFSET('Raw Data'!BA81,Input_Details!$B$29,0)=\"\", \"-\", OFFSET('Raw Data'!BA81,Input_Details!$B$29,0))","v":0},{"$f":"IF(OFFSET('Raw Data'!BB81,Input_Details!$B$29,0)=\"\", \"-\", OFFSET('Raw Data'!BB81,Input_Details!$B$29,0))","v":0.2},{"$f":"IF(OFFSET('Raw Data'!BC81,Input_Details!$B$29,0)=\"\", \"-\", OFFSET('Raw Data'!BC81,Input_Details!$B$29,0))","v":0},{"$f":"IF(OFFSET('Raw Data'!BD81,Input_Details!$B$29,0)=\"\", \"-\", OFFSET('Raw Data'!BD81,Input_Details!$B$29,0))","v":0.4},{"$f":"IF(OFFSET('Raw Data'!BE81,Input_Details!$B$29,0)=\"\", \"-\", OFFSET('Raw Data'!BE81,Input_Details!$B$29,0))","v":0},{"$f":"IF(OFFSET('Raw Data'!BF81,Input_Details!$B$29,0)=\"\", \"-\", OFFSET('Raw Data'!BF81,Input_Details!$B$29,0))","v":0},23.999999999999996,null,18.8,11,0.4,0.4,0,1,0,0.2,0,0.4,0,0,32.199999999999996]
[null,"19:30:00",{"$f":"IF(OFFSET('Raw Data'!H82,Input_Details!$B$29,0)=\"\", \"-\", OFFSET('Raw Data'!H82,Input_Details!$B$29,0))","v":1.4},{"$f":"IF(OFFSET('Raw Data'!I82,Input_Details!$B$29,0)=\"\", \"-\", OFFSET('Raw Data'!I82,Input_Details!$B$29,0))","v":4.5999999999999996},{"$f":"IF(OFFSET('Raw Data'!J82,Input_Details!$B$29,0)=\"\", \"-\", OFFSET('Raw Data'!J82,Input_Details!$B$29,0))","v":0},{"$f":"IF(OFFSET('Raw Data'!K82,Input_Details!$B$29,0)=\"\", \"-\", OFFSET('Raw Data'!K82,Input_Details!$B$29,0))","v":0},{"$f":"IF(OFFSET('Raw Data'!L82,Input_Details!$B$29,0)=\"\", \"-\", OFFSET('Raw Data'!L82,Input_Details!$B$29,0))","v":0},{"$f":"IF(OFFSET('Raw Data'!M82,Input_Details!$B$29,0)=\"\", \"-\", OFFSET('Raw Data'!M82,Input_Details!$B$29,0))","v":0},{"$f":"IF(OFFSET('Raw Data'!N82,Input_Details!$B$29,0)=\"\", \"-\", OFFSET('Raw Data'!N82,Input_Details!$B$29,0))","v":0},{"$f":"IF(OFFSET('Raw Data'!O82,Input_Details!$B$29,0)=\"\", \"-\", OFFSET('Raw Data'!O82,Input_Details!$B$29,0))","v":0},{"$f":"IF(OFFSET('Raw Data'!P82,Input_Details!$B$29,0)=\"\", \"-\", OFFSET('Raw Data'!P82,Input_Details!$B$29,0))","v":0},{"$f":"IF(OFFSET('Raw Data'!Q82,Input_Details!$B$29,0)=\"\", \"-\", OFFSET('Raw Data'!Q82,Input_Details!$B$29,0))","v":0},{"$f":"IF(OFFSET('Raw Data'!R82,Input_Details!$B$29,0)=\"\", \"-\", OFFSET('Raw Data'!R82,Input_Details!$B$29,0))","v":0},{"$f":"IF(OFFSET('Raw Data'!S82,Input_Details!$B$29,0)=\"\", \"-\", OFFSET('Raw Data'!S82,Input_Details!$B$29,0))","v":0},6,null,{"$f":"IF(OFFSET('Raw Data'!AU82,Input_Details!$B$29,0)=\"\", \"-\", OFFSET('Raw Data'!AU82,Input_Details!$B$29,0))","v":16},{"$f":"IF(OFFSET('Raw Data'!AV82,Input_Details!$B$29,0)=\"\", \"-\", OFFSET('Raw Data'!AV82,Input_Details!$B$29,0))","v":6.6},{"$f":"IF(OFFSET('Raw Data'!AW82,Input_Details!$B$29,0)=\"\", \"-\", OFFSET('Raw Data'!AW82,Input_Details!$B$29,0))","v":0},{"$f":"IF(OFFSET('Raw Data'!AX82,Input_Details!$B$29,0)=\"\", \"-\", OFFSET('Raw Data'!AX82,Input_Details!$B$29,0))","v":0.4},{"$f":"IF(OFFSET('Raw Data'!AY82,Input_Details!$B$29,0)=\"\", \"-\", OFFSET('Raw Data'!AY82,Input_Details!$B$29,0))","v":0},{"$f":"IF(OFFSET('Raw Data'!AZ82,Input_Details!$B$29,0)=\"\", \"-\", OFFSET('Raw Data'!AZ82,Input_Details!$B$29,0))","v":2.6},{"$f":"IF(OFFSET('Raw Data'!BA82,Input_Details!$B$29,0)=\"\", \"-\", OFFSET('Raw Data'!BA82,Input_Details!$B$29,0))","v":0},{"$f":"IF(OFFSET('Raw Data'!BB82,Input_Details!$B$29,0)=\"\", \"-\", OFFSET('Raw Data'!BB82,Input_Details!$B$29,0))","v":0},{"$f":"IF(OFFSET('Raw Data'!BC82,Input_Details!$B$29,0)=\"\", \"-\", OFFSET('Raw Data'!BC82,Input_Details!$B$29,0))","v":0},{"$f":"IF(OFFSET('Raw Data'!BD82,Input_Details!$B$29,0)=\"\", \"-\", OFFSET('Raw Data'!BD82,Input_Details!$B$29,0))","v":0},{"$f":"IF(OFFSET('Raw Data'!BE82,Input_Details!$B$29,0)=\"\", \"-\", OFFSET('Raw Data'!BE82,Input_Details!$B$29,0))","v":0},{"$f":"IF(OFFSET('Raw Data'!BF82,Input_Details!$B$29,0)=\"\", \"-\", OFFSET('Raw Data'!BF82,Input_Details!$B$29,0))","v":0},25.6,null,17.399999999999999,11.2,0,0.4,0,2.6,0,0,0,0,0,0,31.599999999999998]
[null,"19:45:00",{"$f":"IF(OFFSET('Raw Data'!H83,Input_Details!$B$29,0)=\"\", \"-\", OFFSET('Raw Data'!H83,Input_Details!$B$29,0))","v":1.2},{"$f":"IF(OFFSET('Raw Data'!I83,Input_Details!$B$29,0)=\"\", \"-\", OFFSET('Raw Data'!I83,Input_Details!$B$29,0))","v":5.2},{"$f":"IF(OFFSET('Raw Data'!J83,Input_Details!$B$29,0)=\"\", \"-\", OFFSET('Raw Data'!J83,Input_Details!$B$29,0))","v":0},{"$f":"IF(OFFSET('Raw Data'!K83,Input_Details!$B$29,0)=\"\", \"-\", OFFSET('Raw Data'!K83,Input_Details!$B$29,0))","v":1.2},{"$f":"IF(OFFSET('Raw Data'!L83,Input_Details!$B$29,0)=\"\", \"-\", OFFSET('Raw Data'!L83,Input_Details!$B$29,0))","v":0},{"$f":"IF(OFFSET('Raw Data'!M83,Input_Details!$B$29,0)=\"\", \"-\", OFFSET('Raw Data'!M83,Input_Details!$B$29,0))","v":0},{"$f":"IF(OFFSET('Raw Data'!N83,Input_Details!$B$29,0)=\"\", \"-\", OFFSET('Raw Data'!N83,Input_Details!$B$29,0))","v":0},{"$f":"IF(OFFSET('Raw Data'!O83,Input_Details!$B$29,0)=\"\", \"-\", OFFSET('Raw Data'!O83,Input_Details!$B$29,0))","v":0},{"$f":"IF(OFFSET('Raw Data'!P83,Input_Details!$B$29,0)=\"\", \"-\", OFFSET('Raw Data'!P83,Input_Details!$B$29,0))","v":0},{"$f":"IF(OFFSET('Raw Data'!Q83,Input_Details!$B$29,0)=\"\", \"-\", OFFSET('Raw Data'!Q83,Input_Details!$B$29,0))","v":0},{"$f":"IF(OFFSET('Raw Data'!R83,Input_Details!$B$29,0)=\"\", \"-\", OFFSET('Raw Data'!R83,Input_Details!$B$29,0))","v":0},{"$f":"IF(OFFSET('Raw Data'!S83,Input_Details!$B$29,0)=\"\", \"-\", OFFSET('Raw Data'!S83,Input_Details!$B$29,0))","v":0},7.6000000000000005,null,{"$f":"IF(OFFSET('Raw Data'!AU83,Input_Details!$B$29,0)=\"\", \"-\", OFFSET('Raw Data'!AU83,Input_Details!$B$29,0))","v":10.4},{"$f":"IF(OFFSET('Raw Data'!AV83,Input_Details!$B$29,0)=\"\", \"-\", OFFSET('Raw Data'!AV83,Input_Details!$B$29,0))","v":6.2},{"$f":"IF(OFFSET('Raw Data'!AW83,Input_Details!$B$29,0)=\"\", \"-\", OFFSET('Raw Data'!AW83,Input_Details!$B$29,0))","v":0},{"$f":"IF(OFFSET('Raw Data'!AX83,Input_Details!$B$29,0)=\"\", \"-\", OFFSET('Raw Data'!AX83,Input_Details!$B$29,0))","v":0.6},{"$f":"IF(OFFSET('Raw Data'!AY83,Input_Details!$B$29,0)=\"\", \"-\", OFFSET('Raw Data'!AY83,Input_Details!$B$29,0))","v":0},{"$f":"IF(OFFSET('Raw Data'!AZ83,Input_Details!$B$29,0)=\"\", \"-\", OFFSET('Raw Data'!AZ83,Input_Details!$B$29,0))","v":1.6},{"$f":"IF(OFFSET('Raw Data'!BA83,Input_Details!$B$29,0)=\"\", \"-\", OFFSET('Raw Data'!BA83,Input_Details!$B$29,0))","v":0},{"$f":"IF(OFFSET('Raw Data'!BB83,Input_Details!$B$29,0)=\"\", \"-\", OFFSET('Raw Data'!BB83,Input_Details!$B$29,0))","v":0},{"$f":"IF(OFFSET('Raw Data'!BC83,Input_Details!$B$29,0)=\"\", \"-\", OFFSET('Raw Data'!BC83,Input_Details!$B$29,0))","v":0},{"$f":"IF(OFFSET('Raw Data'!BD83,Input_Details!$B$29,0)=\"\", \"-\", OFFSET('Raw Data'!BD83,Input_Details!$B$29,0))","v":0.2},{"$f":"IF(OFFSET('Raw Data'!BE83,Input_Details!$B$29,0)=\"\", \"-\", OFFSET('Raw Data'!BE83,Input_Details!$B$29,0))","v":0},{"$f":"IF(OFFSET('Raw Data'!BF83,Input_Details!$B$29,0)=\"\", \"-\", OFFSET('Raw Data'!BF83,Input_Details!$B$29,0))","v":0},19.000000000000004,null,11.6,11.4,0,1.7999999999999998,0,1.6,0,0,0,0.2,0,0,26.6]
[null,"20:00:00",{"$f":"IF(OFFSET('Raw Data'!H84,Input_Details!$B$29,0)=\"\", \"-\", OFFSET('Raw Data'!H84,Input_Details!$B$29,0))","v":0},{"$f":"IF(OFFSET('Raw Data'!I84,Input_Details!$B$29,0)=\"\", \"-\", OFFSET('Raw Data'!I84,Input_Details!$B$29,0))","v":4.5999999999999996},{"$f":"IF(OFFSET('Raw Data'!J84,Input_Details!$B$29,0)=\"\", \"-\", OFFSET('Raw Data'!J84,Input_Details!$B$29,0))","v":0},{"$f":"IF(OFFSET('Raw Data'!K84,Input_Details!$B$29,0)=\"\", \"-\", OFFSET('Raw Data'!K84,Input_Details!$B$29,0))","v":0},{"$f":"IF(OFFSET('Raw Data'!L84,Input_Details!$B$29,0)=\"\", \"-\", OFFSET('Raw Data'!L84,Input_Details!$B$29,0))","v":0},{"$f":"IF(OFFSET('Raw Data'!M84,Input_Details!$B$29,0)=\"\", \"-\", OFFSET('Raw Data'!M84,Input_Details!$B$29,0))","v":0},{"$f":"IF(OFFSET('Raw Data'!N84,Input_Details!$B$29,0)=\"\", \"-\", OFFSET('Raw Data'!N84,Input_Details!$B$29,0))","v":0},{"$f":"IF(OFFSET('Raw Data'!O84,Input_Details!$B$29,0)=\"\", \"-\", OFFSET('Raw Data'!O84,Input_Details!$B$29,0))","v":0},{"$f":"IF(OFFSET('Raw Data'!P84,Input_Details!$B$29,0)=\"\", \"-\", OFFSET('Raw Data'!P84,Input_Details!$B$29,0))","v":0},{"$f":"IF(OFFSET('Raw Data'!Q84,Input_Details!$B$29,0)=\"\", \"-\", OFFSET('Raw Data'!Q84,Input_Details!$B$29,0))","v":0},{"$f":"IF(OFFSET('Raw Data'!R84,Input_Details!$B$29,0)=\"\", \"-\", OFFSET('Raw Data'!R84,Input_Details!$B$29,0))","v":0},{"$f":"IF(OFFSET('Raw Data'!S84,Input_Details!$B$29,0)=\"\", \"-\", OFFSET('Raw Data'!S84,Input_Details!$B$29,0))","v":0},4.5999999999999996,null,{"$f":"IF(OFFSET('Raw Data'!AU84,Input_Details!$B$29,0)=\"\", \"-\", OFFSET('Raw Data'!AU84,Input_Details!$B$29,0))","v":9.8000000000000007},{"$f":"IF(OFFSET('Raw Data'!AV84,Input_Details!$B$29,0)=\"\", \"-\", OFFSET('Raw Data'!AV84,Input_Details!$B$29,0))","v":6.6},{"$f":"IF(OFFSET('Raw Data'!AW84,Input_Details!$B$29,0)=\"\", \"-\", OFFSET('Raw Data'!AW84,Input_Details!$B$29,0))","v":0},{"$f":"IF(OFFSET('Raw Data'!AX84,Input_Details!$B$29,0)=\"\", \"-\", OFFSET('Raw Data'!AX84,Input_Details!$B$29,0))","v":0.8},{"$f":"IF(OFFSET('Raw Data'!AY84,Input_Details!$B$29,0)=\"\", \"-\", OFFSET('Raw Data'!AY84,Input_Details!$B$29,0))","v":0},{"$f":"IF(OFFSET('Raw Data'!AZ84,Input_Details!$B$29,0)=\"\", \"-\", OFFSET('Raw Data'!AZ84,Input_Details!$B$29,0))","v":0.6},{"$f":"IF(OFFSET('Raw Data'!BA84,Input_Details!$B$29,0)=\"\", \"-\", OFFSET('Raw Data'!BA84,Input_Details!$B$29,0))","v":0},{"$f":"IF(OFFSET('Raw Data'!BB84,Input_Details!$B$29,0)=\"\", \"-\", OFFSET('Raw Data'!BB84,Input_Details!$B$29,0))","v":0},{"$f":"IF(OFFSET('Raw Data'!BC84,Input_Details!$B$29,0)=\"\", \"-\", OFFSET('Raw Data'!BC84,Input_Details!$B$29,0))","v":0},{"$f":"IF(OFFSET('Raw Data'!BD84,Input_Details!$B$29,0)=\"\", \"-\", OFFSET('Raw Data'!BD84,Input_Details!$B$29,0))","v":0},{"$f":"IF(OFFSET('Raw Data'!BE84,Input_Details!$B$29,0)=\"\", \"-\", OFFSET('Raw Data'!BE84,Input_Details!$B$29,0))","v":0},{"$f":"IF(OFFSET('Raw Data'!BF84,Input_Details!$B$29,0)=\"\", \"-\", OFFSET('Raw Data'!BF84,Input_Details!$B$29,0))","v":0},17.8,null,9.8000000000000007,11.2,0,0.8,0,0.6,0,0,0,0,0,0,22.400000000000002]
[null,"20:15:00",{"$f":"IF(OFFSET('Raw Data'!H85,Input_Details!$B$29,0)=\"\", \"-\", OFFSET('Raw Data'!H85,Input_Details!$B$29,0))","v":0.6},{"$f":"IF(OFFSET('Raw Data'!I85,Input_Details!$B$29,0)=\"\", \"-\", OFFSET('Raw Data'!I85,Input_Details!$B$29,0))","v":4.4000000000000004},{"$f":"IF(OFFSET('Raw Data'!J85,Input_Details!$B$29,0)=\"\", \"-\", OFFSET('Raw Data'!J85,Input_Details!$B$29,0))","v":0},{"$f":"IF(OFFSET('Raw Data'!K85,Input_Details!$B$29,0)=\"\", \"-\", OFFSET('Raw Data'!K85,Input_Details!$B$29,0))","v":0.4},{"$f":"IF(OFFSET('Raw Data'!L85,Input_Details!$B$29,0)=\"\", \"-\", OFFSET('Raw Data'!L85,Input_Details!$B$29,0))","v":0},{"$f":"IF(OFFSET('Raw Data'!M85,Input_Details!$B$29,0)=\"\", \"-\", OFFSET('Raw Data'!M85,Input_Details!$B$29,0))","v":0},{"$f":"IF(OFFSET('Raw Data'!N85,Input_Details!$B$29,0)=\"\", \"-\", OFFSET('Raw Data'!N85,Input_Details!$B$29,0))","v":0},{"$f":"IF(OFFSET('Raw Data'!O85,Input_Details!$B$29,0)=\"\", \"-\", OFFSET('Raw Data'!O85,Input_Details!$B$29,0))","v":0},{"$f":"IF(OFFSET('Raw Data'!P85,Input_Details!$B$29,0)=\"\", \"-\", OFFSET('Raw Data'!P85,Input_Details!$B$29,0))","v":0},{"$f":"IF(OFFSET('Raw Data'!Q85,Input_Details!$B$29,0)=\"\", \"-\", OFFSET('Raw Data'!Q85,Input_Details!$B$29,0))","v":0},{"$f":"IF(OFFSET('Raw Data'!R85,Input_Details!$B$29,0)=\"\", \"-\", OFFSET('Raw Data'!R85,Input_Details!$B$29,0))","v":0},{"$f":"IF(OFFSET('Raw Data'!S85,Input_Details!$B$29,0)=\"\", \"-\", OFFSET('Raw Data'!S85,Input_Details!$B$29,0))","v":0},5.4,null,{"$f":"IF(OFFSET('Raw Data'!AU85,Input_Details!$B$29,0)=\"\", \"-\", OFFSET('Raw Data'!AU85,Input_Details!$B$29,0))","v":7.4},{"$f":"IF(OFFSET('Raw Data'!AV85,Input_Details!$B$29,0)=\"\", \"-\", OFFSET('Raw Data'!AV85,Input_Details!$B$29,0))","v":4.8},{"$f":"IF(OFFSET('Raw Data'!AW85,Input_Details!$B$29,0)=\"\", \"-\", OFFSET('Raw Data'!AW85,Input_Details!$B$29,0))","v":0.2},{"$f":"IF(OFFSET('Raw Data'!AX85,Input_Details!$B$29,0)=\"\", \"-\", OFFSET('Raw Data'!AX85,Input_Details!$B$29,0))","v":0.4},{"$f":"IF(OFFSET('Raw Data'!AY85,Input_Details!$B$29,0)=\"\", \"-\", OFFSET('Raw Data'!AY85,Input_Details!$B$29,0))","v":0},{"$f":"IF(OFFSET('Raw Data'!AZ85,Input_Details!$B$29,0)=\"\", \"-\", OFFSET('Raw Data'!AZ85,Input_Details!$B$29,0))","v":0},{"$f":"IF(OFFSET('Raw Data'!BA85,Input_Details!$B$29,0)=\"\", \"-\", OFFSET('Raw Data'!BA85,Input_Details!$B$29,0))","v":0},{"$f":"IF(OFFSET('Raw Data'!BB85,Input_Details!$B$29,0)=\"\", \"-\", OFFSET('Raw Data'!BB85,Input_Details!$B$29,0))","v":0},{"$f":"IF(OFFSET('Raw Data'!BC85,Input_Details!$B$29,0)=\"\", \"-\", OFFSET('Raw Data'!BC85,Input_Details!$B$29,0))","v":0},{"$f":"IF(OFFSET('Raw Data'!BD85,Input_Details!$B$29,0)=\"\", \"-\", OFFSET('Raw Data'!BD85,Input_Details!$B$29,0))","v":0},{"$f":"IF(OFFSET('Raw Data'!BE85,Input_Details!$B$29,0)=\"\", \"-\", OFFSET('Raw Data'!BE85,Input_Details!$B$29,0))","v":0},{"$f":"IF(OFFSET('Raw Data'!BF85,Input_Details!$B$29,0)=\"\", \"-\", OFFSET('Raw Data'!BF85,Input_Details!$B$29,0))","v":0},12.799999999999999,null,8,9.1999999999999993,0.2,0.8,0,0,0,0,0,0,0,0,18.2]
[null,"20:30:00",{"$f":"IF(OFFSET('Raw Data'!H86,Input_Details!$B$29,0)=\"\", \"-\", OFFSET('Raw Data'!H86,Input_Details!$B$29,0))","v":0.8},{"$f":"IF(OFFSET('Raw Data'!I86,Input_Details!$B$29,0)=\"\", \"-\", OFFSET('Raw Data'!I86,Input_Details!$B$29,0))","v":3.4},{"$f":"IF(OFFSET('Raw Data'!J86,Input_Details!$B$29,0)=\"\", \"-\", OFFSET('Raw Data'!J86,Input_Details!$B$29,0))","v":0},{"$f":"IF(OFFSET('Raw Data'!K86,Input_Details!$B$29,0)=\"\", \"-\", OFFSET('Raw Data'!K86,Input_Details!$B$29,0))","v":0},{"$f":"IF(OFFSET('Raw Data'!L86,Input_Details!$B$29,0)=\"\", \"-\", OFFSET('Raw Data'!L86,Input_Details!$B$29,0))","v":0},{"$f":"IF(OFFSET('Raw Data'!M86,Input_Details!$B$29,0)=\"\", \"-\", OFFSET('Raw Data'!M86,Input_Details!$B$29,0))","v":0},{"$f":"IF(OFFSET('Raw Data'!N86,Input_Details!$B$29,0)=\"\", \"-\", OFFSET('Raw Data'!N86,Input_Details!$B$29,0))","v":0},{"$f":"IF(OFFSET('Raw Data'!O86,Input_Details!$B$29,0)=\"\", \"-\", OFFSET('Raw Data'!O86,Input_Details!$B$29,0))","v":0},{"$f":"IF(OFFSET('Raw Data'!P86,Input_Details!$B$29,0)=\"\", \"-\", OFFSET('Raw Data'!P86,Input_Details!$B$29,0))","v":0},{"$f":"IF(OFFSET('Raw Data'!Q86,Input_Details!$B$29,0)=\"\", \"-\", OFFSET('Raw Data'!Q86,Input_Details!$B$29,0))","v":0},{"$f":"IF(OFFSET('Raw Data'!R86,Input_Details!$B$29,0)=\"\", \"-\", OFFSET('Raw Data'!R86,Input_Details!$B$29,0))","v":0},{"$f":"IF(OFFSET('Raw Data'!S86,Input_Details!$B$29,0)=\"\", \"-\", OFFSET('Raw Data'!S86,Input_Details!$B$29,0))","v":0},4.2,null,{"$f":"IF(OFFSET('Raw Data'!AU86,Input_Details!$B$29,0)=\"\", \"-\", OFFSET('Raw Data'!AU86,Input_Details!$B$29,0))","v":7.4},{"$f":"IF(OFFSET('Raw Data'!AV86,Input_Details!$B$29,0)=\"\", \"-\", OFFSET('Raw Data'!AV86,Input_Details!$B$29,0))","v":5.2},{"$f":"IF(OFFSET('Raw Data'!AW86,Input_Details!$B$29,0)=\"\", \"-\", OFFSET('Raw Data'!AW86,Input_Details!$B$29,0))","v":0},{"$f":"IF(OFFSET('Raw Data'!AX86,Input_Details!$B$29,0)=\"\", \"-\", OFFSET('Raw Data'!AX86,Input_Details!$B$29,0))","v":0.4},{"$f":"IF(OFFSET('Raw Data'!AY86,Input_Details!$B$29,0)=\"\", \"-\", OFFSET('Raw Data'!AY86,Input_Details!$B$29,0))","v":0},{"$f":"IF(OFFSET('Raw Data'!AZ86,Input_Details!$B$29,0)=\"\", \"-\", OFFSET('Raw Data'!AZ86,Input_Details!$B$29,0))","v":1.4},{"$f":"IF(OFFSET('Raw Data'!BA86,Input_Details!$B$29,0)=\"\", \"-\", OFFSET('Raw Data'!BA86,Input_Details!$B$29,0))","v":0},{"$f":"IF(OFFSET('Raw Data'!BB86,Input_Details!$B$29,0)=\"\", \"-\", OFFSET('Raw Data'!BB86,Input_Details!$B$29,0))","v":0},{"$f":"IF(OFFSET('Raw Data'!BC86,Input_Details!$B$29,0)=\"\", \"-\", OFFSET('Raw Data'!BC86,Input_Details!$B$29,0))","v":0},{"$f":"IF(OFFSET('Raw Data'!BD86,Input_Details!$B$29,0)=\"\", \"-\", OFFSET('Raw Data'!BD86,Input_Details!$B$29,0))","v":0.2},{"$f":"IF(OFFSET('Raw Data'!BE86,Input_Details!$B$29,0)=\"\", \"-\", OFFSET('Raw Data'!BE86,Input_Details!$B$29,0))","v":0},{"$f":"IF(OFFSET('Raw Data'!BF86,Input_Details!$B$29,0)=\"\", \"-\", OFFSET('Raw Data'!BF86,Input_Details!$B$29,0))","v":0},14.600000000000001,null,8.2000000000000011,8.6,0,0.4,0,1.4,0,0,0,0.2,0,0,18.799999999999997]
[null,"20:45:00",{"$f":"IF(OFFSET('Raw Data'!H87,Input_Details!$B$29,0)=\"\", \"-\", OFFSET('Raw Data'!H87,Input_Details!$B$29,0))","v":1},{"$f":"IF(OFFSET('Raw Data'!I87,Input_Details!$B$29,0)=\"\", \"-\", OFFSET('Raw Data'!I87,Input_Details!$B$29,0))","v":3.2},{"$f":"IF(OFFSET('Raw Data'!J87,Input_Details!$B$29,0)=\"\", \"-\", OFFSET('Raw Data'!J87,Input_Details!$B$29,0))","v":0},{"$f":"IF(OFFSET('Raw Data'!K87,Input_Details!$B$29,0)=\"\", \"-\", OFFSET('Raw Data'!K87,Input_Details!$B$29,0))","v":0},{"$f":"IF(OFFSET('Raw Data'!L87,Input_Details!$B$29,0)=\"\", \"-\", OFFSET('Raw Data'!L87,Input_Details!$B$29,0))","v":0},{"$f":"IF(OFFSET('Raw Data'!M87,Input_Details!$B$29,0)=\"\", \"-\", OFFSET('Raw Data'!M87,Input_Details!$B$29,0))","v":0},{"$f":"IF(OFFSET('Raw Data'!N87,Input_Details!$B$29,0)=\"\", \"-\", OFFSET('Raw Data'!N87,Input_Details!$B$29,0))","v":0},{"$f":"IF(OFFSET('Raw Data'!O87,Input_Details!$B$29,0)=\"\", \"-\", OFFSET('Raw Data'!O87,Input_Details!$B$29,0))","v":0},{"$f":"IF(OFFSET('Raw Data'!P87,Input_Details!$B$29,0)=\"\", \"-\", OFFSET('Raw Data'!P87,Input_Details!$B$29,0))","v":0},{"$f":"IF(OFFSET('Raw Data'!Q87,Input_Details!$B$29,0)=\"\", \"-\", OFFSET('Raw Data'!Q87,Input_Details!$B$29,0))","v":0},{"$f":"IF(OFFSET('Raw Data'!R87,Input_Details!$B$29,0)=\"\", \"-\", OFFSET('Raw Data'!R87,Input_Details!$B$29,0))","v":0},{"$f":"IF(OFFSET('Raw Data'!S87,Input_Details!$B$29,0)=\"\", \"-\", OFFSET('Raw Data'!S87,Input_Details!$B$29,0))","v":0},4.2,null,{"$f":"IF(OFFSET('Raw Data'!AU87,Input_Details!$B$29,0)=\"\", \"-\", OFFSET('Raw Data'!AU87,Input_Details!$B$29,0))","v":8.8000000000000007},{"$f":"IF(OFFSET('Raw Data'!AV87,Input_Details!$B$29,0)=\"\", \"-\", OFFSET('Raw Data'!AV87,Input_Details!$B$29,0))","v":4.2},{"$f":"IF(OFFSET('Raw Data'!AW87,Input_Details!$B$29,0)=\"\", \"-\", OFFSET('Raw Data'!AW87,Input_Details!$B$29,0))","v":0},{"$f":"IF(OFFSET('Raw Data'!AX87,Input_Details!$B$29,0)=\"\", \"-\", OFFSET('Raw Data'!AX87,Input_Details!$B$29,0))","v":0.4},{"$f":"IF(OFFSET('Raw Data'!AY87,Input_Details!$B$29,0)=\"\", \"-\", OFFSET('Raw Data'!AY87,Input_Details!$B$29,0))","v":0},{"$f":"IF(OFFSET('Raw Data'!AZ87,Input_Details!$B$29,0)=\"\", \"-\", OFFSET('Raw Data'!AZ87,Input_Details!$B$29,0))","v":0.4},{"$f":"IF(OFFSET('Raw Data'!BA87,Input_Details!$B$29,0)=\"\", \"-\", OFFSET('Raw Data'!BA87,Input_Details!$B$29,0))","v":0},{"$f":"IF(OFFSET('Raw Data'!BB87,Input_Details!$B$29,0)=\"\", \"-\", OFFSET('Raw Data'!BB87,Input_Details!$B$29,0))","v":0},{"$f":"IF(OFFSET('Raw Data'!BC87,Input_Details!$B$29,0)=\"\", \"-\", OFFSET('Raw Data'!BC87,Input_Details!$B$29,0))","v":0},{"$f":"IF(OFFSET('Raw Data'!BD87,Input_Details!$B$29,0)=\"\", \"-\", OFFSET('Raw Data'!BD87,Input_Details!$B$29,0))","v":0},{"$f":"IF(OFFSET('Raw Data'!BE87,Input_Details!$B$29,0)=\"\", \"-\", OFFSET('Raw Data'!BE87,Input_Details!$B$29,0))","v":0},{"$f":"IF(OFFSET('Raw Data'!BF87,Input_Details!$B$29,0)=\"\", \"-\", OFFSET('Raw Data'!BF87,Input_Details!$B$29,0))","v":0},13.8,null,9.8000000000000007,7.4,0,0.4,0,0.4,0,0,0,0,0,0,18]
[null,"21:00:00",{"$f":"IF(OFFSET('Raw Data'!H88,Input_Details!$B$29,0)=\"\", \"-\", OFFSET('Raw Data'!H88,Input_Details!$B$29,0))","v":1},{"$f":"IF(OFFSET('Raw Data'!I88,Input_Details!$B$29,0)=\"\", \"-\", OFFSET('Raw Data'!I88,Input_Details!$B$29,0))","v":3.8},{"$f":"IF(OFFSET('Raw Data'!J88,Input_Details!$B$29,0)=\"\", \"-\", OFFSET('Raw Data'!J88,Input_Details!$B$29,0))","v":0},{"$f":"IF(OFFSET('Raw Data'!K88,Input_Details!$B$29,0)=\"\", \"-\", OFFSET('Raw Data'!K88,Input_Details!$B$29,0))","v":0.2},{"$f":"IF(OFFSET('Raw Data'!L88,Input_Details!$B$29,0)=\"\", \"-\", OFFSET('Raw Data'!L88,Input_Details!$B$29,0))","v":0},{"$f":"IF(OFFSET('Raw Data'!M88,Input_Details!$B$29,0)=\"\", \"-\", OFFSET('Raw Data'!M88,Input_Details!$B$29,0))","v":0},{"$f":"IF(OFFSET('Raw Data'!N88,Input_Details!$B$29,0)=\"\", \"-\", OFFSET('Raw Data'!N88,Input_Details!$B$29,0))","v":0},{"$f":"IF(OFFSET('Raw Data'!O88,Input_Details!$B$29,0)=\"\", \"-\", OFFSET('Raw Data'!O88,Input_Details!$B$29,0))","v":0},{"$f":"IF(OFFSET('Raw Data'!P88,Input_Details!$B$29,0)=\"\", \"-\", OFFSET('Raw Data'!P88,Input_Details!$B$29,0))","v":0},{"$f":"IF(OFFSET('Raw Data'!Q88,Input_Details!$B$29,0)=\"\", \"-\", OFFSET('Raw Data'!Q88,Input_Details!$B$29,0))","v":0},{"$f":"IF(OFFSET('Raw Data'!R88,Input_Details!$B$29,0)=\"\", \"-\", OFFSET('Raw Data'!R88,Input_Details!$B$29,0))","v":0},{"$f":"IF(OFFSET('Raw Data'!S88,Input_Details!$B$29,0)=\"\", \"-\", OFFSET('Raw Data'!S88,Input_Details!$B$29,0))","v":0},5,null,{"$f":"IF(OFFSET('Raw Data'!AU88,Input_Details!$B$29,0)=\"\", \"-\", OFFSET('Raw Data'!AU88,Input_Details!$B$29,0))","v":4.8},{"$f":"IF(OFFSET('Raw Data'!AV88,Input_Details!$B$29,0)=\"\", \"-\", OFFSET('Raw Data'!AV88,Input_Details!$B$29,0))","v":5.4},{"$f":"IF(OFFSET('Raw Data'!AW88,Input_Details!$B$29,0)=\"\", \"-\", OFFSET('Raw Data'!AW88,Input_Details!$B$29,0))","v":0},{"$f":"IF(OFFSET('Raw Data'!AX88,Input_Details!$B$29,0)=\"\", \"-\", OFFSET('Raw Data'!AX88,Input_Details!$B$29,0))","v":0},{"$f":"IF(OFFSET('Raw Data'!AY88,Input_Details!$B$29,0)=\"\", \"-\", OFFSET('Raw Data'!AY88,Input_Details!$B$29,0))","v":0},{"$f":"IF(OFFSET('Raw Data'!AZ88,Input_Details!$B$29,0)=\"\", \"-\", OFFSET('Raw Data'!AZ88,Input_Details!$B$29,0))","v":0},{"$f":"IF(OFFSET('Raw Data'!BA88,Input_Details!$B$29,0)=\"\", \"-\", OFFSET('Raw Data'!BA88,Input_Details!$B$29,0))","v":0},{"$f":"IF(OFFSET('Raw Data'!BB88,Input_Details!$B$29,0)=\"\", \"-\", OFFSET('Raw Data'!BB88,Input_Details!$B$29,0))","v":0},{"$f":"IF(OFFSET('Raw Data'!BC88,Input_Details!$B$29,0)=\"\", \"-\", OFFSET('Raw Data'!BC88,Input_Details!$B$29,0))","v":0},{"$f":"IF(OFFSET('Raw Data'!BD88,Input_Details!$B$29,0)=\"\", \"-\", OFFSET('Raw Data'!BD88,Input_Details!$B$29,0))","v":0},{"$f":"IF(OFFSET('Raw Data'!BE88,Input_Details!$B$29,0)=\"\", \"-\", OFFSET('Raw Data'!BE88,Input_Details!$B$29,0))","v":0},{"$f":"IF(OFFSET('Raw Data'!BF88,Input_Details!$B$29,0)=\"\", \"-\", OFFSET('Raw Data'!BF88,Input_Details!$B$29,0))","v":0},10.199999999999999,null,5.8,9.1999999999999993,0,0.2,0,0,0,0,0,0,0,0,15.2]
[null,"21:15:00",{"$f":"IF(OFFSET('Raw Data'!H89,Input_Details!$B$29,0)=\"\", \"-\", OFFSET('Raw Data'!H89,Input_Details!$B$29,0))","v":0.4},{"$f":"IF(OFFSET('Raw Data'!I89,Input_Details!$B$29,0)=\"\", \"-\", OFFSET('Raw Data'!I89,Input_Details!$B$29,0))","v":4.8},{"$f":"IF(OFFSET('Raw Data'!J89,Input_Details!$B$29,0)=\"\", \"-\", OFFSET('Raw Data'!J89,Input_Details!$B$29,0))","v":0},{"$f":"IF(OFFSET('Raw Data'!K89,Input_Details!$B$29,0)=\"\", \"-\", OFFSET('Raw Data'!K89,Input_Details!$B$29,0))","v":0},{"$f":"IF(OFFSET('Raw Data'!L89,Input_Details!$B$29,0)=\"\", \"-\", OFFSET('Raw Data'!L89,Input_Details!$B$29,0))","v":0},{"$f":"IF(OFFSET('Raw Data'!M89,Input_Details!$B$29,0)=\"\", \"-\", OFFSET('Raw Data'!M89,Input_Details!$B$29,0))","v":0.2},{"$f":"IF(OFFSET('Raw Data'!N89,Input_Details!$B$29,0)=\"\", \"-\", OFFSET('Raw Data'!N89,Input_Details!$B$29,0))","v":0},{"$f":"IF(OFFSET('Raw Data'!O89,Input_Details!$B$29,0)=\"\", \"-\", OFFSET('Raw Data'!O89,Input_Details!$B$29,0))","v":0},{"$f":"IF(OFFSET('Raw Data'!P89,Input_Details!$B$29,0)=\"\", \"-\", OFFSET('Raw Data'!P89,Input_Details!$B$29,0))","v":0},{"$f":"IF(OFFSET('Raw Data'!Q89,Input_Details!$B$29,0)=\"\", \"-\", OFFSET('Raw Data'!Q89,Input_Details!$B$29,0))","v":0},{"$f":"IF(OFFSET('Raw Data'!R89,Input_Details!$B$29,0)=\"\", \"-\", OFFSET('Raw Data'!R89,Input_Details!$B$29,0))","v":0},{"$f":"IF(OFFSET('Raw Data'!S89,Input_Details!$B$29,0)=\"\", \"-\", OFFSET('Raw Data'!S89,Input_Details!$B$29,0))","v":0},5.4,null,{"$f":"IF(OFFSET('Raw Data'!AU89,Input_Details!$B$29,0)=\"\", \"-\", OFFSET('Raw Data'!AU89,Input_Details!$B$29,0))","v":5.2},{"$f":"IF(OFFSET('Raw Data'!AV89,Input_Details!$B$29,0)=\"\", \"-\", OFFSET('Raw Data'!AV89,Input_Details!$B$29,0))","v":4.8},{"$f":"IF(OFFSET('Raw Data'!AW89,Input_Details!$B$29,0)=\"\", \"-\", OFFSET('Raw Data'!AW89,Input_Details!$B$29,0))","v":0},{"$f":"IF(OFFSET('Raw Data'!AX89,Input_Details!$B$29,0)=\"\", \"-\", OFFSET('Raw Data'!AX89,Input_Details!$B$29,0))","v":0},{"$f":"IF(OFFSET('Raw Data'!AY89,Input_Details!$B$29,0)=\"\", \"-\", OFFSET('Raw Data'!AY89,Input_Details!$B$29,0))","v":0},{"$f":"IF(OFFSET('Raw Data'!AZ89,Input_Details!$B$29,0)=\"\", \"-\", OFFSET('Raw Data'!AZ89,Input_Details!$B$29,0))","v":0.2},{"$f":"IF(OFFSET('Raw Data'!BA89,Input_Details!$B$29,0)=\"\", \"-\", OFFSET('Raw Data'!BA89,Input_Details!$B$29,0))","v":0},{"$f":"IF(OFFSET('Raw Data'!BB89,Input_Details!$B$29,0)=\"\", \"-\", OFFSET('Raw Data'!BB89,Input_Details!$B$29,0))","v":0},{"$f":"IF(OFFSET('Raw Data'!BC89,Input_Details!$B$29,0)=\"\", \"-\", OFFSET('Raw Data'!BC89,Input_Details!$B$29,0))","v":0},{"$f":"IF(OFFSET('Raw Data'!BD89,Input_Details!$B$29,0)=\"\", \"-\", OFFSET('Raw Data'!BD89,Input_Details!$B$29,0))","v":0},{"$f":"IF(OFFSET('Raw Data'!BE89,Input_Details!$B$29,0)=\"\", \"-\", OFFSET('Raw Data'!BE89,Input_Details!$B$29,0))","v":0},{"$f":"IF(OFFSET('Raw Data'!BF89,Input_Details!$B$29,0)=\"\", \"-\", OFFSET('Raw Data'!BF89,Input_Details!$B$29,0))","v":0},10.199999999999999,null,5.6000000000000005,9.6,0,0,0,0.4,0,0,0,0,0,0,15.6]
[null,"21:30:00",{"$f":"IF(OFFSET('Raw Data'!H90,Input_Details!$B$29,0)=\"\", \"-\", OFFSET('Raw Data'!H90,Input_Details!$B$29,0))","v":1},{"$f":"IF(OFFSET('Raw Data'!I90,Input_Details!$B$29,0)=\"\", \"-\", OFFSET('Raw Data'!I90,Input_Details!$B$29,0))","v":2},{"$f":"IF(OFFSET('Raw Data'!J90,Input_Details!$B$29,0)=\"\", \"-\", OFFSET('Raw Data'!J90,Input_Details!$B$29,0))","v":0},{"$f":"IF(OFFSET('Raw Data'!K90,Input_Details!$B$29,0)=\"\", \"-\", OFFSET('Raw Data'!K90,Input_Details!$B$29,0))","v":0.4},{"$f":"IF(OFFSET('Raw Data'!L90,Input_Details!$B$29,0)=\"\", \"-\", OFFSET('Raw Data'!L90,Input_Details!$B$29,0))","v":0},{"$f":"IF(OFFSET('Raw Data'!M90,Input_Details!$B$29,0)=\"\", \"-\", OFFSET('Raw Data'!M90,Input_Details!$B$29,0))","v":0},{"$f":"IF(OFFSET('Raw Data'!N90,Input_Details!$B$29,0)=\"\", \"-\", OFFSET('Raw Data'!N90,Input_Details!$B$29,0))","v":0},{"$f":"IF(OFFSET('Raw Data'!O90,Input_Details!$B$29,0)=\"\", \"-\", OFFSET('Raw Data'!O90,Input_Details!$B$29,0))","v":0},{"$f":"IF(OFFSET('Raw Data'!P90,Input_Details!$B$29,0)=\"\", \"-\", OFFSET('Raw Data'!P90,Input_Details!$B$29,0))","v":0},{"$f":"IF(OFFSET('Raw Data'!Q90,Input_Details!$B$29,0)=\"\", \"-\", OFFSET('Raw Data'!Q90,Input_Details!$B$29,0))","v":0},{"$f":"IF(OFFSET('Raw Data'!R90,Input_Details!$B$29,0)=\"\", \"-\", OFFSET('Raw Data'!R90,Input_Details!$B$29,0))","v":0},{"$f":"IF(OFFSET('Raw Data'!S90,Input_Details!$B$29,0)=\"\", \"-\", OFFSET('Raw Data'!S90,Input_Details!$B$29,0))","v":0},3.4,null,{"$f":"IF(OFFSET('Raw Data'!AU90,Input_Details!$B$29,0)=\"\", \"-\", OFFSET('Raw Data'!AU90,Input_Details!$B$29,0))","v":5.4},{"$f":"IF(OFFSET('Raw Data'!AV90,Input_Details!$B$29,0)=\"\", \"-\", OFFSET('Raw Data'!AV90,Input_Details!$B$29,0))","v":5.8},{"$f":"IF(OFFSET('Raw Data'!AW90,Input_Details!$B$29,0)=\"\", \"-\", OFFSET('Raw Data'!AW90,Input_Details!$B$29,0))","v":0},{"$f":"IF(OFFSET('Raw Data'!AX90,Input_Details!$B$29,0)=\"\", \"-\", OFFSET('Raw Data'!AX90,Input_Details!$B$29,0))","v":0.2},{"$f":"IF(OFFSET('Raw Data'!AY90,Input_Details!$B$29,0)=\"\", \"-\", OFFSET('Raw Data'!AY90,Input_Details!$B$29,0))","v":0},{"$f":"IF(OFFSET('Raw Data'!AZ90,Input_Details!$B$29,0)=\"\", \"-\", OFFSET('Raw Data'!AZ90,Input_Details!$B$29,0))","v":0.4},{"$f":"IF(OFFSET('Raw Data'!BA90,Input_Details!$B$29,0)=\"\", \"-\", OFFSET('Raw Data'!BA90,Input_Details!$B$29,0))","v":0},{"$f":"IF(OFFSET('Raw Data'!BB90,Input_Details!$B$29,0)=\"\", \"-\", OFFSET('Raw Data'!BB90,Input_Details!$B$29,0))","v":0},{"$f":"IF(OFFSET('Raw Data'!BC90,Input_Details!$B$29,0)=\"\", \"-\", OFFSET('Raw Data'!BC90,Input_Details!$B$29,0))","v":0},{"$f":"IF(OFFSET('Raw Data'!BD90,Input_Details!$B$29,0)=\"\", \"-\", OFFSET('Raw Data'!BD90,Input_Details!$B$29,0))","v":0},{"$f":"IF(OFFSET('Raw Data'!BE90,Input_Details!$B$29,0)=\"\", \"-\", OFFSET('Raw Data'!BE90,Input_Details!$B$29,0))","v":0},{"$f":"IF(OFFSET('Raw Data'!BF90,Input_Details!$B$29,0)=\"\", \"-\", OFFSET('Raw Data'!BF90,Input_Details!$B$29,0))","v":0},11.799999999999999,null,6.4,7.8,0,0.60000000000000009,0,0.4,0,0,0,0,0,0,15.2]
[null,"21:45:00",{"$f":"IF(OFFSET('Raw Data'!H91,Input_Details!$B$29,0)=\"\", \"-\", OFFSET('Raw Data'!H91,Input_Details!$B$29,0))","v":1},{"$f":"IF(OFFSET('Raw Data'!I91,Input_Details!$B$29,0)=\"\", \"-\", OFFSET('Raw Data'!I91,Input_Details!$B$29,0))","v":3.4},{"$f":"IF(OFFSET('Raw Data'!J91,Input_Details!$B$29,0)=\"\", \"-\", OFFSET('Raw Data'!J91,Input_Details!$B$29,0))","v":0},{"$f":"IF(OFFSET('Raw Data'!K91,Input_Details!$B$29,0)=\"\", \"-\", OFFSET('Raw Data'!K91,Input_Details!$B$29,0))","v":0},{"$f":"IF(OFFSET('Raw Data'!L91,Input_Details!$B$29,0)=\"\", \"-\", OFFSET('Raw Data'!L91,Input_Details!$B$29,0))","v":0},{"$f":"IF(OFFSET('Raw Data'!M91,Input_Details!$B$29,0)=\"\", \"-\", OFFSET('Raw Data'!M91,Input_Details!$B$29,0))","v":0},{"$f":"IF(OFFSET('Raw Data'!N91,Input_Details!$B$29,0)=\"\", \"-\", OFFSET('Raw Data'!N91,Input_Details!$B$29,0))","v":0},{"$f":"IF(OFFSET('Raw Data'!O91,Input_Details!$B$29,0)=\"\", \"-\", OFFSET('Raw Data'!O91,Input_Details!$B$29,0))","v":0},{"$f":"IF(OFFSET('Raw Data'!P91,Input_Details!$B$29,0)=\"\", \"-\", OFFSET('Raw Data'!P91,Input_Details!$B$29,0))","v":0},{"$f":"IF(OFFSET('Raw Data'!Q91,Input_Details!$B$29,0)=\"\", \"-\", OFFSET('Raw Data'!Q91,Input_Details!$B$29,0))","v":0},{"$f":"IF(OFFSET('Raw Data'!R91,Input_Details!$B$29,0)=\"\", \"-\", OFFSET('Raw Data'!R91,Input_Details!$B$29,0))","v":0},{"$f":"IF(OFFSET('Raw Data'!S91,Input_Details!$B$29,0)=\"\", \"-\", OFFSET('Raw Data'!S91,Input_Details!$B$29,0))","v":0},4.4000000000000004,null,{"$f":"IF(OFFSET('Raw Data'!AU91,Input_Details!$B$29,0)=\"\", \"-\", OFFSET('Raw Data'!AU91,Input_Details!$B$29,0))","v":6.2},{"$f":"IF(OFFSET('Raw Data'!AV91,Input_Details!$B$29,0)=\"\", \"-\", OFFSET('Raw Data'!AV91,Input_Details!$B$29,0))","v":5},{"$f":"IF(OFFSET('Raw Data'!AW91,Input_Details!$B$29,0)=\"\", \"-\", OFFSET('Raw Data'!AW91,Input_Details!$B$29,0))","v":0},{"$f":"IF(OFFSET('Raw Data'!AX91,Input_Details!$B$29,0)=\"\", \"-\", OFFSET('Raw Data'!AX91,Input_Details!$B$29,0))","v":0},{"$f":"IF(OFFSET('Raw Data'!AY91,Input_Details!$B$29,0)=\"\", \"-\", OFFSET('Raw Data'!AY91,Input_Details!$B$29,0))","v":0.2},{"$f":"IF(OFFSET('Raw Data'!AZ91,Input_Details!$B$29,0)=\"\", \"-\", OFFSET('Raw Data'!AZ91,Input_Details!$B$29,0))","v":0},{"$f":"IF(OFFSET('Raw Data'!BA91,Input_Details!$B$29,0)=\"\", \"-\", OFFSET('Raw Data'!BA91,Input_Details!$B$29,0))","v":0},{"$f":"IF(OFFSET('Raw Data'!BB91,Input_Details!$B$29,0)=\"\", \"-\", OFFSET('Raw Data'!BB91,Input_Details!$B$29,0))","v":0},{"$f":"IF(OFFSET('Raw Data'!BC91,Input_Details!$B$29,0)=\"\", \"-\", OFFSET('Raw Data'!BC91,Input_Details!$B$29,0))","v":0},{"$f":"IF(OFFSET('Raw Data'!BD91,Input_Details!$B$29,0)=\"\", \"-\", OFFSET('Raw Data'!BD91,Input_Details!$B$29,0))","v":0},{"$f":"IF(OFFSET('Raw Data'!BE91,Input_Details!$B$29,0)=\"\", \"-\", OFFSET('Raw Data'!BE91,Input_Details!$B$29,0))","v":0},{"$f":"IF(OFFSET('Raw Data'!BF91,Input_Details!$B$29,0)=\"\", \"-\", OFFSET('Raw Data'!BF91,Input_Details!$B$29,0))","v":0},11.399999999999999,null,7.2,8.4,0,0,0.2,0,0,0,0,0,0,0,15.8]
[null,"22:00:00",{"$f":"IF(OFFSET('Raw Data'!H92,Input_Details!$B$29,0)=\"\", \"-\", OFFSET('Raw Data'!H92,Input_Details!$B$29,0))","v":1},{"$f":"IF(OFFSET('Raw Data'!I92,Input_Details!$B$29,0)=\"\", \"-\", OFFSET('Raw Data'!I92,Input_Details!$B$29,0))","v":1.8},{"$f":"IF(OFFSET('Raw Data'!J92,Input_Details!$B$29,0)=\"\", \"-\", OFFSET('Raw Data'!J92,Input_Details!$B$29,0))","v":0},{"$f":"IF(OFFSET('Raw Data'!K92,Input_Details!$B$29,0)=\"\", \"-\", OFFSET('Raw Data'!K92,Input_Details!$B$29,0))","v":0},{"$f":"IF(OFFSET('Raw Data'!L92,Input_Details!$B$29,0)=\"\", \"-\", OFFSET('Raw Data'!L92,Input_Details!$B$29,0))","v":0},{"$f":"IF(OFFSET('Raw Data'!M92,Input_Details!$B$29,0)=\"\", \"-\", OFFSET('Raw Data'!M92,Input_Details!$B$29,0))","v":0},{"$f":"IF(OFFSET('Raw Data'!N92,Input_Details!$B$29,0)=\"\", \"-\", OFFSET('Raw Data'!N92,Input_Details!$B$29,0))","v":0},{"$f":"IF(OFFSET('Raw Data'!O92,Input_Details!$B$29,0)=\"\", \"-\", OFFSET('Raw Data'!O92,Input_Details!$B$29,0))","v":0},{"$f":"IF(OFFSET('Raw Data'!P92,Input_Details!$B$29,0)=\"\", \"-\", OFFSET('Raw Data'!P92,Input_Details!$B$29,0))","v":0},{"$f":"IF(OFFSET('Raw Data'!Q92,Input_Details!$B$29,0)=\"\", \"-\", OFFSET('Raw Data'!Q92,Input_Details!$B$29,0))","v":0},{"$f":"IF(OFFSET('Raw Data'!R92,Input_Details!$B$29,0)=\"\", \"-\", OFFSET('Raw Data'!R92,Input_Details!$B$29,0))","v":0},{"$f":"IF(OFFSET('Raw Data'!S92,Input_Details!$B$29,0)=\"\", \"-\", OFFSET('Raw Data'!S92,Input_Details!$B$29,0))","v":0},2.8,null,{"$f":"IF(OFFSET('Raw Data'!AU92,Input_Details!$B$29,0)=\"\", \"-\", OFFSET('Raw Data'!AU92,Input_Details!$B$29,0))","v":4.5999999999999996},{"$f":"IF(OFFSET('Raw Data'!AV92,Input_Details!$B$29,0)=\"\", \"-\", OFFSET('Raw Data'!AV92,Input_Details!$B$29,0))","v":4.2},{"$f":"IF(OFFSET('Raw Data'!AW92,Input_Details!$B$29,0)=\"\", \"-\", OFFSET('Raw Data'!AW92,Input_Details!$B$29,0))","v":0},{"$f":"IF(OFFSET('Raw Data'!AX92,Input_Details!$B$29,0)=\"\", \"-\", OFFSET('Raw Data'!AX92,Input_Details!$B$29,0))","v":0},{"$f":"IF(OFFSET('Raw Data'!AY92,Input_Details!$B$29,0)=\"\", \"-\", OFFSET('Raw Data'!AY92,Input_Details!$B$29,0))","v":0},{"$f":"IF(OFFSET('Raw Data'!AZ92,Input_Details!$B$29,0)=\"\", \"-\", OFFSET('Raw Data'!AZ92,Input_Details!$B$29,0))","v":0},{"$f":"IF(OFFSET('Raw Data'!BA92,Input_Details!$B$29,0)=\"\", \"-\", OFFSET('Raw Data'!BA92,Input_Details!$B$29,0))","v":0},{"$f":"IF(OFFSET('Raw Data'!BB92,Input_Details!$B$29,0)=\"\", \"-\", OFFSET('Raw Data'!BB92,Input_Details!$B$29,0))","v":0},{"$f":"IF(OFFSET('Raw Data'!BC92,Input_Details!$B$29,0)=\"\", \"-\", OFFSET('Raw Data'!BC92,Input_Details!$B$29,0))","v":0},{"$f":"IF(OFFSET('Raw Data'!BD92,Input_Details!$B$29,0)=\"\", \"-\", OFFSET('Raw Data'!BD92,Input_Details!$B$29,0))","v":0},{"$f":"IF(OFFSET('Raw Data'!BE92,Input_Details!$B$29,0)=\"\", \"-\", OFFSET('Raw Data'!BE92,Input_Details!$B$29,0))","v":0},{"$f":"IF(OFFSET('Raw Data'!BF92,Input_Details!$B$29,0)=\"\", \"-\", OFFSET('Raw Data'!BF92,Input_Details!$B$29,0))","v":0},8.8000000000000007,null,5.6,6,0,0,0,0,0,0,0,0,0,0,11.6]
[null,"22:15:00",{"$f":"IF(OFFSET('Raw Data'!H93,Input_Details!$B$29,0)=\"\", \"-\", OFFSET('Raw Data'!H93,Input_Details!$B$29,0))","v":1.6},{"$f":"IF(OFFSET('Raw Data'!I93,Input_Details!$B$29,0)=\"\", \"-\", OFFSET('Raw Data'!I93,Input_Details!$B$29,0))","v":3.4},{"$f":"IF(OFFSET('Raw Data'!J93,Input_Details!$B$29,0)=\"\", \"-\", OFFSET('Raw Data'!J93,Input_Details!$B$29,0))","v":0},{"$f":"IF(OFFSET('Raw Data'!K93,Input_Details!$B$29,0)=\"\", \"-\", OFFSET('Raw Data'!K93,Input_Details!$B$29,0))","v":0},{"$f":"IF(OFFSET('Raw Data'!L93,Input_Details!$B$29,0)=\"\", \"-\", OFFSET('Raw Data'!L93,Input_Details!$B$29,0))","v":0},{"$f":"IF(OFFSET('Raw Data'!M93,Input_Details!$B$29,0)=\"\", \"-\", OFFSET('Raw Data'!M93,Input_Details!$B$29,0))","v":0},{"$f":"IF(OFFSET('Raw Data'!N93,Input_Details!$B$29,0)=\"\", \"-\", OFFSET('Raw Data'!N93,Input_Details!$B$29,0))","v":0},{"$f":"IF(OFFSET('Raw Data'!O93,Input_Details!$B$29,0)=\"\", \"-\", OFFSET('Raw Data'!O93,Input_Details!$B$29,0))","v":0},{"$f":"IF(OFFSET('Raw Data'!P93,Input_Details!$B$29,0)=\"\", \"-\", OFFSET('Raw Data'!P93,Input_Details!$B$29,0))","v":0},{"$f":"IF(OFFSET('Raw Data'!Q93,Input_Details!$B$29,0)=\"\", \"-\", OFFSET('Raw Data'!Q93,Input_Details!$B$29,0))","v":0},{"$f":"IF(OFFSET('Raw Data'!R93,Input_Details!$B$29,0)=\"\", \"-\", OFFSET('Raw Data'!R93,Input_Details!$B$29,0))","v":0},{"$f":"IF(OFFSET('Raw Data'!S93,Input_Details!$B$29,0)=\"\", \"-\", OFFSET('Raw Data'!S93,Input_Details!$B$29,0))","v":0},5,null,{"$f":"IF(OFFSET('Raw Data'!AU93,Input_Details!$B$29,0)=\"\", \"-\", OFFSET('Raw Data'!AU93,Input_Details!$B$29,0))","v":4},{"$f":"IF(OFFSET('Raw Data'!AV93,Input_Details!$B$29,0)=\"\", \"-\", OFFSET('Raw Data'!AV93,Input_Details!$B$29,0))","v":3},{"$f":"IF(OFFSET('Raw Data'!AW93,Input_Details!$B$29,0)=\"\", \"-\", OFFSET('Raw Data'!AW93,Input_Details!$B$29,0))","v":0},{"$f":"IF(OFFSET('Raw Data'!AX93,Input_Details!$B$29,0)=\"\", \"-\", OFFSET('Raw Data'!AX93,Input_Details!$B$29,0))","v":0.2},{"$f":"IF(OFFSET('Raw Data'!AY93,Input_Details!$B$29,0)=\"\", \"-\", OFFSET('Raw Data'!AY93,Input_Details!$B$29,0))","v":0},{"$f":"IF(OFFSET('Raw Data'!AZ93,Input_Details!$B$29,0)=\"\", \"-\", OFFSET('Raw Data'!AZ93,Input_Details!$B$29,0))","v":0.2},{"$f":"IF(OFFSET('Raw Data'!BA93,Input_Details!$B$29,0)=\"\", \"-\", OFFSET('Raw Data'!BA93,Input_Details!$B$29,0))","v":0},{"$f":"IF(OFFSET('Raw Data'!BB93,Input_Details!$B$29,0)=\"\", \"-\", OFFSET('Raw Data'!BB93,Input_Details!$B$29,0))","v":0},{"$f":"IF(OFFSET('Raw Data'!BC93,Input_Details!$B$29,0)=\"\", \"-\", OFFSET('Raw Data'!BC93,Input_Details!$B$29,0))","v":0},{"$f":"IF(OFFSET('Raw Data'!BD93,Input_Details!$B$29,0)=\"\", \"-\", OFFSET('Raw Data'!BD93,Input_Details!$B$29,0))","v":0},{"$f":"IF(OFFSET('Raw Data'!BE93,Input_Details!$B$29,0)=\"\", \"-\", OFFSET('Raw Data'!BE93,Input_Details!$B$29,0))","v":0},{"$f":"IF(OFFSET('Raw Data'!BF93,Input_Details!$B$29,0)=\"\", \"-\", OFFSET('Raw Data'!BF93,Input_Details!$B$29,0))","v":0},7.4,null,5.6,6.4,0,0.2,0,0.2,0,0,0,0,0,0,12.399999999999999]
[null,"22:30:00",{"$f":"IF(OFFSET('Raw Data'!H94,Input_Details!$B$29,0)=\"\", \"-\", OFFSET('Raw Data'!H94,Input_Details!$B$29,0))","v":1.2},{"$f":"IF(OFFSET('Raw Data'!I94,Input_Details!$B$29,0)=\"\", \"-\", OFFSET('Raw Data'!I94,Input_Details!$B$29,0))","v":4.5999999999999996},{"$f":"IF(OFFSET('Raw Data'!J94,Input_Details!$B$29,0)=\"\", \"-\", OFFSET('Raw Data'!J94,Input_Details!$B$29,0))","v":0},{"$f":"IF(OFFSET('Raw Data'!K94,Input_Details!$B$29,0)=\"\", \"-\", OFFSET('Raw Data'!K94,Input_Details!$B$29,0))","v":0.2},{"$f":"IF(OFFSET('Raw Data'!L94,Input_Details!$B$29,0)=\"\", \"-\", OFFSET('Raw Data'!L94,Input_Details!$B$29,0))","v":0},{"$f":"IF(OFFSET('Raw Data'!M94,Input_Details!$B$29,0)=\"\", \"-\", OFFSET('Raw Data'!M94,Input_Details!$B$29,0))","v":0},{"$f":"IF(OFFSET('Raw Data'!N94,Input_Details!$B$29,0)=\"\", \"-\", OFFSET('Raw Data'!N94,Input_Details!$B$29,0))","v":0},{"$f":"IF(OFFSET('Raw Data'!O94,Input_Details!$B$29,0)=\"\", \"-\", OFFSET('Raw Data'!O94,Input_Details!$B$29,0))","v":0},{"$f":"IF(OFFSET('Raw Data'!P94,Input_Details!$B$29,0)=\"\", \"-\", OFFSET('Raw Data'!P94,Input_Details!$B$29,0))","v":0},{"$f":"IF(OFFSET('Raw Data'!Q94,Input_Details!$B$29,0)=\"\", \"-\", OFFSET('Raw Data'!Q94,Input_Details!$B$29,0))","v":0},{"$f":"IF(OFFSET('Raw Data'!R94,Input_Details!$B$29,0)=\"\", \"-\", OFFSET('Raw Data'!R94,Input_Details!$B$29,0))","v":0},{"$f":"IF(OFFSET('Raw Data'!S94,Input_Details!$B$29,0)=\"\", \"-\", OFFSET('Raw Data'!S94,Input_Details!$B$29,0))","v":0},6,null,{"$f":"IF(OFFSET('Raw Data'!AU94,Input_Details!$B$29,0)=\"\", \"-\", OFFSET('Raw Data'!AU94,Input_Details!$B$29,0))","v":4},{"$f":"IF(OFFSET('Raw Data'!AV94,Input_Details!$B$29,0)=\"\", \"-\", OFFSET('Raw Data'!AV94,Input_Details!$B$29,0))","v":4.4000000000000004},{"$f":"IF(OFFSET('Raw Data'!AW94,Input_Details!$B$29,0)=\"\", \"-\", OFFSET('Raw Data'!AW94,Input_Details!$B$29,0))","v":0.2},{"$f":"IF(OFFSET('Raw Data'!AX94,Input_Details!$B$29,0)=\"\", \"-\", OFFSET('Raw Data'!AX94,Input_Details!$B$29,0))","v":0},{"$f":"IF(OFFSET('Raw Data'!AY94,Input_Details!$B$29,0)=\"\", \"-\", OFFSET('Raw Data'!AY94,Input_Details!$B$29,0))","v":0},{"$f":"IF(OFFSET('Raw Data'!AZ94,Input_Details!$B$29,0)=\"\", \"-\", OFFSET('Raw Data'!AZ94,Input_Details!$B$29,0))","v":0},{"$f":"IF(OFFSET('Raw Data'!BA94,Input_Details!$B$29,0)=\"\", \"-\", OFFSET('Raw Data'!BA94,Input_Details!$B$29,0))","v":0},{"$f":"IF(OFFSET('Raw Data'!BB94,Input_Details!$B$29,0)=\"\", \"-\", OFFSET('Raw Data'!BB94,Input_Details!$B$29,0))","v":0},{"$f":"IF(OFFSET('Raw Data'!BC94,Input_Details!$B$29,0)=\"\", \"-\", OFFSET('Raw Data'!BC94,Input_Details!$B$29,0))","v":0},{"$f":"IF(OFFSET('Raw Data'!BD94,Input_Details!$B$29,0)=\"\", \"-\", OFFSET('Raw Data'!BD94,Input_Details!$B$29,0))","v":0},{"$f":"IF(OFFSET('Raw Data'!BE94,Input_Details!$B$29,0)=\"\", \"-\", OFFSET('Raw Data'!BE94,Input_Details!$B$29,0))","v":0},{"$f":"IF(OFFSET('Raw Data'!BF94,Input_Details!$B$29,0)=\"\", \"-\", OFFSET('Raw Data'!BF94,Input_Details!$B$29,0))","v":0},8.6,null,5.2,9,0.2,0.2,0,0,0,0,0,0,0,0,14.599999999999998]
[null,"22:45:00",{"$f":"IF(OFFSET('Raw Data'!H95,Input_Details!$B$29,0)=\"\", \"-\", OFFSET('Raw Data'!H95,Input_Details!$B$29,0))","v":0.6},{"$f":"IF(OFFSET('Raw Data'!I95,Input_Details!$B$29,0)=\"\", \"-\", OFFSET('Raw Data'!I95,Input_Details!$B$29,0))","v":3.8},{"$f":"IF(OFFSET('Raw Data'!J95,Input_Details!$B$29,0)=\"\", \"-\", OFFSET('Raw Data'!J95,Input_Details!$B$29,0))","v":0},{"$f":"IF(OFFSET('Raw Data'!K95,Input_Details!$B$29,0)=\"\", \"-\", OFFSET('Raw Data'!K95,Input_Details!$B$29,0))","v":0.2},{"$f":"IF(OFFSET('Raw Data'!L95,Input_Details!$B$29,0)=\"\", \"-\", OFFSET('Raw Data'!L95,Input_Details!$B$29,0))","v":0},{"$f":"IF(OFFSET('Raw Data'!M95,Input_Details!$B$29,0)=\"\", \"-\", OFFSET('Raw Data'!M95,Input_Details!$B$29,0))","v":0},{"$f":"IF(OFFSET('Raw Data'!N95,Input_Details!$B$29,0)=\"\", \"-\", OFFSET('Raw Data'!N95,Input_Details!$B$29,0))","v":0},{"$f":"IF(OFFSET('Raw Data'!O95,Input_Details!$B$29,0)=\"\", \"-\", OFFSET('Raw Data'!O95,Input_Details!$B$29,0))","v":0},{"$f":"IF(OFFSET('Raw Data'!P95,Input_Details!$B$29,0)=\"\", \"-\", OFFSET('Raw Data'!P95,Input_Details!$B$29,0))","v":0},{"$f":"IF(OFFSET('Raw Data'!Q95,Input_Details!$B$29,0)=\"\", \"-\", OFFSET('Raw Data'!Q95,Input_Details!$B$29,0))","v":0},{"$f":"IF(OFFSET('Raw Data'!R95,Input_Details!$B$29,0)=\"\", \"-\", OFFSET('Raw Data'!R95,Input_Details!$B$29,0))","v":0},{"$f":"IF(OFFSET('Raw Data'!S95,Input_Details!$B$29,0)=\"\", \"-\", OFFSET('Raw Data'!S95,Input_Details!$B$29,0))","v":0},4.5999999999999996,null,{"$f":"IF(OFFSET('Raw Data'!AU95,Input_Details!$B$29,0)=\"\", \"-\", OFFSET('Raw Data'!AU95,Input_Details!$B$29,0))","v":3.6},{"$f":"IF(OFFSET('Raw Data'!AV95,Input_Details!$B$29,0)=\"\", \"-\", OFFSET('Raw Data'!AV95,Input_Details!$B$29,0))","v":3},{"$f":"IF(OFFSET('Raw Data'!AW95,Input_Details!$B$29,0)=\"\", \"-\", OFFSET('Raw Data'!AW95,Input_Details!$B$29,0))","v":0},{"$f":"IF(OFFSET('Raw Data'!AX95,Input_Details!$B$29,0)=\"\", \"-\", OFFSET('Raw Data'!AX95,Input_Details!$B$29,0))","v":0},{"$f":"IF(OFFSET('Raw Data'!AY95,Input_Details!$B$29,0)=\"\", \"-\", OFFSET('Raw Data'!AY95,Input_Details!$B$29,0))","v":0},{"$f":"IF(OFFSET('Raw Data'!AZ95,Input_Details!$B$29,0)=\"\", \"-\", OFFSET('Raw Data'!AZ95,Input_Details!$B$29,0))","v":0},{"$f":"IF(OFFSET('Raw Data'!BA95,Input_Details!$B$29,0)=\"\", \"-\", OFFSET('Raw Data'!BA95,Input_Details!$B$29,0))","v":0},{"$f":"IF(OFFSET('Raw Data'!BB95,Input_Details!$B$29,0)=\"\", \"-\", OFFSET('Raw Data'!BB95,Input_Details!$B$29,0))","v":0},{"$f":"IF(OFFSET('Raw Data'!BC95,Input_Details!$B$29,0)=\"\", \"-\", OFFSET('Raw Data'!BC95,Input_Details!$B$29,0))","v":0},{"$f":"IF(OFFSET('Raw Data'!BD95,Input_Details!$B$29,0)=\"\", \"-\", OFFSET('Raw Data'!BD95,Input_Details!$B$29,0))","v":0},{"$f":"IF(OFFSET('Raw Data'!BE95,Input_Details!$B$29,0)=\"\", \"-\", OFFSET('Raw Data'!BE95,Input_Details!$B$29,0))","v":0},{"$f":"IF(OFFSET('Raw Data'!BF95,Input_Details!$B$29,0)=\"\", \"-\", OFFSET('Raw Data'!BF95,Input_Details!$B$29,0))","v":0},6.6,null,4.2,6.8,0,0.2,0,0,0,0,0,0,0,0,11.2]
[null,"23:00:00",{"$f":"IF(OFFSET('Raw Data'!H96,Input_Details!$B$29,0)=\"\", \"-\", OFFSET('Raw Data'!H96,Input_Details!$B$29,0))","v":0.6},{"$f":"IF(OFFSET('Raw Data'!I96,Input_Details!$B$29,0)=\"\", \"-\", OFFSET('Raw Data'!I96,Input_Details!$B$29,0))","v":3},{"$f":"IF(OFFSET('Raw Data'!J96,Input_Details!$B$29,0)=\"\", \"-\", OFFSET('Raw Data'!J96,Input_Details!$B$29,0))","v":0},{"$f":"IF(OFFSET('Raw Data'!K96,Input_Details!$B$29,0)=\"\", \"-\", OFFSET('Raw Data'!K96,Input_Details!$B$29,0))","v":0},{"$f":"IF(OFFSET('Raw Data'!L96,Input_Details!$B$29,0)=\"\", \"-\", OFFSET('Raw Data'!L96,Input_Details!$B$29,0))","v":0},{"$f":"IF(OFFSET('Raw Data'!M96,Input_Details!$B$29,0)=\"\", \"-\", OFFSET('Raw Data'!M96,Input_Details!$B$29,0))","v":0},{"$f":"IF(OFFSET('Raw Data'!N96,Input_Details!$B$29,0)=\"\", \"-\", OFFSET('Raw Data'!N96,Input_Details!$B$29,0))","v":0},{"$f":"IF(OFFSET('Raw Data'!O96,Input_Details!$B$29,0)=\"\", \"-\", OFFSET('Raw Data'!O96,Input_Details!$B$29,0))","v":0},{"$f":"IF(OFFSET('Raw Data'!P96,Input_Details!$B$29,0)=\"\", \"-\", OFFSET('Raw Data'!P96,Input_Details!$B$29,0))","v":0},{"$f":"IF(OFFSET('Raw Data'!Q96,Input_Details!$B$29,0)=\"\", \"-\", OFFSET('Raw Data'!Q96,Input_Details!$B$29,0))","v":0},{"$f":"IF(OFFSET('Raw Data'!R96,Input_Details!$B$29,0)=\"\", \"-\", OFFSET('Raw Data'!R96,Input_Details!$B$29,0))","v":0},{"$f":"IF(OFFSET('Raw Data'!S96,Input_Details!$B$29,0)=\"\", \"-\", OFFSET('Raw Data'!S96,Input_Details!$B$29,0))","v":0},3.6,null,{"$f":"IF(OFFSET('Raw Data'!AU96,Input_Details!$B$29,0)=\"\", \"-\", OFFSET('Raw Data'!AU96,Input_Details!$B$29,0))","v":3.6},{"$f":"IF(OFFSET('Raw Data'!AV96,Input_Details!$B$29,0)=\"\", \"-\", OFFSET('Raw Data'!AV96,Input_Details!$B$29,0))","v":3.6},{"$f":"IF(OFFSET('Raw Data'!AW96,Input_Details!$B$29,0)=\"\", \"-\", OFFSET('Raw Data'!AW96,Input_Details!$B$29,0))","v":0},{"$f":"IF(OFFSET('Raw Data'!AX96,Input_Details!$B$29,0)=\"\", \"-\", OFFSET('Raw Data'!AX96,Input_Details!$B$29,0))","v":0.2},{"$f":"IF(OFFSET('Raw Data'!AY96,Input_Details!$B$29,0)=\"\", \"-\", OFFSET('Raw Data'!AY96,Input_Details!$B$29,0))","v":0},{"$f":"IF(OFFSET('Raw Data'!AZ96,Input_Details!$B$29,0)=\"\", \"-\", OFFSET('Raw Data'!AZ96,Input_Details!$B$29,0))","v":0.4},{"$f":"IF(OFFSET('Raw Data'!BA96,Input_Details!$B$29,0)=\"\", \"-\", OFFSET('Raw Data'!BA96,Input_Details!$B$29,0))","v":0},{"$f":"IF(OFFSET('Raw Data'!BB96,Input_Details!$B$29,0)=\"\", \"-\", OFFSET('Raw Data'!BB96,Input_Details!$B$29,0))","v":0},{"$f":"IF(OFFSET('Raw Data'!BC96,Input_Details!$B$29,0)=\"\", \"-\", OFFSET('Raw Data'!BC96,Input_Details!$B$29,0))","v":0},{"$f":"IF(OFFSET('Raw Data'!BD96,Input_Details!$B$29,0)=\"\", \"-\", OFFSET('Raw Data'!BD96,Input_Details!$B$29,0))","v":0},{"$f":"IF(OFFSET('Raw Data'!BE96,Input_Details!$B$29,0)=\"\", \"-\", OFFSET('Raw Data'!BE96,Input_Details!$B$29,0))","v":0},{"$f":"IF(OFFSET('Raw Data'!BF96,Input_Details!$B$29,0)=\"\", \"-\", OFFSET('Raw Data'!BF96,Input_Details!$B$29,0))","v":0},7.8000000000000007,null,4.2,6.6,0,0.2,0,0.4,0,0,0,0,0,0,11.4]
[null,"23:15:00",{"$f":"IF(OFFSET('Raw Data'!H97,Input_Details!$B$29,0)=\"\", \"-\", OFFSET('Raw Data'!H97,Input_Details!$B$29,0))","v":0.6},{"$f":"IF(OFFSET('Raw Data'!I97,Input_Details!$B$29,0)=\"\", \"-\", OFFSET('Raw Data'!I97,Input_Details!$B$29,0))","v":2.2000000000000002},{"$f":"IF(OFFSET('Raw Data'!J97,Input_Details!$B$29,0)=\"\", \"-\", OFFSET('Raw Data'!J97,Input_Details!$B$29,0))","v":0},{"$f":"IF(OFFSET('Raw Data'!K97,Input_Details!$B$29,0)=\"\", \"-\", OFFSET('Raw Data'!K97,Input_Details!$B$29,0))","v":0},{"$f":"IF(OFFSET('Raw Data'!L97,Input_Details!$B$29,0)=\"\", \"-\", OFFSET('Raw Data'!L97,Input_Details!$B$29,0))","v":0},{"$f":"IF(OFFSET('Raw Data'!M97,Input_Details!$B$29,0)=\"\", \"-\", OFFSET('Raw Data'!M97,Input_Details!$B$29,0))","v":0},{"$f":"IF(OFFSET('Raw Data'!N97,Input_Details!$B$29,0)=\"\", \"-\", OFFSET('Raw Data'!N97,Input_Details!$B$29,0))","v":0},{"$f":"IF(OFFSET('Raw Data'!O97,Input_Details!$B$29,0)=\"\", \"-\", OFFSET('Raw Data'!O97,Input_Details!$B$29,0))","v":0},{"$f":"IF(OFFSET('Raw Data'!P97,Input_Details!$B$29,0)=\"\", \"-\", OFFSET('Raw Data'!P97,Input_Details!$B$29,0))","v":0},{"$f":"IF(OFFSET('Raw Data'!Q97,Input_Details!$B$29,0)=\"\", \"-\", OFFSET('Raw Data'!Q97,Input_Details!$B$29,0))","v":0},{"$f":"IF(OFFSET('Raw Data'!R97,Input_Details!$B$29,0)=\"\", \"-\", OFFSET('Raw Data'!R97,Input_Details!$B$29,0))","v":0},{"$f":"IF(OFFSET('Raw Data'!S97,Input_Details!$B$29,0)=\"\", \"-\", OFFSET('Raw Data'!S97,Input_Details!$B$29,0))","v":0},2.8000000000000003,null,{"$f":"IF(OFFSET('Raw Data'!AU97,Input_Details!$B$29,0)=\"\", \"-\", OFFSET('Raw Data'!AU97,Input_Details!$B$29,0))","v":3.4},{"$f":"IF(OFFSET('Raw Data'!AV97,Input_Details!$B$29,0)=\"\", \"-\", OFFSET('Raw Data'!AV97,Input_Details!$B$29,0))","v":3.2},{"$f":"IF(OFFSET('Raw Data'!AW97,Input_Details!$B$29,0)=\"\", \"-\", OFFSET('Raw Data'!AW97,Input_Details!$B$29,0))","v":0},{"$f":"IF(OFFSET('Raw Data'!AX97,Input_Details!$B$29,0)=\"\", \"-\", OFFSET('Raw Data'!AX97,Input_Details!$B$29,0))","v":0},{"$f":"IF(OFFSET('Raw Data'!AY97,Input_Details!$B$29,0)=\"\", \"-\", OFFSET('Raw Data'!AY97,Input_Details!$B$29,0))","v":0},{"$f":"IF(OFFSET('Raw Data'!AZ97,Input_Details!$B$29,0)=\"\", \"-\", OFFSET('Raw Data'!AZ97,Input_Details!$B$29,0))","v":0},{"$f":"IF(OFFSET('Raw Data'!BA97,Input_Details!$B$29,0)=\"\", \"-\", OFFSET('Raw Data'!BA97,Input_Details!$B$29,0))","v":0},{"$f":"IF(OFFSET('Raw Data'!BB97,Input_Details!$B$29,0)=\"\", \"-\", OFFSET('Raw Data'!BB97,Input_Details!$B$29,0))","v":0},{"$f":"IF(OFFSET('Raw Data'!BC97,Input_Details!$B$29,0)=\"\", \"-\", OFFSET('Raw Data'!BC97,Input_Details!$B$29,0))","v":0},{"$f":"IF(OFFSET('Raw Data'!BD97,Input_Details!$B$29,0)=\"\", \"-\", OFFSET('Raw Data'!BD97,Input_Details!$B$29,0))","v":0},{"$f":"IF(OFFSET('Raw Data'!BE97,Input_Details!$B$29,0)=\"\", \"-\", OFFSET('Raw Data'!BE97,Input_Details!$B$29,0))","v":0},{"$f":"IF(OFFSET('Raw Data'!BF97,Input_Details!$B$29,0)=\"\", \"-\", OFFSET('Raw Data'!BF97,Input_Details!$B$29,0))","v":0},6.6,null,4,5.4,0,0,0,0,0,0,0,0,0,0,9.4]
[null,"23:30:00",{"$f":"IF(OFFSET('Raw Data'!H98,Input_Details!$B$29,0)=\"\", \"-\", OFFSET('Raw Data'!H98,Input_Details!$B$29,0))","v":0.2},{"$f":"IF(OFFSET('Raw Data'!I98,Input_Details!$B$29,0)=\"\", \"-\", OFFSET('Raw Data'!I98,Input_Details!$B$29,0))","v":3.2},{"$f":"IF(OFFSET('Raw Data'!J98,Input_Details!$B$29,0)=\"\", \"-\", OFFSET('Raw Data'!J98,Input_Details!$B$29,0))","v":0},{"$f":"IF(OFFSET('Raw Data'!K98,Input_Details!$B$29,0)=\"\", \"-\", OFFSET('Raw Data'!K98,Input_Details!$B$29,0))","v":0},{"$f":"IF(OFFSET('Raw Data'!L98,Input_Details!$B$29,0)=\"\", \"-\", OFFSET('Raw Data'!L98,Input_Details!$B$29,0))","v":0},{"$f":"IF(OFFSET('Raw Data'!M98,Input_Details!$B$29,0)=\"\", \"-\", OFFSET('Raw Data'!M98,Input_Details!$B$29,0))","v":0},{"$f":"IF(OFFSET('Raw Data'!N98,Input_Details!$B$29,0)=\"\", \"-\", OFFSET('Raw Data'!N98,Input_Details!$B$29,0))","v":0},{"$f":"IF(OFFSET('Raw Data'!O98,Input_Details!$B$29,0)=\"\", \"-\", OFFSET('Raw Data'!O98,Input_Details!$B$29,0))","v":0},{"$f":"IF(OFFSET('Raw Data'!P98,Input_Details!$B$29,0)=\"\", \"-\", OFFSET('Raw Data'!P98,Input_Details!$B$29,0))","v":0},{"$f":"IF(OFFSET('Raw Data'!Q98,Input_Details!$B$29,0)=\"\", \"-\", OFFSET('Raw Data'!Q98,Input_Details!$B$29,0))","v":0},{"$f":"IF(OFFSET('Raw Data'!R98,Input_Details!$B$29,0)=\"\", \"-\", OFFSET('Raw Data'!R98,Input_Details!$B$29,0))","v":0},{"$f":"IF(OFFSET('Raw Data'!S98,Input_Details!$B$29,0)=\"\", \"-\", OFFSET('Raw Data'!S98,Input_Details!$B$29,0))","v":0},3.4000000000000004,null,{"$f":"IF(OFFSET('Raw Data'!AU98,Input_Details!$B$29,0)=\"\", \"-\", OFFSET('Raw Data'!AU98,Input_Details!$B$29,0))","v":2.6},{"$f":"IF(OFFSET('Raw Data'!AV98,Input_Details!$B$29,0)=\"\", \"-\", OFFSET('Raw Data'!AV98,Input_Details!$B$29,0))","v":4.8},{"$f":"IF(OFFSET('Raw Data'!AW98,Input_Details!$B$29,0)=\"\", \"-\", OFFSET('Raw Data'!AW98,Input_Details!$B$29,0))","v":0},{"$f":"IF(OFFSET('Raw Data'!AX98,Input_Details!$B$29,0)=\"\", \"-\", OFFSET('Raw Data'!AX98,Input_Details!$B$29,0))","v":0},{"$f":"IF(OFFSET('Raw Data'!AY98,Input_Details!$B$29,0)=\"\", \"-\", OFFSET('Raw Data'!AY98,Input_Details!$B$29,0))","v":0},{"$f":"IF(OFFSET('Raw Data'!AZ98,Input_Details!$B$29,0)=\"\", \"-\", OFFSET('Raw Data'!AZ98,Input_Details!$B$29,0))","v":0},{"$f":"IF(OFFSET('Raw Data'!BA98,Input_Details!$B$29,0)=\"\", \"-\", OFFSET('Raw Data'!BA98,Input_Details!$B$29,0))","v":0},{"$f":"IF(OFFSET('Raw Data'!BB98,Input_Details!$B$29,0)=\"\", \"-\", OFFSET('Raw Data'!BB98,Input_Details!$B$29,0))","v":0},{"$f":"IF(OFFSET('Raw Data'!BC98,Input_Details!$B$29,0)=\"\", \"-\", OFFSET('Raw Data'!BC98,Input_Details!$B$29,0))","v":0},{"$f":"IF(OFFSET('Raw Data'!BD98,Input_Details!$B$29,0)=\"\", \"-\", OFFSET('Raw Data'!BD98,Input_Details!$B$29,0))","v":0},{"$f":"IF(OFFSET('Raw Data'!BE98,Input_Details!$B$29,0)=\"\", \"-\", OFFSET('Raw Data'!BE98,Input_Details!$B$29,0))","v":0},{"$f":"IF(OFFSET('Raw Data'!BF98,Input_Details!$B$29,0)=\"\", \"-\", OFFSET('Raw Data'!BF98,Input_Details!$B$29,0))","v":0},7.4,null,2.8000000000000003,8,0,0,0,0,0,0,0,0,0,0,10.8]
[null,"23:45:00",{"$f":"IF(OFFSET('Raw Data'!H99,Input_Details!$B$29,0)=\"\", \"-\", OFFSET('Raw Data'!H99,Input_Details!$B$29,0))","v":0},{"$f":"IF(OFFSET('Raw Data'!I99,Input_Details!$B$29,0)=\"\", \"-\", OFFSET('Raw Data'!I99,Input_Details!$B$29,0))","v":3.6},{"$f":"IF(OFFSET('Raw Data'!J99,Input_Details!$B$29,0)=\"\", \"-\", OFFSET('Raw Data'!J99,Input_Details!$B$29,0))","v":0},{"$f":"IF(OFFSET('Raw Data'!K99,Input_Details!$B$29,0)=\"\", \"-\", OFFSET('Raw Data'!K99,Input_Details!$B$29,0))","v":0},{"$f":"IF(OFFSET('Raw Data'!L99,Input_Details!$B$29,0)=\"\", \"-\", OFFSET('Raw Data'!L99,Input_Details!$B$29,0))","v":0},{"$f":"IF(OFFSET('Raw Data'!M99,Input_Details!$B$29,0)=\"\", \"-\", OFFSET('Raw Data'!M99,Input_Details!$B$29,0))","v":0},{"$f":"IF(OFFSET('Raw Data'!N99,Input_Details!$B$29,0)=\"\", \"-\", OFFSET('Raw Data'!N99,Input_Details!$B$29,0))","v":0},{"$f":"IF(OFFSET('Raw Data'!O99,Input_Details!$B$29,0)=\"\", \"-\", OFFSET('Raw Data'!O99,Input_Details!$B$29,0))","v":0},{"$f":"IF(OFFSET('Raw Data'!P99,Input_Details!$B$29,0)=\"\", \"-\", OFFSET('Raw Data'!P99,Input_Details!$B$29,0))","v":0},{"$f":"IF(OFFSET('Raw Data'!Q99,Input_Details!$B$29,0)=\"\", \"-\", OFFSET('Raw Data'!Q99,Input_Details!$B$29,0))","v":0},{"$f":"IF(OFFSET('Raw Data'!R99,Input_Details!$B$29,0)=\"\", \"-\", OFFSET('Raw Data'!R99,Input_Details!$B$29,0))","v":0},{"$f":"IF(OFFSET('Raw Data'!S99,Input_Details!$B$29,0)=\"\", \"-\", OFFSET('Raw Data'!S99,Input_Details!$B$29,0))","v":0},3.6,null,{"$f":"IF(OFFSET('Raw Data'!AU99,Input_Details!$B$29,0)=\"\", \"-\", OFFSET('Raw Data'!AU99,Input_Details!$B$29,0))","v":1.8},{"$f":"IF(OFFSET('Raw Data'!AV99,Input_Details!$B$29,0)=\"\", \"-\", OFFSET('Raw Data'!AV99,Input_Details!$B$29,0))","v":3.6},{"$f":"IF(OFFSET('Raw Data'!AW99,Input_Details!$B$29,0)=\"\", \"-\", OFFSET('Raw Data'!AW99,Input_Details!$B$29,0))","v":0},{"$f":"IF(OFFSET('Raw Data'!AX99,Input_Details!$B$29,0)=\"\", \"-\", OFFSET('Raw Data'!AX99,Input_Details!$B$29,0))","v":0},{"$f":"IF(OFFSET('Raw Data'!AY99,Input_Details!$B$29,0)=\"\", \"-\", OFFSET('Raw Data'!AY99,Input_Details!$B$29,0))","v":0},{"$f":"IF(OFFSET('Raw Data'!AZ99,Input_Details!$B$29,0)=\"\", \"-\", OFFSET('Raw Data'!AZ99,Input_Details!$B$29,0))","v":0},{"$f":"IF(OFFSET('Raw Data'!BA99,Input_Details!$B$29,0)=\"\", \"-\", OFFSET('Raw Data'!BA99,Input_Details!$B$29,0))","v":0},{"$f":"IF(OFFSET('Raw Data'!BB99,Input_Details!$B$29,0)=\"\", \"-\", OFFSET('Raw Data'!BB99,Input_Details!$B$29,0))","v":0},{"$f":"IF(OFFSET('Raw Data'!BC99,Input_Details!$B$29,0)=\"\", \"-\", OFFSET('Raw Data'!BC99,Input_Details!$B$29,0))","v":0},{"$f":"IF(OFFSET('Raw Data'!BD99,Input_Details!$B$29,0)=\"\", \"-\", OFFSET('Raw Data'!BD99,Input_Details!$B$29,0))","v":0},{"$f":"IF(OFFSET('Raw Data'!BE99,Input_Details!$B$29,0)=\"\", \"-\", OFFSET('Raw Data'!BE99,Input_Details!$B$29,0))","v":0},{"$f":"IF(OFFSET('Raw Data'!BF99,Input_Details!$B$29,0)=\"\", \"-\", OFFSET('Raw Data'!BF99,Input_Details!$B$29,0))","v":0},5.4,null,1.8,7.2,0,0,0,0,0,0,0,0,0,0,9]
[null,"Total",{"$f":"SUM(C19:C114)","v":347.65000000000009},292.39999999999992,0.2,34.850000000000009,2.4000000000000004,34.000000000000014,0,0.4,0.60000000000000009,5.8,1.8000000000000003,2.2000000000000002,722.3,null,{"$f":"SUM(Q19:Q114)","v":394.95000000000005},325.25,1.2,37.049999999999997,3,34.85,0,0.60000000000000009,0.4,6.6000000000000005,1.6,0.4,805.90000000000009,null,{"$f":"SUM(AE19:AE114)","v":742.59999999999991},617.64999999999986,1.4,71.900000000000048,5.4000000000000012,68.850000000000037,0,1,1,12.4,3.4000000000000004,2.6000000000000005,1528.2000000000003]
[null,null,null,null,null,null,null," "]
[]
[]
[null,null,null,null,null,null,null,null,null,null,null,null,null,null,null,null,null,null,null,null,null,null,null,null," "]

{"sheet":"Class Key","index":10,"n_rows":22,"n_cols":7,"rows_kept":22,"cut":false,"hidden":false,"merged":[[10,5,12,5],[13,5,15,5],[16,5,21,5],[8,1,8,6]]}
[]
[]
[]
[null,null,null,null,null,null,{"$f":"Input_Details!$I$1&\" - \"&Input_Details!$H$1","v":"3854-LON - Swan Street"}]
[null,null,null,null,null,null,{"$f":"\"prepared for \"&Input_Details!$J$1","v":"prepared for LB of Southwark"}]
[null,null,null,null,null,null,{"$f":"TEXT(MIN('Volume Summary-15min'!$C$14:$I$14), \"dd mmm yyyy\")&\" - \"&TEXT(MAX('Volume Summary-15min'!$C$14:$I$14), \"dd mmm yyyy\")","v":"17 Nov 2017 - 23 Nov 2017"}]
[]
[]
[null,"ARX Classification Scheme"]
[null,"Class No. ","No. Axles","Axle Groups","Description","Aggregate","Vehicle Example"]
[null,1,2,"1 or 2","Very Short - Bicycle or Motorcycle","Light"]
[null,2,2,"1 or 2","Short - Car, 4WD or Light Van"]
[null,3,"3/4/5",3,"Short Towing - Trailer, Caravan etc."]
[null,4,2,2,"2-Axle Truck or Bus","Medium"]
[null,5,3,2,"3-Axle Truck or Bus"]
[null,6,">3",2,"4-Axle Truck"]
[null,7,3,3,"3-Axle Articulated Vehicle or Rigid Vehicle & Trailer","Heavy"]
[null,8,4,">2","4-Axle Articulated Vehicle or Rigid Vehicle & Trailer"]
[null,9,5,">2","5-Axle Articulated Vehicle or Rigid Vehicle & Trailer"]
[null,10,">=6",">2","6 (or more) Axle Articulated Vehicle or Rigid Vehicle & Trailer"]
[null,11,">6",4,"B-Double or Heavy Truck & Trailer"]
[null,12,">6",">=5","Double or Triple Heavy Truck & 2 (or more) Trailers"]

{"sheet":"Speed Summary","index":11,"n_rows":122,"n_cols":33,"rows_kept":122,"cut":false,"hidden":false,"merged":[[19,29,19,30],[23,1,24,1],[23,3,23,22],[1,8,1,10],[2,8,2,10],[3,8,3,10],[5,8,5,9],[7,1,9,13],[23,24,23,27],[19,3,19,22],[19,24,19,27],[23,29,23,30]]}
[]
[]
[null,null,null,null,null,null,null,null,null,null,null,null,null,null,null,null,null,null,null,null,null,null,null,null,null,null,null,null,null,null,null,5,{"$f":"MATCH(AF3,$D$23:$W$23, 0)","v":{"$error":"#N/A"}}]
[null,null,null,null,null,null,null,null,null,null,null,null,null,null,null,null,null,null,null,null,null,null,null,null,null,null,null,null,null,null,{"$f":"Input_Details!$I$1&\" - \"&Input_Details!$H$1","v":"3854-LON - Swan Street"},10,{"$f":"MATCH(AF4,$D$23:$W$23, 0)","v":2}]
[null,null,null,null,null,null,null,null,null,null,null,null,null,null,null,null,null,null,null,null,null,null,null,null,null,null,null,null,null,null,{"$f":"\"prepared for \"&Input_Details!$J$1","v":"prepared for LB of Southwark"},20,4]
[null,null,null,null,null,null,null,null,null,null,null,null,null,null,null,null,null,null,null,null,null,null,null,null,null,null,null,null,null,null,{"$f":"TEXT(MIN('Volume Summary-15min'!$C$14:$I$14), \"dd mmm yyyy\")&\" - \"&TEXT(MAX('Volume Summary-15min'!$C$14:$I$14), \"dd mmm yyyy\")","v":"17 Nov 2017 - 23 Nov 2017"},30,6]
[null,null,null,null,null,null,null,null,null,null,null,null,null,null,null,null,null,null,null,null,null,null,null,null,null,null,null,null,null,null,null,40,8]
[null,{"$f":"\"Speed Summary - \"&TEXT($AC$10, \"dd mmm yyy\")","v":"Speed Summary - Site 1: Data loss Tue 21st Nov 16:15 - 16:30."},null,null,null,null,null,null,null,null,null,null,null,null,null,null,null,null,null,null,null,null,null,null,null,null,null,null,null,null,null,50,10]
[null,null,null,null,null,null,null,null,null,null,null,null,null,null,null,null,null,null,null,null,null,null,null,null,null,null,null,null,null,null,null,60,12]
[null,null,null,null,null,null,null,null,null,null,null,null,null,null,null,null,null,null,null,null,null,null,null,null,null,null,null,null,{"$f":"OFFSET(Input_Details!$Q$3, 0, Input_Details!$B$25-1)","v":"Site 1: Data loss Tue 21st Nov 16:15 - 16:30."},null,null,70,14]
[null,null,null,null,null,null,null,null,null,null,null,null,null,null,null,null,null,null,null,null,null,null,null,null,null,null,null,null,null,null,null,80,16]
[null,null,null,null,null,null,null,null,null,null,null,null,null,null,null,null,null,null,null,null,null,null,null,null,null,null,null,null,null,null,null,100,20]
[]
[]
[]
[]
[]
[]
[]
[null,null,null,"Speed Bin Percentage (mph)",null,null,null,null,null,null,null,null,null,null,null,null,null,null,null,null,null,null,null,null,"Daily Speed Averages (mph)",null,null,null,null,"Daily Speeding Total"]
[null,null,null,{"$f":"D25","v":"0-10"},{"$f":"E25","v":"10-15"},"15-20","20-25","25-30","30-35","35-40","40-45","45-50","50-55","55-60","60-65","65-70","70-75","75-80","80-85","85-90","90-95","95-100","100+",null,"Average Speed","85th %ile Speed","Minimum Speed","Maximum Speed",null,"No. Speeding","% Speeding"]
[null,null,null,{"$f":"IFERROR(D122/SUM($D$122:$W$122), \"-\")","v":6.6731275093451503E-2},{"$f":"IFERROR(E122/SUM($D$122:$W$122), \"-\")","v":0.61477225529558377},{"$f":"IFERROR(F122/SUM($D$122:$W$122), \"-\")","v":0.25128063131662726},5.8909040564862236E-2,7.1992246988785849E-3,1.1075730305967052E-3,0,0,0,0,0,0,0,0,0,0,0,0,0,0,null,{"$f":"Y122","v":14.724496527777776},{"$f":"Z122","v":16.608166666666666},{"$f":"AA122","v":7.470833333333335},{"$f":"AB122","v":22.897916666666671},null,{"$f":"AD122","v":48.54999999999999},{"$f":"AE122","v":6.721583829433754E-2}]
[null,null,null,{"$f":"IFERROR(VALUE(LEFT(D25, FIND(\"-\", D25)-1)),VALUE(LEFT(D25,3)))","v":0},{"$f":"IFERROR(VALUE(LEFT(E25, FIND(\"-\", E25)-1)),VALUE(LEFT(E25,3)))","v":10},15,20,25,30,35,40,45,50,55,60,65,70,75,80,85,90,95,100]
[null,"Time Period",null,"Speed Bin Volumes (mph)",null,null,null,null,null,null,null,null,null,null,null,null,null,null,null,null,null,null,null,null,"Speed Statistics (mph)",null,null,null,null,"Speed Statistics"]
[null,null,null,{"$f":"'Raw Data'!T3","v":"0-10"},{"$f":"'Raw Data'!U3","v":"10-15"},{"$f":"'Raw Data'!V3","v":"15-20"},{"$f":"'Raw Data'!W3","v":"20-25"},{"$f":"'Raw Data'!X3","v":"25-30"},{"$f":"'Raw Data'!Y3","v":"30-35"},{"$f":"'Raw Data'!Z3","v":"35-40"},{"$f":"'Raw Data'!AA3","v":"40-45"},{"$f":"'Raw Data'!AB3","v":"45-50"},{"$f":"'Raw Data'!AC3","v":"50-55"},{"$f":"'Raw Data'!AD3","v":"55-60"},{"$f":"'Raw Data'!AE3","v":"60-65"},{"$f":"'Raw Data'!AF3","v":"65-70"},{"$f":"'Raw Data'!AG3","v":"70-75"},{"$f":"'Raw Data'!AH3","v":"75-80"},{"$f":"'Raw Data'!AI3","v":"80-85"},{"$f":"'Raw Data'!AJ3","v":"85-90"},{"$f":"'Raw Data'!AK3","v":"90-95"},{"$f":"'Raw Data'!AL3","v":"95-100"},{"$f":"'Raw Data'!AM3","v":"100+"},null,"Average Speed","85th%ile Speed","Minimum Speed","Maximum Speed",null,"No. Speeding","(%) Speeding"]
[null,"00:00:00",null,{"$f":"IF(OFFSET('Raw Data'!T4,Input_Details!$B$34,Input_Details!$B$32)=\"\", \"-\", OFFSET('Raw Data'!T4,Input_Details!$B$34,Input_Details!$B$32))","v":0.6},{"$f":"IF(OFFSET('Raw Data'!U4,Input_Details!$B$34,Input_Details!$B$32)=\"\", \"-\", OFFSET('Raw Data'!U4,Input_Details!$B$34,Input_Details!$B$32))","v":1},{"$f":"IF(OFFSET('Raw Data'!V4,Input_Details!$B$34,Input_Details!$B$32)=\"\", \"-\", OFFSET('Raw Data'!V4,Input_Details!$B$34,Input_Details!$B$32))","v":1.6},{"$f":"IF(OFFSET('Raw Data'!W4,Input_Details!$B$34,Input_Details!$B$32)=\"\", \"-\", OFFSET('Raw Data'!W4,Input_Details!$B$34,Input_Details!$B$32))","v":0.2},{"$f":"IF(OFFSET('Raw Data'!X4,Input_Details!$B$34,Input_Details!$B$32)=\"\", \"-\", OFFSET('Raw Data'!X4,Input_Details!$B$34,Input_Details!$B$32))","v":0},{"$f":"IF(OFFSET('Raw Data'!Y4,Input_Details!$B$34,Input_Details!$B$32)=\"\", \"-\", OFFSET('Raw Data'!Y4,Input_Details!$B$34,Input_Details!$B$32))","v":0},{"$f":"IF(OFFSET('Raw Data'!Z4,Input_Details!$B$34,Input_Details!$B$32)=\"\", \"-\", OFFSET('Raw Data'!Z4,Input_Details!$B$34,Input_Details!$B$32))","v":0},{"$f":"IF(OFFSET('Raw Data'!AA4,Input_Details!$B$34,Input_Details!$B$32)=\"\", \"-\", OFFSET('Raw Data'!AA4,Input_Details!$B$34,Input_Details!$B$32))","v":0},{"$f":"IF(OFFSET('Raw Data'!AB4,Input_Details!$B$34,Input_Details!$B$32)=\"\", \"-\", OFFSET('Raw Data'!AB4,Input_Details!$B$34,Input_Details!$B$32))","v":0},{"$f":"IF(OFFSET('Raw Data'!AC4,Input_Details!$B$34,Input_Details!$B$32)=\"\", \"-\", OFFSET('Raw Data'!AC4,Input_Details!$B$34,Input_Details!$B$32))","v":0},{"$f":"IF(OFFSET('Raw Data'!AD4,Input_Details!$B$34,Input_Details!$B$32)=\"\", \"-\", OFFSET('Raw Data'!AD4,Input_Details!$B$34,Input_Details!$B$32))","v":0},{"$f":"IF(OFFSET('Raw Data'!AE4,Input_Details!$B$34,Input_Details!$B$32)=\"\", \"-\", OFFSET('Raw Data'!AE4,Input_Details!$B$34,Input_Details!$B$32))","v":0},{"$f":"IF(OFFSET('Raw Data'!AF4,Input_Details!$B$34,Input_Details!$B$32)=\"\", \"-\", OFFSET('Raw Data'!AF4,Input_Details!$B$34,Input_Details!$B$32))","v":0},{"$f":"IF(OFFSET('Raw Data'!AG4,Input_Details!$B$34,Input_Details!$B$32)=\"\", \"-\", OFFSET('Raw Data'!AG4,Input_Details!$B$34,Input_Details!$B$32))","v":0},{"$f":"IF(OFFSET('Raw Data'!AH4,Input_Details!$B$34,Input_Details!$B$32)=\"\", \"-\", OFFSET('Raw Data'!AH4,Input_Details!$B$34,Input_Details!$B$32))","v":0},{"$f":"IF(OFFSET('Raw Data'!AI4,Input_Details!$B$34,Input_Details!$B$32)=\"\", \"-\", OFFSET('Raw Data'!AI4,Input_Details!$B$34,Input_Details!$B$32))","v":0},{"$f":"IF(OFFSET('Raw Data'!AJ4,Input_Details!$B$34,Input_Details!$B$32)=\"\", \"-\", OFFSET('Raw Data'!AJ4,Input_Details!$B$34,Input_Details!$B$32))","v":0},{"$f":"IF(OFFSET('Raw Data'!AK4,Input_Details!$B$34,Input_Details!$B$32)=\"\", \"-\", OFFSET('Raw Data'!AK4,Input_Details!$B$34,Input_Details!$B$32))","v":0},{"$f":"IF(OFFSET('Raw Data'!AL4,Input_Details!$B$34,Input_Details!$B$32)=\"\", \"-\", OFFSET('Raw Data'!AL4,Input_Details!$B$34,Input_Details!$B$32))","v":0},{"$f":"IF(OFFSET('Raw Data'!AM4,Input_Details!$B$34,Input_Details!$B$32)=\"\", \"-\", OFFSET('Raw Data'!AM4,Input_Details!$B$34,Input_Details!$B$32))","v":0},null,{"$f":"IF(D26=\"-\",\"-\",OFFSET('Raw Data'!AN4,Input_Details!$B$34,Input_Details!$B$32))","v":14},{"$f":"IF(OFFSET('Raw Data'!AO4,Input_Details!$B$34,Input_Details!$B$32)=\"\", \"-\", OFFSET('Raw Data'!AO4,Input_Details!$B$34,Input_Details!$B$32))","v":"-"},{"$f":"IF(OFFSET('Raw Data'!AP4,Input_Details!$B$34,Input_Details!$B$32)=\"\", \"-\", OFFSET('Raw Data'!AP4,Input_Details!$B$34,Input_Details!$B$32))","v":7.9},{"$f":"IF(OFFSET('Raw Data'!AQ4,Input_Details!$B$34,Input_Details!$B$32)=\"\", \"-\", OFFSET('Raw Data'!AQ4,Input_Details!$B$34,Input_Details!$B$32))","v":20.9},null,{"$f":"IF(Y26=\"-\", \"-\", SUM(OFFSET(D26,0,VLOOKUP(Input_Details!$N$3, $AF$3:$AG$12, 2,0)-1):W26))","v":0.2},{"$f":"IFERROR(AD26/SUM(D26:W26), \"-\")","v":5.8823529411764705E-2}]
[null,"00:15:00",null,{"$f":"IF(OFFSET('Raw Data'!T5,Input_Details!$B$34,Input_Details!$B$32)=\"\", \"-\", OFFSET('Raw Data'!T5,Input_Details!$B$34,Input_Details!$B$32))","v":0.6},{"$f":"IF(OFFSET('Raw Data'!U5,Input_Details!$B$34,Input_Details!$B$32)=\"\", \"-\", OFFSET('Raw Data'!U5,Input_Details!$B$34,Input_Details!$B$32))","v":1.4},{"$f":"IF(OFFSET('Raw Data'!V5,Input_Details!$B$34,Input_Details!$B$32)=\"\", \"-\", OFFSET('Raw Data'!V5,Input_Details!$B$34,Input_Details!$B$32))","v":1.4},{"$f":"IF(OFFSET('Raw Data'!W5,Input_Details!$B$34,Input_Details!$B$32)=\"\", \"-\", OFFSET('Raw Data'!W5,Input_Details!$B$34,Input_Details!$B$32))","v":0.2},{"$f":"IF(OFFSET('Raw Data'!X5,Input_Details!$B$34,Input_Details!$B$32)=\"\", \"-\", OFFSET('Raw Data'!X5,Input_Details!$B$34,Input_Details!$B$32))","v":0.2},{"$f":"IF(OFFSET('Raw Data'!Y5,Input_Details!$B$34,Input_Details!$B$32)=\"\", \"-\", OFFSET('Raw Data'!Y5,Input_Details!$B$34,Input_Details!$B$32))","v":0.2},{"$f":"IF(OFFSET('Raw Data'!Z5,Input_Details!$B$34,Input_Details!$B$32)=\"\", \"-\", OFFSET('Raw Data'!Z5,Input_Details!$B$34,Input_Details!$B$32))","v":0},{"$f":"IF(OFFSET('Raw Data'!AA5,Input_Details!$B$34,Input_Details!$B$32)=\"\", \"-\", OFFSET('Raw Data'!AA5,Input_Details!$B$34,Input_Details!$B$32))","v":0},{"$f":"IF(OFFSET('Raw Data'!AB5,Input_Details!$B$34,Input_Details!$B$32)=\"\", \"-\", OFFSET('Raw Data'!AB5,Input_Details!$B$34,Input_Details!$B$32))","v":0},{"$f":"IF(OFFSET('Raw Data'!AC5,Input_Details!$B$34,Input_Details!$B$32)=\"\", \"-\", OFFSET('Raw Data'!AC5,Input_Details!$B$34,Input_Details!$B$32))","v":0},{"$f":"IF(OFFSET('Raw Data'!AD5,Input_Details!$B$34,Input_Details!$B$32)=\"\", \"-\", OFFSET('Raw Data'!AD5,Input_Details!$B$34,Input_Details!$B$32))","v":0},{"$f":"IF(OFFSET('Raw Data'!AE5,Input_Details!$B$34,Input_Details!$B$32)=\"\", \"-\", OFFSET('Raw Data'!AE5,Input_Details!$B$34,Input_Details!$B$32))","v":0},{"$f":"IF(OFFSET('Raw Data'!AF5,Input_Details!$B$34,Input_Details!$B$32)=\"\", \"-\", OFFSET('Raw Data'!AF5,Input_Details!$B$34,Input_Details!$B$32))","v":0},{"$f":"IF(OFFSET('Raw Data'!AG5,Input_Details!$B$34,Input_Details!$B$32)=\"\", \"-\", OFFSET('Raw Data'!AG5,Input_Details!$B$34,Input_Details!$B$32))","v":0},{"$f":"IF(OFFSET('Raw Data'!AH5,Input_Details!$B$34,Input_Details!$B$32)=\"\", \"-\", OFFSET('Raw Data'!AH5,Input_Details!$B$34,Input_Details!$B$32))","v":0},{"$f":"IF(OFFSET('Raw Data'!AI5,Input_Details!$B$34,Input_Details!$B$32)=\"\", \"-\", OFFSET('Raw Data'!AI5,Input_Details!$B$34,Input_Details!$B$32))","v":0},{"$f":"IF(OFFSET('Raw Data'!AJ5,Input_Details!$B$34,Input_Details!$B$32)=\"\", \"-\", OFFSET('Raw Data'!AJ5,Input_Details!$B$34,Input_Details!$B$32))","v":0},{"$f":"IF(OFFSET('Raw Data'!AK5,Input_Details!$B$34,Input_Details!$B$32)=\"\", \"-\", OFFSET('Raw Data'!AK5,Input_Details!$B$34,Input_Details!$B$32))","v":0},{"$f":"IF(OFFSET('Raw Data'!AL5,Input_Details!$B$34,Input_Details!$B$32)=\"\", \"-\", OFFSET('Raw Data'!AL5,Input_Details!$B$34,Input_Details!$B$32))","v":0},{"$f":"IF(OFFSET('Raw Data'!AM5,Input_Details!$B$34,Input_Details!$B$32)=\"\", \"-\", OFFSET('Raw Data'!AM5,Input_Details!$B$34,Input_Details!$B$32))","v":0},null,{"$f":"IF(D27=\"-\",\"-\",OFFSET('Raw Data'!AN5,Input_Details!$B$34,Input_Details!$B$32))","v":15.720000000000002},{"$f":"IF(OFFSET('Raw Data'!AO5,Input_Details!$B$34,Input_Details!$B$32)=\"\", \"-\", OFFSET('Raw Data'!AO5,Input_Details!$B$34,Input_Details!$B$32))","v":"-"},{"$f":"IF(OFFSET('Raw Data'!AP5,Input_Details!$B$34,Input_Details!$B$32)=\"\", \"-\", OFFSET('Raw Data'!AP5,Input_Details!$B$34,Input_Details!$B$32))","v":7.3},{"$f":"IF(OFFSET('Raw Data'!AQ5,Input_Details!$B$34,Input_Details!$B$32)=\"\", \"-\", OFFSET('Raw Data'!AQ5,Input_Details!$B$34,Input_Details!$B$32))","v":31.6},null,{"$f":"IF(Y27=\"-\", \"-\", SUM(OFFSET(D27,0,VLOOKUP(Input_Details!$N$3, $AF$3:$AG$12, 2,0)-1):W27))","v":0.60000000000000009},{"$f":"IFERROR(AD27/SUM(D27:W27), \"-\")","v":0.15000000000000002}]
[null,"00:30:00",null,{"$f":"IF(OFFSET('Raw Data'!T6,Input_Details!$B$34,Input_Details!$B$32)=\"\", \"-\", OFFSET('Raw Data'!T6,Input_Details!$B$34,Input_Details!$B$32))","v":0.4},{"$f":"IF(OFFSET('Raw Data'!U6,Input_Details!$B$34,Input_Details!$B$32)=\"\", \"-\", OFFSET('Raw Data'!U6,Input_Details!$B$34,Input_Details!$B$32))","v":0.2},{"$f":"IF(OFFSET('Raw Data'!V6,Input_Details!$B$34,Input_Details!$B$32)=\"\", \"-\", OFFSET('Raw Data'!V6,Input_Details!$B$34,Input_Details!$B$32))","v":1.2},{"$f":"IF(OFFSET('Raw Data'!W6,Input_Details!$B$34,Input_Details!$B$32)=\"\", \"-\", OFFSET('Raw Data'!W6,Input_Details!$B$34,Input_Details!$B$32))","v":0},{"$f":"IF(OFFSET('Raw Data'!X6,Input_Details!$B$34,Input_Details!$B$32)=\"\", \"-\", OFFSET('Raw Data'!X6,Input_Details!$B$34,Input_Details!$B$32))","v":0},{"$f":"IF(OFFSET('Raw Data'!Y6,Input_Details!$B$34,Input_Details!$B$32)=\"\", \"-\", OFFSET('Raw Data'!Y6,Input_Details!$B$34,Input_Details!$B$32))","v":0},{"$f":"IF(OFFSET('Raw Data'!Z6,Input_Details!$B$34,Input_Details!$B$32)=\"\", \"-\", OFFSET('Raw Data'!Z6,Input_Details!$B$34,Input_Details!$B$32))","v":0},{"$f":"IF(OFFSET('Raw Data'!AA6,Input_Details!$B$34,Input_Details!$B$32)=\"\", \"-\", OFFSET('Raw Data'!AA6,Input_Details!$B$34,Input_Details!$B$32))","v":0},{"$f":"IF(OFFSET('Raw Data'!AB6,Input_Details!$B$34,Input_Details!$B$32)=\"\", \"-\", OFFSET('Raw Data'!AB6,Input_Details!$B$34,Input_Details!$B$32))","v":0},{"$f":"IF(OFFSET('Raw Data'!AC6,Input_Details!$B$34,Input_Details!$B$32)=\"\", \"-\", OFFSET('Raw Data'!AC6,Input_Details!$B$34,Input_Details!$B$32))","v":0},{"$f":"IF(OFFSET('Raw Data'!AD6,Input_Details!$B$34,Input_Details!$B$32)=\"\", \"-\", OFFSET('Raw Data'!AD6,Input_Details!$B$34,Input_Details!$B$32))","v":0},{"$f":"IF(OFFSET('Raw Data'!AE6,Input_Details!$B$34,Input_Details!$B$32)=\"\", \"-\", OFFSET('Raw Data'!AE6,Input_Details!$B$34,Input_Details!$B$32))","v":0},{"$f":"IF(OFFSET('Raw Data'!AF6,Input_Details!$B$34,Input_Details!$B$32)=\"\", \"-\", OFFSET('Raw Data'!AF6,Input_Details!$B$34,Input_Details!$B$32))","v":0},{"$f":"IF(OFFSET('Raw Data'!AG6,Input_Details!$B$34,Input_Details!$B$32)=\"\", \"-\", OFFSET('Raw Data'!AG6,Input_Details!$B$34,Input_Details!$B$32))","v":0},{"$f":"IF(OFFSET('Raw Data'!AH6,Input_Details!$B$34,Input_Details!$B$32)=\"\", \"-\", OFFSET('Raw Data'!AH6,Input_Details!$B$34,Input_Details!$B$32))","v":0},{"$f":"IF(OFFSET('Raw Data'!AI6,Input_Details!$B$34,Input_Details!$B$32)=\"\", \"-\", OFFSET('Raw Data'!AI6,Input_Details!$B$34,Input_Details!$B$32))","v":0},{"$f":"IF(OFFSET('Raw Data'!AJ6,Input_Details!$B$34,Input_Details!$B$32)=\"\", \"-\", OFFSET('Raw Data'!AJ6,Input_Details!$B$34,Input_Details!$B$32))","v":0},{"$f":"IF(OFFSET('Raw Data'!AK6,Input_Details!$B$34,Input_Details!$B$32)=\"\", \"-\", OFFSET('Raw Data'!AK6,Input_Details!$B$34,Input_Details!$B$32))","v":0},{"$f":"IF(OFFSET('Raw Data'!AL6,Input_Details!$B$34,Input_Details!$B$32)=\"\", \"-\", OFFSET('Raw Data'!AL6,Input_Details!$B$34,Input_Details!$B$32))","v":0},{"$f":"IF(OFFSET('Raw Data'!AM6,Input_Details!$B$34,Input_Details!$B$32)=\"\", \"-\", OFFSET('Raw Data'!AM6,Input_Details!$B$34,Input_Details!$B$32))","v":0},null,{"$f":"IF(D28=\"-\",\"-\",OFFSET('Raw Data'!AN6,Input_Details!$B$34,Input_Details!$B$32))","v":14.100000000000001},{"$f":"IF(OFFSET('Raw Data'!AO6,Input_Details!$B$34,Input_Details!$B$32)=\"\", \"-\", OFFSET('Raw Data'!AO6,Input_Details!$B$34,Input_Details!$B$32))","v":"-"},{"$f":"IF(OFFSET('Raw Data'!AP6,Input_Details!$B$34,Input_Details!$B$32)=\"\", \"-\", OFFSET('Raw Data'!AP6,Input_Details!$B$34,Input_Details!$B$32))","v":4.2},{"$f":"IF(OFFSET('Raw Data'!AQ6,Input_Details!$B$34,Input_Details!$B$32)=\"\", \"-\", OFFSET('Raw Data'!AQ6,Input_Details!$B$34,Input_Details!$B$32))","v":19.399999999999999},null,{"$f":"IF(Y28=\"-\", \"-\", SUM(OFFSET(D28,0,VLOOKUP(Input_Details!$N$3, $AF$3:$AG$12, 2,0)-1):W28))","v":0},0]
[null,"00:45:00",null,{"$f":"IF(OFFSET('Raw Data'!T7,Input_Details!$B$34,Input_Details!$B$32)=\"\", \"-\", OFFSET('Raw Data'!T7,Input_Details!$B$34,Input_Details!$B$32))","v":0.4},{"$f":"IF(OFFSET('Raw Data'!U7,Input_Details!$B$34,Input_Details!$B$32)=\"\", \"-\", OFFSET('Raw Data'!U7,Input_Details!$B$34,Input_Details!$B$32))","v":0.4},{"$f":"IF(OFFSET('Raw Data'!V7,Input_Details!$B$34,Input_Details!$B$32)=\"\", \"-\", OFFSET('Raw Data'!V7,Input_Details!$B$34,Input_Details!$B$32))","v":1.2},{"$f":"IF(OFFSET('Raw Data'!W7,Input_Details!$B$34,Input_Details!$B$32)=\"\", \"-\", OFFSET('Raw Data'!W7,Input_Details!$B$34,Input_Details!$B$32))","v":0.6},{"$f":"IF(OFFSET('Raw Data'!X7,Input_Details!$B$34,Input_Details!$B$32)=\"\", \"-\", OFFSET('Raw Data'!X7,Input_Details!$B$34,Input_Details!$B$32))","v":0},{"$f":"IF(OFFSET('Raw Data'!Y7,Input_Details!$B$34,Input_Details!$B$32)=\"\", \"-\", OFFSET('Raw Data'!Y7,Input_Details!$B$34,Input_Details!$B$32))","v":0},{"$f":"IF(OFFSET('Raw Data'!Z7,Input_Details!$B$34,Input_Details!$B$32)=\"\", \"-\", OFFSET('Raw Data'!Z7,Input_Details!$B$34,Input_Details!$B$32))","v":0},{"$f":"IF(OFFSET('Raw Data'!AA7,Input_Details!$B$34,Input_Details!$B$32)=\"\", \"-\", OFFSET('Raw Data'!AA7,Input_Details!$B$34,Input_Details!$B$32))","v":0},{"$f":"IF(OFFSET('Raw Data'!AB7,Input_Details!$B$34,Input_Details!$B$32)=\"\", \"-\", OFFSET('Raw Data'!AB7,Input_Details!$B$34,Input_Details!$B$32))","v":0},{"$f":"IF(OFFSET('Raw Data'!AC7,Input_Details!$B$34,Input_Details!$B$32)=\"\", \"-\", OFFSET('Raw Data'!AC7,Input_Details!$B$34,Input_Details!$B$32))","v":0},{"$f":"IF(OFFSET('Raw Data'!AD7,Input_Details!$B$34,Input_Details!$B$32)=\"\", \"-\", OFFSET('Raw Data'!AD7,Input_Details!$B$34,Input_Details!$B$32))","v":0},{"$f":"IF(OFFSET('Raw Data'!AE7,Input_Details!$B$34,Input_Details!$B$32)=\"\", \"-\", OFFSET('Raw Data'!AE7,Input_Details!$B$34,Input_Details!$B$32))","v":0},{"$f":"IF(OFFSET('Raw Data'!AF7,Input_Details!$B$34,Input_Details!$B$32)=\"\", \"-\", OFFSET('Raw Data'!AF7,Input_Details!$B$34,Input_Details!$B$32))","v":0},{"$f":"IF(OFFSET('Raw Data'!AG7,Input_Details!$B$34,Input_Details!$B$32)=\"\", \"-\", OFFSET('Raw Data'!AG7,Input_Details!$B$34,Input_Details!$B$32))","v":0},{"$f":"IF(OFFSET('Raw Data'!AH7,Input_Details!$B$34,Input_Details!$B$32)=\"\", \"-\", OFFSET('Raw Data'!AH7,Input_Details!$B$34,Input_Details!$B$32))","v":0},{"$f":"IF(OFFSET('Raw Data'!AI7,Input_Details!$B$34,Input_Details!$B$32)=\"\", \"-\", OFFSET('Raw Data'!AI7,Input_Details!$B$34,Input_Details!$B$32))","v":0},{"$f":"IF(OFFSET('Raw Data'!AJ7,Input_Details!$B$34,Input_Details!$B$32)=\"\", \"-\", OFFSET('Raw Data'!AJ7,Input_Details!$B$34,Input_Details!$B$32))","v":0},{"$f":"IF(OFFSET('Raw Data'!AK7,Input_Details!$B$34,Input_Details!$B$32)=\"\", \"-\", OFFSET('Raw Data'!AK7,Input_Details!$B$34,Input_Details!$B$32))","v":0},{"$f":"IF(OFFSET('Raw Data'!AL7,Input_Details!$B$34,Input_Details!$B$32)=\"\", \"-\", OFFSET('Raw Data'!AL7,Input_Details!$B$34,Input_Details!$B$32))","v":0},{"$f":"IF(OFFSET('Raw Data'!AM7,Input_Details!$B$34,Input_Details!$B$32)=\"\", \"-\", OFFSET('Raw Data'!AM7,Input_Details!$B$34,Input_Details!$B$32))","v":0},null,{"$f":"IF(D29=\"-\",\"-\",OFFSET('Raw Data'!AN7,Input_Details!$B$34,Input_Details!$B$32))","v":13.933333333333332},{"$f":"IF(OFFSET('Raw Data'!AO7,Input_Details!$B$34,Input_Details!$B$32)=\"\", \"-\", OFFSET('Raw Data'!AO7,Input_Details!$B$34,Input_Details!$B$32))","v":"-"},{"$f":"IF(OFFSET('Raw Data'!AP7,Input_Details!$B$34,Input_Details!$B$32)=\"\", \"-\", OFFSET('Raw Data'!AP7,Input_Details!$B$34,Input_Details!$B$32))","v":6.7},{"$f":"IF(OFFSET('Raw Data'!AQ7,Input_Details!$B$34,Input_Details!$B$32)=\"\", \"-\", OFFSET('Raw Data'!AQ7,Input_Details!$B$34,Input_Details!$B$32))","v":23.2},null,{"$f":"IF(Y29=\"-\", \"-\", SUM(OFFSET(D29,0,VLOOKUP(Input_Details!$N$3, $AF$3:$AG$12, 2,0)-1):W29))","v":0.6},0.23076923076923075]
[null,"01:00:00",null,{"$f":"IF(OFFSET('Raw Data'!T8,Input_Details!$B$34,Input_Details!$B$32)=\"\", \"-\", OFFSET('Raw Data'!T8,Input_Details!$B$34,Input_Details!$B$32))","v":0},{"$f":"IF(OFFSET('Raw Data'!U8,Input_Details!$B$34,Input_Details!$B$32)=\"\", \"-\", OFFSET('Raw Data'!U8,Input_Details!$B$34,Input_Details!$B$32))","v":0.2},{"$f":"IF(OFFSET('Raw Data'!V8,Input_Details!$B$34,Input_Details!$B$32)=\"\", \"-\", OFFSET('Raw Data'!V8,Input_Details!$B$34,Input_Details!$B$32))","v":0.6},{"$f":"IF(OFFSET('Raw Data'!W8,Input_Details!$B$34,Input_Details!$B$32)=\"\", \"-\", OFFSET('Raw Data'!W8,Input_Details!$B$34,Input_Details!$B$32))","v":0},{"$f":"IF(OFFSET('Raw Data'!X8,Input_Details!$B$34,Input_Details!$B$32)=\"\", \"-\", OFFSET('Raw Data'!X8,Input_Details!$B$34,Input_Details!$B$32))","v":0.2},{"$f":"IF(OFFSET('Raw Data'!Y8,Input_Details!$B$34,Input_Details!$B$32)=\"\", \"-\", OFFSET('Raw Data'!Y8,Input_Details!$B$34,Input_Details!$B$32))","v":0},{"$f":"IF(OFFSET('Raw Data'!Z8,Input_Details!$B$34,Input_Details!$B$32)=\"\", \"-\", OFFSET('Raw Data'!Z8,Input_Details!$B$34,Input_Details!$B$32))","v":0},{"$f":"IF(OFFSET('Raw Data'!AA8,Input_Details!$B$34,Input_Details!$B$32)=\"\", \"-\", OFFSET('Raw Data'!AA8,Input_Details!$B$34,Input_Details!$B$32))","v":0},{"$f":"IF(OFFSET('Raw Data'!AB8,Input_Details!$B$34,Input_Details!$B$32)=\"\", \"-\", OFFSET('Raw Data'!AB8,Input_Details!$B$34,Input_Details!$B$32))","v":0},{"$f":"IF(OFFSET('Raw Data'!AC8,Input_Details!$B$34,Input_Details!$B$32)=\"\", \"-\", OFFSET('Raw Data'!AC8,Input_Details!$B$34,Input_Details!$B$32))","v":0},{"$f":"IF(OFFSET('Raw Data'!AD8,Input_Details!$B$34,Input_Details!$B$32)=\"\", \"-\", OFFSET('Raw Data'!AD8,Input_Details!$B$34,Input_Details!$B$32))","v":0},{"$f":"IF(OFFSET('Raw Data'!AE8,Input_Details!$B$34,Input_Details!$B$32)=\"\", \"-\", OFFSET('Raw Data'!AE8,Input_Details!$B$34,Input_Details!$B$32))","v":0},{"$f":"IF(OFFSET('Raw Data'!AF8,Input_Details!$B$34,Input_Details!$B$32)=\"\", \"-\", OFFSET('Raw Data'!AF8,Input_Details!$B$34,Input_Details!$B$32))","v":0},{"$f":"IF(OFFSET('Raw Data'!AG8,Input_Details!$B$34,Input_Details!$B$32)=\"\", \"-\", OFFSET('Raw Data'!AG8,Input_Details!$B$34,Input_Details!$B$32))","v":0},{"$f":"IF(OFFSET('Raw Data'!AH8,Input_Details!$B$34,Input_Details!$B$32)=\"\", \"-\", OFFSET('Raw Data'!AH8,Input_Details!$B$34,Input_Details!$B$32))","v":0},{"$f":"IF(OFFSET('Raw Data'!AI8,Input_Details!$B$34,Input_Details!$B$32)=\"\", \"-\", OFFSET('Raw Data'!AI8,Input_Details!$B$34,Input_Details!$B$32))","v":0},{"$f":"IF(OFFSET('Raw Data'!AJ8,Input_Details!$B$34,Input_Details!$B$32)=\"\", \"-\", OFFSET('Raw Data'!AJ8,Input_Details!$B$34,Input_Details!$B$32))","v":0},{"$f":"IF(OFFSET('Raw Data'!AK8,Input_Details!$B$34,Input_Details!$B$32)=\"\", \"-\", OFFSET('Raw Data'!AK8,Input_Details!$B$34,Input_Details!$B$32))","v":0},{"$f":"IF(OFFSET('Raw Data'!AL8,Input_Details!$B$34,Input_Details!$B$32)=\"\", \"-\", OFFSET('Raw Data'!AL8,Input_Details!$B$34,Input_Details!$B$32))","v":0},{"$f":"IF(OFFSET('Raw Data'!AM8,Input_Details!$B$34,Input_Details!$B$32)=\"\", \"-\", OFFSET('Raw Data'!AM8,Input_Details!$B$34,Input_Details!$B$32))","v":0},null,{"$f":"IF(D30=\"-\",\"-\",OFFSET('Raw Data'!AN8,Input_Details!$B$34,Input_Details!$B$32))","v":18.725000000000001},{"$f":"IF(OFFSET('Raw Data'!AO8,Input_Details!$B$34,Input_Details!$B$32)=\"\", \"-\", OFFSET('Raw Data'!AO8,Input_Details!$B$34,Input_Details!$B$32))","v":"-"},{"$f":"IF(OFFSET('Raw Data'!AP8,Input_Details!$B$34,Input_Details!$B$32)=\"\", \"-\", OFFSET('Raw Data'!AP8,Input_Details!$B$34,Input_Details!$B$32))","v":13.6},{"$f":"IF(OFFSET('Raw Data'!AQ8,Input_Details!$B$34,Input_Details!$B$32)=\"\", \"-\", OFFSET('Raw Data'!AQ8,Input_Details!$B$34,Input_Details!$B$32))","v":25.2},null,{"$f":"IF(Y30=\"-\", \"-\", SUM(OFFSET(D30,0,VLOOKUP(Input_Details!$N$3, $AF$3:$AG$12, 2,0)-1):W30))","v":0.2},0.2]
[null,"01:15:00",null,{"$f":"IF(OFFSET('Raw Data'!T9,Input_Details!$B$34,Input_Details!$B$32)=\"\", \"-\", OFFSET('Raw Data'!T9,Input_Details!$B$34,Input_Details!$B$32))","v":0.2},{"$f":"IF(OFFSET('Raw Data'!U9,Input_Details!$B$34,Input_Details!$B$32)=\"\", \"-\", OFFSET('Raw Data'!U9,Input_Details!$B$34,Input_Details!$B$32))","v":0.6},{"$f":"IF(OFFSET('Raw Data'!V9,Input_Details!$B$34,Input_Details!$B$32)=\"\", \"-\", OFFSET('Raw Data'!V9,Input_Details!$B$34,Input_Details!$B$32))","v":0.8},{"$f":"IF(OFFSET('Raw Data'!W9,Input_Details!$B$34,Input_Details!$B$32)=\"\", \"-\", OFFSET('Raw Data'!W9,Input_Details!$B$34,Input_Details!$B$32))","v":0},{"$f":"IF(OFFSET('Raw Data'!X9,Input_Details!$B$34,Input_Details!$B$32)=\"\", \"-\", OFFSET('Raw Data'!X9,Input_Details!$B$34,Input_Details!$B$32))","v":0},{"$f":"IF(OFFSET('Raw Data'!Y9,Input_Details!$B$34,Input_Details!$B$32)=\"\", \"-\", OFFSET('Raw Data'!Y9,Input_Details!$B$34,Input_Details!$B$32))","v":0},{"$f":"IF(OFFSET('Raw Data'!Z9,Input_Details!$B$34,Input_Details!$B$32)=\"\", \"-\", OFFSET('Raw Data'!Z9,Input_Details!$B$34,Input_Details!$B$32))","v":0},{"$f":"IF(OFFSET('Raw Data'!AA9,Input_Details!$B$34,Input_Details!$B$32)=\"\", \"-\", OFFSET('Raw Data'!AA9,Input_Details!$B$34,Input_Details!$B$32))","v":0},{"$f":"IF(OFFSET('Raw Data'!AB9,Input_Details!$B$34,Input_Details!$B$32)=\"\", \"-\", OFFSET('Raw Data'!AB9,Input_Details!$B$34,Input_Details!$B$32))","v":0},{"$f":"IF(OFFSET('Raw Data'!AC9,Input_Details!$B$34,Input_Details!$B$32)=\"\", \"-\", OFFSET('Raw Data'!AC9,Input_Details!$B$34,Input_Details!$B$32))","v":0},{"$f":"IF(OFFSET('Raw Data'!AD9,Input_Details!$B$34,Input_Details!$B$32)=\"\", \"-\", OFFSET('Raw Data'!AD9,Input_Details!$B$34,Input_Details!$B$32))","v":0},{"$f":"IF(OFFSET('Raw Data'!AE9,Input_Details!$B$34,Input_Details!$B$32)=\"\", \"-\", OFFSET('Raw Data'!AE9,Input_Details!$B$34,Input_Details!$B$32))","v":0},{"$f":"IF(OFFSET('Raw Data'!AF9,Input_Details!$B$34,Input_Details!$B$32)=\"\", \"-\", OFFSET('Raw Data'!AF9,Input_Details!$B$34,Input_Details!$B$32))","v":0},{"$f":"IF(OFFSET('Raw Data'!AG9,Input_Details!$B$34,Input_Details!$B$32)=\"\", \"-\", OFFSET('Raw Data'!AG9,Input_Details!$B$34,Input_Details!$B$32))","v":0},{"$f":"IF(OFFSET('Raw Data'!AH9,Input_Details!$B$34,Input_Details!$B$32)=\"\", \"-\", OFFSET('Raw Data'!AH9,Input_Details!$B$34,Input_Details!$B$32))","v":0},{"$f":"IF(OFFSET('Raw Data'!AI9,Input_Details!$B$34,Input_Details!$B$32)=\"\", \"-\", OFFSET('Raw Data'!AI9,Input_Details!$B$34,Input_Details!$B$32))","v":0},{"$f":"IF(OFFSET('Raw Data'!AJ9,Input_Details!$B$34,Input_Details!$B$32)=\"\", \"-\", OFFSET('Raw Data'!AJ9,Input_Details!$B$34,Input_Details!$B$32))","v":0},{"$f":"IF(OFFSET('Raw Data'!AK9,Input_Details!$B$34,Input_Details!$B$32)=\"\", \"-\", OFFSET('Raw Data'!AK9,Input_Details!$B$34,Input_Details!$B$32))","v":0},{"$f":"IF(OFFSET('Raw Data'!AL9,Input_Details!$B$34,Input_Details!$B$32)=\"\", \"-\", OFFSET('Raw Data'!AL9,Input_Details!$B$34,Input_Details!$B$32))","v":0},{"$f":"IF(OFFSET('Raw Data'!AM9,Input_Details!$B$34,Input_Details!$B$32)=\"\", \"-\", OFFSET('Raw Data'!AM9,Input_Details!$B$34,Input_Details!$B$32))","v":0},null,{"$f":"IF(D31=\"-\",\"-\",OFFSET('Raw Data'!AN9,Input_Details!$B$34,Input_Details!$B$32))","v":13.525000000000002},{"$f":"IF(OFFSET('Raw Data'!AO9,Input_Details!$B$34,Input_Details!$B$32)=\"\", \"-\", OFFSET('Raw Data'!AO9,Input_Details!$B$34,Input_Details!$B$32))","v":"-"},{"$f":"IF(OFFSET('Raw Data'!AP9,Input_Details!$B$34,Input_Details!$B$32)=\"\", \"-\", OFFSET('Raw Data'!AP9,Input_Details!$B$34,Input_Details!$B$32))","v":4.9000000000000004},{"$f":"IF(OFFSET('Raw Data'!AQ9,Input_Details!$B$34,Input_Details!$B$32)=\"\", \"-\", OFFSET('Raw Data'!AQ9,Input_Details!$B$34,Input_Details!$B$32))","v":17.7},null,{"$f":"IF(Y31=\"-\", \"-\", SUM(OFFSET(D31,0,VLOOKUP(Input_Details!$N$3, $AF$3:$AG$12, 2,0)-1):W31))","v":0},0]
[null,"01:30:00",null,{"$f":"IF(OFFSET('Raw Data'!T10,Input_Details!$B$34,Input_Details!$B$32)=\"\", \"-\", OFFSET('Raw Data'!T10,Input_Details!$B$34,Input_Details!$B$32))","v":0.2},{"$f":"IF(OFFSET('Raw Data'!U10,Input_Details!$B$34,Input_Details!$B$32)=\"\", \"-\", OFFSET('Raw Data'!U10,Input_Details!$B$34,Input_Details!$B$32))","v":0.2},{"$f":"IF(OFFSET('Raw Data'!V10,Input_Details!$B$34,Input_Details!$B$32)=\"\", \"-\", OFFSET('Raw Data'!V10,Input_Details!$B$34,Input_Details!$B$32))","v":0.6},{"$f":"IF(OFFSET('Raw Data'!W10,Input_Details!$B$34,Input_Details!$B$32)=\"\", \"-\", OFFSET('Raw Data'!W10,Input_Details!$B$34,Input_Details!$B$32))","v":0},{"$f":"IF(OFFSET('Raw Data'!X10,Input_Details!$B$34,Input_Details!$B$32)=\"\", \"-\", OFFSET('Raw Data'!X10,Input_Details!$B$34,Input_Details!$B$32))","v":0},{"$f":"IF(OFFSET('Raw Data'!Y10,Input_Details!$B$34,Input_Details!$B$32)=\"\", \"-\", OFFSET('Raw Data'!Y10,Input_Details!$B$34,Input_Details!$B$32))","v":0},{"$f":"IF(OFFSET('Raw Data'!Z10,Input_Details!$B$34,Input_Details!$B$32)=\"\", \"-\", OFFSET('Raw Data'!Z10,Input_Details!$B$34,Input_Details!$B$32))","v":0},{"$f":"IF(OFFSET('Raw Data'!AA10,Input_Details!$B$34,Input_Details!$B$32)=\"\", \"-\", OFFSET('Raw Data'!AA10,Input_Details!$B$34,Input_Details!$B$32))","v":0},{"$f":"IF(OFFSET('Raw Data'!AB10,Input_Details!$B$34,Input_Details!$B$32)=\"\", \"-\", OFFSET('Raw Data'!AB10,Input_Details!$B$34,Input_Details!$B$32))","v":0},{"$f":"IF(OFFSET('Raw Data'!AC10,Input_Details!$B$34,Input_Details!$B$32)=\"\", \"-\", OFFSET('Raw Data'!AC10,Input_Details!$B$34,Input_Details!$B$32))","v":0},{"$f":"IF(OFFSET('Raw Data'!AD10,Input_Details!$B$34,Input_Details!$B$32)=\"\", \"-\", OFFSET('Raw Data'!AD10,Input_Details!$B$34,Input_Details!$B$32))","v":0},{"$f":"IF(OFFSET('Raw Data'!AE10,Input_Details!$B$34,Input_Details!$B$32)=\"\", \"-\", OFFSET('Raw Data'!AE10,Input_Details!$B$34,Input_Details!$B$32))","v":0},{"$f":"IF(OFFSET('Raw Data'!AF10,Input_Details!$B$34,Input_Details!$B$32)=\"\", \"-\", OFFSET('Raw Data'!AF10,Input_Details!$B$34,Input_Details!$B$32))","v":0},{"$f":"IF(OFFSET('Raw Data'!AG10,Input_Details!$B$34,Input_Details!$B$32)=\"\", \"-\", OFFSET('Raw Data'!AG10,Input_Details!$B$34,Input_Details!$B$32))","v":0},{"$f":"IF(OFFSET('Raw Data'!AH10,Input_Details!$B$34,Input_Details!$B$32)=\"\", \"-\", OFFSET('Raw Data'!AH10,Input_Details!$B$34,Input_Details!$B$32))","v":0},{"$f":"IF(OFFSET('Raw Data'!AI10,Input_Details!$B$34,Input_Details!$B$32)=\"\", \"-\", OFFSET('Raw Data'!AI10,Input_Details!$B$34,Input_Details!$B$32))","v":0},{"$f":"IF(OFFSET('Raw Data'!AJ10,Input_Details!$B$34,Input_Details!$B$32)=\"\", \"-\", OFFSET('Raw Data'!AJ10,Input_Details!$B$34,Input_Details!$B$32))","v":0},{"$f":"IF(OFFSET('Raw Data'!AK10,Input_Details!$B$34,Input_Details!$B$32)=\"\", \"-\", OFFSET('Raw Data'!AK10,Input_Details!$B$34,Input_Details!$B$32))","v":0},{"$f":"IF(OFFSET('Raw Data'!AL10,Input_Details!$B$34,Input_Details!$B$32)=\"\", \"-\", OFFSET('Raw Data'!AL10,Input_Details!$B$34,Input_Details!$B$32))","v":0},{"$f":"IF(OFFSET('Raw Data'!AM10,Input_Details!$B$34,Input_Details!$B$32)=\"\", \"-\", OFFSET('Raw Data'!AM10,Input_Details!$B$34,Input_Details!$B$32))","v":0},null,{"$f":"IF(D32=\"-\",\"-\",OFFSET('Raw Data'!AN10,Input_Details!$B$34,Input_Details!$B$32))","v":13.166666666666666},{"$f":"IF(OFFSET('Raw Data'!AO10,Input_Details!$B$34,Input_Details!$B$32)=\"\", \"-\", OFFSET('Raw Data'!AO10,Input_Details!$B$34,Input_Details!$B$32))","v":"-"},{"$f":"IF(OFFSET('Raw Data'!AP10,Input_Details!$B$34,Input_Details!$B$32)=\"\", \"-\", OFFSET('Raw Data'!AP10,Input_Details!$B$34,Input_Details!$B$32))","v":5.4},{"$f":"IF(OFFSET('Raw Data'!AQ10,Input_Details!$B$34,Input_Details!$B$32)=\"\", \"-\", OFFSET('Raw Data'!AQ10,Input_Details!$B$34,Input_Details!$B$32))","v":18.399999999999999},null,{"$f":"IF(Y32=\"-\", \"-\", SUM(OFFSET(D32,0,VLOOKUP(Input_Details!$N$3, $AF$3:$AG$12, 2,0)-1):W32))","v":0},0]
[null,"01:45:00",null,{"$f":"IF(OFFSET('Raw Data'!T11,Input_Details!$B$34,Input_Details!$B$32)=\"\", \"-\", OFFSET('Raw Data'!T11,Input_Details!$B$34,Input_Details!$B$32))","v":0.4},{"$f":"IF(OFFSET('Raw Data'!U11,Input_Details!$B$34,Input_Details!$B$32)=\"\", \"-\", OFFSET('Raw Data'!U11,Input_Details!$B$34,Input_Details!$B$32))","v":1},{"$f":"IF(OFFSET('Raw Data'!V11,Input_Details!$B$34,Input_Details!$B$32)=\"\", \"-\", OFFSET('Raw Data'!V11,Input_Details!$B$34,Input_Details!$B$32))","v":0},{"$f":"IF(OFFSET('Raw Data'!W11,Input_Details!$B$34,Input_Details!$B$32)=\"\", \"-\", OFFSET('Raw Data'!W11,Input_Details!$B$34,Input_Details!$B$32))","v":0},{"$f":"IF(OFFSET('Raw Data'!X11,Input_Details!$B$34,Input_Details!$B$32)=\"\", \"-\", OFFSET('Raw Data'!X11,Input_Details!$B$34,Input_Details!$B$32))","v":0},{"$f":"IF(OFFSET('Raw Data'!Y11,Input_Details!$B$34,Input_Details!$B$32)=\"\", \"-\", OFFSET('Raw Data'!Y11,Input_Details!$B$34,Input_Details!$B$32))","v":0},{"$f":"IF(OFFSET('Raw Data'!Z11,Input_Details!$B$34,Input_Details!$B$32)=\"\", \"-\", OFFSET('Raw Data'!Z11,Input_Details!$B$34,Input_Details!$B$32))","v":0},{"$f":"IF(OFFSET('Raw Data'!AA11,Input_Details!$B$34,Input_Details!$B$32)=\"\", \"-\", OFFSET('Raw Data'!AA11,Input_Details!$B$34,Input_Details!$B$32))","v":0},{"$f":"IF(OFFSET('Raw Data'!AB11,Input_Details!$B$34,Input_Details!$B$32)=\"\", \"-\", OFFSET('Raw Data'!AB11,Input_Details!$B$34,Input_Details!$B$32))","v":0},{"$f":"IF(OFFSET('Raw Data'!AC11,Input_Details!$B$34,Input_Details!$B$32)=\"\", \"-\", OFFSET('Raw Data'!AC11,Input_Details!$B$34,Input_Details!$B$32))","v":0},{"$f":"IF(OFFSET('Raw Data'!AD11,Input_Details!$B$34,Input_Details!$B$32)=\"\", \"-\", OFFSET('Raw Data'!AD11,Input_Details!$B$34,Input_Details!$B$32))","v":0},{"$f":"IF(OFFSET('Raw Data'!AE11,Input_Details!$B$34,Input_Details!$B$32)=\"\", \"-\", OFFSET('Raw Data'!AE11,Input_Details!$B$34,Input_Details!$B$32))","v":0},{"$f":"IF(OFFSET('Raw Data'!AF11,Input_Details!$B$34,Input_Details!$B$32)=\"\", \"-\", OFFSET('Raw Data'!AF11,Input_Details!$B$34,Input_Details!$B$32))","v":0},{"$f":"IF(OFFSET('Raw Data'!AG11,Input_Details!$B$34,Input_Details!$B$32)=\"\", \"-\", OFFSET('Raw Data'!AG11,Input_Details!$B$34,Input_Details!$B$32))","v":0},{"$f":"IF(OFFSET('Raw Data'!AH11,Input_Details!$B$34,Input_Details!$B$32)=\"\", \"-\", OFFSET('Raw Data'!AH11,Input_Details!$B$34,Input_Details!$B$32))","v":0},{"$f":"IF(OFFSET('Raw Data'!AI11,Input_Details!$B$34,Input_Details!$B$32)=\"\", \"-\", OFFSET('Raw Data'!AI11,Input_Details!$B$34,Input_Details!$B$32))","v":0},{"$f":"IF(OFFSET('Raw Data'!AJ11,Input_Details!$B$34,Input_Details!$B$32)=\"\", \"-\", OFFSET('Raw Data'!AJ11,Input_Details!$B$34,Input_Details!$B$32))","v":0},{"$f":"IF(OFFSET('Raw Data'!AK11,Input_Details!$B$34,Input_Details!$B$32)=\"\", \"-\", OFFSET('Raw Data'!AK11,Input_Details!$B$34,Input_Details!$B$32))","v":0},{"$f":"IF(OFFSET('Raw Data'!AL11,Input_Details!$B$34,Input_Details!$B$32)=\"\", \"-\", OFFSET('Raw Data'!AL11,Input_Details!$B$34,Input_Details!$B$32))","v":0},{"$f":"IF(OFFSET('Raw Data'!AM11,Input_Details!$B$34,Input_Details!$B$32)=\"\", \"-\", OFFSET('Raw Data'!AM11,Input_Details!$B$34,Input_Details!$B$32))","v":0},null,{"$f":"IF(D33=\"-\",\"-\",OFFSET('Raw Data'!AN11,Input_Details!$B$34,Input_Details!$B$32))","v":10},{"$f":"IF(OFFSET('Raw Data'!AO11,Input_Details!$B$34,Input_Details!$B$32)=\"\", \"-\", OFFSET('Raw Data'!AO11,Input_Details!$B$34,Input_Details!$B$32))","v":"-"},{"$f":"IF(OFFSET('Raw Data'!AP11,Input_Details!$B$34,Input_Details!$B$32)=\"\", \"-\", OFFSET('Raw Data'!AP11,Input_Details!$B$34,Input_Details!$B$32))","v":5.3},{"$f":"IF(OFFSET('Raw Data'!AQ11,Input_Details!$B$34,Input_Details!$B$32)=\"\", \"-\", OFFSET('Raw Data'!AQ11,Input_Details!$B$34,Input_Details!$B$32))","v":14.1},null,{"$f":"IF(Y33=\"-\", \"-\", SUM(OFFSET(D33,0,VLOOKUP(Input_Details!$N$3, $AF$3:$AG$12, 2,0)-1):W33))","v":0},0]
[null,"02:00:00",null,{"$f":"IF(OFFSET('Raw Data'!T12,Input_Details!$B$34,Input_Details!$B$32)=\"\", \"-\", OFFSET('Raw Data'!T12,Input_Details!$B$34,Input_Details!$B$32))","v":0},{"$f":"IF(OFFSET('Raw Data'!U12,Input_Details!$B$34,Input_Details!$B$32)=\"\", \"-\", OFFSET('Raw Data'!U12,Input_Details!$B$34,Input_Details!$B$32))","v":0.4},{"$f":"IF(OFFSET('Raw Data'!V12,Input_Details!$B$34,Input_Details!$B$32)=\"\", \"-\", OFFSET('Raw Data'!V12,Input_Details!$B$34,Input_Details!$B$32))","v":0.8},{"$f":"IF(OFFSET('Raw Data'!W12,Input_Details!$B$34,Input_Details!$B$32)=\"\", \"-\", OFFSET('Raw Data'!W12,Input_Details!$B$34,Input_Details!$B$32))","v":0.2},{"$f":"IF(OFFSET('Raw Data'!X12,Input_Details!$B$34,Input_Details!$B$32)=\"\", \"-\", OFFSET('Raw Data'!X12,Input_Details!$B$34,Input_Details!$B$32))","v":0},{"$f":"IF(OFFSET('Raw Data'!Y12,Input_Details!$B$34,Input_Details!$B$32)=\"\", \"-\", OFFSET('Raw Data'!Y12,Input_Details!$B$34,Input_Details!$B$32))","v":0},{"$f":"IF(OFFSET('Raw Data'!Z12,Input_Details!$B$34,Input_Details!$B$32)=\"\", \"-\", OFFSET('Raw Data'!Z12,Input_Details!$B$34,Input_Details!$B$32))","v":0},{"$f":"IF(OFFSET('Raw Data'!AA12,Input_Details!$B$34,Input_Details!$B$32)=\"\", \"-\", OFFSET('Raw Data'!AA12,Input_Details!$B$34,Input_Details!$B$32))","v":0},{"$f":"IF(OFFSET('Raw Data'!AB12,Input_Details!$B$34,Input_Details!$B$32)=\"\", \"-\", OFFSET('Raw Data'!AB12,Input_Details!$B$34,Input_Details!$B$32))","v":0},{"$f":"IF(OFFSET('Raw Data'!AC12,Input_Details!$B$34,Input_Details!$B$32)=\"\", \"-\", OFFSET('Raw Data'!AC12,Input_Details!$B$34,Input_Details!$B$32))","v":0},{"$f":"IF(OFFSET('Raw Data'!AD12,Input_Details!$B$34,Input_Details!$B$32)=\"\", \"-\", OFFSET('Raw Data'!AD12,Input_Details!$B$34,Input_Details!$B$32))","v":0},{"$f":"IF(OFFSET('Raw Data'!AE12,Input_Details!$B$34,Input_Details!$B$32)=\"\", \"-\", OFFSET('Raw Data'!AE12,Input_Details!$B$34,Input_Details!$B$32))","v":0},{"$f":"IF(OFFSET('Raw Data'!AF12,Input_Details!$B$34,Input_Details!$B$32)=\"\", \"-\", OFFSET('Raw Data'!AF12,Input_Details!$B$34,Input_Details!$B$32))","v":0},{"$f":"IF(OFFSET('Raw Data'!AG12,Input_Details!$B$34,Input_Details!$B$32)=\"\", \"-\", OFFSET('Raw Data'!AG12,Input_Details!$B$34,Input_Details!$B$32))","v":0},{"$f":"IF(OFFSET('Raw Data'!AH12,Input_Details!$B$34,Input_Details!$B$32)=\"\", \"-\", OFFSET('Raw Data'!AH12,Input_Details!$B$34,Input_Details!$B$32))","v":0},{"$f":"IF(OFFSET('Raw Data'!AI12,Input_Details!$B$34,Input_Details!$B$32)=\"\", \"-\", OFFSET('Raw Data'!AI12,Input_Details!$B$34,Input_Details!$B$32))","v":0},{"$f":"IF(OFFSET('Raw Data'!AJ12,Input_Details!$B$34,Input_Details!$B$32)=\"\", \"-\", OFFSET('Raw Data'!AJ12,Input_Details!$B$34,Input_Details!$B$32))","v":0},{"$f":"IF(OFFSET('Raw Data'!AK12,Input_Details!$B$34,Input_Details!$B$32)=\"\", \"-\", OFFSET('Raw Data'!AK12,Input_Details!$B$34,Input_Details!$B$32))","v":0},{"$f":"IF(OFFSET('Raw Data'!AL12,Input_Details!$B$34,Input_Details!$B$32)=\"\", \"-\", OFFSET('Raw Data'!AL12,Input_Details!$B$34,Input_Details!$B$32))","v":0},{"$f":"IF(OFFSET('Raw Data'!AM12,Input_Details!$B$34,Input_Details!$B$32)=\"\", \"-\", OFFSET('Raw Data'!AM12,Input_Details!$B$34,Input_Details!$B$32))","v":0},null,{"$f":"IF(D34=\"-\",\"-\",OFFSET('Raw Data'!AN12,Input_Details!$B$34,Input_Details!$B$32))","v":17.433333333333334},{"$f":"IF(OFFSET('Raw Data'!AO12,Input_Details!$B$34,Input_Details!$B$32)=\"\", \"-\", OFFSET('Raw Data'!AO12,Input_Details!$B$34,Input_Details!$B$32))","v":"-"},{"$f":"IF(OFFSET('Raw Data'!AP12,Input_Details!$B$34,Input_Details!$B$32)=\"\", \"-\", OFFSET('Raw Data'!AP12,Input_Details!$B$34,Input_Details!$B$32))","v":14},{"$f":"IF(OFFSET('Raw Data'!AQ12,Input_Details!$B$34,Input_Details!$B$32)=\"\", \"-\", OFFSET('Raw Data'!AQ12,Input_Details!$B$34,Input_Details!$B$32))","v":25},null,{"$f":"IF(Y34=\"-\", \"-\", SUM(OFFSET(D34,0,VLOOKUP(Input_Details!$N$3, $AF$3:$AG$12, 2,0)-1):W34))","v":0.2},0.14285714285714285]
[null,"02:15:00",null,{"$f":"IF(OFFSET('Raw Data'!T13,Input_Details!$B$34,Input_Details!$B$32)=\"\", \"-\", OFFSET('Raw Data'!T13,Input_Details!$B$34,Input_Details!$B$32))","v":0.2},{"$f":"IF(OFFSET('Raw Data'!U13,Input_Details!$B$34,Input_Details!$B$32)=\"\", \"-\", OFFSET('Raw Data'!U13,Input_Details!$B$34,Input_Details!$B$32))","v":0},{"$f":"IF(OFFSET('Raw Data'!V13,Input_Details!$B$34,Input_Details!$B$32)=\"\", \"-\", OFFSET('Raw Data'!V13,Input_Details!$B$34,Input_Details!$B$32))","v":1},{"$f":"IF(OFFSET('Raw Data'!W13,Input_Details!$B$34,Input_Details!$B$32)=\"\", \"-\", OFFSET('Raw Data'!W13,Input_Details!$B$34,Input_Details!$B$32))","v":0},{"$f":"IF(OFFSET('Raw Data'!X13,Input_Details!$B$34,Input_Details!$B$32)=\"\", \"-\", OFFSET('Raw Data'!X13,Input_Details!$B$34,Input_Details!$B$32))","v":0},{"$f":"IF(OFFSET('Raw Data'!Y13,Input_Details!$B$34,Input_Details!$B$32)=\"\", \"-\", OFFSET('Raw Data'!Y13,Input_Details!$B$34,Input_Details!$B$32))","v":0},{"$f":"IF(OFFSET('Raw Data'!Z13,Input_Details!$B$34,Input_Details!$B$32)=\"\", \"-\", OFFSET('Raw Data'!Z13,Input_Details!$B$34,Input_Details!$B$32))","v":0},{"$f":"IF(OFFSET('Raw Data'!AA13,Input_Details!$B$34,Input_Details!$B$32)=\"\", \"-\", OFFSET('Raw Data'!AA13,Input_Details!$B$34,Input_Details!$B$32))","v":0},{"$f":"IF(OFFSET('Raw Data'!AB13,Input_Details!$B$34,Input_Details!$B$32)=\"\", \"-\", OFFSET('Raw Data'!AB13,Input_Details!$B$34,Input_Details!$B$32))","v":0},{"$f":"IF(OFFSET('Raw Data'!AC13,Input_Details!$B$34,Input_Details!$B$32)=\"\", \"-\", OFFSET('Raw Data'!AC13,Input_Details!$B$34,Input_Details!$B$32))","v":0},{"$f":"IF(OFFSET('Raw Data'!AD13,Input_Details!$B$34,Input_Details!$B$32)=\"\", \"-\", OFFSET('Raw Data'!AD13,Input_Details!$B$34,Input_Details!$B$32))","v":0},{"$f":"IF(OFFSET('Raw Data'!AE13,Input_Details!$B$34,Input_Details!$B$32)=\"\", \"-\", OFFSET('Raw Data'!AE13,Input_Details!$B$34,Input_Details!$B$32))","v":0},{"$f":"IF(OFFSET('Raw Data'!AF13,Input_Details!$B$34,Input_Details!$B$32)=\"\", \"-\", OFFSET('Raw Data'!AF13,Input_Details!$B$34,Input_Details!$B$32))","v":0},{"$f":"IF(OFFSET('Raw Data'!AG13,Input_Details!$B$34,Input_Details!$B$32)=\"\", \"-\", OFFSET('Raw Data'!AG13,Input_Details!$B$34,Input_Details!$B$32))","v":0},{"$f":"IF(OFFSET('Raw Data'!AH13,Input_Details!$B$34,Input_Details!$B$32)=\"\", \"-\", OFFSET('Raw Data'!AH13,Input_Details!$B$34,Input_Details!$B$32))","v":0},{"$f":"IF(OFFSET('Raw Data'!AI13,Input_Details!$B$34,Input_Details!$B$32)=\"\", \"-\", OFFSET('Raw Data'!AI13,Input_Details!$B$34,Input_Details!$B$32))","v":0},{"$f":"IF(OFFSET('Raw Data'!AJ13,Input_Details!$B$34,Input_Details!$B$32)=\"\", \"-\", OFFSET('Raw Data'!AJ13,Input_Details!$B$34,Input_Details!$B$32))","v":0},{"$f":"IF(OFFSET('Raw Data'!AK13,Input_Details!$B$34,Input_Details!$B$32)=\"\", \"-\", OFFSET('Raw Data'!AK13,Input_Details!$B$34,Input_Details!$B$32))","v":0},{"$f":"IF(OFFSET('Raw Data'!AL13,Input_Details!$B$34,Input_Details!$B$32)=\"\", \"-\", OFFSET('Raw Data'!AL13,Input_Details!$B$34,Input_Details!$B$32))","v":0},{"$f":"IF(OFFSET('Raw Data'!AM13,Input_Details!$B$34,Input_Details!$B$32)=\"\", \"-\", OFFSET('Raw Data'!AM13,Input_Details!$B$34,Input_Details!$B$32))","v":0},null,{"$f":"IF(D35=\"-\",\"-\",OFFSET('Raw Data'!AN13,Input_Details!$B$34,Input_Details!$B$32))","v":15.133333333333335},{"$f":"IF(OFFSET('Raw Data'!AO13,Input_Details!$B$34,Input_Details!$B$32)=\"\", \"-\", OFFSET('Raw Data'!AO13,Input_Details!$B$34,Input_Details!$B$32))","v":"-"},{"$f":"IF(OFFSET('Raw Data'!AP13,Input_Details!$B$34,Input_Details!$B$32)=\"\", \"-\", OFFSET('Raw Data'!AP13,Input_Details!$B$34,Input_Details!$B$32))","v":5.7},{"$f":"IF(OFFSET('Raw Data'!AQ13,Input_Details!$B$34,Input_Details!$B$32)=\"\", \"-\", OFFSET('Raw Data'!AQ13,Input_Details!$B$34,Input_Details!$B$32))","v":18.8},null,{"$f":"IF(Y35=\"-\", \"-\", SUM(OFFSET(D35,0,VLOOKUP(Input_Details!$N$3, $AF$3:$AG$12, 2,0)-1):W35))","v":0},0]
[null,"02:30:00",null,{"$f":"IF(OFFSET('Raw Data'!T14,Input_Details!$B$34,Input_Details!$B$32)=\"\", \"-\", OFFSET('Raw Data'!T14,Input_Details!$B$34,Input_Details!$B$32))","v":0.2},{"$f":"IF(OFFSET('Raw Data'!U14,Input_Details!$B$34,Input_Details!$B$32)=\"\", \"-\", OFFSET('Raw Data'!U14,Input_Details!$B$34,Input_Details!$B$32))","v":0.4},{"$f":"IF(OFFSET('Raw Data'!V14,Input_Details!$B$34,Input_Details!$B$32)=\"\", \"-\", OFFSET('Raw Data'!V14,Input_Details!$B$34,Input_Details!$B$32))","v":0.2},{"$f":"IF(OFFSET('Raw Data'!W14,Input_Details!$B$34,Input_Details!$B$32)=\"\", \"-\", OFFSET('Raw Data'!W14,Input_Details!$B$34,Input_Details!$B$32))","v":0.2},{"$f":"IF(OFFSET('Raw Data'!X14,Input_Details!$B$34,Input_Details!$B$32)=\"\", \"-\", OFFSET('Raw Data'!X14,Input_Details!$B$34,Input_Details!$B$32))","v":0},{"$f":"IF(OFFSET('Raw Data'!Y14,Input_Details!$B$34,Input_Details!$B$32)=\"\", \"-\", OFFSET('Raw Data'!Y14,Input_Details!$B$34,Input_Details!$B$32))","v":0},{"$f":"IF(OFFSET('Raw Data'!Z14,Input_Details!$B$34,Input_Details!$B$32)=\"\", \"-\", OFFSET('Raw Data'!Z14,Input_Details!$B$34,Input_Details!$B$32))","v":0},{"$f":"IF(OFFSET('Raw Data'!AA14,Input_Details!$B$34,Input_Details!$B$32)=\"\", \"-\", OFFSET('Raw Data'!AA14,Input_Details!$B$34,Input_Details!$B$32))","v":0},{"$f":"IF(OFFSET('Raw Data'!AB14,Input_Details!$B$34,Input_Details!$B$32)=\"\", \"-\", OFFSET('Raw Data'!AB14,Input_Details!$B$34,Input_Details!$B$32))","v":0},{"$f":"IF(OFFSET('Raw Data'!AC14,Input_Details!$B$34,Input_Details!$B$32)=\"\", \"-\", OFFSET('Raw Data'!AC14,Input_Details!$B$34,Input_Details!$B$32))","v":0},{"$f":"IF(OFFSET('Raw Data'!AD14,Input_Details!$B$34,Input_Details!$B$32)=\"\", \"-\", OFFSET('Raw Data'!AD14,Input_Details!$B$34,Input_Details!$B$32))","v":0},{"$f":"IF(OFFSET('Raw Data'!AE14,Input_Details!$B$34,Input_Details!$B$32)=\"\", \"-\", OFFSET('Raw Data'!AE14,Input_Details!$B$34,Input_Details!$B$32))","v":0},{"$f":"IF(OFFSET('Raw Data'!AF14,Input_Details!$B$34,Input_Details!$B$32)=\"\", \"-\", OFFSET('Raw Data'!AF14,Input_Details!$B$34,Input_Details!$B$32))","v":0},{"$f":"IF(OFFSET('Raw Data'!AG14,Input_Details!$B$34,Input_Details!$B$32)=\"\", \"-\", OFFSET('Raw Data'!AG14,Input_Details!$B$34,Input_Details!$B$32))","v":0},{"$f":"IF(OFFSET('Raw Data'!AH14,Input_Details!$B$34,Input_Details!$B$32)=\"\", \"-\", OFFSET('Raw Data'!AH14,Input_Details!$B$34,Input_Details!$B$32))","v":0},{"$f":"IF(OFFSET('Raw Data'!AI14,Input_Details!$B$34,Input_Details!$B$32)=\"\", \"-\", OFFSET('Raw Data'!AI14,Input_Details!$B$34,Input_Details!$B$32))","v":0},{"$f":"IF(OFFSET('Raw Data'!AJ14,Input_Details!$B$34,Input_Details!$B$32)=\"\", \"-\", OFFSET('Raw Data'!AJ14,Input_Details!$B$34,Input_Details!$B$32))","v":0},{"$f":"IF(OFFSET('Raw Data'!AK14,Input_Details!$B$34,Input_Details!$B$32)=\"\", \"-\", OFFSET('Raw Data'!AK14,Input_Details!$B$34,Input_Details!$B$32))","v":0},{"$f":"IF(OFFSET('Raw Data'!AL14,Input_Details!$B$34,Input_Details!$B$32)=\"\", \"-\", OFFSET('Raw Data'!AL14,Input_Details!$B$34,Input_Details!$B$32))","v":0},{"$f":"IF(OFFSET('Raw Data'!AM14,Input_Details!$B$34,Input_Details!$B$32)=\"\", \"-\", OFFSET('Raw Data'!AM14,Input_Details!$B$34,Input_Details!$B$32))","v":0},null,{"$f":"IF(D36=\"-\",\"-\",OFFSET('Raw Data'!AN14,Input_Details!$B$34,Input_Details!$B$32))","v":14.066666666666668},{"$f":"IF(OFFSET('Raw Data'!AO14,Input_Details!$B$34,Input_Details!$B$32)=\"\", \"-\", OFFSET('Raw Data'!AO14,Input_Details!$B$34,Input_Details!$B$32))","v":"-"},{"$f":"IF(OFFSET('Raw Data'!AP14,Input_Details!$B$34,Input_Details!$B$32)=\"\", \"-\", OFFSET('Raw Data'!AP14,Input_Details!$B$34,Input_Details!$B$32))","v":9.6999999999999993},{"$f":"IF(OFFSET('Raw Data'!AQ14,Input_Details!$B$34,Input_Details!$B$32)=\"\", \"-\", OFFSET('Raw Data'!AQ14,Input_Details!$B$34,Input_Details!$B$32))","v":20.3},null,{"$f":"IF(Y36=\"-\", \"-\", SUM(OFFSET(D36,0,VLOOKUP(Input_Details!$N$3, $AF$3:$AG$12, 2,0)-1):W36))","v":0.2},0.2]
[null,"02:45:00",null,{"$f":"IF(OFFSET('Raw Data'!T15,Input_Details!$B$34,Input_Details!$B$32)=\"\", \"-\", OFFSET('Raw Data'!T15,Input_Details!$B$34,Input_Details!$B$32))","v":0},{"$f":"IF(OFFSET('Raw Data'!U15,Input_Details!$B$34,Input_Details!$B$32)=\"\", \"-\", OFFSET('Raw Data'!U15,Input_Details!$B$34,Input_Details!$B$32))","v":0.4},{"$f":"IF(OFFSET('Raw Data'!V15,Input_Details!$B$34,Input_Details!$B$32)=\"\", \"-\", OFFSET('Raw Data'!V15,Input_Details!$B$34,Input_Details!$B$32))","v":0.2},{"$f":"IF(OFFSET('Raw Data'!W15,Input_Details!$B$34,Input_Details!$B$32)=\"\", \"-\", OFFSET('Raw Data'!W15,Input_Details!$B$34,Input_Details!$B$32))","v":0},{"$f":"IF(OFFSET('Raw Data'!X15,Input_Details!$B$34,Input_Details!$B$32)=\"\", \"-\", OFFSET('Raw Data'!X15,Input_Details!$B$34,Input_Details!$B$32))","v":0},{"$f":"IF(OFFSET('Raw Data'!Y15,Input_Details!$B$34,Input_Details!$B$32)=\"\", \"-\", OFFSET('Raw Data'!Y15,Input_Details!$B$34,Input_Details!$B$32))","v":0},{"$f":"IF(OFFSET('Raw Data'!Z15,Input_Details!$B$34,Input_Details!$B$32)=\"\", \"-\", OFFSET('Raw Data'!Z15,Input_Details!$B$34,Input_Details!$B$32))","v":0},{"$f":"IF(OFFSET('Raw Data'!AA15,Input_Details!$B$34,Input_Details!$B$32)=\"\", \"-\", OFFSET('Raw Data'!AA15,Input_Details!$B$34,Input_Details!$B$32))","v":0},{"$f":"IF(OFFSET('Raw Data'!AB15,Input_Details!$B$34,Input_Details!$B$32)=\"\", \"-\", OFFSET('Raw Data'!AB15,Input_Details!$B$34,Input_Details!$B$32))","v":0},{"$f":"IF(OFFSET('Raw Data'!AC15,Input_Details!$B$34,Input_Details!$B$32)=\"\", \"-\", OFFSET('Raw Data'!AC15,Input_Details!$B$34,Input_Details!$B$32))","v":0},{"$f":"IF(OFFSET('Raw Data'!AD15,Input_Details!$B$34,Input_Details!$B$32)=\"\", \"-\", OFFSET('Raw Data'!AD15,Input_Details!$B$34,Input_Details!$B$32))","v":0},{"$f":"IF(OFFSET('Raw Data'!AE15,Input_Details!$B$34,Input_Details!$B$32)=\"\", \"-\", OFFSET('Raw Data'!AE15,Input_Details!$B$34,Input_Details!$B$32))","v":0},{"$f":"IF(OFFSET('Raw Data'!AF15,Input_Details!$B$34,Input_Details!$B$32)=\"\", \"-\", OFFSET('Raw Data'!AF15,Input_Details!$B$34,Input_Details!$B$32))","v":0},{"$f":"IF(OFFSET('Raw Data'!AG15,Input_Details!$B$34,Input_Details!$B$32)=\"\", \"-\", OFFSET('Raw Data'!AG15,Input_Details!$B$34,Input_Details!$B$32))","v":0},{"$f":"IF(OFFSET('Raw Data'!AH15,Input_Details!$B$34,Input_Details!$B$32)=\"\", \"-\", OFFSET('Raw Data'!AH15,Input_Details!$B$34,Input_Details!$B$32))","v":0},{"$f":"IF(OFFSET('Raw Data'!AI15,Input_Details!$B$34,Input_Details!$B$32)=\"\", \"-\", OFFSET('Raw Data'!AI15,Input_Details!$B$34,Input_Details!$B$32))","v":0},{"$f":"IF(OFFSET('Raw Data'!AJ15,Input_Details!$B$34,Input_Details!$B$32)=\"\", \"-\", OFFSET('Raw Data'!AJ15,Input_Details!$B$34,Input_Details!$B$32))","v":0},{"$f":"IF(OFFSET('Raw Data'!AK15,Input_Details!$B$34,Input_Details!$B$32)=\"\", \"-\", OFFSET('Raw Data'!AK15,Input_Details!$B$34,Input_Details!$B$32))","v":0},{"$f":"IF(OFFSET('Raw Data'!AL15,Input_Details!$B$34,Input_Details!$B$32)=\"\", \"-\", OFFSET('Raw Data'!AL15,Input_Details!$B$34,Input_Details!$B$32))","v":0},{"$f":"IF(OFFSET('Raw Data'!AM15,Input_Details!$B$34,Input_Details!$B$32)=\"\", \"-\", OFFSET('Raw Data'!AM15,Input_Details!$B$34,Input_Details!$B$32))","v":0},null,{"$f":"IF(D37=\"-\",\"-\",OFFSET('Raw Data'!AN15,Input_Details!$B$34,Input_Details!$B$32))","v":15.15},{"$f":"IF(OFFSET('Raw Data'!AO15,Input_Details!$B$34,Input_Details!$B$32)=\"\", \"-\", OFFSET('Raw Data'!AO15,Input_Details!$B$34,Input_Details!$B$32))","v":"-"},{"$f":"IF(OFFSET('Raw Data'!AP15,Input_Details!$B$34,Input_Details!$B$32)=\"\", \"-\", OFFSET('Raw Data'!AP15,Input_Details!$B$34,Input_Details!$B$32))","v":10.5},{"$f":"IF(OFFSET('Raw Data'!AQ15,Input_Details!$B$34,Input_Details!$B$32)=\"\", \"-\", OFFSET('Raw Data'!AQ15,Input_Details!$B$34,Input_Details!$B$32))","v":18},null,{"$f":"IF(Y37=\"-\", \"-\", SUM(OFFSET(D37,0,VLOOKUP(Input_Details!$N$3, $AF$3:$AG$12, 2,0)-1):W37))","v":0},0]
[null,"03:00:00",null,{"$f":"IF(OFFSET('Raw Data'!T16,Input_Details!$B$34,Input_Details!$B$32)=\"\", \"-\", OFFSET('Raw Data'!T16,Input_Details!$B$34,Input_Details!$B$32))","v":0},{"$f":"IF(OFFSET('Raw Data'!U16,Input_Details!$B$34,Input_Details!$B$32)=\"\", \"-\", OFFSET('Raw Data'!U16,Input_Details!$B$34,Input_Details!$B$32))","v":0.6},{"$f":"IF(OFFSET('Raw Data'!V16,Input_Details!$B$34,Input_Details!$B$32)=\"\", \"-\", OFFSET('Raw Data'!V16,Input_Details!$B$34,Input_Details!$B$32))","v":0},{"$f":"IF(OFFSET('Raw Data'!W16,Input_Details!$B$34,Input_Details!$B$32)=\"\", \"-\", OFFSET('Raw Data'!W16,Input_Details!$B$34,Input_Details!$B$32))","v":0},{"$f":"IF(OFFSET('Raw Data'!X16,Input_Details!$B$34,Input_Details!$B$32)=\"\", \"-\", OFFSET('Raw Data'!X16,Input_Details!$B$34,Input_Details!$B$32))","v":0},{"$f":"IF(OFFSET('Raw Data'!Y16,Input_Details!$B$34,Input_Details!$B$32)=\"\", \"-\", OFFSET('Raw Data'!Y16,Input_Details!$B$34,Input_Details!$B$32))","v":0},{"$f":"IF(OFFSET('Raw Data'!Z16,Input_Details!$B$34,Input_Details!$B$32)=\"\", \"-\", OFFSET('Raw Data'!Z16,Input_Details!$B$34,Input_Details!$B$32))","v":0},{"$f":"IF(OFFSET('Raw Data'!AA16,Input_Details!$B$34,Input_Details!$B$32)=\"\", \"-\", OFFSET('Raw Data'!AA16,Input_Details!$B$34,Input_Details!$B$32))","v":0},{"$f":"IF(OFFSET('Raw Data'!AB16,Input_Details!$B$34,Input_Details!$B$32)=\"\", \"-\", OFFSET('Raw Data'!AB16,Input_Details!$B$34,Input_Details!$B$32))","v":0},{"$f":"IF(OFFSET('Raw Data'!AC16,Input_Details!$B$34,Input_Details!$B$32)=\"\", \"-\", OFFSET('Raw Data'!AC16,Input_Details!$B$34,Input_Details!$B$32))","v":0},{"$f":"IF(OFFSET('Raw Data'!AD16,Input_Details!$B$34,Input_Details!$B$32)=\"\", \"-\", OFFSET('Raw Data'!AD16,Input_Details!$B$34,Input_Details!$B$32))","v":0},{"$f":"IF(OFFSET('Raw Data'!AE16,Input_Details!$B$34,Input_Details!$B$32)=\"\", \"-\", OFFSET('Raw Data'!AE16,Input_Details!$B$34,Input_Details!$B$32))","v":0},{"$f":"IF(OFFSET('Raw Data'!AF16,Input_Details!$B$34,Input_Details!$B$32)=\"\", \"-\", OFFSET('Raw Data'!AF16,Input_Details!$B$34,Input_Details!$B$32))","v":0},{"$f":"IF(OFFSET('Raw Data'!AG16,Input_Details!$B$34,Input_Details!$B$32)=\"\", \"-\", OFFSET('Raw Data'!AG16,Input_Details!$B$34,Input_Details!$B$32))","v":0},{"$f":"IF(OFFSET('Raw Data'!AH16,Input_Details!$B$34,Input_Details!$B$32)=\"\", \"-\", OFFSET('Raw Data'!AH16,Input_Details!$B$34,Input_Details!$B$32))","v":0},{"$f":"IF(OFFSET('Raw Data'!AI16,Input_Details!$B$34,Input_Details!$B$32)=\"\", \"-\", OFFSET('Raw Data'!AI16,Input_Details!$B$34,Input_Details!$B$32))","v":0},{"$f":"IF(OFFSET('Raw Data'!AJ16,Input_Details!$B$34,Input_Details!$B$32)=\"\", \"-\", OFFSET('Raw Data'!AJ16,Input_Details!$B$34,Input_Details!$B$32))","v":0},{"$f":"IF(OFFSET('Raw Data'!AK16,Input_Details!$B$34,Input_Details!$B$32)=\"\", \"-\", OFFSET('Raw Data'!AK16,Input_Details!$B$34,Input_Details!$B$32))","v":0},{"$f":"IF(OFFSET('Raw Data'!AL16,Input_Details!$B$34,Input_Details!$B$32)=\"\", \"-\", OFFSET('Raw Data'!AL16,Input_Details!$B$34,Input_Details!$B$32))","v":0},{"$f":"IF(OFFSET('Raw Data'!AM16,Input_Details!$B$34,Input_Details!$B$32)=\"\", \"-\", OFFSET('Raw Data'!AM16,Input_Details!$B$34,Input_Details!$B$32))","v":0},null,{"$f":"IF(D38=\"-\",\"-\",OFFSET('Raw Data'!AN16,Input_Details!$B$34,Input_Details!$B$32))","v":12.266666666666666},{"$f":"IF(OFFSET('Raw Data'!AO16,Input_Details!$B$34,Input_Details!$B$32)=\"\", \"-\", OFFSET('Raw Data'!AO16,Input_Details!$B$34,Input_Details!$B$32))","v":"-"},{"$f":"IF(OFFSET('Raw Data'!AP16,Input_Details!$B$34,Input_Details!$B$32)=\"\", \"-\", OFFSET('Raw Data'!AP16,Input_Details!$B$34,Input_Details!$B$32))","v":11},{"$f":"IF(OFFSET('Raw Data'!AQ16,Input_Details!$B$34,Input_Details!$B$32)=\"\", \"-\", OFFSET('Raw Data'!AQ16,Input_Details!$B$34,Input_Details!$B$32))","v":13.5},null,{"$f":"IF(Y38=\"-\", \"-\", SUM(OFFSET(D38,0,VLOOKUP(Input_Details!$N$3, $AF$3:$AG$12, 2,0)-1):W38))","v":0},0]
[null,"03:15:00",null,{"$f":"IF(OFFSET('Raw Data'!T17,Input_Details!$B$34,Input_Details!$B$32)=\"\", \"-\", OFFSET('Raw Data'!T17,Input_Details!$B$34,Input_Details!$B$32))","v":0.2},{"$f":"IF(OFFSET('Raw Data'!U17,Input_Details!$B$34,Input_Details!$B$32)=\"\", \"-\", OFFSET('Raw Data'!U17,Input_Details!$B$34,Input_Details!$B$32))","v":0.6},{"$f":"IF(OFFSET('Raw Data'!V17,Input_Details!$B$34,Input_Details!$B$32)=\"\", \"-\", OFFSET('Raw Data'!V17,Input_Details!$B$34,Input_Details!$B$32))","v":0.4},{"$f":"IF(OFFSET('Raw Data'!W17,Input_Details!$B$34,Input_Details!$B$32)=\"\", \"-\", OFFSET('Raw Data'!W17,Input_Details!$B$34,Input_Details!$B$32))","v":0.2},{"$f":"IF(OFFSET('Raw Data'!X17,Input_Details!$B$34,Input_Details!$B$32)=\"\", \"-\", OFFSET('Raw Data'!X17,Input_Details!$B$34,Input_Details!$B$32))","v":0},{"$f":"IF(OFFSET('Raw Data'!Y17,Input_Details!$B$34,Input_Details!$B$32)=\"\", \"-\", OFFSET('Raw Data'!Y17,Input_Details!$B$34,Input_Details!$B$32))","v":0},{"$f":"IF(OFFSET('Raw Data'!Z17,Input_Details!$B$34,Input_Details!$B$32)=\"\", \"-\", OFFSET('Raw Data'!Z17,Input_Details!$B$34,Input_Details!$B$32))","v":0},{"$f":"IF(OFFSET('Raw Data'!AA17,Input_Details!$B$34,Input_Details!$B$32)=\"\", \"-\", OFFSET('Raw Data'!AA17,Input_Details!$B$34,Input_Details!$B$32))","v":0},{"$f":"IF(OFFSET('Raw Data'!AB17,Input_Details!$B$34,Input_Details!$B$32)=\"\", \"-\", OFFSET('Raw Data'!AB17,Input_Details!$B$34,Input_Details!$B$32))","v":0},{"$f":"IF(OFFSET('Raw Data'!AC17,Input_Details!$B$34,Input_Details!$B$32)=\"\", \"-\", OFFSET('Raw Data'!AC17,Input_Details!$B$34,Input_Details!$B$32))","v":0},{"$f":"IF(OFFSET('Raw Data'!AD17,Input_Details!$B$34,Input_Details!$B$32)=\"\", \"-\", OFFSET('Raw Data'!AD17,Input_Details!$B$34,Input_Details!$B$32))","v":0},{"$f":"IF(OFFSET('Raw Data'!AE17,Input_Details!$B$34,Input_Details!$B$32)=\"\", \"-\", OFFSET('Raw Data'!AE17,Input_Details!$B$34,Input_Details!$B$32))","v":0},{"$f":"IF(OFFSET('Raw Data'!AF17,Input_Details!$B$34,Input_Details!$B$32)=\"\", \"-\", OFFSET('Raw Data'!AF17,Input_Details!$B$34,Input_Details!$B$32))","v":0},{"$f":"IF(OFFSET('Raw Data'!AG17,Input_Details!$B$34,Input_Details!$B$32)=\"\", \"-\", OFFSET('Raw Data'!AG17,Input_Details!$B$34,Input_Details!$B$32))","v":0},{"$f":"IF(OFFSET('Raw Data'!AH17,Input_Details!$B$34,Input_Details!$B$32)=\"\", \"-\", OFFSET('Raw Data'!AH17,Input_Details!$B$34,Input_Details!$B$32))","v":0},{"$f":"IF(OFFSET('Raw Data'!AI17,Input_Details!$B$34,Input_Details!$B$32)=\"\", \"-\", OFFSET('Raw Data'!AI17,Input_Details!$B$34,Input_Details!$B$32))","v":0},{"$f":"IF(OFFSET('Raw Data'!AJ17,Input_Details!$B$34,Input_Details!$B$32)=\"\", \"-\", OFFSET('Raw Data'!AJ17,Input_Details!$B$34,Input_Details!$B$32))","v":0},{"$f":"IF(OFFSET('Raw Data'!AK17,Input_Details!$B$34,Input_Details!$B$32)=\"\", \"-\", OFFSET('Raw Data'!AK17,Input_Details!$B$34,Input_Details!$B$32))","v":0},{"$f":"IF(OFFSET('Raw Data'!AL17,Input_Details!$B$34,Input_Details!$B$32)=\"\", \"-\", OFFSET('Raw Data'!AL17,Input_Details!$B$34,Input_Details!$B$32))","v":0},{"$f":"IF(OFFSET('Raw Data'!AM17,Input_Details!$B$34,Input_Details!$B$32)=\"\", \"-\", OFFSET('Raw Data'!AM17,Input_Details!$B$34,Input_Details!$B$32))","v":0},null,{"$f":"IF(D39=\"-\",\"-\",OFFSET('Raw Data'!AN17,Input_Details!$B$34,Input_Details!$B$32))","v":14.266666666666667},{"$f":"IF(OFFSET('Raw Data'!AO17,Input_Details!$B$34,Input_Details!$B$32)=\"\", \"-\", OFFSET('Raw Data'!AO17,Input_Details!$B$34,Input_Details!$B$32))","v":"-"},{"$f":"IF(OFFSET('Raw Data'!AP17,Input_Details!$B$34,Input_Details!$B$32)=\"\", \"-\", OFFSET('Raw Data'!AP17,Input_Details!$B$34,Input_Details!$B$32))","v":4},{"$f":"IF(OFFSET('Raw Data'!AQ17,Input_Details!$B$34,Input_Details!$B$32)=\"\", \"-\", OFFSET('Raw Data'!AQ17,Input_Details!$B$34,Input_Details!$B$32))","v":23},null,{"$f":"IF(Y39=\"-\", \"-\", SUM(OFFSET(D39,0,VLOOKUP(Input_Details!$N$3, $AF$3:$AG$12, 2,0)-1):W39))","v":0.2},0.14285714285714285]
[null,"03:30:00",null,{"$f":"IF(OFFSET('Raw Data'!T18,Input_Details!$B$34,Input_Details!$B$32)=\"\", \"-\", OFFSET('Raw Data'!T18,Input_Details!$B$34,Input_Details!$B$32))","v":0},{"$f":"IF(OFFSET('Raw Data'!U18,Input_Details!$B$34,Input_Details!$B$32)=\"\", \"-\", OFFSET('Raw Data'!U18,Input_Details!$B$34,Input_Details!$B$32))","v":0},{"$f":"IF(OFFSET('Raw Data'!V18,Input_Details!$B$34,Input_Details!$B$32)=\"\", \"-\", OFFSET('Raw Data'!V18,Input_Details!$B$34,Input_Details!$B$32))","v":0.4},{"$f":"IF(OFFSET('Raw Data'!W18,Input_Details!$B$34,Input_Details!$B$32)=\"\", \"-\", OFFSET('Raw Data'!W18,Input_Details!$B$34,Input_Details!$B$32))","v":0},{"$f":"IF(OFFSET('Raw Data'!X18,Input_Details!$B$34,Input_Details!$B$32)=\"\", \"-\", OFFSET('Raw Data'!X18,Input_Details!$B$34,Input_Details!$B$32))","v":0},{"$f":"IF(OFFSET('Raw Data'!Y18,Input_Details!$B$34,Input_Details!$B$32)=\"\", \"-\", OFFSET('Raw Data'!Y18,Input_Details!$B$34,Input_Details!$B$32))","v":0},{"$f":"IF(OFFSET('Raw Data'!Z18,Input_Details!$B$34,Input_Details!$B$32)=\"\", \"-\", OFFSET('Raw Data'!Z18,Input_Details!$B$34,Input_Details!$B$32))","v":0},{"$f":"IF(OFFSET('Raw Data'!AA18,Input_Details!$B$34,Input_Details!$B$32)=\"\", \"-\", OFFSET('Raw Data'!AA18,Input_Details!$B$34,Input_Details!$B$32))","v":0},{"$f":"IF(OFFSET('Raw Data'!AB18,Input_Details!$B$34,Input_Details!$B$32)=\"\", \"-\", OFFSET('Raw Data'!AB18,Input_Details!$B$34,Input_Details!$B$32))","v":0},{"$f":"IF(OFFSET('Raw Data'!AC18,Input_Details!$B$34,Input_Details!$B$32)=\"\", \"-\", OFFSET('Raw Data'!AC18,Input_Details!$B$34,Input_Details!$B$32))","v":0},{"$f":"IF(OFFSET('Raw Data'!AD18,Input_Details!$B$34,Input_Details!$B$32)=\"\", \"-\", OFFSET('Raw Data'!AD18,Input_Details!$B$34,Input_Details!$B$32))","v":0},{"$f":"IF(OFFSET('Raw Data'!AE18,Input_Details!$B$34,Input_Details!$B$32)=\"\", \"-\", OFFSET('Raw Data'!AE18,Input_Details!$B$34,Input_Details!$B$32))","v":0},{"$f":"IF(OFFSET('Raw Data'!AF18,Input_Details!$B$34,Input_Details!$B$32)=\"\", \"-\", OFFSET('Raw Data'!AF18,Input_Details!$B$34,Input_Details!$B$32))","v":0},{"$f":"IF(OFFSET('Raw Data'!AG18,Input_Details!$B$34,Input_Details!$B$32)=\"\", \"-\", OFFSET('Raw Data'!AG18,Input_Details!$B$34,Input_Details!$B$32))","v":0},{"$f":"IF(OFFSET('Raw Data'!AH18,Input_Details!$B$34,Input_Details!$B$32)=\"\", \"-\", OFFSET('Raw Data'!AH18,Input_Details!$B$34,Input_Details!$B$32))","v":0},{"$f":"IF(OFFSET('Raw Data'!AI18,Input_Details!$B$34,Input_Details!$B$32)=\"\", \"-\", OFFSET('Raw Data'!AI18,Input_Details!$B$34,Input_Details!$B$32))","v":0},{"$f":"IF(OFFSET('Raw Data'!AJ18,Input_Details!$B$34,Input_Details!$B$32)=\"\", \"-\", OFFSET('Raw Data'!AJ18,Input_Details!$B$34,Input_Details!$B$32))","v":0},{"$f":"IF(OFFSET('Raw Data'!AK18,Input_Details!$B$34,Input_Details!$B$32)=\"\", \"-\", OFFSET('Raw Data'!AK18,Input_Details!$B$34,Input_Details!$B$32))","v":0},{"$f":"IF(OFFSET('Raw Data'!AL18,Input_Details!$B$34,Input_Details!$B$32)=\"\", \"-\", OFFSET('Raw Data'!AL18,Input_Details!$B$34,Input_Details!$B$32))","v":0},{"$f":"IF(OFFSET('Raw Data'!AM18,Input_Details!$B$34,Input_Details!$B$32)=\"\", \"-\", OFFSET('Raw Data'!AM18,Input_Details!$B$34,Input_Details!$B$32))","v":0},null,{"$f":"IF(D40=\"-\",\"-\",OFFSET('Raw Data'!AN18,Input_Details!$B$34,Input_Details!$B$32))","v":15.6},{"$f":"IF(OFFSET('Raw Data'!AO18,Input_Details!$B$34,Input_Details!$B$32)=\"\", \"-\", OFFSET('Raw Data'!AO18,Input_Details!$B$34,Input_Details!$B$32))","v":"-"},{"$f":"IF(OFFSET('Raw Data'!AP18,Input_Details!$B$34,Input_Details!$B$32)=\"\", \"-\", OFFSET('Raw Data'!AP18,Input_Details!$B$34,Input_Details!$B$32))","v":15.5},{"$f":"IF(OFFSET('Raw Data'!AQ18,Input_Details!$B$34,Input_Details!$B$32)=\"\", \"-\", OFFSET('Raw Data'!AQ18,Input_Details!$B$34,Input_Details!$B$32))","v":15.7},null,{"$f":"IF(Y40=\"-\", \"-\", SUM(OFFSET(D40,0,VLOOKUP(Input_Details!$N$3, $AF$3:$AG$12, 2,0)-1):W40))","v":0},0]
[null,"03:45:00",null,{"$f":"IF(OFFSET('Raw Data'!T19,Input_Details!$B$34,Input_Details!$B$32)=\"\", \"-\", OFFSET('Raw Data'!T19,Input_Details!$B$34,Input_Details!$B$32))","v":0},{"$f":"IF(OFFSET('Raw Data'!U19,Input_Details!$B$34,Input_Details!$B$32)=\"\", \"-\", OFFSET('Raw Data'!U19,Input_Details!$B$34,Input_Details!$B$32))","v":0},{"$f":"IF(OFFSET('Raw Data'!V19,Input_Details!$B$34,Input_Details!$B$32)=\"\", \"-\", OFFSET('Raw Data'!V19,Input_Details!$B$34,Input_Details!$B$32))","v":0.2},{"$f":"IF(OFFSET('Raw Data'!W19,Input_Details!$B$34,Input_Details!$B$32)=\"\", \"-\", OFFSET('Raw Data'!W19,Input_Details!$B$34,Input_Details!$B$32))","v":0.2},{"$f":"IF(OFFSET('Raw Data'!X19,Input_Details!$B$34,Input_Details!$B$32)=\"\", \"-\", OFFSET('Raw Data'!X19,Input_Details!$B$34,Input_Details!$B$32))","v":0},{"$f":"IF(OFFSET('Raw Data'!Y19,Input_Details!$B$34,Input_Details!$B$32)=\"\", \"-\", OFFSET('Raw Data'!Y19,Input_Details!$B$34,Input_Details!$B$32))","v":0},{"$f":"IF(OFFSET('Raw Data'!Z19,Input_Details!$B$34,Input_Details!$B$32)=\"\", \"-\", OFFSET('Raw Data'!Z19,Input_Details!$B$34,Input_Details!$B$32))","v":0},{"$f":"IF(OFFSET('Raw Data'!AA19,Input_Details!$B$34,Input_Details!$B$32)=\"\", \"-\", OFFSET('Raw Data'!AA19,Input_Details!$B$34,Input_Details!$B$32))","v":0},{"$f":"IF(OFFSET('Raw Data'!AB19,Input_Details!$B$34,Input_Details!$B$32)=\"\", \"-\", OFFSET('Raw Data'!AB19,Input_Details!$B$34,Input_Details!$B$32))","v":0},{"$f":"IF(OFFSET('Raw Data'!AC19,Input_Details!$B$34,Input_Details!$B$32)=\"\", \"-\", OFFSET('Raw Data'!AC19,Input_Details!$B$34,Input_Details!$B$32))","v":0},{"$f":"IF(OFFSET('Raw Data'!AD19,Input_Details!$B$34,Input_Details!$B$32)=\"\", \"-\", OFFSET('Raw Data'!AD19,Input_Details!$B$34,Input_Details!$B$32))","v":0},{"$f":"IF(OFFSET('Raw Data'!AE19,Input_Details!$B$34,Input_Details!$B$32)=\"\", \"-\", OFFSET('Raw Data'!AE19,Input_Details!$B$34,Input_Details!$B$32))","v":0},{"$f":"IF(OFFSET('Raw Data'!AF19,Input_Details!$B$34,Input_Details!$B$32)=\"\", \"-\", OFFSET('Raw Data'!AF19,Input_Details!$B$34,Input_Details!$B$32))","v":0},{"$f":"IF(OFFSET('Raw Data'!AG19,Input_Details!$B$34,Input_Details!$B$32)=\"\", \"-\", OFFSET('Raw Data'!AG19,Input_Details!$B$34,Input_Details!$B$32))","v":0},{"$f":"IF(OFFSET('Raw Data'!AH19,Input_Details!$B$34,Input_Details!$B$32)=\"\", \"-\", OFFSET('Raw Data'!AH19,Input_Details!$B$34,Input_Details!$B$32))","v":0},{"$f":"IF(OFFSET('Raw Data'!AI19,Input_Details!$B$34,Input_Details!$B$32)=\"\", \"-\", OFFSET('Raw Data'!AI19,Input_Details!$B$34,Input_Details!$B$32))","v":0},{"$f":"IF(OFFSET('Raw Data'!AJ19,Input_Details!$B$34,Input_Details!$B$32)=\"\", \"-\", OFFSET('Raw Data'!AJ19,Input_Details!$B$34,Input_Details!$B$32))","v":0},{"$f":"IF(OFFSET('Raw Data'!AK19,Input_Details!$B$34,Input_Details!$B$32)=\"\", \"-\", OFFSET('Raw Data'!AK19,Input_Details!$B$34,Input_Details!$B$32))","v":0},{"$f":"IF(OFFSET('Raw Data'!AL19,Input_Details!$B$34,Input_Details!$B$32)=\"\", \"-\", OFFSET('Raw Data'!AL19,Input_Details!$B$34,Input_Details!$B$32))","v":0},{"$f":"IF(OFFSET('Raw Data'!AM19,Input_Details!$B$34,Input_Details!$B$32)=\"\", \"-\", OFFSET('Raw Data'!AM19,Input_Details!$B$34,Input_Details!$B$32))","v":0},null,{"$f":"IF(D41=\"-\",\"-\",OFFSET('Raw Data'!AN19,Input_Details!$B$34,Input_Details!$B$32))","v":20},{"$f":"IF(OFFSET('Raw Data'!AO19,Input_Details!$B$34,Input_Details!$B$32)=\"\", \"-\", OFFSET('Raw Data'!AO19,Input_Details!$B$34,Input_Details!$B$32))","v":"-"},{"$f":"IF(OFFSET('Raw Data'!AP19,Input_Details!$B$34,Input_Details!$B$32)=\"\", \"-\", OFFSET('Raw Data'!AP19,Input_Details!$B$34,Input_Details!$B$32))","v":18.5},{"$f":"IF(OFFSET('Raw Data'!AQ19,Input_Details!$B$34,Input_Details!$B$32)=\"\", \"-\", OFFSET('Raw Data'!AQ19,Input_Details!$B$34,Input_Details!$B$32))","v":21.5},null,{"$f":"IF(Y41=\"-\", \"-\", SUM(OFFSET(D41,0,VLOOKUP(Input_Details!$N$3, $AF$3:$AG$12, 2,0)-1):W41))","v":0.2},0.5]
[null,"04:00:00",null,{"$f":"IF(OFFSET('Raw Data'!T20,Input_Details!$B$34,Input_Details!$B$32)=\"\", \"-\", OFFSET('Raw Data'!T20,Input_Details!$B$34,Input_Details!$B$32))","v":0},{"$f":"IF(OFFSET('Raw Data'!U20,Input_Details!$B$34,Input_Details!$B$32)=\"\", \"-\", OFFSET('Raw Data'!U20,Input_Details!$B$34,Input_Details!$B$32))","v":0.2},{"$f":"IF(OFFSET('Raw Data'!V20,Input_Details!$B$34,Input_Details!$B$32)=\"\", \"-\", OFFSET('Raw Data'!V20,Input_Details!$B$34,Input_Details!$B$32))","v":0.2},{"$f":"IF(OFFSET('Raw Data'!W20,Input_Details!$B$34,Input_Details!$B$32)=\"\", \"-\", OFFSET('Raw Data'!W20,Input_Details!$B$34,Input_Details!$B$32))","v":0.4},{"$f":"IF(OFFSET('Raw Data'!X20,Input_Details!$B$34,Input_Details!$B$32)=\"\", \"-\", OFFSET('Raw Data'!X20,Input_Details!$B$34,Input_Details!$B$32))","v":0},{"$f":"IF(OFFSET('Raw Data'!Y20,Input_Details!$B$34,Input_Details!$B$32)=\"\", \"-\", OFFSET('Raw Data'!Y20,Input_Details!$B$34,Input_Details!$B$32))","v":0},{"$f":"IF(OFFSET('Raw Data'!Z20,Input_Details!$B$34,Input_Details!$B$32)=\"\", \"-\", OFFSET('Raw Data'!Z20,Input_Details!$B$34,Input_Details!$B$32))","v":0},{"$f":"IF(OFFSET('Raw Data'!AA20,Input_Details!$B$34,Input_Details!$B$32)=\"\", \"-\", OFFSET('Raw Data'!AA20,Input_Details!$B$34,Input_Details!$B$32))","v":0},{"$f":"IF(OFFSET('Raw Data'!AB20,Input_Details!$B$34,Input_Details!$B$32)=\"\", \"-\", OFFSET('Raw Data'!AB20,Input_Details!$B$34,Input_Details!$B$32))","v":0},{"$f":"IF(OFFSET('Raw Data'!AC20,Input_Details!$B$34,Input_Details!$B$32)=\"\", \"-\", OFFSET('Raw Data'!AC20,Input_Details!$B$34,Input_Details!$B$32))","v":0},{"$f":"IF(OFFSET('Raw Data'!AD20,Input_Details!$B$34,Input_Details!$B$32)=\"\", \"-\", OFFSET('Raw Data'!AD20,Input_Details!$B$34,Input_Details!$B$32))","v":0},{"$f":"IF(OFFSET('Raw Data'!AE20,Input_Details!$B$34,Input_Details!$B$32)=\"\", \"-\", OFFSET('Raw Data'!AE20,Input_Details!$B$34,Input_Details!$B$32))","v":0},{"$f":"IF(OFFSET('Raw Data'!AF20,Input_Details!$B$34,Input_Details!$B$32)=\"\", \"-\", OFFSET('Raw Data'!AF20,Input_Details!$B$34,Input_Details!$B$32))","v":0},{"$f":"IF(OFFSET('Raw Data'!AG20,Input_Details!$B$34,Input_Details!$B$32)=\"\", \"-\", OFFSET('Raw Data'!AG20,Input_Details!$B$34,Input_Details!$B$32))","v":0},{"$f":"IF(OFFSET('Raw Data'!AH20,Input_Details!$B$34,Input_Details!$B$32)=\"\", \"-\", OFFSET('Raw Data'!AH20,Input_Details!$B$34,Input_Details!$B$32))","v":0},{"$f":"IF(OFFSET('Raw Data'!AI20,Input_Details!$B$34,Input_Details!$B$32)=\"\", \"-\", OFFSET('Raw Data'!AI20,Input_Details!$B$34,Input_Details!$B$32))","v":0},{"$f":"IF(OFFSET('Raw Data'!AJ20,Input_Details!$B$34,Input_Details!$B$32)=\"\", \"-\", OFFSET('Raw Data'!AJ20,Input_Details!$B$34,Input_Details!$B$32))","v":0},{"$f":"IF(OFFSET('Raw Data'!AK20,Input_Details!$B$34,Input_Details!$B$32)=\"\", \"-\", OFFSET('Raw Data'!AK20,Input_Details!$B$34,Input_Details!$B$32))","v":0},{"$f":"IF(OFFSET('Raw Data'!AL20,Input_Details!$B$34,Input_Details!$B$32)=\"\", \"-\", OFFSET('Raw Data'!AL20,Input_Details!$B$34,Input_Details!$B$32))","v":0},{"$f":"IF(OFFSET('Raw Data'!AM20,Input_Details!$B$34,Input_Details!$B$32)=\"\", \"-\", OFFSET('Raw Data'!AM20,Input_Details!$B$34,Input_Details!$B$32))","v":0},null,{"$f":"IF(D42=\"-\",\"-\",OFFSET('Raw Data'!AN20,Input_Details!$B$34,Input_Details!$B$32))","v":18},{"$f":"IF(OFFSET('Raw Data'!AO20,Input_Details!$B$34,Input_Details!$B$32)=\"\", \"-\", OFFSET('Raw Data'!AO20,Input_Details!$B$34,Input_Details!$B$32))","v":"-"},{"$f":"IF(OFFSET('Raw Data'!AP20,Input_Details!$B$34,Input_Details!$B$32)=\"\", \"-\", OFFSET('Raw Data'!AP20,Input_Details!$B$34,Input_Details!$B$32))","v":12.9},{"$f":"IF(OFFSET('Raw Data'!AQ20,Input_Details!$B$34,Input_Details!$B$32)=\"\", \"-\", OFFSET('Raw Data'!AQ20,Input_Details!$B$34,Input_Details!$B$32))","v":23.4},null,{"$f":"IF(Y42=\"-\", \"-\", SUM(OFFSET(D42,0,VLOOKUP(Input_Details!$N$3, $AF$3:$AG$12, 2,0)-1):W42))","v":0.4},0.5]
[null,"04:15:00",null,{"$f":"IF(OFFSET('Raw Data'!T21,Input_Details!$B$34,Input_Details!$B$32)=\"\", \"-\", OFFSET('Raw Data'!T21,Input_Details!$B$34,Input_Details!$B$32))","v":0},{"$f":"IF(OFFSET('Raw Data'!U21,Input_Details!$B$34,Input_Details!$B$32)=\"\", \"-\", OFFSET('Raw Data'!U21,Input_Details!$B$34,Input_Details!$B$32))","v":0.2},{"$f":"IF(OFFSET('Raw Data'!V21,Input_Details!$B$34,Input_Details!$B$32)=\"\", \"-\", OFFSET('Raw Data'!V21,Input_Details!$B$34,Input_Details!$B$32))","v":0.2},{"$f":"IF(OFFSET('Raw Data'!W21,Input_Details!$B$34,Input_Details!$B$32)=\"\", \"-\", OFFSET('Raw Data'!W21,Input_Details!$B$34,Input_Details!$B$32))","v":0},{"$f":"IF(OFFSET('Raw Data'!X21,Input_Details!$B$34,Input_Details!$B$32)=\"\", \"-\", OFFSET('Raw Data'!X21,Input_Details!$B$34,Input_Details!$B$32))","v":0},{"$f":"IF(OFFSET('Raw Data'!Y21,Input_Details!$B$34,Input_Details!$B$32)=\"\", \"-\", OFFSET('Raw Data'!Y21,Input_Details!$B$34,Input_Details!$B$32))","v":0},{"$f":"IF(OFFSET('Raw Data'!Z21,Input_Details!$B$34,Input_Details!$B$32)=\"\", \"-\", OFFSET('Raw Data'!Z21,Input_Details!$B$34,Input_Details!$B$32))","v":0},{"$f":"IF(OFFSET('Raw Data'!AA21,Input_Details!$B$34,Input_Details!$B$32)=\"\", \"-\", OFFSET('Raw Data'!AA21,Input_Details!$B$34,Input_Details!$B$32))","v":0},{"$f":"IF(OFFSET('Raw Data'!AB21,Input_Details!$B$34,Input_Details!$B$32)=\"\", \"-\", OFFSET('Raw Data'!AB21,Input_Details!$B$34,Input_Details!$B$32))","v":0},{"$f":"IF(OFFSET('Raw Data'!AC21,Input_Details!$B$34,Input_Details!$B$32)=\"\", \"-\", OFFSET('Raw Data'!AC21,Input_Details!$B$34,Input_Details!$B$32))","v":0},{"$f":"IF(OFFSET('Raw Data'!AD21,Input_Details!$B$34,Input_Details!$B$32)=\"\", \"-\", OFFSET('Raw Data'!AD21,Input_Details!$B$34,Input_Details!$B$32))","v":0},{"$f":"IF(OFFSET('Raw Data'!AE21,Input_Details!$B$34,Input_Details!$B$32)=\"\", \"-\", OFFSET('Raw Data'!AE21,Input_Details!$B$34,Input_Details!$B$32))","v":0},{"$f":"IF(OFFSET('Raw Data'!AF21,Input_Details!$B$34,Input_Details!$B$32)=\"\", \"-\", OFFSET('Raw Data'!AF21,Input_Details!$B$34,Input_Details!$B$32))","v":0},{"$f":"IF(OFFSET('Raw Data'!AG21,Input_Details!$B$34,Input_Details!$B$32)=\"\", \"-\", OFFSET('Raw Data'!AG21,Input_Details!$B$34,Input_Details!$B$32))","v":0},{"$f":"IF(OFFSET('Raw Data'!AH21,Input_Details!$B$34,Input_Details!$B$32)=\"\", \"-\", OFFSET('Raw Data'!AH21,Input_Details!$B$34,Input_Details!$B$32))","v":0},{"$f":"IF(OFFSET('Raw Data'!AI21,Input_Details!$B$34,Input_Details!$B$32)=\"\", \"-\", OFFSET('Raw Data'!AI21,Input_Details!$B$34,Input_Details!$B$32))","v":0},{"$f":"IF(OFFSET('Raw Data'!AJ21,Input_Details!$B$34,Input_Details!$B$32)=\"\", \"-\", OFFSET('Raw Data'!AJ21,Input_Details!$B$34,Input_Details!$B$32))","v":0},{"$f":"IF(OFFSET('Raw Data'!AK21,Input_Details!$B$34,Input_Details!$B$32)=\"\", \"-\", OFFSET('Raw Data'!AK21,Input_Details!$B$34,Input_Details!$B$32))","v":0},{"$f":"IF(OFFSET('Raw Data'!AL21,Input_Details!$B$34,Input_Details!$B$32)=\"\", \"-\", OFFSET('Raw Data'!AL21,Input_Details!$B$34,Input_Details!$B$32))","v":0},{"$f":"IF(OFFSET('Raw Data'!AM21,Input_Details!$B$34,Input_Details!$B$32)=\"\", \"-\", OFFSET('Raw Data'!AM21,Input_Details!$B$34,Input_Details!$B$32))","v":0},null,{"$f":"IF(D43=\"-\",\"-\",OFFSET('Raw Data'!AN21,Input_Details!$B$34,Input_Details!$B$32))","v":16.149999999999999},{"$f":"IF(OFFSET('Raw Data'!AO21,Input_Details!$B$34,Input_Details!$B$32)=\"\", \"-\", OFFSET('Raw Data'!AO21,Input_Details!$B$34,Input_Details!$B$32))","v":"-"},{"$f":"IF(OFFSET('Raw Data'!AP21,Input_Details!$B$34,Input_Details!$B$32)=\"\", \"-\", OFFSET('Raw Data'!AP21,Input_Details!$B$34,Input_Details!$B$32))","v":12.9},{"$f":"IF(OFFSET('Raw Data'!AQ21,Input_Details!$B$34,Input_Details!$B$32)=\"\", \"-\", OFFSET('Raw Data'!AQ21,Input_Details!$B$34,Input_Details!$B$32))","v":19.399999999999999},null,{"$f":"IF(Y43=\"-\", \"-\", SUM(OFFSET(D43,0,VLOOKUP(Input_Details!$N$3, $AF$3:$AG$12, 2,0)-1):W43))","v":0},0]
[null,"04:30:00",null,{"$f":"IF(OFFSET('Raw Data'!T22,Input_Details!$B$34,Input_Details!$B$32)=\"\", \"-\", OFFSET('Raw Data'!T22,Input_Details!$B$34,Input_Details!$B$32))","v":0.2},{"$f":"IF(OFFSET('Raw Data'!U22,Input_Details!$B$34,Input_Details!$B$32)=\"\", \"-\", OFFSET('Raw Data'!U22,Input_Details!$B$34,Input_Details!$B$32))","v":0.2},{"$f":"IF(OFFSET('Raw Data'!V22,Input_Details!$B$34,Input_Details!$B$32)=\"\", \"-\", OFFSET('Raw Data'!V22,Input_Details!$B$34,Input_Details!$B$32))","v":0.2},{"$f":"IF(OFFSET('Raw Data'!W22,Input_Details!$B$34,Input_Details!$B$32)=\"\", \"-\", OFFSET('Raw Data'!W22,Input_Details!$B$34,Input_Details!$B$32))","v":0},{"$f":"IF(OFFSET('Raw Data'!X22,Input_Details!$B$34,Input_Details!$B$32)=\"\", \"-\", OFFSET('Raw Data'!X22,Input_Details!$B$34,Input_Details!$B$32))","v":0},{"$f":"IF(OFFSET('Raw Data'!Y22,Input_Details!$B$34,Input_Details!$B$32)=\"\", \"-\", OFFSET('Raw Data'!Y22,Input_Details!$B$34,Input_Details!$B$32))","v":0},{"$f":"IF(OFFSET('Raw Data'!Z22,Input_Details!$B$34,Input_Details!$B$32)=\"\", \"-\", OFFSET('Raw Data'!Z22,Input_Details!$B$34,Input_Details!$B$32))","v":0},{"$f":"IF(OFFSET('Raw Data'!AA22,Input_Details!$B$34,Input_Details!$B$32)=\"\", \"-\", OFFSET('Raw Data'!AA22,Input_Details!$B$34,Input_Details!$B$32))","v":0},{"$f":"IF(OFFSET('Raw Data'!AB22,Input_Details!$B$34,Input_Details!$B$32)=\"\", \"-\", OFFSET('Raw Data'!AB22,Input_Details!$B$34,Input_Details!$B$32))","v":0},{"$f":"IF(OFFSET('Raw Data'!AC22,Input_Details!$B$34,Input_Details!$B$32)=\"\", \"-\", OFFSET('Raw Data'!AC22,Input_Details!$B$34,Input_Details!$B$32))","v":0},{"$f":"IF(OFFSET('Raw Data'!AD22,Input_Details!$B$34,Input_Details!$B$32)=\"\", \"-\", OFFSET('Raw Data'!AD22,Input_Details!$B$34,Input_Details!$B$32))","v":0},{"$f":"IF(OFFSET('Raw Data'!AE22,Input_Details!$B$34,Input_Details!$B$32)=\"\", \"-\", OFFSET('Raw Data'!AE22,Input_Details!$B$34,Input_Details!$B$32))","v":0},{"$f":"IF(OFFSET('Raw Data'!AF22,Input_Details!$B$34,Input_Details!$B$32)=\"\", \"-\", OFFSET('Raw Data'!AF22,Input_Details!$B$34,Input_Details!$B$32))","v":0},{"$f":"IF(OFFSET('Raw Data'!AG22,Input_Details!$B$34,Input_Details!$B$32)=\"\", \"-\", OFFSET('Raw Data'!AG22,Input_Details!$B$34,Input_Details!$B$32))","v":0},{"$f":"IF(OFFSET('Raw Data'!AH22,Input_Details!$B$34,Input_Details!$B$32)=\"\", \"-\", OFFSET('Raw Data'!AH22,Input_Details!$B$34,Input_Details!$B$32))","v":0},{"$f":"IF(OFFSET('Raw Data'!AI22,Input_Details!$B$34,Input_Details!$B$32)=\"\", \"-\", OFFSET('Raw Data'!AI22,Input_Details!$B$34,Input_Details!$B$32))","v":0},{"$f":"IF(OFFSET('Raw Data'!AJ22,Input_Details!$B$34,Input_Details!$B$32)=\"\", \"-\", OFFSET('Raw Data'!AJ22,Input_Details!$B$34,Input_Details!$B$32))","v":0},{"$f":"IF(OFFSET('Raw Data'!AK22,Input_Details!$B$34,Input_Details!$B$32)=\"\", \"-\", OFFSET('Raw Data'!AK22,Input_Details!$B$34,Input_Details!$B$32))","v":0},{"$f":"IF(OFFSET('Raw Data'!AL22,Input_Details!$B$34,Input_Details!$B$32)=\"\", \"-\", OFFSET('Raw Data'!AL22,Input_Details!$B$34,Input_Details!$B$32))","v":0},{"$f":"IF(OFFSET('Raw Data'!AM22,Input_Details!$B$34,Input_Details!$B$32)=\"\", \"-\", OFFSET('Raw Data'!AM22,Input_Details!$B$34,Input_Details!$B$32))","v":0},null,{"$f":"IF(D44=\"-\",\"-\",OFFSET('Raw Data'!AN22,Input_Details!$B$34,Input_Details!$B$32))","v":12.8},{"$f":"IF(OFFSET('Raw Data'!AO22,Input_Details!$B$34,Input_Details!$B$32)=\"\", \"-\", OFFSET('Raw Data'!AO22,Input_Details!$B$34,Input_Details!$B$32))","v":"-"},{"$f":"IF(OFFSET('Raw Data'!AP22,Input_Details!$B$34,Input_Details!$B$32)=\"\", \"-\", OFFSET('Raw Data'!AP22,Input_Details!$B$34,Input_Details!$B$32))","v":8.4},{"$f":"IF(OFFSET('Raw Data'!AQ22,Input_Details!$B$34,Input_Details!$B$32)=\"\", \"-\", OFFSET('Raw Data'!AQ22,Input_Details!$B$34,Input_Details!$B$32))","v":15.5},null,{"$f":"IF(Y44=\"-\", \"-\", SUM(OFFSET(D44,0,VLOOKUP(Input_Details!$N$3, $AF$3:$AG$12, 2,0)-1):W44))","v":0},0]
[null,"04:45:00",null,{"$f":"IF(OFFSET('Raw Data'!T23,Input_Details!$B$34,Input_Details!$B$32)=\"\", \"-\", OFFSET('Raw Data'!T23,Input_Details!$B$34,Input_Details!$B$32))","v":0},{"$f":"IF(OFFSET('Raw Data'!U23,Input_Details!$B$34,Input_Details!$B$32)=\"\", \"-\", OFFSET('Raw Data'!U23,Input_Details!$B$34,Input_Details!$B$32))","v":0},{"$f":"IF(OFFSET('Raw Data'!V23,Input_Details!$B$34,Input_Details!$B$32)=\"\", \"-\", OFFSET('Raw Data'!V23,Input_Details!$B$34,Input_Details!$B$32))","v":0.4},{"$f":"IF(OFFSET('Raw Data'!W23,Input_Details!$B$34,Input_Details!$B$32)=\"\", \"-\", OFFSET('Raw Data'!W23,Input_Details!$B$34,Input_Details!$B$32))","v":0},{"$f":"IF(OFFSET('Raw Data'!X23,Input_Details!$B$34,Input_Details!$B$32)=\"\", \"-\", OFFSET('Raw Data'!X23,Input_Details!$B$34,Input_Details!$B$32))","v":0},{"$f":"IF(OFFSET('Raw Data'!Y23,Input_Details!$B$34,Input_Details!$B$32)=\"\", \"-\", OFFSET('Raw Data'!Y23,Input_Details!$B$34,Input_Details!$B$32))","v":0},{"$f":"IF(OFFSET('Raw Data'!Z23,Input_Details!$B$34,Input_Details!$B$32)=\"\", \"-\", OFFSET('Raw Data'!Z23,Input_Details!$B$34,Input_Details!$B$32))","v":0},{"$f":"IF(OFFSET('Raw Data'!AA23,Input_Details!$B$34,Input_Details!$B$32)=\"\", \"-\", OFFSET('Raw Data'!AA23,Input_Details!$B$34,Input_Details!$B$32))","v":0},{"$f":"IF(OFFSET('Raw Data'!AB23,Input_Details!$B$34,Input_Details!$B$32)=\"\", \"-\", OFFSET('Raw Data'!AB23,Input_Details!$B$34,Input_Details!$B$32))","v":0},{"$f":"IF(OFFSET('Raw Data'!AC23,Input_Details!$B$34,Input_Details!$B$32)=\"\", \"-\", OFFSET('Raw Data'!AC23,Input_Details!$B$34,Input_Details!$B$32))","v":0},{"$f":"IF(OFFSET('Raw Data'!AD23,Input_Details!$B$34,Input_Details!$B$32)=\"\", \"-\", OFFSET('Raw Data'!AD23,Input_Details!$B$34,Input_Details!$B$32))","v":0},{"$f":"IF(OFFSET('Raw Data'!AE23,Input_Details!$B$34,Input_Details!$B$32)=\"\", \"-\", OFFSET('Raw Data'!AE23,Input_Details!$B$34,Input_Details!$B$32))","v":0},{"$f":"IF(OFFSET('Raw Data'!AF23,Input_Details!$B$34,Input_Details!$B$32)=\"\", \"-\", OFFSET('Raw Data'!AF23,Input_Details!$B$34,Input_Details!$B$32))","v":0},{"$f":"IF(OFFSET('Raw Data'!AG23,Input_Details!$B$34,Input_Details!$B$32)=\"\", \"-\", OFFSET('Raw Data'!AG23,Input_Details!$B$34,Input_Details!$B$32))","v":0},{"$f":"IF(OFFSET('Raw Data'!AH23,Input_Details!$B$34,Input_Details!$B$32)=\"\", \"-\", OFFSET('Raw Data'!AH23,Input_Details!$B$34,Input_Details!$B$32))","v":0},{"$f":"IF(OFFSET('Raw Data'!AI23,Input_Details!$B$34,Input_Details!$B$32)=\"\", \"-\", OFFSET('Raw Data'!AI23,Input_Details!$B$34,Input_Details!$B$32))","v":0},{"$f":"IF(OFFSET('Raw Data'!AJ23,Input_Details!$B$34,Input_Details!$B$32)=\"\", \"-\", OFFSET('Raw Data'!AJ23,Input_Details!$B$34,Input_Details!$B$32))","v":0},{"$f":"IF(OFFSET('Raw Data'!AK23,Input_Details!$B$34,Input_Details!$B$32)=\"\", \"-\", OFFSET('Raw Data'!AK23,Input_Details!$B$34,Input_Details!$B$32))","v":0},{"$f":"IF(OFFSET('Raw Data'!AL23,Input_Details!$B$34,Input_Details!$B$32)=\"\", \"-\", OFFSET('Raw Data'!AL23,Input_Details!$B$34,Input_Details!$B$32))","v":0},{"$f":"IF(OFFSET('Raw Data'!AM23,Input_Details!$B$34,Input_Details!$B$32)=\"\", \"-\", OFFSET('Raw Data'!AM23,Input_Details!$B$34,Input_Details!$B$32))","v":0},null,{"$f":"IF(D45=\"-\",\"-\",OFFSET('Raw Data'!AN23,Input_Details!$B$34,Input_Details!$B$32))","v":19},{"$f":"IF(OFFSET('Raw Data'!AO23,Input_Details!$B$34,Input_Details!$B$32)=\"\", \"-\", OFFSET('Raw Data'!AO23,Input_Details!$B$34,Input_Details!$B$32))","v":"-"},{"$f":"IF(OFFSET('Raw Data'!AP23,Input_Details!$B$34,Input_Details!$B$32)=\"\", \"-\", OFFSET('Raw Data'!AP23,Input_Details!$B$34,Input_Details!$B$32))","v":18},{"$f":"IF(OFFSET('Raw Data'!AQ23,Input_Details!$B$34,Input_Details!$B$32)=\"\", \"-\", OFFSET('Raw Data'!AQ23,Input_Details!$B$34,Input_Details!$B$32))","v":19.899999999999999},null,{"$f":"IF(Y45=\"-\", \"-\", SUM(OFFSET(D45,0,VLOOKUP(Input_Details!$N$3, $AF$3:$AG$12, 2,0)-1):W45))","v":0},0]
[null,"05:00:00",null,{"$f":"IF(OFFSET('Raw Data'!T24,Input_Details!$B$34,Input_Details!$B$32)=\"\", \"-\", OFFSET('Raw Data'!T24,Input_Details!$B$34,Input_Details!$B$32))","v":0},{"$f":"IF(OFFSET('Raw Data'!U24,Input_Details!$B$34,Input_Details!$B$32)=\"\", \"-\", OFFSET('Raw Data'!U24,Input_Details!$B$34,Input_Details!$B$32))","v":0.4},{"$f":"IF(OFFSET('Raw Data'!V24,Input_Details!$B$34,Input_Details!$B$32)=\"\", \"-\", OFFSET('Raw Data'!V24,Input_Details!$B$34,Input_Details!$B$32))","v":1.2},{"$f":"IF(OFFSET('Raw Data'!W24,Input_Details!$B$34,Input_Details!$B$32)=\"\", \"-\", OFFSET('Raw Data'!W24,Input_Details!$B$34,Input_Details!$B$32))","v":0.4},{"$f":"IF(OFFSET('Raw Data'!X24,Input_Details!$B$34,Input_Details!$B$32)=\"\", \"-\", OFFSET('Raw Data'!X24,Input_Details!$B$34,Input_Details!$B$32))","v":0},{"$f":"IF(OFFSET('Raw Data'!Y24,Input_Details!$B$34,Input_Details!$B$32)=\"\", \"-\", OFFSET('Raw Data'!Y24,Input_Details!$B$34,Input_Details!$B$32))","v":0},{"$f":"IF(OFFSET('Raw Data'!Z24,Input_Details!$B$34,Input_Details!$B$32)=\"\", \"-\", OFFSET('Raw Data'!Z24,Input_Details!$B$34,Input_Details!$B$32))","v":0},{"$f":"IF(OFFSET('Raw Data'!AA24,Input_Details!$B$34,Input_Details!$B$32)=\"\", \"-\", OFFSET('Raw Data'!AA24,Input_Details!$B$34,Input_Details!$B$32))","v":0},{"$f":"IF(OFFSET('Raw Data'!AB24,Input_Details!$B$34,Input_Details!$B$32)=\"\", \"-\", OFFSET('Raw Data'!AB24,Input_Details!$B$34,Input_Details!$B$32))","v":0},{"$f":"IF(OFFSET('Raw Data'!AC24,Input_Details!$B$34,Input_Details!$B$32)=\"\", \"-\", OFFSET('Raw Data'!AC24,Input_Details!$B$34,Input_Details!$B$32))","v":0},{"$f":"IF(OFFSET('Raw Data'!AD24,Input_Details!$B$34,Input_Details!$B$32)=\"\", \"-\", OFFSET('Raw Data'!AD24,Input_Details!$B$34,Input_Details!$B$32))","v":0},{"$f":"IF(OFFSET('Raw Data'!AE24,Input_Details!$B$34,Input_Details!$B$32)=\"\", \"-\", OFFSET('Raw Data'!AE24,Input_Details!$B$34,Input_Details!$B$32))","v":0},{"$f":"IF(OFFSET('Raw Data'!AF24,Input_Details!$B$34,Input_Details!$B$32)=\"\", \"-\", OFFSET('Raw Data'!AF24,Input_Details!$B$34,Input_Details!$B$32))","v":0},{"$f":"IF(OFFSET('Raw Data'!AG24,Input_Details!$B$34,Input_Details!$B$32)=\"\", \"-\", OFFSET('Raw Data'!AG24,Input_Details!$B$34,Input_Details!$B$32))","v":0},{"$f":"IF(OFFSET('Raw Data'!AH24,Input_Details!$B$34,Input_Details!$B$32)=\"\", \"-\", OFFSET('Raw Data'!AH24,Input_Details!$B$34,Input_Details!$B$32))","v":0},{"$f":"IF(OFFSET('Raw Data'!AI24,Input_Details!$B$34,Input_Details!$B$32)=\"\", \"-\", OFFSET('Raw Data'!AI24,Input_Details!$B$34,Input_Details!$B$32))","v":0},{"$f":"IF(OFFSET('Raw Data'!AJ24,Input_Details!$B$34,Input_Details!$B$32)=\"\", \"-\", OFFSET('Raw Data'!AJ24,Input_Details!$B$34,Input_Details!$B$32))","v":0},{"$f":"IF(OFFSET('Raw Data'!AK24,Input_Details!$B$34,Input_Details!$B$32)=\"\", \"-\", OFFSET('Raw Data'!AK24,Input_Details!$B$34,Input_Details!$B$32))","v":0},{"$f":"IF(OFFSET('Raw Data'!AL24,Input_Details!$B$34,Input_Details!$B$32)=\"\", \"-\", OFFSET('Raw Data'!AL24,Input_Details!$B$34,Input_Details!$B$32))","v":0},{"$f":"IF(OFFSET('Raw Data'!AM24,Input_Details!$B$34,Input_Details!$B$32)=\"\", \"-\", OFFSET('Raw Data'!AM24,Input_Details!$B$34,Input_Details!$B$32))","v":0},null,{"$f":"IF(D46=\"-\",\"-\",OFFSET('Raw Data'!AN24,Input_Details!$B$34,Input_Details!$B$32))","v":16.98},{"$f":"IF(OFFSET('Raw Data'!AO24,Input_Details!$B$34,Input_Details!$B$32)=\"\", \"-\", OFFSET('Raw Data'!AO24,Input_Details!$B$34,Input_Details!$B$32))","v":"-"},{"$f":"IF(OFFSET('Raw Data'!AP24,Input_Details!$B$34,Input_Details!$B$32)=\"\", \"-\", OFFSET('Raw Data'!AP24,Input_Details!$B$34,Input_Details!$B$32))","v":12.6},{"$f":"IF(OFFSET('Raw Data'!AQ24,Input_Details!$B$34,Input_Details!$B$32)=\"\", \"-\", OFFSET('Raw Data'!AQ24,Input_Details!$B$34,Input_Details!$B$32))","v":21.8},null,{"$f":"IF(Y46=\"-\", \"-\", SUM(OFFSET(D46,0,VLOOKUP(Input_Details!$N$3, $AF$3:$AG$12, 2,0)-1):W46))","v":0.4},0.2]
[null,"05:15:00",null,{"$f":"IF(OFFSET('Raw Data'!T25,Input_Details!$B$34,Input_Details!$B$32)=\"\", \"-\", OFFSET('Raw Data'!T25,Input_Details!$B$34,Input_Details!$B$32))","v":0},{"$f":"IF(OFFSET('Raw Data'!U25,Input_Details!$B$34,Input_Details!$B$32)=\"\", \"-\", OFFSET('Raw Data'!U25,Input_Details!$B$34,Input_Details!$B$32))","v":0.8},{"$f":"IF(OFFSET('Raw Data'!V25,Input_Details!$B$34,Input_Details!$B$32)=\"\", \"-\", OFFSET('Raw Data'!V25,Input_Details!$B$34,Input_Details!$B$32))","v":0.6},{"$f":"IF(OFFSET('Raw Data'!W25,Input_Details!$B$34,Input_Details!$B$32)=\"\", \"-\", OFFSET('Raw Data'!W25,Input_Details!$B$34,Input_Details!$B$32))","v":0.6},{"$f":"IF(OFFSET('Raw Data'!X25,Input_Details!$B$34,Input_Details!$B$32)=\"\", \"-\", OFFSET('Raw Data'!X25,Input_Details!$B$34,Input_Details!$B$32))","v":0},{"$f":"IF(OFFSET('Raw Data'!Y25,Input_Details!$B$34,Input_Details!$B$32)=\"\", \"-\", OFFSET('Raw Data'!Y25,Input_Details!$B$34,Input_Details!$B$32))","v":0},{"$f":"IF(OFFSET('Raw Data'!Z25,Input_Details!$B$34,Input_Details!$B$32)=\"\", \"-\", OFFSET('Raw Data'!Z25,Input_Details!$B$34,Input_Details!$B$32))","v":0},{"$f":"IF(OFFSET('Raw Data'!AA25,Input_Details!$B$34,Input_Details!$B$32)=\"\", \"-\", OFFSET('Raw Data'!AA25,Input_Details!$B$34,Input_Details!$B$32))","v":0},{"$f":"IF(OFFSET('Raw Data'!AB25,Input_Details!$B$34,Input_Details!$B$32)=\"\", \"-\", OFFSET('Raw Data'!AB25,Input_Details!$B$34,Input_Details!$B$32))","v":0},{"$f":"IF(OFFSET('Raw Data'!AC25,Input_Details!$B$34,Input_Details!$B$32)=\"\", \"-\", OFFSET('Raw Data'!AC25,Input_Details!$B$34,Input_Details!$B$32))","v":0},{"$f":"IF(OFFSET('Raw Data'!AD25,Input_Details!$B$34,Input_Details!$B$32)=\"\", \"-\", OFFSET('Raw Data'!AD25,Input_Details!$B$34,Input_Details!$B$32))","v":0},{"$f":"IF(OFFSET('Raw Data'!AE25,Input_Details!$B$34,Input_Details!$B$32)=\"\", \"-\", OFFSET('Raw Data'!AE25,Input_Details!$B$34,Input_Details!$B$32))","v":0},{"$f":"IF(OFFSET('Raw Data'!AF25,Input_Details!$B$34,Input_Details!$B$32)=\"\", \"-\", OFFSET('Raw Data'!AF25,Input_Details!$B$34,Input_Details!$B$32))","v":0},{"$f":"IF(OFFSET('Raw Data'!AG25,Input_Details!$B$34,Input_Details!$B$32)=\"\", \"-\", OFFSET('Raw Data'!AG25,Input_Details!$B$34,Input_Details!$B$32))","v":0},{"$f":"IF(OFFSET('Raw Data'!AH25,Input_Details!$B$34,Input_Details!$B$32)=\"\", \"-\", OFFSET('Raw Data'!AH25,Input_Details!$B$34,Input_Details!$B$32))","v":0},{"$f":"IF(OFFSET('Raw Data'!AI25,Input_Details!$B$34,Input_Details!$B$32)=\"\", \"-\", OFFSET('Raw Data'!AI25,Input_Details!$B$34,Input_Details!$B$32))","v":0},{"$f":"IF(OFFSET('Raw Data'!AJ25,Input_Details!$B$34,Input_Details!$B$32)=\"\", \"-\", OFFSET('Raw Data'!AJ25,Input_Details!$B$34,Input_Details!$B$32))","v":0},{"$f":"IF(OFFSET('Raw Data'!AK25,Input_Details!$B$34,Input_Details!$B$32)=\"\", \"-\", OFFSET('Raw Data'!AK25,Input_Details!$B$34,Input_Details!$B$32))","v":0},{"$f":"IF(OFFSET('Raw Data'!AL25,Input_Details!$B$34,Input_Details!$B$32)=\"\", \"-\", OFFSET('Raw Data'!AL25,Input_Details!$B$34,Input_Details!$B$32))","v":0},{"$f":"IF(OFFSET('Raw Data'!AM25,Input_Details!$B$34,Input_Details!$B$32)=\"\", \"-\", OFFSET('Raw Data'!AM25,Input_Details!$B$34,Input_Details!$B$32))","v":0},null,{"$f":"IF(D47=\"-\",\"-\",OFFSET('Raw Data'!AN25,Input_Details!$B$34,Input_Details!$B$32))","v":17.080000000000002},{"$f":"IF(OFFSET('Raw Data'!AO25,Input_Details!$B$34,Input_Details!$B$32)=\"\", \"-\", OFFSET('Raw Data'!AO25,Input_Details!$B$34,Input_Details!$B$32))","v":"-"},{"$f":"IF(OFFSET('Raw Data'!AP25,Input_Details!$B$34,Input_Details!$B$32)=\"\", \"-\", OFFSET('Raw Data'!AP25,Input_Details!$B$34,Input_Details!$B$32))","v":12.4},{"$f":"IF(OFFSET('Raw Data'!AQ25,Input_Details!$B$34,Input_Details!$B$32)=\"\", \"-\", OFFSET('Raw Data'!AQ25,Input_Details!$B$34,Input_Details!$B$32))","v":21.8},null,{"$f":"IF(Y47=\"-\", \"-\", SUM(OFFSET(D47,0,VLOOKUP(Input_Details!$N$3, $AF$3:$AG$12, 2,0)-1):W47))","v":0.6},0.3]
[null,"05:30:00",null,{"$f":"IF(OFFSET('Raw Data'!T26,Input_Details!$B$34,Input_Details!$B$32)=\"\", \"-\", OFFSET('Raw Data'!T26,Input_Details!$B$34,Input_Details!$B$32))","v":0.2},{"$f":"IF(OFFSET('Raw Data'!U26,Input_Details!$B$34,Input_Details!$B$32)=\"\", \"-\", OFFSET('Raw Data'!U26,Input_Details!$B$34,Input_Details!$B$32))","v":1.2},{"$f":"IF(OFFSET('Raw Data'!V26,Input_Details!$B$34,Input_Details!$B$32)=\"\", \"-\", OFFSET('Raw Data'!V26,Input_Details!$B$34,Input_Details!$B$32))","v":0.6},{"$f":"IF(OFFSET('Raw Data'!W26,Input_Details!$B$34,Input_Details!$B$32)=\"\", \"-\", OFFSET('Raw Data'!W26,Input_Details!$B$34,Input_Details!$B$32))","v":0.4},{"$f":"IF(OFFSET('Raw Data'!X26,Input_Details!$B$34,Input_Details!$B$32)=\"\", \"-\", OFFSET('Raw Data'!X26,Input_Details!$B$34,Input_Details!$B$32))","v":0},{"$f":"IF(OFFSET('Raw Data'!Y26,Input_Details!$B$34,Input_Details!$B$32)=\"\", \"-\", OFFSET('Raw Data'!Y26,Input_Details!$B$34,Input_Details!$B$32))","v":0},{"$f":"IF(OFFSET('Raw Data'!Z26,Input_Details!$B$34,Input_Details!$B$32)=\"\", \"-\", OFFSET('Raw Data'!Z26,Input_Details!$B$34,Input_Details!$B$32))","v":0},{"$f":"IF(OFFSET('Raw Data'!AA26,Input_Details!$B$34,Input_Details!$B$32)=\"\", \"-\", OFFSET('Raw Data'!AA26,Input_Details!$B$34,Input_Details!$B$32))","v":0},{"$f":"IF(OFFSET('Raw Data'!AB26,Input_Details!$B$34,Input_Details!$B$32)=\"\", \"-\", OFFSET('Raw Data'!AB26,Input_Details!$B$34,Input_Details!$B$32))","v":0},{"$f":"IF(OFFSET('Raw Data'!AC26,Input_Details!$B$34,Input_Details!$B$32)=\"\", \"-\", OFFSET('Raw Data'!AC26,Input_Details!$B$34,Input_Details!$B$32))","v":0},{"$f":"IF(OFFSET('Raw Data'!AD26,Input_Details!$B$34,Input_Details!$B$32)=\"\", \"-\", OFFSET('Raw Data'!AD26,Input_Details!$B$34,Input_Details!$B$32))","v":0},{"$f":"IF(OFFSET('Raw Data'!AE26,Input_Details!$B$34,Input_Details!$B$32)=\"\", \"-\", OFFSET('Raw Data'!AE26,Input_Details!$B$34,Input_Details!$B$32))","v":0},{"$f":"IF(OFFSET('Raw Data'!AF26,Input_Details!$B$34,Input_Details!$B$32)=\"\", \"-\", OFFSET('Raw Data'!AF26,Input_Details!$B$34,Input_Details!$B$32))","v":0},{"$f":"IF(OFFSET('Raw Data'!AG26,Input_Details!$B$34,Input_Details!$B$32)=\"\", \"-\", OFFSET('Raw Data'!AG26,Input_Details!$B$34,Input_Details!$B$32))","v":0},{"$f":"IF(OFFSET('Raw Data'!AH26,Input_Details!$B$34,Input_Details!$B$32)=\"\", \"-\", OFFSET('Raw Data'!AH26,Input_Details!$B$34,Input_Details!$B$32))","v":0},{"$f":"IF(OFFSET('Raw Data'!AI26,Input_Details!$B$34,Input_Details!$B$32)=\"\", \"-\", OFFSET('Raw Data'!AI26,Input_Details!$B$34,Input_Details!$B$32))","v":0},{"$f":"IF(OFFSET('Raw Data'!AJ26,Input_Details!$B$34,Input_Details!$B$32)=\"\", \"-\", OFFSET('Raw Data'!AJ26,Input_Details!$B$34,Input_Details!$B$32))","v":0},{"$f":"IF(OFFSET('Raw Data'!AK26,Input_Details!$B$34,Input_Details!$B$32)=\"\", \"-\", OFFSET('Raw Data'!AK26,Input_Details!$B$34,Input_Details!$B$32))","v":0},{"$f":"IF(OFFSET('Raw Data'!AL26,Input_Details!$B$34,Input_Details!$B$32)=\"\", \"-\", OFFSET('Raw Data'!AL26,Input_Details!$B$34,Input_Details!$B$32))","v":0},{"$f":"IF(OFFSET('Raw Data'!AM26,Input_Details!$B$34,Input_Details!$B$32)=\"\", \"-\", OFFSET('Raw Data'!AM26,Input_Details!$B$34,Input_Details!$B$32))","v":0},null,{"$f":"IF(D48=\"-\",\"-\",OFFSET('Raw Data'!AN26,Input_Details!$B$34,Input_Details!$B$32))","v":14.179999999999998},{"$f":"IF(OFFSET('Raw Data'!AO26,Input_Details!$B$34,Input_Details!$B$32)=\"\", \"-\", OFFSET('Raw Data'!AO26,Input_Details!$B$34,Input_Details!$B$32))","v":"-"},{"$f":"IF(OFFSET('Raw Data'!AP26,Input_Details!$B$34,Input_Details!$B$32)=\"\", \"-\", OFFSET('Raw Data'!AP26,Input_Details!$B$34,Input_Details!$B$32))","v":9.6999999999999993},{"$f":"IF(OFFSET('Raw Data'!AQ26,Input_Details!$B$34,Input_Details!$B$32)=\"\", \"-\", OFFSET('Raw Data'!AQ26,Input_Details!$B$34,Input_Details!$B$32))","v":21.6},null,{"$f":"IF(Y48=\"-\", \"-\", SUM(OFFSET(D48,0,VLOOKUP(Input_Details!$N$3, $AF$3:$AG$12, 2,0)-1):W48))","v":0.4},0.16666666666666669]
[null,"05:45:00",null,{"$f":"IF(OFFSET('Raw Data'!T27,Input_Details!$B$34,Input_Details!$B$32)=\"\", \"-\", OFFSET('Raw Data'!T27,Input_Details!$B$34,Input_Details!$B$32))","v":0},{"$f":"IF(OFFSET('Raw Data'!U27,Input_Details!$B$34,Input_Details!$B$32)=\"\", \"-\", OFFSET('Raw Data'!U27,Input_Details!$B$34,Input_Details!$B$32))","v":2},{"$f":"IF(OFFSET('Raw Data'!V27,Input_Details!$B$34,Input_Details!$B$32)=\"\", \"-\", OFFSET('Raw Data'!V27,Input_Details!$B$34,Input_Details!$B$32))","v":0.6},{"$f":"IF(OFFSET('Raw Data'!W27,Input_Details!$B$34,Input_Details!$B$32)=\"\", \"-\", OFFSET('Raw Data'!W27,Input_Details!$B$34,Input_Details!$B$32))","v":0.4},{"$f":"IF(OFFSET('Raw Data'!X27,Input_Details!$B$34,Input_Details!$B$32)=\"\", \"-\", OFFSET('Raw Data'!X27,Input_Details!$B$34,Input_Details!$B$32))","v":0},{"$f":"IF(OFFSET('Raw Data'!Y27,Input_Details!$B$34,Input_Details!$B$32)=\"\", \"-\", OFFSET('Raw Data'!Y27,Input_Details!$B$34,Input_Details!$B$32))","v":0},{"$f":"IF(OFFSET('Raw Data'!Z27,Input_Details!$B$34,Input_Details!$B$32)=\"\", \"-\", OFFSET('Raw Data'!Z27,Input_Details!$B$34,Input_Details!$B$32))","v":0},{"$f":"IF(OFFSET('Raw Data'!AA27,Input_Details!$B$34,Input_Details!$B$32)=\"\", \"-\", OFFSET('Raw Data'!AA27,Input_Details!$B$34,Input_Details!$B$32))","v":0},{"$f":"IF(OFFSET('Raw Data'!AB27,Input_Details!$B$34,Input_Details!$B$32)=\"\", \"-\", OFFSET('Raw Data'!AB27,Input_Details!$B$34,Input_Details!$B$32))","v":0},{"$f":"IF(OFFSET('Raw Data'!AC27,Input_Details!$B$34,Input_Details!$B$32)=\"\", \"-\", OFFSET('Raw Data'!AC27,Input_Details!$B$34,Input_Details!$B$32))","v":0},{"$f":"IF(OFFSET('Raw Data'!AD27,Input_Details!$B$34,Input_Details!$B$32)=\"\", \"-\", OFFSET('Raw Data'!AD27,Input_Details!$B$34,Input_Details!$B$32))","v":0},{"$f":"IF(OFFSET('Raw Data'!AE27,Input_Details!$B$34,Input_Details!$B$32)=\"\", \"-\", OFFSET('Raw Data'!AE27,Input_Details!$B$34,Input_Details!$B$32))","v":0},{"$f":"IF(OFFSET('Raw Data'!AF27,Input_Details!$B$34,Input_Details!$B$32)=\"\", \"-\", OFFSET('Raw Data'!AF27,Input_Details!$B$34,Input_Details!$B$32))","v":0},{"$f":"IF(OFFSET('Raw Data'!AG27,Input_Details!$B$34,Input_Details!$B$32)=\"\", \"-\", OFFSET('Raw Data'!AG27,Input_Details!$B$34,Input_Details!$B$32))","v":0},{"$f":"IF(OFFSET('Raw Data'!AH27,Input_Details!$B$34,Input_Details!$B$32)=\"\", \"-\", OFFSET('Raw Data'!AH27,Input_Details!$B$34,Input_Details!$B$32))","v":0},{"$f":"IF(OFFSET('Raw Data'!AI27,Input_Details!$B$34,Input_Details!$B$32)=\"\", \"-\", OFFSET('Raw Data'!AI27,Input_Details!$B$34,Input_Details!$B$32))","v":0},{"$f":"IF(OFFSET('Raw Data'!AJ27,Input_Details!$B$34,Input_Details!$B$32)=\"\", \"-\", OFFSET('Raw Data'!AJ27,Input_Details!$B$34,Input_Details!$B$32))","v":0},{"$f":"IF(OFFSET('Raw Data'!AK27,Input_Details!$B$34,Input_Details!$B$32)=\"\", \"-\", OFFSET('Raw Data'!AK27,Input_Details!$B$34,Input_Details!$B$32))","v":0},{"$f":"IF(OFFSET('Raw Data'!AL27,Input_Details!$B$34,Input_Details!$B$32)=\"\", \"-\", OFFSET('Raw Data'!AL27,Input_Details!$B$34,Input_Details!$B$32))","v":0},{"$f":"IF(OFFSET('Raw Data'!AM27,Input_Details!$B$34,Input_Details!$B$32)=\"\", \"-\", OFFSET('Raw Data'!AM27,Input_Details!$B$34,Input_Details!$B$32))","v":0},null,{"$f":"IF(D49=\"-\",\"-\",OFFSET('Raw Data'!AN27,Input_Details!$B$34,Input_Details!$B$32))","v":15.420000000000002},{"$f":"IF(OFFSET('Raw Data'!AO27,Input_Details!$B$34,Input_Details!$B$32)=\"\", \"-\", OFFSET('Raw Data'!AO27,Input_Details!$B$34,Input_Details!$B$32))","v":"-"},{"$f":"IF(OFFSET('Raw Data'!AP27,Input_Details!$B$34,Input_Details!$B$32)=\"\", \"-\", OFFSET('Raw Data'!AP27,Input_Details!$B$34,Input_Details!$B$32))","v":11.7},{"$f":"IF(OFFSET('Raw Data'!AQ27,Input_Details!$B$34,Input_Details!$B$32)=\"\", \"-\", OFFSET('Raw Data'!AQ27,Input_Details!$B$34,Input_Details!$B$32))","v":21.7},null,{"$f":"IF(Y49=\"-\", \"-\", SUM(OFFSET(D49,0,VLOOKUP(Input_Details!$N$3, $AF$3:$AG$12, 2,0)-1):W49))","v":0.4},0.13333333333333333]
[null,"06:00:00",null,{"$f":"IF(OFFSET('Raw Data'!T28,Input_Details!$B$34,Input_Details!$B$32)=\"\", \"-\", OFFSET('Raw Data'!T28,Input_Details!$B$34,Input_Details!$B$32))","v":0},{"$f":"IF(OFFSET('Raw Data'!U28,Input_Details!$B$34,Input_Details!$B$32)=\"\", \"-\", OFFSET('Raw Data'!U28,Input_Details!$B$34,Input_Details!$B$32))","v":2},{"$f":"IF(OFFSET('Raw Data'!V28,Input_Details!$B$34,Input_Details!$B$32)=\"\", \"-\", OFFSET('Raw Data'!V28,Input_Details!$B$34,Input_Details!$B$32))","v":0.2},{"$f":"IF(OFFSET('Raw Data'!W28,Input_Details!$B$34,Input_Details!$B$32)=\"\", \"-\", OFFSET('Raw Data'!W28,Input_Details!$B$34,Input_Details!$B$32))","v":0.2},{"$f":"IF(OFFSET('Raw Data'!X28,Input_Details!$B$34,Input_Details!$B$32)=\"\", \"-\", OFFSET('Raw Data'!X28,Input_Details!$B$34,Input_Details!$B$32))","v":0},{"$f":"IF(OFFSET('Raw Data'!Y28,Input_Details!$B$34,Input_Details!$B$32)=\"\", \"-\", OFFSET('Raw Data'!Y28,Input_Details!$B$34,Input_Details!$B$32))","v":0},{"$f":"IF(OFFSET('Raw Data'!Z28,Input_Details!$B$34,Input_Details!$B$32)=\"\", \"-\", OFFSET('Raw Data'!Z28,Input_Details!$B$34,Input_Details!$B$32))","v":0},{"$f":"IF(OFFSET('Raw Data'!AA28,Input_Details!$B$34,Input_Details!$B$32)=\"\", \"-\", OFFSET('Raw Data'!AA28,Input_Details!$B$34,Input_Details!$B$32))","v":0},{"$f":"IF(OFFSET('Raw Data'!AB28,Input_Details!$B$34,Input_Details!$B$32)=\"\", \"-\", OFFSET('Raw Data'!AB28,Input_Details!$B$34,Input_Details!$B$32))","v":0},{"$f":"IF(OFFSET('Raw Data'!AC28,Input_Details!$B$34,Input_Details!$B$32)=\"\", \"-\", OFFSET('Raw Data'!AC28,Input_Details!$B$34,Input_Details!$B$32))","v":0},{"$f":"IF(OFFSET('Raw Data'!AD28,Input_Details!$B$34,Input_Details!$B$32)=\"\", \"-\", OFFSET('Raw Data'!AD28,Input_Details!$B$34,Input_Details!$B$32))","v":0},{"$f":"IF(OFFSET('Raw Data'!AE28,Input_Details!$B$34,Input_Details!$B$32)=\"\", \"-\", OFFSET('Raw Data'!AE28,Input_Details!$B$34,Input_Details!$B$32))","v":0},{"$f":"IF(OFFSET('Raw Data'!AF28,Input_Details!$B$34,Input_Details!$B$32)=\"\", \"-\", OFFSET('Raw Data'!AF28,Input_Details!$B$34,Input_Details!$B$32))","v":0},{"$f":"IF(OFFSET('Raw Data'!AG28,Input_Details!$B$34,Input_Details!$B$32)=\"\", \"-\", OFFSET('Raw Data'!AG28,Input_Details!$B$34,Input_Details!$B$32))","v":0},{"$f":"IF(OFFSET('Raw Data'!AH28,Input_Details!$B$34,Input_Details!$B$32)=\"\", \"-\", OFFSET('Raw Data'!AH28,Input_Details!$B$34,Input_Details!$B$32))","v":0},{"$f":"IF(OFFSET('Raw Data'!AI28,Input_Details!$B$34,Input_Details!$B$32)=\"\", \"-\", OFFSET('Raw Data'!AI28,Input_Details!$B$34,Input_Details!$B$32))","v":0},{"$f":"IF(OFFSET('Raw Data'!AJ28,Input_Details!$B$34,Input_Details!$B$32)=\"\", \"-\", OFFSET('Raw Data'!AJ28,Input_Details!$B$34,Input_Details!$B$32))","v":0},{"$f":"IF(OFFSET('Raw Data'!AK28,Input_Details!$B$34,Input_Details!$B$32)=\"\", \"-\", OFFSET('Raw Data'!AK28,Input_Details!$B$34,Input_Details!$B$32))","v":0},{"$f":"IF(OFFSET('Raw Data'!AL28,Input_Details!$B$34,Input_Details!$B$32)=\"\", \"-\", OFFSET('Raw Data'!AL28,Input_Details!$B$34,Input_Details!$B$32))","v":0},{"$f":"IF(OFFSET('Raw Data'!AM28,Input_Details!$B$34,Input_Details!$B$32)=\"\", \"-\", OFFSET('Raw Data'!AM28,Input_Details!$B$34,Input_Details!$B$32))","v":0},null,{"$f":"IF(D50=\"-\",\"-\",OFFSET('Raw Data'!AN28,Input_Details!$B$34,Input_Details!$B$32))","v":16.020000000000003},{"$f":"IF(OFFSET('Raw Data'!AO28,Input_Details!$B$34,Input_Details!$B$32)=\"\", \"-\", OFFSET('Raw Data'!AO28,Input_Details!$B$34,Input_Details!$B$32))","v":"-"},{"$f":"IF(OFFSET('Raw Data'!AP28,Input_Details!$B$34,Input_Details!$B$32)=\"\", \"-\", OFFSET('Raw Data'!AP28,Input_Details!$B$34,Input_Details!$B$32))","v":11},{"$f":"IF(OFFSET('Raw Data'!AQ28,Input_Details!$B$34,Input_Details!$B$32)=\"\", \"-\", OFFSET('Raw Data'!AQ28,Input_Details!$B$34,Input_Details!$B$32))","v":24.7},null,{"$f":"IF(Y50=\"-\", \"-\", SUM(OFFSET(D50,0,VLOOKUP(Input_Details!$N$3, $AF$3:$AG$12, 2,0)-1):W50))","v":0.2},8.3333333333333329E-2]
[null,"06:15:00",null,{"$f":"IF(OFFSET('Raw Data'!T29,Input_Details!$B$34,Input_Details!$B$32)=\"\", \"-\", OFFSET('Raw Data'!T29,Input_Details!$B$34,Input_Details!$B$32))","v":0},{"$f":"IF(OFFSET('Raw Data'!U29,Input_Details!$B$34,Input_Details!$B$32)=\"\", \"-\", OFFSET('Raw Data'!U29,Input_Details!$B$34,Input_Details!$B$32))","v":2},{"$f":"IF(OFFSET('Raw Data'!V29,Input_Details!$B$34,Input_Details!$B$32)=\"\", \"-\", OFFSET('Raw Data'!V29,Input_Details!$B$34,Input_Details!$B$32))","v":0.8},{"$f":"IF(OFFSET('Raw Data'!W29,Input_Details!$B$34,Input_Details!$B$32)=\"\", \"-\", OFFSET('Raw Data'!W29,Input_Details!$B$34,Input_Details!$B$32))","v":0.4},{"$f":"IF(OFFSET('Raw Data'!X29,Input_Details!$B$34,Input_Details!$B$32)=\"\", \"-\", OFFSET('Raw Data'!X29,Input_Details!$B$34,Input_Details!$B$32))","v":0},{"$f":"IF(OFFSET('Raw Data'!Y29,Input_Details!$B$34,Input_Details!$B$32)=\"\", \"-\", OFFSET('Raw Data'!Y29,Input_Details!$B$34,Input_Details!$B$32))","v":0},{"$f":"IF(OFFSET('Raw Data'!Z29,Input_Details!$B$34,Input_Details!$B$32)=\"\", \"-\", OFFSET('Raw Data'!Z29,Input_Details!$B$34,Input_Details!$B$32))","v":0},{"$f":"IF(OFFSET('Raw Data'!AA29,Input_Details!$B$34,Input_Details!$B$32)=\"\", \"-\", OFFSET('Raw Data'!AA29,Input_Details!$B$34,Input_Details!$B$32))","v":0},{"$f":"IF(OFFSET('Raw Data'!AB29,Input_Details!$B$34,Input_Details!$B$32)=\"\", \"-\", OFFSET('Raw Data'!AB29,Input_Details!$B$34,Input_Details!$B$32))","v":0},{"$f":"IF(OFFSET('Raw Data'!AC29,Input_Details!$B$34,Input_Details!$B$32)=\"\", \"-\", OFFSET('Raw Data'!AC29,Input_Details!$B$34,Input_Details!$B$32))","v":0},{"$f":"IF(OFFSET('Raw Data'!AD29,Input_Details!$B$34,Input_Details!$B$32)=\"\", \"-\", OFFSET('Raw Data'!AD29,Input_Details!$B$34,Input_Details!$B$32))","v":0},{"$f":"IF(OFFSET('Raw Data'!AE29,Input_Details!$B$34,Input_Details!$B$32)=\"\", \"-\", OFFSET('Raw Data'!AE29,Input_Details!$B$34,Input_Details!$B$32))","v":0},{"$f":"IF(OFFSET('Raw Data'!AF29,Input_Details!$B$34,Input_Details!$B$32)=\"\", \"-\", OFFSET('Raw Data'!AF29,Input_Details!$B$34,Input_Details!$B$32))","v":0},{"$f":"IF(OFFSET('Raw Data'!AG29,Input_Details!$B$34,Input_Details!$B$32)=\"\", \"-\", OFFSET('Raw Data'!AG29,Input_Details!$B$34,Input_Details!$B$32))","v":0},{"$f":"IF(OFFSET('Raw Data'!AH29,Input_Details!$B$34,Input_Details!$B$32)=\"\", \"-\", OFFSET('Raw Data'!AH29,Input_Details!$B$34,Input_Details!$B$32))","v":0},{"$f":"IF(OFFSET('Raw Data'!AI29,Input_Details!$B$34,Input_Details!$B$32)=\"\", \"-\", OFFSET('Raw Data'!AI29,Input_Details!$B$34,Input_Details!$B$32))","v":0},{"$f":"IF(OFFSET('Raw Data'!AJ29,Input_Details!$B$34,Input_Details!$B$32)=\"\", \"-\", OFFSET('Raw Data'!AJ29,Input_Details!$B$34,Input_Details!$B$32))","v":0},{"$f":"IF(OFFSET('Raw Data'!AK29,Input_Details!$B$34,Input_Details!$B$32)=\"\", \"-\", OFFSET('Raw Data'!AK29,Input_Details!$B$34,Input_Details!$B$32))","v":0},{"$f":"IF(OFFSET('Raw Data'!AL29,Input_Details!$B$34,Input_Details!$B$32)=\"\", \"-\", OFFSET('Raw Data'!AL29,Input_Details!$B$34,Input_Details!$B$32))","v":0},{"$f":"IF(OFFSET('Raw Data'!AM29,Input_Details!$B$34,Input_Details!$B$32)=\"\", \"-\", OFFSET('Raw Data'!AM29,Input_Details!$B$34,Input_Details!$B$32))","v":0},null,{"$f":"IF(D51=\"-\",\"-\",OFFSET('Raw Data'!AN29,Input_Details!$B$34,Input_Details!$B$32))","v":15.66},{"$f":"IF(OFFSET('Raw Data'!AO29,Input_Details!$B$34,Input_Details!$B$32)=\"\", \"-\", OFFSET('Raw Data'!AO29,Input_Details!$B$34,Input_Details!$B$32))","v":"-"},{"$f":"IF(OFFSET('Raw Data'!AP29,Input_Details!$B$34,Input_Details!$B$32)=\"\", \"-\", OFFSET('Raw Data'!AP29,Input_Details!$B$34,Input_Details!$B$32))","v":10.1},{"$f":"IF(OFFSET('Raw Data'!AQ29,Input_Details!$B$34,Input_Details!$B$32)=\"\", \"-\", OFFSET('Raw Data'!AQ29,Input_Details!$B$34,Input_Details!$B$32))","v":22.1},null,{"$f":"IF(Y51=\"-\", \"-\", SUM(OFFSET(D51,0,VLOOKUP(Input_Details!$N$3, $AF$3:$AG$12, 2,0)-1):W51))","v":0.4},0.12500000000000003]
[null,"06:30:00",null,{"$f":"IF(OFFSET('Raw Data'!T30,Input_Details!$B$34,Input_Details!$B$32)=\"\", \"-\", OFFSET('Raw Data'!T30,Input_Details!$B$34,Input_Details!$B$32))","v":0.4},{"$f":"IF(OFFSET('Raw Data'!U30,Input_Details!$B$34,Input_Details!$B$32)=\"\", \"-\", OFFSET('Raw Data'!U30,Input_Details!$B$34,Input_Details!$B$32))","v":2.6},{"$f":"IF(OFFSET('Raw Data'!V30,Input_Details!$B$34,Input_Details!$B$32)=\"\", \"-\", OFFSET('Raw Data'!V30,Input_Details!$B$34,Input_Details!$B$32))","v":1},{"$f":"IF(OFFSET('Raw Data'!W30,Input_Details!$B$34,Input_Details!$B$32)=\"\", \"-\", OFFSET('Raw Data'!W30,Input_Details!$B$34,Input_Details!$B$32))","v":0.8},{"$f":"IF(OFFSET('Raw Data'!X30,Input_Details!$B$34,Input_Details!$B$32)=\"\", \"-\", OFFSET('Raw Data'!X30,Input_Details!$B$34,Input_Details!$B$32))","v":0},{"$f":"IF(OFFSET('Raw Data'!Y30,Input_Details!$B$34,Input_Details!$B$32)=\"\", \"-\", OFFSET('Raw Data'!Y30,Input_Details!$B$34,Input_Details!$B$32))","v":0},{"$f":"IF(OFFSET('Raw Data'!Z30,Input_Details!$B$34,Input_Details!$B$32)=\"\", \"-\", OFFSET('Raw Data'!Z30,Input_Details!$B$34,Input_Details!$B$32))","v":0},{"$f":"IF(OFFSET('Raw Data'!AA30,Input_Details!$B$34,Input_Details!$B$32)=\"\", \"-\", OFFSET('Raw Data'!AA30,Input_Details!$B$34,Input_Details!$B$32))","v":0},{"$f":"IF(OFFSET('Raw Data'!AB30,Input_Details!$B$34,Input_Details!$B$32)=\"\", \"-\", OFFSET('Raw Data'!AB30,Input_Details!$B$34,Input_Details!$B$32))","v":0},{"$f":"IF(OFFSET('Raw Data'!AC30,Input_Details!$B$34,Input_Details!$B$32)=\"\", \"-\", OFFSET('Raw Data'!AC30,Input_Details!$B$34,Input_Details!$B$32))","v":0},{"$f":"IF(OFFSET('Raw Data'!AD30,Input_Details!$B$34,Input_Details!$B$32)=\"\", \"-\", OFFSET('Raw Data'!AD30,Input_Details!$B$34,Input_Details!$B$32))","v":0},{"$f":"IF(OFFSET('Raw Data'!AE30,Input_Details!$B$34,Input_Details!$B$32)=\"\", \"-\", OFFSET('Raw Data'!AE30,Input_Details!$B$34,Input_Details!$B$32))","v":0},{"$f":"IF(OFFSET('Raw Data'!AF30,Input_Details!$B$34,Input_Details!$B$32)=\"\", \"-\", OFFSET('Raw Data'!AF30,Input_Details!$B$34,Input_Details!$B$32))","v":0},{"$f":"IF(OFFSET('Raw Data'!AG30,Input_Details!$B$34,Input_Details!$B$32)=\"\", \"-\", OFFSET('Raw Data'!AG30,Input_Details!$B$34,Input_Details!$B$32))","v":0},{"$f":"IF(OFFSET('Raw Data'!AH30,Input_Details!$B$34,Input_Details!$B$32)=\"\", \"-\", OFFSET('Raw Data'!AH30,Input_Details!$B$34,Input_Details!$B$32))","v":0},{"$f":"IF(OFFSET('Raw Data'!AI30,Input_Details!$B$34,Input_Details!$B$32)=\"\", \"-\", OFFSET('Raw Data'!AI30,Input_Details!$B$34,Input_Details!$B$32))","v":0},{"$f":"IF(OFFSET('Raw Data'!AJ30,Input_Details!$B$34,Input_Details!$B$32)=\"\", \"-\", OFFSET('Raw Data'!AJ30,Input_Details!$B$34,Input_Details!$B$32))","v":0},{"$f":"IF(OFFSET('Raw Data'!AK30,Input_Details!$B$34,Input_Details!$B$32)=\"\", \"-\", OFFSET('Raw Data'!AK30,Input_Details!$B$34,Input_Details!$B$32))","v":0},{"$f":"IF(OFFSET('Raw Data'!AL30,Input_Details!$B$34,Input_Details!$B$32)=\"\", \"-\", OFFSET('Raw Data'!AL30,Input_Details!$B$34,Input_Details!$B$32))","v":0},{"$f":"IF(OFFSET('Raw Data'!AM30,Input_Details!$B$34,Input_Details!$B$32)=\"\", \"-\", OFFSET('Raw Data'!AM30,Input_Details!$B$34,Input_Details!$B$32))","v":0},null,{"$f":"IF(D52=\"-\",\"-\",OFFSET('Raw Data'!AN30,Input_Details!$B$34,Input_Details!$B$32))","v":15.419999999999998},{"$f":"IF(OFFSET('Raw Data'!AO30,Input_Details!$B$34,Input_Details!$B$32)=\"\", \"-\", OFFSET('Raw Data'!AO30,Input_Details!$B$34,Input_Details!$B$32))","v":"-"},{"$f":"IF(OFFSET('Raw Data'!AP30,Input_Details!$B$34,Input_Details!$B$32)=\"\", \"-\", OFFSET('Raw Data'!AP30,Input_Details!$B$34,Input_Details!$B$32))","v":6.7},{"$f":"IF(OFFSET('Raw Data'!AQ30,Input_Details!$B$34,Input_Details!$B$32)=\"\", \"-\", OFFSET('Raw Data'!AQ30,Input_Details!$B$34,Input_Details!$B$32))","v":24.3},null,{"$f":"IF(Y52=\"-\", \"-\", SUM(OFFSET(D52,0,VLOOKUP(Input_Details!$N$3, $AF$3:$AG$12, 2,0)-1):W52))","v":0.8},0.16666666666666669]
[null,"06:45:00",null,{"$f":"IF(OFFSET('Raw Data'!T31,Input_Details!$B$34,Input_Details!$B$32)=\"\", \"-\", OFFSET('Raw Data'!T31,Input_Details!$B$34,Input_Details!$B$32))","v":1},{"$f":"IF(OFFSET('Raw Data'!U31,Input_Details!$B$34,Input_Details!$B$32)=\"\", \"-\", OFFSET('Raw Data'!U31,Input_Details!$B$34,Input_Details!$B$32))","v":5},{"$f":"IF(OFFSET('Raw Data'!V31,Input_Details!$B$34,Input_Details!$B$32)=\"\", \"-\", OFFSET('Raw Data'!V31,Input_Details!$B$34,Input_Details!$B$32))","v":2},{"$f":"IF(OFFSET('Raw Data'!W31,Input_Details!$B$34,Input_Details!$B$32)=\"\", \"-\", OFFSET('Raw Data'!W31,Input_Details!$B$34,Input_Details!$B$32))","v":0.6},{"$f":"IF(OFFSET('Raw Data'!X31,Input_Details!$B$34,Input_Details!$B$32)=\"\", \"-\", OFFSET('Raw Data'!X31,Input_Details!$B$34,Input_Details!$B$32))","v":0},{"$f":"IF(OFFSET('Raw Data'!Y31,Input_Details!$B$34,Input_Details!$B$32)=\"\", \"-\", OFFSET('Raw Data'!Y31,Input_Details!$B$34,Input_Details!$B$32))","v":0},{"$f":"IF(OFFSET('Raw Data'!Z31,Input_Details!$B$34,Input_Details!$B$32)=\"\", \"-\", OFFSET('Raw Data'!Z31,Input_Details!$B$34,Input_Details!$B$32))","v":0},{"$f":"IF(OFFSET('Raw Data'!AA31,Input_Details!$B$34,Input_Details!$B$32)=\"\", \"-\", OFFSET('Raw Data'!AA31,Input_Details!$B$34,Input_Details!$B$32))","v":0},{"$f":"IF(OFFSET('Raw Data'!AB31,Input_Details!$B$34,Input_Details!$B$32)=\"\", \"-\", OFFSET('Raw Data'!AB31,Input_Details!$B$34,Input_Details!$B$32))","v":0},{"$f":"IF(OFFSET('Raw Data'!AC31,Input_Details!$B$34,Input_Details!$B$32)=\"\", \"-\", OFFSET('Raw Data'!AC31,Input_Details!$B$34,Input_Details!$B$32))","v":0},{"$f":"IF(OFFSET('Raw Data'!AD31,Input_Details!$B$34,Input_Details!$B$32)=\"\", \"-\", OFFSET('Raw Data'!AD31,Input_Details!$B$34,Input_Details!$B$32))","v":0},{"$f":"IF(OFFSET('Raw Data'!AE31,Input_Details!$B$34,Input_Details!$B$32)=\"\", \"-\", OFFSET('Raw Data'!AE31,Input_Details!$B$34,Input_Details!$B$32))","v":0},{"$f":"IF(OFFSET('Raw Data'!AF31,Input_Details!$B$34,Input_Details!$B$32)=\"\", \"-\", OFFSET('Raw Data'!AF31,Input_Details!$B$34,Input_Details!$B$32))","v":0},{"$f":"IF(OFFSET('Raw Data'!AG31,Input_Details!$B$34,Input_Details!$B$32)=\"\", \"-\", OFFSET('Raw Data'!AG31,Input_Details!$B$34,Input_Details!$B$32))","v":0},{"$f":"IF(OFFSET('Raw Data'!AH31,Input_Details!$B$34,Input_Details!$B$32)=\"\", \"-\", OFFSET('Raw Data'!AH31,Input_Details!$B$34,Input_Details!$B$32))","v":0},{"$f":"IF(OFFSET('Raw Data'!AI31,Input_Details!$B$34,Input_Details!$B$32)=\"\", \"-\", OFFSET('Raw Data'!AI31,Input_Details!$B$34,Input_Details!$B$32))","v":0},{"$f":"IF(OFFSET('Raw Data'!AJ31,Input_Details!$B$34,Input_Details!$B$32)=\"\", \"-\", OFFSET('Raw Data'!AJ31,Input_Details!$B$34,Input_Details!$B$32))","v":0},{"$f":"IF(OFFSET('Raw Data'!AK31,Input_Details!$B$34,Input_Details!$B$32)=\"\", \"-\", OFFSET('Raw Data'!AK31,Input_Details!$B$34,Input_Details!$B$32))","v":0},{"$f":"IF(OFFSET('Raw Data'!AL31,Input_Details!$B$34,Input_Details!$B$32)=\"\", \"-\", OFFSET('Raw Data'!AL31,Input_Details!$B$34,Input_Details!$B$32))","v":0},{"$f":"IF(OFFSET('Raw Data'!AM31,Input_Details!$B$34,Input_Details!$B$32)=\"\", \"-\", OFFSET('Raw Data'!AM31,Input_Details!$B$34,Input_Details!$B$32))","v":0},null,{"$f":"IF(D53=\"-\",\"-\",OFFSET('Raw Data'!AN31,Input_Details!$B$34,Input_Details!$B$32))","v":13.839999999999998},{"$f":"IF(OFFSET('Raw Data'!AO31,Input_Details!$B$34,Input_Details!$B$32)=\"\", \"-\", OFFSET('Raw Data'!AO31,Input_Details!$B$34,Input_Details!$B$32))","v":15.9},{"$f":"IF(OFFSET('Raw Data'!AP31,Input_Details!$B$34,Input_Details!$B$32)=\"\", \"-\", OFFSET('Raw Data'!AP31,Input_Details!$B$34,Input_Details!$B$32))","v":4.9000000000000004},{"$f":"IF(OFFSET('Raw Data'!AQ31,Input_Details!$B$34,Input_Details!$B$32)=\"\", \"-\", OFFSET('Raw Data'!AQ31,Input_Details!$B$34,Input_Details!$B$32))","v":22},null,{"$f":"IF(Y53=\"-\", \"-\", SUM(OFFSET(D53,0,VLOOKUP(Input_Details!$N$3, $AF$3:$AG$12, 2,0)-1):W53))","v":0.6},6.9767441860465115E-2]
[null,"07:00:00",null,{"$f":"IF(OFFSET('Raw Data'!T32,Input_Details!$B$34,Input_Details!$B$32)=\"\", \"-\", OFFSET('Raw Data'!T32,Input_Details!$B$34,Input_Details!$B$32))","v":0.2},{"$f":"IF(OFFSET('Raw Data'!U32,Input_Details!$B$34,Input_Details!$B$32)=\"\", \"-\", OFFSET('Raw Data'!U32,Input_Details!$B$34,Input_Details!$B$32))","v":6},{"$f":"IF(OFFSET('Raw Data'!V32,Input_Details!$B$34,Input_Details!$B$32)=\"\", \"-\", OFFSET('Raw Data'!V32,Input_Details!$B$34,Input_Details!$B$32))","v":2},{"$f":"IF(OFFSET('Raw Data'!W32,Input_Details!$B$34,Input_Details!$B$32)=\"\", \"-\", OFFSET('Raw Data'!W32,Input_Details!$B$34,Input_Details!$B$32))","v":0.4},{"$f":"IF(OFFSET('Raw Data'!X32,Input_Details!$B$34,Input_Details!$B$32)=\"\", \"-\", OFFSET('Raw Data'!X32,Input_Details!$B$34,Input_Details!$B$32))","v":0},{"$f":"IF(OFFSET('Raw Data'!Y32,Input_Details!$B$34,Input_Details!$B$32)=\"\", \"-\", OFFSET('Raw Data'!Y32,Input_Details!$B$34,Input_Details!$B$32))","v":0},{"$f":"IF(OFFSET('Raw Data'!Z32,Input_Details!$B$34,Input_Details!$B$32)=\"\", \"-\", OFFSET('Raw Data'!Z32,Input_Details!$B$34,Input_Details!$B$32))","v":0},{"$f":"IF(OFFSET('Raw Data'!AA32,Input_Details!$B$34,Input_Details!$B$32)=\"\", \"-\", OFFSET('Raw Data'!AA32,Input_Details!$B$34,Input_Details!$B$32))","v":0},{"$f":"IF(OFFSET('Raw Data'!AB32,Input_Details!$B$34,Input_Details!$B$32)=\"\", \"-\", OFFSET('Raw Data'!AB32,Input_Details!$B$34,Input_Details!$B$32))","v":0},{"$f":"IF(OFFSET('Raw Data'!AC32,Input_Details!$B$34,Input_Details!$B$32)=\"\", \"-\", OFFSET('Raw Data'!AC32,Input_Details!$B$34,Input_Details!$B$32))","v":0},{"$f":"IF(OFFSET('Raw Data'!AD32,Input_Details!$B$34,Input_Details!$B$32)=\"\", \"-\", OFFSET('Raw Data'!AD32,Input_Details!$B$34,Input_Details!$B$32))","v":0},{"$f":"IF(OFFSET('Raw Data'!AE32,Input_Details!$B$34,Input_Details!$B$32)=\"\", \"-\", OFFSET('Raw Data'!AE32,Input_Details!$B$34,Input_Details!$B$32))","v":0},{"$f":"IF(OFFSET('Raw Data'!AF32,Input_Details!$B$34,Input_Details!$B$32)=\"\", \"-\", OFFSET('Raw Data'!AF32,Input_Details!$B$34,Input_Details!$B$32))","v":0},{"$f":"IF(OFFSET('Raw Data'!AG32,Input_Details!$B$34,Input_Details!$B$32)=\"\", \"-\", OFFSET('Raw Data'!AG32,Input_Details!$B$34,Input_Details!$B$32))","v":0},{"$f":"IF(OFFSET('Raw Data'!AH32,Input_Details!$B$34,Input_Details!$B$32)=\"\", \"-\", OFFSET('Raw Data'!AH32,Input_Details!$B$34,Input_Details!$B$32))","v":0},{"$f":"IF(OFFSET('Raw Data'!AI32,Input_Details!$B$34,Input_Details!$B$32)=\"\", \"-\", OFFSET('Raw Data'!AI32,Input_Details!$B$34,Input_Details!$B$32))","v":0},{"$f":"IF(OFFSET('Raw Data'!AJ32,Input_Details!$B$34,Input_Details!$B$32)=\"\", \"-\", OFFSET('Raw Data'!AJ32,Input_Details!$B$34,Input_Details!$B$32))","v":0},{"$f":"IF(OFFSET('Raw Data'!AK32,Input_Details!$B$34,Input_Details!$B$32)=\"\", \"-\", OFFSET('Raw Data'!AK32,Input_Details!$B$34,Input_Details!$B$32))","v":0},{"$f":"IF(OFFSET('Raw Data'!AL32,Input_Details!$B$34,Input_Details!$B$32)=\"\", \"-\", OFFSET('Raw Data'!AL32,Input_Details!$B$34,Input_Details!$B$32))","v":0},{"$f":"IF(OFFSET('Raw Data'!AM32,Input_Details!$B$34,Input_Details!$B$32)=\"\", \"-\", OFFSET('Raw Data'!AM32,Input_Details!$B$34,Input_Details!$B$32))","v":0},null,{"$f":"IF(D54=\"-\",\"-\",OFFSET('Raw Data'!AN32,Input_Details!$B$34,Input_Details!$B$32))","v":13.620000000000001},{"$f":"IF(OFFSET('Raw Data'!AO32,Input_Details!$B$34,Input_Details!$B$32)=\"\", \"-\", OFFSET('Raw Data'!AO32,Input_Details!$B$34,Input_Details!$B$32))","v":13.2},{"$f":"IF(OFFSET('Raw Data'!AP32,Input_Details!$B$34,Input_Details!$B$32)=\"\", \"-\", OFFSET('Raw Data'!AP32,Input_Details!$B$34,Input_Details!$B$32))","v":9.8000000000000007},{"$f":"IF(OFFSET('Raw Data'!AQ32,Input_Details!$B$34,Input_Details!$B$32)=\"\", \"-\", OFFSET('Raw Data'!AQ32,Input_Details!$B$34,Input_Details!$B$32))","v":21.3},null,{"$f":"IF(Y54=\"-\", \"-\", SUM(OFFSET(D54,0,VLOOKUP(Input_Details!$N$3, $AF$3:$AG$12, 2,0)-1):W54))","v":0.4},4.651162790697675E-2]
[null,"07:15:00",null,{"$f":"IF(OFFSET('Raw Data'!T33,Input_Details!$B$34,Input_Details!$B$32)=\"\", \"-\", OFFSET('Raw Data'!T33,Input_Details!$B$34,Input_Details!$B$32))","v":0.2},{"$f":"IF(OFFSET('Raw Data'!U33,Input_Details!$B$34,Input_Details!$B$32)=\"\", \"-\", OFFSET('Raw Data'!U33,Input_Details!$B$34,Input_Details!$B$32))","v":10.4},{"$f":"IF(OFFSET('Raw Data'!V33,Input_Details!$B$34,Input_Details!$B$32)=\"\", \"-\", OFFSET('Raw Data'!V33,Input_Details!$B$34,Input_Details!$B$32))","v":1.4},{"$f":"IF(OFFSET('Raw Data'!W33,Input_Details!$B$34,Input_Details!$B$32)=\"\", \"-\", OFFSET('Raw Data'!W33,Input_Details!$B$34,Input_Details!$B$32))","v":0.4},{"$f":"IF(OFFSET('Raw Data'!X33,Input_Details!$B$34,Input_Details!$B$32)=\"\", \"-\", OFFSET('Raw Data'!X33,Input_Details!$B$34,Input_Details!$B$32))","v":0},{"$f":"IF(OFFSET('Raw Data'!Y33,Input_Details!$B$34,Input_Details!$B$32)=\"\", \"-\", OFFSET('Raw Data'!Y33,Input_Details!$B$34,Input_Details!$B$32))","v":0},{"$f":"IF(OFFSET('Raw Data'!Z33,Input_Details!$B$34,Input_Details!$B$32)=\"\", \"-\", OFFSET('Raw Data'!Z33,Input_Details!$B$34,Input_Details!$B$32))","v":0},{"$f":"IF(OFFSET('Raw Data'!AA33,Input_Details!$B$34,Input_Details!$B$32)=\"\", \"-\", OFFSET('Raw Data'!AA33,Input_Details!$B$34,Input_Details!$B$32))","v":0},{"$f":"IF(OFFSET('Raw Data'!AB33,Input_Details!$B$34,Input_Details!$B$32)=\"\", \"-\", OFFSET('Raw Data'!AB33,Input_Details!$B$34,Input_Details!$B$32))","v":0},{"$f":"IF(OFFSET('Raw Data'!AC33,Input_Details!$B$34,Input_Details!$B$32)=\"\", \"-\", OFFSET('Raw Data'!AC33,Input_Details!$B$34,Input_Details!$B$32))","v":0},{"$f":"IF(OFFSET('Raw Data'!AD33,Input_Details!$B$34,Input_Details!$B$32)=\"\", \"-\", OFFSET('Raw Data'!AD33,Input_Details!$B$34,Input_Details!$B$32))","v":0},{"$f":"IF(OFFSET('Raw Data'!AE33,Input_Details!$B$34,Input_Details!$B$32)=\"\", \"-\", OFFSET('Raw Data'!AE33,Input_Details!$B$34,Input_Details!$B$32))","v":0},{"$f":"IF(OFFSET('Raw Data'!AF33,Input_Details!$B$34,Input_Details!$B$32)=\"\", \"-\", OFFSET('Raw Data'!AF33,Input_Details!$B$34,Input_Details!$B$32))","v":0},{"$f":"IF(OFFSET('Raw Data'!AG33,Input_Details!$B$34,Input_Details!$B$32)=\"\", \"-\", OFFSET('Raw Data'!AG33,Input_Details!$B$34,Input_Details!$B$32))","v":0},{"$f":"IF(OFFSET('Raw Data'!AH33,Input_Details!$B$34,Input_Details!$B$32)=\"\", \"-\", OFFSET('Raw Data'!AH33,Input_Details!$B$34,Input_Details!$B$32))","v":0},{"$f":"IF(OFFSET('Raw Data'!AI33,Input_Details!$B$34,Input_Details!$B$32)=\"\", \"-\", OFFSET('Raw Data'!AI33,Input_Details!$B$34,Input_Details!$B$32))","v":0},{"$f":"IF(OFFSET('Raw Data'!AJ33,Input_Details!$B$34,Input_Details!$B$32)=\"\", \"-\", OFFSET('Raw Data'!AJ33,Input_Details!$B$34,Input_Details!$B$32))","v":0},{"$f":"IF(OFFSET('Raw Data'!AK33,Input_Details!$B$34,Input_Details!$B$32)=\"\", \"-\", OFFSET('Raw Data'!AK33,Input_Details!$B$34,Input_Details!$B$32))","v":0},{"$f":"IF(OFFSET('Raw Data'!AL33,Input_Details!$B$34,Input_Details!$B$32)=\"\", \"-\", OFFSET('Raw Data'!AL33,Input_Details!$B$34,Input_Details!$B$32))","v":0},{"$f":"IF(OFFSET('Raw Data'!AM33,Input_Details!$B$34,Input_Details!$B$32)=\"\", \"-\", OFFSET('Raw Data'!AM33,Input_Details!$B$34,Input_Details!$B$32))","v":0},null,{"$f":"IF(D55=\"-\",\"-\",OFFSET('Raw Data'!AN33,Input_Details!$B$34,Input_Details!$B$32))","v":13.6},{"$f":"IF(OFFSET('Raw Data'!AO33,Input_Details!$B$34,Input_Details!$B$32)=\"\", \"-\", OFFSET('Raw Data'!AO33,Input_Details!$B$34,Input_Details!$B$32))","v":14.875},{"$f":"IF(OFFSET('Raw Data'!AP33,Input_Details!$B$34,Input_Details!$B$32)=\"\", \"-\", OFFSET('Raw Data'!AP33,Input_Details!$B$34,Input_Details!$B$32))","v":9.1999999999999993},{"$f":"IF(OFFSET('Raw Data'!AQ33,Input_Details!$B$34,Input_Details!$B$32)=\"\", \"-\", OFFSET('Raw Data'!AQ33,Input_Details!$B$34,Input_Details!$B$32))","v":22.6},null,{"$f":"IF(Y55=\"-\", \"-\", SUM(OFFSET(D55,0,VLOOKUP(Input_Details!$N$3, $AF$3:$AG$12, 2,0)-1):W55))","v":0.4},3.2258064516129031E-2]
[null,"07:30:00",null,{"$f":"IF(OFFSET('Raw Data'!T34,Input_Details!$B$34,Input_Details!$B$32)=\"\", \"-\", OFFSET('Raw Data'!T34,Input_Details!$B$34,Input_Details!$B$32))","v":0.4},{"$f":"IF(OFFSET('Raw Data'!U34,Input_Details!$B$34,Input_Details!$B$32)=\"\", \"-\", OFFSET('Raw Data'!U34,Input_Details!$B$34,Input_Details!$B$32))","v":13},{"$f":"IF(OFFSET('Raw Data'!V34,Input_Details!$B$34,Input_Details!$B$32)=\"\", \"-\", OFFSET('Raw Data'!V34,Input_Details!$B$34,Input_Details!$B$32))","v":4.5999999999999996},{"$f":"IF(OFFSET('Raw Data'!W34,Input_Details!$B$34,Input_Details!$B$32)=\"\", \"-\", OFFSET('Raw Data'!W34,Input_Details!$B$34,Input_Details!$B$32))","v":0.4},{"$f":"IF(OFFSET('Raw Data'!X34,Input_Details!$B$34,Input_Details!$B$32)=\"\", \"-\", OFFSET('Raw Data'!X34,Input_Details!$B$34,Input_Details!$B$32))","v":0},{"$f":"IF(OFFSET('Raw Data'!Y34,Input_Details!$B$34,Input_Details!$B$32)=\"\", \"-\", OFFSET('Raw Data'!Y34,Input_Details!$B$34,Input_Details!$B$32))","v":0},{"$f":"IF(OFFSET('Raw Data'!Z34,Input_Details!$B$34,Input_Details!$B$32)=\"\", \"-\", OFFSET('Raw Data'!Z34,Input_Details!$B$34,Input_Details!$B$32))","v":0},{"$f":"IF(OFFSET('Raw Data'!AA34,Input_Details!$B$34,Input_Details!$B$32)=\"\", \"-\", OFFSET('Raw Data'!AA34,Input_Details!$B$34,Input_Details!$B$32))","v":0},{"$f":"IF(OFFSET('Raw Data'!AB34,Input_Details!$B$34,Input_Details!$B$32)=\"\", \"-\", OFFSET('Raw Data'!AB34,Input_Details!$B$34,Input_Details!$B$32))","v":0},{"$f":"IF(OFFSET('Raw Data'!AC34,Input_Details!$B$34,Input_Details!$B$32)=\"\", \"-\", OFFSET('Raw Data'!AC34,Input_Details!$B$34,Input_Details!$B$32))","v":0},{"$f":"IF(OFFSET('Raw Data'!AD34,Input_Details!$B$34,Input_Details!$B$32)=\"\", \"-\", OFFSET('Raw Data'!AD34,Input_Details!$B$34,Input_Details!$B$32))","v":0},{"$f":"IF(OFFSET('Raw Data'!AE34,Input_Details!$B$34,Input_Details!$B$32)=\"\", \"-\", OFFSET('Raw Data'!AE34,Input_Details!$B$34,Input_Details!$B$32))","v":0},{"$f":"IF(OFFSET('Raw Data'!AF34,Input_Details!$B$34,Input_Details!$B$32)=\"\", \"-\", OFFSET('Raw Data'!AF34,Input_Details!$B$34,Input_Details!$B$32))","v":0},{"$f":"IF(OFFSET('Raw Data'!AG34,Input_Details!$B$34,Input_Details!$B$32)=\"\", \"-\", OFFSET('Raw Data'!AG34,Input_Details!$B$34,Input_Details!$B$32))","v":0},{"$f":"IF(OFFSET('Raw Data'!AH34,Input_Details!$B$34,Input_Details!$B$32)=\"\", \"-\", OFFSET('Raw Data'!AH34,Input_Details!$B$34,Input_Details!$B$32))","v":0},{"$f":"IF(OFFSET('Raw Data'!AI34,Input_Details!$B$34,Input_Details!$B$32)=\"\", \"-\", OFFSET('Raw Data'!AI34,Input_Details!$B$34,Input_Details!$B$32))","v":0},{"$f":"IF(OFFSET('Raw Data'!AJ34,Input_Details!$B$34,Input_Details!$B$32)=\"\", \"-\", OFFSET('Raw Data'!AJ34,Input_Details!$B$34,Input_Details!$B$32))","v":0},{"$f":"IF(OFFSET('Raw Data'!AK34,Input_Details!$B$34,Input_Details!$B$32)=\"\", \"-\", OFFSET('Raw Data'!AK34,Input_Details!$B$34,Input_Details!$B$32))","v":0},{"$f":"IF(OFFSET('Raw Data'!AL34,Input_Details!$B$34,Input_Details!$B$32)=\"\", \"-\", OFFSET('Raw Data'!AL34,Input_Details!$B$34,Input_Details!$B$32))","v":0},{"$f":"IF(OFFSET('Raw Data'!AM34,Input_Details!$B$34,Input_Details!$B$32)=\"\", \"-\", OFFSET('Raw Data'!AM34,Input_Details!$B$34,Input_Details!$B$32))","v":0},null,{"$f":"IF(D56=\"-\",\"-\",OFFSET('Raw Data'!AN34,Input_Details!$B$34,Input_Details!$B$32))","v":13.86},{"$f":"IF(OFFSET('Raw Data'!AO34,Input_Details!$B$34,Input_Details!$B$32)=\"\", \"-\", OFFSET('Raw Data'!AO34,Input_Details!$B$34,Input_Details!$B$32))","v":15.540000000000001},{"$f":"IF(OFFSET('Raw Data'!AP34,Input_Details!$B$34,Input_Details!$B$32)=\"\", \"-\", OFFSET('Raw Data'!AP34,Input_Details!$B$34,Input_Details!$B$32))","v":8.9},{"$f":"IF(OFFSET('Raw Data'!AQ34,Input_Details!$B$34,Input_Details!$B$32)=\"\", \"-\", OFFSET('Raw Data'!AQ34,Input_Details!$B$34,Input_Details!$B$32))","v":22.8},null,{"$f":"IF(Y56=\"-\", \"-\", SUM(OFFSET(D56,0,VLOOKUP(Input_Details!$N$3, $AF$3:$AG$12, 2,0)-1):W56))","v":0.4},2.1739130434782612E-2]
[null,"07:45:00",null,{"$f":"IF(OFFSET('Raw Data'!T35,Input_Details!$B$34,Input_Details!$B$32)=\"\", \"-\", OFFSET('Raw Data'!T35,Input_Details!$B$34,Input_Details!$B$32))","v":0.8},{"$f":"IF(OFFSET('Raw Data'!U35,Input_Details!$B$34,Input_Details!$B$32)=\"\", \"-\", OFFSET('Raw Data'!U35,Input_Details!$B$34,Input_Details!$B$32))","v":21.2},{"$f":"IF(OFFSET('Raw Data'!V35,Input_Details!$B$34,Input_Details!$B$32)=\"\", \"-\", OFFSET('Raw Data'!V35,Input_Details!$B$34,Input_Details!$B$32))","v":5.4},{"$f":"IF(OFFSET('Raw Data'!W35,Input_Details!$B$34,Input_Details!$B$32)=\"\", \"-\", OFFSET('Raw Data'!W35,Input_Details!$B$34,Input_Details!$B$32))","v":0.4},{"$f":"IF(OFFSET('Raw Data'!X35,Input_Details!$B$34,Input_Details!$B$32)=\"\", \"-\", OFFSET('Raw Data'!X35,Input_Details!$B$34,Input_Details!$B$32))","v":0},{"$f":"IF(OFFSET('Raw Data'!Y35,Input_Details!$B$34,Input_Details!$B$32)=\"\", \"-\", OFFSET('Raw Data'!Y35,Input_Details!$B$34,Input_Details!$B$32))","v":0},{"$f":"IF(OFFSET('Raw Data'!Z35,Input_Details!$B$34,Input_Details!$B$32)=\"\", \"-\", OFFSET('Raw Data'!Z35,Input_Details!$B$34,Input_Details!$B$32))","v":0},{"$f":"IF(OFFSET('Raw Data'!AA35,Input_Details!$B$34,Input_Details!$B$32)=\"\", \"-\", OFFSET('Raw Data'!AA35,Input_Details!$B$34,Input_Details!$B$32))","v":0},{"$f":"IF(OFFSET('Raw Data'!AB35,Input_Details!$B$34,Input_Details!$B$32)=\"\", \"-\", OFFSET('Raw Data'!AB35,Input_Details!$B$34,Input_Details!$B$32))","v":0},{"$f":"IF(OFFSET('Raw Data'!AC35,Input_Details!$B$34,Input_Details!$B$32)=\"\", \"-\", OFFSET('Raw Data'!AC35,Input_Details!$B$34,Input_Details!$B$32))","v":0},{"$f":"IF(OFFSET('Raw Data'!AD35,Input_Details!$B$34,Input_Details!$B$32)=\"\", \"-\", OFFSET('Raw Data'!AD35,Input_Details!$B$34,Input_Details!$B$32))","v":0},{"$f":"IF(OFFSET('Raw Data'!AE35,Input_Details!$B$34,Input_Details!$B$32)=\"\", \"-\", OFFSET('Raw Data'!AE35,Input_Details!$B$34,Input_Details!$B$32))","v":0},{"$f":"IF(OFFSET('Raw Data'!AF35,Input_Details!$B$34,Input_Details!$B$32)=\"\", \"-\", OFFSET('Raw Data'!AF35,Input_Details!$B$34,Input_Details!$B$32))","v":0},{"$f":"IF(OFFSET('Raw Data'!AG35,Input_Details!$B$34,Input_Details!$B$32)=\"\", \"-\", OFFSET('Raw Data'!AG35,Input_Details!$B$34,Input_Details!$B$32))","v":0},{"$f":"IF(OFFSET('Raw Data'!AH35,Input_Details!$B$34,Input_Details!$B$32)=\"\", \"-\", OFFSET('Raw Data'!AH35,Input_Details!$B$34,Input_Details!$B$32))","v":0},{"$f":"IF(OFFSET('Raw Data'!AI35,Input_Details!$B$34,Input_Details!$B$32)=\"\", \"-\", OFFSET('Raw Data'!AI35,Input_Details!$B$34,Input_Details!$B$32))","v":0},{"$f":"IF(OFFSET('Raw Data'!AJ35,Input_Details!$B$34,Input_Details!$B$32)=\"\", \"-\", OFFSET('Raw Data'!AJ35,Input_Details!$B$34,Input_Details!$B$32))","v":0},{"$f":"IF(OFFSET('Raw Data'!AK35,Input_Details!$B$34,Input_Details!$B$32)=\"\", \"-\", OFFSET('Raw Data'!AK35,Input_Details!$B$34,Input_Details!$B$32))","v":0},{"$f":"IF(OFFSET('Raw Data'!AL35,Input_Details!$B$34,Input_Details!$B$32)=\"\", \"-\", OFFSET('Raw Data'!AL35,Input_Details!$B$34,Input_Details!$B$32))","v":0},{"$f":"IF(OFFSET('Raw Data'!AM35,Input_Details!$B$34,Input_Details!$B$32)=\"\", \"-\", OFFSET('Raw Data'!AM35,Input_Details!$B$34,Input_Details!$B$32))","v":0},null,{"$f":"IF(D57=\"-\",\"-\",OFFSET('Raw Data'!AN35,Input_Details!$B$34,Input_Details!$B$32))","v":13.52},{"$f":"IF(OFFSET('Raw Data'!AO35,Input_Details!$B$34,Input_Details!$B$32)=\"\", \"-\", OFFSET('Raw Data'!AO35,Input_Details!$B$34,Input_Details!$B$32))","v":15.319999999999999},{"$f":"IF(OFFSET('Raw Data'!AP35,Input_Details!$B$34,Input_Details!$B$32)=\"\", \"-\", OFFSET('Raw Data'!AP35,Input_Details!$B$34,Input_Details!$B$32))","v":1.7},{"$f":"IF(OFFSET('Raw Data'!AQ35,Input_Details!$B$34,Input_Details!$B$32)=\"\", \"-\", OFFSET('Raw Data'!AQ35,Input_Details!$B$34,Input_Details!$B$32))","v":22.7},null,{"$f":"IF(Y57=\"-\", \"-\", SUM(OFFSET(D57,0,VLOOKUP(Input_Details!$N$3, $AF$3:$AG$12, 2,0)-1):W57))","v":0.4},1.4388489208633096E-2]
[null,"08:00:00",null,{"$f":"IF(OFFSET('Raw Data'!T36,Input_Details!$B$34,Input_Details!$B$32)=\"\", \"-\", OFFSET('Raw Data'!T36,Input_Details!$B$34,Input_Details!$B$32))","v":0.8},{"$f":"IF(OFFSET('Raw Data'!U36,Input_Details!$B$34,Input_Details!$B$32)=\"\", \"-\", OFFSET('Raw Data'!U36,Input_Details!$B$34,Input_Details!$B$32))","v":23.4},{"$f":"IF(OFFSET('Raw Data'!V36,Input_Details!$B$34,Input_Details!$B$32)=\"\", \"-\", OFFSET('Raw Data'!V36,Input_Details!$B$34,Input_Details!$B$32))","v":4.8},{"$f":"IF(OFFSET('Raw Data'!W36,Input_Details!$B$34,Input_Details!$B$32)=\"\", \"-\", OFFSET('Raw Data'!W36,Input_Details!$B$34,Input_Details!$B$32))","v":0.4},{"$f":"IF(OFFSET('Raw Data'!X36,Input_Details!$B$34,Input_Details!$B$32)=\"\", \"-\", OFFSET('Raw Data'!X36,Input_Details!$B$34,Input_Details!$B$32))","v":0},{"$f":"IF(OFFSET('Raw Data'!Y36,Input_Details!$B$34,Input_Details!$B$32)=\"\", \"-\", OFFSET('Raw Data'!Y36,Input_Details!$B$34,Input_Details!$B$32))","v":0},{"$f":"IF(OFFSET('Raw Data'!Z36,Input_Details!$B$34,Input_Details!$B$32)=\"\", \"-\", OFFSET('Raw Data'!Z36,Input_Details!$B$34,Input_Details!$B$32))","v":0},{"$f":"IF(OFFSET('Raw Data'!AA36,Input_Details!$B$34,Input_Details!$B$32)=\"\", \"-\", OFFSET('Raw Data'!AA36,Input_Details!$B$34,Input_Details!$B$32))","v":0},{"$f":"IF(OFFSET('Raw Data'!AB36,Input_Details!$B$34,Input_Details!$B$32)=\"\", \"-\", OFFSET('Raw Data'!AB36,Input_Details!$B$34,Input_Details!$B$32))","v":0},{"$f":"IF(OFFSET('Raw Data'!AC36,Input_Details!$B$34,Input_Details!$B$32)=\"\", \"-\", OFFSET('Raw Data'!AC36,Input_Details!$B$34,Input_Details!$B$32))","v":0},{"$f":"IF(OFFSET('Raw Data'!AD36,Input_Details!$B$34,Input_Details!$B$32)=\"\", \"-\", OFFSET('Raw Data'!AD36,Input_Details!$B$34,Input_Details!$B$32))","v":0},{"$f":"IF(OFFSET('Raw Data'!AE36,Input_Details!$B$34,Input_Details!$B$32)=\"\", \"-\", OFFSET('Raw Data'!AE36,Input_Details!$B$34,Input_Details!$B$32))","v":0},{"$f":"IF(OFFSET('Raw Data'!AF36,Input_Details!$B$34,Input_Details!$B$32)=\"\", \"-\", OFFSET('Raw Data'!AF36,Input_Details!$B$34,Input_Details!$B$32))","v":0},{"$f":"IF(OFFSET('Raw Data'!AG36,Input_Details!$B$34,Input_Details!$B$32)=\"\", \"-\", OFFSET('Raw Data'!AG36,Input_Details!$B$34,Input_Details!$B$32))","v":0},{"$f":"IF(OFFSET('Raw Data'!AH36,Input_Details!$B$34,Input_Details!$B$32)=\"\", \"-\", OFFSET('Raw Data'!AH36,Input_Details!$B$34,Input_Details!$B$32))","v":0},{"$f":"IF(OFFSET('Raw Data'!AI36,Input_Details!$B$34,Input_Details!$B$32)=\"\", \"-\", OFFSET('Raw Data'!AI36,Input_Details!$B$34,Input_Details!$B$32))","v":0},{"$f":"IF(OFFSET('Raw Data'!AJ36,Input_Details!$B$34,Input_Details!$B$32)=\"\", \"-\", OFFSET('Raw Data'!AJ36,Input_Details!$B$34,Input_Details!$B$32))","v":0},{"$f":"IF(OFFSET('Raw Data'!AK36,Input_Details!$B$34,Input_Details!$B$32)=\"\", \"-\", OFFSET('Raw Data'!AK36,Input_Details!$B$34,Input_Details!$B$32))","v":0},{"$f":"IF(OFFSET('Raw Data'!AL36,Input_Details!$B$34,Input_Details!$B$32)=\"\", \"-\", OFFSET('Raw Data'!AL36,Input_Details!$B$34,Input_Details!$B$32))","v":0},{"$f":"IF(OFFSET('Raw Data'!AM36,Input_Details!$B$34,Input_Details!$B$32)=\"\", \"-\", OFFSET('Raw Data'!AM36,Input_Details!$B$34,Input_Details!$B$32))","v":0},null,{"$f":"IF(D58=\"-\",\"-\",OFFSET('Raw Data'!AN36,Input_Details!$B$34,Input_Details!$B$32))","v":13.36},{"$f":"IF(OFFSET('Raw Data'!AO36,Input_Details!$B$34,Input_Details!$B$32)=\"\", \"-\", OFFSET('Raw Data'!AO36,Input_Details!$B$34,Input_Details!$B$32))","v":14.98},{"$f":"IF(OFFSET('Raw Data'!AP36,Input_Details!$B$34,Input_Details!$B$32)=\"\", \"-\", OFFSET('Raw Data'!AP36,Input_Details!$B$34,Input_Details!$B$32))","v":6.5},{"$f":"IF(OFFSET('Raw Data'!AQ36,Input_Details!$B$34,Input_Details!$B$32)=\"\", \"-\", OFFSET('Raw Data'!AQ36,Input_Details!$B$34,Input_Details!$B$32))","v":23.7},null,{"$f":"IF(Y58=\"-\", \"-\", SUM(OFFSET(D58,0,VLOOKUP(Input_Details!$N$3, $AF$3:$AG$12, 2,0)-1):W58))","v":0.4},1.360544217687075E-2]
[null,"08:15:00",null,{"$f":"IF(OFFSET('Raw Data'!T37,Input_Details!$B$34,Input_Details!$B$32)=\"\", \"-\", OFFSET('Raw Data'!T37,Input_Details!$B$34,Input_Details!$B$32))","v":0.6},{"$f":"IF(OFFSET('Raw Data'!U37,Input_Details!$B$34,Input_Details!$B$32)=\"\", \"-\", OFFSET('Raw Data'!U37,Input_Details!$B$34,Input_Details!$B$32))","v":32.6},{"$f":"IF(OFFSET('Raw Data'!V37,Input_Details!$B$34,Input_Details!$B$32)=\"\", \"-\", OFFSET('Raw Data'!V37,Input_Details!$B$34,Input_Details!$B$32))","v":8},{"$f":"IF(OFFSET('Raw Data'!W37,Input_Details!$B$34,Input_Details!$B$32)=\"\", \"-\", OFFSET('Raw Data'!W37,Input_Details!$B$34,Input_Details!$B$32))","v":0.6},{"$f":"IF(OFFSET('Raw Data'!X37,Input_Details!$B$34,Input_Details!$B$32)=\"\", \"-\", OFFSET('Raw Data'!X37,Input_Details!$B$34,Input_Details!$B$32))","v":0},{"$f":"IF(OFFSET('Raw Data'!Y37,Input_Details!$B$34,Input_Details!$B$32)=\"\", \"-\", OFFSET('Raw Data'!Y37,Input_Details!$B$34,Input_Details!$B$32))","v":0},{"$f":"IF(OFFSET('Raw Data'!Z37,Input_Details!$B$34,Input_Details!$B$32)=\"\", \"-\", OFFSET('Raw Data'!Z37,Input_Details!$B$34,Input_Details!$B$32))","v":0},{"$f":"IF(OFFSET('Raw Data'!AA37,Input_Details!$B$34,Input_Details!$B$32)=\"\", \"-\", OFFSET('Raw Data'!AA37,Input_Details!$B$34,Input_Details!$B$32))","v":0},{"$f":"IF(OFFSET('Raw Data'!AB37,Input_Details!$B$34,Input_Details!$B$32)=\"\", \"-\", OFFSET('Raw Data'!AB37,Input_Details!$B$34,Input_Details!$B$32))","v":0},{"$f":"IF(OFFSET('Raw Data'!AC37,Input_Details!$B$34,Input_Details!$B$32)=\"\", \"-\", OFFSET('Raw Data'!AC37,Input_Details!$B$34,Input_Details!$B$32))","v":0},{"$f":"IF(OFFSET('Raw Data'!AD37,Input_Details!$B$34,Input_Details!$B$32)=\"\", \"-\", OFFSET('Raw Data'!AD37,Input_Details!$B$34,Input_Details!$B$32))","v":0},{"$f":"IF(OFFSET('Raw Data'!AE37,Input_Details!$B$34,Input_Details!$B$32)=\"\", \"-\", OFFSET('Raw Data'!AE37,Input_Details!$B$34,Input_Details!$B$32))","v":0},{"$f":"IF(OFFSET('Raw Data'!AF37,Input_Details!$B$34,Input_Details!$B$32)=\"\", \"-\", OFFSET('Raw Data'!AF37,Input_Details!$B$34,Input_Details!$B$32))","v":0},{"$f":"IF(OFFSET('Raw Data'!AG37,Input_Details!$B$34,Input_Details!$B$32)=\"\", \"-\", OFFSET('Raw Data'!AG37,Input_Details!$B$34,Input_Details!$B$32))","v":0},{"$f":"IF(OFFSET('Raw Data'!AH37,Input_Details!$B$34,Input_Details!$B$32)=\"\", \"-\", OFFSET('Raw Data'!AH37,Input_Details!$B$34,Input_Details!$B$32))","v":0},{"$f":"IF(OFFSET('Raw Data'!AI37,Input_Details!$B$34,Input_Details!$B$32)=\"\", \"-\", OFFSET('Raw Data'!AI37,Input_Details!$B$34,Input_Details!$B$32))","v":0},{"$f":"IF(OFFSET('Raw Data'!AJ37,Input_Details!$B$34,Input_Details!$B$32)=\"\", \"-\", OFFSET('Raw Data'!AJ37,Input_Details!$B$34,Input_Details!$B$32))","v":0},{"$f":"IF(OFFSET('Raw Data'!AK37,Input_Details!$B$34,Input_Details!$B$32)=\"\", \"-\", OFFSET('Raw Data'!AK37,Input_Details!$B$34,Input_Details!$B$32))","v":0},{"$f":"IF(OFFSET('Raw Data'!AL37,Input_Details!$B$34,Input_Details!$B$32)=\"\", \"-\", OFFSET('Raw Data'!AL37,Input_Details!$B$34,Input_Details!$B$32))","v":0},{"$f":"IF(OFFSET('Raw Data'!AM37,Input_Details!$B$34,Input_Details!$B$32)=\"\", \"-\", OFFSET('Raw Data'!AM37,Input_Details!$B$34,Input_Details!$B$32))","v":0},null,{"$f":"IF(D59=\"-\",\"-\",OFFSET('Raw Data'!AN37,Input_Details!$B$34,Input_Details!$B$32))","v":13.52},{"$f":"IF(OFFSET('Raw Data'!AO37,Input_Details!$B$34,Input_Details!$B$32)=\"\", \"-\", OFFSET('Raw Data'!AO37,Input_Details!$B$34,Input_Details!$B$32))","v":15.280000000000001},{"$f":"IF(OFFSET('Raw Data'!AP37,Input_Details!$B$34,Input_Details!$B$32)=\"\", \"-\", OFFSET('Raw Data'!AP37,Input_Details!$B$34,Input_Details!$B$32))","v":4.5},{"$f":"IF(OFFSET('Raw Data'!AQ37,Input_Details!$B$34,Input_Details!$B$32)=\"\", \"-\", OFFSET('Raw Data'!AQ37,Input_Details!$B$34,Input_Details!$B$32))","v":24.6},null,{"$f":"IF(Y59=\"-\", \"-\", SUM(OFFSET(D59,0,VLOOKUP(Input_Details!$N$3, $AF$3:$AG$12, 2,0)-1):W59))","v":0.6},1.4354066985645932E-2]
[null,"08:30:00",null,{"$f":"IF(OFFSET('Raw Data'!T38,Input_Details!$B$34,Input_Details!$B$32)=\"\", \"-\", OFFSET('Raw Data'!T38,Input_Details!$B$34,Input_Details!$B$32))","v":0.6},{"$f":"IF(OFFSET('Raw Data'!U38,Input_Details!$B$34,Input_Details!$B$32)=\"\", \"-\", OFFSET('Raw Data'!U38,Input_Details!$B$34,Input_Details!$B$32))","v":34.799999999999997},{"$f":"IF(OFFSET('Raw Data'!V38,Input_Details!$B$34,Input_Details!$B$32)=\"\", \"-\", OFFSET('Raw Data'!V38,Input_Details!$B$34,Input_Details!$B$32))","v":7.2},{"$f":"IF(OFFSET('Raw Data'!W38,Input_Details!$B$34,Input_Details!$B$32)=\"\", \"-\", OFFSET('Raw Data'!W38,Input_Details!$B$34,Input_Details!$B$32))","v":0.4},{"$f":"IF(OFFSET('Raw Data'!X38,Input_Details!$B$34,Input_Details!$B$32)=\"\", \"-\", OFFSET('Raw Data'!X38,Input_Details!$B$34,Input_Details!$B$32))","v":0},{"$f":"IF(OFFSET('Raw Data'!Y38,Input_Details!$B$34,Input_Details!$B$32)=\"\", \"-\", OFFSET('Raw Data'!Y38,Input_Details!$B$34,Input_Details!$B$32))","v":0},{"$f":"IF(OFFSET('Raw Data'!Z38,Input_Details!$B$34,Input_Details!$B$32)=\"\", \"-\", OFFSET('Raw Data'!Z38,Input_Details!$B$34,Input_Details!$B$32))","v":0},{"$f":"IF(OFFSET('Raw Data'!AA38,Input_Details!$B$34,Input_Details!$B$32)=\"\", \"-\", OFFSET('Raw Data'!AA38,Input_Details!$B$34,Input_Details!$B$32))","v":0},{"$f":"IF(OFFSET('Raw Data'!AB38,Input_Details!$B$34,Input_Details!$B$32)=\"\", \"-\", OFFSET('Raw Data'!AB38,Input_Details!$B$34,Input_Details!$B$32))","v":0},{"$f":"IF(OFFSET('Raw Data'!AC38,Input_Details!$B$34,Input_Details!$B$32)=\"\", \"-\", OFFSET('Raw Data'!AC38,Input_Details!$B$34,Input_Details!$B$32))","v":0},{"$f":"IF(OFFSET('Raw Data'!AD38,Input_Details!$B$34,Input_Details!$B$32)=\"\", \"-\", OFFSET('Raw Data'!AD38,Input_Details!$B$34,Input_Details!$B$32))","v":0},{"$f":"IF(OFFSET('Raw Data'!AE38,Input_Details!$B$34,Input_Details!$B$32)=\"\", \"-\", OFFSET('Raw Data'!AE38,Input_Details!$B$34,Input_Details!$B$32))","v":0},{"$f":"IF(OFFSET('Raw Data'!AF38,Input_Details!$B$34,Input_Details!$B$32)=\"\", \"-\", OFFSET('Raw Data'!AF38,Input_Details!$B$34,Input_Details!$B$32))","v":0},{"$f":"IF(OFFSET('Raw Data'!AG38,Input_Details!$B$34,Input_Details!$B$32)=\"\", \"-\", OFFSET('Raw Data'!AG38,Input_Details!$B$34,Input_Details!$B$32))","v":0},{"$f":"IF(OFFSET('Raw Data'!AH38,Input_Details!$B$34,Input_Details!$B$32)=\"\", \"-\", OFFSET('Raw Data'!AH38,Input_Details!$B$34,Input_Details!$B$32))","v":0},{"$f":"IF(OFFSET('Raw Data'!AI38,Input_Details!$B$34,Input_Details!$B$32)=\"\", \"-\", OFFSET('Raw Data'!AI38,Input_Details!$B$34,Input_Details!$B$32))","v":0},{"$f":"IF(OFFSET('Raw Data'!AJ38,Input_Details!$B$34,Input_Details!$B$32)=\"\", \"-\", OFFSET('Raw Data'!AJ38,Input_Details!$B$34,Input_Details!$B$32))","v":0},{"$f":"IF(OFFSET('Raw Data'!AK38,Input_Details!$B$34,Input_Details!$B$32)=\"\", \"-\", OFFSET('Raw Data'!AK38,Input_Details!$B$34,Input_Details!$B$32))","v":0},{"$f":"IF(OFFSET('Raw Data'!AL38,Input_Details!$B$34,Input_Details!$B$32)=\"\", \"-\", OFFSET('Raw Data'!AL38,Input_Details!$B$34,Input_Details!$B$32))","v":0},{"$f":"IF(OFFSET('Raw Data'!AM38,Input_Details!$B$34,Input_Details!$B$32)=\"\", \"-\", OFFSET('Raw Data'!AM38,Input_Details!$B$34,Input_Details!$B$32))","v":0},null,{"$f":"IF(D60=\"-\",\"-\",OFFSET('Raw Data'!AN38,Input_Details!$B$34,Input_Details!$B$32))","v":13.74},{"$f":"IF(OFFSET('Raw Data'!AO38,Input_Details!$B$34,Input_Details!$B$32)=\"\", \"-\", OFFSET('Raw Data'!AO38,Input_Details!$B$34,Input_Details!$B$32))","v":15.040000000000001},{"$f":"IF(OFFSET('Raw Data'!AP38,Input_Details!$B$34,Input_Details!$B$32)=\"\", \"-\", OFFSET('Raw Data'!AP38,Input_Details!$B$34,Input_Details!$B$32))","v":6.8},{"$f":"IF(OFFSET('Raw Data'!AQ38,Input_Details!$B$34,Input_Details!$B$32)=\"\", \"-\", OFFSET('Raw Data'!AQ38,Input_Details!$B$34,Input_Details!$B$32))","v":21.2},null,{"$f":"IF(Y60=\"-\", \"-\", SUM(OFFSET(D60,0,VLOOKUP(Input_Details!$N$3, $AF$3:$AG$12, 2,0)-1):W60))","v":0.4},9.3023255813953487E-3]
[null,"08:45:00",null,{"$f":"IF(OFFSET('Raw Data'!T39,Input_Details!$B$34,Input_Details!$B$32)=\"\", \"-\", OFFSET('Raw Data'!T39,Input_Details!$B$34,Input_Details!$B$32))","v":0.4},{"$f":"IF(OFFSET('Raw Data'!U39,Input_Details!$B$34,Input_Details!$B$32)=\"\", \"-\", OFFSET('Raw Data'!U39,Input_Details!$B$34,Input_Details!$B$32))","v":34.200000000000003},{"$f":"IF(OFFSET('Raw Data'!V39,Input_Details!$B$34,Input_Details!$B$32)=\"\", \"-\", OFFSET('Raw Data'!V39,Input_Details!$B$34,Input_Details!$B$32))","v":9},{"$f":"IF(OFFSET('Raw Data'!W39,Input_Details!$B$34,Input_Details!$B$32)=\"\", \"-\", OFFSET('Raw Data'!W39,Input_Details!$B$34,Input_Details!$B$32))","v":0.4},{"$f":"IF(OFFSET('Raw Data'!X39,Input_Details!$B$34,Input_Details!$B$32)=\"\", \"-\", OFFSET('Raw Data'!X39,Input_Details!$B$34,Input_Details!$B$32))","v":0},{"$f":"IF(OFFSET('Raw Data'!Y39,Input_Details!$B$34,Input_Details!$B$32)=\"\", \"-\", OFFSET('Raw Data'!Y39,Input_Details!$B$34,Input_Details!$B$32))","v":0},{"$f":"IF(OFFSET('Raw Data'!Z39,Input_Details!$B$34,Input_Details!$B$32)=\"\", \"-\", OFFSET('Raw Data'!Z39,Input_Details!$B$34,Input_Details!$B$32))","v":0},{"$f":"IF(OFFSET('Raw Data'!AA39,Input_Details!$B$34,Input_Details!$B$32)=\"\", \"-\", OFFSET('Raw Data'!AA39,Input_Details!$B$34,Input_Details!$B$32))","v":0},{"$f":"IF(OFFSET('Raw Data'!AB39,Input_Details!$B$34,Input_Details!$B$32)=\"\", \"-\", OFFSET('Raw Data'!AB39,Input_Details!$B$34,Input_Details!$B$32))","v":0},{"$f":"IF(OFFSET('Raw Data'!AC39,Input_Details!$B$34,Input_Details!$B$32)=\"\", \"-\", OFFSET('Raw Data'!AC39,Input_Details!$B$34,Input_Details!$B$32))","v":0},{"$f":"IF(OFFSET('Raw Data'!AD39,Input_Details!$B$34,Input_Details!$B$32)=\"\", \"-\", OFFSET('Raw Data'!AD39,Input_Details!$B$34,Input_Details!$B$32))","v":0},{"$f":"IF(OFFSET('Raw Data'!AE39,Input_Details!$B$34,Input_Details!$B$32)=\"\", \"-\", OFFSET('Raw Data'!AE39,Input_Details!$B$34,Input_Details!$B$32))","v":0},{"$f":"IF(OFFSET('Raw Data'!AF39,Input_Details!$B$34,Input_Details!$B$32)=\"\", \"-\", OFFSET('Raw Data'!AF39,Input_Details!$B$34,Input_Details!$B$32))","v":0},{"$f":"IF(OFFSET('Raw Data'!AG39,Input_Details!$B$34,Input_Details!$B$32)=\"\", \"-\", OFFSET('Raw Data'!AG39,Input_Details!$B$34,Input_Details!$B$32))","v":0},{"$f":"IF(OFFSET('Raw Data'!AH39,Input_Details!$B$34,Input_Details!$B$32)=\"\", \"-\", OFFSET('Raw Data'!AH39,Input_Details!$B$34,Input_Details!$B$32))","v":0},{"$f":"IF(OFFSET('Raw Data'!AI39,Input_Details!$B$34,Input_Details!$B$32)=\"\", \"-\", OFFSET('Raw Data'!AI39,Input_Details!$B$34,Input_Details!$B$32))","v":0},{"$f":"IF(OFFSET('Raw Data'!AJ39,Input_Details!$B$34,Input_Details!$B$32)=\"\", \"-\", OFFSET('Raw Data'!AJ39,Input_Details!$B$34,Input_Details!$B$32))","v":0},{"$f":"IF(OFFSET('Raw Data'!AK39,Input_Details!$B$34,Input_Details!$B$32)=\"\", \"-\", OFFSET('Raw Data'!AK39,Input_Details!$B$34,Input_Details!$B$32))","v":0},{"$f":"IF(OFFSET('Raw Data'!AL39,Input_Details!$B$34,Input_Details!$B$32)=\"\", \"-\", OFFSET('Raw Data'!AL39,Input_Details!$B$34,Input_Details!$B$32))","v":0},{"$f":"IF(OFFSET('Raw Data'!AM39,Input_Details!$B$34,Input_Details!$B$32)=\"\", \"-\", OFFSET('Raw Data'!AM39,Input_Details!$B$34,Input_Details!$B$32))","v":0},null,{"$f":"IF(D61=\"-\",\"-\",OFFSET('Raw Data'!AN39,Input_Details!$B$34,Input_Details!$B$32))","v":13.76},{"$f":"IF(OFFSET('Raw Data'!AO39,Input_Details!$B$34,Input_Details!$B$32)=\"\", \"-\", OFFSET('Raw Data'!AO39,Input_Details!$B$34,Input_Details!$B$32))","v":15.180000000000001},{"$f":"IF(OFFSET('Raw Data'!AP39,Input_Details!$B$34,Input_Details!$B$32)=\"\", \"-\", OFFSET('Raw Data'!AP39,Input_Details!$B$34,Input_Details!$B$32))","v":6.5},{"$f":"IF(OFFSET('Raw Data'!AQ39,Input_Details!$B$34,Input_Details!$B$32)=\"\", \"-\", OFFSET('Raw Data'!AQ39,Input_Details!$B$34,Input_Details!$B$32))","v":22.4},null,{"$f":"IF(Y61=\"-\", \"-\", SUM(OFFSET(D61,0,VLOOKUP(Input_Details!$N$3, $AF$3:$AG$12, 2,0)-1):W61))","v":0.4},9.0909090909090922E-3]
[null,"09:00:00",null,{"$f":"IF(OFFSET('Raw Data'!T40,Input_Details!$B$34,Input_Details!$B$32)=\"\", \"-\", OFFSET('Raw Data'!T40,Input_Details!$B$34,Input_Details!$B$32))","v":1},{"$f":"IF(OFFSET('Raw Data'!U40,Input_Details!$B$34,Input_Details!$B$32)=\"\", \"-\", OFFSET('Raw Data'!U40,Input_Details!$B$34,Input_Details!$B$32))","v":29.4},{"$f":"IF(OFFSET('Raw Data'!V40,Input_Details!$B$34,Input_Details!$B$32)=\"\", \"-\", OFFSET('Raw Data'!V40,Input_Details!$B$34,Input_Details!$B$32))","v":5.4},{"$f":"IF(OFFSET('Raw Data'!W40,Input_Details!$B$34,Input_Details!$B$32)=\"\", \"-\", OFFSET('Raw Data'!W40,Input_Details!$B$34,Input_Details!$B$32))","v":0.2},{"$f":"IF(OFFSET('Raw Data'!X40,Input_Details!$B$34,Input_Details!$B$32)=\"\", \"-\", OFFSET('Raw Data'!X40,Input_Details!$B$34,Input_Details!$B$32))","v":0},{"$f":"IF(OFFSET('Raw Data'!Y40,Input_Details!$B$34,Input_Details!$B$32)=\"\", \"-\", OFFSET('Raw Data'!Y40,Input_Details!$B$34,Input_Details!$B$32))","v":0},{"$f":"IF(OFFSET('Raw Data'!Z40,Input_Details!$B$34,Input_Details!$B$32)=\"\", \"-\", OFFSET('Raw Data'!Z40,Input_Details!$B$34,Input_Details!$B$32))","v":0},{"$f":"IF(OFFSET('Raw Data'!AA40,Input_Details!$B$34,Input_Details!$B$32)=\"\", \"-\", OFFSET('Raw Data'!AA40,Input_Details!$B$34,Input_Details!$B$32))","v":0},{"$f":"IF(OFFSET('Raw Data'!AB40,Input_Details!$B$34,Input_Details!$B$32)=\"\", \"-\", OFFSET('Raw Data'!AB40,Input_Details!$B$34,Input_Details!$B$32))","v":0},{"$f":"IF(OFFSET('Raw Data'!AC40,Input_Details!$B$34,Input_Details!$B$32)=\"\", \"-\", OFFSET('Raw Data'!AC40,Input_Details!$B$34,Input_Details!$B$32))","v":0},{"$f":"IF(OFFSET('Raw Data'!AD40,Input_Details!$B$34,Input_Details!$B$32)=\"\", \"-\", OFFSET('Raw Data'!AD40,Input_Details!$B$34,Input_Details!$B$32))","v":0},{"$f":"IF(OFFSET('Raw Data'!AE40,Input_Details!$B$34,Input_Details!$B$32)=\"\", \"-\", OFFSET('Raw Data'!AE40,Input_Details!$B$34,Input_Details!$B$32))","v":0},{"$f":"IF(OFFSET('Raw Data'!AF40,Input_Details!$B$34,Input_Details!$B$32)=\"\", \"-\", OFFSET('Raw Data'!AF40,Input_Details!$B$34,Input_Details!$B$32))","v":0},{"$f":"IF(OFFSET('Raw Data'!AG40,Input_Details!$B$34,Input_Details!$B$32)=\"\", \"-\", OFFSET('Raw Data'!AG40,Input_Details!$B$34,Input_Details!$B$32))","v":0},{"$f":"IF(OFFSET('Raw Data'!AH40,Input_Details!$B$34,Input_Details!$B$32)=\"\", \"-\", OFFSET('Raw Data'!AH40,Input_Details!$B$34,Input_Details!$B$32))","v":0},{"$f":"IF(OFFSET('Raw Data'!AI40,Input_Details!$B$34,Input_Details!$B$32)=\"\", \"-\", OFFSET('Raw Data'!AI40,Input_Details!$B$34,Input_Details!$B$32))","v":0},{"$f":"IF(OFFSET('Raw Data'!AJ40,Input_Details!$B$34,Input_Details!$B$32)=\"\", \"-\", OFFSET('Raw Data'!AJ40,Input_Details!$B$34,Input_Details!$B$32))","v":0},{"$f":"IF(OFFSET('Raw Data'!AK40,Input_Details!$B$34,Input_Details!$B$32)=\"\", \"-\", OFFSET('Raw Data'!AK40,Input_Details!$B$34,Input_Details!$B$32))","v":0},{"$f":"IF(OFFSET('Raw Data'!AL40,Input_Details!$B$34,Input_Details!$B$32)=\"\", \"-\", OFFSET('Raw Data'!AL40,Input_Details!$B$34,Input_Details!$B$32))","v":0},{"$f":"IF(OFFSET('Raw Data'!AM40,Input_Details!$B$34,Input_Details!$B$32)=\"\", \"-\", OFFSET('Raw Data'!AM40,Input_Details!$B$34,Input_Details!$B$32))","v":0},null,{"$f":"IF(D62=\"-\",\"-\",OFFSET('Raw Data'!AN40,Input_Details!$B$34,Input_Details!$B$32))","v":13.419999999999998},{"$f":"IF(OFFSET('Raw Data'!AO40,Input_Details!$B$34,Input_Details!$B$32)=\"\", \"-\", OFFSET('Raw Data'!AO40,Input_Details!$B$34,Input_Details!$B$32))","v":14.86},{"$f":"IF(OFFSET('Raw Data'!AP40,Input_Details!$B$34,Input_Details!$B$32)=\"\", \"-\", OFFSET('Raw Data'!AP40,Input_Details!$B$34,Input_Details!$B$32))","v":5.8},{"$f":"IF(OFFSET('Raw Data'!AQ40,Input_Details!$B$34,Input_Details!$B$32)=\"\", \"-\", OFFSET('Raw Data'!AQ40,Input_Details!$B$34,Input_Details!$B$32))","v":20.5},null,{"$f":"IF(Y62=\"-\", \"-\", SUM(OFFSET(D62,0,VLOOKUP(Input_Details!$N$3, $AF$3:$AG$12, 2,0)-1):W62))","v":0.2},5.5555555555555558E-3]
[null,"09:15:00",null,{"$f":"IF(OFFSET('Raw Data'!T41,Input_Details!$B$34,Input_Details!$B$32)=\"\", \"-\", OFFSET('Raw Data'!T41,Input_Details!$B$34,Input_Details!$B$32))","v":0.6},{"$f":"IF(OFFSET('Raw Data'!U41,Input_Details!$B$34,Input_Details!$B$32)=\"\", \"-\", OFFSET('Raw Data'!U41,Input_Details!$B$34,Input_Details!$B$32))","v":21},{"$f":"IF(OFFSET('Raw Data'!V41,Input_Details!$B$34,Input_Details!$B$32)=\"\", \"-\", OFFSET('Raw Data'!V41,Input_Details!$B$34,Input_Details!$B$32))","v":5.6},{"$f":"IF(OFFSET('Raw Data'!W41,Input_Details!$B$34,Input_Details!$B$32)=\"\", \"-\", OFFSET('Raw Data'!W41,Input_Details!$B$34,Input_Details!$B$32))","v":0.6},{"$f":"IF(OFFSET('Raw Data'!X41,Input_Details!$B$34,Input_Details!$B$32)=\"\", \"-\", OFFSET('Raw Data'!X41,Input_Details!$B$34,Input_Details!$B$32))","v":0},{"$f":"IF(OFFSET('Raw Data'!Y41,Input_Details!$B$34,Input_Details!$B$32)=\"\", \"-\", OFFSET('Raw Data'!Y41,Input_Details!$B$34,Input_Details!$B$32))","v":0},{"$f":"IF(OFFSET('Raw Data'!Z41,Input_Details!$B$34,Input_Details!$B$32)=\"\", \"-\", OFFSET('Raw Data'!Z41,Input_Details!$B$34,Input_Details!$B$32))","v":0},{"$f":"IF(OFFSET('Raw Data'!AA41,Input_Details!$B$34,Input_Details!$B$32)=\"\", \"-\", OFFSET('Raw Data'!AA41,Input_Details!$B$34,Input_Details!$B$32))","v":0},{"$f":"IF(OFFSET('Raw Data'!AB41,Input_Details!$B$34,Input_Details!$B$32)=\"\", \"-\", OFFSET('Raw Data'!AB41,Input_Details!$B$34,Input_Details!$B$32))","v":0},{"$f":"IF(OFFSET('Raw Data'!AC41,Input_Details!$B$34,Input_Details!$B$32)=\"\", \"-\", OFFSET('Raw Data'!AC41,Input_Details!$B$34,Input_Details!$B$32))","v":0},{"$f":"IF(OFFSET('Raw Data'!AD41,Input_Details!$B$34,Input_Details!$B$32)=\"\", \"-\", OFFSET('Raw Data'!AD41,Input_Details!$B$34,Input_Details!$B$32))","v":0},{"$f":"IF(OFFSET('Raw Data'!AE41,Input_Details!$B$34,Input_Details!$B$32)=\"\", \"-\", OFFSET('Raw Data'!AE41,Input_Details!$B$34,Input_Details!$B$32))","v":0},{"$f":"IF(OFFSET('Raw Data'!AF41,Input_Details!$B$34,Input_Details!$B$32)=\"\", \"-\", OFFSET('Raw Data'!AF41,Input_Details!$B$34,Input_Details!$B$32))","v":0},{"$f":"IF(OFFSET('Raw Data'!AG41,Input_Details!$B$34,Input_Details!$B$32)=\"\", \"-\", OFFSET('Raw Data'!AG41,Input_Details!$B$34,Input_Details!$B$32))","v":0},{"$f":"IF(OFFSET('Raw Data'!AH41,Input_Details!$B$34,Input_Details!$B$32)=\"\", \"-\", OFFSET('Raw Data'!AH41,Input_Details!$B$34,Input_Details!$B$32))","v":0},{"$f":"IF(OFFSET('Raw Data'!AI41,Input_Details!$B$34,Input_Details!$B$32)=\"\", \"-\", OFFSET('Raw Data'!AI41,Input_Details!$B$34,Input_Details!$B$32))","v":0},{"$f":"IF(OFFSET('Raw Data'!AJ41,Input_Details!$B$34,Input_Details!$B$32)=\"\", \"-\", OFFSET('Raw Data'!AJ41,Input_Details!$B$34,Input_Details!$B$32))","v":0},{"$f":"IF(OFFSET('Raw Data'!AK41,Input_Details!$B$34,Input_Details!$B$32)=\"\", \"-\", OFFSET('Raw Data'!AK41,Input_Details!$B$34,Input_Details!$B$32))","v":0},{"$f":"IF(OFFSET('Raw Data'!AL41,Input_Details!$B$34,Input_Details!$B$32)=\"\", \"-\", OFFSET('Raw Data'!AL41,Input_Details!$B$34,Input_Details!$B$32))","v":0},{"$f":"IF(OFFSET('Raw Data'!AM41,Input_Details!$B$34,Input_Details!$B$32)=\"\", \"-\", OFFSET('Raw Data'!AM41,Input_Details!$B$34,Input_Details!$B$32))","v":0},null,{"$f":"IF(D63=\"-\",\"-\",OFFSET('Raw Data'!AN41,Input_Details!$B$34,Input_Details!$B$32))","v":13.9},{"$f":"IF(OFFSET('Raw Data'!AO41,Input_Details!$B$34,Input_Details!$B$32)=\"\", \"-\", OFFSET('Raw Data'!AO41,Input_Details!$B$34,Input_Details!$B$32))","v":15.26},{"$f":"IF(OFFSET('Raw Data'!AP41,Input_Details!$B$34,Input_Details!$B$32)=\"\", \"-\", OFFSET('Raw Data'!AP41,Input_Details!$B$34,Input_Details!$B$32))","v":9.4},{"$f":"IF(OFFSET('Raw Data'!AQ41,Input_Details!$B$34,Input_Details!$B$32)=\"\", \"-\", OFFSET('Raw Data'!AQ41,Input_Details!$B$34,Input_Details!$B$32))","v":25},null,{"$f":"IF(Y63=\"-\", \"-\", SUM(OFFSET(D63,0,VLOOKUP(Input_Details!$N$3, $AF$3:$AG$12, 2,0)-1):W63))","v":0.6},2.1582733812949634E-2]
[null,"09:30:00",null,{"$f":"IF(OFFSET('Raw Data'!T42,Input_Details!$B$34,Input_Details!$B$32)=\"\", \"-\", OFFSET('Raw Data'!T42,Input_Details!$B$34,Input_Details!$B$32))","v":2.2000000000000002},{"$f":"IF(OFFSET('Raw Data'!U42,Input_Details!$B$34,Input_Details!$B$32)=\"\", \"-\", OFFSET('Raw Data'!U42,Input_Details!$B$34,Input_Details!$B$32))","v":17.2},{"$f":"IF(OFFSET('Raw Data'!V42,Input_Details!$B$34,Input_Details!$B$32)=\"\", \"-\", OFFSET('Raw Data'!V42,Input_Details!$B$34,Input_Details!$B$32))","v":4.2},{"$f":"IF(OFFSET('Raw Data'!W42,Input_Details!$B$34,Input_Details!$B$32)=\"\", \"-\", OFFSET('Raw Data'!W42,Input_Details!$B$34,Input_Details!$B$32))","v":0.8},{"$f":"IF(OFFSET('Raw Data'!X42,Input_Details!$B$34,Input_Details!$B$32)=\"\", \"-\", OFFSET('Raw Data'!X42,Input_Details!$B$34,Input_Details!$B$32))","v":0.2},{"$f":"IF(OFFSET('Raw Data'!Y42,Input_Details!$B$34,Input_Details!$B$32)=\"\", \"-\", OFFSET('Raw Data'!Y42,Input_Details!$B$34,Input_Details!$B$32))","v":0},{"$f":"IF(OFFSET('Raw Data'!Z42,Input_Details!$B$34,Input_Details!$B$32)=\"\", \"-\", OFFSET('Raw Data'!Z42,Input_Details!$B$34,Input_Details!$B$32))","v":0},{"$f":"IF(OFFSET('Raw Data'!AA42,Input_Details!$B$34,Input_Details!$B$32)=\"\", \"-\", OFFSET('Raw Data'!AA42,Input_Details!$B$34,Input_Details!$B$32))","v":0},{"$f":"IF(OFFSET('Raw Data'!AB42,Input_Details!$B$34,Input_Details!$B$32)=\"\", \"-\", OFFSET('Raw Data'!AB42,Input_Details!$B$34,Input_Details!$B$32))","v":0},{"$f":"IF(OFFSET('Raw Data'!AC42,Input_Details!$B$34,Input_Details!$B$32)=\"\", \"-\", OFFSET('Raw Data'!AC42,Input_Details!$B$34,Input_Details!$B$32))","v":0},{"$f":"IF(OFFSET('Raw Data'!AD42,Input_Details!$B$34,Input_Details!$B$32)=\"\", \"-\", OFFSET('Raw Data'!AD42,Input_Details!$B$34,Input_Details!$B$32))","v":0},{"$f":"IF(OFFSET('Raw Data'!AE42,Input_Details!$B$34,Input_Details!$B$32)=\"\", \"-\", OFFSET('Raw Data'!AE42,Input_Details!$B$34,Input_Details!$B$32))","v":0},{"$f":"IF(OFFSET('Raw Data'!AF42,Input_Details!$B$34,Input_Details!$B$32)=\"\", \"-\", OFFSET('Raw Data'!AF42,Input_Details!$B$34,Input_Details!$B$32))","v":0},{"$f":"IF(OFFSET('Raw Data'!AG42,Input_Details!$B$34,Input_Details!$B$32)=\"\", \"-\", OFFSET('Raw Data'!AG42,Input_Details!$B$34,Input_Details!$B$32))","v":0},{"$f":"IF(OFFSET('Raw Data'!AH42,Input_Details!$B$34,Input_Details!$B$32)=\"\", \"-\", OFFSET('Raw Data'!AH42,Input_Details!$B$34,Input_Details!$B$32))","v":0},{"$f":"IF(OFFSET('Raw Data'!AI42,Input_Details!$B$34,Input_Details!$B$32)=\"\", \"-\", OFFSET('Raw Data'!AI42,Input_Details!$B$34,Input_Details!$B$32))","v":0},{"$f":"IF(OFFSET('Raw Data'!AJ42,Input_Details!$B$34,Input_Details!$B$32)=\"\", \"-\", OFFSET('Raw Data'!AJ42,Input_Details!$B$34,Input_Details!$B$32))","v":0},{"$f":"IF(OFFSET('Raw Data'!AK42,Input_Details!$B$34,Input_Details!$B$32)=\"\", \"-\", OFFSET('Raw Data'!AK42,Input_Details!$B$34,Input_Details!$B$32))","v":0},{"$f":"IF(OFFSET('Raw Data'!AL42,Input_Details!$B$34,Input_Details!$B$32)=\"\", \"-\", OFFSET('Raw Data'!AL42,Input_Details!$B$34,Input_Details!$B$32))","v":0},{"$f":"IF(OFFSET('Raw Data'!AM42,Input_Details!$B$34,Input_Details!$B$32)=\"\", \"-\", OFFSET('Raw Data'!AM42,Input_Details!$B$34,Input_Details!$B$32))","v":0},null,{"$f":"IF(D64=\"-\",\"-\",OFFSET('Raw Data'!AN42,Input_Details!$B$34,Input_Details!$B$32))","v":13.319999999999999},{"$f":"IF(OFFSET('Raw Data'!AO42,Input_Details!$B$34,Input_Details!$B$32)=\"\", \"-\", OFFSET('Raw Data'!AO42,Input_Details!$B$34,Input_Details!$B$32))","v":15.219999999999999},{"$f":"IF(OFFSET('Raw Data'!AP42,Input_Details!$B$34,Input_Details!$B$32)=\"\", \"-\", OFFSET('Raw Data'!AP42,Input_Details!$B$34,Input_Details!$B$32))","v":2.8},{"$f":"IF(OFFSET('Raw Data'!AQ42,Input_Details!$B$34,Input_Details!$B$32)=\"\", \"-\", OFFSET('Raw Data'!AQ42,Input_Details!$B$34,Input_Details!$B$32))","v":25.2},null,{"$f":"IF(Y64=\"-\", \"-\", SUM(OFFSET(D64,0,VLOOKUP(Input_Details!$N$3, $AF$3:$AG$12, 2,0)-1):W64))","v":1},4.0650406504065047E-2]
[null,"09:45:00",null,{"$f":"IF(OFFSET('Raw Data'!T43,Input_Details!$B$34,Input_Details!$B$32)=\"\", \"-\", OFFSET('Raw Data'!T43,Input_Details!$B$34,Input_Details!$B$32))","v":0.4},{"$f":"IF(OFFSET('Raw Data'!U43,Input_Details!$B$34,Input_Details!$B$32)=\"\", \"-\", OFFSET('Raw Data'!U43,Input_Details!$B$34,Input_Details!$B$32))","v":11.6},{"$f":"IF(OFFSET('Raw Data'!V43,Input_Details!$B$34,Input_Details!$B$32)=\"\", \"-\", OFFSET('Raw Data'!V43,Input_Details!$B$34,Input_Details!$B$32))","v":5.2},{"$f":"IF(OFFSET('Raw Data'!W43,Input_Details!$B$34,Input_Details!$B$32)=\"\", \"-\", OFFSET('Raw Data'!W43,Input_Details!$B$34,Input_Details!$B$32))","v":0.4},{"$f":"IF(OFFSET('Raw Data'!X43,Input_Details!$B$34,Input_Details!$B$32)=\"\", \"-\", OFFSET('Raw Data'!X43,Input_Details!$B$34,Input_Details!$B$32))","v":0},{"$f":"IF(OFFSET('Raw Data'!Y43,Input_Details!$B$34,Input_Details!$B$32)=\"\", \"-\", OFFSET('Raw Data'!Y43,Input_Details!$B$34,Input_Details!$B$32))","v":0},{"$f":"IF(OFFSET('Raw Data'!Z43,Input_Details!$B$34,Input_Details!$B$32)=\"\", \"-\", OFFSET('Raw Data'!Z43,Input_Details!$B$34,Input_Details!$B$32))","v":0},{"$f":"IF(OFFSET('Raw Data'!AA43,Input_Details!$B$34,Input_Details!$B$32)=\"\", \"-\", OFFSET('Raw Data'!AA43,Input_Details!$B$34,Input_Details!$B$32))","v":0},{"$f":"IF(OFFSET('Raw Data'!AB43,Input_Details!$B$34,Input_Details!$B$32)=\"\", \"-\", OFFSET('Raw Data'!AB43,Input_Details!$B$34,Input_Details!$B$32))","v":0},{"$f":"IF(OFFSET('Raw Data'!AC43,Input_Details!$B$34,Input_Details!$B$32)=\"\", \"-\", OFFSET('Raw Data'!AC43,Input_Details!$B$34,Input_Details!$B$32))","v":0},{"$f":"IF(OFFSET('Raw Data'!AD43,Input_Details!$B$34,Input_Details!$B$32)=\"\", \"-\", OFFSET('Raw Data'!AD43,Input_Details!$B$34,Input_Details!$B$32))","v":0},{"$f":"IF(OFFSET('Raw Data'!AE43,Input_Details!$B$34,Input_Details!$B$32)=\"\", \"-\", OFFSET('Raw Data'!AE43,Input_Details!$B$34,Input_Details!$B$32))","v":0},{"$f":"IF(OFFSET('Raw Data'!AF43,Input_Details!$B$34,Input_Details!$B$32)=\"\", \"-\", OFFSET('Raw Data'!AF43,Input_Details!$B$34,Input_Details!$B$32))","v":0},{"$f":"IF(OFFSET('Raw Data'!AG43,Input_Details!$B$34,Input_Details!$B$32)=\"\", \"-\", OFFSET('Raw Data'!AG43,Input_Details!$B$34,Input_Details!$B$32))","v":0},{"$f":"IF(OFFSET('Raw Data'!AH43,Input_Details!$B$34,Input_Details!$B$32)=\"\", \"-\", OFFSET('Raw Data'!AH43,Input_Details!$B$34,Input_Details!$B$32))","v":0},{"$f":"IF(OFFSET('Raw Data'!AI43,Input_Details!$B$34,Input_Details!$B$32)=\"\", \"-\", OFFSET('Raw Data'!AI43,Input_Details!$B$34,Input_Details!$B$32))","v":0},{"$f":"IF(OFFSET('Raw Data'!AJ43,Input_Details!$B$34,Input_Details!$B$32)=\"\", \"-\", OFFSET('Raw Data'!AJ43,Input_Details!$B$34,Input_Details!$B$32))","v":0},{"$f":"IF(OFFSET('Raw Data'!AK43,Input_Details!$B$34,Input_Details!$B$32)=\"\", \"-\", OFFSET('Raw Data'!AK43,Input_Details!$B$34,Input_Details!$B$32))","v":0},{"$f":"IF(OFFSET('Raw Data'!AL43,Input_Details!$B$34,Input_Details!$B$32)=\"\", \"-\", OFFSET('Raw Data'!AL43,Input_Details!$B$34,Input_Details!$B$32))","v":0},{"$f":"IF(OFFSET('Raw Data'!AM43,Input_Details!$B$34,Input_Details!$B$32)=\"\", \"-\", OFFSET('Raw Data'!AM43,Input_Details!$B$34,Input_Details!$B$32))","v":0},null,{"$f":"IF(D65=\"-\",\"-\",OFFSET('Raw Data'!AN43,Input_Details!$B$34,Input_Details!$B$32))","v":14.219999999999999},{"$f":"IF(OFFSET('Raw Data'!AO43,Input_Details!$B$34,Input_Details!$B$32)=\"\", \"-\", OFFSET('Raw Data'!AO43,Input_Details!$B$34,Input_Details!$B$32))","v":16.139999999999997},{"$f":"IF(OFFSET('Raw Data'!AP43,Input_Details!$B$34,Input_Details!$B$32)=\"\", \"-\", OFFSET('Raw Data'!AP43,Input_Details!$B$34,Input_Details!$B$32))","v":8},{"$f":"IF(OFFSET('Raw Data'!AQ43,Input_Details!$B$34,Input_Details!$B$32)=\"\", \"-\", OFFSET('Raw Data'!AQ43,Input_Details!$B$34,Input_Details!$B$32))","v":24},null,{"$f":"IF(Y65=\"-\", \"-\", SUM(OFFSET(D65,0,VLOOKUP(Input_Details!$N$3, $AF$3:$AG$12, 2,0)-1):W65))","v":0.4},2.2727272727272731E-2]
[null,"10:00:00",null,{"$f":"IF(OFFSET('Raw Data'!T44,Input_Details!$B$34,Input_Details!$B$32)=\"\", \"-\", OFFSET('Raw Data'!T44,Input_Details!$B$34,Input_Details!$B$32))","v":0.6},{"$f":"IF(OFFSET('Raw Data'!U44,Input_Details!$B$34,Input_Details!$B$32)=\"\", \"-\", OFFSET('Raw Data'!U44,Input_Details!$B$34,Input_Details!$B$32))","v":7.8},{"$f":"IF(OFFSET('Raw Data'!V44,Input_Details!$B$34,Input_Details!$B$32)=\"\", \"-\", OFFSET('Raw Data'!V44,Input_Details!$B$34,Input_Details!$B$32))","v":3},{"$f":"IF(OFFSET('Raw Data'!W44,Input_Details!$B$34,Input_Details!$B$32)=\"\", \"-\", OFFSET('Raw Data'!W44,Input_Details!$B$34,Input_Details!$B$32))","v":0.8},{"$f":"IF(OFFSET('Raw Data'!X44,Input_Details!$B$34,Input_Details!$B$32)=\"\", \"-\", OFFSET('Raw Data'!X44,Input_Details!$B$34,Input_Details!$B$32))","v":0.2},{"$f":"IF(OFFSET('Raw Data'!Y44,Input_Details!$B$34,Input_Details!$B$32)=\"\", \"-\", OFFSET('Raw Data'!Y44,Input_Details!$B$34,Input_Details!$B$32))","v":0},{"$f":"IF(OFFSET('Raw Data'!Z44,Input_Details!$B$34,Input_Details!$B$32)=\"\", \"-\", OFFSET('Raw Data'!Z44,Input_Details!$B$34,Input_Details!$B$32))","v":0},{"$f":"IF(OFFSET('Raw Data'!AA44,Input_Details!$B$34,Input_Details!$B$32)=\"\", \"-\", OFFSET('Raw Data'!AA44,Input_Details!$B$34,Input_Details!$B$32))","v":0},{"$f":"IF(OFFSET('Raw Data'!AB44,Input_Details!$B$34,Input_Details!$B$32)=\"\", \"-\", OFFSET('Raw Data'!AB44,Input_Details!$B$34,Input_Details!$B$32))","v":0},{"$f":"IF(OFFSET('Raw Data'!AC44,Input_Details!$B$34,Input_Details!$B$32)=\"\", \"-\", OFFSET('Raw Data'!AC44,Input_Details!$B$34,Input_Details!$B$32))","v":0},{"$f":"IF(OFFSET('Raw Data'!AD44,Input_Details!$B$34,Input_Details!$B$32)=\"\", \"-\", OFFSET('Raw Data'!AD44,Input_Details!$B$34,Input_Details!$B$32))","v":0},{"$f":"IF(OFFSET('Raw Data'!AE44,Input_Details!$B$34,Input_Details!$B$32)=\"\", \"-\", OFFSET('Raw Data'!AE44,Input_Details!$B$34,Input_Details!$B$32))","v":0},{"$f":"IF(OFFSET('Raw Data'!AF44,Input_Details!$B$34,Input_Details!$B$32)=\"\", \"-\", OFFSET('Raw Data'!AF44,Input_Details!$B$34,Input_Details!$B$32))","v":0},{"$f":"IF(OFFSET('Raw Data'!AG44,Input_Details!$B$34,Input_Details!$B$32)=\"\", \"-\", OFFSET('Raw Data'!AG44,Input_Details!$B$34,Input_Details!$B$32))","v":0},{"$f":"IF(OFFSET('Raw Data'!AH44,Input_Details!$B$34,Input_Details!$B$32)=\"\", \"-\", OFFSET('Raw Data'!AH44,Input_Details!$B$34,Input_Details!$B$32))","v":0},{"$f":"IF(OFFSET('Raw Data'!AI44,Input_Details!$B$34,Input_Details!$B$32)=\"\", \"-\", OFFSET('Raw Data'!AI44,Input_Details!$B$34,Input_Details!$B$32))","v":0},{"$f":"IF(OFFSET('Raw Data'!AJ44,Input_Details!$B$34,Input_Details!$B$32)=\"\", \"-\", OFFSET('Raw Data'!AJ44,Input_Details!$B$34,Input_Details!$B$32))","v":0},{"$f":"IF(OFFSET('Raw Data'!AK44,Input_Details!$B$34,Input_Details!$B$32)=\"\", \"-\", OFFSET('Raw Data'!AK44,Input_Details!$B$34,Input_Details!$B$32))","v":0},{"$f":"IF(OFFSET('Raw Data'!AL44,Input_Details!$B$34,Input_Details!$B$32)=\"\", \"-\", OFFSET('Raw Data'!AL44,Input_Details!$B$34,Input_Details!$B$32))","v":0},{"$f":"IF(OFFSET('Raw Data'!AM44,Input_Details!$B$34,Input_Details!$B$32)=\"\", \"-\", OFFSET('Raw Data'!AM44,Input_Details!$B$34,Input_Details!$B$32))","v":0},null,{"$f":"IF(D66=\"-\",\"-\",OFFSET('Raw Data'!AN44,Input_Details!$B$34,Input_Details!$B$32))","v":14.24},{"$f":"IF(OFFSET('Raw Data'!AO44,Input_Details!$B$34,Input_Details!$B$32)=\"\", \"-\", OFFSET('Raw Data'!AO44,Input_Details!$B$34,Input_Details!$B$32))","v":16.5},{"$f":"IF(OFFSET('Raw Data'!AP44,Input_Details!$B$34,Input_Details!$B$32)=\"\", \"-\", OFFSET('Raw Data'!AP44,Input_Details!$B$34,Input_Details!$B$32))","v":4},{"$f":"IF(OFFSET('Raw Data'!AQ44,Input_Details!$B$34,Input_Details!$B$32)=\"\", \"-\", OFFSET('Raw Data'!AQ44,Input_Details!$B$34,Input_Details!$B$32))","v":26},null,{"$f":"IF(Y66=\"-\", \"-\", SUM(OFFSET(D66,0,VLOOKUP(Input_Details!$N$3, $AF$3:$AG$12, 2,0)-1):W66))","v":1},8.0645161290322578E-2]
[null,"10:15:00",null,{"$f":"IF(OFFSET('Raw Data'!T45,Input_Details!$B$34,Input_Details!$B$32)=\"\", \"-\", OFFSET('Raw Data'!T45,Input_Details!$B$34,Input_Details!$B$32))","v":0},{"$f":"IF(OFFSET('Raw Data'!U45,Input_Details!$B$34,Input_Details!$B$32)=\"\", \"-\", OFFSET('Raw Data'!U45,Input_Details!$B$34,Input_Details!$B$32))","v":5.6},{"$f":"IF(OFFSET('Raw Data'!V45,Input_Details!$B$34,Input_Details!$B$32)=\"\", \"-\", OFFSET('Raw Data'!V45,Input_Details!$B$34,Input_Details!$B$32))","v":0.6},{"$f":"IF(OFFSET('Raw Data'!W45,Input_Details!$B$34,Input_Details!$B$32)=\"\", \"-\", OFFSET('Raw Data'!W45,Input_Details!$B$34,Input_Details!$B$32))","v":0},{"$f":"IF(OFFSET('Raw Data'!X45,Input_Details!$B$34,Input_Details!$B$32)=\"\", \"-\", OFFSET('Raw Data'!X45,Input_Details!$B$34,Input_Details!$B$32))","v":0},{"$f":"IF(OFFSET('Raw Data'!Y45,Input_Details!$B$34,Input_Details!$B$32)=\"\", \"-\", OFFSET('Raw Data'!Y45,Input_Details!$B$34,Input_Details!$B$32))","v":0},{"$f":"IF(OFFSET('Raw Data'!Z45,Input_Details!$B$34,Input_Details!$B$32)=\"\", \"-\", OFFSET('Raw Data'!Z45,Input_Details!$B$34,Input_Details!$B$32))","v":0},{"$f":"IF(OFFSET('Raw Data'!AA45,Input_Details!$B$34,Input_Details!$B$32)=\"\", \"-\", OFFSET('Raw Data'!AA45,Input_Details!$B$34,Input_Details!$B$32))","v":0},{"$f":"IF(OFFSET('Raw Data'!AB45,Input_Details!$B$34,Input_Details!$B$32)=\"\", \"-\", OFFSET('Raw Data'!AB45,Input_Details!$B$34,Input_Details!$B$32))","v":0},{"$f":"IF(OFFSET('Raw Data'!AC45,Input_Details!$B$34,Input_Details!$B$32)=\"\", \"-\", OFFSET('Raw Data'!AC45,Input_Details!$B$34,Input_Details!$B$32))","v":0},{"$f":"IF(OFFSET('Raw Data'!AD45,Input_Details!$B$34,Input_Details!$B$32)=\"\", \"-\", OFFSET('Raw Data'!AD45,Input_Details!$B$34,Input_Details!$B$32))","v":0},{"$f":"IF(OFFSET('Raw Data'!AE45,Input_Details!$B$34,Input_Details!$B$32)=\"\", \"-\", OFFSET('Raw Data'!AE45,Input_Details!$B$34,Input_Details!$B$32))","v":0},{"$f":"IF(OFFSET('Raw Data'!AF45,Input_Details!$B$34,Input_Details!$B$32)=\"\", \"-\", OFFSET('Raw Data'!AF45,Input_Details!$B$34,Input_Details!$B$32))","v":0},{"$f":"IF(OFFSET('Raw Data'!AG45,Input_Details!$B$34,Input_Details!$B$32)=\"\", \"-\", OFFSET('Raw Data'!AG45,Input_Details!$B$34,Input_Details!$B$32))","v":0},{"$f":"IF(OFFSET('Raw Data'!AH45,Input_Details!$B$34,Input_Details!$B$32)=\"\", \"-\", OFFSET('Raw Data'!AH45,Input_Details!$B$34,Input_Details!$B$32))","v":0},{"$f":"IF(OFFSET('Raw Data'!AI45,Input_Details!$B$34,Input_Details!$B$32)=\"\", \"-\", OFFSET('Raw Data'!AI45,Input_Details!$B$34,Input_Details!$B$32))","v":0},{"$f":"IF(OFFSET('Raw Data'!AJ45,Input_Details!$B$34,Input_Details!$B$32)=\"\", \"-\", OFFSET('Raw Data'!AJ45,Input_Details!$B$34,Input_Details!$B$32))","v":0},{"$f":"IF(OFFSET('Raw Data'!AK45,Input_Details!$B$34,Input_Details!$B$32)=\"\", \"-\", OFFSET('Raw Data'!AK45,Input_Details!$B$34,Input_Details!$B$32))","v":0},{"$f":"IF(OFFSET('Raw Data'!AL45,Input_Details!$B$34,Input_Details!$B$32)=\"\", \"-\", OFFSET('Raw Data'!AL45,Input_Details!$B$34,Input_Details!$B$32))","v":0},{"$f":"IF(OFFSET('Raw Data'!AM45,Input_Details!$B$34,Input_Details!$B$32)=\"\", \"-\", OFFSET('Raw Data'!AM45,Input_Details!$B$34,Input_Details!$B$32))","v":0},null,{"$f":"IF(D67=\"-\",\"-\",OFFSET('Raw Data'!AN45,Input_Details!$B$34,Input_Details!$B$32))","v":13.819999999999999},{"$f":"IF(OFFSET('Raw Data'!AO45,Input_Details!$B$34,Input_Details!$B$32)=\"\", \"-\", OFFSET('Raw Data'!AO45,Input_Details!$B$34,Input_Details!$B$32))","v":"-"},{"$f":"IF(OFFSET('Raw Data'!AP45,Input_Details!$B$34,Input_Details!$B$32)=\"\", \"-\", OFFSET('Raw Data'!AP45,Input_Details!$B$34,Input_Details!$B$32))","v":10.5},{"$f":"IF(OFFSET('Raw Data'!AQ45,Input_Details!$B$34,Input_Details!$B$32)=\"\", \"-\", OFFSET('Raw Data'!AQ45,Input_Details!$B$34,Input_Details!$B$32))","v":20},null,{"$f":"IF(Y67=\"-\", \"-\", SUM(OFFSET(D67,0,VLOOKUP(Input_Details!$N$3, $AF$3:$AG$12, 2,0)-1):W67))","v":0},0]
[null,"10:30:00",null,{"$f":"IF(OFFSET('Raw Data'!T46,Input_Details!$B$34,Input_Details!$B$32)=\"\", \"-\", OFFSET('Raw Data'!T46,Input_Details!$B$34,Input_Details!$B$32))","v":1},{"$f":"IF(OFFSET('Raw Data'!U46,Input_Details!$B$34,Input_Details!$B$32)=\"\", \"-\", OFFSET('Raw Data'!U46,Input_Details!$B$34,Input_Details!$B$32))","v":4.5999999999999996},{"$f":"IF(OFFSET('Raw Data'!V46,Input_Details!$B$34,Input_Details!$B$32)=\"\", \"-\", OFFSET('Raw Data'!V46,Input_Details!$B$34,Input_Details!$B$32))","v":2.6},{"$f":"IF(OFFSET('Raw Data'!W46,Input_Details!$B$34,Input_Details!$B$32)=\"\", \"-\", OFFSET('Raw Data'!W46,Input_Details!$B$34,Input_Details!$B$32))","v":0.2},{"$f":"IF(OFFSET('Raw Data'!X46,Input_Details!$B$34,Input_Details!$B$32)=\"\", \"-\", OFFSET('Raw Data'!X46,Input_Details!$B$34,Input_Details!$B$32))","v":0},{"$f":"IF(OFFSET('Raw Data'!Y46,Input_Details!$B$34,Input_Details!$B$32)=\"\", \"-\", OFFSET('Raw Data'!Y46,Input_Details!$B$34,Input_Details!$B$32))","v":0},{"$f":"IF(OFFSET('Raw Data'!Z46,Input_Details!$B$34,Input_Details!$B$32)=\"\", \"-\", OFFSET('Raw Data'!Z46,Input_Details!$B$34,Input_Details!$B$32))","v":0},{"$f":"IF(OFFSET('Raw Data'!AA46,Input_Details!$B$34,Input_Details!$B$32)=\"\", \"-\", OFFSET('Raw Data'!AA46,Input_Details!$B$34,Input_Details!$B$32))","v":0},{"$f":"IF(OFFSET('Raw Data'!AB46,Input_Details!$B$34,Input_Details!$B$32)=\"\", \"-\", OFFSET('Raw Data'!AB46,Input_Details!$B$34,Input_Details!$B$32))","v":0},{"$f":"IF(OFFSET('Raw Data'!AC46,Input_Details!$B$34,Input_Details!$B$32)=\"\", \"-\", OFFSET('Raw Data'!AC46,Input_Details!$B$34,Input_Details!$B$32))","v":0},{"$f":"IF(OFFSET('Raw Data'!AD46,Input_Details!$B$34,Input_Details!$B$32)=\"\", \"-\", OFFSET('Raw Data'!AD46,Input_Details!$B$34,Input_Details!$B$32))","v":0},{"$f":"IF(OFFSET('Raw Data'!AE46,Input_Details!$B$34,Input_Details!$B$32)=\"\", \"-\", OFFSET('Raw Data'!AE46,Input_Details!$B$34,Input_Details!$B$32))","v":0},{"$f":"IF(OFFSET('Raw Data'!AF46,Input_Details!$B$34,Input_Details!$B$32)=\"\", \"-\", OFFSET('Raw Data'!AF46,Input_Details!$B$34,Input_Details!$B$32))","v":0},{"$f":"IF(OFFSET('Raw Data'!AG46,Input_Details!$B$34,Input_Details!$B$32)=\"\", \"-\", OFFSET('Raw Data'!AG46,Input_Details!$B$34,Input_Details!$B$32))","v":0},{"$f":"IF(OFFSET('Raw Data'!AH46,Input_Details!$B$34,Input_Details!$B$32)=\"\", \"-\", OFFSET('Raw Data'!AH46,Input_Details!$B$34,Input_Details!$B$32))","v":0},{"$f":"IF(OFFSET('Raw Data'!AI46,Input_Details!$B$34,Input_Details!$B$32)=\"\", \"-\", OFFSET('Raw Data'!AI46,Input_Details!$B$34,Input_Details!$B$32))","v":0},{"$f":"IF(OFFSET('Raw Data'!AJ46,Input_Details!$B$34,Input_Details!$B$32)=\"\", \"-\", OFFSET('Raw Data'!AJ46,Input_Details!$B$34,Input_Details!$B$32))","v":0},{"$f":"IF(OFFSET('Raw Data'!AK46,Input_Details!$B$34,Input_Details!$B$32)=\"\", \"-\", OFFSET('Raw Data'!AK46,Input_Details!$B$34,Input_Details!$B$32))","v":0},{"$f":"IF(OFFSET('Raw Data'!AL46,Input_Details!$B$34,Input_Details!$B$32)=\"\", \"-\", OFFSET('Raw Data'!AL46,Input_Details!$B$34,Input_Details!$B$32))","v":0},{"$f":"IF(OFFSET('Raw Data'!AM46,Input_Details!$B$34,Input_Details!$B$32)=\"\", \"-\", OFFSET('Raw Data'!AM46,Input_Details!$B$34,Input_Details!$B$32))","v":0},null,{"$f":"IF(D68=\"-\",\"-\",OFFSET('Raw Data'!AN46,Input_Details!$B$34,Input_Details!$B$32))","v":14.02},{"$f":"IF(OFFSET('Raw Data'!AO46,Input_Details!$B$34,Input_Details!$B$32)=\"\", \"-\", OFFSET('Raw Data'!AO46,Input_Details!$B$34,Input_Details!$B$32))","v":"-"},{"$f":"IF(OFFSET('Raw Data'!AP46,Input_Details!$B$34,Input_Details!$B$32)=\"\", \"-\", OFFSET('Raw Data'!AP46,Input_Details!$B$34,Input_Details!$B$32))","v":2},{"$f":"IF(OFFSET('Raw Data'!AQ46,Input_Details!$B$34,Input_Details!$B$32)=\"\", \"-\", OFFSET('Raw Data'!AQ46,Input_Details!$B$34,Input_Details!$B$32))","v":20.7},null,{"$f":"IF(Y68=\"-\", \"-\", SUM(OFFSET(D68,0,VLOOKUP(Input_Details!$N$3, $AF$3:$AG$12, 2,0)-1):W68))","v":0.2},2.3809523809523815E-2]
[null,"10:45:00",null,{"$f":"IF(OFFSET('Raw Data'!T47,Input_Details!$B$34,Input_Details!$B$32)=\"\", \"-\", OFFSET('Raw Data'!T47,Input_Details!$B$34,Input_Details!$B$32))","v":0.4},{"$f":"IF(OFFSET('Raw Data'!U47,Input_Details!$B$34,Input_Details!$B$32)=\"\", \"-\", OFFSET('Raw Data'!U47,Input_Details!$B$34,Input_Details!$B$32))","v":4.5999999999999996},{"$f":"IF(OFFSET('Raw Data'!V47,Input_Details!$B$34,Input_Details!$B$32)=\"\", \"-\", OFFSET('Raw Data'!V47,Input_Details!$B$34,Input_Details!$B$32))","v":1.6},{"$f":"IF(OFFSET('Raw Data'!W47,Input_Details!$B$34,Input_Details!$B$32)=\"\", \"-\", OFFSET('Raw Data'!W47,Input_Details!$B$34,Input_Details!$B$32))","v":0.4},{"$f":"IF(OFFSET('Raw Data'!X47,Input_Details!$B$34,Input_Details!$B$32)=\"\", \"-\", OFFSET('Raw Data'!X47,Input_Details!$B$34,Input_Details!$B$32))","v":0},{"$f":"IF(OFFSET('Raw Data'!Y47,Input_Details!$B$34,Input_Details!$B$32)=\"\", \"-\", OFFSET('Raw Data'!Y47,Input_Details!$B$34,Input_Details!$B$32))","v":0.2},{"$f":"IF(OFFSET('Raw Data'!Z47,Input_Details!$B$34,Input_Details!$B$32)=\"\", \"-\", OFFSET('Raw Data'!Z47,Input_Details!$B$34,Input_Details!$B$32))","v":0},{"$f":"IF(OFFSET('Raw Data'!AA47,Input_Details!$B$34,Input_Details!$B$32)=\"\", \"-\", OFFSET('Raw Data'!AA47,Input_Details!$B$34,Input_Details!$B$32))","v":0},{"$f":"IF(OFFSET('Raw Data'!AB47,Input_Details!$B$34,Input_Details!$B$32)=\"\", \"-\", OFFSET('Raw Data'!AB47,Input_Details!$B$34,Input_Details!$B$32))","v":0},{"$f":"IF(OFFSET('Raw Data'!AC47,Input_Details!$B$34,Input_Details!$B$32)=\"\", \"-\", OFFSET('Raw Data'!AC47,Input_Details!$B$34,Input_Details!$B$32))","v":0},{"$f":"IF(OFFSET('Raw Data'!AD47,Input_Details!$B$34,Input_Details!$B$32)=\"\", \"-\", OFFSET('Raw Data'!AD47,Input_Details!$B$34,Input_Details!$B$32))","v":0},{"$f":"IF(OFFSET('Raw Data'!AE47,Input_Details!$B$34,Input_Details!$B$32)=\"\", \"-\", OFFSET('Raw Data'!AE47,Input_Details!$B$34,Input_Details!$B$32))","v":0},{"$f":"IF(OFFSET('Raw Data'!AF47,Input_Details!$B$34,Input_Details!$B$32)=\"\", \"-\", OFFSET('Raw Data'!AF47,Input_Details!$B$34,Input_Details!$B$32))","v":0},{"$f":"IF(OFFSET('Raw Data'!AG47,Input_Details!$B$34,Input_Details!$B$32)=\"\", \"-\", OFFSET('Raw Data'!AG47,Input_Details!$B$34,Input_Details!$B$32))","v":0},{"$f":"IF(OFFSET('Raw Data'!AH47,Input_Details!$B$34,Input_Details!$B$32)=\"\", \"-\", OFFSET('Raw Data'!AH47,Input_Details!$B$34,Input_Details!$B$32))","v":0},{"$f":"IF(OFFSET('Raw Data'!AI47,Input_Details!$B$34,Input_Details!$B$32)=\"\", \"-\", OFFSET('Raw Data'!AI47,Input_Details!$B$34,Input_Details!$B$32))","v":0},{"$f":"IF(OFFSET('Raw Data'!AJ47,Input_Details!$B$34,Input_Details!$B$32)=\"\", \"-\", OFFSET('Raw Data'!AJ47,Input_Details!$B$34,Input_Details!$B$32))","v":0},{"$f":"IF(OFFSET('Raw Data'!AK47,Input_Details!$B$34,Input_Details!$B$32)=\"\", \"-\", OFFSET('Raw Data'!AK47,Input_Details!$B$34,Input_Details!$B$32))","v":0},{"$f":"IF(OFFSET('Raw Data'!AL47,Input_Details!$B$34,Input_Details!$B$32)=\"\", \"-\", OFFSET('Raw Data'!AL47,Input_Details!$B$34,Input_Details!$B$32))","v":0},{"$f":"IF(OFFSET('Raw Data'!AM47,Input_Details!$B$34,Input_Details!$B$32)=\"\", \"-\", OFFSET('Raw Data'!AM47,Input_Details!$B$34,Input_Details!$B$32))","v":0},null,{"$f":"IF(D69=\"-\",\"-\",OFFSET('Raw Data'!AN47,Input_Details!$B$34,Input_Details!$B$32))","v":13.9},{"$f":"IF(OFFSET('Raw Data'!AO47,Input_Details!$B$34,Input_Details!$B$32)=\"\", \"-\", OFFSET('Raw Data'!AO47,Input_Details!$B$34,Input_Details!$B$32))","v":16.549999999999997},{"$f":"IF(OFFSET('Raw Data'!AP47,Input_Details!$B$34,Input_Details!$B$32)=\"\", \"-\", OFFSET('Raw Data'!AP47,Input_Details!$B$34,Input_Details!$B$32))","v":4.3},{"$f":"IF(OFFSET('Raw Data'!AQ47,Input_Details!$B$34,Input_Details!$B$32)=\"\", \"-\", OFFSET('Raw Data'!AQ47,Input_Details!$B$34,Input_Details!$B$32))","v":30.5},null,{"$f":"IF(Y69=\"-\", \"-\", SUM(OFFSET(D69,0,VLOOKUP(Input_Details!$N$3, $AF$3:$AG$12, 2,0)-1):W69))","v":0.60000000000000009},8.3333333333333343E-2]
[null,"11:00:00",null,{"$f":"IF(OFFSET('Raw Data'!T48,Input_Details!$B$34,Input_Details!$B$32)=\"\", \"-\", OFFSET('Raw Data'!T48,Input_Details!$B$34,Input_Details!$B$32))","v":0.6},{"$f":"IF(OFFSET('Raw Data'!U48,Input_Details!$B$34,Input_Details!$B$32)=\"\", \"-\", OFFSET('Raw Data'!U48,Input_Details!$B$34,Input_Details!$B$32))","v":5.2},{"$f":"IF(OFFSET('Raw Data'!V48,Input_Details!$B$34,Input_Details!$B$32)=\"\", \"-\", OFFSET('Raw Data'!V48,Input_Details!$B$34,Input_Details!$B$32))","v":2},{"$f":"IF(OFFSET('Raw Data'!W48,Input_Details!$B$34,Input_Details!$B$32)=\"\", \"-\", OFFSET('Raw Data'!W48,Input_Details!$B$34,Input_Details!$B$32))","v":0.4},{"$f":"IF(OFFSET('Raw Data'!X48,Input_Details!$B$34,Input_Details!$B$32)=\"\", \"-\", OFFSET('Raw Data'!X48,Input_Details!$B$34,Input_Details!$B$32))","v":0},{"$f":"IF(OFFSET('Raw Data'!Y48,Input_Details!$B$34,Input_Details!$B$32)=\"\", \"-\", OFFSET('Raw Data'!Y48,Input_Details!$B$34,Input_Details!$B$32))","v":0},{"$f":"IF(OFFSET('Raw Data'!Z48,Input_Details!$B$34,Input_Details!$B$32)=\"\", \"-\", OFFSET('Raw Data'!Z48,Input_Details!$B$34,Input_Details!$B$32))","v":0},{"$f":"IF(OFFSET('Raw Data'!AA48,Input_Details!$B$34,Input_Details!$B$32)=\"\", \"-\", OFFSET('Raw Data'!AA48,Input_Details!$B$34,Input_Details!$B$32))","v":0},{"$f":"IF(OFFSET('Raw Data'!AB48,Input_Details!$B$34,Input_Details!$B$32)=\"\", \"-\", OFFSET('Raw Data'!AB48,Input_Details!$B$34,Input_Details!$B$32))","v":0},{"$f":"IF(OFFSET('Raw Data'!AC48,Input_Details!$B$34,Input_Details!$B$32)=\"\", \"-\", OFFSET('Raw Data'!AC48,Input_Details!$B$34,Input_Details!$B$32))","v":0},{"$f":"IF(OFFSET('Raw Data'!AD48,Input_Details!$B$34,Input_Details!$B$32)=\"\", \"-\", OFFSET('Raw Data'!AD48,Input_Details!$B$34,Input_Details!$B$32))","v":0},{"$f":"IF(OFFSET('Raw Data'!AE48,Input_Details!$B$34,Input_Details!$B$32)=\"\", \"-\", OFFSET('Raw Data'!AE48,Input_Details!$B$34,Input_Details!$B$32))","v":0},{"$f":"IF(OFFSET('Raw Data'!AF48,Input_Details!$B$34,Input_Details!$B$32)=\"\", \"-\", OFFSET('Raw Data'!AF48,Input_Details!$B$34,Input_Details!$B$32))","v":0},{"$f":"IF(OFFSET('Raw Data'!AG48,Input_Details!$B$34,Input_Details!$B$32)=\"\", \"-\", OFFSET('Raw Data'!AG48,Input_Details!$B$34,Input_Details!$B$32))","v":0},{"$f":"IF(OFFSET('Raw Data'!AH48,Input_Details!$B$34,Input_Details!$B$32)=\"\", \"-\", OFFSET('Raw Data'!AH48,Input_Details!$B$34,Input_Details!$B$32))","v":0},{"$f":"IF(OFFSET('Raw Data'!AI48,Input_Details!$B$34,Input_Details!$B$32)=\"\", \"-\", OFFSET('Raw Data'!AI48,Input_Details!$B$34,Input_Details!$B$32))","v":0},{"$f":"IF(OFFSET('Raw Data'!AJ48,Input_Details!$B$34,Input_Details!$B$32)=\"\", \"-\", OFFSET('Raw Data'!AJ48,Input_Details!$B$34,Input_Details!$B$32))","v":0},{"$f":"IF(OFFSET('Raw Data'!AK48,Input_Details!$B$34,Input_Details!$B$32)=\"\", \"-\", OFFSET('Raw Data'!AK48,Input_Details!$B$34,Input_Details!$B$32))","v":0},{"$f":"IF(OFFSET('Raw Data'!AL48,Input_Details!$B$34,Input_Details!$B$32)=\"\", \"-\", OFFSET('Raw Data'!AL48,Input_Details!$B$34,Input_Details!$B$32))","v":0},{"$f":"IF(OFFSET('Raw Data'!AM48,Input_Details!$B$34,Input_Details!$B$32)=\"\", \"-\", OFFSET('Raw Data'!AM48,Input_Details!$B$34,Input_Details!$B$32))","v":0},null,{"$f":"IF(D70=\"-\",\"-\",OFFSET('Raw Data'!AN48,Input_Details!$B$34,Input_Details!$B$32))","v":13.74},{"$f":"IF(OFFSET('Raw Data'!AO48,Input_Details!$B$34,Input_Details!$B$32)=\"\", \"-\", OFFSET('Raw Data'!AO48,Input_Details!$B$34,Input_Details!$B$32))","v":17.7},{"$f":"IF(OFFSET('Raw Data'!AP48,Input_Details!$B$34,Input_Details!$B$32)=\"\", \"-\", OFFSET('Raw Data'!AP48,Input_Details!$B$34,Input_Details!$B$32))","v":7.1},{"$f":"IF(OFFSET('Raw Data'!AQ48,Input_Details!$B$34,Input_Details!$B$32)=\"\", \"-\", OFFSET('Raw Data'!AQ48,Input_Details!$B$34,Input_Details!$B$32))","v":21.2},null,{"$f":"IF(Y70=\"-\", \"-\", SUM(OFFSET(D70,0,VLOOKUP(Input_Details!$N$3, $AF$3:$AG$12, 2,0)-1):W70))","v":0.4},4.8780487804878057E-2]
[null,"11:15:00",null,{"$f":"IF(OFFSET('Raw Data'!T49,Input_Details!$B$34,Input_Details!$B$32)=\"\", \"-\", OFFSET('Raw Data'!T49,Input_Details!$B$34,Input_Details!$B$32))","v":0.6},{"$f":"IF(OFFSET('Raw Data'!U49,Input_Details!$B$34,Input_Details!$B$32)=\"\", \"-\", OFFSET('Raw Data'!U49,Input_Details!$B$34,Input_Details!$B$32))","v":3.2},{"$f":"IF(OFFSET('Raw Data'!V49,Input_Details!$B$34,Input_Details!$B$32)=\"\", \"-\", OFFSET('Raw Data'!V49,Input_Details!$B$34,Input_Details!$B$32))","v":1},{"$f":"IF(OFFSET('Raw Data'!W49,Input_Details!$B$34,Input_Details!$B$32)=\"\", \"-\", OFFSET('Raw Data'!W49,Input_Details!$B$34,Input_Details!$B$32))","v":0.6},{"$f":"IF(OFFSET('Raw Data'!X49,Input_Details!$B$34,Input_Details!$B$32)=\"\", \"-\", OFFSET('Raw Data'!X49,Input_Details!$B$34,Input_Details!$B$32))","v":0.6},{"$f":"IF(OFFSET('Raw Data'!Y49,Input_Details!$B$34,Input_Details!$B$32)=\"\", \"-\", OFFSET('Raw Data'!Y49,Input_Details!$B$34,Input_Details!$B$32))","v":0},{"$f":"IF(OFFSET('Raw Data'!Z49,Input_Details!$B$34,Input_Details!$B$32)=\"\", \"-\", OFFSET('Raw Data'!Z49,Input_Details!$B$34,Input_Details!$B$32))","v":0},{"$f":"IF(OFFSET('Raw Data'!AA49,Input_Details!$B$34,Input_Details!$B$32)=\"\", \"-\", OFFSET('Raw Data'!AA49,Input_Details!$B$34,Input_Details!$B$32))","v":0},{"$f":"IF(OFFSET('Raw Data'!AB49,Input_Details!$B$34,Input_Details!$B$32)=\"\", \"-\", OFFSET('Raw Data'!AB49,Input_Details!$B$34,Input_Details!$B$32))","v":0},{"$f":"IF(OFFSET('Raw Data'!AC49,Input_Details!$B$34,Input_Details!$B$32)=\"\", \"-\", OFFSET('Raw Data'!AC49,Input_Details!$B$34,Input_Details!$B$32))","v":0},{"$f":"IF(OFFSET('Raw Data'!AD49,Input_Details!$B$34,Input_Details!$B$32)=\"\", \"-\", OFFSET('Raw Data'!AD49,Input_Details!$B$34,Input_Details!$B$32))","v":0},{"$f":"IF(OFFSET('Raw Data'!AE49,Input_Details!$B$34,Input_Details!$B$32)=\"\", \"-\", OFFSET('Raw Data'!AE49,Input_Details!$B$34,Input_Details!$B$32))","v":0},{"$f":"IF(OFFSET('Raw Data'!AF49,Input_Details!$B$34,Input_Details!$B$32)=\"\", \"-\", OFFSET('Raw Data'!AF49,Input_Details!$B$34,Input_Details!$B$32))","v":0},{"$f":"IF(OFFSET('Raw Data'!AG49,Input_Details!$B$34,Input_Details!$B$32)=\"\", \"-\", OFFSET('Raw Data'!AG49,Input_Details!$B$34,Input_Details!$B$32))","v":0},{"$f":"IF(OFFSET('Raw Data'!AH49,Input_Details!$B$34,Input_Details!$B$32)=\"\", \"-\", OFFSET('Raw Data'!AH49,Input_Details!$B$34,Input_Details!$B$32))","v":0},{"$f":"IF(OFFSET('Raw Data'!AI49,Input_Details!$B$34,Input_Details!$B$32)=\"\", \"-\", OFFSET('Raw Data'!AI49,Input_Details!$B$34,Input_Details!$B$32))","v":0},{"$f":"IF(OFFSET('Raw Data'!AJ49,Input_Details!$B$34,Input_Details!$B$32)=\"\", \"-\", OFFSET('Raw Data'!AJ49,Input_Details!$B$34,Input_Details!$B$32))","v":0},{"$f":"IF(OFFSET('Raw Data'!AK49,Input_Details!$B$34,Input_Details!$B$32)=\"\", \"-\", OFFSET('Raw Data'!AK49,Input_Details!$B$34,Input_Details!$B$32))","v":0},{"$f":"IF(OFFSET('Raw Data'!AL49,Input_Details!$B$34,Input_Details!$B$32)=\"\", \"-\", OFFSET('Raw Data'!AL49,Input_Details!$B$34,Input_Details!$B$32))","v":0},{"$f":"IF(OFFSET('Raw Data'!AM49,Input_Details!$B$34,Input_Details!$B$32)=\"\", \"-\", OFFSET('Raw Data'!AM49,Input_Details!$B$34,Input_Details!$B$32))","v":0},null,{"$f":"IF(D71=\"-\",\"-\",OFFSET('Raw Data'!AN49,Input_Details!$B$34,Input_Details!$B$32))","v":15.66},{"$f":"IF(OFFSET('Raw Data'!AO49,Input_Details!$B$34,Input_Details!$B$32)=\"\", \"-\", OFFSET('Raw Data'!AO49,Input_Details!$B$34,Input_Details!$B$32))","v":19},{"$f":"IF(OFFSET('Raw Data'!AP49,Input_Details!$B$34,Input_Details!$B$32)=\"\", \"-\", OFFSET('Raw Data'!AP49,Input_Details!$B$34,Input_Details!$B$32))","v":9},{"$f":"IF(OFFSET('Raw Data'!AQ49,Input_Details!$B$34,Input_Details!$B$32)=\"\", \"-\", OFFSET('Raw Data'!AQ49,Input_Details!$B$34,Input_Details!$B$32))","v":26.1},null,{"$f":"IF(Y71=\"-\", \"-\", SUM(OFFSET(D71,0,VLOOKUP(Input_Details!$N$3, $AF$3:$AG$12, 2,0)-1):W71))","v":1.2},0.19999999999999998]
[null,"11:30:00",null,{"$f":"IF(OFFSET('Raw Data'!T50,Input_Details!$B$34,Input_Details!$B$32)=\"\", \"-\", OFFSET('Raw Data'!T50,Input_Details!$B$34,Input_Details!$B$32))","v":0.2},{"$f":"IF(OFFSET('Raw Data'!U50,Input_Details!$B$34,Input_Details!$B$32)=\"\", \"-\", OFFSET('Raw Data'!U50,Input_Details!$B$34,Input_Details!$B$32))","v":4.2},{"$f":"IF(OFFSET('Raw Data'!V50,Input_Details!$B$34,Input_Details!$B$32)=\"\", \"-\", OFFSET('Raw Data'!V50,Input_Details!$B$34,Input_Details!$B$32))","v":2.2000000000000002},{"$f":"IF(OFFSET('Raw Data'!W50,Input_Details!$B$34,Input_Details!$B$32)=\"\", \"-\", OFFSET('Raw Data'!W50,Input_Details!$B$34,Input_Details!$B$32))","v":0},{"$f":"IF(OFFSET('Raw Data'!X50,Input_Details!$B$34,Input_Details!$B$32)=\"\", \"-\", OFFSET('Raw Data'!X50,Input_Details!$B$34,Input_Details!$B$32))","v":0.2},{"$f":"IF(OFFSET('Raw Data'!Y50,Input_Details!$B$34,Input_Details!$B$32)=\"\", \"-\", OFFSET('Raw Data'!Y50,Input_Details!$B$34,Input_Details!$B$32))","v":0},{"$f":"IF(OFFSET('Raw Data'!Z50,Input_Details!$B$34,Input_Details!$B$32)=\"\", \"-\", OFFSET('Raw Data'!Z50,Input_Details!$B$34,Input_Details!$B$32))","v":0},{"$f":"IF(OFFSET('Raw Data'!AA50,Input_Details!$B$34,Input_Details!$B$32)=\"\", \"-\", OFFSET('Raw Data'!AA50,Input_Details!$B$34,Input_Details!$B$32))","v":0},{"$f":"IF(OFFSET('Raw Data'!AB50,Input_Details!$B$34,Input_Details!$B$32)=\"\", \"-\", OFFSET('Raw Data'!AB50,Input_Details!$B$34,Input_Details!$B$32))","v":0},{"$f":"IF(OFFSET('Raw Data'!AC50,Input_Details!$B$34,Input_Details!$B$32)=\"\", \"-\", OFFSET('Raw Data'!AC50,Input_Details!$B$34,Input_Details!$B$32))","v":0},{"$f":"IF(OFFSET('Raw Data'!AD50,Input_Details!$B$34,Input_Details!$B$32)=\"\", \"-\", OFFSET('Raw Data'!AD50,Input_Details!$B$34,Input_Details!$B$32))","v":0},{"$f":"IF(OFFSET('Raw Data'!AE50,Input_Details!$B$34,Input_Details!$B$32)=\"\", \"-\", OFFSET('Raw Data'!AE50,Input_Details!$B$34,Input_Details!$B$32))","v":0},{"$f":"IF(OFFSET('Raw Data'!AF50,Input_Details!$B$34,Input_Details!$B$32)=\"\", \"-\", OFFSET('Raw Data'!AF50,Input_Details!$B$34,Input_Details!$B$32))","v":0},{"$f":"IF(OFFSET('Raw Data'!AG50,Input_Details!$B$34,Input_Details!$B$32)=\"\", \"-\", OFFSET('Raw Data'!AG50,Input_Details!$B$34,Input_Details!$B$32))","v":0},{"$f":"IF(OFFSET('Raw Data'!AH50,Input_Details!$B$34,Input_Details!$B$32)=\"\", \"-\", OFFSET('Raw Data'!AH50,Input_Details!$B$34,Input_Details!$B$32))","v":0},{"$f":"IF(OFFSET('Raw Data'!AI50,Input_Details!$B$34,Input_Details!$B$32)=\"\", \"-\", OFFSET('Raw Data'!AI50,Input_Details!$B$34,Input_Details!$B$32))","v":0},{"$f":"IF(OFFSET('Raw Data'!AJ50,Input_Details!$B$34,Input_Details!$B$32)=\"\", \"-\", OFFSET('Raw Data'!AJ50,Input_Details!$B$34,Input_Details!$B$32))","v":0},{"$f":"IF(OFFSET('Raw Data'!AK50,Input_Details!$B$34,Input_Details!$B$32)=\"\", \"-\", OFFSET('Raw Data'!AK50,Input_Details!$B$34,Input_Details!$B$32))","v":0},{"$f":"IF(OFFSET('Raw Data'!AL50,Input_Details!$B$34,Input_Details!$B$32)=\"\", \"-\", OFFSET('Raw Data'!AL50,Input_Details!$B$34,Input_Details!$B$32))","v":0},{"$f":"IF(OFFSET('Raw Data'!AM50,Input_Details!$B$34,Input_Details!$B$32)=\"\", \"-\", OFFSET('Raw Data'!AM50,Input_Details!$B$34,Input_Details!$B$32))","v":0},null,{"$f":"IF(D72=\"-\",\"-\",OFFSET('Raw Data'!AN50,Input_Details!$B$34,Input_Details!$B$32))","v":14.459999999999999},{"$f":"IF(OFFSET('Raw Data'!AO50,Input_Details!$B$34,Input_Details!$B$32)=\"\", \"-\", OFFSET('Raw Data'!AO50,Input_Details!$B$34,Input_Details!$B$32))","v":"-"},{"$f":"IF(OFFSET('Raw Data'!AP50,Input_Details!$B$34,Input_Details!$B$32)=\"\", \"-\", OFFSET('Raw Data'!AP50,Input_Details!$B$34,Input_Details!$B$32))","v":8.9},{"$f":"IF(OFFSET('Raw Data'!AQ50,Input_Details!$B$34,Input_Details!$B$32)=\"\", \"-\", OFFSET('Raw Data'!AQ50,Input_Details!$B$34,Input_Details!$B$32))","v":26.3},null,{"$f":"IF(Y72=\"-\", \"-\", SUM(OFFSET(D72,0,VLOOKUP(Input_Details!$N$3, $AF$3:$AG$12, 2,0)-1):W72))","v":0.2},2.9411764705882353E-2]
[null,"11:45:00",null,{"$f":"IF(OFFSET('Raw Data'!T51,Input_Details!$B$34,Input_Details!$B$32)=\"\", \"-\", OFFSET('Raw Data'!T51,Input_Details!$B$34,Input_Details!$B$32))","v":0.2},{"$f":"IF(OFFSET('Raw Data'!U51,Input_Details!$B$34,Input_Details!$B$32)=\"\", \"-\", OFFSET('Raw Data'!U51,Input_Details!$B$34,Input_Details!$B$32))","v":2.4},{"$f":"IF(OFFSET('Raw Data'!V51,Input_Details!$B$34,Input_Details!$B$32)=\"\", \"-\", OFFSET('Raw Data'!V51,Input_Details!$B$34,Input_Details!$B$32))","v":2.6},{"$f":"IF(OFFSET('Raw Data'!W51,Input_Details!$B$34,Input_Details!$B$32)=\"\", \"-\", OFFSET('Raw Data'!W51,Input_Details!$B$34,Input_Details!$B$32))","v":0.6},{"$f":"IF(OFFSET('Raw Data'!X51,Input_Details!$B$34,Input_Details!$B$32)=\"\", \"-\", OFFSET('Raw Data'!X51,Input_Details!$B$34,Input_Details!$B$32))","v":0},{"$f":"IF(OFFSET('Raw Data'!Y51,Input_Details!$B$34,Input_Details!$B$32)=\"\", \"-\", OFFSET('Raw Data'!Y51,Input_Details!$B$34,Input_Details!$B$32))","v":0},{"$f":"IF(OFFSET('Raw Data'!Z51,Input_Details!$B$34,Input_Details!$B$32)=\"\", \"-\", OFFSET('Raw Data'!Z51,Input_Details!$B$34,Input_Details!$B$32))","v":0},{"$f":"IF(OFFSET('Raw Data'!AA51,Input_Details!$B$34,Input_Details!$B$32)=\"\", \"-\", OFFSET('Raw Data'!AA51,Input_Details!$B$34,Input_Details!$B$32))","v":0},{"$f":"IF(OFFSET('Raw Data'!AB51,Input_Details!$B$34,Input_Details!$B$32)=\"\", \"-\", OFFSET('Raw Data'!AB51,Input_Details!$B$34,Input_Details!$B$32))","v":0},{"$f":"IF(OFFSET('Raw Data'!AC51,Input_Details!$B$34,Input_Details!$B$32)=\"\", \"-\", OFFSET('Raw Data'!AC51,Input_Details!$B$34,Input_Details!$B$32))","v":0},{"$f":"IF(OFFSET('Raw Data'!AD51,Input_Details!$B$34,Input_Details!$B$32)=\"\", \"-\", OFFSET('Raw Data'!AD51,Input_Details!$B$34,Input_Details!$B$32))","v":0},{"$f":"IF(OFFSET('Raw Data'!AE51,Input_Details!$B$34,Input_Details!$B$32)=\"\", \"-\", OFFSET('Raw Data'!AE51,Input_Details!$B$34,Input_Details!$B$32))","v":0},{"$f":"IF(OFFSET('Raw Data'!AF51,Input_Details!$B$34,Input_Details!$B$32)=\"\", \"-\", OFFSET('Raw Data'!AF51,Input_Details!$B$34,Input_Details!$B$32))","v":0},{"$f":"IF(OFFSET('Raw Data'!AG51,Input_Details!$B$34,Input_Details!$B$32)=\"\", \"-\", OFFSET('Raw Data'!AG51,Input_Details!$B$34,Input_Details!$B$32))","v":0},{"$f":"IF(OFFSET('Raw Data'!AH51,Input_Details!$B$34,Input_Details!$B$32)=\"\", \"-\", OFFSET('Raw Data'!AH51,Input_Details!$B$34,Input_Details!$B$32))","v":0},{"$f":"IF(OFFSET('Raw Data'!AI51,Input_Details!$B$34,Input_Details!$B$32)=\"\", \"-\", OFFSET('Raw Data'!AI51,Input_Details!$B$34,Input_Details!$B$32))","v":0},{"$f":"IF(OFFSET('Raw Data'!AJ51,Input_Details!$B$34,Input_Details!$B$32)=\"\", \"-\", OFFSET('Raw Data'!AJ51,Input_Details!$B$34,Input_Details!$B$32))","v":0},{"$f":"IF(OFFSET('Raw Data'!AK51,Input_Details!$B$34,Input_Details!$B$32)=\"\", \"-\", OFFSET('Raw Data'!AK51,Input_Details!$B$34,Input_Details!$B$32))","v":0},{"$f":"IF(OFFSET('Raw Data'!AL51,Input_Details!$B$34,Input_Details!$B$32)=\"\", \"-\", OFFSET('Raw Data'!AL51,Input_Details!$B$34,Input_Details!$B$32))","v":0},{"$f":"IF(OFFSET('Raw Data'!AM51,Input_Details!$B$34,Input_Details!$B$32)=\"\", \"-\", OFFSET('Raw Data'!AM51,Input_Details!$B$34,Input_Details!$B$32))","v":0},null,{"$f":"IF(D73=\"-\",\"-\",OFFSET('Raw Data'!AN51,Input_Details!$B$34,Input_Details!$B$32))","v":15.220000000000002},{"$f":"IF(OFFSET('Raw Data'!AO51,Input_Details!$B$34,Input_Details!$B$32)=\"\", \"-\", OFFSET('Raw Data'!AO51,Input_Details!$B$34,Input_Details!$B$32))","v":"-"},{"$f":"IF(OFFSET('Raw Data'!AP51,Input_Details!$B$34,Input_Details!$B$32)=\"\", \"-\", OFFSET('Raw Data'!AP51,Input_Details!$B$34,Input_Details!$B$32))","v":8.1},{"$f":"IF(OFFSET('Raw Data'!AQ51,Input_Details!$B$34,Input_Details!$B$32)=\"\", \"-\", OFFSET('Raw Data'!AQ51,Input_Details!$B$34,Input_Details!$B$32))","v":21.9},null,{"$f":"IF(Y73=\"-\", \"-\", SUM(OFFSET(D73,0,VLOOKUP(Input_Details!$N$3, $AF$3:$AG$12, 2,0)-1):W73))","v":0.6},0.10344827586206896]
[null,"12:00:00",null,{"$f":"IF(OFFSET('Raw Data'!T52,Input_Details!$B$34,Input_Details!$B$32)=\"\", \"-\", OFFSET('Raw Data'!T52,Input_Details!$B$34,Input_Details!$B$32))","v":0.8},{"$f":"IF(OFFSET('Raw Data'!U52,Input_Details!$B$34,Input_Details!$B$32)=\"\", \"-\", OFFSET('Raw Data'!U52,Input_Details!$B$34,Input_Details!$B$32))","v":2.8},{"$f":"IF(OFFSET('Raw Data'!V52,Input_Details!$B$34,Input_Details!$B$32)=\"\", \"-\", OFFSET('Raw Data'!V52,Input_Details!$B$34,Input_Details!$B$32))","v":2.2000000000000002},{"$f":"IF(OFFSET('Raw Data'!W52,Input_Details!$B$34,Input_Details!$B$32)=\"\", \"-\", OFFSET('Raw Data'!W52,Input_Details!$B$34,Input_Details!$B$32))","v":0.8},{"$f":"IF(OFFSET('Raw Data'!X52,Input_Details!$B$34,Input_Details!$B$32)=\"\", \"-\", OFFSET('Raw Data'!X52,Input_Details!$B$34,Input_Details!$B$32))","v":0},{"$f":"IF(OFFSET('Raw Data'!Y52,Input_Details!$B$34,Input_Details!$B$32)=\"\", \"-\", OFFSET('Raw Data'!Y52,Input_Details!$B$34,Input_Details!$B$32))","v":0},{"$f":"IF(OFFSET('Raw Data'!Z52,Input_Details!$B$34,Input_Details!$B$32)=\"\", \"-\", OFFSET('Raw Data'!Z52,Input_Details!$B$34,Input_Details!$B$32))","v":0},{"$f":"IF(OFFSET('Raw Data'!AA52,Input_Details!$B$34,Input_Details!$B$32)=\"\", \"-\", OFFSET('Raw Data'!AA52,Input_Details!$B$34,Input_Details!$B$32))","v":0},{"$f":"IF(OFFSET('Raw Data'!AB52,Input_Details!$B$34,Input_Details!$B$32)=\"\", \"-\", OFFSET('Raw Data'!AB52,Input_Details!$B$34,Input_Details!$B$32))","v":0},{"$f":"IF(OFFSET('Raw Data'!AC52,Input_Details!$B$34,Input_Details!$B$32)=\"\", \"-\", OFFSET('Raw Data'!AC52,Input_Details!$B$34,Input_Details!$B$32))","v":0},{"$f":"IF(OFFSET('Raw Data'!AD52,Input_Details!$B$34,Input_Details!$B$32)=\"\", \"-\", OFFSET('Raw Data'!AD52,Input_Details!$B$34,Input_Details!$B$32))","v":0},{"$f":"IF(OFFSET('Raw Data'!AE52,Input_Details!$B$34,Input_Details!$B$32)=\"\", \"-\", OFFSET('Raw Data'!AE52,Input_Details!$B$34,Input_Details!$B$32))","v":0},{"$f":"IF(OFFSET('Raw Data'!AF52,Input_Details!$B$34,Input_Details!$B$32)=\"\", \"-\", OFFSET('Raw Data'!AF52,Input_Details!$B$34,Input_Details!$B$32))","v":0},{"$f":"IF(OFFSET('Raw Data'!AG52,Input_Details!$B$34,Input_Details!$B$32)=\"\", \"-\", OFFSET('Raw Data'!AG52,Input_Details!$B$34,Input_Details!$B$32))","v":0},{"$f":"IF(OFFSET('Raw Data'!AH52,Input_Details!$B$34,Input_Details!$B$32)=\"\", \"-\", OFFSET('Raw Data'!AH52,Input_Details!$B$34,Input_Details!$B$32))","v":0},{"$f":"IF(OFFSET('Raw Data'!AI52,Input_Details!$B$34,Input_Details!$B$32)=\"\", \"-\", OFFSET('Raw Data'!AI52,Input_Details!$B$34,Input_Details!$B$32))","v":0},{"$f":"IF(OFFSET('Raw Data'!AJ52,Input_Details!$B$34,Input_Details!$B$32)=\"\", \"-\", OFFSET('Raw Data'!AJ52,Input_Details!$B$34,Input_Details!$B$32))","v":0},{"$f":"IF(OFFSET('Raw Data'!AK52,Input_Details!$B$34,Input_Details!$B$32)=\"\", \"-\", OFFSET('Raw Data'!AK52,Input_Details!$B$34,Input_Details!$B$32))","v":0},{"$f":"IF(OFFSET('Raw Data'!AL52,Input_Details!$B$34,Input_Details!$B$32)=\"\", \"-\", OFFSET('Raw Data'!AL52,Input_Details!$B$34,Input_Details!$B$32))","v":0},{"$f":"IF(OFFSET('Raw Data'!AM52,Input_Details!$B$34,Input_Details!$B$32)=\"\", \"-\", OFFSET('Raw Data'!AM52,Input_Details!$B$34,Input_Details!$B$32))","v":0},null,{"$f":"IF(D74=\"-\",\"-\",OFFSET('Raw Data'!AN52,Input_Details!$B$34,Input_Details!$B$32))","v":14.9},{"$f":"IF(OFFSET('Raw Data'!AO52,Input_Details!$B$34,Input_Details!$B$32)=\"\", \"-\", OFFSET('Raw Data'!AO52,Input_Details!$B$34,Input_Details!$B$32))","v":"-"},{"$f":"IF(OFFSET('Raw Data'!AP52,Input_Details!$B$34,Input_Details!$B$32)=\"\", \"-\", OFFSET('Raw Data'!AP52,Input_Details!$B$34,Input_Details!$B$32))","v":6},{"$f":"IF(OFFSET('Raw Data'!AQ52,Input_Details!$B$34,Input_Details!$B$32)=\"\", \"-\", OFFSET('Raw Data'!AQ52,Input_Details!$B$34,Input_Details!$B$32))","v":21.9},null,{"$f":"IF(Y74=\"-\", \"-\", SUM(OFFSET(D74,0,VLOOKUP(Input_Details!$N$3, $AF$3:$AG$12, 2,0)-1):W74))","v":0.8},0.12121212121212123]
[null,"12:15:00",null,{"$f":"IF(OFFSET('Raw Data'!T53,Input_Details!$B$34,Input_Details!$B$32)=\"\", \"-\", OFFSET('Raw Data'!T53,Input_Details!$B$34,Input_Details!$B$32))","v":1.4},{"$f":"IF(OFFSET('Raw Data'!U53,Input_Details!$B$34,Input_Details!$B$32)=\"\", \"-\", OFFSET('Raw Data'!U53,Input_Details!$B$34,Input_Details!$B$32))","v":4},{"$f":"IF(OFFSET('Raw Data'!V53,Input_Details!$B$34,Input_Details!$B$32)=\"\", \"-\", OFFSET('Raw Data'!V53,Input_Details!$B$34,Input_Details!$B$32))","v":1.4},{"$f":"IF(OFFSET('Raw Data'!W53,Input_Details!$B$34,Input_Details!$B$32)=\"\", \"-\", OFFSET('Raw Data'!W53,Input_Details!$B$34,Input_Details!$B$32))","v":0.6},{"$f":"IF(OFFSET('Raw Data'!X53,Input_Details!$B$34,Input_Details!$B$32)=\"\", \"-\", OFFSET('Raw Data'!X53,Input_Details!$B$34,Input_Details!$B$32))","v":0},{"$f":"IF(OFFSET('Raw Data'!Y53,Input_Details!$B$34,Input_Details!$B$32)=\"\", \"-\", OFFSET('Raw Data'!Y53,Input_Details!$B$34,Input_Details!$B$32))","v":0},{"$f":"IF(OFFSET('Raw Data'!Z53,Input_Details!$B$34,Input_Details!$B$32)=\"\", \"-\", OFFSET('Raw Data'!Z53,Input_Details!$B$34,Input_Details!$B$32))","v":0},{"$f":"IF(OFFSET('Raw Data'!AA53,Input_Details!$B$34,Input_Details!$B$32)=\"\", \"-\", OFFSET('Raw Data'!AA53,Input_Details!$B$34,Input_Details!$B$32))","v":0},{"$f":"IF(OFFSET('Raw Data'!AB53,Input_Details!$B$34,Input_Details!$B$32)=\"\", \"-\", OFFSET('Raw Data'!AB53,Input_Details!$B$34,Input_Details!$B$32))","v":0},{"$f":"IF(OFFSET('Raw Data'!AC53,Input_Details!$B$34,Input_Details!$B$32)=\"\", \"-\", OFFSET('Raw Data'!AC53,Input_Details!$B$34,Input_Details!$B$32))","v":0},{"$f":"IF(OFFSET('Raw Data'!AD53,Input_Details!$B$34,Input_Details!$B$32)=\"\", \"-\", OFFSET('Raw Data'!AD53,Input_Details!$B$34,Input_Details!$B$32))","v":0},{"$f":"IF(OFFSET('Raw Data'!AE53,Input_Details!$B$34,Input_Details!$B$32)=\"\", \"-\", OFFSET('Raw Data'!AE53,Input_Details!$B$34,Input_Details!$B$32))","v":0},{"$f":"IF(OFFSET('Raw Data'!AF53,Input_Details!$B$34,Input_Details!$B$32)=\"\", \"-\", OFFSET('Raw Data'!AF53,Input_Details!$B$34,Input_Details!$B$32))","v":0},{"$f":"IF(OFFSET('Raw Data'!AG53,Input_Details!$B$34,Input_Details!$B$32)=\"\", \"-\", OFFSET('Raw Data'!AG53,Input_Details!$B$34,Input_Details!$B$32))","v":0},{"$f":"IF(OFFSET('Raw Data'!AH53,Input_Details!$B$34,Input_Details!$B$32)=\"\", \"-\", OFFSET('Raw Data'!AH53,Input_Details!$B$34,Input_Details!$B$32))","v":0},{"$f":"IF(OFFSET('Raw Data'!AI53,Input_Details!$B$34,Input_Details!$B$32)=\"\", \"-\", OFFSET('Raw Data'!AI53,Input_Details!$B$34,Input_Details!$B$32))","v":0},{"$f":"IF(OFFSET('Raw Data'!AJ53,Input_Details!$B$34,Input_Details!$B$32)=\"\", \"-\", OFFSET('Raw Data'!AJ53,Input_Details!$B$34,Input_Details!$B$32))","v":0},{"$f":"IF(OFFSET('Raw Data'!AK53,Input_Details!$B$34,Input_Details!$B$32)=\"\", \"-\", OFFSET('Raw Data'!AK53,Input_Details!$B$34,Input_Details!$B$32))","v":0},{"$f":"IF(OFFSET('Raw Data'!AL53,Input_Details!$B$34,Input_Details!$B$32)=\"\", \"-\", OFFSET('Raw Data'!AL53,Input_Details!$B$34,Input_Details!$B$32))","v":0},{"$f":"IF(OFFSET('Raw Data'!AM53,Input_Details!$B$34,Input_Details!$B$32)=\"\", \"-\", OFFSET('Raw Data'!AM53,Input_Details!$B$34,Input_Details!$B$32))","v":0},null,{"$f":"IF(D75=\"-\",\"-\",OFFSET('Raw Data'!AN53,Input_Details!$B$34,Input_Details!$B$32))","v":12.78},{"$f":"IF(OFFSET('Raw Data'!AO53,Input_Details!$B$34,Input_Details!$B$32)=\"\", \"-\", OFFSET('Raw Data'!AO53,Input_Details!$B$34,Input_Details!$B$32))","v":"-"},{"$f":"IF(OFFSET('Raw Data'!AP53,Input_Details!$B$34,Input_Details!$B$32)=\"\", \"-\", OFFSET('Raw Data'!AP53,Input_Details!$B$34,Input_Details!$B$32))","v":2.9},{"$f":"IF(OFFSET('Raw Data'!AQ53,Input_Details!$B$34,Input_Details!$B$32)=\"\", \"-\", OFFSET('Raw Data'!AQ53,Input_Details!$B$34,Input_Details!$B$32))","v":21.2},null,{"$f":"IF(Y75=\"-\", \"-\", SUM(OFFSET(D75,0,VLOOKUP(Input_Details!$N$3, $AF$3:$AG$12, 2,0)-1):W75))","v":0.6},8.1081081081081072E-2]
[null,"12:30:00",null,{"$f":"IF(OFFSET('Raw Data'!T54,Input_Details!$B$34,Input_Details!$B$32)=\"\", \"-\", OFFSET('Raw Data'!T54,Input_Details!$B$34,Input_Details!$B$32))","v":0.6},{"$f":"IF(OFFSET('Raw Data'!U54,Input_Details!$B$34,Input_Details!$B$32)=\"\", \"-\", OFFSET('Raw Data'!U54,Input_Details!$B$34,Input_Details!$B$32))","v":3.8},{"$f":"IF(OFFSET('Raw Data'!V54,Input_Details!$B$34,Input_Details!$B$32)=\"\", \"-\", OFFSET('Raw Data'!V54,Input_Details!$B$34,Input_Details!$B$32))","v":1.2},{"$f":"IF(OFFSET('Raw Data'!W54,Input_Details!$B$34,Input_Details!$B$32)=\"\", \"-\", OFFSET('Raw Data'!W54,Input_Details!$B$34,Input_Details!$B$32))","v":0.4},{"$f":"IF(OFFSET('Raw Data'!X54,Input_Details!$B$34,Input_Details!$B$32)=\"\", \"-\", OFFSET('Raw Data'!X54,Input_Details!$B$34,Input_Details!$B$32))","v":0},{"$f":"IF(OFFSET('Raw Data'!Y54,Input_Details!$B$34,Input_Details!$B$32)=\"\", \"-\", OFFSET('Raw Data'!Y54,Input_Details!$B$34,Input_Details!$B$32))","v":0},{"$f":"IF(OFFSET('Raw Data'!Z54,Input_Details!$B$34,Input_Details!$B$32)=\"\", \"-\", OFFSET('Raw Data'!Z54,Input_Details!$B$34,Input_Details!$B$32))","v":0},{"$f":"IF(OFFSET('Raw Data'!AA54,Input_Details!$B$34,Input_Details!$B$32)=\"\", \"-\", OFFSET('Raw Data'!AA54,Input_Details!$B$34,Input_Details!$B$32))","v":0},{"$f":"IF(OFFSET('Raw Data'!AB54,Input_Details!$B$34,Input_Details!$B$32)=\"\", \"-\", OFFSET('Raw Data'!AB54,Input_Details!$B$34,Input_Details!$B$32))","v":0},{"$f":"IF(OFFSET('Raw Data'!AC54,Input_Details!$B$34,Input_Details!$B$32)=\"\", \"-\", OFFSET('Raw Data'!AC54,Input_Details!$B$34,Input_Details!$B$32))","v":0},{"$f":"IF(OFFSET('Raw Data'!AD54,Input_Details!$B$34,Input_Details!$B$32)=\"\", \"-\", OFFSET('Raw Data'!AD54,Input_Details!$B$34,Input_Details!$B$32))","v":0},{"$f":"IF(OFFSET('Raw Data'!AE54,Input_Details!$B$34,Input_Details!$B$32)=\"\", \"-\", OFFSET('Raw Data'!AE54,Input_Details!$B$34,Input_Details!$B$32))","v":0},{"$f":"IF(OFFSET('Raw Data'!AF54,Input_Details!$B$34,Input_Details!$B$32)=\"\", \"-\", OFFSET('Raw Data'!AF54,Input_Details!$B$34,Input_Details!$B$32))","v":0},{"$f":"IF(OFFSET('Raw Data'!AG54,Input_Details!$B$34,Input_Details!$B$32)=\"\", \"-\", OFFSET('Raw Data'!AG54,Input_Details!$B$34,Input_Details!$B$32))","v":0},{"$f":"IF(OFFSET('Raw Data'!AH54,Input_Details!$B$34,Input_Details!$B$32)=\"\", \"-\", OFFSET('Raw Data'!AH54,Input_Details!$B$34,Input_Details!$B$32))","v":0},{"$f":"IF(OFFSET('Raw Data'!AI54,Input_Details!$B$34,Input_Details!$B$32)=\"\", \"-\", OFFSET('Raw Data'!AI54,Input_Details!$B$34,Input_Details!$B$32))","v":0},{"$f":"IF(OFFSET('Raw Data'!AJ54,Input_Details!$B$34,Input_Details!$B$32)=\"\", \"-\", OFFSET('Raw Data'!AJ54,Input_Details!$B$34,Input_Details!$B$32))","v":0},{"$f":"IF(OFFSET('Raw Data'!AK54,Input_Details!$B$34,Input_Details!$B$32)=\"\", \"-\", OFFSET('Raw Data'!AK54,Input_Details!$B$34,Input_Details!$B$32))","v":0},{"$f":"IF(OFFSET('Raw Data'!AL54,Input_Details!$B$34,Input_Details!$B$32)=\"\", \"-\", OFFSET('Raw Data'!AL54,Input_Details!$B$34,Input_Details!$B$32))","v":0},{"$f":"IF(OFFSET('Raw Data'!AM54,Input_Details!$B$34,Input_Details!$B$32)=\"\", \"-\", OFFSET('Raw Data'!AM54,Input_Details!$B$34,Input_Details!$B$32))","v":0},null,{"$f":"IF(D76=\"-\",\"-\",OFFSET('Raw Data'!AN54,Input_Details!$B$34,Input_Details!$B$32))","v":13.200000000000003},{"$f":"IF(OFFSET('Raw Data'!AO54,Input_Details!$B$34,Input_Details!$B$32)=\"\", \"-\", OFFSET('Raw Data'!AO54,Input_Details!$B$34,Input_Details!$B$32))","v":"-"},{"$f":"IF(OFFSET('Raw Data'!AP54,Input_Details!$B$34,Input_Details!$B$32)=\"\", \"-\", OFFSET('Raw Data'!AP54,Input_Details!$B$34,Input_Details!$B$32))","v":6.1},{"$f":"IF(OFFSET('Raw Data'!AQ54,Input_Details!$B$34,Input_Details!$B$32)=\"\", \"-\", OFFSET('Raw Data'!AQ54,Input_Details!$B$34,Input_Details!$B$32))","v":20.6},null,{"$f":"IF(Y76=\"-\", \"-\", SUM(OFFSET(D76,0,VLOOKUP(Input_Details!$N$3, $AF$3:$AG$12, 2,0)-1):W76))","v":0.4},6.6666666666666666E-2]
[null,"12:45:00",null,{"$f":"IF(OFFSET('Raw Data'!T55,Input_Details!$B$34,Input_Details!$B$32)=\"\", \"-\", OFFSET('Raw Data'!T55,Input_Details!$B$34,Input_Details!$B$32))","v":0.2},{"$f":"IF(OFFSET('Raw Data'!U55,Input_Details!$B$34,Input_Details!$B$32)=\"\", \"-\", OFFSET('Raw Data'!U55,Input_Details!$B$34,Input_Details!$B$32))","v":3.8},{"$f":"IF(OFFSET('Raw Data'!V55,Input_Details!$B$34,Input_Details!$B$32)=\"\", \"-\", OFFSET('Raw Data'!V55,Input_Details!$B$34,Input_Details!$B$32))","v":3},{"$f":"IF(OFFSET('Raw Data'!W55,Input_Details!$B$34,Input_Details!$B$32)=\"\", \"-\", OFFSET('Raw Data'!W55,Input_Details!$B$34,Input_Details!$B$32))","v":0.8},{"$f":"IF(OFFSET('Raw Data'!X55,Input_Details!$B$34,Input_Details!$B$32)=\"\", \"-\", OFFSET('Raw Data'!X55,Input_Details!$B$34,Input_Details!$B$32))","v":0},{"$f":"IF(OFFSET('Raw Data'!Y55,Input_Details!$B$34,Input_Details!$B$32)=\"\", \"-\", OFFSET('Raw Data'!Y55,Input_Details!$B$34,Input_Details!$B$32))","v":0},{"$f":"IF(OFFSET('Raw Data'!Z55,Input_Details!$B$34,Input_Details!$B$32)=\"\", \"-\", OFFSET('Raw Data'!Z55,Input_Details!$B$34,Input_Details!$B$32))","v":0},{"$f":"IF(OFFSET('Raw Data'!AA55,Input_Details!$B$34,Input_Details!$B$32)=\"\", \"-\", OFFSET('Raw Data'!AA55,Input_Details!$B$34,Input_Details!$B$32))","v":0},{"$f":"IF(OFFSET('Raw Data'!AB55,Input_Details!$B$34,Input_Details!$B$32)=\"\", \"-\", OFFSET('Raw Data'!AB55,Input_Details!$B$34,Input_Details!$B$32))","v":0},{"$f":"IF(OFFSET('Raw Data'!AC55,Input_Details!$B$34,Input_Details!$B$32)=\"\", \"-\", OFFSET('Raw Data'!AC55,Input_Details!$B$34,Input_Details!$B$32))","v":0},{"$f":"IF(OFFSET('Raw Data'!AD55,Input_Details!$B$34,Input_Details!$B$32)=\"\", \"-\", OFFSET('Raw Data'!AD55,Input_Details!$B$34,Input_Details!$B$32))","v":0},{"$f":"IF(OFFSET('Raw Data'!AE55,Input_Details!$B$34,Input_Details!$B$32)=\"\", \"-\", OFFSET('Raw Data'!AE55,Input_Details!$B$34,Input_Details!$B$32))","v":0},{"$f":"IF(OFFSET('Raw Data'!AF55,Input_Details!$B$34,Input_Details!$B$32)=\"\", \"-\", OFFSET('Raw Data'!AF55,Input_Details!$B$34,Input_Details!$B$32))","v":0},{"$f":"IF(OFFSET('Raw Data'!AG55,Input_Details!$B$34,Input_Details!$B$32)=\"\", \"-\", OFFSET('Raw Data'!AG55,Input_Details!$B$34,Input_Details!$B$32))","v":0},{"$f":"IF(OFFSET('Raw Data'!AH55,Input_Details!$B$34,Input_Details!$B$32)=\"\", \"-\", OFFSET('Raw Data'!AH55,Input_Details!$B$34,Input_Details!$B$32))","v":0},{"$f":"IF(OFFSET('Raw Data'!AI55,Input_Details!$B$34,Input_Details!$B$32)=\"\", \"-\", OFFSET('Raw Data'!AI55,Input_Details!$B$34,Input_Details!$B$32))","v":0},{"$f":"IF(OFFSET('Raw Data'!AJ55,Input_Details!$B$34,Input_Details!$B$32)=\"\", \"-\", OFFSET('Raw Data'!AJ55,Input_Details!$B$34,Input_Details!$B$32))","v":0},{"$f":"IF(OFFSET('Raw Data'!AK55,Input_Details!$B$34,Input_Details!$B$32)=\"\", \"-\", OFFSET('Raw Data'!AK55,Input_Details!$B$34,Input_Details!$B$32))","v":0},{"$f":"IF(OFFSET('Raw Data'!AL55,Input_Details!$B$34,Input_Details!$B$32)=\"\", \"-\", OFFSET('Raw Data'!AL55,Input_Details!$B$34,Input_Details!$B$32))","v":0},{"$f":"IF(OFFSET('Raw Data'!AM55,Input_Details!$B$34,Input_Details!$B$32)=\"\", \"-\", OFFSET('Raw Data'!AM55,Input_Details!$B$34,Input_Details!$B$32))","v":0},null,{"$f":"IF(D77=\"-\",\"-\",OFFSET('Raw Data'!AN55,Input_Details!$B$34,Input_Details!$B$32))","v":14.680000000000001},{"$f":"IF(OFFSET('Raw Data'!AO55,Input_Details!$B$34,Input_Details!$B$32)=\"\", \"-\", OFFSET('Raw Data'!AO55,Input_Details!$B$34,Input_Details!$B$32))","v":18.600000000000001},{"$f":"IF(OFFSET('Raw Data'!AP55,Input_Details!$B$34,Input_Details!$B$32)=\"\", \"-\", OFFSET('Raw Data'!AP55,Input_Details!$B$34,Input_Details!$B$32))","v":9.3000000000000007},{"$f":"IF(OFFSET('Raw Data'!AQ55,Input_Details!$B$34,Input_Details!$B$32)=\"\", \"-\", OFFSET('Raw Data'!AQ55,Input_Details!$B$34,Input_Details!$B$32))","v":24.5},null,{"$f":"IF(Y77=\"-\", \"-\", SUM(OFFSET(D77,0,VLOOKUP(Input_Details!$N$3, $AF$3:$AG$12, 2,0)-1):W77))","v":0.8},0.10256410256410257]
[null,"13:00:00",null,{"$f":"IF(OFFSET('Raw Data'!T56,Input_Details!$B$34,Input_Details!$B$32)=\"\", \"-\", OFFSET('Raw Data'!T56,Input_Details!$B$34,Input_Details!$B$32))","v":0.8},{"$f":"IF(OFFSET('Raw Data'!U56,Input_Details!$B$34,Input_Details!$B$32)=\"\", \"-\", OFFSET('Raw Data'!U56,Input_Details!$B$34,Input_Details!$B$32))","v":2.8},{"$f":"IF(OFFSET('Raw Data'!V56,Input_Details!$B$34,Input_Details!$B$32)=\"\", \"-\", OFFSET('Raw Data'!V56,Input_Details!$B$34,Input_Details!$B$32))","v":4.8},{"$f":"IF(OFFSET('Raw Data'!W56,Input_Details!$B$34,Input_Details!$B$32)=\"\", \"-\", OFFSET('Raw Data'!W56,Input_Details!$B$34,Input_Details!$B$32))","v":1.2},{"$f":"IF(OFFSET('Raw Data'!X56,Input_Details!$B$34,Input_Details!$B$32)=\"\", \"-\", OFFSET('Raw Data'!X56,Input_Details!$B$34,Input_Details!$B$32))","v":0.2},{"$f":"IF(OFFSET('Raw Data'!Y56,Input_Details!$B$34,Input_Details!$B$32)=\"\", \"-\", OFFSET('Raw Data'!Y56,Input_Details!$B$34,Input_Details!$B$32))","v":0},{"$f":"IF(OFFSET('Raw Data'!Z56,Input_Details!$B$34,Input_Details!$B$32)=\"\", \"-\", OFFSET('Raw Data'!Z56,Input_Details!$B$34,Input_Details!$B$32))","v":0},{"$f":"IF(OFFSET('Raw Data'!AA56,Input_Details!$B$34,Input_Details!$B$32)=\"\", \"-\", OFFSET('Raw Data'!AA56,Input_Details!$B$34,Input_Details!$B$32))","v":0},{"$f":"IF(OFFSET('Raw Data'!AB56,Input_Details!$B$34,Input_Details!$B$32)=\"\", \"-\", OFFSET('Raw Data'!AB56,Input_Details!$B$34,Input_Details!$B$32))","v":0},{"$f":"IF(OFFSET('Raw Data'!AC56,Input_Details!$B$34,Input_Details!$B$32)=\"\", \"-\", OFFSET('Raw Data'!AC56,Input_Details!$B$34,Input_Details!$B$32))","v":0},{"$f":"IF(OFFSET('Raw Data'!AD56,Input_Details!$B$34,Input_Details!$B$32)=\"\", \"-\", OFFSET('Raw Data'!AD56,Input_Details!$B$34,Input_Details!$B$32))","v":0},{"$f":"IF(OFFSET('Raw Data'!AE56,Input_Details!$B$34,Input_Details!$B$32)=\"\", \"-\", OFFSET('Raw Data'!AE56,Input_Details!$B$34,Input_Details!$B$32))","v":0},{"$f":"IF(OFFSET('Raw Data'!AF56,Input_Details!$B$34,Input_Details!$B$32)=\"\", \"-\", OFFSET('Raw Data'!AF56,Input_Details!$B$34,Input_Details!$B$32))","v":0},{"$f":"IF(OFFSET('Raw Data'!AG56,Input_Details!$B$34,Input_Details!$B$32)=\"\", \"-\", OFFSET('Raw Data'!AG56,Input_Details!$B$34,Input_Details!$B$32))","v":0},{"$f":"IF(OFFSET('Raw Data'!AH56,Input_Details!$B$34,Input_Details!$B$32)=\"\", \"-\", OFFSET('Raw Data'!AH56,Input_Details!$B$34,Input_Details!$B$32))","v":0},{"$f":"IF(OFFSET('Raw Data'!AI56,Input_Details!$B$34,Input_Details!$B$32)=\"\", \"-\", OFFSET('Raw Data'!AI56,Input_Details!$B$34,Input_Details!$B$32))","v":0},{"$f":"IF(OFFSET('Raw Data'!AJ56,Input_Details!$B$34,Input_Details!$B$32)=\"\", \"-\", OFFSET('Raw Data'!AJ56,Input_Details!$B$34,Input_Details!$B$32))","v":0},{"$f":"IF(OFFSET('Raw Data'!AK56,Input_Details!$B$34,Input_Details!$B$32)=\"\", \"-\", OFFSET('Raw Data'!AK56,Input_Details!$B$34,Input_Details!$B$32))","v":0},{"$f":"IF(OFFSET('Raw Data'!AL56,Input_Details!$B$34,Input_Details!$B$32)=\"\", \"-\", OFFSET('Raw Data'!AL56,Input_Details!$B$34,Input_Details!$B$32))","v":0},{"$f":"IF(OFFSET('Raw Data'!AM56,Input_Details!$B$34,Input_Details!$B$32)=\"\", \"-\", OFFSET('Raw Data'!AM56,Input_Details!$B$34,Input_Details!$B$32))","v":0},null,{"$f":"IF(D78=\"-\",\"-\",OFFSET('Raw Data'!AN56,Input_Details!$B$34,Input_Details!$B$32))","v":15.7},{"$f":"IF(OFFSET('Raw Data'!AO56,Input_Details!$B$34,Input_Details!$B$32)=\"\", \"-\", OFFSET('Raw Data'!AO56,Input_Details!$B$34,Input_Details!$B$32))","v":18.3},{"$f":"IF(OFFSET('Raw Data'!AP56,Input_Details!$B$34,Input_Details!$B$32)=\"\", \"-\", OFFSET('Raw Data'!AP56,Input_Details!$B$34,Input_Details!$B$32))","v":6.7},{"$f":"IF(OFFSET('Raw Data'!AQ56,Input_Details!$B$34,Input_Details!$B$32)=\"\", \"-\", OFFSET('Raw Data'!AQ56,Input_Details!$B$34,Input_Details!$B$32))","v":26.2},null,{"$f":"IF(Y78=\"-\", \"-\", SUM(OFFSET(D78,0,VLOOKUP(Input_Details!$N$3, $AF$3:$AG$12, 2,0)-1):W78))","v":1.4},0.14285714285714288]
[null,"13:15:00",null,{"$f":"IF(OFFSET('Raw Data'!T57,Input_Details!$B$34,Input_Details!$B$32)=\"\", \"-\", OFFSET('Raw Data'!T57,Input_Details!$B$34,Input_Details!$B$32))","v":0.8},{"$f":"IF(OFFSET('Raw Data'!U57,Input_Details!$B$34,Input_Details!$B$32)=\"\", \"-\", OFFSET('Raw Data'!U57,Input_Details!$B$34,Input_Details!$B$32))","v":3.8},{"$f":"IF(OFFSET('Raw Data'!V57,Input_Details!$B$34,Input_Details!$B$32)=\"\", \"-\", OFFSET('Raw Data'!V57,Input_Details!$B$34,Input_Details!$B$32))","v":2.4},{"$f":"IF(OFFSET('Raw Data'!W57,Input_Details!$B$34,Input_Details!$B$32)=\"\", \"-\", OFFSET('Raw Data'!W57,Input_Details!$B$34,Input_Details!$B$32))","v":0.2},{"$f":"IF(OFFSET('Raw Data'!X57,Input_Details!$B$34,Input_Details!$B$32)=\"\", \"-\", OFFSET('Raw Data'!X57,Input_Details!$B$34,Input_Details!$B$32))","v":0.2},{"$f":"IF(OFFSET('Raw Data'!Y57,Input_Details!$B$34,Input_Details!$B$32)=\"\", \"-\", OFFSET('Raw Data'!Y57,Input_Details!$B$34,Input_Details!$B$32))","v":0},{"$f":"IF(OFFSET('Raw Data'!Z57,Input_Details!$B$34,Input_Details!$B$32)=\"\", \"-\", OFFSET('Raw Data'!Z57,Input_Details!$B$34,Input_Details!$B$32))","v":0},{"$f":"IF(OFFSET('Raw Data'!AA57,Input_Details!$B$34,Input_Details!$B$32)=\"\", \"-\", OFFSET('Raw Data'!AA57,Input_Details!$B$34,Input_Details!$B$32))","v":0},{"$f":"IF(OFFSET('Raw Data'!AB57,Input_Details!$B$34,Input_Details!$B$32)=\"\", \"-\", OFFSET('Raw Data'!AB57,Input_Details!$B$34,Input_Details!$B$32))","v":0},{"$f":"IF(OFFSET('Raw Data'!AC57,Input_Details!$B$34,Input_Details!$B$32)=\"\", \"-\", OFFSET('Raw Data'!AC57,Input_Details!$B$34,Input_Details!$B$32))","v":0},{"$f":"IF(OFFSET('Raw Data'!AD57,Input_Details!$B$34,Input_Details!$B$32)=\"\", \"-\", OFFSET('Raw Data'!AD57,Input_Details!$B$34,Input_Details!$B$32))","v":0},{"$f":"IF(OFFSET('Raw Data'!AE57,Input_Details!$B$34,Input_Details!$B$32)=\"\", \"-\", OFFSET('Raw Data'!AE57,Input_Details!$B$34,Input_Details!$B$32))","v":0},{"$f":"IF(OFFSET('Raw Data'!AF57,Input_Details!$B$34,Input_Details!$B$32)=\"\", \"-\", OFFSET('Raw Data'!AF57,Input_Details!$B$34,Input_Details!$B$32))","v":0},{"$f":"IF(OFFSET('Raw Data'!AG57,Input_Details!$B$34,Input_Details!$B$32)=\"\", \"-\", OFFSET('Raw Data'!AG57,Input_Details!$B$34,Input_Details!$B$32))","v":0},{"$f":"IF(OFFSET('Raw Data'!AH57,Input_Details!$B$34,Input_Details!$B$32)=\"\", \"-\", OFFSET('Raw Data'!AH57,Input_Details!$B$34,Input_Details!$B$32))","v":0},{"$f":"IF(OFFSET('Raw Data'!AI57,Input_Details!$B$34,Input_Details!$B$32)=\"\", \"-\", OFFSET('Raw Data'!AI57,Input_Details!$B$34,Input_Details!$B$32))","v":0},{"$f":"IF(OFFSET('Raw Data'!AJ57,Input_Details!$B$34,Input_Details!$B$32)=\"\", \"-\", OFFSET('Raw Data'!AJ57,Input_Details!$B$34,Input_Details!$B$32))","v":0},{"$f":"IF(OFFSET('Raw Data'!AK57,Input_Details!$B$34,Input_Details!$B$32)=\"\", \"-\", OFFSET('Raw Data'!AK57,Input_Details!$B$34,Input_Details!$B$32))","v":0},{"$f":"IF(OFFSET('Raw Data'!AL57,Input_Details!$B$34,Input_Details!$B$32)=\"\", \"-\", OFFSET('Raw Data'!AL57,Input_Details!$B$34,Input_Details!$B$32))","v":0},{"$f":"IF(OFFSET('Raw Data'!AM57,Input_Details!$B$34,Input_Details!$B$32)=\"\", \"-\", OFFSET('Raw Data'!AM57,Input_Details!$B$34,Input_Details!$B$32))","v":0},null,{"$f":"IF(D79=\"-\",\"-\",OFFSET('Raw Data'!AN57,Input_Details!$B$34,Input_Details!$B$32))","v":14.16},{"$f":"IF(OFFSET('Raw Data'!AO57,Input_Details!$B$34,Input_Details!$B$32)=\"\", \"-\", OFFSET('Raw Data'!AO57,Input_Details!$B$34,Input_Details!$B$32))","v":"-"},{"$f":"IF(OFFSET('Raw Data'!AP57,Input_Details!$B$34,Input_Details!$B$32)=\"\", \"-\", OFFSET('Raw Data'!AP57,Input_Details!$B$34,Input_Details!$B$32))","v":4},{"$f":"IF(OFFSET('Raw Data'!AQ57,Input_Details!$B$34,Input_Details!$B$32)=\"\", \"-\", OFFSET('Raw Data'!AQ57,Input_Details!$B$34,Input_Details!$B$32))","v":26.3},null,{"$f":"IF(Y79=\"-\", \"-\", SUM(OFFSET(D79,0,VLOOKUP(Input_Details!$N$3, $AF$3:$AG$12, 2,0)-1):W79))","v":0.4},5.4054054054054057E-2]
[null,"13:30:00",null,{"$f":"IF(OFFSET('Raw Data'!T58,Input_Details!$B$34,Input_Details!$B$32)=\"\", \"-\", OFFSET('Raw Data'!T58,Input_Details!$B$34,Input_Details!$B$32))","v":0.4},{"$f":"IF(OFFSET('Raw Data'!U58,Input_Details!$B$34,Input_Details!$B$32)=\"\", \"-\", OFFSET('Raw Data'!U58,Input_Details!$B$34,Input_Details!$B$32))","v":3.2},{"$f":"IF(OFFSET('Raw Data'!V58,Input_Details!$B$34,Input_Details!$B$32)=\"\", \"-\", OFFSET('Raw Data'!V58,Input_Details!$B$34,Input_Details!$B$32))","v":2.2000000000000002},{"$f":"IF(OFFSET('Raw Data'!W58,Input_Details!$B$34,Input_Details!$B$32)=\"\", \"-\", OFFSET('Raw Data'!W58,Input_Details!$B$34,Input_Details!$B$32))","v":0.8},{"$f":"IF(OFFSET('Raw Data'!X58,Input_Details!$B$34,Input_Details!$B$32)=\"\", \"-\", OFFSET('Raw Data'!X58,Input_Details!$B$34,Input_Details!$B$32))","v":0},{"$f":"IF(OFFSET('Raw Data'!Y58,Input_Details!$B$34,Input_Details!$B$32)=\"\", \"-\", OFFSET('Raw Data'!Y58,Input_Details!$B$34,Input_Details!$B$32))","v":0},{"$f":"IF(OFFSET('Raw Data'!Z58,Input_Details!$B$34,Input_Details!$B$32)=\"\", \"-\", OFFSET('Raw Data'!Z58,Input_Details!$B$34,Input_Details!$B$32))","v":0},{"$f":"IF(OFFSET('Raw Data'!AA58,Input_Details!$B$34,Input_Details!$B$32)=\"\", \"-\", OFFSET('Raw Data'!AA58,Input_Details!$B$34,Input_Details!$B$32))","v":0},{"$f":"IF(OFFSET('Raw Data'!AB58,Input_Details!$B$34,Input_Details!$B$32)=\"\", \"-\", OFFSET('Raw Data'!AB58,Input_Details!$B$34,Input_Details!$B$32))","v":0},{"$f":"IF(OFFSET('Raw Data'!AC58,Input_Details!$B$34,Input_Details!$B$32)=\"\", \"-\", OFFSET('Raw Data'!AC58,Input_Details!$B$34,Input_Details!$B$32))","v":0},{"$f":"IF(OFFSET('Raw Data'!AD58,Input_Details!$B$34,Input_Details!$B$32)=\"\", \"-\", OFFSET('Raw Data'!AD58,Input_Details!$B$34,Input_Details!$B$32))","v":0},{"$f":"IF(OFFSET('Raw Data'!AE58,Input_Details!$B$34,Input_Details!$B$32)=\"\", \"-\", OFFSET('Raw Data'!AE58,Input_Details!$B$34,Input_Details!$B$32))","v":0},{"$f":"IF(OFFSET('Raw Data'!AF58,Input_Details!$B$34,Input_Details!$B$32)=\"\", \"-\", OFFSET('Raw Data'!AF58,Input_Details!$B$34,Input_Details!$B$32))","v":0},{"$f":"IF(OFFSET('Raw Data'!AG58,Input_Details!$B$34,Input_Details!$B$32)=\"\", \"-\", OFFSET('Raw Data'!AG58,Input_Details!$B$34,Input_Details!$B$32))","v":0},{"$f":"IF(OFFSET('Raw Data'!AH58,Input_Details!$B$34,Input_Details!$B$32)=\"\", \"-\", OFFSET('Raw Data'!AH58,Input_Details!$B$34,Input_Details!$B$32))","v":0},{"$f":"IF(OFFSET('Raw Data'!AI58,Input_Details!$B$34,Input_Details!$B$32)=\"\", \"-\", OFFSET('Raw Data'!AI58,Input_Details!$B$34,Input_Details!$B$32))","v":0},{"$f":"IF(OFFSET('Raw Data'!AJ58,Input_Details!$B$34,Input_Details!$B$32)=\"\", \"-\", OFFSET('Raw Data'!AJ58,Input_Details!$B$34,Input_Details!$B$32))","v":0},{"$f":"IF(OFFSET('Raw Data'!AK58,Input_Details!$B$34,Input_Details!$B$32)=\"\", \"-\", OFFSET('Raw Data'!AK58,Input_Details!$B$34,Input_Details!$B$32))","v":0},{"$f":"IF(OFFSET('Raw Data'!AL58,Input_Details!$B$34,Input_Details!$B$32)=\"\", \"-\", OFFSET('Raw Data'!AL58,Input_Details!$B$34,Input_Details!$B$32))","v":0},{"$f":"IF(OFFSET('Raw Data'!AM58,Input_Details!$B$34,Input_Details!$B$32)=\"\", \"-\", OFFSET('Raw Data'!AM58,Input_Details!$B$34,Input_Details!$B$32))","v":0},null,{"$f":"IF(D80=\"-\",\"-\",OFFSET('Raw Data'!AN58,Input_Details!$B$34,Input_Details!$B$32))","v":15.180000000000001},{"$f":"IF(OFFSET('Raw Data'!AO58,Input_Details!$B$34,Input_Details!$B$32)=\"\", \"-\", OFFSET('Raw Data'!AO58,Input_Details!$B$34,Input_Details!$B$32))","v":"-"},{"$f":"IF(OFFSET('Raw Data'!AP58,Input_Details!$B$34,Input_Details!$B$32)=\"\", \"-\", OFFSET('Raw Data'!AP58,Input_Details!$B$34,Input_Details!$B$32))","v":7.5},{"$f":"IF(OFFSET('Raw Data'!AQ58,Input_Details!$B$34,Input_Details!$B$32)=\"\", \"-\", OFFSET('Raw Data'!AQ58,Input_Details!$B$34,Input_Details!$B$32))","v":23.1},null,{"$f":"IF(Y80=\"-\", \"-\", SUM(OFFSET(D80,0,VLOOKUP(Input_Details!$N$3, $AF$3:$AG$12, 2,0)-1):W80))","v":0.8},0.12121212121212122]
[null,"13:45:00",null,{"$f":"IF(OFFSET('Raw Data'!T59,Input_Details!$B$34,Input_Details!$B$32)=\"\", \"-\", OFFSET('Raw Data'!T59,Input_Details!$B$34,Input_Details!$B$32))","v":0.6},{"$f":"IF(OFFSET('Raw Data'!U59,Input_Details!$B$34,Input_Details!$B$32)=\"\", \"-\", OFFSET('Raw Data'!U59,Input_Details!$B$34,Input_Details!$B$32))","v":3.4},{"$f":"IF(OFFSET('Raw Data'!V59,Input_Details!$B$34,Input_Details!$B$32)=\"\", \"-\", OFFSET('Raw Data'!V59,Input_Details!$B$34,Input_Details!$B$32))","v":0.8},{"$f":"IF(OFFSET('Raw Data'!W59,Input_Details!$B$34,Input_Details!$B$32)=\"\", \"-\", OFFSET('Raw Data'!W59,Input_Details!$B$34,Input_Details!$B$32))","v":0.6},{"$f":"IF(OFFSET('Raw Data'!X59,Input_Details!$B$34,Input_Details!$B$32)=\"\", \"-\", OFFSET('Raw Data'!X59,Input_Details!$B$34,Input_Details!$B$32))","v":0.2},{"$f":"IF(OFFSET('Raw Data'!Y59,Input_Details!$B$34,Input_Details!$B$32)=\"\", \"-\", OFFSET('Raw Data'!Y59,Input_Details!$B$34,Input_Details!$B$32))","v":0},{"$f":"IF(OFFSET('Raw Data'!Z59,Input_Details!$B$34,Input_Details!$B$32)=\"\", \"-\", OFFSET('Raw Data'!Z59,Input_Details!$B$34,Input_Details!$B$32))","v":0},{"$f":"IF(OFFSET('Raw Data'!AA59,Input_Details!$B$34,Input_Details!$B$32)=\"\", \"-\", OFFSET('Raw Data'!AA59,Input_Details!$B$34,Input_Details!$B$32))","v":0},{"$f":"IF(OFFSET('Raw Data'!AB59,Input_Details!$B$34,Input_Details!$B$32)=\"\", \"-\", OFFSET('Raw Data'!AB59,Input_Details!$B$34,Input_Details!$B$32))","v":0},{"$f":"IF(OFFSET('Raw Data'!AC59,Input_Details!$B$34,Input_Details!$B$32)=\"\", \"-\", OFFSET('Raw Data'!AC59,Input_Details!$B$34,Input_Details!$B$32))","v":0},{"$f":"IF(OFFSET('Raw Data'!AD59,Input_Details!$B$34,Input_Details!$B$32)=\"\", \"-\", OFFSET('Raw Data'!AD59,Input_Details!$B$34,Input_Details!$B$32))","v":0},{"$f":"IF(OFFSET('Raw Data'!AE59,Input_Details!$B$34,Input_Details!$B$32)=\"\", \"-\", OFFSET('Raw Data'!AE59,Input_Details!$B$34,Input_Details!$B$32))","v":0},{"$f":"IF(OFFSET('Raw Data'!AF59,Input_Details!$B$34,Input_Details!$B$32)=\"\", \"-\", OFFSET('Raw Data'!AF59,Input_Details!$B$34,Input_Details!$B$32))","v":0},{"$f":"IF(OFFSET('Raw Data'!AG59,Input_Details!$B$34,Input_Details!$B$32)=\"\", \"-\", OFFSET('Raw Data'!AG59,Input_Details!$B$34,Input_Details!$B$32))","v":0},{"$f":"IF(OFFSET('Raw Data'!AH59,Input_Details!$B$34,Input_Details!$B$32)=\"\", \"-\", OFFSET('Raw Data'!AH59,Input_Details!$B$34,Input_Details!$B$32))","v":0},{"$f":"IF(OFFSET('Raw Data'!AI59,Input_Details!$B$34,Input_Details!$B$32)=\"\", \"-\", OFFSET('Raw Data'!AI59,Input_Details!$B$34,Input_Details!$B$32))","v":0},{"$f":"IF(OFFSET('Raw Data'!AJ59,Input_Details!$B$34,Input_Details!$B$32)=\"\", \"-\", OFFSET('Raw Data'!AJ59,Input_Details!$B$34,Input_Details!$B$32))","v":0},{"$f":"IF(OFFSET('Raw Data'!AK59,Input_Details!$B$34,Input_Details!$B$32)=\"\", \"-\", OFFSET('Raw Data'!AK59,Input_Details!$B$34,Input_Details!$B$32))","v":0},{"$f":"IF(OFFSET('Raw Data'!AL59,Input_Details!$B$34,Input_Details!$B$32)=\"\", \"-\", OFFSET('Raw Data'!AL59,Input_Details!$B$34,Input_Details!$B$32))","v":0},{"$f":"IF(OFFSET('Raw Data'!AM59,Input_Details!$B$34,Input_Details!$B$32)=\"\", \"-\", OFFSET('Raw Data'!AM59,Input_Details!$B$34,Input_Details!$B$32))","v":0},null,{"$f":"IF(D81=\"-\",\"-\",OFFSET('Raw Data'!AN59,Input_Details!$B$34,Input_Details!$B$32))","v":14.02},{"$f":"IF(OFFSET('Raw Data'!AO59,Input_Details!$B$34,Input_Details!$B$32)=\"\", \"-\", OFFSET('Raw Data'!AO59,Input_Details!$B$34,Input_Details!$B$32))","v":"-"},{"$f":"IF(OFFSET('Raw Data'!AP59,Input_Details!$B$34,Input_Details!$B$32)=\"\", \"-\", OFFSET('Raw Data'!AP59,Input_Details!$B$34,Input_Details!$B$32))","v":2.8},{"$f":"IF(OFFSET('Raw Data'!AQ59,Input_Details!$B$34,Input_Details!$B$32)=\"\", \"-\", OFFSET('Raw Data'!AQ59,Input_Details!$B$34,Input_Details!$B$32))","v":26.2},null,{"$f":"IF(Y81=\"-\", \"-\", SUM(OFFSET(D81,0,VLOOKUP(Input_Details!$N$3, $AF$3:$AG$12, 2,0)-1):W81))","v":0.8},0.14285714285714288]
[null,"14:00:00",null,{"$f":"IF(OFFSET('Raw Data'!T60,Input_Details!$B$34,Input_Details!$B$32)=\"\", \"-\", OFFSET('Raw Data'!T60,Input_Details!$B$34,Input_Details!$B$32))","v":0},{"$f":"IF(OFFSET('Raw Data'!U60,Input_Details!$B$34,Input_Details!$B$32)=\"\", \"-\", OFFSET('Raw Data'!U60,Input_Details!$B$34,Input_Details!$B$32))","v":2.6},{"$f":"IF(OFFSET('Raw Data'!V60,Input_Details!$B$34,Input_Details!$B$32)=\"\", \"-\", OFFSET('Raw Data'!V60,Input_Details!$B$34,Input_Details!$B$32))","v":1},{"$f":"IF(OFFSET('Raw Data'!W60,Input_Details!$B$34,Input_Details!$B$32)=\"\", \"-\", OFFSET('Raw Data'!W60,Input_Details!$B$34,Input_Details!$B$32))","v":0.4},{"$f":"IF(OFFSET('Raw Data'!X60,Input_Details!$B$34,Input_Details!$B$32)=\"\", \"-\", OFFSET('Raw Data'!X60,Input_Details!$B$34,Input_Details!$B$32))","v":0},{"$f":"IF(OFFSET('Raw Data'!Y60,Input_Details!$B$34,Input_Details!$B$32)=\"\", \"-\", OFFSET('Raw Data'!Y60,Input_Details!$B$34,Input_Details!$B$32))","v":0},{"$f":"IF(OFFSET('Raw Data'!Z60,Input_Details!$B$34,Input_Details!$B$32)=\"\", \"-\", OFFSET('Raw Data'!Z60,Input_Details!$B$34,Input_Details!$B$32))","v":0},{"$f":"IF(OFFSET('Raw Data'!AA60,Input_Details!$B$34,Input_Details!$B$32)=\"\", \"-\", OFFSET('Raw Data'!AA60,Input_Details!$B$34,Input_Details!$B$32))","v":0},{"$f":"IF(OFFSET('Raw Data'!AB60,Input_Details!$B$34,Input_Details!$B$32)=\"\", \"-\", OFFSET('Raw Data'!AB60,Input_Details!$B$34,Input_Details!$B$32))","v":0},{"$f":"IF(OFFSET('Raw Data'!AC60,Input_Details!$B$34,Input_Details!$B$32)=\"\", \"-\", OFFSET('Raw Data'!AC60,Input_Details!$B$34,Input_Details!$B$32))","v":0},{"$f":"IF(OFFSET('Raw Data'!AD60,Input_Details!$B$34,Input_Details!$B$32)=\"\", \"-\", OFFSET('Raw Data'!AD60,Input_Details!$B$34,Input_Details!$B$32))","v":0},{"$f":"IF(OFFSET('Raw Data'!AE60,Input_Details!$B$34,Input_Details!$B$32)=\"\", \"-\", OFFSET('Raw Data'!AE60,Input_Details!$B$34,Input_Details!$B$32))","v":0},{"$f":"IF(OFFSET('Raw Data'!AF60,Input_Details!$B$34,Input_Details!$B$32)=\"\", \"-\", OFFSET('Raw Data'!AF60,Input_Details!$B$34,Input_Details!$B$32))","v":0},{"$f":"IF(OFFSET('Raw Data'!AG60,Input_Details!$B$34,Input_Details!$B$32)=\"\", \"-\", OFFSET('Raw Data'!AG60,Input_Details!$B$34,Input_Details!$B$32))","v":0},{"$f":"IF(OFFSET('Raw Data'!AH60,Input_Details!$B$34,Input_Details!$B$32)=\"\", \"-\", OFFSET('Raw Data'!AH60,Input_Details!$B$34,Input_Details!$B$32))","v":0},{"$f":"IF(OFFSET('Raw Data'!AI60,Input_Details!$B$34,Input_Details!$B$32)=\"\", \"-\", OFFSET('Raw Data'!AI60,Input_Details!$B$34,Input_Details!$B$32))","v":0},{"$f":"IF(OFFSET('Raw Data'!AJ60,Input_Details!$B$34,Input_Details!$B$32)=\"\", \"-\", OFFSET('Raw Data'!AJ60,Input_Details!$B$34,Input_Details!$B$32))","v":0},{"$f":"IF(OFFSET('Raw Data'!AK60,Input_Details!$B$34,Input_Details!$B$32)=\"\", \"-\", OFFSET('Raw Data'!AK60,Input_Details!$B$34,Input_Details!$B$32))","v":0},{"$f":"IF(OFFSET('Raw Data'!AL60,Input_Details!$B$34,Input_Details!$B$32)=\"\", \"-\", OFFSET('Raw Data'!AL60,Input_Details!$B$34,Input_Details!$B$32))","v":0},{"$f":"IF(OFFSET('Raw Data'!AM60,Input_Details!$B$34,Input_Details!$B$32)=\"\", \"-\", OFFSET('Raw Data'!AM60,Input_Details!$B$34,Input_Details!$B$32))","v":0},null,{"$f":"IF(D82=\"-\",\"-\",OFFSET('Raw Data'!AN60,Input_Details!$B$34,Input_Details!$B$32))","v":14.6},{"$f":"IF(OFFSET('Raw Data'!AO60,Input_Details!$B$34,Input_Details!$B$32)=\"\", \"-\", OFFSET('Raw Data'!AO60,Input_Details!$B$34,Input_Details!$B$32))","v":"-"},{"$f":"IF(OFFSET('Raw Data'!AP60,Input_Details!$B$34,Input_Details!$B$32)=\"\", \"-\", OFFSET('Raw Data'!AP60,Input_Details!$B$34,Input_Details!$B$32))","v":10.5},{"$f":"IF(OFFSET('Raw Data'!AQ60,Input_Details!$B$34,Input_Details!$B$32)=\"\", \"-\", OFFSET('Raw Data'!AQ60,Input_Details!$B$34,Input_Details!$B$32))","v":21.5},null,{"$f":"IF(Y82=\"-\", \"-\", SUM(OFFSET(D82,0,VLOOKUP(Input_Details!$N$3, $AF$3:$AG$12, 2,0)-1):W82))","v":0.4},0.1]
[null,"14:15:00",null,{"$f":"IF(OFFSET('Raw Data'!T61,Input_Details!$B$34,Input_Details!$B$32)=\"\", \"-\", OFFSET('Raw Data'!T61,Input_Details!$B$34,Input_Details!$B$32))","v":0.8},{"$f":"IF(OFFSET('Raw Data'!U61,Input_Details!$B$34,Input_Details!$B$32)=\"\", \"-\", OFFSET('Raw Data'!U61,Input_Details!$B$34,Input_Details!$B$32))","v":1.6},{"$f":"IF(OFFSET('Raw Data'!V61,Input_Details!$B$34,Input_Details!$B$32)=\"\", \"-\", OFFSET('Raw Data'!V61,Input_Details!$B$34,Input_Details!$B$32))","v":1.6},{"$f":"IF(OFFSET('Raw Data'!W61,Input_Details!$B$34,Input_Details!$B$32)=\"\", \"-\", OFFSET('Raw Data'!W61,Input_Details!$B$34,Input_Details!$B$32))","v":0.6},{"$f":"IF(OFFSET('Raw Data'!X61,Input_Details!$B$34,Input_Details!$B$32)=\"\", \"-\", OFFSET('Raw Data'!X61,Input_Details!$B$34,Input_Details!$B$32))","v":0.4},{"$f":"IF(OFFSET('Raw Data'!Y61,Input_Details!$B$34,Input_Details!$B$32)=\"\", \"-\", OFFSET('Raw Data'!Y61,Input_Details!$B$34,Input_Details!$B$32))","v":0},{"$f":"IF(OFFSET('Raw Data'!Z61,Input_Details!$B$34,Input_Details!$B$32)=\"\", \"-\", OFFSET('Raw Data'!Z61,Input_Details!$B$34,Input_Details!$B$32))","v":0},{"$f":"IF(OFFSET('Raw Data'!AA61,Input_Details!$B$34,Input_Details!$B$32)=\"\", \"-\", OFFSET('Raw Data'!AA61,Input_Details!$B$34,Input_Details!$B$32))","v":0},{"$f":"IF(OFFSET('Raw Data'!AB61,Input_Details!$B$34,Input_Details!$B$32)=\"\", \"-\", OFFSET('Raw Data'!AB61,Input_Details!$B$34,Input_Details!$B$32))","v":0},{"$f":"IF(OFFSET('Raw Data'!AC61,Input_Details!$B$34,Input_Details!$B$32)=\"\", \"-\", OFFSET('Raw Data'!AC61,Input_Details!$B$34,Input_Details!$B$32))","v":0},{"$f":"IF(OFFSET('Raw Data'!AD61,Input_Details!$B$34,Input_Details!$B$32)=\"\", \"-\", OFFSET('Raw Data'!AD61,Input_Details!$B$34,Input_Details!$B$32))","v":0},{"$f":"IF(OFFSET('Raw Data'!AE61,Input_Details!$B$34,Input_Details!$B$32)=\"\", \"-\", OFFSET('Raw Data'!AE61,Input_Details!$B$34,Input_Details!$B$32))","v":0},{"$f":"IF(OFFSET('Raw Data'!AF61,Input_Details!$B$34,Input_Details!$B$32)=\"\", \"-\", OFFSET('Raw Data'!AF61,Input_Details!$B$34,Input_Details!$B$32))","v":0},{"$f":"IF(OFFSET('Raw Data'!AG61,Input_Details!$B$34,Input_Details!$B$32)=\"\", \"-\", OFFSET('Raw Data'!AG61,Input_Details!$B$34,Input_Details!$B$32))","v":0},{"$f":"IF(OFFSET('Raw Data'!AH61,Input_Details!$B$34,Input_Details!$B$32)=\"\", \"-\", OFFSET('Raw Data'!AH61,Input_Details!$B$34,Input_Details!$B$32))","v":0},{"$f":"IF(OFFSET('Raw Data'!AI61,Input_Details!$B$34,Input_Details!$B$32)=\"\", \"-\", OFFSET('Raw Data'!AI61,Input_Details!$B$34,Input_Details!$B$32))","v":0},{"$f":"IF(OFFSET('Raw Data'!AJ61,Input_Details!$B$34,Input_Details!$B$32)=\"\", \"-\", OFFSET('Raw Data'!AJ61,Input_Details!$B$34,Input_Details!$B$32))","v":0},{"$f":"IF(OFFSET('Raw Data'!AK61,Input_Details!$B$34,Input_Details!$B$32)=\"\", \"-\", OFFSET('Raw Data'!AK61,Input_Details!$B$34,Input_Details!$B$32))","v":0},{"$f":"IF(OFFSET('Raw Data'!AL61,Input_Details!$B$34,Input_Details!$B$32)=\"\", \"-\", OFFSET('Raw Data'!AL61,Input_Details!$B$34,Input_Details!$B$32))","v":0},{"$f":"IF(OFFSET('Raw Data'!AM61,Input_Details!$B$34,Input_Details!$B$32)=\"\", \"-\", OFFSET('Raw Data'!AM61,Input_Details!$B$34,Input_Details!$B$32))","v":0},null,{"$f":"IF(D83=\"-\",\"-\",OFFSET('Raw Data'!AN61,Input_Details!$B$34,Input_Details!$B$32))","v":15.560000000000002},{"$f":"IF(OFFSET('Raw Data'!AO61,Input_Details!$B$34,Input_Details!$B$32)=\"\", \"-\", OFFSET('Raw Data'!AO61,Input_Details!$B$34,Input_Details!$B$32))","v":"-"},{"$f":"IF(OFFSET('Raw Data'!AP61,Input_Details!$B$34,Input_Details!$B$32)=\"\", \"-\", OFFSET('Raw Data'!AP61,Input_Details!$B$34,Input_Details!$B$32))","v":4.8},{"$f":"IF(OFFSET('Raw Data'!AQ61,Input_Details!$B$34,Input_Details!$B$32)=\"\", \"-\", OFFSET('Raw Data'!AQ61,Input_Details!$B$34,Input_Details!$B$32))","v":27.3},null,{"$f":"IF(Y83=\"-\", \"-\", SUM(OFFSET(D83,0,VLOOKUP(Input_Details!$N$3, $AF$3:$AG$12, 2,0)-1):W83))","v":1},0.2]
[null,"14:30:00",null,{"$f":"IF(OFFSET('Raw Data'!T62,Input_Details!$B$34,Input_Details!$B$32)=\"\", \"-\", OFFSET('Raw Data'!T62,Input_Details!$B$34,Input_Details!$B$32))","v":0.4},{"$f":"IF(OFFSET('Raw Data'!U62,Input_Details!$B$34,Input_Details!$B$32)=\"\", \"-\", OFFSET('Raw Data'!U62,Input_Details!$B$34,Input_Details!$B$32))","v":3},{"$f":"IF(OFFSET('Raw Data'!V62,Input_Details!$B$34,Input_Details!$B$32)=\"\", \"-\", OFFSET('Raw Data'!V62,Input_Details!$B$34,Input_Details!$B$32))","v":1.6},{"$f":"IF(OFFSET('Raw Data'!W62,Input_Details!$B$34,Input_Details!$B$32)=\"\", \"-\", OFFSET('Raw Data'!W62,Input_Details!$B$34,Input_Details!$B$32))","v":0.4},{"$f":"IF(OFFSET('Raw Data'!X62,Input_Details!$B$34,Input_Details!$B$32)=\"\", \"-\", OFFSET('Raw Data'!X62,Input_Details!$B$34,Input_Details!$B$32))","v":0.2},{"$f":"IF(OFFSET('Raw Data'!Y62,Input_Details!$B$34,Input_Details!$B$32)=\"\", \"-\", OFFSET('Raw Data'!Y62,Input_Details!$B$34,Input_Details!$B$32))","v":0.2},{"$f":"IF(OFFSET('Raw Data'!Z62,Input_Details!$B$34,Input_Details!$B$32)=\"\", \"-\", OFFSET('Raw Data'!Z62,Input_Details!$B$34,Input_Details!$B$32))","v":0},{"$f":"IF(OFFSET('Raw Data'!AA62,Input_Details!$B$34,Input_Details!$B$32)=\"\", \"-\", OFFSET('Raw Data'!AA62,Input_Details!$B$34,Input_Details!$B$32))","v":0},{"$f":"IF(OFFSET('Raw Data'!AB62,Input_Details!$B$34,Input_Details!$B$32)=\"\", \"-\", OFFSET('Raw Data'!AB62,Input_Details!$B$34,Input_Details!$B$32))","v":0},{"$f":"IF(OFFSET('Raw Data'!AC62,Input_Details!$B$34,Input_Details!$B$32)=\"\", \"-\", OFFSET('Raw Data'!AC62,Input_Details!$B$34,Input_Details!$B$32))","v":0},{"$f":"IF(OFFSET('Raw Data'!AD62,Input_Details!$B$34,Input_Details!$B$32)=\"\", \"-\", OFFSET('Raw Data'!AD62,Input_Details!$B$34,Input_Details!$B$32))","v":0},{"$f":"IF(OFFSET('Raw Data'!AE62,Input_Details!$B$34,Input_Details!$B$32)=\"\", \"-\", OFFSET('Raw Data'!AE62,Input_Details!$B$34,Input_Details!$B$32))","v":0},{"$f":"IF(OFFSET('Raw Data'!AF62,Input_Details!$B$34,Input_Details!$B$32)=\"\", \"-\", OFFSET('Raw Data'!AF62,Input_Details!$B$34,Input_Details!$B$32))","v":0},{"$f":"IF(OFFSET('Raw Data'!AG62,Input_Details!$B$34,Input_Details!$B$32)=\"\", \"-\", OFFSET('Raw Data'!AG62,Input_Details!$B$34,Input_Details!$B$32))","v":0},{"$f":"IF(OFFSET('Raw Data'!AH62,Input_Details!$B$34,Input_Details!$B$32)=\"\", \"-\", OFFSET('Raw Data'!AH62,Input_Details!$B$34,Input_Details!$B$32))","v":0},{"$f":"IF(OFFSET('Raw Data'!AI62,Input_Details!$B$34,Input_Details!$B$32)=\"\", \"-\", OFFSET('Raw Data'!AI62,Input_Details!$B$34,Input_Details!$B$32))","v":0},{"$f":"IF(OFFSET('Raw Data'!AJ62,Input_Details!$B$34,Input_Details!$B$32)=\"\", \"-\", OFFSET('Raw Data'!AJ62,Input_Details!$B$34,Input_Details!$B$32))","v":0},{"$f":"IF(OFFSET('Raw Data'!AK62,Input_Details!$B$34,Input_Details!$B$32)=\"\", \"-\", OFFSET('Raw Data'!AK62,Input_Details!$B$34,Input_Details!$B$32))","v":0},{"$f":"IF(OFFSET('Raw Data'!AL62,Input_Details!$B$34,Input_Details!$B$32)=\"\", \"-\", OFFSET('Raw Data'!AL62,Input_Details!$B$34,Input_Details!$B$32))","v":0},{"$f":"IF(OFFSET('Raw Data'!AM62,Input_Details!$B$34,Input_Details!$B$32)=\"\", \"-\", OFFSET('Raw Data'!AM62,Input_Details!$B$34,Input_Details!$B$32))","v":0},null,{"$f":"IF(D84=\"-\",\"-\",OFFSET('Raw Data'!AN62,Input_Details!$B$34,Input_Details!$B$32))","v":15.260000000000002},{"$f":"IF(OFFSET('Raw Data'!AO62,Input_Details!$B$34,Input_Details!$B$32)=\"\", \"-\", OFFSET('Raw Data'!AO62,Input_Details!$B$34,Input_Details!$B$32))","v":"-"},{"$f":"IF(OFFSET('Raw Data'!AP62,Input_Details!$B$34,Input_Details!$B$32)=\"\", \"-\", OFFSET('Raw Data'!AP62,Input_Details!$B$34,Input_Details!$B$32))","v":2.8},{"$f":"IF(OFFSET('Raw Data'!AQ62,Input_Details!$B$34,Input_Details!$B$32)=\"\", \"-\", OFFSET('Raw Data'!AQ62,Input_Details!$B$34,Input_Details!$B$32))","v":30.3},null,{"$f":"IF(Y84=\"-\", \"-\", SUM(OFFSET(D84,0,VLOOKUP(Input_Details!$N$3, $AF$3:$AG$12, 2,0)-1):W84))","v":0.8},0.13793103448275862]
[null,"14:45:00",null,{"$f":"IF(OFFSET('Raw Data'!T63,Input_Details!$B$34,Input_Details!$B$32)=\"\", \"-\", OFFSET('Raw Data'!T63,Input_Details!$B$34,Input_Details!$B$32))","v":0.2},{"$f":"IF(OFFSET('Raw Data'!U63,Input_Details!$B$34,Input_Details!$B$32)=\"\", \"-\", OFFSET('Raw Data'!U63,Input_Details!$B$34,Input_Details!$B$32))","v":2.4},{"$f":"IF(OFFSET('Raw Data'!V63,Input_Details!$B$34,Input_Details!$B$32)=\"\", \"-\", OFFSET('Raw Data'!V63,Input_Details!$B$34,Input_Details!$B$32))","v":1.8},{"$f":"IF(OFFSET('Raw Data'!W63,Input_Details!$B$34,Input_Details!$B$32)=\"\", \"-\", OFFSET('Raw Data'!W63,Input_Details!$B$34,Input_Details!$B$32))","v":0.2},{"$f":"IF(OFFSET('Raw Data'!X63,Input_Details!$B$34,Input_Details!$B$32)=\"\", \"-\", OFFSET('Raw Data'!X63,Input_Details!$B$34,Input_Details!$B$32))","v":0},{"$f":"IF(OFFSET('Raw Data'!Y63,Input_Details!$B$34,Input_Details!$B$32)=\"\", \"-\", OFFSET('Raw Data'!Y63,Input_Details!$B$34,Input_Details!$B$32))","v":0},{"$f":"IF(OFFSET('Raw Data'!Z63,Input_Details!$B$34,Input_Details!$B$32)=\"\", \"-\", OFFSET('Raw Data'!Z63,Input_Details!$B$34,Input_Details!$B$32))","v":0},{"$f":"IF(OFFSET('Raw Data'!AA63,Input_Details!$B$34,Input_Details!$B$32)=\"\", \"-\", OFFSET('Raw Data'!AA63,Input_Details!$B$34,Input_Details!$B$32))","v":0},{"$f":"IF(OFFSET('Raw Data'!AB63,Input_Details!$B$34,Input_Details!$B$32)=\"\", \"-\", OFFSET('Raw Data'!AB63,Input_Details!$B$34,Input_Details!$B$32))","v":0},{"$f":"IF(OFFSET('Raw Data'!AC63,Input_Details!$B$34,Input_Details!$B$32)=\"\", \"-\", OFFSET('Raw Data'!AC63,Input_Details!$B$34,Input_Details!$B$32))","v":0},{"$f":"IF(OFFSET('Raw Data'!AD63,Input_Details!$B$34,Input_Details!$B$32)=\"\", \"-\", OFFSET('Raw Data'!AD63,Input_Details!$B$34,Input_Details!$B$32))","v":0},{"$f":"IF(OFFSET('Raw Data'!AE63,Input_Details!$B$34,Input_Details!$B$32)=\"\", \"-\", OFFSET('Raw Data'!AE63,Input_Details!$B$34,Input_Details!$B$32))","v":0},{"$f":"IF(OFFSET('Raw Data'!AF63,Input_Details!$B$34,Input_Details!$B$32)=\"\", \"-\", OFFSET('Raw Data'!AF63,Input_Details!$B$34,Input_Details!$B$32))","v":0},{"$f":"IF(OFFSET('Raw Data'!AG63,Input_Details!$B$34,Input_Details!$B$32)=\"\", \"-\", OFFSET('Raw Data'!AG63,Input_Details!$B$34,Input_Details!$B$32))","v":0},{"$f":"IF(OFFSET('Raw Data'!AH63,Input_Details!$B$34,Input_Details!$B$32)=\"\", \"-\", OFFSET('Raw Data'!AH63,Input_Details!$B$34,Input_Details!$B$32))","v":0},{"$f":"IF(OFFSET('Raw Data'!AI63,Input_Details!$B$34,Input_Details!$B$32)=\"\", \"-\", OFFSET('Raw Data'!AI63,Input_Details!$B$34,Input_Details!$B$32))","v":0},{"$f":"IF(OFFSET('Raw Data'!AJ63,Input_Details!$B$34,Input_Details!$B$32)=\"\", \"-\", OFFSET('Raw Data'!AJ63,Input_Details!$B$34,Input_Details!$B$32))","v":0},{"$f":"IF(OFFSET('Raw Data'!AK63,Input_Details!$B$34,Input_Details!$B$32)=\"\", \"-\", OFFSET('Raw Data'!AK63,Input_Details!$B$34,Input_Details!$B$32))","v":0},{"$f":"IF(OFFSET('Raw Data'!AL63,Input_Details!$B$34,Input_Details!$B$32)=\"\", \"-\", OFFSET('Raw Data'!AL63,Input_Details!$B$34,Input_Details!$B$32))","v":0},{"$f":"IF(OFFSET('Raw Data'!AM63,Input_Details!$B$34,Input_Details!$B$32)=\"\", \"-\", OFFSET('Raw Data'!AM63,Input_Details!$B$34,Input_Details!$B$32))","v":0},null,{"$f":"IF(D85=\"-\",\"-\",OFFSET('Raw Data'!AN63,Input_Details!$B$34,Input_Details!$B$32))","v":14.600000000000001},{"$f":"IF(OFFSET('Raw Data'!AO63,Input_Details!$B$34,Input_Details!$B$32)=\"\", \"-\", OFFSET('Raw Data'!AO63,Input_Details!$B$34,Input_Details!$B$32))","v":"-"},{"$f":"IF(OFFSET('Raw Data'!AP63,Input_Details!$B$34,Input_Details!$B$32)=\"\", \"-\", OFFSET('Raw Data'!AP63,Input_Details!$B$34,Input_Details!$B$32))","v":8.1999999999999993},{"$f":"IF(OFFSET('Raw Data'!AQ63,Input_Details!$B$34,Input_Details!$B$32)=\"\", \"-\", OFFSET('Raw Data'!AQ63,Input_Details!$B$34,Input_Details!$B$32))","v":21.5},null,{"$f":"IF(Y85=\"-\", \"-\", SUM(OFFSET(D85,0,VLOOKUP(Input_Details!$N$3, $AF$3:$AG$12, 2,0)-1):W85))","v":0.2},4.3478260869565216E-2]
[null,"15:00:00",null,{"$f":"IF(OFFSET('Raw Data'!T64,Input_Details!$B$34,Input_Details!$B$32)=\"\", \"-\", OFFSET('Raw Data'!T64,Input_Details!$B$34,Input_Details!$B$32))","v":1.2},{"$f":"IF(OFFSET('Raw Data'!U64,Input_Details!$B$34,Input_Details!$B$32)=\"\", \"-\", OFFSET('Raw Data'!U64,Input_Details!$B$34,Input_Details!$B$32))","v":2},{"$f":"IF(OFFSET('Raw Data'!V64,Input_Details!$B$34,Input_Details!$B$32)=\"\", \"-\", OFFSET('Raw Data'!V64,Input_Details!$B$34,Input_Details!$B$32))","v":1.4},{"$f":"IF(OFFSET('Raw Data'!W64,Input_Details!$B$34,Input_Details!$B$32)=\"\", \"-\", OFFSET('Raw Data'!W64,Input_Details!$B$34,Input_Details!$B$32))","v":0.2},{"$f":"IF(OFFSET('Raw Data'!X64,Input_Details!$B$34,Input_Details!$B$32)=\"\", \"-\", OFFSET('Raw Data'!X64,Input_Details!$B$34,Input_Details!$B$32))","v":0},{"$f":"IF(OFFSET('Raw Data'!Y64,Input_Details!$B$34,Input_Details!$B$32)=\"\", \"-\", OFFSET('Raw Data'!Y64,Input_Details!$B$34,Input_Details!$B$32))","v":0},{"$f":"IF(OFFSET('Raw Data'!Z64,Input_Details!$B$34,Input_Details!$B$32)=\"\", \"-\", OFFSET('Raw Data'!Z64,Input_Details!$B$34,Input_Details!$B$32))","v":0},{"$f":"IF(OFFSET('Raw Data'!AA64,Input_Details!$B$34,Input_Details!$B$32)=\"\", \"-\", OFFSET('Raw Data'!AA64,Input_Details!$B$34,Input_Details!$B$32))","v":0},{"$f":"IF(OFFSET('Raw Data'!AB64,Input_Details!$B$34,Input_Details!$B$32)=\"\", \"-\", OFFSET('Raw Data'!AB64,Input_Details!$B$34,Input_Details!$B$32))","v":0},{"$f":"IF(OFFSET('Raw Data'!AC64,Input_Details!$B$34,Input_Details!$B$32)=\"\", \"-\", OFFSET('Raw Data'!AC64,Input_Details!$B$34,Input_Details!$B$32))","v":0},{"$f":"IF(OFFSET('Raw Data'!AD64,Input_Details!$B$34,Input_Details!$B$32)=\"\", \"-\", OFFSET('Raw Data'!AD64,Input_Details!$B$34,Input_Details!$B$32))","v":0},{"$f":"IF(OFFSET('Raw Data'!AE64,Input_Details!$B$34,Input_Details!$B$32)=\"\", \"-\", OFFSET('Raw Data'!AE64,Input_Details!$B$34,Input_Details!$B$32))","v":0},{"$f":"IF(OFFSET('Raw Data'!AF64,Input_Details!$B$34,Input_Details!$B$32)=\"\", \"-\", OFFSET('Raw Data'!AF64,Input_Details!$B$34,Input_Details!$B$32))","v":0},{"$f":"IF(OFFSET('Raw Data'!AG64,Input_Details!$B$34,Input_Details!$B$32)=\"\", \"-\", OFFSET('Raw Data'!AG64,Input_Details!$B$34,Input_Details!$B$32))","v":0},{"$f":"IF(OFFSET('Raw Data'!AH64,Input_Details!$B$34,Input_Details!$B$32)=\"\", \"-\", OFFSET('Raw Data'!AH64,Input_Details!$B$34,Input_Details!$B$32))","v":0},{"$f":"IF(OFFSET('Raw Data'!AI64,Input_Details!$B$34,Input_Details!$B$32)=\"\", \"-\", OFFSET('Raw Data'!AI64,Input_Details!$B$34,Input_Details!$B$32))","v":0},{"$f":"IF(OFFSET('Raw Data'!AJ64,Input_Details!$B$34,Input_Details!$B$32)=\"\", \"-\", OFFSET('Raw Data'!AJ64,Input_Details!$B$34,Input_Details!$B$32))","v":0},{"$f":"IF(OFFSET('Raw Data'!AK64,Input_Details!$B$34,Input_Details!$B$32)=\"\", \"-\", OFFSET('Raw Data'!AK64,Input_Details!$B$34,Input_Details!$B$32))","v":0},{"$f":"IF(OFFSET('Raw Data'!AL64,Input_Details!$B$34,Input_Details!$B$32)=\"\", \"-\", OFFSET('Raw Data'!AL64,Input_Details!$B$34,Input_Details!$B$32))","v":0},{"$f":"IF(OFFSET('Raw Data'!AM64,Input_Details!$B$34,Input_Details!$B$32)=\"\", \"-\", OFFSET('Raw Data'!AM64,Input_Details!$B$34,Input_Details!$B$32))","v":0},null,{"$f":"IF(D86=\"-\",\"-\",OFFSET('Raw Data'!AN64,Input_Details!$B$34,Input_Details!$B$32))","v":12.98},{"$f":"IF(OFFSET('Raw Data'!AO64,Input_Details!$B$34,Input_Details!$B$32)=\"\", \"-\", OFFSET('Raw Data'!AO64,Input_Details!$B$34,Input_Details!$B$32))","v":"-"},{"$f":"IF(OFFSET('Raw Data'!AP64,Input_Details!$B$34,Input_Details!$B$32)=\"\", \"-\", OFFSET('Raw Data'!AP64,Input_Details!$B$34,Input_Details!$B$32))","v":8},{"$f":"IF(OFFSET('Raw Data'!AQ64,Input_Details!$B$34,Input_Details!$B$32)=\"\", \"-\", OFFSET('Raw Data'!AQ64,Input_Details!$B$34,Input_Details!$B$32))","v":20.399999999999999},null,{"$f":"IF(Y86=\"-\", \"-\", SUM(OFFSET(D86,0,VLOOKUP(Input_Details!$N$3, $AF$3:$AG$12, 2,0)-1):W86))","v":0.2},4.1666666666666671E-2]
[null,"15:15:00",null,{"$f":"IF(OFFSET('Raw Data'!T65,Input_Details!$B$34,Input_Details!$B$32)=\"\", \"-\", OFFSET('Raw Data'!T65,Input_Details!$B$34,Input_Details!$B$32))","v":1},{"$f":"IF(OFFSET('Raw Data'!U65,Input_Details!$B$34,Input_Details!$B$32)=\"\", \"-\", OFFSET('Raw Data'!U65,Input_Details!$B$34,Input_Details!$B$32))","v":3},{"$f":"IF(OFFSET('Raw Data'!V65,Input_Details!$B$34,Input_Details!$B$32)=\"\", \"-\", OFFSET('Raw Data'!V65,Input_Details!$B$34,Input_Details!$B$32))","v":1.4},{"$f":"IF(OFFSET('Raw Data'!W65,Input_Details!$B$34,Input_Details!$B$32)=\"\", \"-\", OFFSET('Raw Data'!W65,Input_Details!$B$34,Input_Details!$B$32))","v":0.2},{"$f":"IF(OFFSET('Raw Data'!X65,Input_Details!$B$34,Input_Details!$B$32)=\"\", \"-\", OFFSET('Raw Data'!X65,Input_Details!$B$34,Input_Details!$B$32))","v":0},{"$f":"IF(OFFSET('Raw Data'!Y65,Input_Details!$B$34,Input_Details!$B$32)=\"\", \"-\", OFFSET('Raw Data'!Y65,Input_Details!$B$34,Input_Details!$B$32))","v":0},{"$f":"IF(OFFSET('Raw Data'!Z65,Input_Details!$B$34,Input_Details!$B$32)=\"\", \"-\", OFFSET('Raw Data'!Z65,Input_Details!$B$34,Input_Details!$B$32))","v":0},{"$f":"IF(OFFSET('Raw Data'!AA65,Input_Details!$B$34,Input_Details!$B$32)=\"\", \"-\", OFFSET('Raw Data'!AA65,Input_Details!$B$34,Input_Details!$B$32))","v":0},{"$f":"IF(OFFSET('Raw Data'!AB65,Input_Details!$B$34,Input_Details!$B$32)=\"\", \"-\", OFFSET('Raw Data'!AB65,Input_Details!$B$34,Input_Details!$B$32))","v":0},{"$f":"IF(OFFSET('Raw Data'!AC65,Input_Details!$B$34,Input_Details!$B$32)=\"\", \"-\", OFFSET('Raw Data'!AC65,Input_Details!$B$34,Input_Details!$B$32))","v":0},{"$f":"IF(OFFSET('Raw Data'!AD65,Input_Details!$B$34,Input_Details!$B$32)=\"\", \"-\", OFFSET('Raw Data'!AD65,Input_Details!$B$34,Input_Details!$B$32))","v":0},{"$f":"IF(OFFSET('Raw Data'!AE65,Input_Details!$B$34,Input_Details!$B$32)=\"\", \"-\", OFFSET('Raw Data'!AE65,Input_Details!$B$34,Input_Details!$B$32))","v":0},{"$f":"IF(OFFSET('Raw Data'!AF65,Input_Details!$B$34,Input_Details!$B$32)=\"\", \"-\", OFFSET('Raw Data'!AF65,Input_Details!$B$34,Input_Details!$B$32))","v":0},{"$f":"IF(OFFSET('Raw Data'!AG65,Input_Details!$B$34,Input_Details!$B$32)=\"\", \"-\", OFFSET('Raw Data'!AG65,Input_Details!$B$34,Input_Details!$B$32))","v":0},{"$f":"IF(OFFSET('Raw Data'!AH65,Input_Details!$B$34,Input_Details!$B$32)=\"\", \"-\", OFFSET('Raw Data'!AH65,Input_Details!$B$34,Input_Details!$B$32))","v":0},{"$f":"IF(OFFSET('Raw Data'!AI65,Input_Details!$B$34,Input_Details!$B$32)=\"\", \"-\", OFFSET('Raw Data'!AI65,Input_Details!$B$34,Input_Details!$B$32))","v":0},{"$f":"IF(OFFSET('Raw Data'!AJ65,Input_Details!$B$34,Input_Details!$B$32)=\"\", \"-\", OFFSET('Raw Data'!AJ65,Input_Details!$B$34,Input_Details!$B$32))","v":0},{"$f":"IF(OFFSET('Raw Data'!AK65,Input_Details!$B$34,Input_Details!$B$32)=\"\", \"-\", OFFSET('Raw Data'!AK65,Input_Details!$B$34,Input_Details!$B$32))","v":0},{"$f":"IF(OFFSET('Raw Data'!AL65,Input_Details!$B$34,Input_Details!$B$32)=\"\", \"-\", OFFSET('Raw Data'!AL65,Input_Details!$B$34,Input_Details!$B$32))","v":0},{"$f":"IF(OFFSET('Raw Data'!AM65,Input_Details!$B$34,Input_Details!$B$32)=\"\", \"-\", OFFSET('Raw Data'!AM65,Input_Details!$B$34,Input_Details!$B$32))","v":0},null,{"$f":"IF(D87=\"-\",\"-\",OFFSET('Raw Data'!AN65,Input_Details!$B$34,Input_Details!$B$32))","v":13},{"$f":"IF(OFFSET('Raw Data'!AO65,Input_Details!$B$34,Input_Details!$B$32)=\"\", \"-\", OFFSET('Raw Data'!AO65,Input_Details!$B$34,Input_Details!$B$32))","v":"-"},{"$f":"IF(OFFSET('Raw Data'!AP65,Input_Details!$B$34,Input_Details!$B$32)=\"\", \"-\", OFFSET('Raw Data'!AP65,Input_Details!$B$34,Input_Details!$B$32))","v":4.2},{"$f":"IF(OFFSET('Raw Data'!AQ65,Input_Details!$B$34,Input_Details!$B$32)=\"\", \"-\", OFFSET('Raw Data'!AQ65,Input_Details!$B$34,Input_Details!$B$32))","v":21.7},null,{"$f":"IF(Y87=\"-\", \"-\", SUM(OFFSET(D87,0,VLOOKUP(Input_Details!$N$3, $AF$3:$AG$12, 2,0)-1):W87))","v":0.2},3.5714285714285712E-2]
[null,"15:30:00",null,{"$f":"IF(OFFSET('Raw Data'!T66,Input_Details!$B$34,Input_Details!$B$32)=\"\", \"-\", OFFSET('Raw Data'!T66,Input_Details!$B$34,Input_Details!$B$32))","v":0.2},{"$f":"IF(OFFSET('Raw Data'!U66,Input_Details!$B$34,Input_Details!$B$32)=\"\", \"-\", OFFSET('Raw Data'!U66,Input_Details!$B$34,Input_Details!$B$32))","v":1.8},{"$f":"IF(OFFSET('Raw Data'!V66,Input_Details!$B$34,Input_Details!$B$32)=\"\", \"-\", OFFSET('Raw Data'!V66,Input_Details!$B$34,Input_Details!$B$32))","v":2},{"$f":"IF(OFFSET('Raw Data'!W66,Input_Details!$B$34,Input_Details!$B$32)=\"\", \"-\", OFFSET('Raw Data'!W66,Input_Details!$B$34,Input_Details!$B$32))","v":1.6},{"$f":"IF(OFFSET('Raw Data'!X66,Input_Details!$B$34,Input_Details!$B$32)=\"\", \"-\", OFFSET('Raw Data'!X66,Input_Details!$B$34,Input_Details!$B$32))","v":0.4},{"$f":"IF(OFFSET('Raw Data'!Y66,Input_Details!$B$34,Input_Details!$B$32)=\"\", \"-\", OFFSET('Raw Data'!Y66,Input_Details!$B$34,Input_Details!$B$32))","v":0},{"$f":"IF(OFFSET('Raw Data'!Z66,Input_Details!$B$34,Input_Details!$B$32)=\"\", \"-\", OFFSET('Raw Data'!Z66,Input_Details!$B$34,Input_Details!$B$32))","v":0},{"$f":"IF(OFFSET('Raw Data'!AA66,Input_Details!$B$34,Input_Details!$B$32)=\"\", \"-\", OFFSET('Raw Data'!AA66,Input_Details!$B$34,Input_Details!$B$32))","v":0},{"$f":"IF(OFFSET('Raw Data'!AB66,Input_Details!$B$34,Input_Details!$B$32)=\"\", \"-\", OFFSET('Raw Data'!AB66,Input_Details!$B$34,Input_Details!$B$32))","v":0},{"$f":"IF(OFFSET('Raw Data'!AC66,Input_Details!$B$34,Input_Details!$B$32)=\"\", \"-\", OFFSET('Raw Data'!AC66,Input_Details!$B$34,Input_Details!$B$32))","v":0},{"$f":"IF(OFFSET('Raw Data'!AD66,Input_Details!$B$34,Input_Details!$B$32)=\"\", \"-\", OFFSET('Raw Data'!AD66,Input_Details!$B$34,Input_Details!$B$32))","v":0},{"$f":"IF(OFFSET('Raw Data'!AE66,Input_Details!$B$34,Input_Details!$B$32)=\"\", \"-\", OFFSET('Raw Data'!AE66,Input_Details!$B$34,Input_Details!$B$32))","v":0},{"$f":"IF(OFFSET('Raw Data'!AF66,Input_Details!$B$34,Input_Details!$B$32)=\"\", \"-\", OFFSET('Raw Data'!AF66,Input_Details!$B$34,Input_Details!$B$32))","v":0},{"$f":"IF(OFFSET('Raw Data'!AG66,Input_Details!$B$34,Input_Details!$B$32)=\"\", \"-\", OFFSET('Raw Data'!AG66,Input_Details!$B$34,Input_Details!$B$32))","v":0},{"$f":"IF(OFFSET('Raw Data'!AH66,Input_Details!$B$34,Input_Details!$B$32)=\"\", \"-\", OFFSET('Raw Data'!AH66,Input_Details!$B$34,Input_Details!$B$32))","v":0},{"$f":"IF(OFFSET('Raw Data'!AI66,Input_Details!$B$34,Input_Details!$B$32)=\"\", \"-\", OFFSET('Raw Data'!AI66,Input_Details!$B$34,Input_Details!$B$32))","v":0},{"$f":"IF(OFFSET('Raw Data'!AJ66,Input_Details!$B$34,Input_Details!$B$32)=\"\", \"-\", OFFSET('Raw Data'!AJ66,Input_Details!$B$34,Input_Details!$B$32))","v":0},{"$f":"IF(OFFSET('Raw Data'!AK66,Input_Details!$B$34,Input_Details!$B$32)=\"\", \"-\", OFFSET('Raw Data'!AK66,Input_Details!$B$34,Input_Details!$B$32))","v":0},{"$f":"IF(OFFSET('Raw Data'!AL66,Input_Details!$B$34,Input_Details!$B$32)=\"\", \"-\", OFFSET('Raw Data'!AL66,Input_Details!$B$34,Input_Details!$B$32))","v":0},{"$f":"IF(OFFSET('Raw Data'!AM66,Input_Details!$B$34,Input_Details!$B$32)=\"\", \"-\", OFFSET('Raw Data'!AM66,Input_Details!$B$34,Input_Details!$B$32))","v":0},null,{"$f":"IF(D88=\"-\",\"-\",OFFSET('Raw Data'!AN66,Input_Details!$B$34,Input_Details!$B$32))","v":17.700000000000003},{"$f":"IF(OFFSET('Raw Data'!AO66,Input_Details!$B$34,Input_Details!$B$32)=\"\", \"-\", OFFSET('Raw Data'!AO66,Input_Details!$B$34,Input_Details!$B$32))","v":"-"},{"$f":"IF(OFFSET('Raw Data'!AP66,Input_Details!$B$34,Input_Details!$B$32)=\"\", \"-\", OFFSET('Raw Data'!AP66,Input_Details!$B$34,Input_Details!$B$32))","v":7.5},{"$f":"IF(OFFSET('Raw Data'!AQ66,Input_Details!$B$34,Input_Details!$B$32)=\"\", \"-\", OFFSET('Raw Data'!AQ66,Input_Details!$B$34,Input_Details!$B$32))","v":26.7},null,{"$f":"IF(Y88=\"-\", \"-\", SUM(OFFSET(D88,0,VLOOKUP(Input_Details!$N$3, $AF$3:$AG$12, 2,0)-1):W88))","v":2},0.33333333333333331]
[null,"15:45:00",null,{"$f":"IF(OFFSET('Raw Data'!T67,Input_Details!$B$34,Input_Details!$B$32)=\"\", \"-\", OFFSET('Raw Data'!T67,Input_Details!$B$34,Input_Details!$B$32))","v":0.2},{"$f":"IF(OFFSET('Raw Data'!U67,Input_Details!$B$34,Input_Details!$B$32)=\"\", \"-\", OFFSET('Raw Data'!U67,Input_Details!$B$34,Input_Details!$B$32))","v":2.2000000000000002},{"$f":"IF(OFFSET('Raw Data'!V67,Input_Details!$B$34,Input_Details!$B$32)=\"\", \"-\", OFFSET('Raw Data'!V67,Input_Details!$B$34,Input_Details!$B$32))","v":3},{"$f":"IF(OFFSET('Raw Data'!W67,Input_Details!$B$34,Input_Details!$B$32)=\"\", \"-\", OFFSET('Raw Data'!W67,Input_Details!$B$34,Input_Details!$B$32))","v":1.2},{"$f":"IF(OFFSET('Raw Data'!X67,Input_Details!$B$34,Input_Details!$B$32)=\"\", \"-\", OFFSET('Raw Data'!X67,Input_Details!$B$34,Input_Details!$B$32))","v":0.2},{"$f":"IF(OFFSET('Raw Data'!Y67,Input_Details!$B$34,Input_Details!$B$32)=\"\", \"-\", OFFSET('Raw Data'!Y67,Input_Details!$B$34,Input_Details!$B$32))","v":0.2},{"$f":"IF(OFFSET('Raw Data'!Z67,Input_Details!$B$34,Input_Details!$B$32)=\"\", \"-\", OFFSET('Raw Data'!Z67,Input_Details!$B$34,Input_Details!$B$32))","v":0},{"$f":"IF(OFFSET('Raw Data'!AA67,Input_Details!$B$34,Input_Details!$B$32)=\"\", \"-\", OFFSET('Raw Data'!AA67,Input_Details!$B$34,Input_Details!$B$32))","v":0},{"$f":"IF(OFFSET('Raw Data'!AB67,Input_Details!$B$34,Input_Details!$B$32)=\"\", \"-\", OFFSET('Raw Data'!AB67,Input_Details!$B$34,Input_Details!$B$32))","v":0},{"$f":"IF(OFFSET('Raw Data'!AC67,Input_Details!$B$34,Input_Details!$B$32)=\"\", \"-\", OFFSET('Raw Data'!AC67,Input_Details!$B$34,Input_Details!$B$32))","v":0},{"$f":"IF(OFFSET('Raw Data'!AD67,Input_Details!$B$34,Input_Details!$B$32)=\"\", \"-\", OFFSET('Raw Data'!AD67,Input_Details!$B$34,Input_Details!$B$32))","v":0},{"$f":"IF(OFFSET('Raw Data'!AE67,Input_Details!$B$34,Input_Details!$B$32)=\"\", \"-\", OFFSET('Raw Data'!AE67,Input_Details!$B$34,Input_Details!$B$32))","v":0},{"$f":"IF(OFFSET('Raw Data'!AF67,Input_Details!$B$34,Input_Details!$B$32)=\"\", \"-\", OFFSET('Raw Data'!AF67,Input_Details!$B$34,Input_Details!$B$32))","v":0},{"$f":"IF(OFFSET('Raw Data'!AG67,Input_Details!$B$34,Input_Details!$B$32)=\"\", \"-\", OFFSET('Raw Data'!AG67,Input_Details!$B$34,Input_Details!$B$32))","v":0},{"$f":"IF(OFFSET('Raw Data'!AH67,Input_Details!$B$34,Input_Details!$B$32)=\"\", \"-\", OFFSET('Raw Data'!AH67,Input_Details!$B$34,Input_Details!$B$32))","v":0},{"$f":"IF(OFFSET('Raw Data'!AI67,Input_Details!$B$34,Input_Details!$B$32)=\"\", \"-\", OFFSET('Raw Data'!AI67,Input_Details!$B$34,Input_Details!$B$32))","v":0},{"$f":"IF(OFFSET('Raw Data'!AJ67,Input_Details!$B$34,Input_Details!$B$32)=\"\", \"-\", OFFSET('Raw Data'!AJ67,Input_Details!$B$34,Input_Details!$B$32))","v":0},{"$f":"IF(OFFSET('Raw Data'!AK67,Input_Details!$B$34,Input_Details!$B$32)=\"\", \"-\", OFFSET('Raw Data'!AK67,Input_Details!$B$34,Input_Details!$B$32))","v":0},{"$f":"IF(OFFSET('Raw Data'!AL67,Input_Details!$B$34,Input_Details!$B$32)=\"\", \"-\", OFFSET('Raw Data'!AL67,Input_Details!$B$34,Input_Details!$B$32))","v":0},{"$f":"IF(OFFSET('Raw Data'!AM67,Input_Details!$B$34,Input_Details!$B$32)=\"\", \"-\", OFFSET('Raw Data'!AM67,Input_Details!$B$34,Input_Details!$B$32))","v":0},null,{"$f":"IF(D89=\"-\",\"-\",OFFSET('Raw Data'!AN67,Input_Details!$B$34,Input_Details!$B$32))","v":17.18},{"$f":"IF(OFFSET('Raw Data'!AO67,Input_Details!$B$34,Input_Details!$B$32)=\"\", \"-\", OFFSET('Raw Data'!AO67,Input_Details!$B$34,Input_Details!$B$32))","v":"-"},{"$f":"IF(OFFSET('Raw Data'!AP67,Input_Details!$B$34,Input_Details!$B$32)=\"\", \"-\", OFFSET('Raw Data'!AP67,Input_Details!$B$34,Input_Details!$B$32))","v":9.4},{"$f":"IF(OFFSET('Raw Data'!AQ67,Input_Details!$B$34,Input_Details!$B$32)=\"\", \"-\", OFFSET('Raw Data'!AQ67,Input_Details!$B$34,Input_Details!$B$32))","v":30.4},null,{"$f":"IF(Y89=\"-\", \"-\", SUM(OFFSET(D89,0,VLOOKUP(Input_Details!$N$3, $AF$3:$AG$12, 2,0)-1):W89))","v":1.5999999999999999},0.22857142857142854]
[null,"16:00:00",null,{"$f":"IF(OFFSET('Raw Data'!T68,Input_Details!$B$34,Input_Details!$B$32)=\"\", \"-\", OFFSET('Raw Data'!T68,Input_Details!$B$34,Input_Details!$B$32))","v":0.8},{"$f":"IF(OFFSET('Raw Data'!U68,Input_Details!$B$34,Input_Details!$B$32)=\"\", \"-\", OFFSET('Raw Data'!U68,Input_Details!$B$34,Input_Details!$B$32))","v":1.8},{"$f":"IF(OFFSET('Raw Data'!V68,Input_Details!$B$34,Input_Details!$B$32)=\"\", \"-\", OFFSET('Raw Data'!V68,Input_Details!$B$34,Input_Details!$B$32))","v":1.2},{"$f":"IF(OFFSET('Raw Data'!W68,Input_Details!$B$34,Input_Details!$B$32)=\"\", \"-\", OFFSET('Raw Data'!W68,Input_Details!$B$34,Input_Details!$B$32))","v":0.2},{"$f":"IF(OFFSET('Raw Data'!X68,Input_Details!$B$34,Input_Details!$B$32)=\"\", \"-\", OFFSET('Raw Data'!X68,Input_Details!$B$34,Input_Details!$B$32))","v":0.2},{"$f":"IF(OFFSET('Raw Data'!Y68,Input_Details!$B$34,Input_Details!$B$32)=\"\", \"-\", OFFSET('Raw Data'!Y68,Input_Details!$B$34,Input_Details!$B$32))","v":0},{"$f":"IF(OFFSET('Raw Data'!Z68,Input_Details!$B$34,Input_Details!$B$32)=\"\", \"-\", OFFSET('Raw Data'!Z68,Input_Details!$B$34,Input_Details!$B$32))","v":0},{"$f":"IF(OFFSET('Raw Data'!AA68,Input_Details!$B$34,Input_Details!$B$32)=\"\", \"-\", OFFSET('Raw Data'!AA68,Input_Details!$B$34,Input_Details!$B$32))","v":0},{"$f":"IF(OFFSET('Raw Data'!AB68,Input_Details!$B$34,Input_Details!$B$32)=\"\", \"-\", OFFSET('Raw Data'!AB68,Input_Details!$B$34,Input_Details!$B$32))","v":0},{"$f":"IF(OFFSET('Raw Data'!AC68,Input_Details!$B$34,Input_Details!$B$32)=\"\", \"-\", OFFSET('Raw Data'!AC68,Input_Details!$B$34,Input_Details!$B$32))","v":0},{"$f":"IF(OFFSET('Raw Data'!AD68,Input_Details!$B$34,Input_Details!$B$32)=\"\", \"-\", OFFSET('Raw Data'!AD68,Input_Details!$B$34,Input_Details!$B$32))","v":0},{"$f":"IF(OFFSET('Raw Data'!AE68,Input_Details!$B$34,Input_Details!$B$32)=\"\", \"-\", OFFSET('Raw Data'!AE68,Input_Details!$B$34,Input_Details!$B$32))","v":0},{"$f":"IF(OFFSET('Raw Data'!AF68,Input_Details!$B$34,Input_Details!$B$32)=\"\", \"-\", OFFSET('Raw Data'!AF68,Input_Details!$B$34,Input_Details!$B$32))","v":0},{"$f":"IF(OFFSET('Raw Data'!AG68,Input_Details!$B$34,Input_Details!$B$32)=\"\", \"-\", OFFSET('Raw Data'!AG68,Input_Details!$B$34,Input_Details!$B$32))","v":0},{"$f":"IF(OFFSET('Raw Data'!AH68,Input_Details!$B$34,Input_Details!$B$32)=\"\", \"-\", OFFSET('Raw Data'!AH68,Input_Details!$B$34,Input_Details!$B$32))","v":0},{"$f":"IF(OFFSET('Raw Data'!AI68,Input_Details!$B$34,Input_Details!$B$32)=\"\", \"-\", OFFSET('Raw Data'!AI68,Input_Details!$B$34,Input_Details!$B$32))","v":0},{"$f":"IF(OFFSET('Raw Data'!AJ68,Input_Details!$B$34,Input_Details!$B$32)=\"\", \"-\", OFFSET('Raw Data'!AJ68,Input_Details!$B$34,Input_Details!$B$32))","v":0},{"$f":"IF(OFFSET('Raw Data'!AK68,Input_Details!$B$34,Input_Details!$B$32)=\"\", \"-\", OFFSET('Raw Data'!AK68,Input_Details!$B$34,Input_Details!$B$32))","v":0},{"$f":"IF(OFFSET('Raw Data'!AL68,Input_Details!$B$34,Input_Details!$B$32)=\"\", \"-\", OFFSET('Raw Data'!AL68,Input_Details!$B$34,Input_Details!$B$32))","v":0},{"$f":"IF(OFFSET('Raw Data'!AM68,Input_Details!$B$34,Input_Details!$B$32)=\"\", \"-\", OFFSET('Raw Data'!AM68,Input_Details!$B$34,Input_Details!$B$32))","v":0},null,{"$f":"IF(D90=\"-\",\"-\",OFFSET('Raw Data'!AN68,Input_Details!$B$34,Input_Details!$B$32))","v":13.780000000000001},{"$f":"IF(OFFSET('Raw Data'!AO68,Input_Details!$B$34,Input_Details!$B$32)=\"\", \"-\", OFFSET('Raw Data'!AO68,Input_Details!$B$34,Input_Details!$B$32))","v":"-"},{"$f":"IF(OFFSET('Raw Data'!AP68,Input_Details!$B$34,Input_Details!$B$32)=\"\", \"-\", OFFSET('Raw Data'!AP68,Input_Details!$B$34,Input_Details!$B$32))","v":6.6},{"$f":"IF(OFFSET('Raw Data'!AQ68,Input_Details!$B$34,Input_Details!$B$32)=\"\", \"-\", OFFSET('Raw Data'!AQ68,Input_Details!$B$34,Input_Details!$B$32))","v":29.8},null,{"$f":"IF(Y90=\"-\", \"-\", SUM(OFFSET(D90,0,VLOOKUP(Input_Details!$N$3, $AF$3:$AG$12, 2,0)-1):W90))","v":0.4},9.5238095238095233E-2]
[null,"16:15:00",null,{"$f":"IF(OFFSET('Raw Data'!T69,Input_Details!$B$34,Input_Details!$B$32)=\"\", \"-\", OFFSET('Raw Data'!T69,Input_Details!$B$34,Input_Details!$B$32))","v":2},{"$f":"IF(OFFSET('Raw Data'!U69,Input_Details!$B$34,Input_Details!$B$32)=\"\", \"-\", OFFSET('Raw Data'!U69,Input_Details!$B$34,Input_Details!$B$32))","v":2.25},{"$f":"IF(OFFSET('Raw Data'!V69,Input_Details!$B$34,Input_Details!$B$32)=\"\", \"-\", OFFSET('Raw Data'!V69,Input_Details!$B$34,Input_Details!$B$32))","v":0.5},{"$f":"IF(OFFSET('Raw Data'!W69,Input_Details!$B$34,Input_Details!$B$32)=\"\", \"-\", OFFSET('Raw Data'!W69,Input_Details!$B$34,Input_Details!$B$32))","v":0.75},{"$f":"IF(OFFSET('Raw Data'!X69,Input_Details!$B$34,Input_Details!$B$32)=\"\", \"-\", OFFSET('Raw Data'!X69,Input_Details!$B$34,Input_Details!$B$32))","v":0},{"$f":"IF(OFFSET('Raw Data'!Y69,Input_Details!$B$34,Input_Details!$B$32)=\"\", \"-\", OFFSET('Raw Data'!Y69,Input_Details!$B$34,Input_Details!$B$32))","v":0},{"$f":"IF(OFFSET('Raw Data'!Z69,Input_Details!$B$34,Input_Details!$B$32)=\"\", \"-\", OFFSET('Raw Data'!Z69,Input_Details!$B$34,Input_Details!$B$32))","v":0},{"$f":"IF(OFFSET('Raw Data'!AA69,Input_Details!$B$34,Input_Details!$B$32)=\"\", \"-\", OFFSET('Raw Data'!AA69,Input_Details!$B$34,Input_Details!$B$32))","v":0},{"$f":"IF(OFFSET('Raw Data'!AB69,Input_Details!$B$34,Input_Details!$B$32)=\"\", \"-\", OFFSET('Raw Data'!AB69,Input_Details!$B$34,Input_Details!$B$32))","v":0},{"$f":"IF(OFFSET('Raw Data'!AC69,Input_Details!$B$34,Input_Details!$B$32)=\"\", \"-\", OFFSET('Raw Data'!AC69,Input_Details!$B$34,Input_Details!$B$32))","v":0},{"$f":"IF(OFFSET('Raw Data'!AD69,Input_Details!$B$34,Input_Details!$B$32)=\"\", \"-\", OFFSET('Raw Data'!AD69,Input_Details!$B$34,Input_Details!$B$32))","v":0},{"$f":"IF(OFFSET('Raw Data'!AE69,Input_Details!$B$34,Input_Details!$B$32)=\"\", \"-\", OFFSET('Raw Data'!AE69,Input_Details!$B$34,Input_Details!$B$32))","v":0},{"$f":"IF(OFFSET('Raw Data'!AF69,Input_Details!$B$34,Input_Details!$B$32)=\"\", \"-\", OFFSET('Raw Data'!AF69,Input_Details!$B$34,Input_Details!$B$32))","v":0},{"$f":"IF(OFFSET('Raw Data'!AG69,Input_Details!$B$34,Input_Details!$B$32)=\"\", \"-\", OFFSET('Raw Data'!AG69,Input_Details!$B$34,Input_Details!$B$32))","v":0},{"$f":"IF(OFFSET('Raw Data'!AH69,Input_Details!$B$34,Input_Details!$B$32)=\"\", \"-\", OFFSET('Raw Data'!AH69,Input_Details!$B$34,Input_Details!$B$32))","v":0},{"$f":"IF(OFFSET('Raw Data'!AI69,Input_Details!$B$34,Input_Details!$B$32)=\"\", \"-\", OFFSET('Raw Data'!AI69,Input_Details!$B$34,Input_Details!$B$32))","v":0},{"$f":"IF(OFFSET('Raw Data'!AJ69,Input_Details!$B$34,Input_Details!$B$32)=\"\", \"-\", OFFSET('Raw Data'!AJ69,Input_Details!$B$34,Input_Details!$B$32))","v":0},{"$f":"IF(OFFSET('Raw Data'!AK69,Input_Details!$B$34,Input_Details!$B$32)=\"\", \"-\", OFFSET('Raw Data'!AK69,Input_Details!$B$34,Input_Details!$B$32))","v":0},{"$f":"IF(OFFSET('Raw Data'!AL69,Input_Details!$B$34,Input_Details!$B$32)=\"\", \"-\", OFFSET('Raw Data'!AL69,Input_Details!$B$34,Input_Details!$B$32))","v":0},{"$f":"IF(OFFSET('Raw Data'!AM69,Input_Details!$B$34,Input_Details!$B$32)=\"\", \"-\", OFFSET('Raw Data'!AM69,Input_Details!$B$34,Input_Details!$B$32))","v":0},null,{"$f":"IF(D91=\"-\",\"-\",OFFSET('Raw Data'!AN69,Input_Details!$B$34,Input_Details!$B$32))","v":12.7},{"$f":"IF(OFFSET('Raw Data'!AO69,Input_Details!$B$34,Input_Details!$B$32)=\"\", \"-\", OFFSET('Raw Data'!AO69,Input_Details!$B$34,Input_Details!$B$32))","v":"-"},{"$f":"IF(OFFSET('Raw Data'!AP69,Input_Details!$B$34,Input_Details!$B$32)=\"\", \"-\", OFFSET('Raw Data'!AP69,Input_Details!$B$34,Input_Details!$B$32))","v":6.7},{"$f":"IF(OFFSET('Raw Data'!AQ69,Input_Details!$B$34,Input_Details!$B$32)=\"\", \"-\", OFFSET('Raw Data'!AQ69,Input_Details!$B$34,Input_Details!$B$32))","v":23},null,{"$f":"IF(Y91=\"-\", \"-\", SUM(OFFSET(D91,0,VLOOKUP(Input_Details!$N$3, $AF$3:$AG$12, 2,0)-1):W91))","v":0.75},{"$f":"IFERROR(AD91/SUM(D91:W91), \"-\")","v":0.13636363636363635}]
[null,"16:30:00",null,{"$f":"IF(OFFSET('Raw Data'!T70,Input_Details!$B$34,Input_Details!$B$32)=\"\", \"-\", OFFSET('Raw Data'!T70,Input_Details!$B$34,Input_Details!$B$32))","v":0.2},{"$f":"IF(OFFSET('Raw Data'!U70,Input_Details!$B$34,Input_Details!$B$32)=\"\", \"-\", OFFSET('Raw Data'!U70,Input_Details!$B$34,Input_Details!$B$32))","v":3.8},{"$f":"IF(OFFSET('Raw Data'!V70,Input_Details!$B$34,Input_Details!$B$32)=\"\", \"-\", OFFSET('Raw Data'!V70,Input_Details!$B$34,Input_Details!$B$32))","v":1.6},{"$f":"IF(OFFSET('Raw Data'!W70,Input_Details!$B$34,Input_Details!$B$32)=\"\", \"-\", OFFSET('Raw Data'!W70,Input_Details!$B$34,Input_Details!$B$32))","v":1},{"$f":"IF(OFFSET('Raw Data'!X70,Input_Details!$B$34,Input_Details!$B$32)=\"\", \"-\", OFFSET('Raw Data'!X70,Input_Details!$B$34,Input_Details!$B$32))","v":0.4},{"$f":"IF(OFFSET('Raw Data'!Y70,Input_Details!$B$34,Input_Details!$B$32)=\"\", \"-\", OFFSET('Raw Data'!Y70,Input_Details!$B$34,Input_Details!$B$32))","v":0},{"$f":"IF(OFFSET('Raw Data'!Z70,Input_Details!$B$34,Input_Details!$B$32)=\"\", \"-\", OFFSET('Raw Data'!Z70,Input_Details!$B$34,Input_Details!$B$32))","v":0},{"$f":"IF(OFFSET('Raw Data'!AA70,Input_Details!$B$34,Input_Details!$B$32)=\"\", \"-\", OFFSET('Raw Data'!AA70,Input_Details!$B$34,Input_Details!$B$32))","v":0},{"$f":"IF(OFFSET('Raw Data'!AB70,Input_Details!$B$34,Input_Details!$B$32)=\"\", \"-\", OFFSET('Raw Data'!AB70,Input_Details!$B$34,Input_Details!$B$32))","v":0},{"$f":"IF(OFFSET('Raw Data'!AC70,Input_Details!$B$34,Input_Details!$B$32)=\"\", \"-\", OFFSET('Raw Data'!AC70,Input_Details!$B$34,Input_Details!$B$32))","v":0},{"$f":"IF(OFFSET('Raw Data'!AD70,Input_Details!$B$34,Input_Details!$B$32)=\"\", \"-\", OFFSET('Raw Data'!AD70,Input_Details!$B$34,Input_Details!$B$32))","v":0},{"$f":"IF(OFFSET('Raw Data'!AE70,Input_Details!$B$34,Input_Details!$B$32)=\"\", \"-\", OFFSET('Raw Data'!AE70,Input_Details!$B$34,Input_Details!$B$32))","v":0},{"$f":"IF(OFFSET('Raw Data'!AF70,Input_Details!$B$34,Input_Details!$B$32)=\"\", \"-\", OFFSET('Raw Data'!AF70,Input_Details!$B$34,Input_Details!$B$32))","v":0},{"$f":"IF(OFFSET('Raw Data'!AG70,Input_Details!$B$34,Input_Details!$B$32)=\"\", \"-\", OFFSET('Raw Data'!AG70,Input_Details!$B$34,Input_Details!$B$32))","v":0},{"$f":"IF(OFFSET('Raw Data'!AH70,Input_Details!$B$34,Input_Details!$B$32)=\"\", \"-\", OFFSET('Raw Data'!AH70,Input_Details!$B$34,Input_Details!$B$32))","v":0},{"$f":"IF(OFFSET('Raw Data'!AI70,Input_Details!$B$34,Input_Details!$B$32)=\"\", \"-\", OFFSET('Raw Data'!AI70,Input_Details!$B$34,Input_Details!$B$32))","v":0},{"$f":"IF(OFFSET('Raw Data'!AJ70,Input_Details!$B$34,Input_Details!$B$32)=\"\", \"-\", OFFSET('Raw Data'!AJ70,Input_Details!$B$34,Input_Details!$B$32))","v":0},{"$f":"IF(OFFSET('Raw Data'!AK70,Input_Details!$B$34,Input_Details!$B$32)=\"\", \"-\", OFFSET('Raw Data'!AK70,Input_Details!$B$34,Input_Details!$B$32))","v":0},{"$f":"IF(OFFSET('Raw Data'!AL70,Input_Details!$B$34,Input_Details!$B$32)=\"\", \"-\", OFFSET('Raw Data'!AL70,Input_Details!$B$34,Input_Details!$B$32))","v":0},{"$f":"IF(OFFSET('Raw Data'!AM70,Input_Details!$B$34,Input_Details!$B$32)=\"\", \"-\", OFFSET('Raw Data'!AM70,Input_Details!$B$34,Input_Details!$B$32))","v":0},null,{"$f":"IF(D92=\"-\",\"-\",OFFSET('Raw Data'!AN70,Input_Details!$B$34,Input_Details!$B$32))","v":15.539999999999997},{"$f":"IF(OFFSET('Raw Data'!AO70,Input_Details!$B$34,Input_Details!$B$32)=\"\", \"-\", OFFSET('Raw Data'!AO70,Input_Details!$B$34,Input_Details!$B$32))","v":"-"},{"$f":"IF(OFFSET('Raw Data'!AP70,Input_Details!$B$34,Input_Details!$B$32)=\"\", \"-\", OFFSET('Raw Data'!AP70,Input_Details!$B$34,Input_Details!$B$32))","v":9.9},{"$f":"IF(OFFSET('Raw Data'!AQ70,Input_Details!$B$34,Input_Details!$B$32)=\"\", \"-\", OFFSET('Raw Data'!AQ70,Input_Details!$B$34,Input_Details!$B$32))","v":28.9},null,{"$f":"IF(Y92=\"-\", \"-\", SUM(OFFSET(D92,0,VLOOKUP(Input_Details!$N$3, $AF$3:$AG$12, 2,0)-1):W92))","v":1.4},0.19999999999999998]
[null,"16:45:00",null,{"$f":"IF(OFFSET('Raw Data'!T71,Input_Details!$B$34,Input_Details!$B$32)=\"\", \"-\", OFFSET('Raw Data'!T71,Input_Details!$B$34,Input_Details!$B$32))","v":0.2},{"$f":"IF(OFFSET('Raw Data'!U71,Input_Details!$B$34,Input_Details!$B$32)=\"\", \"-\", OFFSET('Raw Data'!U71,Input_Details!$B$34,Input_Details!$B$32))","v":2},{"$f":"IF(OFFSET('Raw Data'!V71,Input_Details!$B$34,Input_Details!$B$32)=\"\", \"-\", OFFSET('Raw Data'!V71,Input_Details!$B$34,Input_Details!$B$32))","v":4.2},{"$f":"IF(OFFSET('Raw Data'!W71,Input_Details!$B$34,Input_Details!$B$32)=\"\", \"-\", OFFSET('Raw Data'!W71,Input_Details!$B$34,Input_Details!$B$32))","v":0.4},{"$f":"IF(OFFSET('Raw Data'!X71,Input_Details!$B$34,Input_Details!$B$32)=\"\", \"-\", OFFSET('Raw Data'!X71,Input_Details!$B$34,Input_Details!$B$32))","v":0.2},{"$f":"IF(OFFSET('Raw Data'!Y71,Input_Details!$B$34,Input_Details!$B$32)=\"\", \"-\", OFFSET('Raw Data'!Y71,Input_Details!$B$34,Input_Details!$B$32))","v":0},{"$f":"IF(OFFSET('Raw Data'!Z71,Input_Details!$B$34,Input_Details!$B$32)=\"\", \"-\", OFFSET('Raw Data'!Z71,Input_Details!$B$34,Input_Details!$B$32))","v":0},{"$f":"IF(OFFSET('Raw Data'!AA71,Input_Details!$B$34,Input_Details!$B$32)=\"\", \"-\", OFFSET('Raw Data'!AA71,Input_Details!$B$34,Input_Details!$B$32))","v":0},{"$f":"IF(OFFSET('Raw Data'!AB71,Input_Details!$B$34,Input_Details!$B$32)=\"\", \"-\", OFFSET('Raw Data'!AB71,Input_Details!$B$34,Input_Details!$B$32))","v":0},{"$f":"IF(OFFSET('Raw Data'!AC71,Input_Details!$B$34,Input_Details!$B$32)=\"\", \"-\", OFFSET('Raw Data'!AC71,Input_Details!$B$34,Input_Details!$B$32))","v":0},{"$f":"IF(OFFSET('Raw Data'!AD71,Input_Details!$B$34,Input_Details!$B$32)=\"\", \"-\", OFFSET('Raw Data'!AD71,Input_Details!$B$34,Input_Details!$B$32))","v":0},{"$f":"IF(OFFSET('Raw Data'!AE71,Input_Details!$B$34,Input_Details!$B$32)=\"\", \"-\", OFFSET('Raw Data'!AE71,Input_Details!$B$34,Input_Details!$B$32))","v":0},{"$f":"IF(OFFSET('Raw Data'!AF71,Input_Details!$B$34,Input_Details!$B$32)=\"\", \"-\", OFFSET('Raw Data'!AF71,Input_Details!$B$34,Input_Details!$B$32))","v":0},{"$f":"IF(OFFSET('Raw Data'!AG71,Input_Details!$B$34,Input_Details!$B$32)=\"\", \"-\", OFFSET('Raw Data'!AG71,Input_Details!$B$34,Input_Details!$B$32))","v":0},{"$f":"IF(OFFSET('Raw Data'!AH71,Input_Details!$B$34,Input_Details!$B$32)=\"\", \"-\", OFFSET('Raw Data'!AH71,Input_Details!$B$34,Input_Details!$B$32))","v":0},{"$f":"IF(OFFSET('Raw Data'!AI71,Input_Details!$B$34,Input_Details!$B$32)=\"\", \"-\", OFFSET('Raw Data'!AI71,Input_Details!$B$34,Input_Details!$B$32))","v":0},{"$f":"IF(OFFSET('Raw Data'!AJ71,Input_Details!$B$34,Input_Details!$B$32)=\"\", \"-\", OFFSET('Raw Data'!AJ71,Input_Details!$B$34,Input_Details!$B$32))","v":0},{"$f":"IF(OFFSET('Raw Data'!AK71,Input_Details!$B$34,Input_Details!$B$32)=\"\", \"-\", OFFSET('Raw Data'!AK71,Input_Details!$B$34,Input_Details!$B$32))","v":0},{"$f":"IF(OFFSET('Raw Data'!AL71,Input_Details!$B$34,Input_Details!$B$32)=\"\", \"-\", OFFSET('Raw Data'!AL71,Input_Details!$B$34,Input_Details!$B$32))","v":0},{"$f":"IF(OFFSET('Raw Data'!AM71,Input_Details!$B$34,Input_Details!$B$32)=\"\", \"-\", OFFSET('Raw Data'!AM71,Input_Details!$B$34,Input_Details!$B$32))","v":0},null,{"$f":"IF(D93=\"-\",\"-\",OFFSET('Raw Data'!AN71,Input_Details!$B$34,Input_Details!$B$32))","v":16.259999999999998},{"$f":"IF(OFFSET('Raw Data'!AO71,Input_Details!$B$34,Input_Details!$B$32)=\"\", \"-\", OFFSET('Raw Data'!AO71,Input_Details!$B$34,Input_Details!$B$32))","v":17.899999999999999},{"$f":"IF(OFFSET('Raw Data'!AP71,Input_Details!$B$34,Input_Details!$B$32)=\"\", \"-\", OFFSET('Raw Data'!AP71,Input_Details!$B$34,Input_Details!$B$32))","v":7.7},{"$f":"IF(OFFSET('Raw Data'!AQ71,Input_Details!$B$34,Input_Details!$B$32)=\"\", \"-\", OFFSET('Raw Data'!AQ71,Input_Details!$B$34,Input_Details!$B$32))","v":26.1},null,{"$f":"IF(Y93=\"-\", \"-\", SUM(OFFSET(D93,0,VLOOKUP(Input_Details!$N$3, $AF$3:$AG$12, 2,0)-1):W93))","v":0.60000000000000009},8.5714285714285715E-2]
[null,"17:00:00",null,{"$f":"IF(OFFSET('Raw Data'!T72,Input_Details!$B$34,Input_Details!$B$32)=\"\", \"-\", OFFSET('Raw Data'!T72,Input_Details!$B$34,Input_Details!$B$32))","v":0.2},{"$f":"IF(OFFSET('Raw Data'!U72,Input_Details!$B$34,Input_Details!$B$32)=\"\", \"-\", OFFSET('Raw Data'!U72,Input_Details!$B$34,Input_Details!$B$32))","v":2.6},{"$f":"IF(OFFSET('Raw Data'!V72,Input_Details!$B$34,Input_Details!$B$32)=\"\", \"-\", OFFSET('Raw Data'!V72,Input_Details!$B$34,Input_Details!$B$32))","v":2.2000000000000002},{"$f":"IF(OFFSET('Raw Data'!W72,Input_Details!$B$34,Input_Details!$B$32)=\"\", \"-\", OFFSET('Raw Data'!W72,Input_Details!$B$34,Input_Details!$B$32))","v":0.6},{"$f":"IF(OFFSET('Raw Data'!X72,Input_Details!$B$34,Input_Details!$B$32)=\"\", \"-\", OFFSET('Raw Data'!X72,Input_Details!$B$34,Input_Details!$B$32))","v":0},{"$f":"IF(OFFSET('Raw Data'!Y72,Input_Details!$B$34,Input_Details!$B$32)=\"\", \"-\", OFFSET('Raw Data'!Y72,Input_Details!$B$34,Input_Details!$B$32))","v":0},{"$f":"IF(OFFSET('Raw Data'!Z72,Input_Details!$B$34,Input_Details!$B$32)=\"\", \"-\", OFFSET('Raw Data'!Z72,Input_Details!$B$34,Input_Details!$B$32))","v":0},{"$f":"IF(OFFSET('Raw Data'!AA72,Input_Details!$B$34,Input_Details!$B$32)=\"\", \"-\", OFFSET('Raw Data'!AA72,Input_Details!$B$34,Input_Details!$B$32))","v":0},{"$f":"IF(OFFSET('Raw Data'!AB72,Input_Details!$B$34,Input_Details!$B$32)=\"\", \"-\", OFFSET('Raw Data'!AB72,Input_Details!$B$34,Input_Details!$B$32))","v":0},{"$f":"IF(OFFSET('Raw Data'!AC72,Input_Details!$B$34,Input_Details!$B$32)=\"\", \"-\", OFFSET('Raw Data'!AC72,Input_Details!$B$34,Input_Details!$B$32))","v":0},{"$f":"IF(OFFSET('Raw Data'!AD72,Input_Details!$B$34,Input_Details!$B$32)=\"\", \"-\", OFFSET('Raw Data'!AD72,Input_Details!$B$34,Input_Details!$B$32))","v":0},{"$f":"IF(OFFSET('Raw Data'!AE72,Input_Details!$B$34,Input_Details!$B$32)=\"\", \"-\", OFFSET('Raw Data'!AE72,Input_Details!$B$34,Input_Details!$B$32))","v":0},{"$f":"IF(OFFSET('Raw Data'!AF72,Input_Details!$B$34,Input_Details!$B$32)=\"\", \"-\", OFFSET('Raw Data'!AF72,Input_Details!$B$34,Input_Details!$B$32))","v":0},{"$f":"IF(OFFSET('Raw Data'!AG72,Input_Details!$B$34,Input_Details!$B$32)=\"\", \"-\", OFFSET('Raw Data'!AG72,Input_Details!$B$34,Input_Details!$B$32))","v":0},{"$f":"IF(OFFSET('Raw Data'!AH72,Input_Details!$B$34,Input_Details!$B$32)=\"\", \"-\", OFFSET('Raw Data'!AH72,Input_Details!$B$34,Input_Details!$B$32))","v":0},{"$f":"IF(OFFSET('Raw Data'!AI72,Input_Details!$B$34,Input_Details!$B$32)=\"\", \"-\", OFFSET('Raw Data'!AI72,Input_Details!$B$34,Input_Details!$B$32))","v":0},{"$f":"IF(OFFSET('Raw Data'!AJ72,Input_Details!$B$34,Input_Details!$B$32)=\"\", \"-\", OFFSET('Raw Data'!AJ72,Input_Details!$B$34,Input_Details!$B$32))","v":0},{"$f":"IF(OFFSET('Raw Data'!AK72,Input_Details!$B$34,Input_Details!$B$32)=\"\", \"-\", OFFSET('Raw Data'!AK72,Input_Details!$B$34,Input_Details!$B$32))","v":0},{"$f":"IF(OFFSET('Raw Data'!AL72,Input_Details!$B$34,Input_Details!$B$32)=\"\", \"-\", OFFSET('Raw Data'!AL72,Input_Details!$B$34,Input_Details!$B$32))","v":0},{"$f":"IF(OFFSET('Raw Data'!AM72,Input_Details!$B$34,Input_Details!$B$32)=\"\", \"-\", OFFSET('Raw Data'!AM72,Input_Details!$B$34,Input_Details!$B$32))","v":0},null,{"$f":"IF(D94=\"-\",\"-\",OFFSET('Raw Data'!AN72,Input_Details!$B$34,Input_Details!$B$32))","v":14.479999999999999},{"$f":"IF(OFFSET('Raw Data'!AO72,Input_Details!$B$34,Input_Details!$B$32)=\"\", \"-\", OFFSET('Raw Data'!AO72,Input_Details!$B$34,Input_Details!$B$32))","v":18.8},{"$f":"IF(OFFSET('Raw Data'!AP72,Input_Details!$B$34,Input_Details!$B$32)=\"\", \"-\", OFFSET('Raw Data'!AP72,Input_Details!$B$34,Input_Details!$B$32))","v":8.8000000000000007},{"$f":"IF(OFFSET('Raw Data'!AQ72,Input_Details!$B$34,Input_Details!$B$32)=\"\", \"-\", OFFSET('Raw Data'!AQ72,Input_Details!$B$34,Input_Details!$B$32))","v":21.1},null,{"$f":"IF(Y94=\"-\", \"-\", SUM(OFFSET(D94,0,VLOOKUP(Input_Details!$N$3, $AF$3:$AG$12, 2,0)-1):W94))","v":0.6},0.10714285714285715]
[null,"17:15:00",null,{"$f":"IF(OFFSET('Raw Data'!T73,Input_Details!$B$34,Input_Details!$B$32)=\"\", \"-\", OFFSET('Raw Data'!T73,Input_Details!$B$34,Input_Details!$B$32))","v":0},{"$f":"IF(OFFSET('Raw Data'!U73,Input_Details!$B$34,Input_Details!$B$32)=\"\", \"-\", OFFSET('Raw Data'!U73,Input_Details!$B$34,Input_Details!$B$32))","v":3},{"$f":"IF(OFFSET('Raw Data'!V73,Input_Details!$B$34,Input_Details!$B$32)=\"\", \"-\", OFFSET('Raw Data'!V73,Input_Details!$B$34,Input_Details!$B$32))","v":0.2},{"$f":"IF(OFFSET('Raw Data'!W73,Input_Details!$B$34,Input_Details!$B$32)=\"\", \"-\", OFFSET('Raw Data'!W73,Input_Details!$B$34,Input_Details!$B$32))","v":0.6},{"$f":"IF(OFFSET('Raw Data'!X73,Input_Details!$B$34,Input_Details!$B$32)=\"\", \"-\", OFFSET('Raw Data'!X73,Input_Details!$B$34,Input_Details!$B$32))","v":0},{"$f":"IF(OFFSET('Raw Data'!Y73,Input_Details!$B$34,Input_Details!$B$32)=\"\", \"-\", OFFSET('Raw Data'!Y73,Input_Details!$B$34,Input_Details!$B$32))","v":0},{"$f":"IF(OFFSET('Raw Data'!Z73,Input_Details!$B$34,Input_Details!$B$32)=\"\", \"-\", OFFSET('Raw Data'!Z73,Input_Details!$B$34,Input_Details!$B$32))","v":0},{"$f":"IF(OFFSET('Raw Data'!AA73,Input_Details!$B$34,Input_Details!$B$32)=\"\", \"-\", OFFSET('Raw Data'!AA73,Input_Details!$B$34,Input_Details!$B$32))","v":0},{"$f":"IF(OFFSET('Raw Data'!AB73,Input_Details!$B$34,Input_Details!$B$32)=\"\", \"-\", OFFSET('Raw Data'!AB73,Input_Details!$B$34,Input_Details!$B$32))","v":0},{"$f":"IF(OFFSET('Raw Data'!AC73,Input_Details!$B$34,Input_Details!$B$32)=\"\", \"-\", OFFSET('Raw Data'!AC73,Input_Details!$B$34,Input_Details!$B$32))","v":0},{"$f":"IF(OFFSET('Raw Data'!AD73,Input_Details!$B$34,Input_Details!$B$32)=\"\", \"-\", OFFSET('Raw Data'!AD73,Input_Details!$B$34,Input_Details!$B$32))","v":0},{"$f":"IF(OFFSET('Raw Data'!AE73,Input_Details!$B$34,Input_Details!$B$32)=\"\", \"-\", OFFSET('Raw Data'!AE73,Input_Details!$B$34,Input_Details!$B$32))","v":0},{"$f":"IF(OFFSET('Raw Data'!AF73,Input_Details!$B$34,Input_Details!$B$32)=\"\", \"-\", OFFSET('Raw Data'!AF73,Input_Details!$B$34,Input_Details!$B$32))","v":0},{"$f":"IF(OFFSET('Raw Data'!AG73,Input_Details!$B$34,Input_Details!$B$32)=\"\", \"-\", OFFSET('Raw Data'!AG73,Input_Details!$B$34,Input_Details!$B$32))","v":0},{"$f":"IF(OFFSET('Raw Data'!AH73,Input_Details!$B$34,Input_Details!$B$32)=\"\", \"-\", OFFSET('Raw Data'!AH73,Input_Details!$B$34,Input_Details!$B$32))","v":0},{"$f":"IF(OFFSET('Raw Data'!AI73,Input_Details!$B$34,Input_Details!$B$32)=\"\", \"-\", OFFSET('Raw Data'!AI73,Input_Details!$B$34,Input_Details!$B$32))","v":0},{"$f":"IF(OFFSET('Raw Data'!AJ73,Input_Details!$B$34,Input_Details!$B$32)=\"\", \"-\", OFFSET('Raw Data'!AJ73,Input_Details!$B$34,Input_Details!$B$32))","v":0},{"$f":"IF(OFFSET('Raw Data'!AK73,Input_Details!$B$34,Input_Details!$B$32)=\"\", \"-\", OFFSET('Raw Data'!AK73,Input_Details!$B$34,Input_Details!$B$32))","v":0},{"$f":"IF(OFFSET('Raw Data'!AL73,Input_Details!$B$34,Input_Details!$B$32)=\"\", \"-\", OFFSET('Raw Data'!AL73,Input_Details!$B$34,Input_Details!$B$32))","v":0},{"$f":"IF(OFFSET('Raw Data'!AM73,Input_Details!$B$34,Input_Details!$B$32)=\"\", \"-\", OFFSET('Raw Data'!AM73,Input_Details!$B$34,Input_Details!$B$32))","v":0},null,{"$f":"IF(D95=\"-\",\"-\",OFFSET('Raw Data'!AN73,Input_Details!$B$34,Input_Details!$B$32))","v":15.24},{"$f":"IF(OFFSET('Raw Data'!AO73,Input_Details!$B$34,Input_Details!$B$32)=\"\", \"-\", OFFSET('Raw Data'!AO73,Input_Details!$B$34,Input_Details!$B$32))","v":"-"},{"$f":"IF(OFFSET('Raw Data'!AP73,Input_Details!$B$34,Input_Details!$B$32)=\"\", \"-\", OFFSET('Raw Data'!AP73,Input_Details!$B$34,Input_Details!$B$32))","v":10.199999999999999},{"$f":"IF(OFFSET('Raw Data'!AQ73,Input_Details!$B$34,Input_Details!$B$32)=\"\", \"-\", OFFSET('Raw Data'!AQ73,Input_Details!$B$34,Input_Details!$B$32))","v":23.8},null,{"$f":"IF(Y95=\"-\", \"-\", SUM(OFFSET(D95,0,VLOOKUP(Input_Details!$N$3, $AF$3:$AG$12, 2,0)-1):W95))","v":0.6},0.15789473684210525]
[null,"17:30:00",null,{"$f":"IF(OFFSET('Raw Data'!T74,Input_Details!$B$34,Input_Details!$B$32)=\"\", \"-\", OFFSET('Raw Data'!T74,Input_Details!$B$34,Input_Details!$B$32))","v":1.2},{"$f":"IF(OFFSET('Raw Data'!U74,Input_Details!$B$34,Input_Details!$B$32)=\"\", \"-\", OFFSET('Raw Data'!U74,Input_Details!$B$34,Input_Details!$B$32))","v":3.6},{"$f":"IF(OFFSET('Raw Data'!V74,Input_Details!$B$34,Input_Details!$B$32)=\"\", \"-\", OFFSET('Raw Data'!V74,Input_Details!$B$34,Input_Details!$B$32))","v":2.2000000000000002},{"$f":"IF(OFFSET('Raw Data'!W74,Input_Details!$B$34,Input_Details!$B$32)=\"\", \"-\", OFFSET('Raw Data'!W74,Input_Details!$B$34,Input_Details!$B$32))","v":0.6},{"$f":"IF(OFFSET('Raw Data'!X74,Input_Details!$B$34,Input_Details!$B$32)=\"\", \"-\", OFFSET('Raw Data'!X74,Input_Details!$B$34,Input_Details!$B$32))","v":0},{"$f":"IF(OFFSET('Raw Data'!Y74,Input_Details!$B$34,Input_Details!$B$32)=\"\", \"-\", OFFSET('Raw Data'!Y74,Input_Details!$B$34,Input_Details!$B$32))","v":0},{"$f":"IF(OFFSET('Raw Data'!Z74,Input_Details!$B$34,Input_Details!$B$32)=\"\", \"-\", OFFSET('Raw Data'!Z74,Input_Details!$B$34,Input_Details!$B$32))","v":0},{"$f":"IF(OFFSET('Raw Data'!AA74,Input_Details!$B$34,Input_Details!$B$32)=\"\", \"-\", OFFSET('Raw Data'!AA74,Input_Details!$B$34,Input_Details!$B$32))","v":0},{"$f":"IF(OFFSET('Raw Data'!AB74,Input_Details!$B$34,Input_Details!$B$32)=\"\", \"-\", OFFSET('Raw Data'!AB74,Input_Details!$B$34,Input_Details!$B$32))","v":0},{"$f":"IF(OFFSET('Raw Data'!AC74,Input_Details!$B$34,Input_Details!$B$32)=\"\", \"-\", OFFSET('Raw Data'!AC74,Input_Details!$B$34,Input_Details!$B$32))","v":0},{"$f":"IF(OFFSET('Raw Data'!AD74,Input_Details!$B$34,Input_Details!$B$32)=\"\", \"-\", OFFSET('Raw Data'!AD74,Input_Details!$B$34,Input_Details!$B$32))","v":0},{"$f":"IF(OFFSET('Raw Data'!AE74,Input_Details!$B$34,Input_Details!$B$32)=\"\", \"-\", OFFSET('Raw Data'!AE74,Input_Details!$B$34,Input_Details!$B$32))","v":0},{"$f":"IF(OFFSET('Raw Data'!AF74,Input_Details!$B$34,Input_Details!$B$32)=\"\", \"-\", OFFSET('Raw Data'!AF74,Input_Details!$B$34,Input_Details!$B$32))","v":0},{"$f":"IF(OFFSET('Raw Data'!AG74,Input_Details!$B$34,Input_Details!$B$32)=\"\", \"-\", OFFSET('Raw Data'!AG74,Input_Details!$B$34,Input_Details!$B$32))","v":0},{"$f":"IF(OFFSET('Raw Data'!AH74,Input_Details!$B$34,Input_Details!$B$32)=\"\", \"-\", OFFSET('Raw Data'!AH74,Input_Details!$B$34,Input_Details!$B$32))","v":0},{"$f":"IF(OFFSET('Raw Data'!AI74,Input_Details!$B$34,Input_Details!$B$32)=\"\", \"-\", OFFSET('Raw Data'!AI74,Input_Details!$B$34,Input_Details!$B$32))","v":0},{"$f":"IF(OFFSET('Raw Data'!AJ74,Input_Details!$B$34,Input_Details!$B$32)=\"\", \"-\", OFFSET('Raw Data'!AJ74,Input_Details!$B$34,Input_Details!$B$32))","v":0},{"$f":"IF(OFFSET('Raw Data'!AK74,Input_Details!$B$34,Input_Details!$B$32)=\"\", \"-\", OFFSET('Raw Data'!AK74,Input_Details!$B$34,Input_Details!$B$32))","v":0},{"$f":"IF(OFFSET('Raw Data'!AL74,Input_Details!$B$34,Input_Details!$B$32)=\"\", \"-\", OFFSET('Raw Data'!AL74,Input_Details!$B$34,Input_Details!$B$32))","v":0},{"$f":"IF(OFFSET('Raw Data'!AM74,Input_Details!$B$34,Input_Details!$B$32)=\"\", \"-\", OFFSET('Raw Data'!AM74,Input_Details!$B$34,Input_Details!$B$32))","v":0},null,{"$f":"IF(D96=\"-\",\"-\",OFFSET('Raw Data'!AN74,Input_Details!$B$34,Input_Details!$B$32))","v":13.580000000000002},{"$f":"IF(OFFSET('Raw Data'!AO74,Input_Details!$B$34,Input_Details!$B$32)=\"\", \"-\", OFFSET('Raw Data'!AO74,Input_Details!$B$34,Input_Details!$B$32))","v":"-"},{"$f":"IF(OFFSET('Raw Data'!AP74,Input_Details!$B$34,Input_Details!$B$32)=\"\", \"-\", OFFSET('Raw Data'!AP74,Input_Details!$B$34,Input_Details!$B$32))","v":2},{"$f":"IF(OFFSET('Raw Data'!AQ74,Input_Details!$B$34,Input_Details!$B$32)=\"\", \"-\", OFFSET('Raw Data'!AQ74,Input_Details!$B$34,Input_Details!$B$32))","v":20.399999999999999},null,{"$f":"IF(Y96=\"-\", \"-\", SUM(OFFSET(D96,0,VLOOKUP(Input_Details!$N$3, $AF$3:$AG$12, 2,0)-1):W96))","v":0.6},7.8947368421052627E-2]
[null,"17:45:00",null,{"$f":"IF(OFFSET('Raw Data'!T75,Input_Details!$B$34,Input_Details!$B$32)=\"\", \"-\", OFFSET('Raw Data'!T75,Input_Details!$B$34,Input_Details!$B$32))","v":0.6},{"$f":"IF(OFFSET('Raw Data'!U75,Input_Details!$B$34,Input_Details!$B$32)=\"\", \"-\", OFFSET('Raw Data'!U75,Input_Details!$B$34,Input_Details!$B$32))","v":3.6},{"$f":"IF(OFFSET('Raw Data'!V75,Input_Details!$B$34,Input_Details!$B$32)=\"\", \"-\", OFFSET('Raw Data'!V75,Input_Details!$B$34,Input_Details!$B$32))","v":2.6},{"$f":"IF(OFFSET('Raw Data'!W75,Input_Details!$B$34,Input_Details!$B$32)=\"\", \"-\", OFFSET('Raw Data'!W75,Input_Details!$B$34,Input_Details!$B$32))","v":0.2},{"$f":"IF(OFFSET('Raw Data'!X75,Input_Details!$B$34,Input_Details!$B$32)=\"\", \"-\", OFFSET('Raw Data'!X75,Input_Details!$B$34,Input_Details!$B$32))","v":0},{"$f":"IF(OFFSET('Raw Data'!Y75,Input_Details!$B$34,Input_Details!$B$32)=\"\", \"-\", OFFSET('Raw Data'!Y75,Input_Details!$B$34,Input_Details!$B$32))","v":0},{"$f":"IF(OFFSET('Raw Data'!Z75,Input_Details!$B$34,Input_Details!$B$32)=\"\", \"-\", OFFSET('Raw Data'!Z75,Input_Details!$B$34,Input_Details!$B$32))","v":0},{"$f":"IF(OFFSET('Raw Data'!AA75,Input_Details!$B$34,Input_Details!$B$32)=\"\", \"-\", OFFSET('Raw Data'!AA75,Input_Details!$B$34,Input_Details!$B$32))","v":0},{"$f":"IF(OFFSET('Raw Data'!AB75,Input_Details!$B$34,Input_Details!$B$32)=\"\", \"-\", OFFSET('Raw Data'!AB75,Input_Details!$B$34,Input_Details!$B$32))","v":0},{"$f":"IF(OFFSET('Raw Data'!AC75,Input_Details!$B$34,Input_Details!$B$32)=\"\", \"-\", OFFSET('Raw Data'!AC75,Input_Details!$B$34,Input_Details!$B$32))","v":0},{"$f":"IF(OFFSET('Raw Data'!AD75,Input_Details!$B$34,Input_Details!$B$32)=\"\", \"-\", OFFSET('Raw Data'!AD75,Input_Details!$B$34,Input_Details!$B$32))","v":0},{"$f":"IF(OFFSET('Raw Data'!AE75,Input_Details!$B$34,Input_Details!$B$32)=\"\", \"-\", OFFSET('Raw Data'!AE75,Input_Details!$B$34,Input_Details!$B$32))","v":0},{"$f":"IF(OFFSET('Raw Data'!AF75,Input_Details!$B$34,Input_Details!$B$32)=\"\", \"-\", OFFSET('Raw Data'!AF75,Input_Details!$B$34,Input_Details!$B$32))","v":0},{"$f":"IF(OFFSET('Raw Data'!AG75,Input_Details!$B$34,Input_Details!$B$32)=\"\", \"-\", OFFSET('Raw Data'!AG75,Input_Details!$B$34,Input_Details!$B$32))","v":0},{"$f":"IF(OFFSET('Raw Data'!AH75,Input_Details!$B$34,Input_Details!$B$32)=\"\", \"-\", OFFSET('Raw Data'!AH75,Input_Details!$B$34,Input_Details!$B$32))","v":0},{"$f":"IF(OFFSET('Raw Data'!AI75,Input_Details!$B$34,Input_Details!$B$32)=\"\", \"-\", OFFSET('Raw Data'!AI75,Input_Details!$B$34,Input_Details!$B$32))","v":0},{"$f":"IF(OFFSET('Raw Data'!AJ75,Input_Details!$B$34,Input_Details!$B$32)=\"\", \"-\", OFFSET('Raw Data'!AJ75,Input_Details!$B$34,Input_Details!$B$32))","v":0},{"$f":"IF(OFFSET('Raw Data'!AK75,Input_Details!$B$34,Input_Details!$B$32)=\"\", \"-\", OFFSET('Raw Data'!AK75,Input_Details!$B$34,Input_Details!$B$32))","v":0},{"$f":"IF(OFFSET('Raw Data'!AL75,Input_Details!$B$34,Input_Details!$B$32)=\"\", \"-\", OFFSET('Raw Data'!AL75,Input_Details!$B$34,Input_Details!$B$32))","v":0},{"$f":"IF(OFFSET('Raw Data'!AM75,Input_Details!$B$34,Input_Details!$B$32)=\"\", \"-\", OFFSET('Raw Data'!AM75,Input_Details!$B$34,Input_Details!$B$32))","v":0},null,{"$f":"IF(D97=\"-\",\"-\",OFFSET('Raw Data'!AN75,Input_Details!$B$34,Input_Details!$B$32))","v":13.88},{"$f":"IF(OFFSET('Raw Data'!AO75,Input_Details!$B$34,Input_Details!$B$32)=\"\", \"-\", OFFSET('Raw Data'!AO75,Input_Details!$B$34,Input_Details!$B$32))","v":18.100000000000001},{"$f":"IF(OFFSET('Raw Data'!AP75,Input_Details!$B$34,Input_Details!$B$32)=\"\", \"-\", OFFSET('Raw Data'!AP75,Input_Details!$B$34,Input_Details!$B$32))","v":5.7},{"$f":"IF(OFFSET('Raw Data'!AQ75,Input_Details!$B$34,Input_Details!$B$32)=\"\", \"-\", OFFSET('Raw Data'!AQ75,Input_Details!$B$34,Input_Details!$B$32))","v":21.5},null,{"$f":"IF(Y97=\"-\", \"-\", SUM(OFFSET(D97,0,VLOOKUP(Input_Details!$N$3, $AF$3:$AG$12, 2,0)-1):W97))","v":0.2},2.8571428571428571E-2]
[null,"18:00:00",null,{"$f":"IF(OFFSET('Raw Data'!T76,Input_Details!$B$34,Input_Details!$B$32)=\"\", \"-\", OFFSET('Raw Data'!T76,Input_Details!$B$34,Input_Details!$B$32))","v":0.6},{"$f":"IF(OFFSET('Raw Data'!U76,Input_Details!$B$34,Input_Details!$B$32)=\"\", \"-\", OFFSET('Raw Data'!U76,Input_Details!$B$34,Input_Details!$B$32))","v":5},{"$f":"IF(OFFSET('Raw Data'!V76,Input_Details!$B$34,Input_Details!$B$32)=\"\", \"-\", OFFSET('Raw Data'!V76,Input_Details!$B$34,Input_Details!$B$32))","v":2.4},{"$f":"IF(OFFSET('Raw Data'!W76,Input_Details!$B$34,Input_Details!$B$32)=\"\", \"-\", OFFSET('Raw Data'!W76,Input_Details!$B$34,Input_Details!$B$32))","v":0.6},{"$f":"IF(OFFSET('Raw Data'!X76,Input_Details!$B$34,Input_Details!$B$32)=\"\", \"-\", OFFSET('Raw Data'!X76,Input_Details!$B$34,Input_Details!$B$32))","v":0},{"$f":"IF(OFFSET('Raw Data'!Y76,Input_Details!$B$34,Input_Details!$B$32)=\"\", \"-\", OFFSET('Raw Data'!Y76,Input_Details!$B$34,Input_Details!$B$32))","v":0},{"$f":"IF(OFFSET('Raw Data'!Z76,Input_Details!$B$34,Input_Details!$B$32)=\"\", \"-\", OFFSET('Raw Data'!Z76,Input_Details!$B$34,Input_Details!$B$32))","v":0},{"$f":"IF(OFFSET('Raw Data'!AA76,Input_Details!$B$34,Input_Details!$B$32)=\"\", \"-\", OFFSET('Raw Data'!AA76,Input_Details!$B$34,Input_Details!$B$32))","v":0},{"$f":"IF(OFFSET('Raw Data'!AB76,Input_Details!$B$34,Input_Details!$B$32)=\"\", \"-\", OFFSET('Raw Data'!AB76,Input_Details!$B$34,Input_Details!$B$32))","v":0},{"$f":"IF(OFFSET('Raw Data'!AC76,Input_Details!$B$34,Input_Details!$B$32)=\"\", \"-\", OFFSET('Raw Data'!AC76,Input_Details!$B$34,Input_Details!$B$32))","v":0},{"$f":"IF(OFFSET('Raw Data'!AD76,Input_Details!$B$34,Input_Details!$B$32)=\"\", \"-\", OFFSET('Raw Data'!AD76,Input_Details!$B$34,Input_Details!$B$32))","v":0},{"$f":"IF(OFFSET('Raw Data'!AE76,Input_Details!$B$34,Input_Details!$B$32)=\"\", \"-\", OFFSET('Raw Data'!AE76,Input_Details!$B$34,Input_Details!$B$32))","v":0},{"$f":"IF(OFFSET('Raw Data'!AF76,Input_Details!$B$34,Input_Details!$B$32)=\"\", \"-\", OFFSET('Raw Data'!AF76,Input_Details!$B$34,Input_Details!$B$32))","v":0},{"$f":"IF(OFFSET('Raw Data'!AG76,Input_Details!$B$34,Input_Details!$B$32)=\"\", \"-\", OFFSET('Raw Data'!AG76,Input_Details!$B$34,Input_Details!$B$32))","v":0},{"$f":"IF(OFFSET('Raw Data'!AH76,Input_Details!$B$34,Input_Details!$B$32)=\"\", \"-\", OFFSET('Raw Data'!AH76,Input_Details!$B$34,Input_Details!$B$32))","v":0},{"$f":"IF(OFFSET('Raw Data'!AI76,Input_Details!$B$34,Input_Details!$B$32)=\"\", \"-\", OFFSET('Raw Data'!AI76,Input_Details!$B$34,Input_Details!$B$32))","v":0},{"$f":"IF(OFFSET('Raw Data'!AJ76,Input_Details!$B$34,Input_Details!$B$32)=\"\", \"-\", OFFSET('Raw Data'!AJ76,Input_Details!$B$34,Input_Details!$B$32))","v":0},{"$f":"IF(OFFSET('Raw Data'!AK76,Input_Details!$B$34,Input_Details!$B$32)=\"\", \"-\", OFFSET('Raw Data'!AK76,Input_Details!$B$34,Input_Details!$B$32))","v":0},{"$f":"IF(OFFSET('Raw Data'!AL76,Input_Details!$B$34,Input_Details!$B$32)=\"\", \"-\", OFFSET('Raw Data'!AL76,Input_Details!$B$34,Input_Details!$B$32))","v":0},{"$f":"IF(OFFSET('Raw Data'!AM76,Input_Details!$B$34,Input_Details!$B$32)=\"\", \"-\", OFFSET('Raw Data'!AM76,Input_Details!$B$34,Input_Details!$B$32))","v":0},null,{"$f":"IF(D98=\"-\",\"-\",OFFSET('Raw Data'!AN76,Input_Details!$B$34,Input_Details!$B$32))","v":14.139999999999997},{"$f":"IF(OFFSET('Raw Data'!AO76,Input_Details!$B$34,Input_Details!$B$32)=\"\", \"-\", OFFSET('Raw Data'!AO76,Input_Details!$B$34,Input_Details!$B$32))","v":16},{"$f":"IF(OFFSET('Raw Data'!AP76,Input_Details!$B$34,Input_Details!$B$32)=\"\", \"-\", OFFSET('Raw Data'!AP76,Input_Details!$B$34,Input_Details!$B$32))","v":5.7},{"$f":"IF(OFFSET('Raw Data'!AQ76,Input_Details!$B$34,Input_Details!$B$32)=\"\", \"-\", OFFSET('Raw Data'!AQ76,Input_Details!$B$34,Input_Details!$B$32))","v":24.8},null,{"$f":"IF(Y98=\"-\", \"-\", SUM(OFFSET(D98,0,VLOOKUP(Input_Details!$N$3, $AF$3:$AG$12, 2,0)-1):W98))","v":0.6},6.9767441860465115E-2]
[null,"18:15:00",null,{"$f":"IF(OFFSET('Raw Data'!T77,Input_Details!$B$34,Input_Details!$B$32)=\"\", \"-\", OFFSET('Raw Data'!T77,Input_Details!$B$34,Input_Details!$B$32))","v":1},{"$f":"IF(OFFSET('Raw Data'!U77,Input_Details!$B$34,Input_Details!$B$32)=\"\", \"-\", OFFSET('Raw Data'!U77,Input_Details!$B$34,Input_Details!$B$32))","v":2.8},{"$f":"IF(OFFSET('Raw Data'!V77,Input_Details!$B$34,Input_Details!$B$32)=\"\", \"-\", OFFSET('Raw Data'!V77,Input_Details!$B$34,Input_Details!$B$32))","v":2.2000000000000002},{"$f":"IF(OFFSET('Raw Data'!W77,Input_Details!$B$34,Input_Details!$B$32)=\"\", \"-\", OFFSET('Raw Data'!W77,Input_Details!$B$34,Input_Details!$B$32))","v":0.6},{"$f":"IF(OFFSET('Raw Data'!X77,Input_Details!$B$34,Input_Details!$B$32)=\"\", \"-\", OFFSET('Raw Data'!X77,Input_Details!$B$34,Input_Details!$B$32))","v":0.2},{"$f":"IF(OFFSET('Raw Data'!Y77,Input_Details!$B$34,Input_Details!$B$32)=\"\", \"-\", OFFSET('Raw Data'!Y77,Input_Details!$B$34,Input_Details!$B$32))","v":0},{"$f":"IF(OFFSET('Raw Data'!Z77,Input_Details!$B$34,Input_Details!$B$32)=\"\", \"-\", OFFSET('Raw Data'!Z77,Input_Details!$B$34,Input_Details!$B$32))","v":0},{"$f":"IF(OFFSET('Raw Data'!AA77,Input_Details!$B$34,Input_Details!$B$32)=\"\", \"-\", OFFSET('Raw Data'!AA77,Input_Details!$B$34,Input_Details!$B$32))","v":0},{"$f":"IF(OFFSET('Raw Data'!AB77,Input_Details!$B$34,Input_Details!$B$32)=\"\", \"-\", OFFSET('Raw Data'!AB77,Input_Details!$B$34,Input_Details!$B$32))","v":0},{"$f":"IF(OFFSET('Raw Data'!AC77,Input_Details!$B$34,Input_Details!$B$32)=\"\", \"-\", OFFSET('Raw Data'!AC77,Input_Details!$B$34,Input_Details!$B$32))","v":0},{"$f":"IF(OFFSET('Raw Data'!AD77,Input_Details!$B$34,Input_Details!$B$32)=\"\", \"-\", OFFSET('Raw Data'!AD77,Input_Details!$B$34,Input_Details!$B$32))","v":0},{"$f":"IF(OFFSET('Raw Data'!AE77,Input_Details!$B$34,Input_Details!$B$32)=\"\", \"-\", OFFSET('Raw Data'!AE77,Input_Details!$B$34,Input_Details!$B$32))","v":0},{"$f":"IF(OFFSET('Raw Data'!AF77,Input_Details!$B$34,Input_Details!$B$32)=\"\", \"-\", OFFSET('Raw Data'!AF77,Input_Details!$B$34,Input_Details!$B$32))","v":0},{"$f":"IF(OFFSET('Raw Data'!AG77,Input_Details!$B$34,Input_Details!$B$32)=\"\", \"-\", OFFSET('Raw Data'!AG77,Input_Details!$B$34,Input_Details!$B$32))","v":0},{"$f":"IF(OFFSET('Raw Data'!AH77,Input_Details!$B$34,Input_Details!$B$32)=\"\", \"-\", OFFSET('Raw Data'!AH77,Input_Details!$B$34,Input_Details!$B$32))","v":0},{"$f":"IF(OFFSET('Raw Data'!AI77,Input_Details!$B$34,Input_Details!$B$32)=\"\", \"-\", OFFSET('Raw Data'!AI77,Input_Details!$B$34,Input_Details!$B$32))","v":0},{"$f":"IF(OFFSET('Raw Data'!AJ77,Input_Details!$B$34,Input_Details!$B$32)=\"\", \"-\", OFFSET('Raw Data'!AJ77,Input_Details!$B$34,Input_Details!$B$32))","v":0},{"$f":"IF(OFFSET('Raw Data'!AK77,Input_Details!$B$34,Input_Details!$B$32)=\"\", \"-\", OFFSET('Raw Data'!AK77,Input_Details!$B$34,Input_Details!$B$32))","v":0},{"$f":"IF(OFFSET('Raw Data'!AL77,Input_Details!$B$34,Input_Details!$B$32)=\"\", \"-\", OFFSET('Raw Data'!AL77,Input_Details!$B$34,Input_Details!$B$32))","v":0},{"$f":"IF(OFFSET('Raw Data'!AM77,Input_Details!$B$34,Input_Details!$B$32)=\"\", \"-\", OFFSET('Raw Data'!AM77,Input_Details!$B$34,Input_Details!$B$32))","v":0},null,{"$f":"IF(D99=\"-\",\"-\",OFFSET('Raw Data'!AN77,Input_Details!$B$34,Input_Details!$B$32))","v":15.419999999999998},{"$f":"IF(OFFSET('Raw Data'!AO77,Input_Details!$B$34,Input_Details!$B$32)=\"\", \"-\", OFFSET('Raw Data'!AO77,Input_Details!$B$34,Input_Details!$B$32))","v":"-"},{"$f":"IF(OFFSET('Raw Data'!AP77,Input_Details!$B$34,Input_Details!$B$32)=\"\", \"-\", OFFSET('Raw Data'!AP77,Input_Details!$B$34,Input_Details!$B$32))","v":7.9},{"$f":"IF(OFFSET('Raw Data'!AQ77,Input_Details!$B$34,Input_Details!$B$32)=\"\", \"-\", OFFSET('Raw Data'!AQ77,Input_Details!$B$34,Input_Details!$B$32))","v":26},null,{"$f":"IF(Y99=\"-\", \"-\", SUM(OFFSET(D99,0,VLOOKUP(Input_Details!$N$3, $AF$3:$AG$12, 2,0)-1):W99))","v":0.8},0.11764705882352942]
[null,"18:30:00",null,{"$f":"IF(OFFSET('Raw Data'!T78,Input_Details!$B$34,Input_Details!$B$32)=\"\", \"-\", OFFSET('Raw Data'!T78,Input_Details!$B$34,Input_Details!$B$32))","v":1},{"$f":"IF(OFFSET('Raw Data'!U78,Input_Details!$B$34,Input_Details!$B$32)=\"\", \"-\", OFFSET('Raw Data'!U78,Input_Details!$B$34,Input_Details!$B$32))","v":4.4000000000000004},{"$f":"IF(OFFSET('Raw Data'!V78,Input_Details!$B$34,Input_Details!$B$32)=\"\", \"-\", OFFSET('Raw Data'!V78,Input_Details!$B$34,Input_Details!$B$32))","v":2},{"$f":"IF(OFFSET('Raw Data'!W78,Input_Details!$B$34,Input_Details!$B$32)=\"\", \"-\", OFFSET('Raw Data'!W78,Input_Details!$B$34,Input_Details!$B$32))","v":0.2},{"$f":"IF(OFFSET('Raw Data'!X78,Input_Details!$B$34,Input_Details!$B$32)=\"\", \"-\", OFFSET('Raw Data'!X78,Input_Details!$B$34,Input_Details!$B$32))","v":0},{"$f":"IF(OFFSET('Raw Data'!Y78,Input_Details!$B$34,Input_Details!$B$32)=\"\", \"-\", OFFSET('Raw Data'!Y78,Input_Details!$B$34,Input_Details!$B$32))","v":0},{"$f":"IF(OFFSET('Raw Data'!Z78,Input_Details!$B$34,Input_Details!$B$32)=\"\", \"-\", OFFSET('Raw Data'!Z78,Input_Details!$B$34,Input_Details!$B$32))","v":0},{"$f":"IF(OFFSET('Raw Data'!AA78,Input_Details!$B$34,Input_Details!$B$32)=\"\", \"-\", OFFSET('Raw Data'!AA78,Input_Details!$B$34,Input_Details!$B$32))","v":0},{"$f":"IF(OFFSET('Raw Data'!AB78,Input_Details!$B$34,Input_Details!$B$32)=\"\", \"-\", OFFSET('Raw Data'!AB78,Input_Details!$B$34,Input_Details!$B$32))","v":0},{"$f":"IF(OFFSET('Raw Data'!AC78,Input_Details!$B$34,Input_Details!$B$32)=\"\", \"-\", OFFSET('Raw Data'!AC78,Input_Details!$B$34,Input_Details!$B$32))","v":0},{"$f":"IF(OFFSET('Raw Data'!AD78,Input_Details!$B$34,Input_Details!$B$32)=\"\", \"-\", OFFSET('Raw Data'!AD78,Input_Details!$B$34,Input_Details!$B$32))","v":0},{"$f":"IF(OFFSET('Raw Data'!AE78,Input_Details!$B$34,Input_Details!$B$32)=\"\", \"-\", OFFSET('Raw Data'!AE78,Input_Details!$B$34,Input_Details!$B$32))","v":0},{"$f":"IF(OFFSET('Raw Data'!AF78,Input_Details!$B$34,Input_Details!$B$32)=\"\", \"-\", OFFSET('Raw Data'!AF78,Input_Details!$B$34,Input_Details!$B$32))","v":0},{"$f":"IF(OFFSET('Raw Data'!AG78,Input_Details!$B$34,Input_Details!$B$32)=\"\", \"-\", OFFSET('Raw Data'!AG78,Input_Details!$B$34,Input_Details!$B$32))","v":0},{"$f":"IF(OFFSET('Raw Data'!AH78,Input_Details!$B$34,Input_Details!$B$32)=\"\", \"-\", OFFSET('Raw Data'!AH78,Input_Details!$B$34,Input_Details!$B$32))","v":0},{"$f":"IF(OFFSET('Raw Data'!AI78,Input_Details!$B$34,Input_Details!$B$32)=\"\", \"-\", OFFSET('Raw Data'!AI78,Input_Details!$B$34,Input_Details!$B$32))","v":0},{"$f":"IF(OFFSET('Raw Data'!AJ78,Input_Details!$B$34,Input_Details!$B$32)=\"\", \"-\", OFFSET('Raw Data'!AJ78,Input_Details!$B$34,Input_Details!$B$32))","v":0},{"$f":"IF(OFFSET('Raw Data'!AK78,Input_Details!$B$34,Input_Details!$B$32)=\"\", \"-\", OFFSET('Raw Data'!AK78,Input_Details!$B$34,Input_Details!$B$32))","v":0},{"$f":"IF(OFFSET('Raw Data'!AL78,Input_Details!$B$34,Input_Details!$B$32)=\"\", \"-\", OFFSET('Raw Data'!AL78,Input_Details!$B$34,Input_Details!$B$32))","v":0},{"$f":"IF(OFFSET('Raw Data'!AM78,Input_Details!$B$34,Input_Details!$B$32)=\"\", \"-\", OFFSET('Raw Data'!AM78,Input_Details!$B$34,Input_Details!$B$32))","v":0},null,{"$f":"IF(D100=\"-\",\"-\",OFFSET('Raw Data'!AN78,Input_Details!$B$34,Input_Details!$B$32))","v":12.979999999999999},{"$f":"IF(OFFSET('Raw Data'!AO78,Input_Details!$B$34,Input_Details!$B$32)=\"\", \"-\", OFFSET('Raw Data'!AO78,Input_Details!$B$34,Input_Details!$B$32))","v":14.3},{"$f":"IF(OFFSET('Raw Data'!AP78,Input_Details!$B$34,Input_Details!$B$32)=\"\", \"-\", OFFSET('Raw Data'!AP78,Input_Details!$B$34,Input_Details!$B$32))","v":1.1000000000000001},{"$f":"IF(OFFSET('Raw Data'!AQ78,Input_Details!$B$34,Input_Details!$B$32)=\"\", \"-\", OFFSET('Raw Data'!AQ78,Input_Details!$B$34,Input_Details!$B$32))","v":22.3},null,{"$f":"IF(Y100=\"-\", \"-\", SUM(OFFSET(D100,0,VLOOKUP(Input_Details!$N$3, $AF$3:$AG$12, 2,0)-1):W100))","v":0.2},2.6315789473684209E-2]
[null,"18:45:00",null,{"$f":"IF(OFFSET('Raw Data'!T79,Input_Details!$B$34,Input_Details!$B$32)=\"\", \"-\", OFFSET('Raw Data'!T79,Input_Details!$B$34,Input_Details!$B$32))","v":0.8},{"$f":"IF(OFFSET('Raw Data'!U79,Input_Details!$B$34,Input_Details!$B$32)=\"\", \"-\", OFFSET('Raw Data'!U79,Input_Details!$B$34,Input_Details!$B$32))","v":4.2},{"$f":"IF(OFFSET('Raw Data'!V79,Input_Details!$B$34,Input_Details!$B$32)=\"\", \"-\", OFFSET('Raw Data'!V79,Input_Details!$B$34,Input_Details!$B$32))","v":2},{"$f":"IF(OFFSET('Raw Data'!W79,Input_Details!$B$34,Input_Details!$B$32)=\"\", \"-\", OFFSET('Raw Data'!W79,Input_Details!$B$34,Input_Details!$B$32))","v":0.8},{"$f":"IF(OFFSET('Raw Data'!X79,Input_Details!$B$34,Input_Details!$B$32)=\"\", \"-\", OFFSET('Raw Data'!X79,Input_Details!$B$34,Input_Details!$B$32))","v":0},{"$f":"IF(OFFSET('Raw Data'!Y79,Input_Details!$B$34,Input_Details!$B$32)=\"\", \"-\", OFFSET('Raw Data'!Y79,Input_Details!$B$34,Input_Details!$B$32))","v":0},{"$f":"IF(OFFSET('Raw Data'!Z79,Input_Details!$B$34,Input_Details!$B$32)=\"\", \"-\", OFFSET('Raw Data'!Z79,Input_Details!$B$34,Input_Details!$B$32))","v":0},{"$f":"IF(OFFSET('Raw Data'!AA79,Input_Details!$B$34,Input_Details!$B$32)=\"\", \"-\", OFFSET('Raw Data'!AA79,Input_Details!$B$34,Input_Details!$B$32))","v":0},{"$f":"IF(OFFSET('Raw Data'!AB79,Input_Details!$B$34,Input_Details!$B$32)=\"\", \"-\", OFFSET('Raw Data'!AB79,Input_Details!$B$34,Input_Details!$B$32))","v":0},{"$f":"IF(OFFSET('Raw Data'!AC79,Input_Details!$B$34,Input_Details!$B$32)=\"\", \"-\", OFFSET('Raw Data'!AC79,Input_Details!$B$34,Input_Details!$B$32))","v":0},{"$f":"IF(OFFSET('Raw Data'!AD79,Input_Details!$B$34,Input_Details!$B$32)=\"\", \"-\", OFFSET('Raw Data'!AD79,Input_Details!$B$34,Input_Details!$B$32))","v":0},{"$f":"IF(OFFSET('Raw Data'!AE79,Input_Details!$B$34,Input_Details!$B$32)=\"\", \"-\", OFFSET('Raw Data'!AE79,Input_Details!$B$34,Input_Details!$B$32))","v":0},{"$f":"IF(OFFSET('Raw Data'!AF79,Input_Details!$B$34,Input_Details!$B$32)=\"\", \"-\", OFFSET('Raw Data'!AF79,Input_Details!$B$34,Input_Details!$B$32))","v":0},{"$f":"IF(OFFSET('Raw Data'!AG79,Input_Details!$B$34,Input_Details!$B$32)=\"\", \"-\", OFFSET('Raw Data'!AG79,Input_Details!$B$34,Input_Details!$B$32))","v":0},{"$f":"IF(OFFSET('Raw Data'!AH79,Input_Details!$B$34,Input_Details!$B$32)=\"\", \"-\", OFFSET('Raw Data'!AH79,Input_Details!$B$34,Input_Details!$B$32))","v":0},{"$f":"IF(OFFSET('Raw Data'!AI79,Input_Details!$B$34,Input_Details!$B$32)=\"\", \"-\", OFFSET('Raw Data'!AI79,Input_Details!$B$34,Input_Details!$B$32))","v":0},{"$f":"IF(OFFSET('Raw Data'!AJ79,Input_Details!$B$34,Input_Details!$B$32)=\"\", \"-\", OFFSET('Raw Data'!AJ79,Input_Details!$B$34,Input_Details!$B$32))","v":0},{"$f":"IF(OFFSET('Raw Data'!AK79,Input_Details!$B$34,Input_Details!$B$32)=\"\", \"-\", OFFSET('Raw Data'!AK79,Input_Details!$B$34,Input_Details!$B$32))","v":0},{"$f":"IF(OFFSET('Raw Data'!AL79,Input_Details!$B$34,Input_Details!$B$32)=\"\", \"-\", OFFSET('Raw Data'!AL79,Input_Details!$B$34,Input_Details!$B$32))","v":0},{"$f":"IF(OFFSET('Raw Data'!AM79,Input_Details!$B$34,Input_Details!$B$32)=\"\", \"-\", OFFSET('Raw Data'!AM79,Input_Details!$B$34,Input_Details!$B$32))","v":0},null,{"$f":"IF(D101=\"-\",\"-\",OFFSET('Raw Data'!AN79,Input_Details!$B$34,Input_Details!$B$32))","v":14.239999999999998},{"$f":"IF(OFFSET('Raw Data'!AO79,Input_Details!$B$34,Input_Details!$B$32)=\"\", \"-\", OFFSET('Raw Data'!AO79,Input_Details!$B$34,Input_Details!$B$32))","v":14.8},{"$f":"IF(OFFSET('Raw Data'!AP79,Input_Details!$B$34,Input_Details!$B$32)=\"\", \"-\", OFFSET('Raw Data'!AP79,Input_Details!$B$34,Input_Details!$B$32))","v":6.2},{"$f":"IF(OFFSET('Raw Data'!AQ79,Input_Details!$B$34,Input_Details!$B$32)=\"\", \"-\", OFFSET('Raw Data'!AQ79,Input_Details!$B$34,Input_Details!$B$32))","v":23},null,{"$f":"IF(Y101=\"-\", \"-\", SUM(OFFSET(D101,0,VLOOKUP(Input_Details!$N$3, $AF$3:$AG$12, 2,0)-1):W101))","v":0.8},0.10256410256410257]
[null,"19:00:00",null,{"$f":"IF(OFFSET('Raw Data'!T80,Input_Details!$B$34,Input_Details!$B$32)=\"\", \"-\", OFFSET('Raw Data'!T80,Input_Details!$B$34,Input_Details!$B$32))","v":1.2},{"$f":"IF(OFFSET('Raw Data'!U80,Input_Details!$B$34,Input_Details!$B$32)=\"\", \"-\", OFFSET('Raw Data'!U80,Input_Details!$B$34,Input_Details!$B$32))","v":3.4},{"$f":"IF(OFFSET('Raw Data'!V80,Input_Details!$B$34,Input_Details!$B$32)=\"\", \"-\", OFFSET('Raw Data'!V80,Input_Details!$B$34,Input_Details!$B$32))","v":1.6},{"$f":"IF(OFFSET('Raw Data'!W80,Input_Details!$B$34,Input_Details!$B$32)=\"\", \"-\", OFFSET('Raw Data'!W80,Input_Details!$B$34,Input_Details!$B$32))","v":0.6},{"$f":"IF(OFFSET('Raw Data'!X80,Input_Details!$B$34,Input_Details!$B$32)=\"\", \"-\", OFFSET('Raw Data'!X80,Input_Details!$B$34,Input_Details!$B$32))","v":0},{"$f":"IF(OFFSET('Raw Data'!Y80,Input_Details!$B$34,Input_Details!$B$32)=\"\", \"-\", OFFSET('Raw Data'!Y80,Input_Details!$B$34,Input_Details!$B$32))","v":0},{"$f":"IF(OFFSET('Raw Data'!Z80,Input_Details!$B$34,Input_Details!$B$32)=\"\", \"-\", OFFSET('Raw Data'!Z80,Input_Details!$B$34,Input_Details!$B$32))","v":0},{"$f":"IF(OFFSET('Raw Data'!AA80,Input_Details!$B$34,Input_Details!$B$32)=\"\", \"-\", OFFSET('Raw Data'!AA80,Input_Details!$B$34,Input_Details!$B$32))","v":0},{"$f":"IF(OFFSET('Raw Data'!AB80,Input_Details!$B$34,Input_Details!$B$32)=\"\", \"-\", OFFSET('Raw Data'!AB80,Input_Details!$B$34,Input_Details!$B$32))","v":0},{"$f":"IF(OFFSET('Raw Data'!AC80,Input_Details!$B$34,Input_Details!$B$32)=\"\", \"-\", OFFSET('Raw Data'!AC80,Input_Details!$B$34,Input_Details!$B$32))","v":0},{"$f":"IF(OFFSET('Raw Data'!AD80,Input_Details!$B$34,Input_Details!$B$32)=\"\", \"-\", OFFSET('Raw Data'!AD80,Input_Details!$B$34,Input_Details!$B$32))","v":0},{"$f":"IF(OFFSET('Raw Data'!AE80,Input_Details!$B$34,Input_Details!$B$32)=\"\", \"-\", OFFSET('Raw Data'!AE80,Input_Details!$B$34,Input_Details!$B$32))","v":0},{"$f":"IF(OFFSET('Raw Data'!AF80,Input_Details!$B$34,Input_Details!$B$32)=\"\", \"-\", OFFSET('Raw Data'!AF80,Input_Details!$B$34,Input_Details!$B$32))","v":0},{"$f":"IF(OFFSET('Raw Data'!AG80,Input_Details!$B$34,Input_Details!$B$32)=\"\", \"-\", OFFSET('Raw Data'!AG80,Input_Details!$B$34,Input_Details!$B$32))","v":0},{"$f":"IF(OFFSET('Raw Data'!AH80,Input_Details!$B$34,Input_Details!$B$32)=\"\", \"-\", OFFSET('Raw Data'!AH80,Input_Details!$B$34,Input_Details!$B$32))","v":0},{"$f":"IF(OFFSET('Raw Data'!AI80,Input_Details!$B$34,Input_Details!$B$32)=\"\", \"-\", OFFSET('Raw Data'!AI80,Input_Details!$B$34,Input_Details!$B$32))","v":0},{"$f":"IF(OFFSET('Raw Data'!AJ80,Input_Details!$B$34,Input_Details!$B$32)=\"\", \"-\", OFFSET('Raw Data'!AJ80,Input_Details!$B$34,Input_Details!$B$32))","v":0},{"$f":"IF(OFFSET('Raw Data'!AK80,Input_Details!$B$34,Input_Details!$B$32)=\"\", \"-\", OFFSET('Raw Data'!AK80,Input_Details!$B$34,Input_Details!$B$32))","v":0},{"$f":"IF(OFFSET('Raw Data'!AL80,Input_Details!$B$34,Input_Details!$B$32)=\"\", \"-\", OFFSET('Raw Data'!AL80,Input_Details!$B$34,Input_Details!$B$32))","v":0},{"$f":"IF(OFFSET('Raw Data'!AM80,Input_Details!$B$34,Input_Details!$B$32)=\"\", \"-\", OFFSET('Raw Data'!AM80,Input_Details!$B$34,Input_Details!$B$32))","v":0},null,{"$f":"IF(D102=\"-\",\"-\",OFFSET('Raw Data'!AN80,Input_Details!$B$34,Input_Details!$B$32))","v":13.540000000000001},{"$f":"IF(OFFSET('Raw Data'!AO80,Input_Details!$B$34,Input_Details!$B$32)=\"\", \"-\", OFFSET('Raw Data'!AO80,Input_Details!$B$34,Input_Details!$B$32))","v":16.8},{"$f":"IF(OFFSET('Raw Data'!AP80,Input_Details!$B$34,Input_Details!$B$32)=\"\", \"-\", OFFSET('Raw Data'!AP80,Input_Details!$B$34,Input_Details!$B$32))","v":4.5},{"$f":"IF(OFFSET('Raw Data'!AQ80,Input_Details!$B$34,Input_Details!$B$32)=\"\", \"-\", OFFSET('Raw Data'!AQ80,Input_Details!$B$34,Input_Details!$B$32))","v":21.1},null,{"$f":"IF(Y102=\"-\", \"-\", SUM(OFFSET(D102,0,VLOOKUP(Input_Details!$N$3, $AF$3:$AG$12, 2,0)-1):W102))","v":0.6},8.8235294117647065E-2]
[null,"19:15:00",null,{"$f":"IF(OFFSET('Raw Data'!T81,Input_Details!$B$34,Input_Details!$B$32)=\"\", \"-\", OFFSET('Raw Data'!T81,Input_Details!$B$34,Input_Details!$B$32))","v":0.6},{"$f":"IF(OFFSET('Raw Data'!U81,Input_Details!$B$34,Input_Details!$B$32)=\"\", \"-\", OFFSET('Raw Data'!U81,Input_Details!$B$34,Input_Details!$B$32))","v":4.2},{"$f":"IF(OFFSET('Raw Data'!V81,Input_Details!$B$34,Input_Details!$B$32)=\"\", \"-\", OFFSET('Raw Data'!V81,Input_Details!$B$34,Input_Details!$B$32))","v":2.4},{"$f":"IF(OFFSET('Raw Data'!W81,Input_Details!$B$34,Input_Details!$B$32)=\"\", \"-\", OFFSET('Raw Data'!W81,Input_Details!$B$34,Input_Details!$B$32))","v":1},{"$f":"IF(OFFSET('Raw Data'!X81,Input_Details!$B$34,Input_Details!$B$32)=\"\", \"-\", OFFSET('Raw Data'!X81,Input_Details!$B$34,Input_Details!$B$32))","v":0},{"$f":"IF(OFFSET('Raw Data'!Y81,Input_Details!$B$34,Input_Details!$B$32)=\"\", \"-\", OFFSET('Raw Data'!Y81,Input_Details!$B$34,Input_Details!$B$32))","v":0},{"$f":"IF(OFFSET('Raw Data'!Z81,Input_Details!$B$34,Input_Details!$B$32)=\"\", \"-\", OFFSET('Raw Data'!Z81,Input_Details!$B$34,Input_Details!$B$32))","v":0},{"$f":"IF(OFFSET('Raw Data'!AA81,Input_Details!$B$34,Input_Details!$B$32)=\"\", \"-\", OFFSET('Raw Data'!AA81,Input_Details!$B$34,Input_Details!$B$32))","v":0},{"$f":"IF(OFFSET('Raw Data'!AB81,Input_Details!$B$34,Input_Details!$B$32)=\"\", \"-\", OFFSET('Raw Data'!AB81,Input_Details!$B$34,Input_Details!$B$32))","v":0},{"$f":"IF(OFFSET('Raw Data'!AC81,Input_Details!$B$34,Input_Details!$B$32)=\"\", \"-\", OFFSET('Raw Data'!AC81,Input_Details!$B$34,Input_Details!$B$32))","v":0},{"$f":"IF(OFFSET('Raw Data'!AD81,Input_Details!$B$34,Input_Details!$B$32)=\"\", \"-\", OFFSET('Raw Data'!AD81,Input_Details!$B$34,Input_Details!$B$32))","v":0},{"$f":"IF(OFFSET('Raw Data'!AE81,Input_Details!$B$34,Input_Details!$B$32)=\"\", \"-\", OFFSET('Raw Data'!AE81,Input_Details!$B$34,Input_Details!$B$32))","v":0},{"$f":"IF(OFFSET('Raw Data'!AF81,Input_Details!$B$34,Input_Details!$B$32)=\"\", \"-\", OFFSET('Raw Data'!AF81,Input_Details!$B$34,Input_Details!$B$32))","v":0},{"$f":"IF(OFFSET('Raw Data'!AG81,Input_Details!$B$34,Input_Details!$B$32)=\"\", \"-\", OFFSET('Raw Data'!AG81,Input_Details!$B$34,Input_Details!$B$32))","v":0},{"$f":"IF(OFFSET('Raw Data'!AH81,Input_Details!$B$34,Input_Details!$B$32)=\"\", \"-\", OFFSET('Raw Data'!AH81,Input_Details!$B$34,Input_Details!$B$32))","v":0},{"$f":"IF(OFFSET('Raw Data'!AI81,Input_Details!$B$34,Input_Details!$B$32)=\"\", \"-\", OFFSET('Raw Data'!AI81,Input_Details!$B$34,Input_Details!$B$32))","v":0},{"$f":"IF(OFFSET('Raw Data'!AJ81,Input_Details!$B$34,Input_Details!$B$32)=\"\", \"-\", OFFSET('Raw Data'!AJ81,Input_Details!$B$34,Input_Details!$B$32))","v":0},{"$f":"IF(OFFSET('Raw Data'!AK81,Input_Details!$B$34,Input_Details!$B$32)=\"\", \"-\", OFFSET('Raw Data'!AK81,Input_Details!$B$34,Input_Details!$B$32))","v":0},{"$f":"IF(OFFSET('Raw Data'!AL81,Input_Details!$B$34,Input_Details!$B$32)=\"\", \"-\", OFFSET('Raw Data'!AL81,Input_Details!$B$34,Input_Details!$B$32))","v":0},{"$f":"IF(OFFSET('Raw Data'!AM81,Input_Details!$B$34,Input_Details!$B$32)=\"\", \"-\", OFFSET('Raw Data'!AM81,Input_Details!$B$34,Input_Details!$B$32))","v":0},null,{"$f":"IF(D103=\"-\",\"-\",OFFSET('Raw Data'!AN81,Input_Details!$B$34,Input_Details!$B$32))","v":15.66},{"$f":"IF(OFFSET('Raw Data'!AO81,Input_Details!$B$34,Input_Details!$B$32)=\"\", \"-\", OFFSET('Raw Data'!AO81,Input_Details!$B$34,Input_Details!$B$32))","v":20.8},{"$f":"IF(OFFSET('Raw Data'!AP81,Input_Details!$B$34,Input_Details!$B$32)=\"\", \"-\", OFFSET('Raw Data'!AP81,Input_Details!$B$34,Input_Details!$B$32))","v":8.6},{"$f":"IF(OFFSET('Raw Data'!AQ81,Input_Details!$B$34,Input_Details!$B$32)=\"\", \"-\", OFFSET('Raw Data'!AQ81,Input_Details!$B$34,Input_Details!$B$32))","v":24.4},null,{"$f":"IF(Y103=\"-\", \"-\", SUM(OFFSET(D103,0,VLOOKUP(Input_Details!$N$3, $AF$3:$AG$12, 2,0)-1):W103))","v":1},0.12195121951219513]
[null,"19:30:00",null,{"$f":"IF(OFFSET('Raw Data'!T82,Input_Details!$B$34,Input_Details!$B$32)=\"\", \"-\", OFFSET('Raw Data'!T82,Input_Details!$B$34,Input_Details!$B$32))","v":0.8},{"$f":"IF(OFFSET('Raw Data'!U82,Input_Details!$B$34,Input_Details!$B$32)=\"\", \"-\", OFFSET('Raw Data'!U82,Input_Details!$B$34,Input_Details!$B$32))","v":2.4},{"$f":"IF(OFFSET('Raw Data'!V82,Input_Details!$B$34,Input_Details!$B$32)=\"\", \"-\", OFFSET('Raw Data'!V82,Input_Details!$B$34,Input_Details!$B$32))","v":2.4},{"$f":"IF(OFFSET('Raw Data'!W82,Input_Details!$B$34,Input_Details!$B$32)=\"\", \"-\", OFFSET('Raw Data'!W82,Input_Details!$B$34,Input_Details!$B$32))","v":0.4},{"$f":"IF(OFFSET('Raw Data'!X82,Input_Details!$B$34,Input_Details!$B$32)=\"\", \"-\", OFFSET('Raw Data'!X82,Input_Details!$B$34,Input_Details!$B$32))","v":0},{"$f":"IF(OFFSET('Raw Data'!Y82,Input_Details!$B$34,Input_Details!$B$32)=\"\", \"-\", OFFSET('Raw Data'!Y82,Input_Details!$B$34,Input_Details!$B$32))","v":0},{"$f":"IF(OFFSET('Raw Data'!Z82,Input_Details!$B$34,Input_Details!$B$32)=\"\", \"-\", OFFSET('Raw Data'!Z82,Input_Details!$B$34,Input_Details!$B$32))","v":0},{"$f":"IF(OFFSET('Raw Data'!AA82,Input_Details!$B$34,Input_Details!$B$32)=\"\", \"-\", OFFSET('Raw Data'!AA82,Input_Details!$B$34,Input_Details!$B$32))","v":0},{"$f":"IF(OFFSET('Raw Data'!AB82,Input_Details!$B$34,Input_Details!$B$32)=\"\", \"-\", OFFSET('Raw Data'!AB82,Input_Details!$B$34,Input_Details!$B$32))","v":0},{"$f":"IF(OFFSET('Raw Data'!AC82,Input_Details!$B$34,Input_Details!$B$32)=\"\", \"-\", OFFSET('Raw Data'!AC82,Input_Details!$B$34,Input_Details!$B$32))","v":0},{"$f":"IF(OFFSET('Raw Data'!AD82,Input_Details!$B$34,Input_Details!$B$32)=\"\", \"-\", OFFSET('Raw Data'!AD82,Input_Details!$B$34,Input_Details!$B$32))","v":0},{"$f":"IF(OFFSET('Raw Data'!AE82,Input_Details!$B$34,Input_Details!$B$32)=\"\", \"-\", OFFSET('Raw Data'!AE82,Input_Details!$B$34,Input_Details!$B$32))","v":0},{"$f":"IF(OFFSET('Raw Data'!AF82,Input_Details!$B$34,Input_Details!$B$32)=\"\", \"-\", OFFSET('Raw Data'!AF82,Input_Details!$B$34,Input_Details!$B$32))","v":0},{"$f":"IF(OFFSET('Raw Data'!AG82,Input_Details!$B$34,Input_Details!$B$32)=\"\", \"-\", OFFSET('Raw Data'!AG82,Input_Details!$B$34,Input_Details!$B$32))","v":0},{"$f":"IF(OFFSET('Raw Data'!AH82,Input_Details!$B$34,Input_Details!$B$32)=\"\", \"-\", OFFSET('Raw Data'!AH82,Input_Details!$B$34,Input_Details!$B$32))","v":0},{"$f":"IF(OFFSET('Raw Data'!AI82,Input_Details!$B$34,Input_Details!$B$32)=\"\", \"-\", OFFSET('Raw Data'!AI82,Input_Details!$B$34,Input_Details!$B$32))","v":0},{"$f":"IF(OFFSET('Raw Data'!AJ82,Input_Details!$B$34,Input_Details!$B$32)=\"\", \"-\", OFFSET('Raw Data'!AJ82,Input_Details!$B$34,Input_Details!$B$32))","v":0},{"$f":"IF(OFFSET('Raw Data'!AK82,Input_Details!$B$34,Input_Details!$B$32)=\"\", \"-\", OFFSET('Raw Data'!AK82,Input_Details!$B$34,Input_Details!$B$32))","v":0},{"$f":"IF(OFFSET('Raw Data'!AL82,Input_Details!$B$34,Input_Details!$B$32)=\"\", \"-\", OFFSET('Raw Data'!AL82,Input_Details!$B$34,Input_Details!$B$32))","v":0},{"$f":"IF(OFFSET('Raw Data'!AM82,Input_Details!$B$34,Input_Details!$B$32)=\"\", \"-\", OFFSET('Raw Data'!AM82,Input_Details!$B$34,Input_Details!$B$32))","v":0},null,{"$f":"IF(D104=\"-\",\"-\",OFFSET('Raw Data'!AN82,Input_Details!$B$34,Input_Details!$B$32))","v":14.620000000000001},{"$f":"IF(OFFSET('Raw Data'!AO82,Input_Details!$B$34,Input_Details!$B$32)=\"\", \"-\", OFFSET('Raw Data'!AO82,Input_Details!$B$34,Input_Details!$B$32))","v":"-"},{"$f":"IF(OFFSET('Raw Data'!AP82,Input_Details!$B$34,Input_Details!$B$32)=\"\", \"-\", OFFSET('Raw Data'!AP82,Input_Details!$B$34,Input_Details!$B$32))","v":4.2},{"$f":"IF(OFFSET('Raw Data'!AQ82,Input_Details!$B$34,Input_Details!$B$32)=\"\", \"-\", OFFSET('Raw Data'!AQ82,Input_Details!$B$34,Input_Details!$B$32))","v":20.8},null,{"$f":"IF(Y104=\"-\", \"-\", SUM(OFFSET(D104,0,VLOOKUP(Input_Details!$N$3, $AF$3:$AG$12, 2,0)-1):W104))","v":0.4},6.6666666666666666E-2]
[null,"19:45:00",null,{"$f":"IF(OFFSET('Raw Data'!T83,Input_Details!$B$34,Input_Details!$B$32)=\"\", \"-\", OFFSET('Raw Data'!T83,Input_Details!$B$34,Input_Details!$B$32))","v":1.2},{"$f":"IF(OFFSET('Raw Data'!U83,Input_Details!$B$34,Input_Details!$B$32)=\"\", \"-\", OFFSET('Raw Data'!U83,Input_Details!$B$34,Input_Details!$B$32))","v":4.4000000000000004},{"$f":"IF(OFFSET('Raw Data'!V83,Input_Details!$B$34,Input_Details!$B$32)=\"\", \"-\", OFFSET('Raw Data'!V83,Input_Details!$B$34,Input_Details!$B$32))","v":1.6},{"$f":"IF(OFFSET('Raw Data'!W83,Input_Details!$B$34,Input_Details!$B$32)=\"\", \"-\", OFFSET('Raw Data'!W83,Input_Details!$B$34,Input_Details!$B$32))","v":0.4},{"$f":"IF(OFFSET('Raw Data'!X83,Input_Details!$B$34,Input_Details!$B$32)=\"\", \"-\", OFFSET('Raw Data'!X83,Input_Details!$B$34,Input_Details!$B$32))","v":0},{"$f":"IF(OFFSET('Raw Data'!Y83,Input_Details!$B$34,Input_Details!$B$32)=\"\", \"-\", OFFSET('Raw Data'!Y83,Input_Details!$B$34,Input_Details!$B$32))","v":0},{"$f":"IF(OFFSET('Raw Data'!Z83,Input_Details!$B$34,Input_Details!$B$32)=\"\", \"-\", OFFSET('Raw Data'!Z83,Input_Details!$B$34,Input_Details!$B$32))","v":0},{"$f":"IF(OFFSET('Raw Data'!AA83,Input_Details!$B$34,Input_Details!$B$32)=\"\", \"-\", OFFSET('Raw Data'!AA83,Input_Details!$B$34,Input_Details!$B$32))","v":0},{"$f":"IF(OFFSET('Raw Data'!AB83,Input_Details!$B$34,Input_Details!$B$32)=\"\", \"-\", OFFSET('Raw Data'!AB83,Input_Details!$B$34,Input_Details!$B$32))","v":0},{"$f":"IF(OFFSET('Raw Data'!AC83,Input_Details!$B$34,Input_Details!$B$32)=\"\", \"-\", OFFSET('Raw Data'!AC83,Input_Details!$B$34,Input_Details!$B$32))","v":0},{"$f":"IF(OFFSET('Raw Data'!AD83,Input_Details!$B$34,Input_Details!$B$32)=\"\", \"-\", OFFSET('Raw Data'!AD83,Input_Details!$B$34,Input_Details!$B$32))","v":0},{"$f":"IF(OFFSET('Raw Data'!AE83,Input_Details!$B$34,Input_Details!$B$32)=\"\", \"-\", OFFSET('Raw Data'!AE83,Input_Details!$B$34,Input_Details!$B$32))","v":0},{"$f":"IF(OFFSET('Raw Data'!AF83,Input_Details!$B$34,Input_Details!$B$32)=\"\", \"-\", OFFSET('Raw Data'!AF83,Input_Details!$B$34,Input_Details!$B$32))","v":0},{"$f":"IF(OFFSET('Raw Data'!AG83,Input_Details!$B$34,Input_Details!$B$32)=\"\", \"-\", OFFSET('Raw Data'!AG83,Input_Details!$B$34,Input_Details!$B$32))","v":0},{"$f":"IF(OFFSET('Raw Data'!AH83,Input_Details!$B$34,Input_Details!$B$32)=\"\", \"-\", OFFSET('Raw Data'!AH83,Input_Details!$B$34,Input_Details!$B$32))","v":0},{"$f":"IF(OFFSET('Raw Data'!AI83,Input_Details!$B$34,Input_Details!$B$32)=\"\", \"-\", OFFSET('Raw Data'!AI83,Input_Details!$B$34,Input_Details!$B$32))","v":0},{"$f":"IF(OFFSET('Raw Data'!AJ83,Input_Details!$B$34,Input_Details!$B$32)=\"\", \"-\", OFFSET('Raw Data'!AJ83,Input_Details!$B$34,Input_Details!$B$32))","v":0},{"$f":"IF(OFFSET('Raw Data'!AK83,Input_Details!$B$34,Input_Details!$B$32)=\"\", \"-\", OFFSET('Raw Data'!AK83,Input_Details!$B$34,Input_Details!$B$32))","v":0},{"$f":"IF(OFFSET('Raw Data'!AL83,Input_Details!$B$34,Input_Details!$B$32)=\"\", \"-\", OFFSET('Raw Data'!AL83,Input_Details!$B$34,Input_Details!$B$32))","v":0},{"$f":"IF(OFFSET('Raw Data'!AM83,Input_Details!$B$34,Input_Details!$B$32)=\"\", \"-\", OFFSET('Raw Data'!AM83,Input_Details!$B$34,Input_Details!$B$32))","v":0},null,{"$f":"IF(D105=\"-\",\"-\",OFFSET('Raw Data'!AN83,Input_Details!$B$34,Input_Details!$B$32))","v":13.1},{"$f":"IF(OFFSET('Raw Data'!AO83,Input_Details!$B$34,Input_Details!$B$32)=\"\", \"-\", OFFSET('Raw Data'!AO83,Input_Details!$B$34,Input_Details!$B$32))","v":17.7},{"$f":"IF(OFFSET('Raw Data'!AP83,Input_Details!$B$34,Input_Details!$B$32)=\"\", \"-\", OFFSET('Raw Data'!AP83,Input_Details!$B$34,Input_Details!$B$32))","v":4.5},{"$f":"IF(OFFSET('Raw Data'!AQ83,Input_Details!$B$34,Input_Details!$B$32)=\"\", \"-\", OFFSET('Raw Data'!AQ83,Input_Details!$B$34,Input_Details!$B$32))","v":24.1},null,{"$f":"IF(Y105=\"-\", \"-\", SUM(OFFSET(D105,0,VLOOKUP(Input_Details!$N$3, $AF$3:$AG$12, 2,0)-1):W105))","v":0.4},5.2631578947368411E-2]
[null,"20:00:00",null,{"$f":"IF(OFFSET('Raw Data'!T84,Input_Details!$B$34,Input_Details!$B$32)=\"\", \"-\", OFFSET('Raw Data'!T84,Input_Details!$B$34,Input_Details!$B$32))","v":0.4},{"$f":"IF(OFFSET('Raw Data'!U84,Input_Details!$B$34,Input_Details!$B$32)=\"\", \"-\", OFFSET('Raw Data'!U84,Input_Details!$B$34,Input_Details!$B$32))","v":1.8},{"$f":"IF(OFFSET('Raw Data'!V84,Input_Details!$B$34,Input_Details!$B$32)=\"\", \"-\", OFFSET('Raw Data'!V84,Input_Details!$B$34,Input_Details!$B$32))","v":1.2},{"$f":"IF(OFFSET('Raw Data'!W84,Input_Details!$B$34,Input_Details!$B$32)=\"\", \"-\", OFFSET('Raw Data'!W84,Input_Details!$B$34,Input_Details!$B$32))","v":1},{"$f":"IF(OFFSET('Raw Data'!X84,Input_Details!$B$34,Input_Details!$B$32)=\"\", \"-\", OFFSET('Raw Data'!X84,Input_Details!$B$34,Input_Details!$B$32))","v":0.2},{"$f":"IF(OFFSET('Raw Data'!Y84,Input_Details!$B$34,Input_Details!$B$32)=\"\", \"-\", OFFSET('Raw Data'!Y84,Input_Details!$B$34,Input_Details!$B$32))","v":0},{"$f":"IF(OFFSET('Raw Data'!Z84,Input_Details!$B$34,Input_Details!$B$32)=\"\", \"-\", OFFSET('Raw Data'!Z84,Input_Details!$B$34,Input_Details!$B$32))","v":0},{"$f":"IF(OFFSET('Raw Data'!AA84,Input_Details!$B$34,Input_Details!$B$32)=\"\", \"-\", OFFSET('Raw Data'!AA84,Input_Details!$B$34,Input_Details!$B$32))","v":0},{"$f":"IF(OFFSET('Raw Data'!AB84,Input_Details!$B$34,Input_Details!$B$32)=\"\", \"-\", OFFSET('Raw Data'!AB84,Input_Details!$B$34,Input_Details!$B$32))","v":0},{"$f":"IF(OFFSET('Raw Data'!AC84,Input_Details!$B$34,Input_Details!$B$32)=\"\", \"-\", OFFSET('Raw Data'!AC84,Input_Details!$B$34,Input_Details!$B$32))","v":0},{"$f":"IF(OFFSET('Raw Data'!AD84,Input_Details!$B$34,Input_Details!$B$32)=\"\", \"-\", OFFSET('Raw Data'!AD84,Input_Details!$B$34,Input_Details!$B$32))","v":0},{"$f":"IF(OFFSET('Raw Data'!AE84,Input_Details!$B$34,Input_Details!$B$32)=\"\", \"-\", OFFSET('Raw Data'!AE84,Input_Details!$B$34,Input_Details!$B$32))","v":0},{"$f":"IF(OFFSET('Raw Data'!AF84,Input_Details!$B$34,Input_Details!$B$32)=\"\", \"-\", OFFSET('Raw Data'!AF84,Input_Details!$B$34,Input_Details!$B$32))","v":0},{"$f":"IF(OFFSET('Raw Data'!AG84,Input_Details!$B$34,Input_Details!$B$32)=\"\", \"-\", OFFSET('Raw Data'!AG84,Input_Details!$B$34,Input_Details!$B$32))","v":0},{"$f":"IF(OFFSET('Raw Data'!AH84,Input_Details!$B$34,Input_Details!$B$32)=\"\", \"-\", OFFSET('Raw Data'!AH84,Input_Details!$B$34,Input_Details!$B$32))","v":0},{"$f":"IF(OFFSET('Raw Data'!AI84,Input_Details!$B$34,Input_Details!$B$32)=\"\", \"-\", OFFSET('Raw Data'!AI84,Input_Details!$B$34,Input_Details!$B$32))","v":0},{"$f":"IF(OFFSET('Raw Data'!AJ84,Input_Details!$B$34,Input_Details!$B$32)=\"\", \"-\", OFFSET('Raw Data'!AJ84,Input_Details!$B$34,Input_Details!$B$32))","v":0},{"$f":"IF(OFFSET('Raw Data'!AK84,Input_Details!$B$34,Input_Details!$B$32)=\"\", \"-\", OFFSET('Raw Data'!AK84,Input_Details!$B$34,Input_Details!$B$32))","v":0},{"$f":"IF(OFFSET('Raw Data'!AL84,Input_Details!$B$34,Input_Details!$B$32)=\"\", \"-\", OFFSET('Raw Data'!AL84,Input_Details!$B$34,Input_Details!$B$32))","v":0},{"$f":"IF(OFFSET('Raw Data'!AM84,Input_Details!$B$34,Input_Details!$B$32)=\"\", \"-\", OFFSET('Raw Data'!AM84,Input_Details!$B$34,Input_Details!$B$32))","v":0},null,{"$f":"IF(D106=\"-\",\"-\",OFFSET('Raw Data'!AN84,Input_Details!$B$34,Input_Details!$B$32))","v":16.560000000000002},{"$f":"IF(OFFSET('Raw Data'!AO84,Input_Details!$B$34,Input_Details!$B$32)=\"\", \"-\", OFFSET('Raw Data'!AO84,Input_Details!$B$34,Input_Details!$B$32))","v":"-"},{"$f":"IF(OFFSET('Raw Data'!AP84,Input_Details!$B$34,Input_Details!$B$32)=\"\", \"-\", OFFSET('Raw Data'!AP84,Input_Details!$B$34,Input_Details!$B$32))","v":8.3000000000000007},{"$f":"IF(OFFSET('Raw Data'!AQ84,Input_Details!$B$34,Input_Details!$B$32)=\"\", \"-\", OFFSET('Raw Data'!AQ84,Input_Details!$B$34,Input_Details!$B$32))","v":26.4},null,{"$f":"IF(Y106=\"-\", \"-\", SUM(OFFSET(D106,0,VLOOKUP(Input_Details!$N$3, $AF$3:$AG$12, 2,0)-1):W106))","v":1.2},0.26086956521739124]
[null,"20:15:00",null,{"$f":"IF(OFFSET('Raw Data'!T85,Input_Details!$B$34,Input_Details!$B$32)=\"\", \"-\", OFFSET('Raw Data'!T85,Input_Details!$B$34,Input_Details!$B$32))","v":1.2},{"$f":"IF(OFFSET('Raw Data'!U85,Input_Details!$B$34,Input_Details!$B$32)=\"\", \"-\", OFFSET('Raw Data'!U85,Input_Details!$B$34,Input_Details!$B$32))","v":2.8},{"$f":"IF(OFFSET('Raw Data'!V85,Input_Details!$B$34,Input_Details!$B$32)=\"\", \"-\", OFFSET('Raw Data'!V85,Input_Details!$B$34,Input_Details!$B$32))","v":0.6},{"$f":"IF(OFFSET('Raw Data'!W85,Input_Details!$B$34,Input_Details!$B$32)=\"\", \"-\", OFFSET('Raw Data'!W85,Input_Details!$B$34,Input_Details!$B$32))","v":0.8},{"$f":"IF(OFFSET('Raw Data'!X85,Input_Details!$B$34,Input_Details!$B$32)=\"\", \"-\", OFFSET('Raw Data'!X85,Input_Details!$B$34,Input_Details!$B$32))","v":0},{"$f":"IF(OFFSET('Raw Data'!Y85,Input_Details!$B$34,Input_Details!$B$32)=\"\", \"-\", OFFSET('Raw Data'!Y85,Input_Details!$B$34,Input_Details!$B$32))","v":0},{"$f":"IF(OFFSET('Raw Data'!Z85,Input_Details!$B$34,Input_Details!$B$32)=\"\", \"-\", OFFSET('Raw Data'!Z85,Input_Details!$B$34,Input_Details!$B$32))","v":0},{"$f":"IF(OFFSET('Raw Data'!AA85,Input_Details!$B$34,Input_Details!$B$32)=\"\", \"-\", OFFSET('Raw Data'!AA85,Input_Details!$B$34,Input_Details!$B$32))","v":0},{"$f":"IF(OFFSET('Raw Data'!AB85,Input_Details!$B$34,Input_Details!$B$32)=\"\", \"-\", OFFSET('Raw Data'!AB85,Input_Details!$B$34,Input_Details!$B$32))","v":0},{"$f":"IF(OFFSET('Raw Data'!AC85,Input_Details!$B$34,Input_Details!$B$32)=\"\", \"-\", OFFSET('Raw Data'!AC85,Input_Details!$B$34,Input_Details!$B$32))","v":0},{"$f":"IF(OFFSET('Raw Data'!AD85,Input_Details!$B$34,Input_Details!$B$32)=\"\", \"-\", OFFSET('Raw Data'!AD85,Input_Details!$B$34,Input_Details!$B$32))","v":0},{"$f":"IF(OFFSET('Raw Data'!AE85,Input_Details!$B$34,Input_Details!$B$32)=\"\", \"-\", OFFSET('Raw Data'!AE85,Input_Details!$B$34,Input_Details!$B$32))","v":0},{"$f":"IF(OFFSET('Raw Data'!AF85,Input_Details!$B$34,Input_Details!$B$32)=\"\", \"-\", OFFSET('Raw Data'!AF85,Input_Details!$B$34,Input_Details!$B$32))","v":0},{"$f":"IF(OFFSET('Raw Data'!AG85,Input_Details!$B$34,Input_Details!$B$32)=\"\", \"-\", OFFSET('Raw Data'!AG85,Input_Details!$B$34,Input_Details!$B$32))","v":0},{"$f":"IF(OFFSET('Raw Data'!AH85,Input_Details!$B$34,Input_Details!$B$32)=\"\", \"-\", OFFSET('Raw Data'!AH85,Input_Details!$B$34,Input_Details!$B$32))","v":0},{"$f":"IF(OFFSET('Raw Data'!AI85,Input_Details!$B$34,Input_Details!$B$32)=\"\", \"-\", OFFSET('Raw Data'!AI85,Input_Details!$B$34,Input_Details!$B$32))","v":0},{"$f":"IF(OFFSET('Raw Data'!AJ85,Input_Details!$B$34,Input_Details!$B$32)=\"\", \"-\", OFFSET('Raw Data'!AJ85,Input_Details!$B$34,Input_Details!$B$32))","v":0},{"$f":"IF(OFFSET('Raw Data'!AK85,Input_Details!$B$34,Input_Details!$B$32)=\"\", \"-\", OFFSET('Raw Data'!AK85,Input_Details!$B$34,Input_Details!$B$32))","v":0},{"$f":"IF(OFFSET('Raw Data'!AL85,Input_Details!$B$34,Input_Details!$B$32)=\"\", \"-\", OFFSET('Raw Data'!AL85,Input_Details!$B$34,Input_Details!$B$32))","v":0},{"$f":"IF(OFFSET('Raw Data'!AM85,Input_Details!$B$34,Input_Details!$B$32)=\"\", \"-\", OFFSET('Raw Data'!AM85,Input_Details!$B$34,Input_Details!$B$32))","v":0},null,{"$f":"IF(D107=\"-\",\"-\",OFFSET('Raw Data'!AN85,Input_Details!$B$34,Input_Details!$B$32))","v":13.48},{"$f":"IF(OFFSET('Raw Data'!AO85,Input_Details!$B$34,Input_Details!$B$32)=\"\", \"-\", OFFSET('Raw Data'!AO85,Input_Details!$B$34,Input_Details!$B$32))","v":"-"},{"$f":"IF(OFFSET('Raw Data'!AP85,Input_Details!$B$34,Input_Details!$B$32)=\"\", \"-\", OFFSET('Raw Data'!AP85,Input_Details!$B$34,Input_Details!$B$32))","v":4.0999999999999996},{"$f":"IF(OFFSET('Raw Data'!AQ85,Input_Details!$B$34,Input_Details!$B$32)=\"\", \"-\", OFFSET('Raw Data'!AQ85,Input_Details!$B$34,Input_Details!$B$32))","v":22.1},null,{"$f":"IF(Y107=\"-\", \"-\", SUM(OFFSET(D107,0,VLOOKUP(Input_Details!$N$3, $AF$3:$AG$12, 2,0)-1):W107))","v":0.8},0.14814814814814817]
[null,"20:30:00",null,{"$f":"IF(OFFSET('Raw Data'!T86,Input_Details!$B$34,Input_Details!$B$32)=\"\", \"-\", OFFSET('Raw Data'!T86,Input_Details!$B$34,Input_Details!$B$32))","v":0.6},{"$f":"IF(OFFSET('Raw Data'!U86,Input_Details!$B$34,Input_Details!$B$32)=\"\", \"-\", OFFSET('Raw Data'!U86,Input_Details!$B$34,Input_Details!$B$32))","v":1.2},{"$f":"IF(OFFSET('Raw Data'!V86,Input_Details!$B$34,Input_Details!$B$32)=\"\", \"-\", OFFSET('Raw Data'!V86,Input_Details!$B$34,Input_Details!$B$32))","v":1.6},{"$f":"IF(OFFSET('Raw Data'!W86,Input_Details!$B$34,Input_Details!$B$32)=\"\", \"-\", OFFSET('Raw Data'!W86,Input_Details!$B$34,Input_Details!$B$32))","v":0.8},{"$f":"IF(OFFSET('Raw Data'!X86,Input_Details!$B$34,Input_Details!$B$32)=\"\", \"-\", OFFSET('Raw Data'!X86,Input_Details!$B$34,Input_Details!$B$32))","v":0},{"$f":"IF(OFFSET('Raw Data'!Y86,Input_Details!$B$34,Input_Details!$B$32)=\"\", \"-\", OFFSET('Raw Data'!Y86,Input_Details!$B$34,Input_Details!$B$32))","v":0},{"$f":"IF(OFFSET('Raw Data'!Z86,Input_Details!$B$34,Input_Details!$B$32)=\"\", \"-\", OFFSET('Raw Data'!Z86,Input_Details!$B$34,Input_Details!$B$32))","v":0},{"$f":"IF(OFFSET('Raw Data'!AA86,Input_Details!$B$34,Input_Details!$B$32)=\"\", \"-\", OFFSET('Raw Data'!AA86,Input_Details!$B$34,Input_Details!$B$32))","v":0},{"$f":"IF(OFFSET('Raw Data'!AB86,Input_Details!$B$34,Input_Details!$B$32)=\"\", \"-\", OFFSET('Raw Data'!AB86,Input_Details!$B$34,Input_Details!$B$32))","v":0},{"$f":"IF(OFFSET('Raw Data'!AC86,Input_Details!$B$34,Input_Details!$B$32)=\"\", \"-\", OFFSET('Raw Data'!AC86,Input_Details!$B$34,Input_Details!$B$32))","v":0},{"$f":"IF(OFFSET('Raw Data'!AD86,Input_Details!$B$34,Input_Details!$B$32)=\"\", \"-\", OFFSET('Raw Data'!AD86,Input_Details!$B$34,Input_Details!$B$32))","v":0},{"$f":"IF(OFFSET('Raw Data'!AE86,Input_Details!$B$34,Input_Details!$B$32)=\"\", \"-\", OFFSET('Raw Data'!AE86,Input_Details!$B$34,Input_Details!$B$32))","v":0},{"$f":"IF(OFFSET('Raw Data'!AF86,Input_Details!$B$34,Input_Details!$B$32)=\"\", \"-\", OFFSET('Raw Data'!AF86,Input_Details!$B$34,Input_Details!$B$32))","v":0},{"$f":"IF(OFFSET('Raw Data'!AG86,Input_Details!$B$34,Input_Details!$B$32)=\"\", \"-\", OFFSET('Raw Data'!AG86,Input_Details!$B$34,Input_Details!$B$32))","v":0},{"$f":"IF(OFFSET('Raw Data'!AH86,Input_Details!$B$34,Input_Details!$B$32)=\"\", \"-\", OFFSET('Raw Data'!AH86,Input_Details!$B$34,Input_Details!$B$32))","v":0},{"$f":"IF(OFFSET('Raw Data'!AI86,Input_Details!$B$34,Input_Details!$B$32)=\"\", \"-\", OFFSET('Raw Data'!AI86,Input_Details!$B$34,Input_Details!$B$32))","v":0},{"$f":"IF(OFFSET('Raw Data'!AJ86,Input_Details!$B$34,Input_Details!$B$32)=\"\", \"-\", OFFSET('Raw Data'!AJ86,Input_Details!$B$34,Input_Details!$B$32))","v":0},{"$f":"IF(OFFSET('Raw Data'!AK86,Input_Details!$B$34,Input_Details!$B$32)=\"\", \"-\", OFFSET('Raw Data'!AK86,Input_Details!$B$34,Input_Details!$B$32))","v":0},{"$f":"IF(OFFSET('Raw Data'!AL86,Input_Details!$B$34,Input_Details!$B$32)=\"\", \"-\", OFFSET('Raw Data'!AL86,Input_Details!$B$34,Input_Details!$B$32))","v":0},{"$f":"IF(OFFSET('Raw Data'!AM86,Input_Details!$B$34,Input_Details!$B$32)=\"\", \"-\", OFFSET('Raw Data'!AM86,Input_Details!$B$34,Input_Details!$B$32))","v":0},null,{"$f":"IF(D108=\"-\",\"-\",OFFSET('Raw Data'!AN86,Input_Details!$B$34,Input_Details!$B$32))","v":15.16},{"$f":"IF(OFFSET('Raw Data'!AO86,Input_Details!$B$34,Input_Details!$B$32)=\"\", \"-\", OFFSET('Raw Data'!AO86,Input_Details!$B$34,Input_Details!$B$32))","v":"-"},{"$f":"IF(OFFSET('Raw Data'!AP86,Input_Details!$B$34,Input_Details!$B$32)=\"\", \"-\", OFFSET('Raw Data'!AP86,Input_Details!$B$34,Input_Details!$B$32))","v":8.1},{"$f":"IF(OFFSET('Raw Data'!AQ86,Input_Details!$B$34,Input_Details!$B$32)=\"\", \"-\", OFFSET('Raw Data'!AQ86,Input_Details!$B$34,Input_Details!$B$32))","v":23.6},null,{"$f":"IF(Y108=\"-\", \"-\", SUM(OFFSET(D108,0,VLOOKUP(Input_Details!$N$3, $AF$3:$AG$12, 2,0)-1):W108))","v":0.8},0.19047619047619047]
[null,"20:45:00",null,{"$f":"IF(OFFSET('Raw Data'!T87,Input_Details!$B$34,Input_Details!$B$32)=\"\", \"-\", OFFSET('Raw Data'!T87,Input_Details!$B$34,Input_Details!$B$32))","v":0.2},{"$f":"IF(OFFSET('Raw Data'!U87,Input_Details!$B$34,Input_Details!$B$32)=\"\", \"-\", OFFSET('Raw Data'!U87,Input_Details!$B$34,Input_Details!$B$32))","v":2},{"$f":"IF(OFFSET('Raw Data'!V87,Input_Details!$B$34,Input_Details!$B$32)=\"\", \"-\", OFFSET('Raw Data'!V87,Input_Details!$B$34,Input_Details!$B$32))","v":1.2},{"$f":"IF(OFFSET('Raw Data'!W87,Input_Details!$B$34,Input_Details!$B$32)=\"\", \"-\", OFFSET('Raw Data'!W87,Input_Details!$B$34,Input_Details!$B$32))","v":0.4},{"$f":"IF(OFFSET('Raw Data'!X87,Input_Details!$B$34,Input_Details!$B$32)=\"\", \"-\", OFFSET('Raw Data'!X87,Input_Details!$B$34,Input_Details!$B$32))","v":0.4},{"$f":"IF(OFFSET('Raw Data'!Y87,Input_Details!$B$34,Input_Details!$B$32)=\"\", \"-\", OFFSET('Raw Data'!Y87,Input_Details!$B$34,Input_Details!$B$32))","v":0},{"$f":"IF(OFFSET('Raw Data'!Z87,Input_Details!$B$34,Input_Details!$B$32)=\"\", \"-\", OFFSET('Raw Data'!Z87,Input_Details!$B$34,Input_Details!$B$32))","v":0},{"$f":"IF(OFFSET('Raw Data'!AA87,Input_Details!$B$34,Input_Details!$B$32)=\"\", \"-\", OFFSET('Raw Data'!AA87,Input_Details!$B$34,Input_Details!$B$32))","v":0},{"$f":"IF(OFFSET('Raw Data'!AB87,Input_Details!$B$34,Input_Details!$B$32)=\"\", \"-\", OFFSET('Raw Data'!AB87,Input_Details!$B$34,Input_Details!$B$32))","v":0},{"$f":"IF(OFFSET('Raw Data'!AC87,Input_Details!$B$34,Input_Details!$B$32)=\"\", \"-\", OFFSET('Raw Data'!AC87,Input_Details!$B$34,Input_Details!$B$32))","v":0},{"$f":"IF(OFFSET('Raw Data'!AD87,Input_Details!$B$34,Input_Details!$B$32)=\"\", \"-\", OFFSET('Raw Data'!AD87,Input_Details!$B$34,Input_Details!$B$32))","v":0},{"$f":"IF(OFFSET('Raw Data'!AE87,Input_Details!$B$34,Input_Details!$B$32)=\"\", \"-\", OFFSET('Raw Data'!AE87,Input_Details!$B$34,Input_Details!$B$32))","v":0},{"$f":"IF(OFFSET('Raw Data'!AF87,Input_Details!$B$34,Input_Details!$B$32)=\"\", \"-\", OFFSET('Raw Data'!AF87,Input_Details!$B$34,Input_Details!$B$32))","v":0},{"$f":"IF(OFFSET('Raw Data'!AG87,Input_Details!$B$34,Input_Details!$B$32)=\"\", \"-\", OFFSET('Raw Data'!AG87,Input_Details!$B$34,Input_Details!$B$32))","v":0},{"$f":"IF(OFFSET('Raw Data'!AH87,Input_Details!$B$34,Input_Details!$B$32)=\"\", \"-\", OFFSET('Raw Data'!AH87,Input_Details!$B$34,Input_Details!$B$32))","v":0},{"$f":"IF(OFFSET('Raw Data'!AI87,Input_Details!$B$34,Input_Details!$B$32)=\"\", \"-\", OFFSET('Raw Data'!AI87,Input_Details!$B$34,Input_Details!$B$32))","v":0},{"$f":"IF(OFFSET('Raw Data'!AJ87,Input_Details!$B$34,Input_Details!$B$32)=\"\", \"-\", OFFSET('Raw Data'!AJ87,Input_Details!$B$34,Input_Details!$B$32))","v":0},{"$f":"IF(OFFSET('Raw Data'!AK87,Input_Details!$B$34,Input_Details!$B$32)=\"\", \"-\", OFFSET('Raw Data'!AK87,Input_Details!$B$34,Input_Details!$B$32))","v":0},{"$f":"IF(OFFSET('Raw Data'!AL87,Input_Details!$B$34,Input_Details!$B$32)=\"\", \"-\", OFFSET('Raw Data'!AL87,Input_Details!$B$34,Input_Details!$B$32))","v":0},{"$f":"IF(OFFSET('Raw Data'!AM87,Input_Details!$B$34,Input_Details!$B$32)=\"\", \"-\", OFFSET('Raw Data'!AM87,Input_Details!$B$34,Input_Details!$B$32))","v":0},null,{"$f":"IF(D109=\"-\",\"-\",OFFSET('Raw Data'!AN87,Input_Details!$B$34,Input_Details!$B$32))","v":16.119999999999997},{"$f":"IF(OFFSET('Raw Data'!AO87,Input_Details!$B$34,Input_Details!$B$32)=\"\", \"-\", OFFSET('Raw Data'!AO87,Input_Details!$B$34,Input_Details!$B$32))","v":"-"},{"$f":"IF(OFFSET('Raw Data'!AP87,Input_Details!$B$34,Input_Details!$B$32)=\"\", \"-\", OFFSET('Raw Data'!AP87,Input_Details!$B$34,Input_Details!$B$32))","v":8.6},{"$f":"IF(OFFSET('Raw Data'!AQ87,Input_Details!$B$34,Input_Details!$B$32)=\"\", \"-\", OFFSET('Raw Data'!AQ87,Input_Details!$B$34,Input_Details!$B$32))","v":27.7},null,{"$f":"IF(Y109=\"-\", \"-\", SUM(OFFSET(D109,0,VLOOKUP(Input_Details!$N$3, $AF$3:$AG$12, 2,0)-1):W109))","v":0.8},0.19047619047619047]
[null,"21:00:00",null,{"$f":"IF(OFFSET('Raw Data'!T88,Input_Details!$B$34,Input_Details!$B$32)=\"\", \"-\", OFFSET('Raw Data'!T88,Input_Details!$B$34,Input_Details!$B$32))","v":1.4},{"$f":"IF(OFFSET('Raw Data'!U88,Input_Details!$B$34,Input_Details!$B$32)=\"\", \"-\", OFFSET('Raw Data'!U88,Input_Details!$B$34,Input_Details!$B$32))","v":1.2},{"$f":"IF(OFFSET('Raw Data'!V88,Input_Details!$B$34,Input_Details!$B$32)=\"\", \"-\", OFFSET('Raw Data'!V88,Input_Details!$B$34,Input_Details!$B$32))","v":1},{"$f":"IF(OFFSET('Raw Data'!W88,Input_Details!$B$34,Input_Details!$B$32)=\"\", \"-\", OFFSET('Raw Data'!W88,Input_Details!$B$34,Input_Details!$B$32))","v":1.4},{"$f":"IF(OFFSET('Raw Data'!X88,Input_Details!$B$34,Input_Details!$B$32)=\"\", \"-\", OFFSET('Raw Data'!X88,Input_Details!$B$34,Input_Details!$B$32))","v":0},{"$f":"IF(OFFSET('Raw Data'!Y88,Input_Details!$B$34,Input_Details!$B$32)=\"\", \"-\", OFFSET('Raw Data'!Y88,Input_Details!$B$34,Input_Details!$B$32))","v":0},{"$f":"IF(OFFSET('Raw Data'!Z88,Input_Details!$B$34,Input_Details!$B$32)=\"\", \"-\", OFFSET('Raw Data'!Z88,Input_Details!$B$34,Input_Details!$B$32))","v":0},{"$f":"IF(OFFSET('Raw Data'!AA88,Input_Details!$B$34,Input_Details!$B$32)=\"\", \"-\", OFFSET('Raw Data'!AA88,Input_Details!$B$34,Input_Details!$B$32))","v":0},{"$f":"IF(OFFSET('Raw Data'!AB88,Input_Details!$B$34,Input_Details!$B$32)=\"\", \"-\", OFFSET('Raw Data'!AB88,Input_Details!$B$34,Input_Details!$B$32))","v":0},{"$f":"IF(OFFSET('Raw Data'!AC88,Input_Details!$B$34,Input_Details!$B$32)=\"\", \"-\", OFFSET('Raw Data'!AC88,Input_Details!$B$34,Input_Details!$B$32))","v":0},{"$f":"IF(OFFSET('Raw Data'!AD88,Input_Details!$B$34,Input_Details!$B$32)=\"\", \"-\", OFFSET('Raw Data'!AD88,Input_Details!$B$34,Input_Details!$B$32))","v":0},{"$f":"IF(OFFSET('Raw Data'!AE88,Input_Details!$B$34,Input_Details!$B$32)=\"\", \"-\", OFFSET('Raw Data'!AE88,Input_Details!$B$34,Input_Details!$B$32))","v":0},{"$f":"IF(OFFSET('Raw Data'!AF88,Input_Details!$B$34,Input_Details!$B$32)=\"\", \"-\", OFFSET('Raw Data'!AF88,Input_Details!$B$34,Input_Details!$B$32))","v":0},{"$f":"IF(OFFSET('Raw Data'!AG88,Input_Details!$B$34,Input_Details!$B$32)=\"\", \"-\", OFFSET('Raw Data'!AG88,Input_Details!$B$34,Input_Details!$B$32))","v":0},{"$f":"IF(OFFSET('Raw Data'!AH88,Input_Details!$B$34,Input_Details!$B$32)=\"\", \"-\", OFFSET('Raw Data'!AH88,Input_Details!$B$34,Input_Details!$B$32))","v":0},{"$f":"IF(OFFSET('Raw Data'!AI88,Input_Details!$B$34,Input_Details!$B$32)=\"\", \"-\", OFFSET('Raw Data'!AI88,Input_Details!$B$34,Input_Details!$B$32))","v":0},{"$f":"IF(OFFSET('Raw Data'!AJ88,Input_Details!$B$34,Input_Details!$B$32)=\"\", \"-\", OFFSET('Raw Data'!AJ88,Input_Details!$B$34,Input_Details!$B$32))","v":0},{"$f":"IF(OFFSET('Raw Data'!AK88,Input_Details!$B$34,Input_Details!$B$32)=\"\", \"-\", OFFSET('Raw Data'!AK88,Input_Details!$B$34,Input_Details!$B$32))","v":0},{"$f":"IF(OFFSET('Raw Data'!AL88,Input_Details!$B$34,Input_Details!$B$32)=\"\", \"-\", OFFSET('Raw Data'!AL88,Input_Details!$B$34,Input_Details!$B$32))","v":0},{"$f":"IF(OFFSET('Raw Data'!AM88,Input_Details!$B$34,Input_Details!$B$32)=\"\", \"-\", OFFSET('Raw Data'!AM88,Input_Details!$B$34,Input_Details!$B$32))","v":0},null,{"$f":"IF(D110=\"-\",\"-\",OFFSET('Raw Data'!AN88,Input_Details!$B$34,Input_Details!$B$32))","v":15.539999999999997},{"$f":"IF(OFFSET('Raw Data'!AO88,Input_Details!$B$34,Input_Details!$B$32)=\"\", \"-\", OFFSET('Raw Data'!AO88,Input_Details!$B$34,Input_Details!$B$32))","v":"-"},{"$f":"IF(OFFSET('Raw Data'!AP88,Input_Details!$B$34,Input_Details!$B$32)=\"\", \"-\", OFFSET('Raw Data'!AP88,Input_Details!$B$34,Input_Details!$B$32))","v":7.6},{"$f":"IF(OFFSET('Raw Data'!AQ88,Input_Details!$B$34,Input_Details!$B$32)=\"\", \"-\", OFFSET('Raw Data'!AQ88,Input_Details!$B$34,Input_Details!$B$32))","v":23.6},null,{"$f":"IF(Y110=\"-\", \"-\", SUM(OFFSET(D110,0,VLOOKUP(Input_Details!$N$3, $AF$3:$AG$12, 2,0)-1):W110))","v":1.4},0.27999999999999997]
[null,"21:15:00",null,{"$f":"IF(OFFSET('Raw Data'!T89,Input_Details!$B$34,Input_Details!$B$32)=\"\", \"-\", OFFSET('Raw Data'!T89,Input_Details!$B$34,Input_Details!$B$32))","v":1},{"$f":"IF(OFFSET('Raw Data'!U89,Input_Details!$B$34,Input_Details!$B$32)=\"\", \"-\", OFFSET('Raw Data'!U89,Input_Details!$B$34,Input_Details!$B$32))","v":2.8},{"$f":"IF(OFFSET('Raw Data'!V89,Input_Details!$B$34,Input_Details!$B$32)=\"\", \"-\", OFFSET('Raw Data'!V89,Input_Details!$B$34,Input_Details!$B$32))","v":1.2},{"$f":"IF(OFFSET('Raw Data'!W89,Input_Details!$B$34,Input_Details!$B$32)=\"\", \"-\", OFFSET('Raw Data'!W89,Input_Details!$B$34,Input_Details!$B$32))","v":0.4},{"$f":"IF(OFFSET('Raw Data'!X89,Input_Details!$B$34,Input_Details!$B$32)=\"\", \"-\", OFFSET('Raw Data'!X89,Input_Details!$B$34,Input_Details!$B$32))","v":0},{"$f":"IF(OFFSET('Raw Data'!Y89,Input_Details!$B$34,Input_Details!$B$32)=\"\", \"-\", OFFSET('Raw Data'!Y89,Input_Details!$B$34,Input_Details!$B$32))","v":0},{"$f":"IF(OFFSET('Raw Data'!Z89,Input_Details!$B$34,Input_Details!$B$32)=\"\", \"-\", OFFSET('Raw Data'!Z89,Input_Details!$B$34,Input_Details!$B$32))","v":0},{"$f":"IF(OFFSET('Raw Data'!AA89,Input_Details!$B$34,Input_Details!$B$32)=\"\", \"-\", OFFSET('Raw Data'!AA89,Input_Details!$B$34,Input_Details!$B$32))","v":0},{"$f":"IF(OFFSET('Raw Data'!AB89,Input_Details!$B$34,Input_Details!$B$32)=\"\", \"-\", OFFSET('Raw Data'!AB89,Input_Details!$B$34,Input_Details!$B$32))","v":0},{"$f":"IF(OFFSET('Raw Data'!AC89,Input_Details!$B$34,Input_Details!$B$32)=\"\", \"-\", OFFSET('Raw Data'!AC89,Input_Details!$B$34,Input_Details!$B$32))","v":0},{"$f":"IF(OFFSET('Raw Data'!AD89,Input_Details!$B$34,Input_Details!$B$32)=\"\", \"-\", OFFSET('Raw Data'!AD89,Input_Details!$B$34,Input_Details!$B$32))","v":0},{"$f":"IF(OFFSET('Raw Data'!AE89,Input_Details!$B$34,Input_Details!$B$32)=\"\", \"-\", OFFSET('Raw Data'!AE89,Input_Details!$B$34,Input_Details!$B$32))","v":0},{"$f":"IF(OFFSET('Raw Data'!AF89,Input_Details!$B$34,Input_Details!$B$32)=\"\", \"-\", OFFSET('Raw Data'!AF89,Input_Details!$B$34,Input_Details!$B$32))","v":0},{"$f":"IF(OFFSET('Raw Data'!AG89,Input_Details!$B$34,Input_Details!$B$32)=\"\", \"-\", OFFSET('Raw Data'!AG89,Input_Details!$B$34,Input_Details!$B$32))","v":0},{"$f":"IF(OFFSET('Raw Data'!AH89,Input_Details!$B$34,Input_Details!$B$32)=\"\", \"-\", OFFSET('Raw Data'!AH89,Input_Details!$B$34,Input_Details!$B$32))","v":0},{"$f":"IF(OFFSET('Raw Data'!AI89,Input_Details!$B$34,Input_Details!$B$32)=\"\", \"-\", OFFSET('Raw Data'!AI89,Input_Details!$B$34,Input_Details!$B$32))","v":0},{"$f":"IF(OFFSET('Raw Data'!AJ89,Input_Details!$B$34,Input_Details!$B$32)=\"\", \"-\", OFFSET('Raw Data'!AJ89,Input_Details!$B$34,Input_Details!$B$32))","v":0},{"$f":"IF(OFFSET('Raw Data'!AK89,Input_Details!$B$34,Input_Details!$B$32)=\"\", \"-\", OFFSET('Raw Data'!AK89,Input_Details!$B$34,Input_Details!$B$32))","v":0},{"$f":"IF(OFFSET('Raw Data'!AL89,Input_Details!$B$34,Input_Details!$B$32)=\"\", \"-\", OFFSET('Raw Data'!AL89,Input_Details!$B$34,Input_Details!$B$32))","v":0},{"$f":"IF(OFFSET('Raw Data'!AM89,Input_Details!$B$34,Input_Details!$B$32)=\"\", \"-\", OFFSET('Raw Data'!AM89,Input_Details!$B$34,Input_Details!$B$32))","v":0},null,{"$f":"IF(D111=\"-\",\"-\",OFFSET('Raw Data'!AN89,Input_Details!$B$34,Input_Details!$B$32))","v":12.36},{"$f":"IF(OFFSET('Raw Data'!AO89,Input_Details!$B$34,Input_Details!$B$32)=\"\", \"-\", OFFSET('Raw Data'!AO89,Input_Details!$B$34,Input_Details!$B$32))","v":"-"},{"$f":"IF(OFFSET('Raw Data'!AP89,Input_Details!$B$34,Input_Details!$B$32)=\"\", \"-\", OFFSET('Raw Data'!AP89,Input_Details!$B$34,Input_Details!$B$32))","v":4.0999999999999996},{"$f":"IF(OFFSET('Raw Data'!AQ89,Input_Details!$B$34,Input_Details!$B$32)=\"\", \"-\", OFFSET('Raw Data'!AQ89,Input_Details!$B$34,Input_Details!$B$32))","v":21.5},null,{"$f":"IF(Y111=\"-\", \"-\", SUM(OFFSET(D111,0,VLOOKUP(Input_Details!$N$3, $AF$3:$AG$12, 2,0)-1):W111))","v":0.4},7.407407407407407E-2]
[null,"21:30:00",null,{"$f":"IF(OFFSET('Raw Data'!T90,Input_Details!$B$34,Input_Details!$B$32)=\"\", \"-\", OFFSET('Raw Data'!T90,Input_Details!$B$34,Input_Details!$B$32))","v":0.6},{"$f":"IF(OFFSET('Raw Data'!U90,Input_Details!$B$34,Input_Details!$B$32)=\"\", \"-\", OFFSET('Raw Data'!U90,Input_Details!$B$34,Input_Details!$B$32))","v":2},{"$f":"IF(OFFSET('Raw Data'!V90,Input_Details!$B$34,Input_Details!$B$32)=\"\", \"-\", OFFSET('Raw Data'!V90,Input_Details!$B$34,Input_Details!$B$32))","v":0.6},{"$f":"IF(OFFSET('Raw Data'!W90,Input_Details!$B$34,Input_Details!$B$32)=\"\", \"-\", OFFSET('Raw Data'!W90,Input_Details!$B$34,Input_Details!$B$32))","v":0.2},{"$f":"IF(OFFSET('Raw Data'!X90,Input_Details!$B$34,Input_Details!$B$32)=\"\", \"-\", OFFSET('Raw Data'!X90,Input_Details!$B$34,Input_Details!$B$32))","v":0},{"$f":"IF(OFFSET('Raw Data'!Y90,Input_Details!$B$34,Input_Details!$B$32)=\"\", \"-\", OFFSET('Raw Data'!Y90,Input_Details!$B$34,Input_Details!$B$32))","v":0},{"$f":"IF(OFFSET('Raw Data'!Z90,Input_Details!$B$34,Input_Details!$B$32)=\"\", \"-\", OFFSET('Raw Data'!Z90,Input_Details!$B$34,Input_Details!$B$32))","v":0},{"$f":"IF(OFFSET('Raw Data'!AA90,Input_Details!$B$34,Input_Details!$B$32)=\"\", \"-\", OFFSET('Raw Data'!AA90,Input_Details!$B$34,Input_Details!$B$32))","v":0},{"$f":"IF(OFFSET('Raw Data'!AB90,Input_Details!$B$34,Input_Details!$B$32)=\"\", \"-\", OFFSET('Raw Data'!AB90,Input_Details!$B$34,Input_Details!$B$32))","v":0},{"$f":"IF(OFFSET('Raw Data'!AC90,Input_Details!$B$34,Input_Details!$B$32)=\"\", \"-\", OFFSET('Raw Data'!AC90,Input_Details!$B$34,Input_Details!$B$32))","v":0},{"$f":"IF(OFFSET('Raw Data'!AD90,Input_Details!$B$34,Input_Details!$B$32)=\"\", \"-\", OFFSET('Raw Data'!AD90,Input_Details!$B$34,Input_Details!$B$32))","v":0},{"$f":"IF(OFFSET('Raw Data'!AE90,Input_Details!$B$34,Input_Details!$B$32)=\"\", \"-\", OFFSET('Raw Data'!AE90,Input_Details!$B$34,Input_Details!$B$32))","v":0},{"$f":"IF(OFFSET('Raw Data'!AF90,Input_Details!$B$34,Input_Details!$B$32)=\"\", \"-\", OFFSET('Raw Data'!AF90,Input_Details!$B$34,Input_Details!$B$32))","v":0},{"$f":"IF(OFFSET('Raw Data'!AG90,Input_Details!$B$34,Input_Details!$B$32)=\"\", \"-\", OFFSET('Raw Data'!AG90,Input_Details!$B$34,Input_Details!$B$32))","v":0},{"$f":"IF(OFFSET('Raw Data'!AH90,Input_Details!$B$34,Input_Details!$B$32)=\"\", \"-\", OFFSET('Raw Data'!AH90,Input_Details!$B$34,Input_Details!$B$32))","v":0},{"$f":"IF(OFFSET('Raw Data'!AI90,Input_Details!$B$34,Input_Details!$B$32)=\"\", \"-\", OFFSET('Raw Data'!AI90,Input_Details!$B$34,Input_Details!$B$32))","v":0},{"$f":"IF(OFFSET('Raw Data'!AJ90,Input_Details!$B$34,Input_Details!$B$32)=\"\", \"-\", OFFSET('Raw Data'!AJ90,Input_Details!$B$34,Input_Details!$B$32))","v":0},{"$f":"IF(OFFSET('Raw Data'!AK90,Input_Details!$B$34,Input_Details!$B$32)=\"\", \"-\", OFFSET('Raw Data'!AK90,Input_Details!$B$34,Input_Details!$B$32))","v":0},{"$f":"IF(OFFSET('Raw Data'!AL90,Input_Details!$B$34,Input_Details!$B$32)=\"\", \"-\", OFFSET('Raw Data'!AL90,Input_Details!$B$34,Input_Details!$B$32))","v":0},{"$f":"IF(OFFSET('Raw Data'!AM90,Input_Details!$B$34,Input_Details!$B$32)=\"\", \"-\", OFFSET('Raw Data'!AM90,Input_Details!$B$34,Input_Details!$B$32))","v":0},null,{"$f":"IF(D112=\"-\",\"-\",OFFSET('Raw Data'!AN90,Input_Details!$B$34,Input_Details!$B$32))","v":13.540000000000001},{"$f":"IF(OFFSET('Raw Data'!AO90,Input_Details!$B$34,Input_Details!$B$32)=\"\", \"-\", OFFSET('Raw Data'!AO90,Input_Details!$B$34,Input_Details!$B$32))","v":"-"},{"$f":"IF(OFFSET('Raw Data'!AP90,Input_Details!$B$34,Input_Details!$B$32)=\"\", \"-\", OFFSET('Raw Data'!AP90,Input_Details!$B$34,Input_Details!$B$32))","v":8.4},{"$f":"IF(OFFSET('Raw Data'!AQ90,Input_Details!$B$34,Input_Details!$B$32)=\"\", \"-\", OFFSET('Raw Data'!AQ90,Input_Details!$B$34,Input_Details!$B$32))","v":23.2},null,{"$f":"IF(Y112=\"-\", \"-\", SUM(OFFSET(D112,0,VLOOKUP(Input_Details!$N$3, $AF$3:$AG$12, 2,0)-1):W112))","v":0.2},5.8823529411764705E-2]
[null,"21:45:00",null,{"$f":"IF(OFFSET('Raw Data'!T91,Input_Details!$B$34,Input_Details!$B$32)=\"\", \"-\", OFFSET('Raw Data'!T91,Input_Details!$B$34,Input_Details!$B$32))","v":0.8},{"$f":"IF(OFFSET('Raw Data'!U91,Input_Details!$B$34,Input_Details!$B$32)=\"\", \"-\", OFFSET('Raw Data'!U91,Input_Details!$B$34,Input_Details!$B$32))","v":1.4},{"$f":"IF(OFFSET('Raw Data'!V91,Input_Details!$B$34,Input_Details!$B$32)=\"\", \"-\", OFFSET('Raw Data'!V91,Input_Details!$B$34,Input_Details!$B$32))","v":2.2000000000000002},{"$f":"IF(OFFSET('Raw Data'!W91,Input_Details!$B$34,Input_Details!$B$32)=\"\", \"-\", OFFSET('Raw Data'!W91,Input_Details!$B$34,Input_Details!$B$32))","v":0},{"$f":"IF(OFFSET('Raw Data'!X91,Input_Details!$B$34,Input_Details!$B$32)=\"\", \"-\", OFFSET('Raw Data'!X91,Input_Details!$B$34,Input_Details!$B$32))","v":0},{"$f":"IF(OFFSET('Raw Data'!Y91,Input_Details!$B$34,Input_Details!$B$32)=\"\", \"-\", OFFSET('Raw Data'!Y91,Input_Details!$B$34,Input_Details!$B$32))","v":0},{"$f":"IF(OFFSET('Raw Data'!Z91,Input_Details!$B$34,Input_Details!$B$32)=\"\", \"-\", OFFSET('Raw Data'!Z91,Input_Details!$B$34,Input_Details!$B$32))","v":0},{"$f":"IF(OFFSET('Raw Data'!AA91,Input_Details!$B$34,Input_Details!$B$32)=\"\", \"-\", OFFSET('Raw Data'!AA91,Input_Details!$B$34,Input_Details!$B$32))","v":0},{"$f":"IF(OFFSET('Raw Data'!AB91,Input_Details!$B$34,Input_Details!$B$32)=\"\", \"-\", OFFSET('Raw Data'!AB91,Input_Details!$B$34,Input_Details!$B$32))","v":0},{"$f":"IF(OFFSET('Raw Data'!AC91,Input_Details!$B$34,Input_Details!$B$32)=\"\", \"-\", OFFSET('Raw Data'!AC91,Input_Details!$B$34,Input_Details!$B$32))","v":0},{"$f":"IF(OFFSET('Raw Data'!AD91,Input_Details!$B$34,Input_Details!$B$32)=\"\", \"-\", OFFSET('Raw Data'!AD91,Input_Details!$B$34,Input_Details!$B$32))","v":0},{"$f":"IF(OFFSET('Raw Data'!AE91,Input_Details!$B$34,Input_Details!$B$32)=\"\", \"-\", OFFSET('Raw Data'!AE91,Input_Details!$B$34,Input_Details!$B$32))","v":0},{"$f":"IF(OFFSET('Raw Data'!AF91,Input_Details!$B$34,Input_Details!$B$32)=\"\", \"-\", OFFSET('Raw Data'!AF91,Input_Details!$B$34,Input_Details!$B$32))","v":0},{"$f":"IF(OFFSET('Raw Data'!AG91,Input_Details!$B$34,Input_Details!$B$32)=\"\", \"-\", OFFSET('Raw Data'!AG91,Input_Details!$B$34,Input_Details!$B$32))","v":0},{"$f":"IF(OFFSET('Raw Data'!AH91,Input_Details!$B$34,Input_Details!$B$32)=\"\", \"-\", OFFSET('Raw Data'!AH91,Input_Details!$B$34,Input_Details!$B$32))","v":0},{"$f":"IF(OFFSET('Raw Data'!AI91,Input_Details!$B$34,Input_Details!$B$32)=\"\", \"-\", OFFSET('Raw Data'!AI91,Input_Details!$B$34,Input_Details!$B$32))","v":0},{"$f":"IF(OFFSET('Raw Data'!AJ91,Input_Details!$B$34,Input_Details!$B$32)=\"\", \"-\", OFFSET('Raw Data'!AJ91,Input_Details!$B$34,Input_Details!$B$32))","v":0},{"$f":"IF(OFFSET('Raw Data'!AK91,Input_Details!$B$34,Input_Details!$B$32)=\"\", \"-\", OFFSET('Raw Data'!AK91,Input_Details!$B$34,Input_Details!$B$32))","v":0},{"$f":"IF(OFFSET('Raw Data'!AL91,Input_Details!$B$34,Input_Details!$B$32)=\"\", \"-\", OFFSET('Raw Data'!AL91,Input_Details!$B$34,Input_Details!$B$32))","v":0},{"$f":"IF(OFFSET('Raw Data'!AM91,Input_Details!$B$34,Input_Details!$B$32)=\"\", \"-\", OFFSET('Raw Data'!AM91,Input_Details!$B$34,Input_Details!$B$32))","v":0},null,{"$f":"IF(D113=\"-\",\"-\",OFFSET('Raw Data'!AN91,Input_Details!$B$34,Input_Details!$B$32))","v":15.1},{"$f":"IF(OFFSET('Raw Data'!AO91,Input_Details!$B$34,Input_Details!$B$32)=\"\", \"-\", OFFSET('Raw Data'!AO91,Input_Details!$B$34,Input_Details!$B$32))","v":"-"},{"$f":"IF(OFFSET('Raw Data'!AP91,Input_Details!$B$34,Input_Details!$B$32)=\"\", \"-\", OFFSET('Raw Data'!AP91,Input_Details!$B$34,Input_Details!$B$32))","v":3.4},{"$f":"IF(OFFSET('Raw Data'!AQ91,Input_Details!$B$34,Input_Details!$B$32)=\"\", \"-\", OFFSET('Raw Data'!AQ91,Input_Details!$B$34,Input_Details!$B$32))","v":18.7},null,{"$f":"IF(Y113=\"-\", \"-\", SUM(OFFSET(D113,0,VLOOKUP(Input_Details!$N$3, $AF$3:$AG$12, 2,0)-1):W113))","v":0},0]
[null,"22:00:00",null,{"$f":"IF(OFFSET('Raw Data'!T92,Input_Details!$B$34,Input_Details!$B$32)=\"\", \"-\", OFFSET('Raw Data'!T92,Input_Details!$B$34,Input_Details!$B$32))","v":0},{"$f":"IF(OFFSET('Raw Data'!U92,Input_Details!$B$34,Input_Details!$B$32)=\"\", \"-\", OFFSET('Raw Data'!U92,Input_Details!$B$34,Input_Details!$B$32))","v":1.2},{"$f":"IF(OFFSET('Raw Data'!V92,Input_Details!$B$34,Input_Details!$B$32)=\"\", \"-\", OFFSET('Raw Data'!V92,Input_Details!$B$34,Input_Details!$B$32))","v":1.2},{"$f":"IF(OFFSET('Raw Data'!W92,Input_Details!$B$34,Input_Details!$B$32)=\"\", \"-\", OFFSET('Raw Data'!W92,Input_Details!$B$34,Input_Details!$B$32))","v":0.4},{"$f":"IF(OFFSET('Raw Data'!X92,Input_Details!$B$34,Input_Details!$B$32)=\"\", \"-\", OFFSET('Raw Data'!X92,Input_Details!$B$34,Input_Details!$B$32))","v":0},{"$f":"IF(OFFSET('Raw Data'!Y92,Input_Details!$B$34,Input_Details!$B$32)=\"\", \"-\", OFFSET('Raw Data'!Y92,Input_Details!$B$34,Input_Details!$B$32))","v":0},{"$f":"IF(OFFSET('Raw Data'!Z92,Input_Details!$B$34,Input_Details!$B$32)=\"\", \"-\", OFFSET('Raw Data'!Z92,Input_Details!$B$34,Input_Details!$B$32))","v":0},{"$f":"IF(OFFSET('Raw Data'!AA92,Input_Details!$B$34,Input_Details!$B$32)=\"\", \"-\", OFFSET('Raw Data'!AA92,Input_Details!$B$34,Input_Details!$B$32))","v":0},{"$f":"IF(OFFSET('Raw Data'!AB92,Input_Details!$B$34,Input_Details!$B$32)=\"\", \"-\", OFFSET('Raw Data'!AB92,Input_Details!$B$34,Input_Details!$B$32))","v":0},{"$f":"IF(OFFSET('Raw Data'!AC92,Input_Details!$B$34,Input_Details!$B$32)=\"\", \"-\", OFFSET('Raw Data'!AC92,Input_Details!$B$34,Input_Details!$B$32))","v":0},{"$f":"IF(OFFSET('Raw Data'!AD92,Input_Details!$B$34,Input_Details!$B$32)=\"\", \"-\", OFFSET('Raw Data'!AD92,Input_Details!$B$34,Input_Details!$B$32))","v":0},{"$f":"IF(OFFSET('Raw Data'!AE92,Input_Details!$B$34,Input_Details!$B$32)=\"\", \"-\", OFFSET('Raw Data'!AE92,Input_Details!$B$34,Input_Details!$B$32))","v":0},{"$f":"IF(OFFSET('Raw Data'!AF92,Input_Details!$B$34,Input_Details!$B$32)=\"\", \"-\", OFFSET('Raw Data'!AF92,Input_Details!$B$34,Input_Details!$B$32))","v":0},{"$f":"IF(OFFSET('Raw Data'!AG92,Input_Details!$B$34,Input_Details!$B$32)=\"\", \"-\", OFFSET('Raw Data'!AG92,Input_Details!$B$34,Input_Details!$B$32))","v":0},{"$f":"IF(OFFSET('Raw Data'!AH92,Input_Details!$B$34,Input_Details!$B$32)=\"\", \"-\", OFFSET('Raw Data'!AH92,Input_Details!$B$34,Input_Details!$B$32))","v":0},{"$f":"IF(OFFSET('Raw Data'!AI92,Input_Details!$B$34,Input_Details!$B$32)=\"\", \"-\", OFFSET('Raw Data'!AI92,Input_Details!$B$34,Input_Details!$B$32))","v":0},{"$f":"IF(OFFSET('Raw Data'!AJ92,Input_Details!$B$34,Input_Details!$B$32)=\"\", \"-\", OFFSET('Raw Data'!AJ92,Input_Details!$B$34,Input_Details!$B$32))","v":0},{"$f":"IF(OFFSET('Raw Data'!AK92,Input_Details!$B$34,Input_Details!$B$32)=\"\", \"-\", OFFSET('Raw Data'!AK92,Input_Details!$B$34,Input_Details!$B$32))","v":0},{"$f":"IF(OFFSET('Raw Data'!AL92,Input_Details!$B$34,Input_Details!$B$32)=\"\", \"-\", OFFSET('Raw Data'!AL92,Input_Details!$B$34,Input_Details!$B$32))","v":0},{"$f":"IF(OFFSET('Raw Data'!AM92,Input_Details!$B$34,Input_Details!$B$32)=\"\", \"-\", OFFSET('Raw Data'!AM92,Input_Details!$B$34,Input_Details!$B$32))","v":0},null,{"$f":"IF(D114=\"-\",\"-\",OFFSET('Raw Data'!AN92,Input_Details!$B$34,Input_Details!$B$32))","v":16.274999999999999},{"$f":"IF(OFFSET('Raw Data'!AO92,Input_Details!$B$34,Input_Details!$B$32)=\"\", \"-\", OFFSET('Raw Data'!AO92,Input_Details!$B$34,Input_Details!$B$32))","v":"-"},{"$f":"IF(OFFSET('Raw Data'!AP92,Input_Details!$B$34,Input_Details!$B$32)=\"\", \"-\", OFFSET('Raw Data'!AP92,Input_Details!$B$34,Input_Details!$B$32))","v":10.6},{"$f":"IF(OFFSET('Raw Data'!AQ92,Input_Details!$B$34,Input_Details!$B$32)=\"\", \"-\", OFFSET('Raw Data'!AQ92,Input_Details!$B$34,Input_Details!$B$32))","v":23.8},null,{"$f":"IF(Y114=\"-\", \"-\", SUM(OFFSET(D114,0,VLOOKUP(Input_Details!$N$3, $AF$3:$AG$12, 2,0)-1):W114))","v":0.4},0.14285714285714288]
[null,"22:15:00",null,{"$f":"IF(OFFSET('Raw Data'!T93,Input_Details!$B$34,Input_Details!$B$32)=\"\", \"-\", OFFSET('Raw Data'!T93,Input_Details!$B$34,Input_Details!$B$32))","v":0.6},{"$f":"IF(OFFSET('Raw Data'!U93,Input_Details!$B$34,Input_Details!$B$32)=\"\", \"-\", OFFSET('Raw Data'!U93,Input_Details!$B$34,Input_Details!$B$32))","v":2.6},{"$f":"IF(OFFSET('Raw Data'!V93,Input_Details!$B$34,Input_Details!$B$32)=\"\", \"-\", OFFSET('Raw Data'!V93,Input_Details!$B$34,Input_Details!$B$32))","v":1.2},{"$f":"IF(OFFSET('Raw Data'!W93,Input_Details!$B$34,Input_Details!$B$32)=\"\", \"-\", OFFSET('Raw Data'!W93,Input_Details!$B$34,Input_Details!$B$32))","v":0.6},{"$f":"IF(OFFSET('Raw Data'!X93,Input_Details!$B$34,Input_Details!$B$32)=\"\", \"-\", OFFSET('Raw Data'!X93,Input_Details!$B$34,Input_Details!$B$32))","v":0},{"$f":"IF(OFFSET('Raw Data'!Y93,Input_Details!$B$34,Input_Details!$B$32)=\"\", \"-\", OFFSET('Raw Data'!Y93,Input_Details!$B$34,Input_Details!$B$32))","v":0},{"$f":"IF(OFFSET('Raw Data'!Z93,Input_Details!$B$34,Input_Details!$B$32)=\"\", \"-\", OFFSET('Raw Data'!Z93,Input_Details!$B$34,Input_Details!$B$32))","v":0},{"$f":"IF(OFFSET('Raw Data'!AA93,Input_Details!$B$34,Input_Details!$B$32)=\"\", \"-\", OFFSET('Raw Data'!AA93,Input_Details!$B$34,Input_Details!$B$32))","v":0},{"$f":"IF(OFFSET('Raw Data'!AB93,Input_Details!$B$34,Input_Details!$B$32)=\"\", \"-\", OFFSET('Raw Data'!AB93,Input_Details!$B$34,Input_Details!$B$32))","v":0},{"$f":"IF(OFFSET('Raw Data'!AC93,Input_Details!$B$34,Input_Details!$B$32)=\"\", \"-\", OFFSET('Raw Data'!AC93,Input_Details!$B$34,Input_Details!$B$32))","v":0},{"$f":"IF(OFFSET('Raw Data'!AD93,Input_Details!$B$34,Input_Details!$B$32)=\"\", \"-\", OFFSET('Raw Data'!AD93,Input_Details!$B$34,Input_Details!$B$32))","v":0},{"$f":"IF(OFFSET('Raw Data'!AE93,Input_Details!$B$34,Input_Details!$B$32)=\"\", \"-\", OFFSET('Raw Data'!AE93,Input_Details!$B$34,Input_Details!$B$32))","v":0},{"$f":"IF(OFFSET('Raw Data'!AF93,Input_Details!$B$34,Input_Details!$B$32)=\"\", \"-\", OFFSET('Raw Data'!AF93,Input_Details!$B$34,Input_Details!$B$32))","v":0},{"$f":"IF(OFFSET('Raw Data'!AG93,Input_Details!$B$34,Input_Details!$B$32)=\"\", \"-\", OFFSET('Raw Data'!AG93,Input_Details!$B$34,Input_Details!$B$32))","v":0},{"$f":"IF(OFFSET('Raw Data'!AH93,Input_Details!$B$34,Input_Details!$B$32)=\"\", \"-\", OFFSET('Raw Data'!AH93,Input_Details!$B$34,Input_Details!$B$32))","v":0},{"$f":"IF(OFFSET('Raw Data'!AI93,Input_Details!$B$34,Input_Details!$B$32)=\"\", \"-\", OFFSET('Raw Data'!AI93,Input_Details!$B$34,Input_Details!$B$32))","v":0},{"$f":"IF(OFFSET('Raw Data'!AJ93,Input_Details!$B$34,Input_Details!$B$32)=\"\", \"-\", OFFSET('Raw Data'!AJ93,Input_Details!$B$34,Input_Details!$B$32))","v":0},{"$f":"IF(OFFSET('Raw Data'!AK93,Input_Details!$B$34,Input_Details!$B$32)=\"\", \"-\", OFFSET('Raw Data'!AK93,Input_Details!$B$34,Input_Details!$B$32))","v":0},{"$f":"IF(OFFSET('Raw Data'!AL93,Input_Details!$B$34,Input_Details!$B$32)=\"\", \"-\", OFFSET('Raw Data'!AL93,Input_Details!$B$34,Input_Details!$B$32))","v":0},{"$f":"IF(OFFSET('Raw Data'!AM93,Input_Details!$B$34,Input_Details!$B$32)=\"\", \"-\", OFFSET('Raw Data'!AM93,Input_Details!$B$34,Input_Details!$B$32))","v":0},null,{"$f":"IF(D115=\"-\",\"-\",OFFSET('Raw Data'!AN93,Input_Details!$B$34,Input_Details!$B$32))","v":14.819999999999999},{"$f":"IF(OFFSET('Raw Data'!AO93,Input_Details!$B$34,Input_Details!$B$32)=\"\", \"-\", OFFSET('Raw Data'!AO93,Input_Details!$B$34,Input_Details!$B$32))","v":"-"},{"$f":"IF(OFFSET('Raw Data'!AP93,Input_Details!$B$34,Input_Details!$B$32)=\"\", \"-\", OFFSET('Raw Data'!AP93,Input_Details!$B$34,Input_Details!$B$32))","v":2.6},{"$f":"IF(OFFSET('Raw Data'!AQ93,Input_Details!$B$34,Input_Details!$B$32)=\"\", \"-\", OFFSET('Raw Data'!AQ93,Input_Details!$B$34,Input_Details!$B$32))","v":23.6},null,{"$f":"IF(Y115=\"-\", \"-\", SUM(OFFSET(D115,0,VLOOKUP(Input_Details!$N$3, $AF$3:$AG$12, 2,0)-1):W115))","v":0.6},0.12]
[null,"22:30:00",null,{"$f":"IF(OFFSET('Raw Data'!T94,Input_Details!$B$34,Input_Details!$B$32)=\"\", \"-\", OFFSET('Raw Data'!T94,Input_Details!$B$34,Input_Details!$B$32))","v":0.6},{"$f":"IF(OFFSET('Raw Data'!U94,Input_Details!$B$34,Input_Details!$B$32)=\"\", \"-\", OFFSET('Raw Data'!U94,Input_Details!$B$34,Input_Details!$B$32))","v":3.2},{"$f":"IF(OFFSET('Raw Data'!V94,Input_Details!$B$34,Input_Details!$B$32)=\"\", \"-\", OFFSET('Raw Data'!V94,Input_Details!$B$34,Input_Details!$B$32))","v":1.4},{"$f":"IF(OFFSET('Raw Data'!W94,Input_Details!$B$34,Input_Details!$B$32)=\"\", \"-\", OFFSET('Raw Data'!W94,Input_Details!$B$34,Input_Details!$B$32))","v":0.8},{"$f":"IF(OFFSET('Raw Data'!X94,Input_Details!$B$34,Input_Details!$B$32)=\"\", \"-\", OFFSET('Raw Data'!X94,Input_Details!$B$34,Input_Details!$B$32))","v":0},{"$f":"IF(OFFSET('Raw Data'!Y94,Input_Details!$B$34,Input_Details!$B$32)=\"\", \"-\", OFFSET('Raw Data'!Y94,Input_Details!$B$34,Input_Details!$B$32))","v":0},{"$f":"IF(OFFSET('Raw Data'!Z94,Input_Details!$B$34,Input_Details!$B$32)=\"\", \"-\", OFFSET('Raw Data'!Z94,Input_Details!$B$34,Input_Details!$B$32))","v":0},{"$f":"IF(OFFSET('Raw Data'!AA94,Input_Details!$B$34,Input_Details!$B$32)=\"\", \"-\", OFFSET('Raw Data'!AA94,Input_Details!$B$34,Input_Details!$B$32))","v":0},{"$f":"IF(OFFSET('Raw Data'!AB94,Input_Details!$B$34,Input_Details!$B$32)=\"\", \"-\", OFFSET('Raw Data'!AB94,Input_Details!$B$34,Input_Details!$B$32))","v":0},{"$f":"IF(OFFSET('Raw Data'!AC94,Input_Details!$B$34,Input_Details!$B$32)=\"\", \"-\", OFFSET('Raw Data'!AC94,Input_Details!$B$34,Input_Details!$B$32))","v":0},{"$f":"IF(OFFSET('Raw Data'!AD94,Input_Details!$B$34,Input_Details!$B$32)=\"\", \"-\", OFFSET('Raw Data'!AD94,Input_Details!$B$34,Input_Details!$B$32))","v":0},{"$f":"IF(OFFSET('Raw Data'!AE94,Input_Details!$B$34,Input_Details!$B$32)=\"\", \"-\", OFFSET('Raw Data'!AE94,Input_Details!$B$34,Input_Details!$B$32))","v":0},{"$f":"IF(OFFSET('Raw Data'!AF94,Input_Details!$B$34,Input_Details!$B$32)=\"\", \"-\", OFFSET('Raw Data'!AF94,Input_Details!$B$34,Input_Details!$B$32))","v":0},{"$f":"IF(OFFSET('Raw Data'!AG94,Input_Details!$B$34,Input_Details!$B$32)=\"\", \"-\", OFFSET('Raw Data'!AG94,Input_Details!$B$34,Input_Details!$B$32))","v":0},{"$f":"IF(OFFSET('Raw Data'!AH94,Input_Details!$B$34,Input_Details!$B$32)=\"\", \"-\", OFFSET('Raw Data'!AH94,Input_Details!$B$34,Input_Details!$B$32))","v":0},{"$f":"IF(OFFSET('Raw Data'!AI94,Input_Details!$B$34,Input_Details!$B$32)=\"\", \"-\", OFFSET('Raw Data'!AI94,Input_Details!$B$34,Input_Details!$B$32))","v":0},{"$f":"IF(OFFSET('Raw Data'!AJ94,Input_Details!$B$34,Input_Details!$B$32)=\"\", \"-\", OFFSET('Raw Data'!AJ94,Input_Details!$B$34,Input_Details!$B$32))","v":0},{"$f":"IF(OFFSET('Raw Data'!AK94,Input_Details!$B$34,Input_Details!$B$32)=\"\", \"-\", OFFSET('Raw Data'!AK94,Input_Details!$B$34,Input_Details!$B$32))","v":0},{"$f":"IF(OFFSET('Raw Data'!AL94,Input_Details!$B$34,Input_Details!$B$32)=\"\", \"-\", OFFSET('Raw Data'!AL94,Input_Details!$B$34,Input_Details!$B$32))","v":0},{"$f":"IF(OFFSET('Raw Data'!AM94,Input_Details!$B$34,Input_Details!$B$32)=\"\", \"-\", OFFSET('Raw Data'!AM94,Input_Details!$B$34,Input_Details!$B$32))","v":0},null,{"$f":"IF(D116=\"-\",\"-\",OFFSET('Raw Data'!AN94,Input_Details!$B$34,Input_Details!$B$32))","v":14.24},{"$f":"IF(OFFSET('Raw Data'!AO94,Input_Details!$B$34,Input_Details!$B$32)=\"\", \"-\", OFFSET('Raw Data'!AO94,Input_Details!$B$34,Input_Details!$B$32))","v":19.899999999999999},{"$f":"IF(OFFSET('Raw Data'!AP94,Input_Details!$B$34,Input_Details!$B$32)=\"\", \"-\", OFFSET('Raw Data'!AP94,Input_Details!$B$34,Input_Details!$B$32))","v":5.8},{"$f":"IF(OFFSET('Raw Data'!AQ94,Input_Details!$B$34,Input_Details!$B$32)=\"\", \"-\", OFFSET('Raw Data'!AQ94,Input_Details!$B$34,Input_Details!$B$32))","v":22.5},null,{"$f":"IF(Y116=\"-\", \"-\", SUM(OFFSET(D116,0,VLOOKUP(Input_Details!$N$3, $AF$3:$AG$12, 2,0)-1):W116))","v":0.8},0.13333333333333333]
[null,"22:45:00",null,{"$f":"IF(OFFSET('Raw Data'!T95,Input_Details!$B$34,Input_Details!$B$32)=\"\", \"-\", OFFSET('Raw Data'!T95,Input_Details!$B$34,Input_Details!$B$32))","v":0.6},{"$f":"IF(OFFSET('Raw Data'!U95,Input_Details!$B$34,Input_Details!$B$32)=\"\", \"-\", OFFSET('Raw Data'!U95,Input_Details!$B$34,Input_Details!$B$32))","v":0.6},{"$f":"IF(OFFSET('Raw Data'!V95,Input_Details!$B$34,Input_Details!$B$32)=\"\", \"-\", OFFSET('Raw Data'!V95,Input_Details!$B$34,Input_Details!$B$32))","v":2.8},{"$f":"IF(OFFSET('Raw Data'!W95,Input_Details!$B$34,Input_Details!$B$32)=\"\", \"-\", OFFSET('Raw Data'!W95,Input_Details!$B$34,Input_Details!$B$32))","v":0.6},{"$f":"IF(OFFSET('Raw Data'!X95,Input_Details!$B$34,Input_Details!$B$32)=\"\", \"-\", OFFSET('Raw Data'!X95,Input_Details!$B$34,Input_Details!$B$32))","v":0},{"$f":"IF(OFFSET('Raw Data'!Y95,Input_Details!$B$34,Input_Details!$B$32)=\"\", \"-\", OFFSET('Raw Data'!Y95,Input_Details!$B$34,Input_Details!$B$32))","v":0},{"$f":"IF(OFFSET('Raw Data'!Z95,Input_Details!$B$34,Input_Details!$B$32)=\"\", \"-\", OFFSET('Raw Data'!Z95,Input_Details!$B$34,Input_Details!$B$32))","v":0},{"$f":"IF(OFFSET('Raw Data'!AA95,Input_Details!$B$34,Input_Details!$B$32)=\"\", \"-\", OFFSET('Raw Data'!AA95,Input_Details!$B$34,Input_Details!$B$32))","v":0},{"$f":"IF(OFFSET('Raw Data'!AB95,Input_Details!$B$34,Input_Details!$B$32)=\"\", \"-\", OFFSET('Raw Data'!AB95,Input_Details!$B$34,Input_Details!$B$32))","v":0},{"$f":"IF(OFFSET('Raw Data'!AC95,Input_Details!$B$34,Input_Details!$B$32)=\"\", \"-\", OFFSET('Raw Data'!AC95,Input_Details!$B$34,Input_Details!$B$32))","v":0},{"$f":"IF(OFFSET('Raw Data'!AD95,Input_Details!$B$34,Input_Details!$B$32)=\"\", \"-\", OFFSET('Raw Data'!AD95,Input_Details!$B$34,Input_Details!$B$32))","v":0},{"$f":"IF(OFFSET('Raw Data'!AE95,Input_Details!$B$34,Input_Details!$B$32)=\"\", \"-\", OFFSET('Raw Data'!AE95,Input_Details!$B$34,Input_Details!$B$32))","v":0},{"$f":"IF(OFFSET('Raw Data'!AF95,Input_Details!$B$34,Input_Details!$B$32)=\"\", \"-\", OFFSET('Raw Data'!AF95,Input_Details!$B$34,Input_Details!$B$32))","v":0},{"$f":"IF(OFFSET('Raw Data'!AG95,Input_Details!$B$34,Input_Details!$B$32)=\"\", \"-\", OFFSET('Raw Data'!AG95,Input_Details!$B$34,Input_Details!$B$32))","v":0},{"$f":"IF(OFFSET('Raw Data'!AH95,Input_Details!$B$34,Input_Details!$B$32)=\"\", \"-\", OFFSET('Raw Data'!AH95,Input_Details!$B$34,Input_Details!$B$32))","v":0},{"$f":"IF(OFFSET('Raw Data'!AI95,Input_Details!$B$34,Input_Details!$B$32)=\"\", \"-\", OFFSET('Raw Data'!AI95,Input_Details!$B$34,Input_Details!$B$32))","v":0},{"$f":"IF(OFFSET('Raw Data'!AJ95,Input_Details!$B$34,Input_Details!$B$32)=\"\", \"-\", OFFSET('Raw Data'!AJ95,Input_Details!$B$34,Input_Details!$B$32))","v":0},{"$f":"IF(OFFSET('Raw Data'!AK95,Input_Details!$B$34,Input_Details!$B$32)=\"\", \"-\", OFFSET('Raw Data'!AK95,Input_Details!$B$34,Input_Details!$B$32))","v":0},{"$f":"IF(OFFSET('Raw Data'!AL95,Input_Details!$B$34,Input_Details!$B$32)=\"\", \"-\", OFFSET('Raw Data'!AL95,Input_Details!$B$34,Input_Details!$B$32))","v":0},{"$f":"IF(OFFSET('Raw Data'!AM95,Input_Details!$B$34,Input_Details!$B$32)=\"\", \"-\", OFFSET('Raw Data'!AM95,Input_Details!$B$34,Input_Details!$B$32))","v":0},null,{"$f":"IF(D117=\"-\",\"-\",OFFSET('Raw Data'!AN95,Input_Details!$B$34,Input_Details!$B$32))","v":15.960000000000003},{"$f":"IF(OFFSET('Raw Data'!AO95,Input_Details!$B$34,Input_Details!$B$32)=\"\", \"-\", OFFSET('Raw Data'!AO95,Input_Details!$B$34,Input_Details!$B$32))","v":19.7},{"$f":"IF(OFFSET('Raw Data'!AP95,Input_Details!$B$34,Input_Details!$B$32)=\"\", \"-\", OFFSET('Raw Data'!AP95,Input_Details!$B$34,Input_Details!$B$32))","v":7.4},{"$f":"IF(OFFSET('Raw Data'!AQ95,Input_Details!$B$34,Input_Details!$B$32)=\"\", \"-\", OFFSET('Raw Data'!AQ95,Input_Details!$B$34,Input_Details!$B$32))","v":24.9},null,{"$f":"IF(Y117=\"-\", \"-\", SUM(OFFSET(D117,0,VLOOKUP(Input_Details!$N$3, $AF$3:$AG$12, 2,0)-1):W117))","v":0.6},0.13043478260869565]
[null,"23:00:00",null,{"$f":"IF(OFFSET('Raw Data'!T96,Input_Details!$B$34,Input_Details!$B$32)=\"\", \"-\", OFFSET('Raw Data'!T96,Input_Details!$B$34,Input_Details!$B$32))","v":0.4},{"$f":"IF(OFFSET('Raw Data'!U96,Input_Details!$B$34,Input_Details!$B$32)=\"\", \"-\", OFFSET('Raw Data'!U96,Input_Details!$B$34,Input_Details!$B$32))","v":1.8},{"$f":"IF(OFFSET('Raw Data'!V96,Input_Details!$B$34,Input_Details!$B$32)=\"\", \"-\", OFFSET('Raw Data'!V96,Input_Details!$B$34,Input_Details!$B$32))","v":1.2},{"$f":"IF(OFFSET('Raw Data'!W96,Input_Details!$B$34,Input_Details!$B$32)=\"\", \"-\", OFFSET('Raw Data'!W96,Input_Details!$B$34,Input_Details!$B$32))","v":0},{"$f":"IF(OFFSET('Raw Data'!X96,Input_Details!$B$34,Input_Details!$B$32)=\"\", \"-\", OFFSET('Raw Data'!X96,Input_Details!$B$34,Input_Details!$B$32))","v":0.2},{"$f":"IF(OFFSET('Raw Data'!Y96,Input_Details!$B$34,Input_Details!$B$32)=\"\", \"-\", OFFSET('Raw Data'!Y96,Input_Details!$B$34,Input_Details!$B$32))","v":0},{"$f":"IF(OFFSET('Raw Data'!Z96,Input_Details!$B$34,Input_Details!$B$32)=\"\", \"-\", OFFSET('Raw Data'!Z96,Input_Details!$B$34,Input_Details!$B$32))","v":0},{"$f":"IF(OFFSET('Raw Data'!AA96,Input_Details!$B$34,Input_Details!$B$32)=\"\", \"-\", OFFSET('Raw Data'!AA96,Input_Details!$B$34,Input_Details!$B$32))","v":0},{"$f":"IF(OFFSET('Raw Data'!AB96,Input_Details!$B$34,Input_Details!$B$32)=\"\", \"-\", OFFSET('Raw Data'!AB96,Input_Details!$B$34,Input_Details!$B$32))","v":0},{"$f":"IF(OFFSET('Raw Data'!AC96,Input_Details!$B$34,Input_Details!$B$32)=\"\", \"-\", OFFSET('Raw Data'!AC96,Input_Details!$B$34,Input_Details!$B$32))","v":0},{"$f":"IF(OFFSET('Raw Data'!AD96,Input_Details!$B$34,Input_Details!$B$32)=\"\", \"-\", OFFSET('Raw Data'!AD96,Input_Details!$B$34,Input_Details!$B$32))","v":0},{"$f":"IF(OFFSET('Raw Data'!AE96,Input_Details!$B$34,Input_Details!$B$32)=\"\", \"-\", OFFSET('Raw Data'!AE96,Input_Details!$B$34,Input_Details!$B$32))","v":0},{"$f":"IF(OFFSET('Raw Data'!AF96,Input_Details!$B$34,Input_Details!$B$32)=\"\", \"-\", OFFSET('Raw Data'!AF96,Input_Details!$B$34,Input_Details!$B$32))","v":0},{"$f":"IF(OFFSET('Raw Data'!AG96,Input_Details!$B$34,Input_Details!$B$32)=\"\", \"-\", OFFSET('Raw Data'!AG96,Input_Details!$B$34,Input_Details!$B$32))","v":0},{"$f":"IF(OFFSET('Raw Data'!AH96,Input_Details!$B$34,Input_Details!$B$32)=\"\", \"-\", OFFSET('Raw Data'!AH96,Input_Details!$B$34,Input_Details!$B$32))","v":0},{"$f":"IF(OFFSET('Raw Data'!AI96,Input_Details!$B$34,Input_Details!$B$32)=\"\", \"-\", OFFSET('Raw Data'!AI96,Input_Details!$B$34,Input_Details!$B$32))","v":0},{"$f":"IF(OFFSET('Raw Data'!AJ96,Input_Details!$B$34,Input_Details!$B$32)=\"\", \"-\", OFFSET('Raw Data'!AJ96,Input_Details!$B$34,Input_Details!$B$32))","v":0},{"$f":"IF(OFFSET('Raw Data'!AK96,Input_Details!$B$34,Input_Details!$B$32)=\"\", \"-\", OFFSET('Raw Data'!AK96,Input_Details!$B$34,Input_Details!$B$32))","v":0},{"$f":"IF(OFFSET('Raw Data'!AL96,Input_Details!$B$34,Input_Details!$B$32)=\"\", \"-\", OFFSET('Raw Data'!AL96,Input_Details!$B$34,Input_Details!$B$32))","v":0},{"$f":"IF(OFFSET('Raw Data'!AM96,Input_Details!$B$34,Input_Details!$B$32)=\"\", \"-\", OFFSET('Raw Data'!AM96,Input_Details!$B$34,Input_Details!$B$32))","v":0},null,{"$f":"IF(D118=\"-\",\"-\",OFFSET('Raw Data'!AN96,Input_Details!$B$34,Input_Details!$B$32))","v":14.799999999999999},{"$f":"IF(OFFSET('Raw Data'!AO96,Input_Details!$B$34,Input_Details!$B$32)=\"\", \"-\", OFFSET('Raw Data'!AO96,Input_Details!$B$34,Input_Details!$B$32))","v":"-"},{"$f":"IF(OFFSET('Raw Data'!AP96,Input_Details!$B$34,Input_Details!$B$32)=\"\", \"-\", OFFSET('Raw Data'!AP96,Input_Details!$B$34,Input_Details!$B$32))","v":5.6},{"$f":"IF(OFFSET('Raw Data'!AQ96,Input_Details!$B$34,Input_Details!$B$32)=\"\", \"-\", OFFSET('Raw Data'!AQ96,Input_Details!$B$34,Input_Details!$B$32))","v":25.1},null,{"$f":"IF(Y118=\"-\", \"-\", SUM(OFFSET(D118,0,VLOOKUP(Input_Details!$N$3, $AF$3:$AG$12, 2,0)-1):W118))","v":0.2},5.5555555555555552E-2]
[null,"23:15:00",null,{"$f":"IF(OFFSET('Raw Data'!T97,Input_Details!$B$34,Input_Details!$B$32)=\"\", \"-\", OFFSET('Raw Data'!T97,Input_Details!$B$34,Input_Details!$B$32))","v":0},{"$f":"IF(OFFSET('Raw Data'!U97,Input_Details!$B$34,Input_Details!$B$32)=\"\", \"-\", OFFSET('Raw Data'!U97,Input_Details!$B$34,Input_Details!$B$32))","v":1},{"$f":"IF(OFFSET('Raw Data'!V97,Input_Details!$B$34,Input_Details!$B$32)=\"\", \"-\", OFFSET('Raw Data'!V97,Input_Details!$B$34,Input_Details!$B$32))","v":1.4},{"$f":"IF(OFFSET('Raw Data'!W97,Input_Details!$B$34,Input_Details!$B$32)=\"\", \"-\", OFFSET('Raw Data'!W97,Input_Details!$B$34,Input_Details!$B$32))","v":0.4},{"$f":"IF(OFFSET('Raw Data'!X97,Input_Details!$B$34,Input_Details!$B$32)=\"\", \"-\", OFFSET('Raw Data'!X97,Input_Details!$B$34,Input_Details!$B$32))","v":0},{"$f":"IF(OFFSET('Raw Data'!Y97,Input_Details!$B$34,Input_Details!$B$32)=\"\", \"-\", OFFSET('Raw Data'!Y97,Input_Details!$B$34,Input_Details!$B$32))","v":0},{"$f":"IF(OFFSET('Raw Data'!Z97,Input_Details!$B$34,Input_Details!$B$32)=\"\", \"-\", OFFSET('Raw Data'!Z97,Input_Details!$B$34,Input_Details!$B$32))","v":0},{"$f":"IF(OFFSET('Raw Data'!AA97,Input_Details!$B$34,Input_Details!$B$32)=\"\", \"-\", OFFSET('Raw Data'!AA97,Input_Details!$B$34,Input_Details!$B$32))","v":0},{"$f":"IF(OFFSET('Raw Data'!AB97,Input_Details!$B$34,Input_Details!$B$32)=\"\", \"-\", OFFSET('Raw Data'!AB97,Input_Details!$B$34,Input_Details!$B$32))","v":0},{"$f":"IF(OFFSET('Raw Data'!AC97,Input_Details!$B$34,Input_Details!$B$32)=\"\", \"-\", OFFSET('Raw Data'!AC97,Input_Details!$B$34,Input_Details!$B$32))","v":0},{"$f":"IF(OFFSET('Raw Data'!AD97,Input_Details!$B$34,Input_Details!$B$32)=\"\", \"-\", OFFSET('Raw Data'!AD97,Input_Details!$B$34,Input_Details!$B$32))","v":0},{"$f":"IF(OFFSET('Raw Data'!AE97,Input_Details!$B$34,Input_Details!$B$32)=\"\", \"-\", OFFSET('Raw Data'!AE97,Input_Details!$B$34,Input_Details!$B$32))","v":0},{"$f":"IF(OFFSET('Raw Data'!AF97,Input_Details!$B$34,Input_Details!$B$32)=\"\", \"-\", OFFSET('Raw Data'!AF97,Input_Details!$B$34,Input_Details!$B$32))","v":0},{"$f":"IF(OFFSET('Raw Data'!AG97,Input_Details!$B$34,Input_Details!$B$32)=\"\", \"-\", OFFSET('Raw Data'!AG97,Input_Details!$B$34,Input_Details!$B$32))","v":0},{"$f":"IF(OFFSET('Raw Data'!AH97,Input_Details!$B$34,Input_Details!$B$32)=\"\", \"-\", OFFSET('Raw Data'!AH97,Input_Details!$B$34,Input_Details!$B$32))","v":0},{"$f":"IF(OFFSET('Raw Data'!AI97,Input_Details!$B$34,Input_Details!$B$32)=\"\", \"-\", OFFSET('Raw Data'!AI97,Input_Details!$B$34,Input_Details!$B$32))","v":0},{"$f":"IF(OFFSET('Raw Data'!AJ97,Input_Details!$B$34,Input_Details!$B$32)=\"\", \"-\", OFFSET('Raw Data'!AJ97,Input_Details!$B$34,Input_Details!$B$32))","v":0},{"$f":"IF(OFFSET('Raw Data'!AK97,Input_Details!$B$34,Input_Details!$B$32)=\"\", \"-\", OFFSET('Raw Data'!AK97,Input_Details!$B$34,Input_Details!$B$32))","v":0},{"$f":"IF(OFFSET('Raw Data'!AL97,Input_Details!$B$34,Input_Details!$B$32)=\"\", \"-\", OFFSET('Raw Data'!AL97,Input_Details!$B$34,Input_Details!$B$32))","v":0},{"$f":"IF(OFFSET('Raw Data'!AM97,Input_Details!$B$34,Input_Details!$B$32)=\"\", \"-\", OFFSET('Raw Data'!AM97,Input_Details!$B$34,Input_Details!$B$32))","v":0},null,{"$f":"IF(D119=\"-\",\"-\",OFFSET('Raw Data'!AN97,Input_Details!$B$34,Input_Details!$B$32))","v":16.46},{"$f":"IF(OFFSET('Raw Data'!AO97,Input_Details!$B$34,Input_Details!$B$32)=\"\", \"-\", OFFSET('Raw Data'!AO97,Input_Details!$B$34,Input_Details!$B$32))","v":"-"},{"$f":"IF(OFFSET('Raw Data'!AP97,Input_Details!$B$34,Input_Details!$B$32)=\"\", \"-\", OFFSET('Raw Data'!AP97,Input_Details!$B$34,Input_Details!$B$32))","v":10.1},{"$f":"IF(OFFSET('Raw Data'!AQ97,Input_Details!$B$34,Input_Details!$B$32)=\"\", \"-\", OFFSET('Raw Data'!AQ97,Input_Details!$B$34,Input_Details!$B$32))","v":24.8},null,{"$f":"IF(Y119=\"-\", \"-\", SUM(OFFSET(D119,0,VLOOKUP(Input_Details!$N$3, $AF$3:$AG$12, 2,0)-1):W119))","v":0.4},0.14285714285714288]
[null,"23:30:00",null,{"$f":"IF(OFFSET('Raw Data'!T98,Input_Details!$B$34,Input_Details!$B$32)=\"\", \"-\", OFFSET('Raw Data'!T98,Input_Details!$B$34,Input_Details!$B$32))","v":0.2},{"$f":"IF(OFFSET('Raw Data'!U98,Input_Details!$B$34,Input_Details!$B$32)=\"\", \"-\", OFFSET('Raw Data'!U98,Input_Details!$B$34,Input_Details!$B$32))","v":1},{"$f":"IF(OFFSET('Raw Data'!V98,Input_Details!$B$34,Input_Details!$B$32)=\"\", \"-\", OFFSET('Raw Data'!V98,Input_Details!$B$34,Input_Details!$B$32))","v":1.4},{"$f":"IF(OFFSET('Raw Data'!W98,Input_Details!$B$34,Input_Details!$B$32)=\"\", \"-\", OFFSET('Raw Data'!W98,Input_Details!$B$34,Input_Details!$B$32))","v":0.8},{"$f":"IF(OFFSET('Raw Data'!X98,Input_Details!$B$34,Input_Details!$B$32)=\"\", \"-\", OFFSET('Raw Data'!X98,Input_Details!$B$34,Input_Details!$B$32))","v":0},{"$f":"IF(OFFSET('Raw Data'!Y98,Input_Details!$B$34,Input_Details!$B$32)=\"\", \"-\", OFFSET('Raw Data'!Y98,Input_Details!$B$34,Input_Details!$B$32))","v":0},{"$f":"IF(OFFSET('Raw Data'!Z98,Input_Details!$B$34,Input_Details!$B$32)=\"\", \"-\", OFFSET('Raw Data'!Z98,Input_Details!$B$34,Input_Details!$B$32))","v":0},{"$f":"IF(OFFSET('Raw Data'!AA98,Input_Details!$B$34,Input_Details!$B$32)=\"\", \"-\", OFFSET('Raw Data'!AA98,Input_Details!$B$34,Input_Details!$B$32))","v":0},{"$f":"IF(OFFSET('Raw Data'!AB98,Input_Details!$B$34,Input_Details!$B$32)=\"\", \"-\", OFFSET('Raw Data'!AB98,Input_Details!$B$34,Input_Details!$B$32))","v":0},{"$f":"IF(OFFSET('Raw Data'!AC98,Input_Details!$B$34,Input_Details!$B$32)=\"\", \"-\", OFFSET('Raw Data'!AC98,Input_Details!$B$34,Input_Details!$B$32))","v":0},{"$f":"IF(OFFSET('Raw Data'!AD98,Input_Details!$B$34,Input_Details!$B$32)=\"\", \"-\", OFFSET('Raw Data'!AD98,Input_Details!$B$34,Input_Details!$B$32))","v":0},{"$f":"IF(OFFSET('Raw Data'!AE98,Input_Details!$B$34,Input_Details!$B$32)=\"\", \"-\", OFFSET('Raw Data'!AE98,Input_Details!$B$34,Input_Details!$B$32))","v":0},{"$f":"IF(OFFSET('Raw Data'!AF98,Input_Details!$B$34,Input_Details!$B$32)=\"\", \"-\", OFFSET('Raw Data'!AF98,Input_Details!$B$34,Input_Details!$B$32))","v":0},{"$f":"IF(OFFSET('Raw Data'!AG98,Input_Details!$B$34,Input_Details!$B$32)=\"\", \"-\", OFFSET('Raw Data'!AG98,Input_Details!$B$34,Input_Details!$B$32))","v":0},{"$f":"IF(OFFSET('Raw Data'!AH98,Input_Details!$B$34,Input_Details!$B$32)=\"\", \"-\", OFFSET('Raw Data'!AH98,Input_Details!$B$34,Input_Details!$B$32))","v":0},{"$f":"IF(OFFSET('Raw Data'!AI98,Input_Details!$B$34,Input_Details!$B$32)=\"\", \"-\", OFFSET('Raw Data'!AI98,Input_Details!$B$34,Input_Details!$B$32))","v":0},{"$f":"IF(OFFSET('Raw Data'!AJ98,Input_Details!$B$34,Input_Details!$B$32)=\"\", \"-\", OFFSET('Raw Data'!AJ98,Input_Details!$B$34,Input_Details!$B$32))","v":0},{"$f":"IF(OFFSET('Raw Data'!AK98,Input_Details!$B$34,Input_Details!$B$32)=\"\", \"-\", OFFSET('Raw Data'!AK98,Input_Details!$B$34,Input_Details!$B$32))","v":0},{"$f":"IF(OFFSET('Raw Data'!AL98,Input_Details!$B$34,Input_Details!$B$32)=\"\", \"-\", OFFSET('Raw Data'!AL98,Input_Details!$B$34,Input_Details!$B$32))","v":0},{"$f":"IF(OFFSET('Raw Data'!AM98,Input_Details!$B$34,Input_Details!$B$32)=\"\", \"-\", OFFSET('Raw Data'!AM98,Input_Details!$B$34,Input_Details!$B$32))","v":0},null,{"$f":"IF(D120=\"-\",\"-\",OFFSET('Raw Data'!AN98,Input_Details!$B$34,Input_Details!$B$32))","v":16.04},{"$f":"IF(OFFSET('Raw Data'!AO98,Input_Details!$B$34,Input_Details!$B$32)=\"\", \"-\", OFFSET('Raw Data'!AO98,Input_Details!$B$34,Input_Details!$B$32))","v":"-"},{"$f":"IF(OFFSET('Raw Data'!AP98,Input_Details!$B$34,Input_Details!$B$32)=\"\", \"-\", OFFSET('Raw Data'!AP98,Input_Details!$B$34,Input_Details!$B$32))","v":7.4},{"$f":"IF(OFFSET('Raw Data'!AQ98,Input_Details!$B$34,Input_Details!$B$32)=\"\", \"-\", OFFSET('Raw Data'!AQ98,Input_Details!$B$34,Input_Details!$B$32))","v":21.7},null,{"$f":"IF(Y120=\"-\", \"-\", SUM(OFFSET(D120,0,VLOOKUP(Input_Details!$N$3, $AF$3:$AG$12, 2,0)-1):W120))","v":0.8},0.23529411764705888]
[null,"23:45:00",null,{"$f":"IF(OFFSET('Raw Data'!T99,Input_Details!$B$34,Input_Details!$B$32)=\"\", \"-\", OFFSET('Raw Data'!T99,Input_Details!$B$34,Input_Details!$B$32))","v":0.6},{"$f":"IF(OFFSET('Raw Data'!U99,Input_Details!$B$34,Input_Details!$B$32)=\"\", \"-\", OFFSET('Raw Data'!U99,Input_Details!$B$34,Input_Details!$B$32))","v":1.4},{"$f":"IF(OFFSET('Raw Data'!V99,Input_Details!$B$34,Input_Details!$B$32)=\"\", \"-\", OFFSET('Raw Data'!V99,Input_Details!$B$34,Input_Details!$B$32))","v":1.2},{"$f":"IF(OFFSET('Raw Data'!W99,Input_Details!$B$34,Input_Details!$B$32)=\"\", \"-\", OFFSET('Raw Data'!W99,Input_Details!$B$34,Input_Details!$B$32))","v":0.4},{"$f":"IF(OFFSET('Raw Data'!X99,Input_Details!$B$34,Input_Details!$B$32)=\"\", \"-\", OFFSET('Raw Data'!X99,Input_Details!$B$34,Input_Details!$B$32))","v":0},{"$f":"IF(OFFSET('Raw Data'!Y99,Input_Details!$B$34,Input_Details!$B$32)=\"\", \"-\", OFFSET('Raw Data'!Y99,Input_Details!$B$34,Input_Details!$B$32))","v":0},{"$f":"IF(OFFSET('Raw Data'!Z99,Input_Details!$B$34,Input_Details!$B$32)=\"\", \"-\", OFFSET('Raw Data'!Z99,Input_Details!$B$34,Input_Details!$B$32))","v":0},{"$f":"IF(OFFSET('Raw Data'!AA99,Input_Details!$B$34,Input_Details!$B$32)=\"\", \"-\", OFFSET('Raw Data'!AA99,Input_Details!$B$34,Input_Details!$B$32))","v":0},{"$f":"IF(OFFSET('Raw Data'!AB99,Input_Details!$B$34,Input_Details!$B$32)=\"\", \"-\", OFFSET('Raw Data'!AB99,Input_Details!$B$34,Input_Details!$B$32))","v":0},{"$f":"IF(OFFSET('Raw Data'!AC99,Input_Details!$B$34,Input_Details!$B$32)=\"\", \"-\", OFFSET('Raw Data'!AC99,Input_Details!$B$34,Input_Details!$B$32))","v":0},{"$f":"IF(OFFSET('Raw Data'!AD99,Input_Details!$B$34,Input_Details!$B$32)=\"\", \"-\", OFFSET('Raw Data'!AD99,Input_Details!$B$34,Input_Details!$B$32))","v":0},{"$f":"IF(OFFSET('Raw Data'!AE99,Input_Details!$B$34,Input_Details!$B$32)=\"\", \"-\", OFFSET('Raw Data'!AE99,Input_Details!$B$34,Input_Details!$B$32))","v":0},{"$f":"IF(OFFSET('Raw Data'!AF99,Input_Details!$B$34,Input_Details!$B$32)=\"\", \"-\", OFFSET('Raw Data'!AF99,Input_Details!$B$34,Input_Details!$B$32))","v":0},{"$f":"IF(OFFSET('Raw Data'!AG99,Input_Details!$B$34,Input_Details!$B$32)=\"\", \"-\", OFFSET('Raw Data'!AG99,Input_Details!$B$34,Input_Details!$B$32))","v":0},{"$f":"IF(OFFSET('Raw Data'!AH99,Input_Details!$B$34,Input_Details!$B$32)=\"\", \"-\", OFFSET('Raw Data'!AH99,Input_Details!$B$34,Input_Details!$B$32))","v":0},{"$f":"IF(OFFSET('Raw Data'!AI99,Input_Details!$B$34,Input_Details!$B$32)=\"\", \"-\", OFFSET('Raw Data'!AI99,Input_Details!$B$34,Input_Details!$B$32))","v":0},{"$f":"IF(OFFSET('Raw Data'!AJ99,Input_Details!$B$34,Input_Details!$B$32)=\"\", \"-\", OFFSET('Raw Data'!AJ99,Input_Details!$B$34,Input_Details!$B$32))","v":0},{"$f":"IF(OFFSET('Raw Data'!AK99,Input_Details!$B$34,Input_Details!$B$32)=\"\", \"-\", OFFSET('Raw Data'!AK99,Input_Details!$B$34,Input_Details!$B$32))","v":0},{"$f":"IF(OFFSET('Raw Data'!AL99,Input_Details!$B$34,Input_Details!$B$32)=\"\", \"-\", OFFSET('Raw Data'!AL99,Input_Details!$B$34,Input_Details!$B$32))","v":0},{"$f":"IF(OFFSET('Raw Data'!AM99,Input_Details!$B$34,Input_Details!$B$32)=\"\", \"-\", OFFSET('Raw Data'!AM99,Input_Details!$B$34,Input_Details!$B$32))","v":0},null,{"$f":"IF(D121=\"-\",\"-\",OFFSET('Raw Data'!AN99,Input_Details!$B$34,Input_Details!$B$32))","v":15.9},{"$f":"IF(OFFSET('Raw Data'!AO99,Input_Details!$B$34,Input_Details!$B$32)=\"\", \"-\", OFFSET('Raw Data'!AO99,Input_Details!$B$34,Input_Details!$B$32))","v":"-"},{"$f":"IF(OFFSET('Raw Data'!AP99,Input_Details!$B$34,Input_Details!$B$32)=\"\", \"-\", OFFSET('Raw Data'!AP99,Input_Details!$B$34,Input_Details!$B$32))","v":4.8},{"$f":"IF(OFFSET('Raw Data'!AQ99,Input_Details!$B$34,Input_Details!$B$32)=\"\", \"-\", OFFSET('Raw Data'!AQ99,Input_Details!$B$34,Input_Details!$B$32))","v":20.9},null,{"$f":"IF(Y121=\"-\", \"-\", SUM(OFFSET(D121,0,VLOOKUP(Input_Details!$N$3, $AF$3:$AG$12, 2,0)-1):W121))","v":0.4},0.11111111111111112]
[null,"Total",null,{"$f":"SUM(D26:D121)","v":48.20000000000001},{"$f":"SUM(E26:E121)","v":444.05000000000007},181.49999999999983,42.549999999999983,5.2000000000000011,0.8,0,0,0,0,0,0,0,0,0,0,0,0,0,0,{"$f":"SUM(D122:W122)","v":722.29999999999984},{"$f":"IF((SUM(Y26:Y121))=0,\"N/A\",(AVERAGEIF(Y26:Y121,\">0\")))","v":14.724496527777776},{"$f":"IF((SUM(Z26:Z121))=0,\"N/A\",(AVERAGEIF(Z26:Z121,\">0\")))","v":16.608166666666666},{"$f":"IF((SUM(AA26:AA121))=0,\"N/A\",(AVERAGEIF(AA26:AA121,\">0\")))","v":7.470833333333335},{"$f":"IF((SUM(AB26:AB121))=0,\"N/A\",(AVERAGEIF(AB26:AB121,\">0\")))","v":22.897916666666671},null,{"$f":"SUM(AD26:AD121)","v":48.54999999999999},{"$f":"IF(SUM(D122:W122)=0, \"N/A\", AD122/SUM(D122:W122))","v":6.721583829433754E-2}]

{"sheet":"Site Plans","index":12,"n_rows":9,"n_cols":13,"rows_kept":9,"cut":false,"hidden":false,"merged":[[7,1,9,4]]}
[]
[]
[]
[null,null,null,null,null,null,null,null,null,null,null,null,{"$f":"Input_Details!$I$1&\" - \"&Input_Details!$H$1","v":"3854-LON - Swan Street"}]
[null,null,null,null,null,null,null,null,null,null,null,null,{"$f":"\"prepared for \"&Input_Details!$J$1","v":"prepared for LB of Southwark"}]
[null,null,null,null,null,null,null,null,null,null,null,null,{"$f":"TEXT(MIN('Volume Summary-15min'!$C$14:$I$14), \"dd mmm yyyy\")&\" - \"&TEXT(MAX('Volume Summary-15min'!$C$14:$I$14), \"dd mmm yyyy\")","v":"17 Nov 2017 - 23 Nov 2017"}]
[]
[null,"Site Plans",null,null,null,null,null,null,null,null,null,null,4]
[null,null,2,null,null,null,null,null,null,null,null,null,{"$f":"OFFSET(Input_Plans!A1,M8-1,0,1,1)","v":"3. Falmouth Street - 51.49566,-0.09463"}]