{"text_format":"1","workbook":"xlsx","n_sheets":13,"sheets":["Input_Details","Input_Plans","Raw Data","Dashboard Overview","Volume Summary-15min","Volume Summary-30min","Volume Summary-60min","Custom Volume Graph","Class Summary","12-Class Breakdown","Class Key","Speed Summary","Site Plans"],"not_rendered":{"charts":14,"images":38,"macros":1,"external_links":0,"defined_names":19,"comments":0,"pivot_tables":0},"unopened":[],"bounds":{"document_bytes":16777216,"sheet_cells":100000,"rows_first":2000,"rows_last":500,"rows_between":2000,"halvings":0,"cell_chars":16384,"cell_head_chars":4096},"cells_cut":0,"cells_raw":0,"read":"whole","date_system":"1900"}

{"sheet":"Input_Details","index":0,"n_rows":100,"n_cols":76,"rows_kept":100,"cut":false,"hidden":true,"merged":[[2,66,2,71],[3,66,4,66],[3,67,4,67],[3,68,4,68],[3,69,4,69],[3,70,4,70],[3,71,4,71],[8,48,8,54],[2,48,2,53],[2,54,2,59],[2,60,2,65],[3,48,4,48],[3,55,4,55],[3,50,4,50],[3,49,4,49],[3,54,4,54],[3,51,4,51],[3,56,4,56],[0,9,0,13],[41,1,41,2],[8,69,8,75],[3,63,4,63],[3,64,4,64],[3,65,4,65],[8,55,8,61],[8,62,8,68],[3,57,4,57],[3,58,4,58],[3,59,4,59],[3,61,4,61],[3,62,4,62],[3,52,4,52],[3,53,4,53],[3,60,4,60]]}
[null,null,null,null,null,null,null,"Harper Road","3585-LON","LB of Southwark",null,null,null,null,null,null,null,null,null,null,null,null,null,null,null,null,"CUSTOM GRAPH DATA",null,null,null,null,null,null,null,null,null,null,null,null,null,null,null,null,null,null,null,null,null,"DASHBOARD DATA"]
[null,"Current Selected Direction",null,null,null,null,null,"General Report Details"]
[null,{"$f":"OFFSET(B5,B4,0)","v":"Combined"},null,null,null,null,{"$f":"OFFSET(G4,$O$4,0)","v":1},"Harper Road (South of Falmouth Road)","51.49617, -0.09302",1,{"$f":"OFFSET(K4,$O$4,0)","v":"Southbound"},"Northbound",{"$f":"OFFSET(M4,$O$4,0)","v":"2017-04-20"},{"$f":"OFFSET(N4,$O$4,0)","v":20},"1. Harper Road (South of Falmouth Road) - 51.49617, -0.09302",null,{"$f":"OFFSET(Q4,$O$4,0)","v":"2017-04-24"},"2017-04-25","2017-04-26","2017-04-20","2017-04-21","2017-04-22","2017-04-23","Site 1:\nNo incidents","7-Day Average",null,null,null,null,null,null,null,null,null,null,null,null,true,true,true,true,true,true,true,true,true,null,null,{"$f":"K3","v":"Southbound"},null,null,null,null,null,{"$f":"L3","v":"Northbound"},null,null,null,null,null,"Combined",null,null,null,null,null,"DROPDOWN MENU SELECTION"]
[null,3,null,null,null,null,null,"Road","Lat/Long ONLY","Site No.","Dir 1","Dir 2","Start Date","Speed (mph)",1,"Start Day","Mon","Tue","Wed","Thu","Fri","Sat","Sun","Incidents",null,null,null,"Mon","Tue","Wed","Thu","Fri","Sat","Sun","5 Day Ave","7 Day Ave",null,"Mon","Tue","Wed","Thu","Fri","Sat","Sun","5 Day Ave","7 Day Ave",null,null,"M'Cycle & P'Cycle","Cars","LGV & PSV 2Axle","OGV1 & PSV 3Axle","OGV2","Total",{"$f":"AW4","v":"M'Cycle & P'Cycle"},"Cars","LGV & PSV 2Axle","OGV1 & PSV 3Axle","OGV2","Total","M'Cycle & P'Cycle","Cars","LGV/PSV 2Axle","OGV1/PSV 3Axle","OGV2","Total",{"$f":"BI4","v":"M'Cycle & P'Cycle"},{"$f":"BJ4","v":"Cars"},"LGV/PSV 2Axle","OGV1/PSV 3Axle","OGV2","Total"]
[null,"Direction Options",null,null,null,null,1,"Harper Road (South of Falmouth Road)","51.49617, -0.09302",1,"Southbound",{"$f":"IF(K5=\"Northbound\",\"Southbound\",IF(K5=\"Eastbound\",\"Westbound\",IF(K5=\"Southbound\",\"Northbound\",IF(K5=\"Westbound\",\"Eastbound\"))))","v":"Northbound"},"2017-04-20",20,{"$f":"IF(ISBLANK(H5),0,J5&\". \"&H5&\" - \"&I5)","v":"1. Harper Road (South of Falmouth Road) - 51.49617, -0.09302"},{"$f":"IF(M5=\"\", \"\", TEXT(M5,\"dddd\"))","v":"Thursday"},"2017-04-24","2017-04-25","2017-04-26","2017-04-20","2017-04-21","2017-04-22","2017-04-23","Site 1:\nNo incidents",null,null,0,{"$f":"OFFSET('Raw Data'!EJ4,$B$38,$B$37)","v":30},{"$f":"OFFSET('Raw Data'!EK4,$B$38,$B$37)","v":28},{"$f":"OFFSET('Raw Data'!EL4,$B$38,$B$37)","v":34},{"$f":"OFFSET('Raw Data'!EM4,$B$38,$B$37)","v":42},{"$f":"OFFSET('Raw Data'!EN4,$B$38,$B$37)","v":41},{"$f":"OFFSET('Raw Data'!EO4,$B$38,$B$37)","v":42},{"$f":"OFFSET('Raw Data'!EP4,$B$38,$B$37)","v":57},{"$f":"SUM(AB5:AF5)/5","v":35},{"$f":"SUM(AB5:AH5)/7","v":39.142857142857146},"00:00",{"$f":"IF(AL$3=TRUE,AB5,\"\")","v":30},{"$f":"IF(AM$3=TRUE,AC5,\"\")","v":28},34,42,41,42,57,{"$f":"IF(AS$3=TRUE,AI5,\"\")","v":35},{"$f":"IF(AT$3=TRUE,AJ5,\"\")","v":39.142857142857146},null,null,null,null,null,null,null,null,null,null,null,null,null,null,null,null,null,null,null,null,"PC & MC","PC & MC","PC & MC","PC & MC","PC & MC","PC & MC"]
[null,{"$f":"+K3","v":"Southbound"},null,null,null,null,2,"Harper Road (South of Borough High street)","51.49882, -0.09646",2,"Southbound","Northbound","2017-04-20",20,{"$f":"IF(ISBLANK(H6),0,J6&\". \"&H6&\" - \"&I6)","v":"2. Harper Road (South of Borough High street) - 51.49882, -0.09646"},{"$f":"IF(M6=\"\", \"\", TEXT(M6,\"dddd\"))","v":"Thursday"},"2017-04-24","2017-04-25","2017-04-26","2017-04-20","2017-04-21","2017-04-22","2017-04-23","Site 2:\nNo incidents",null,null,15,{"$f":"OFFSET('Raw Data'!EJ5,$B$38,$B$37)","v":24},{"$f":"OFFSET('Raw Data'!EK5,$B$38,$B$37)","v":26},{"$f":"OFFSET('Raw Data'!EL5,$B$38,$B$37)","v":36},{"$f":"OFFSET('Raw Data'!EM5,$B$38,$B$37)","v":32},{"$f":"OFFSET('Raw Data'!EN5,$B$38,$B$37)","v":23},{"$f":"OFFSET('Raw Data'!EO5,$B$38,$B$37)","v":45},{"$f":"OFFSET('Raw Data'!EP5,$B$38,$B$37)","v":35},{"$f":"SUM(AB6:AF6)/5","v":28.2},31.571428571428573,{"$f":"AK5+\"00:15\"","v":"00:15:00"},{"$f":"IF(AL$3=TRUE,AB6,\"\")","v":24},{"$f":"IF(AM$3=TRUE,AC6,\"\")","v":26},{"$f":"IF(AN$3=TRUE,AD6,\"\")","v":36},{"$f":"IF(AO$3=TRUE,AE6,\"\")","v":32},{"$f":"IF(AP$3=TRUE,AF6,\"\")","v":23},{"$f":"IF(AQ$3=TRUE,AG6,\"\")","v":45},{"$f":"IF(AR$3=TRUE,AH6,\"\")","v":35},{"$f":"IF(AS$3=TRUE,AI6,\"\")","v":28.2},{"$f":"IF(AT$3=TRUE,AJ6,\"\")","v":31.571428571428573},null,"Volume",{"$f":"SUM(OFFSET('Raw Data'!DR4, Input_Details!$B$12, 0):OFFSET('Raw Data'!DR675, Input_Details!$B$12, 0))","v":3330},{"$f":"SUM(OFFSET('Raw Data'!DS4, Input_Details!$B$12, 0):OFFSET('Raw Data'!DS675, Input_Details!$B$12, 0))","v":22222},{"$f":"SUM(OFFSET('Raw Data'!DT4, Input_Details!$B$12, 0):OFFSET('Raw Data'!DT675, Input_Details!$B$12, 0))","v":2846},{"$f":"SUM(OFFSET('Raw Data'!DU4, Input_Details!$B$12, 0):OFFSET('Raw Data'!DU675, Input_Details!$B$12, 0))","v":743},{"$f":"SUM(OFFSET('Raw Data'!DV4, Input_Details!$B$12, 0):OFFSET('Raw Data'!DV675, Input_Details!$B$12, 0))","v":396},{"$f":"SUM(OFFSET('Raw Data'!DW4, Input_Details!$B$12, 0):OFFSET('Raw Data'!DW675, Input_Details!$B$12, 0))","v":29537},{"$f":"SUM(OFFSET('Raw Data'!DX4, Input_Details!$B$12, 0):OFFSET('Raw Data'!DX675, Input_Details!$B$12, 0))","v":1361},{"$f":"SUM(OFFSET('Raw Data'!DY4, Input_Details!$B$12, 0):OFFSET('Raw Data'!DY675, Input_Details!$B$12, 0))","v":3568},{"$f":"SUM(OFFSET('Raw Data'!DZ4, Input_Details!$B$12, 0):OFFSET('Raw Data'!DZ675, Input_Details!$B$12, 0))","v":90},{"$f":"SUM(OFFSET('Raw Data'!EA4, Input_Details!$B$12, 0):OFFSET('Raw Data'!EA675, Input_Details!$B$12, 0))","v":190},{"$f":"SUM(OFFSET('Raw Data'!EB4, Input_Details!$B$12, 0):OFFSET('Raw Data'!EB675, Input_Details!$B$12, 0))","v":50},{"$f":"SUM(OFFSET('Raw Data'!EC4, Input_Details!$B$12, 0):OFFSET('Raw Data'!EC675, Input_Details!$B$12, 0))","v":5259},{"$f":"SUM(AW6,BC6)","v":4691},25790,2936,933,446,34796,{"$f":"IF(Input_Details!$B$4=1, Input_Details!AW6, IF(Input_Details!$B$4=2, Input_Details!BC6, Input_Details!BI6))","v":4691},{"$f":"IF(Input_Details!$B$4=1, Input_Details!AX6, IF(Input_Details!$B$4=2, Input_Details!BD6, Input_Details!BJ6))","v":25790},{"$f":"IF(Input_Details!$B$4=1, Input_Details!AY6, IF(Input_Details!$B$4=2, Input_Details!BE6, Input_Details!BK6))","v":2936},{"$f":"IF(Input_Details!$B$4=1, Input_Details!AZ6, IF(Input_Details!$B$4=2, Input_Details!BF6, Input_Details!BL6))","v":933},{"$f":"IF(Input_Details!$B$4=1, Input_Details!BA6, IF(Input_Details!$B$4=2, Input_Details!BG6, Input_Details!BM6))","v":446},{"$f":"SUM(BO6:BS6)","v":34796}]
[null,{"$f":"+L3","v":"Northbound"},null,null,null,null,3,null,null,null,null,null,null,null,0,"",null,null,null,null,null,null,null,null,null,null,30,{"$f":"OFFSET('Raw Data'!EJ6,$B$38,$B$37)","v":22},{"$f":"OFFSET('Raw Data'!EK6,$B$38,$B$37)","v":17},{"$f":"OFFSET('Raw Data'!EL6,$B$38,$B$37)","v":38},{"$f":"OFFSET('Raw Data'!EM6,$B$38,$B$37)","v":20},{"$f":"OFFSET('Raw Data'!EN6,$B$38,$B$37)","v":31},{"$f":"OFFSET('Raw Data'!EO6,$B$38,$B$37)","v":41},{"$f":"OFFSET('Raw Data'!EP6,$B$38,$B$37)","v":49},25.6,31.142857142857142,{"$f":"AK6+\"00:15\"","v":"00:30:00"},22,17,38,20,31,41,49,25.6,31.142857142857142,null,"(%)",{"$f":"AW6/$BB$6","v":0.11273995327893828},{"$f":"AX6/$BB$6","v":0.75234451704641636},9.6353725835392895E-2,2.5154890476351693E-2,1.3406913362900768E-2,null,{"$f":"BC6/$BH$6","v":0.25879444761361475},{"$f":"BD6/$BH$6","v":0.67845598022437725},1.7113519680547633E-2,3.612854154782278E-2,9.5075109336375738E-3,null,{"$f":"BI6/$BN$6","v":0.13481434647660651},{"$f":"BJ6/$BN$6","v":0.74117714679848257},8.4377514656857111E-2,2.6813426830670194E-2,1.2817565237383607E-2,null,{"$f":"IF(Input_Details!$B$4=1, Input_Details!AW7, IF(Input_Details!$B$4=2, Input_Details!BC7, Input_Details!BI7))","v":0.13481434647660651},{"$f":"IF(Input_Details!$B$4=1, Input_Details!AX7, IF(Input_Details!$B$4=2, Input_Details!BD7, Input_Details!BJ7))","v":0.74117714679848257},{"$f":"IF(Input_Details!$B$4=1, Input_Details!AY7, IF(Input_Details!$B$4=2, Input_Details!BE7, Input_Details!BK7))","v":8.4377514656857111E-2},{"$f":"IF(Input_Details!$B$4=1, Input_Details!AZ7, IF(Input_Details!$B$4=2, Input_Details!BF7, Input_Details!BL7))","v":2.6813426830670194E-2},{"$f":"IF(Input_Details!$B$4=1, Input_Details!BA7, IF(Input_Details!$B$4=2, Input_Details!BG7, Input_Details!BM7))","v":1.2817565237383607E-2}]
[null,{"$f":"IF(OR(B6=\"-\", B7=\"-\"), \"-\", \"Combined\")","v":"Combined"},null,null,null,null,4,null,null,null,null,null,null,null,0,"",null,null,null,null,null,null,null,null,null,null,45,{"$f":"OFFSET('Raw Data'!EJ7,$B$38,$B$37)","v":19},{"$f":"OFFSET('Raw Data'!EK7,$B$38,$B$37)","v":24},{"$f":"OFFSET('Raw Data'!EL7,$B$38,$B$37)","v":23},{"$f":"OFFSET('Raw Data'!EM7,$B$38,$B$37)","v":28},{"$f":"OFFSET('Raw Data'!EN7,$B$38,$B$37)","v":35},{"$f":"OFFSET('Raw Data'!EO7,$B$38,$B$37)","v":44},{"$f":"OFFSET('Raw Data'!EP7,$B$38,$B$37)","v":49},25.8,31.714285714285715,"00:45:00",19,24,23,28,35,44,49,25.8,31.714285714285715]
[null,null,null,null,null,null,5,null,null,null,null,null,null,null,0,"",null,null,null,null,null,null,null,null,null,null,100,{"$f":"OFFSET('Raw Data'!EJ8,$B$38,$B$37)","v":17},{"$f":"OFFSET('Raw Data'!EK8,$B$38,$B$37)","v":14},{"$f":"OFFSET('Raw Data'!EL8,$B$38,$B$37)","v":21},{"$f":"OFFSET('Raw Data'!EM8,$B$38,$B$37)","v":20},{"$f":"OFFSET('Raw Data'!EN8,$B$38,$B$37)","v":25},{"$f":"OFFSET('Raw Data'!EO8,$B$38,$B$37)","v":27},{"$f":"OFFSET('Raw Data'!EP8,$B$38,$B$37)","v":35},19.399999999999999,22.714285714285715,"01:00:00",17,14,21,20,25,27,35,19.399999999999999,22.714285714285715,null,null,{"$f":"K3","v":"Southbound"},null,null,null,null,null,null,{"$f":"L3","v":"Northbound"},null,null,null,null,null,null,"COMBINED",null,null,null,null,null,null,"DROPDOWN MENU SELECTION"]
[null,"Current Data Row Reference (vol)","Vol Sum Dir (Avg)",null,null,null,6,null,null,null,null,null,null,null,0,"",null,null,null,null,null,null,null,null,null,null,115,{"$f":"OFFSET('Raw Data'!EJ9,$B$38,$B$37)","v":10},{"$f":"OFFSET('Raw Data'!EK9,$B$38,$B$37)","v":16},{"$f":"OFFSET('Raw Data'!EL9,$B$38,$B$37)","v":28},{"$f":"OFFSET('Raw Data'!EM9,$B$38,$B$37)","v":18},{"$f":"OFFSET('Raw Data'!EN9,$B$38,$B$37)","v":15},{"$f":"OFFSET('Raw Data'!EO9,$B$38,$B$37)","v":31},{"$f":"OFFSET('Raw Data'!EP9,$B$38,$B$37)","v":39},17.399999999999999,22.428571428571427,"01:15:00",10,16,28,18,15,31,39,17.399999999999999,22.428571428571427,null,null,"Mon","Tue","Wed","Thu","Fri","Sat","Sun","Mon","Tue","Wed","Thu","Fri","Sat","Sun","Mon","Tue","Wed","Thu","Fri","Sat","Sun","Mon","Tue","Wed","Thu","Fri","Sat","Sun"]
[null,{"$f":"SUM(B4-1)*7","v":14},{"$f":"SUM(B4-1)*6","v":12},null,null,null,7,null,null,null,null,null,null,null,0,"",null,null,null,null,null,null,null,null,null,null,130,{"$f":"OFFSET('Raw Data'!EJ10,$B$38,$B$37)","v":17},{"$f":"OFFSET('Raw Data'!EK10,$B$38,$B$37)","v":18},{"$f":"OFFSET('Raw Data'!EL10,$B$38,$B$37)","v":19},{"$f":"OFFSET('Raw Data'!EM10,$B$38,$B$37)","v":17},{"$f":"OFFSET('Raw Data'!EN10,$B$38,$B$37)","v":23},{"$f":"OFFSET('Raw Data'!EO10,$B$38,$B$37)","v":26},{"$f":"OFFSET('Raw Data'!EP10,$B$38,$B$37)","v":30},18.8,21.428571428571427,"01:30:00",17,18,19,17,23,26,30,18.8,21.428571428571427,null,"Avg speed",{"$f":"AVERAGE(OFFSET('Raw Data'!$AN$4, $B$12, 0):OFFSET('Raw Data'!$AN$99,$B$12, 0))","v":19.530208333333327},{"$f":"AVERAGE(OFFSET('Raw Data'!$AN$100, $B$12, 0):OFFSET('Raw Data'!$AN$195,$B$12, 0))","v":19.658333333333328},{"$f":"AVERAGE(OFFSET('Raw Data'!$AN$196, $B$12, 0):OFFSET('Raw Data'!$AN$291,$B$12, 0))","v":20.043749999999992},{"$f":"AVERAGE(OFFSET('Raw Data'!$AN$292, $B$12, 0):OFFSET('Raw Data'!$AN$387,$B$12, 0))","v":19.341666666666654},{"$f":"AVERAGE(OFFSET('Raw Data'!$AN$388, $B$12, 0):OFFSET('Raw Data'!$AN$483,$B$12, 0))","v":19.14791666666666},{"$f":"AVERAGE(OFFSET('Raw Data'!$AN$484, $B$12, 0):OFFSET('Raw Data'!$AN$579,$B$12, 0))","v":18.414583333333333},{"$f":"AVERAGE(OFFSET('Raw Data'!$AN$580, $B$12, 0):OFFSET('Raw Data'!$AN$675,$B$12, 0))","v":17.993749999999991},{"$f":"AVERAGE(OFFSET('Raw Data'!$CA$4, $B$12, 0):OFFSET('Raw Data'!$CA$99,$B$12, 0))","v":16.969473684210527},{"$f":"AVERAGE(OFFSET('Raw Data'!$CA$100, $B$12, 0):OFFSET('Raw Data'!$CA$195,$B$12, 0))","v":16.490526315789467},{"$f":"AVERAGE(OFFSET('Raw Data'!$CA$196, $B$12, 0):OFFSET('Raw Data'!$CA$291,$B$12, 0))","v":16.830526315789466},{"$f":"AVERAGE(OFFSET('Raw Data'!$CA$292, $B$12, 0):OFFSET('Raw Data'!$CA$387,$B$12, 0))","v":17.073626373626375},{"$f":"AVERAGE(OFFSET('Raw Data'!$CA$388, $B$12, 0):OFFSET('Raw Data'!$CA$483,$B$12, 0))","v":16.660439560439556},{"$f":"AVERAGE(OFFSET('Raw Data'!$CA$484, $B$12, 0):OFFSET('Raw Data'!$CA$579,$B$12, 0))","v":16.250537634408598},{"$f":"AVERAGE(OFFSET('Raw Data'!$CA$580, $B$12, 0):OFFSET('Raw Data'!$CA$675,$B$12, 0))","v":15.952083333333334},{"$f":"AVERAGE(OFFSET('Raw Data'!$DN$4, $B$12, 0):OFFSET('Raw Data'!$DN$99,$B$12, 0))","v":19.140272967910811},{"$f":"AVERAGE(OFFSET('Raw Data'!$DN$100, $B$12, 0):OFFSET('Raw Data'!$DN$195,$B$12, 0))","v":18.995315395322734},{"$f":"AVERAGE(OFFSET('Raw Data'!$DN$196, $B$12, 0):OFFSET('Raw Data'!$DN$291,$B$12, 0))","v":19.306883134275754},{"$f":"AVERAGE(OFFSET('Raw Data'!$DN$292, $B$12, 0):OFFSET('Raw Data'!$DN$387,$B$12, 0))","v":19.045236696791779},{"$f":"AVERAGE(OFFSET('Raw Data'!$DN$388, $B$12, 0):OFFSET('Raw Data'!$DN$483,$B$12, 0))","v":18.819323561149531},{"$f":"AVERAGE(OFFSET('Raw Data'!$DN$484, $B$12, 0):OFFSET('Raw Data'!$DN$579,$B$12, 0))","v":18.114926745285764},{"$f":"AVERAGE(OFFSET('Raw Data'!$DN$580, $B$12, 0):OFFSET('Raw Data'!$DN$675,$B$12, 0))","v":17.656966333371496},{"$f":"IF(Input_Details!$B$4=1, Input_Details!AW11, IF(Input_Details!$B$4=2, Input_Details!BD11, Input_Details!BK11))","v":19.140272967910811},{"$f":"IF(Input_Details!$B$4=1, Input_Details!AX11, IF(Input_Details!$B$4=2, Input_Details!BE11, Input_Details!BL11))","v":18.995315395322734},{"$f":"IF(Input_Details!$B$4=1, Input_Details!AY11, IF(Input_Details!$B$4=2, Input_Details!BF11, Input_Details!BM11))","v":19.306883134275754},{"$f":"IF(Input_Details!$B$4=1, Input_Details!AZ11, IF(Input_Details!$B$4=2, Input_Details!BG11, Input_Details!BN11))","v":19.045236696791779},{"$f":"IF(Input_Details!$B$4=1, Input_Details!BA11, IF(Input_Details!$B$4=2, Input_Details!BH11, Input_Details!BO11))","v":18.819323561149531},{"$f":"IF(Input_Details!$B$4=1, Input_Details!BB11, IF(Input_Details!$B$4=2, Input_Details!BI11, Input_Details!BP11))","v":18.114926745285764},{"$f":"IF(Input_Details!$B$4=1, Input_Details!BC11, IF(Input_Details!$B$4=2, Input_Details!BJ11, Input_Details!BQ11))","v":17.656966333371496}]
[null,{"$f":"SUM($G$3-1)*864","v":0},{"$f":"SUM($G$3-1)*864","v":0},null,null,null,8,null,null,null,null,null,null,null,0,"",null,null,null,null,null,null,null,null,null,null,145,{"$f":"OFFSET('Raw Data'!EJ11,$B$38,$B$37)","v":12},{"$f":"OFFSET('Raw Data'!EK11,$B$38,$B$37)","v":15},{"$f":"OFFSET('Raw Data'!EL11,$B$38,$B$37)","v":13},{"$f":"OFFSET('Raw Data'!EM11,$B$38,$B$37)","v":12},{"$f":"OFFSET('Raw Data'!EN11,$B$38,$B$37)","v":17},{"$f":"OFFSET('Raw Data'!EO11,$B$38,$B$37)","v":24},{"$f":"OFFSET('Raw Data'!EP11,$B$38,$B$37)","v":26},13.8,17,"01:45:00",12,15,13,12,17,24,26,13.8,17]
[null,null,null,null,null,null,9,null,null,null,null,null,null,null,0,"",null,null,null,null,null,null,null,null,null,null,200,{"$f":"OFFSET('Raw Data'!EJ12,$B$38,$B$37)","v":7},{"$f":"OFFSET('Raw Data'!EK12,$B$38,$B$37)","v":7},{"$f":"OFFSET('Raw Data'!EL12,$B$38,$B$37)","v":14},{"$f":"OFFSET('Raw Data'!EM12,$B$38,$B$37)","v":14},{"$f":"OFFSET('Raw Data'!EN12,$B$38,$B$37)","v":14},{"$f":"OFFSET('Raw Data'!EO12,$B$38,$B$37)","v":25},{"$f":"OFFSET('Raw Data'!EP12,$B$38,$B$37)","v":38},11.2,17,"02:00:00",7,7,14,14,14,25,38,11.2,17,null,null,"7D - avg speed","7-D 85th","7D avg, no. speeding","7D TOT"]
[null,null,null,null,null,null,10,null,null,null,null,null,null,null,0,"",null,null,null,null,null,null,null,null,null,null,215,{"$f":"OFFSET('Raw Data'!EJ13,$B$38,$B$37)","v":11},{"$f":"OFFSET('Raw Data'!EK13,$B$38,$B$37)","v":9},{"$f":"OFFSET('Raw Data'!EL13,$B$38,$B$37)","v":12},{"$f":"OFFSET('Raw Data'!EM13,$B$38,$B$37)","v":16},{"$f":"OFFSET('Raw Data'!EN13,$B$38,$B$37)","v":12},{"$f":"OFFSET('Raw Data'!EO13,$B$38,$B$37)","v":26},{"$f":"OFFSET('Raw Data'!EP13,$B$38,$B$37)","v":34},12,17.142857142857142,"02:15:00",11,9,12,16,12,26,34,12,17.142857142857142,null,"PRI",{"$f":"IFERROR(AVERAGE(OFFSET('Raw Data'!$AN$772, $B$12, 0):OFFSET('Raw Data'!$AN867,$B$12, 0)), \"-\")","v":19.161458333333339},{"$f":"IFERROR(AVERAGE(OFFSET('Raw Data'!$AO$772, $B$12, 0):OFFSET('Raw Data'!$AO$867,$B$12, 0)), \"-\")","v":22.49332589285714},{"$f":"IFERROR(SUM(OFFSET('Raw Data'!$T$772,$B$12,VLOOKUP(Input_Details!$N$3, 'Speed Summary'!$AF$3:$AG$12, 2,0)-1):OFFSET('Raw Data'!$AM$867, $B$12, 0)), \"-\")","v":1435},{"$f":"IFERROR(SUM(OFFSET('Raw Data'!$T$772, $B$12, 0):OFFSET('Raw Data'!$AM$867, $B$12, 0)), \"-\")","v":3976}]
[null,"Day Options",null,null,null,null,11,null,null,null,null,null,null,null,null,null,null,null,null,null,null,null,null,null,null,null,230,{"$f":"OFFSET('Raw Data'!EJ14,$B$38,$B$37)","v":4},{"$f":"OFFSET('Raw Data'!EK14,$B$38,$B$37)","v":5},{"$f":"OFFSET('Raw Data'!EL14,$B$38,$B$37)","v":9},{"$f":"OFFSET('Raw Data'!EM14,$B$38,$B$37)","v":11},{"$f":"OFFSET('Raw Data'!EN14,$B$38,$B$37)","v":14},{"$f":"OFFSET('Raw Data'!EO14,$B$38,$B$37)","v":23},{"$f":"OFFSET('Raw Data'!EP14,$B$38,$B$37)","v":32},8.6,14,"02:30:00",4,5,9,11,14,23,32,8.6,14,null,"SEC",{"$f":"IFERROR(AVERAGE(OFFSET('Raw Data'!$CA$772, $B$12, 0):OFFSET('Raw Data'!$CA$867,$B$12, 0)), \"-\")","v":16.628159722222225},{"$f":"IFERROR(AVERAGE(OFFSET('Raw Data'!$CB$772, $B$12, 0):OFFSET('Raw Data'!$CB$867,$B$12, 0)), \"-\")","v":19.056250000000006},{"$f":"IFERROR(SUM(OFFSET('Raw Data'!$BG$772,$B$12,VLOOKUP(Input_Details!$N$3, 'Speed Summary'!$AF$3:$AG$12, 2,0)-1):OFFSET('Raw Data'!$BZ$867, $B$12, 0)), \"-\")","v":73},{"$f":"IFERROR(SUM(OFFSET('Raw Data'!$BG$772, $B$12, 0):OFFSET('Raw Data'!$BZ$867, $B$12, 0)), \"-\")","v":562}]
[null,"Monday",null,null,null,null,12,null,null,null,null,null,null,null,null,null,null,null,null,null,null,null,null,null,null,null,245,{"$f":"OFFSET('Raw Data'!EJ15,$B$38,$B$37)","v":4},{"$f":"OFFSET('Raw Data'!EK15,$B$38,$B$37)","v":5},{"$f":"OFFSET('Raw Data'!EL15,$B$38,$B$37)","v":10},{"$f":"OFFSET('Raw Data'!EM15,$B$38,$B$37)","v":6},{"$f":"OFFSET('Raw Data'!EN15,$B$38,$B$37)","v":13},{"$f":"OFFSET('Raw Data'!EO15,$B$38,$B$37)","v":13},{"$f":"OFFSET('Raw Data'!EP15,$B$38,$B$37)","v":26},7.6,11,"02:45:00",4,5,10,6,13,13,26,7.6,11,null,"COM",{"$f":"IFERROR(AVERAGE(OFFSET('Raw Data'!$DN$772, $B$12, 0):OFFSET('Raw Data'!$DN$867,$B$12, 0)), \"-\")","v":18.744612830431734},{"$f":"IFERROR(AVERAGE(OFFSET('Raw Data'!$DO$772, $B$12, 0):OFFSET('Raw Data'!$DO$867,$B$12, 0)), \"-\")","v":21.303072916666654},{"$f":"IFERROR(SUM(OFFSET('Raw Data'!$CT$772,$B$12,VLOOKUP(Input_Details!$N$3, 'Speed Summary'!$AF$3:$AG$12, 2,0)-1):OFFSET('Raw Data'!$DM$867, $B$12, 0)), \"-\")","v":1696},{"$f":"IFERROR(SUM(OFFSET('Raw Data'!$CT$772, $B$12, 0):OFFSET('Raw Data'!$DM$867, $B$12, 0)), \"-\")","v":4950}]
[null,"Tuesday",null,null,null,null,13,null,null,null,null,null,null,null,null,null,null,null,null,null,null,null,null,null,null,null,300,{"$f":"OFFSET('Raw Data'!EJ16,$B$38,$B$37)","v":10},{"$f":"OFFSET('Raw Data'!EK16,$B$38,$B$37)","v":5},{"$f":"OFFSET('Raw Data'!EL16,$B$38,$B$37)","v":16},{"$f":"OFFSET('Raw Data'!EM16,$B$38,$B$37)","v":8},{"$f":"OFFSET('Raw Data'!EN16,$B$38,$B$37)","v":6},{"$f":"OFFSET('Raw Data'!EO16,$B$38,$B$37)","v":19},{"$f":"OFFSET('Raw Data'!EP16,$B$38,$B$37)","v":25},9,12.714285714285714,"03:00:00",10,5,16,8,6,19,25,9,12.714285714285714]
[null,"Wednesday",null,null,null,null,14,null,null,null,null,null,null,null,null,null,null,null,null,null,null,null,null,null,null,null,315,{"$f":"OFFSET('Raw Data'!EJ17,$B$38,$B$37)","v":9},{"$f":"OFFSET('Raw Data'!EK17,$B$38,$B$37)","v":12},{"$f":"OFFSET('Raw Data'!EL17,$B$38,$B$37)","v":12},{"$f":"OFFSET('Raw Data'!EM17,$B$38,$B$37)","v":6},{"$f":"OFFSET('Raw Data'!EN17,$B$38,$B$37)","v":15},{"$f":"OFFSET('Raw Data'!EO17,$B$38,$B$37)","v":14},{"$f":"OFFSET('Raw Data'!EP17,$B$38,$B$37)","v":21},10.8,12.714285714285714,"03:15:00",9,12,12,6,15,14,21,10.8,12.714285714285714]
[null,"Thursday",null,null,null,null,15,null,null,null,null,null,null,null,null,null,null,null,null,null,null,null,null,null,null,null,330,{"$f":"OFFSET('Raw Data'!EJ18,$B$38,$B$37)","v":7},{"$f":"OFFSET('Raw Data'!EK18,$B$38,$B$37)","v":5},{"$f":"OFFSET('Raw Data'!EL18,$B$38,$B$37)","v":6},{"$f":"OFFSET('Raw Data'!EM18,$B$38,$B$37)","v":9},{"$f":"OFFSET('Raw Data'!EN18,$B$38,$B$37)","v":18},{"$f":"OFFSET('Raw Data'!EO18,$B$38,$B$37)","v":21},{"$f":"OFFSET('Raw Data'!EP18,$B$38,$B$37)","v":20},9,12.285714285714286,"03:30:00",7,5,6,9,18,21,20,9,12.285714285714286]
[null,"Friday",null,null,null,null,16,null,null,null,null,null,null,null,null,null,null,null,null,null,null,null,null,null,null,null,345,{"$f":"OFFSET('Raw Data'!EJ19,$B$38,$B$37)","v":6},{"$f":"OFFSET('Raw Data'!EK19,$B$38,$B$37)","v":11},{"$f":"OFFSET('Raw Data'!EL19,$B$38,$B$37)","v":12},{"$f":"OFFSET('Raw Data'!EM19,$B$38,$B$37)","v":8},{"$f":"OFFSET('Raw Data'!EN19,$B$38,$B$37)","v":11},{"$f":"OFFSET('Raw Data'!EO19,$B$38,$B$37)","v":12},{"$f":"OFFSET('Raw Data'!EP19,$B$38,$B$37)","v":21},9.6,11.571428571428571,"03:45:00",6,11,12,8,11,12,21,9.6,11.571428571428571]
[null,"Saturday",null,null,null,null,17,null,null,null,null,null,null,null,null,null,null,null,null,null,null,null,null,null,null,null,400,{"$f":"OFFSET('Raw Data'!EJ20,$B$38,$B$37)","v":7},{"$f":"OFFSET('Raw Data'!EK20,$B$38,$B$37)","v":6},{"$f":"OFFSET('Raw Data'!EL20,$B$38,$B$37)","v":7},{"$f":"OFFSET('Raw Data'!EM20,$B$38,$B$37)","v":12},{"$f":"OFFSET('Raw Data'!EN20,$B$38,$B$37)","v":11},{"$f":"OFFSET('Raw Data'!EO20,$B$38,$B$37)","v":13},{"$f":"OFFSET('Raw Data'!EP20,$B$38,$B$37)","v":10},8.6,9.4285714285714288,"04:00:00",7,6,7,12,11,13,10,8.6,9.4285714285714288]
[null,"Sunday",null,null,null,null,18,null,null,null,null,null,null,null,null,null,null,null,null,null,null,null,null,null,null,null,415,{"$f":"OFFSET('Raw Data'!EJ21,$B$38,$B$37)","v":6},{"$f":"OFFSET('Raw Data'!EK21,$B$38,$B$37)","v":10},{"$f":"OFFSET('Raw Data'!EL21,$B$38,$B$37)","v":13},{"$f":"OFFSET('Raw Data'!EM21,$B$38,$B$37)","v":8},{"$f":"OFFSET('Raw Data'!EN21,$B$38,$B$37)","v":8},{"$f":"OFFSET('Raw Data'!EO21,$B$38,$B$37)","v":9},{"$f":"OFFSET('Raw Data'!EP21,$B$38,$B$37)","v":18},9,10.285714285714286,"04:15:00",6,10,13,8,8,9,18,9,10.285714285714286]
[null,"Weekday Average",null,null,null,null,19,null,null,null,null,null,null,null,null,null,null,null,null,null,null,null,null,null,null,null,430,{"$f":"OFFSET('Raw Data'!EJ22,$B$38,$B$37)","v":5},{"$f":"OFFSET('Raw Data'!EK22,$B$38,$B$37)","v":11},{"$f":"OFFSET('Raw Data'!EL22,$B$38,$B$37)","v":8},{"$f":"OFFSET('Raw Data'!EM22,$B$38,$B$37)","v":8},{"$f":"OFFSET('Raw Data'!EN22,$B$38,$B$37)","v":9},{"$f":"OFFSET('Raw Data'!EO22,$B$38,$B$37)","v":15},{"$f":"OFFSET('Raw Data'!EP22,$B$38,$B$37)","v":15},8.1999999999999993,10.142857142857142,"04:30:00",5,11,8,8,9,15,15,8.1999999999999993,10.142857142857142]
[null,"7-Day Average",null,null,null,null,20,null,null,null,null,null,null,null,null,null,null,null,null,null,null,null,null,null,null,null,445,{"$f":"OFFSET('Raw Data'!EJ23,$B$38,$B$37)","v":10},{"$f":"OFFSET('Raw Data'!EK23,$B$38,$B$37)","v":14},{"$f":"OFFSET('Raw Data'!EL23,$B$38,$B$37)","v":13},{"$f":"OFFSET('Raw Data'!EM23,$B$38,$B$37)","v":12},{"$f":"OFFSET('Raw Data'!EN23,$B$38,$B$37)","v":10},{"$f":"OFFSET('Raw Data'!EO23,$B$38,$B$37)","v":16},{"$f":"OFFSET('Raw Data'!EP23,$B$38,$B$37)","v":10},11.8,12.142857142857142,"04:45:00",10,14,13,12,10,16,10,11.8,12.142857142857142]
[null,9,null,null,null,null,null,null,null,null,null,null,null,null,null,null,null,null,null,null,null,null,null,null,null,null,500,{"$f":"OFFSET('Raw Data'!EJ24,$B$38,$B$37)","v":15},{"$f":"OFFSET('Raw Data'!EK24,$B$38,$B$37)","v":14},{"$f":"OFFSET('Raw Data'!EL24,$B$38,$B$37)","v":16},{"$f":"OFFSET('Raw Data'!EM24,$B$38,$B$37)","v":13},{"$f":"OFFSET('Raw Data'!EN24,$B$38,$B$37)","v":15},{"$f":"OFFSET('Raw Data'!EO24,$B$38,$B$37)","v":19},{"$f":"OFFSET('Raw Data'!EP24,$B$38,$B$37)","v":17},14.6,15.571428571428571,"05:00:00",15,14,16,13,15,19,17,14.6,15.571428571428571]
[null,null,null,null,null,null,null,"Input_Plans Details - alter if less site plans are needed than the no. of sites",null,null,null,null,null,null,null,null,null,null,null,null,null,null,null,null,null,null,515,{"$f":"OFFSET('Raw Data'!EJ25,$B$38,$B$37)","v":12},{"$f":"OFFSET('Raw Data'!EK25,$B$38,$B$37)","v":12},{"$f":"OFFSET('Raw Data'!EL25,$B$38,$B$37)","v":7},{"$f":"OFFSET('Raw Data'!EM25,$B$38,$B$37)","v":13},{"$f":"OFFSET('Raw Data'!EN25,$B$38,$B$37)","v":19},{"$f":"OFFSET('Raw Data'!EO25,$B$38,$B$37)","v":26},{"$f":"OFFSET('Raw Data'!EP25,$B$38,$B$37)","v":18},12.6,15.285714285714286,{"$f":"AK25+\"00:15\"","v":"05:15:00"},{"$f":"IF(AL$3=TRUE,AB26,\"\")","v":12},12,7,13,19,26,18,12.6,15.285714285714286]
[null,"Current Data Row Reference (Classes)",null,null,null,null,null,"Road","Location","Site No.",null,null,null,null,"\"Select Site…\"",null,null,null,null,null,null,null,null,null,null,null,530,{"$f":"OFFSET('Raw Data'!EJ26,$B$38,$B$37)","v":11},{"$f":"OFFSET('Raw Data'!EK26,$B$38,$B$37)","v":18},{"$f":"OFFSET('Raw Data'!EL26,$B$38,$B$37)","v":13},{"$f":"OFFSET('Raw Data'!EM26,$B$38,$B$37)","v":17},{"$f":"OFFSET('Raw Data'!EN26,$B$38,$B$37)","v":14},{"$f":"OFFSET('Raw Data'!EO26,$B$38,$B$37)","v":13},{"$f":"OFFSET('Raw Data'!EP26,$B$38,$B$37)","v":19},14.6,15,{"$f":"AK26+\"00:15\"","v":"05:30:00"},11,18,13,17,14,13,19,14.6,15]
[null,{"$f":"SUM(B25-1)*96","v":768},null,null,null,null,null,{"$f":"IF(H5=\"\", \"\", H5)","v":"Harper Road (South of Falmouth Road)"},{"$f":"IF(I5=\"\", \"\", I5)","v":"51.49617, -0.09302"},1,null,null,null,null,{"$f":"IF(H28=\"\", \"\",J28&\". \"&H28&\" - \"&I28)","v":"1. Harper Road (South of Falmouth Road) - 51.49617, -0.09302"},null,null,null,null,null,null,null,null,null,null,null,545,{"$f":"OFFSET('Raw Data'!EJ27,$B$38,$B$37)","v":19},{"$f":"OFFSET('Raw Data'!EK27,$B$38,$B$37)","v":28},{"$f":"OFFSET('Raw Data'!EL27,$B$38,$B$37)","v":31},{"$f":"OFFSET('Raw Data'!EM27,$B$38,$B$37)","v":17},{"$f":"OFFSET('Raw Data'!EN27,$B$38,$B$37)","v":23},{"$f":"OFFSET('Raw Data'!EO27,$B$38,$B$37)","v":13},{"$f":"OFFSET('Raw Data'!EP27,$B$38,$B$37)","v":17},23.6,21.142857142857142,"05:45:00",19,28,31,17,23,13,17,23.6,21.142857142857142]
[null,{"$f":"SUM(($G$3-1)*864)+B28","v":768},null,null,null,null,null,{"$f":"IF(H6=\"\", \"\", H6)","v":"Harper Road (South of Borough High street)"},"51.49882, -0.09646",2,null,null,null,null,{"$f":"IF(H29=\"\", \"\",J29&\". \"&H29&\" - \"&I29)","v":"2. Harper Road (South of Borough High street) - 51.49882, -0.09646"},null,null,null,null,null,null,null,null,null,null,null,600,{"$f":"OFFSET('Raw Data'!EJ28,$B$38,$B$37)","v":22},{"$f":"OFFSET('Raw Data'!EK28,$B$38,$B$37)","v":32},{"$f":"OFFSET('Raw Data'!EL28,$B$38,$B$37)","v":26},{"$f":"OFFSET('Raw Data'!EM28,$B$38,$B$37)","v":26},{"$f":"OFFSET('Raw Data'!EN28,$B$38,$B$37)","v":21},{"$f":"OFFSET('Raw Data'!EO28,$B$38,$B$37)","v":15},{"$f":"OFFSET('Raw Data'!EP28,$B$38,$B$37)","v":16},{"$f":"SUM(AB29:AF29)/5","v":25.4},{"$f":"SUM(AB29:AH29)/7","v":22.571428571428573},"06:00:00",22,32,26,26,21,15,16,25.4,22.571428571428573]
[null,null,null,null,null,null,null,{"$f":"IF(H7=\"\", \"\", H7)","v":""},"","",null,null,null,null,"",null,null,null,null,null,null,null,null,null,null,null,615,{"$f":"OFFSET('Raw Data'!EJ29,$B$38,$B$37)","v":35},{"$f":"OFFSET('Raw Data'!EK29,$B$38,$B$37)","v":43},{"$f":"OFFSET('Raw Data'!EL29,$B$38,$B$37)","v":42},{"$f":"OFFSET('Raw Data'!EM29,$B$38,$B$37)","v":34},{"$f":"OFFSET('Raw Data'!EN29,$B$38,$B$37)","v":37},{"$f":"OFFSET('Raw Data'!EO29,$B$38,$B$37)","v":21},{"$f":"OFFSET('Raw Data'!EP29,$B$38,$B$37)","v":22},38.200000000000003,33.428571428571431,"06:15:00",35,43,42,34,37,21,22,38.200000000000003,33.428571428571431]
[null,"Current Data Row Reference (Speed)",null,null,null,null,null,{"$f":"IF(H8=\"\", \"\", H8)","v":""},"","",null,null,null,null,"",null,null,null,null,null,null,null,null,null,null,null,630,{"$f":"OFFSET('Raw Data'!EJ30,$B$38,$B$37)","v":40},{"$f":"OFFSET('Raw Data'!EK30,$B$38,$B$37)","v":51},{"$f":"OFFSET('Raw Data'!EL30,$B$38,$B$37)","v":61},{"$f":"OFFSET('Raw Data'!EM30,$B$38,$B$37)","v":43},{"$f":"OFFSET('Raw Data'!EN30,$B$38,$B$37)","v":42},{"$f":"OFFSET('Raw Data'!EO30,$B$38,$B$37)","v":21},{"$f":"OFFSET('Raw Data'!EP30,$B$38,$B$37)","v":24},47.4,40.285714285714285,"06:30:00",40,51,61,43,42,21,24,47.4,40.285714285714285]
[null,{"$f":"SUM(B4-1)*39","v":78},null,null,null,null,null,{"$f":"IF(H9=\"\", \"\", H9)","v":""},"","",null,null,null,null,"",null,null,null,null,null,null,null,null,null,null,null,645,{"$f":"OFFSET('Raw Data'!EJ31,$B$38,$B$37)","v":52},{"$f":"OFFSET('Raw Data'!EK31,$B$38,$B$37)","v":56},{"$f":"OFFSET('Raw Data'!EL31,$B$38,$B$37)","v":50},{"$f":"OFFSET('Raw Data'!EM31,$B$38,$B$37)","v":43},{"$f":"OFFSET('Raw Data'!EN31,$B$38,$B$37)","v":51},{"$f":"OFFSET('Raw Data'!EO31,$B$38,$B$37)","v":20},{"$f":"OFFSET('Raw Data'!EP31,$B$38,$B$37)","v":24},50.4,42.285714285714285,"06:45:00",52,56,50,43,51,20,24,50.4,42.285714285714285]
[null,{"$f":"SUM(B25-1)*96","v":768},null,null,null,null,null,{"$f":"IF(H10=\"\", \"\", H10)","v":""},"","",null,null,null,null,"",null,null,null,null,null,null,null,null,null,null,null,700,{"$f":"OFFSET('Raw Data'!EJ32,$B$38,$B$37)","v":35},{"$f":"OFFSET('Raw Data'!EK32,$B$38,$B$37)","v":31},{"$f":"OFFSET('Raw Data'!EL32,$B$38,$B$37)","v":47},{"$f":"OFFSET('Raw Data'!EM32,$B$38,$B$37)","v":36},{"$f":"OFFSET('Raw Data'!EN32,$B$38,$B$37)","v":38},{"$f":"OFFSET('Raw Data'!EO32,$B$38,$B$37)","v":21},{"$f":"OFFSET('Raw Data'!EP32,$B$38,$B$37)","v":17},37.4,32.142857142857146,"07:00:00",35,31,47,36,38,21,17,37.4,32.142857142857146]
[null,{"$f":"SUM(B33+B12)","v":768},null,null,null,null,null,{"$f":"IF(H11=\"\", \"\", H11)","v":""},"","",null,null,null,null,"",null,null,null,null,null,null,null,null,null,null,null,715,{"$f":"OFFSET('Raw Data'!EJ33,$B$38,$B$37)","v":35},{"$f":"OFFSET('Raw Data'!EK33,$B$38,$B$37)","v":40},{"$f":"OFFSET('Raw Data'!EL33,$B$38,$B$37)","v":57},{"$f":"OFFSET('Raw Data'!EM33,$B$38,$B$37)","v":51},{"$f":"OFFSET('Raw Data'!EN33,$B$38,$B$37)","v":40},{"$f":"OFFSET('Raw Data'!EO33,$B$38,$B$37)","v":22},{"$f":"OFFSET('Raw Data'!EP33,$B$38,$B$37)","v":21},44.6,38,"07:15:00",35,40,57,51,40,22,21,44.6,38]
[null,null,null,null,null,null,null,{"$f":"IF(H12=\"\", \"\", H12)","v":""},"","",null,null,null,null,"",null,null,null,null,null,null,null,null,null,null,null,730,{"$f":"OFFSET('Raw Data'!EJ34,$B$38,$B$37)","v":52},{"$f":"OFFSET('Raw Data'!EK34,$B$38,$B$37)","v":59},{"$f":"OFFSET('Raw Data'!EL34,$B$38,$B$37)","v":61},{"$f":"OFFSET('Raw Data'!EM34,$B$38,$B$37)","v":57},{"$f":"OFFSET('Raw Data'!EN34,$B$38,$B$37)","v":62},{"$f":"OFFSET('Raw Data'!EO34,$B$38,$B$37)","v":24},{"$f":"OFFSET('Raw Data'!EP34,$B$38,$B$37)","v":13},58.2,46.857142857142854,"07:30:00",52,59,61,57,62,24,13,58.2,46.857142857142854]
[null,"Current Data Row Reference (Vol Graph)",null,null,null,null,null,{"$f":"IF(H13=\"\", \"\", H13)","v":""},"","",null,null,null,null,"",null,null,null,null,null,null,null,null,null,null,null,745,{"$f":"OFFSET('Raw Data'!EJ35,$B$38,$B$37)","v":55},{"$f":"OFFSET('Raw Data'!EK35,$B$38,$B$37)","v":67},{"$f":"OFFSET('Raw Data'!EL35,$B$38,$B$37)","v":66},{"$f":"OFFSET('Raw Data'!EM35,$B$38,$B$37)","v":49},{"$f":"OFFSET('Raw Data'!EN35,$B$38,$B$37)","v":51},{"$f":"OFFSET('Raw Data'!EO35,$B$38,$B$37)","v":34},{"$f":"OFFSET('Raw Data'!EP35,$B$38,$B$37)","v":22},57.6,49.142857142857146,"07:45:00",55,67,66,49,51,34,22,57.6,49.142857142857146]
[null,{"$f":"+B11","v":14},null,null,null,null,null,{"$f":"IF(H14=\"\", \"\", H14)","v":""},"","",null,null,null,null,"",null,null,null,null,null,null,null,null,null,null,null,800,{"$f":"OFFSET('Raw Data'!EJ36,$B$38,$B$37)","v":54},{"$f":"OFFSET('Raw Data'!EK36,$B$38,$B$37)","v":62},{"$f":"OFFSET('Raw Data'!EL36,$B$38,$B$37)","v":55},{"$f":"OFFSET('Raw Data'!EM36,$B$38,$B$37)","v":50},{"$f":"OFFSET('Raw Data'!EN36,$B$38,$B$37)","v":57},{"$f":"OFFSET('Raw Data'!EO36,$B$38,$B$37)","v":28},{"$f":"OFFSET('Raw Data'!EP36,$B$38,$B$37)","v":13},55.6,45.571428571428569,"08:00:00",54,62,55,50,57,28,13,55.6,45.571428571428569]
[null,{"$f":"+B12","v":0},null,null,null,null,null,null,null,null,null,null,null,null,null,null,null,null,null,null,null,null,null,null,null,null,815,{"$f":"OFFSET('Raw Data'!EJ37,$B$38,$B$37)","v":78},{"$f":"OFFSET('Raw Data'!EK37,$B$38,$B$37)","v":72},{"$f":"OFFSET('Raw Data'!EL37,$B$38,$B$37)","v":67},{"$f":"OFFSET('Raw Data'!EM37,$B$38,$B$37)","v":72},{"$f":"OFFSET('Raw Data'!EN37,$B$38,$B$37)","v":67},{"$f":"OFFSET('Raw Data'!EO37,$B$38,$B$37)","v":36},{"$f":"OFFSET('Raw Data'!EP37,$B$38,$B$37)","v":26},71.2,59.714285714285715,"08:15:00",78,72,67,72,67,36,26,71.2,59.714285714285715]
[null,null,null,null,null,null,null,null,null,null,null,null,null,null,null,null,null,null,null,null,null,null,null,null,null,null,830,{"$f":"OFFSET('Raw Data'!EJ38,$B$38,$B$37)","v":64},{"$f":"OFFSET('Raw Data'!EK38,$B$38,$B$37)","v":64},{"$f":"OFFSET('Raw Data'!EL38,$B$38,$B$37)","v":67},{"$f":"OFFSET('Raw Data'!EM38,$B$38,$B$37)","v":69},{"$f":"OFFSET('Raw Data'!EN38,$B$38,$B$37)","v":57},{"$f":"OFFSET('Raw Data'!EO38,$B$38,$B$37)","v":35},{"$f":"OFFSET('Raw Data'!EP38,$B$38,$B$37)","v":17},64.2,53.285714285714285,"08:30:00",64,64,67,69,57,35,17,64.2,53.285714285714285]
[null,null,null,null,null,null,null,null,null,null,null,null,null,null,null,null,null,null,null,null,null,null,null,null,null,null,845,{"$f":"OFFSET('Raw Data'!EJ39,$B$38,$B$37)","v":58},{"$f":"OFFSET('Raw Data'!EK39,$B$38,$B$37)","v":72},{"$f":"OFFSET('Raw Data'!EL39,$B$38,$B$37)","v":60},{"$f":"OFFSET('Raw Data'!EM39,$B$38,$B$37)","v":66},{"$f":"OFFSET('Raw Data'!EN39,$B$38,$B$37)","v":74},{"$f":"OFFSET('Raw Data'!EO39,$B$38,$B$37)","v":26},{"$f":"OFFSET('Raw Data'!EP39,$B$38,$B$37)","v":17},66,53.285714285714285,"08:45:00",58,72,60,66,74,26,17,66,53.285714285714285]
[null,null,null,null,null,null,null,null,null,null,null,null,null,null,null,null,null,null,null,null,null,null,null,null,null,null,900,{"$f":"OFFSET('Raw Data'!EJ40,$B$38,$B$37)","v":73},{"$f":"OFFSET('Raw Data'!EK40,$B$38,$B$37)","v":75},{"$f":"OFFSET('Raw Data'!EL40,$B$38,$B$37)","v":70},{"$f":"OFFSET('Raw Data'!EM40,$B$38,$B$37)","v":61},{"$f":"OFFSET('Raw Data'!EN40,$B$38,$B$37)","v":65},{"$f":"OFFSET('Raw Data'!EO40,$B$38,$B$37)","v":39},{"$f":"OFFSET('Raw Data'!EP40,$B$38,$B$37)","v":20},68.8,57.571428571428569,"09:00:00",73,75,70,61,65,39,20,68.8,57.571428571428569]
[null,null,null,null,null,null,null,null,null,null,null,null,null,null,null,null,null,null,null,null,null,null,null,null,null,null,915,{"$f":"OFFSET('Raw Data'!EJ41,$B$38,$B$37)","v":56},{"$f":"OFFSET('Raw Data'!EK41,$B$38,$B$37)","v":45},{"$f":"OFFSET('Raw Data'!EL41,$B$38,$B$37)","v":65},{"$f":"OFFSET('Raw Data'!EM41,$B$38,$B$37)","v":46},{"$f":"OFFSET('Raw Data'!EN41,$B$38,$B$37)","v":61},{"$f":"OFFSET('Raw Data'!EO41,$B$38,$B$37)","v":46},{"$f":"OFFSET('Raw Data'!EP41,$B$38,$B$37)","v":18},54.6,48.142857142857146,"09:15:00",56,45,65,46,61,46,18,54.6,48.142857142857146]
[null,null,null,null,null,null,null,null,null,null,null,null,null,null,null,null,null,null,null,null,null,null,null,null,null,null,930,{"$f":"OFFSET('Raw Data'!EJ42,$B$38,$B$37)","v":48},{"$f":"OFFSET('Raw Data'!EK42,$B$38,$B$37)","v":59},{"$f":"OFFSET('Raw Data'!EL42,$B$38,$B$37)","v":47},{"$f":"OFFSET('Raw Data'!EM42,$B$38,$B$37)","v":54},{"$f":"OFFSET('Raw Data'!EN42,$B$38,$B$37)","v":59},{"$f":"OFFSET('Raw Data'!EO42,$B$38,$B$37)","v":41},{"$f":"OFFSET('Raw Data'!EP42,$B$38,$B$37)","v":34},53.4,48.857142857142854,"09:30:00",48,59,47,54,59,41,34,53.4,48.857142857142854]
[null,null,null,null,null,null,null,null,null,null,null,null,null,null,null,null,null,null,null,null,null,null,null,null,null,null,945,{"$f":"OFFSET('Raw Data'!EJ43,$B$38,$B$37)","v":45},{"$f":"OFFSET('Raw Data'!EK43,$B$38,$B$37)","v":65},{"$f":"OFFSET('Raw Data'!EL43,$B$38,$B$37)","v":52},{"$f":"OFFSET('Raw Data'!EM43,$B$38,$B$37)","v":43},{"$f":"OFFSET('Raw Data'!EN43,$B$38,$B$37)","v":65},{"$f":"OFFSET('Raw Data'!EO43,$B$38,$B$37)","v":52},{"$f":"OFFSET('Raw Data'!EP43,$B$38,$B$37)","v":29},54,50.142857142857146,"09:45:00",45,65,52,43,65,52,29,54,50.142857142857146]
[null,null,null,null,null,null,null,null,null,null,null,null,null,null,null,null,null,null,null,null,null,null,null,null,null,null,1000,{"$f":"OFFSET('Raw Data'!EJ44,$B$38,$B$37)","v":57},{"$f":"OFFSET('Raw Data'!EK44,$B$38,$B$37)","v":53},{"$f":"OFFSET('Raw Data'!EL44,$B$38,$B$37)","v":63},{"$f":"OFFSET('Raw Data'!EM44,$B$38,$B$37)","v":51},{"$f":"OFFSET('Raw Data'!EN44,$B$38,$B$37)","v":41},{"$f":"OFFSET('Raw Data'!EO44,$B$38,$B$37)","v":48},{"$f":"OFFSET('Raw Data'!EP44,$B$38,$B$37)","v":24},53,48.142857142857146,"10:00:00",57,53,63,51,41,48,24,53,48.142857142857146]
[null,null,null,null,null,null,null,null,null,null,null,null,null,null,null,null,null,null,null,null,null,null,null,null,null,null,1015,{"$f":"OFFSET('Raw Data'!EJ45,$B$38,$B$37)","v":59},{"$f":"OFFSET('Raw Data'!EK45,$B$38,$B$37)","v":50},{"$f":"OFFSET('Raw Data'!EL45,$B$38,$B$37)","v":78},{"$f":"OFFSET('Raw Data'!EM45,$B$38,$B$37)","v":66},{"$f":"OFFSET('Raw Data'!EN45,$B$38,$B$37)","v":55},{"$f":"OFFSET('Raw Data'!EO45,$B$38,$B$37)","v":54},{"$f":"OFFSET('Raw Data'!EP45,$B$38,$B$37)","v":27},61.6,55.571428571428569,"10:15:00",59,50,78,66,55,54,27,61.6,55.571428571428569]
[null,null,null,null,null,null,null,null,null,null,null,null,null,null,null,null,null,null,null,null,null,null,null,null,null,null,1030,{"$f":"OFFSET('Raw Data'!EJ46,$B$38,$B$37)","v":52},{"$f":"OFFSET('Raw Data'!EK46,$B$38,$B$37)","v":65},{"$f":"OFFSET('Raw Data'!EL46,$B$38,$B$37)","v":69},{"$f":"OFFSET('Raw Data'!EM46,$B$38,$B$37)","v":67},{"$f":"OFFSET('Raw Data'!EN46,$B$38,$B$37)","v":62},{"$f":"OFFSET('Raw Data'!EO46,$B$38,$B$37)","v":47},{"$f":"OFFSET('Raw Data'!EP46,$B$38,$B$37)","v":30},63,56,"10:30:00",52,65,69,67,62,47,30,63,56]
[null,null,null,null,null,null,null,null,null,null,null,null,null,null,null,null,null,null,null,null,null,null,null,null,null,null,1045,{"$f":"OFFSET('Raw Data'!EJ47,$B$38,$B$37)","v":71},{"$f":"OFFSET('Raw Data'!EK47,$B$38,$B$37)","v":87},{"$f":"OFFSET('Raw Data'!EL47,$B$38,$B$37)","v":56},{"$f":"OFFSET('Raw Data'!EM47,$B$38,$B$37)","v":63},{"$f":"OFFSET('Raw Data'!EN47,$B$38,$B$37)","v":56},{"$f":"OFFSET('Raw Data'!EO47,$B$38,$B$37)","v":47},{"$f":"OFFSET('Raw Data'!EP47,$B$38,$B$37)","v":43},66.599999999999994,60.428571428571431,{"$f":"AK47+\"00:15\"","v":"10:45:00"},71,87,56,63,56,47,43,66.599999999999994,60.428571428571431]
[null,null,null,null,null,null,null,null,null,null,null,null,null,null,null,null,null,null,null,null,null,null,null,null,null,null,1100,{"$f":"OFFSET('Raw Data'!EJ48,$B$38,$B$37)","v":65},{"$f":"OFFSET('Raw Data'!EK48,$B$38,$B$37)","v":61},{"$f":"OFFSET('Raw Data'!EL48,$B$38,$B$37)","v":56},{"$f":"OFFSET('Raw Data'!EM48,$B$38,$B$37)","v":72},{"$f":"OFFSET('Raw Data'!EN48,$B$38,$B$37)","v":61},{"$f":"OFFSET('Raw Data'!EO48,$B$38,$B$37)","v":46},{"$f":"OFFSET('Raw Data'!EP48,$B$38,$B$37)","v":40},63,57.285714285714285,"11:00:00",65,61,56,72,61,46,40,63,57.285714285714285]
[null,null,null,null,null,null,null,null,null,null,null,null,null,null,null,null,null,null,null,null,null,null,null,null,null,null,1115,{"$f":"OFFSET('Raw Data'!EJ49,$B$38,$B$37)","v":54},{"$f":"OFFSET('Raw Data'!EK49,$B$38,$B$37)","v":52},{"$f":"OFFSET('Raw Data'!EL49,$B$38,$B$37)","v":63},{"$f":"OFFSET('Raw Data'!EM49,$B$38,$B$37)","v":66},{"$f":"OFFSET('Raw Data'!EN49,$B$38,$B$37)","v":59},{"$f":"OFFSET('Raw Data'!EO49,$B$38,$B$37)","v":62},{"$f":"OFFSET('Raw Data'!EP49,$B$38,$B$37)","v":34},58.8,55.714285714285715,"11:15:00",54,52,63,66,59,62,34,58.8,55.714285714285715]
[null,null,null,null,null,null,null,null,null,null,null,null,null,null,null,null,null,null,null,null,null,null,null,null,null,null,1130,{"$f":"OFFSET('Raw Data'!EJ50,$B$38,$B$37)","v":38},{"$f":"OFFSET('Raw Data'!EK50,$B$38,$B$37)","v":57},{"$f":"OFFSET('Raw Data'!EL50,$B$38,$B$37)","v":66},{"$f":"OFFSET('Raw Data'!EM50,$B$38,$B$37)","v":60},{"$f":"OFFSET('Raw Data'!EN50,$B$38,$B$37)","v":61},{"$f":"OFFSET('Raw Data'!EO50,$B$38,$B$37)","v":54},{"$f":"OFFSET('Raw Data'!EP50,$B$38,$B$37)","v":41},56.4,53.857142857142854,"11:30:00",38,57,66,60,61,54,41,56.4,53.857142857142854]
[null,null,null,null,null,null,null,null,null,null,null,null,null,null,null,null,null,null,null,null,null,null,null,null,null,null,1145,{"$f":"OFFSET('Raw Data'!EJ51,$B$38,$B$37)","v":49},{"$f":"OFFSET('Raw Data'!EK51,$B$38,$B$37)","v":64},{"$f":"OFFSET('Raw Data'!EL51,$B$38,$B$37)","v":70},{"$f":"OFFSET('Raw Data'!EM51,$B$38,$B$37)","v":69},{"$f":"OFFSET('Raw Data'!EN51,$B$38,$B$37)","v":59},{"$f":"OFFSET('Raw Data'!EO51,$B$38,$B$37)","v":55},{"$f":"OFFSET('Raw Data'!EP51,$B$38,$B$37)","v":33},62.2,57,"11:45:00",49,64,70,69,59,55,33,62.2,57]
[null,null,null,null,null,null,null,null,null,null,null,null,null,null,null,null,null,null,null,null,null,null,null,null,null,null,1200,{"$f":"OFFSET('Raw Data'!EJ52,$B$38,$B$37)","v":55},{"$f":"OFFSET('Raw Data'!EK52,$B$38,$B$37)","v":65},{"$f":"OFFSET('Raw Data'!EL52,$B$38,$B$37)","v":56},{"$f":"OFFSET('Raw Data'!EM52,$B$38,$B$37)","v":56},{"$f":"OFFSET('Raw Data'!EN52,$B$38,$B$37)","v":71},{"$f":"OFFSET('Raw Data'!EO52,$B$38,$B$37)","v":51},{"$f":"OFFSET('Raw Data'!EP52,$B$38,$B$37)","v":32},60.6,55.142857142857146,"12:00:00",55,65,56,56,71,51,32,60.6,55.142857142857146]
[null,null,null,null,null,null,null,null,null,null,null,null,null,null,null,null,null,null,null,null,null,null,null,null,null,null,1215,{"$f":"OFFSET('Raw Data'!EJ53,$B$38,$B$37)","v":60},{"$f":"OFFSET('Raw Data'!EK53,$B$38,$B$37)","v":71},{"$f":"OFFSET('Raw Data'!EL53,$B$38,$B$37)","v":64},{"$f":"OFFSET('Raw Data'!EM53,$B$38,$B$37)","v":66},{"$f":"OFFSET('Raw Data'!EN53,$B$38,$B$37)","v":75},{"$f":"OFFSET('Raw Data'!EO53,$B$38,$B$37)","v":54},{"$f":"OFFSET('Raw Data'!EP53,$B$38,$B$37)","v":39},67.2,61.285714285714285,"12:15:00",60,71,64,66,75,54,39,67.2,61.285714285714285]
[null,null,null,null,null,null,null,null,null,null,null,null,null,null,null,null,null,null,null,null,null,null,null,null,null,null,1230,{"$f":"OFFSET('Raw Data'!EJ54,$B$38,$B$37)","v":57},{"$f":"OFFSET('Raw Data'!EK54,$B$38,$B$37)","v":59},{"$f":"OFFSET('Raw Data'!EL54,$B$38,$B$37)","v":73},{"$f":"OFFSET('Raw Data'!EM54,$B$38,$B$37)","v":58},{"$f":"OFFSET('Raw Data'!EN54,$B$38,$B$37)","v":80},{"$f":"OFFSET('Raw Data'!EO54,$B$38,$B$37)","v":66},{"$f":"OFFSET('Raw Data'!EP54,$B$38,$B$37)","v":49},65.400000000000006,63.142857142857146,"12:30:00",57,59,73,58,80,66,49,65.400000000000006,63.142857142857146]
[null,null,null,null,null,null,null,null,null,null,null,null,null,null,null,null,null,null,null,null,null,null,null,null,null,null,1245,{"$f":"OFFSET('Raw Data'!EJ55,$B$38,$B$37)","v":54},{"$f":"OFFSET('Raw Data'!EK55,$B$38,$B$37)","v":65},{"$f":"OFFSET('Raw Data'!EL55,$B$38,$B$37)","v":61},{"$f":"OFFSET('Raw Data'!EM55,$B$38,$B$37)","v":58},{"$f":"OFFSET('Raw Data'!EN55,$B$38,$B$37)","v":70},{"$f":"OFFSET('Raw Data'!EO55,$B$38,$B$37)","v":66},{"$f":"OFFSET('Raw Data'!EP55,$B$38,$B$37)","v":50},61.6,60.571428571428569,"12:45:00",54,65,61,58,70,66,50,61.6,60.571428571428569]
[null,null,null,null,null,null,null,null,null,null,null,null,null,null,null,null,null,null,null,null,null,null,null,null,null,null,1300,{"$f":"OFFSET('Raw Data'!EJ56,$B$38,$B$37)","v":65},{"$f":"OFFSET('Raw Data'!EK56,$B$38,$B$37)","v":75},{"$f":"OFFSET('Raw Data'!EL56,$B$38,$B$37)","v":68},{"$f":"OFFSET('Raw Data'!EM56,$B$38,$B$37)","v":73},{"$f":"OFFSET('Raw Data'!EN56,$B$38,$B$37)","v":70},{"$f":"OFFSET('Raw Data'!EO56,$B$38,$B$37)","v":84},{"$f":"OFFSET('Raw Data'!EP56,$B$38,$B$37)","v":35},70.2,67.142857142857139,"13:00:00",65,75,68,73,70,84,35,70.2,67.142857142857139]
[null,null,null,null,null,null,null,null,null,null,null,null,null,null,null,null,null,null,null,null,null,null,null,null,null,null,1315,{"$f":"OFFSET('Raw Data'!EJ57,$B$38,$B$37)","v":72},{"$f":"OFFSET('Raw Data'!EK57,$B$38,$B$37)","v":60},{"$f":"OFFSET('Raw Data'!EL57,$B$38,$B$37)","v":73},{"$f":"OFFSET('Raw Data'!EM57,$B$38,$B$37)","v":77},{"$f":"OFFSET('Raw Data'!EN57,$B$38,$B$37)","v":69},{"$f":"OFFSET('Raw Data'!EO57,$B$38,$B$37)","v":85},{"$f":"OFFSET('Raw Data'!EP57,$B$38,$B$37)","v":56},70.2,70.285714285714292,"13:15:00",72,60,73,77,69,85,56,70.2,70.285714285714292]
[null,null,null,null,null,null,null,null,null,null,null,null,null,null,null,null,null,null,null,null,null,null,null,null,null,null,1330,{"$f":"OFFSET('Raw Data'!EJ58,$B$38,$B$37)","v":67},{"$f":"OFFSET('Raw Data'!EK58,$B$38,$B$37)","v":68},{"$f":"OFFSET('Raw Data'!EL58,$B$38,$B$37)","v":87},{"$f":"OFFSET('Raw Data'!EM58,$B$38,$B$37)","v":65},{"$f":"OFFSET('Raw Data'!EN58,$B$38,$B$37)","v":65},{"$f":"OFFSET('Raw Data'!EO58,$B$38,$B$37)","v":79},{"$f":"OFFSET('Raw Data'!EP58,$B$38,$B$37)","v":43},70.400000000000006,67.714285714285708,"13:30:00",67,68,87,65,65,79,43,70.400000000000006,67.714285714285708]
[null,null,null,null,null,null,null,null,null,null,null,null,null,null,null,null,null,null,null,null,null,null,null,null,null,null,1345,{"$f":"OFFSET('Raw Data'!EJ59,$B$38,$B$37)","v":64},{"$f":"OFFSET('Raw Data'!EK59,$B$38,$B$37)","v":78},{"$f":"OFFSET('Raw Data'!EL59,$B$38,$B$37)","v":72},{"$f":"OFFSET('Raw Data'!EM59,$B$38,$B$37)","v":83},{"$f":"OFFSET('Raw Data'!EN59,$B$38,$B$37)","v":105},{"$f":"OFFSET('Raw Data'!EO59,$B$38,$B$37)","v":81},{"$f":"OFFSET('Raw Data'!EP59,$B$38,$B$37)","v":51},80.400000000000006,76.285714285714292,"13:45:00",64,78,72,83,105,81,51,80.400000000000006,76.285714285714292]
[null,null,null,null,null,null,null,null,null,null,null,null,null,null,null,null,null,null,null,null,null,null,null,null,null,null,1400,{"$f":"OFFSET('Raw Data'!EJ60,$B$38,$B$37)","v":67},{"$f":"OFFSET('Raw Data'!EK60,$B$38,$B$37)","v":73},{"$f":"OFFSET('Raw Data'!EL60,$B$38,$B$37)","v":87},{"$f":"OFFSET('Raw Data'!EM60,$B$38,$B$37)","v":72},{"$f":"OFFSET('Raw Data'!EN60,$B$38,$B$37)","v":86},{"$f":"OFFSET('Raw Data'!EO60,$B$38,$B$37)","v":84},{"$f":"OFFSET('Raw Data'!EP60,$B$38,$B$37)","v":44},77,73.285714285714292,"14:00:00",67,73,87,72,86,84,44,77,73.285714285714292]
[null,null,null,null,null,null,null,null,null,null,null,null,null,null,null,null,null,null,null,null,null,null,null,null,null,null,1415,{"$f":"OFFSET('Raw Data'!EJ61,$B$38,$B$37)","v":76},{"$f":"OFFSET('Raw Data'!EK61,$B$38,$B$37)","v":78},{"$f":"OFFSET('Raw Data'!EL61,$B$38,$B$37)","v":77},{"$f":"OFFSET('Raw Data'!EM61,$B$38,$B$37)","v":77},{"$f":"OFFSET('Raw Data'!EN61,$B$38,$B$37)","v":71},{"$f":"OFFSET('Raw Data'!EO61,$B$38,$B$37)","v":57},{"$f":"OFFSET('Raw Data'!EP61,$B$38,$B$37)","v":57},75.8,70.428571428571431,"14:15:00",76,78,77,77,71,57,57,75.8,70.428571428571431]
[null,null,null,null,null,null,null,null,null,null,null,null,null,null,null,null,null,null,null,null,null,null,null,null,null,null,1430,{"$f":"OFFSET('Raw Data'!EJ62,$B$38,$B$37)","v":70},{"$f":"OFFSET('Raw Data'!EK62,$B$38,$B$37)","v":83},{"$f":"OFFSET('Raw Data'!EL62,$B$38,$B$37)","v":93},{"$f":"OFFSET('Raw Data'!EM62,$B$38,$B$37)","v":58},{"$f":"OFFSET('Raw Data'!EN62,$B$38,$B$37)","v":71},{"$f":"OFFSET('Raw Data'!EO62,$B$38,$B$37)","v":69},{"$f":"OFFSET('Raw Data'!EP62,$B$38,$B$37)","v":50},75,70.571428571428569,"14:30:00",70,83,93,58,71,69,50,75,70.571428571428569]
[null,null,null,null,null,null,null,null,null,null,null,null,null,null,null,null,null,null,null,null,null,null,null,null,null,null,1445,{"$f":"OFFSET('Raw Data'!EJ63,$B$38,$B$37)","v":77},{"$f":"OFFSET('Raw Data'!EK63,$B$38,$B$37)","v":96},{"$f":"OFFSET('Raw Data'!EL63,$B$38,$B$37)","v":74},{"$f":"OFFSET('Raw Data'!EM63,$B$38,$B$37)","v":93},{"$f":"OFFSET('Raw Data'!EN63,$B$38,$B$37)","v":78},{"$f":"OFFSET('Raw Data'!EO63,$B$38,$B$37)","v":81},{"$f":"OFFSET('Raw Data'!EP63,$B$38,$B$37)","v":43},83.6,77.428571428571431,"14:45:00",77,96,74,93,78,81,43,83.6,77.428571428571431]
[null,null,null,null,null,null,null,null,null,null,null,null,null,null,null,null,null,null,null,null,null,null,null,null,null,null,1500,{"$f":"OFFSET('Raw Data'!EJ64,$B$38,$B$37)","v":78},{"$f":"OFFSET('Raw Data'!EK64,$B$38,$B$37)","v":85},{"$f":"OFFSET('Raw Data'!EL64,$B$38,$B$37)","v":99},{"$f":"OFFSET('Raw Data'!EM64,$B$38,$B$37)","v":74},{"$f":"OFFSET('Raw Data'!EN64,$B$38,$B$37)","v":79},{"$f":"OFFSET('Raw Data'!EO64,$B$38,$B$37)","v":66},{"$f":"OFFSET('Raw Data'!EP64,$B$38,$B$37)","v":43},83,74.857142857142861,"15:00:00",78,85,99,74,79,66,43,83,74.857142857142861]
[null,null,null,null,null,null,null,null,null,null,null,null,null,null,null,null,null,null,null,null,null,null,null,null,null,null,1515,{"$f":"OFFSET('Raw Data'!EJ65,$B$38,$B$37)","v":61},{"$f":"OFFSET('Raw Data'!EK65,$B$38,$B$37)","v":76},{"$f":"OFFSET('Raw Data'!EL65,$B$38,$B$37)","v":71},{"$f":"OFFSET('Raw Data'!EM65,$B$38,$B$37)","v":105},{"$f":"OFFSET('Raw Data'!EN65,$B$38,$B$37)","v":79},{"$f":"OFFSET('Raw Data'!EO65,$B$38,$B$37)","v":71},{"$f":"OFFSET('Raw Data'!EP65,$B$38,$B$37)","v":46},78.400000000000006,72.714285714285708,"15:15:00",61,76,71,105,79,71,46,78.400000000000006,72.714285714285708]
[null,null,null,null,null,null,null,null,null,null,null,null,null,null,null,null,null,null,null,null,null,null,null,null,null,null,1530,{"$f":"OFFSET('Raw Data'!EJ66,$B$38,$B$37)","v":87},{"$f":"OFFSET('Raw Data'!EK66,$B$38,$B$37)","v":94},{"$f":"OFFSET('Raw Data'!EL66,$B$38,$B$37)","v":75},{"$f":"OFFSET('Raw Data'!EM66,$B$38,$B$37)","v":80},{"$f":"OFFSET('Raw Data'!EN66,$B$38,$B$37)","v":78},{"$f":"OFFSET('Raw Data'!EO66,$B$38,$B$37)","v":57},{"$f":"OFFSET('Raw Data'!EP66,$B$38,$B$37)","v":53},82.8,74.857142857142861,"15:30:00",87,94,75,80,78,57,53,82.8,74.857142857142861]
[null,null,null,null,null,null,null,null,null,null,null,null,null,null,null,null,null,null,null,null,null,null,null,null,null,null,1545,{"$f":"OFFSET('Raw Data'!EJ67,$B$38,$B$37)","v":71},{"$f":"OFFSET('Raw Data'!EK67,$B$38,$B$37)","v":91},{"$f":"OFFSET('Raw Data'!EL67,$B$38,$B$37)","v":104},{"$f":"OFFSET('Raw Data'!EM67,$B$38,$B$37)","v":94},{"$f":"OFFSET('Raw Data'!EN67,$B$38,$B$37)","v":91},{"$f":"OFFSET('Raw Data'!EO67,$B$38,$B$37)","v":59},{"$f":"OFFSET('Raw Data'!EP67,$B$38,$B$37)","v":58},90.2,81.142857142857139,"15:45:00",71,91,104,94,91,59,58,90.2,81.142857142857139]
[null,null,null,null,null,null,null,null,null,null,null,null,null,null,null,null,null,null,null,null,null,null,null,null,null,null,1600,{"$f":"OFFSET('Raw Data'!EJ68,$B$38,$B$37)","v":83},{"$f":"OFFSET('Raw Data'!EK68,$B$38,$B$37)","v":88},{"$f":"OFFSET('Raw Data'!EL68,$B$38,$B$37)","v":95},{"$f":"OFFSET('Raw Data'!EM68,$B$38,$B$37)","v":91},{"$f":"OFFSET('Raw Data'!EN68,$B$38,$B$37)","v":102},{"$f":"OFFSET('Raw Data'!EO68,$B$38,$B$37)","v":78},{"$f":"OFFSET('Raw Data'!EP68,$B$38,$B$37)","v":36},91.8,81.857142857142861,"16:00:00",83,88,95,91,102,78,36,91.8,81.857142857142861]
[null,null,null,null,null,null,null,null,null,null,null,null,null,null,null,null,null,null,null,null,null,null,null,null,null,null,1615,{"$f":"OFFSET('Raw Data'!EJ69,$B$38,$B$37)","v":75},{"$f":"OFFSET('Raw Data'!EK69,$B$38,$B$37)","v":69},{"$f":"OFFSET('Raw Data'!EL69,$B$38,$B$37)","v":97},{"$f":"OFFSET('Raw Data'!EM69,$B$38,$B$37)","v":90},{"$f":"OFFSET('Raw Data'!EN69,$B$38,$B$37)","v":82},{"$f":"OFFSET('Raw Data'!EO69,$B$38,$B$37)","v":73},{"$f":"OFFSET('Raw Data'!EP69,$B$38,$B$37)","v":52},82.6,76.857142857142861,"16:15:00",{"$f":"IF(AL$3=TRUE,AB70,\"\")","v":75},{"$f":"IF(AM$3=TRUE,AC70,\"\")","v":69},{"$f":"IF(AN$3=TRUE,AD70,\"\")","v":97},{"$f":"IF(AO$3=TRUE,AE70,\"\")","v":90},{"$f":"IF(AP$3=TRUE,AF70,\"\")","v":82},{"$f":"IF(AQ$3=TRUE,AG70,\"\")","v":73},{"$f":"IF(AR$3=TRUE,AH70,\"\")","v":52},{"$f":"IF(AS$3=TRUE,AI70,\"\")","v":82.6},{"$f":"IF(AT$3=TRUE,AJ70,\"\")","v":76.857142857142861}]
[null,null,null,null,null,null,null,null,null,null,null,null,null,null,null,null,null,null,null,null,null,null,null,null,null,null,1630,{"$f":"OFFSET('Raw Data'!EJ70,$B$38,$B$37)","v":97},{"$f":"OFFSET('Raw Data'!EK70,$B$38,$B$37)","v":85},{"$f":"OFFSET('Raw Data'!EL70,$B$38,$B$37)","v":104},{"$f":"OFFSET('Raw Data'!EM70,$B$38,$B$37)","v":95},{"$f":"OFFSET('Raw Data'!EN70,$B$38,$B$37)","v":89},{"$f":"OFFSET('Raw Data'!EO70,$B$38,$B$37)","v":59},{"$f":"OFFSET('Raw Data'!EP70,$B$38,$B$37)","v":56},94,83.571428571428569,{"$f":"AK70+\"00:15\"","v":"16:30:00"},97,85,104,95,89,59,56,94,83.571428571428569]
[null,null,null,null,null,null,null,null,null,null,null,null,null,null,null,null,null,null,null,null,null,null,null,null,null,null,1645,{"$f":"OFFSET('Raw Data'!EJ71,$B$38,$B$37)","v":105},{"$f":"OFFSET('Raw Data'!EK71,$B$38,$B$37)","v":100},{"$f":"OFFSET('Raw Data'!EL71,$B$38,$B$37)","v":124},{"$f":"OFFSET('Raw Data'!EM71,$B$38,$B$37)","v":103},{"$f":"OFFSET('Raw Data'!EN71,$B$38,$B$37)","v":85},{"$f":"OFFSET('Raw Data'!EO71,$B$38,$B$37)","v":69},{"$f":"OFFSET('Raw Data'!EP71,$B$38,$B$37)","v":43},103.4,89.857142857142861,"16:45:00",105,100,124,103,85,69,43,103.4,89.857142857142861]
[null,null,null,null,null,null,null,null,null,null,null,null,null,null,null,null,null,null,null,null,null,null,null,null,null,null,1700,{"$f":"OFFSET('Raw Data'!EJ72,$B$38,$B$37)","v":78},{"$f":"OFFSET('Raw Data'!EK72,$B$38,$B$37)","v":81},{"$f":"OFFSET('Raw Data'!EL72,$B$38,$B$37)","v":106},{"$f":"OFFSET('Raw Data'!EM72,$B$38,$B$37)","v":85},{"$f":"OFFSET('Raw Data'!EN72,$B$38,$B$37)","v":91},{"$f":"OFFSET('Raw Data'!EO72,$B$38,$B$37)","v":65},{"$f":"OFFSET('Raw Data'!EP72,$B$38,$B$37)","v":56},88.2,80.285714285714292,"17:00:00",78,81,106,85,91,65,56,88.2,80.285714285714292]
[null,null,null,null,null,null,null,null,null,null,null,null,null,null,null,null,null,null,null,null,null,null,null,null,null,null,1715,{"$f":"OFFSET('Raw Data'!EJ73,$B$38,$B$37)","v":97},{"$f":"OFFSET('Raw Data'!EK73,$B$38,$B$37)","v":115},{"$f":"OFFSET('Raw Data'!EL73,$B$38,$B$37)","v":105},{"$f":"OFFSET('Raw Data'!EM73,$B$38,$B$37)","v":87},{"$f":"OFFSET('Raw Data'!EN73,$B$38,$B$37)","v":116},{"$f":"OFFSET('Raw Data'!EO73,$B$38,$B$37)","v":75},{"$f":"OFFSET('Raw Data'!EP73,$B$38,$B$37)","v":70},104,95,"17:15:00",97,115,105,87,116,75,70,104,95]
[null,null,null,null,null,null,null,null,null,null,null,null,null,null,null,null,null,null,null,null,null,null,null,null,null,null,1730,{"$f":"OFFSET('Raw Data'!EJ74,$B$38,$B$37)","v":96},{"$f":"OFFSET('Raw Data'!EK74,$B$38,$B$37)","v":104},{"$f":"OFFSET('Raw Data'!EL74,$B$38,$B$37)","v":90},{"$f":"OFFSET('Raw Data'!EM74,$B$38,$B$37)","v":107},{"$f":"OFFSET('Raw Data'!EN74,$B$38,$B$37)","v":91},{"$f":"OFFSET('Raw Data'!EO74,$B$38,$B$37)","v":48},{"$f":"OFFSET('Raw Data'!EP74,$B$38,$B$37)","v":63},97.6,85.571428571428569,"17:30:00",96,104,90,107,91,48,63,97.6,85.571428571428569]
[null,null,null,null,null,null,null,null,null,null,null,null,null,null,null,null,null,null,null,null,null,null,null,null,null,null,1745,{"$f":"OFFSET('Raw Data'!EJ75,$B$38,$B$37)","v":97},{"$f":"OFFSET('Raw Data'!EK75,$B$38,$B$37)","v":124},{"$f":"OFFSET('Raw Data'!EL75,$B$38,$B$37)","v":99},{"$f":"OFFSET('Raw Data'!EM75,$B$38,$B$37)","v":99},{"$f":"OFFSET('Raw Data'!EN75,$B$38,$B$37)","v":109},{"$f":"OFFSET('Raw Data'!EO75,$B$38,$B$37)","v":60},{"$f":"OFFSET('Raw Data'!EP75,$B$38,$B$37)","v":70},105.6,94,"17:45:00",97,124,99,99,109,60,70,105.6,94]
[null,null,null,null,null,null,null,null,null,null,null,null,null,null,null,null,null,null,null,null,null,null,null,null,null,null,1800,{"$f":"OFFSET('Raw Data'!EJ76,$B$38,$B$37)","v":116},{"$f":"OFFSET('Raw Data'!EK76,$B$38,$B$37)","v":120},{"$f":"OFFSET('Raw Data'!EL76,$B$38,$B$37)","v":120},{"$f":"OFFSET('Raw Data'!EM76,$B$38,$B$37)","v":117},{"$f":"OFFSET('Raw Data'!EN76,$B$38,$B$37)","v":96},{"$f":"OFFSET('Raw Data'!EO76,$B$38,$B$37)","v":71},{"$f":"OFFSET('Raw Data'!EP76,$B$38,$B$37)","v":60},113.8,100,"18:00:00",116,120,120,117,96,71,60,113.8,100]
[null,null,null,null,null,null,null,null,null,null,null,null,null,null,null,null,null,null,null,null,null,null,null,null,null,null,1815,{"$f":"OFFSET('Raw Data'!EJ77,$B$38,$B$37)","v":92},{"$f":"OFFSET('Raw Data'!EK77,$B$38,$B$37)","v":104},{"$f":"OFFSET('Raw Data'!EL77,$B$38,$B$37)","v":122},{"$f":"OFFSET('Raw Data'!EM77,$B$38,$B$37)","v":106},{"$f":"OFFSET('Raw Data'!EN77,$B$38,$B$37)","v":105},{"$f":"OFFSET('Raw Data'!EO77,$B$38,$B$37)","v":70},{"$f":"OFFSET('Raw Data'!EP77,$B$38,$B$37)","v":72},105.8,95.857142857142861,"18:15:00",92,104,122,106,105,70,72,105.8,95.857142857142861]
[null,null,null,null,null,null,null,null,null,null,null,null,null,null,null,null,null,null,null,null,null,null,null,null,null,null,1830,{"$f":"OFFSET('Raw Data'!EJ78,$B$38,$B$37)","v":98},{"$f":"OFFSET('Raw Data'!EK78,$B$38,$B$37)","v":123},{"$f":"OFFSET('Raw Data'!EL78,$B$38,$B$37)","v":113},{"$f":"OFFSET('Raw Data'!EM78,$B$38,$B$37)","v":96},{"$f":"OFFSET('Raw Data'!EN78,$B$38,$B$37)","v":104},{"$f":"OFFSET('Raw Data'!EO78,$B$38,$B$37)","v":95},{"$f":"OFFSET('Raw Data'!EP78,$B$38,$B$37)","v":69},106.8,99.714285714285708,"18:30:00",98,123,113,96,104,95,69,106.8,99.714285714285708]
[null,null,null,null,null,null,null,null,null,null,null,null,null,null,null,null,null,null,null,null,null,null,null,null,null,null,1845,{"$f":"OFFSET('Raw Data'!EJ79,$B$38,$B$37)","v":90},{"$f":"OFFSET('Raw Data'!EK79,$B$38,$B$37)","v":107},{"$f":"OFFSET('Raw Data'!EL79,$B$38,$B$37)","v":105},{"$f":"OFFSET('Raw Data'!EM79,$B$38,$B$37)","v":89},{"$f":"OFFSET('Raw Data'!EN79,$B$38,$B$37)","v":105},{"$f":"OFFSET('Raw Data'!EO79,$B$38,$B$37)","v":75},{"$f":"OFFSET('Raw Data'!EP79,$B$38,$B$37)","v":68},99.2,91.285714285714292,"18:45:00",90,107,105,89,105,75,68,99.2,91.285714285714292]
[null,null,null,null,null,null,null,null,null,null,null,null,null,null,null,null,null,null,null,null,null,null,null,null,null,null,1900,{"$f":"OFFSET('Raw Data'!EJ80,$B$38,$B$37)","v":99},{"$f":"OFFSET('Raw Data'!EK80,$B$38,$B$37)","v":83},{"$f":"OFFSET('Raw Data'!EL80,$B$38,$B$37)","v":113},{"$f":"OFFSET('Raw Data'!EM80,$B$38,$B$37)","v":94},{"$f":"OFFSET('Raw Data'!EN80,$B$38,$B$37)","v":111},{"$f":"OFFSET('Raw Data'!EO80,$B$38,$B$37)","v":79},{"$f":"OFFSET('Raw Data'!EP80,$B$38,$B$37)","v":66},100,92.142857142857139,"19:00:00",99,83,113,94,111,79,66,100,92.142857142857139]
[null,null,null,null,null,null,null,null,null,null,null,null,null,null,null,null,null,null,null,null,null,null,null,null,null,null,1915,{"$f":"OFFSET('Raw Data'!EJ81,$B$38,$B$37)","v":76},{"$f":"OFFSET('Raw Data'!EK81,$B$38,$B$37)","v":84},{"$f":"OFFSET('Raw Data'!EL81,$B$38,$B$37)","v":111},{"$f":"OFFSET('Raw Data'!EM81,$B$38,$B$37)","v":83},{"$f":"OFFSET('Raw Data'!EN81,$B$38,$B$37)","v":73},{"$f":"OFFSET('Raw Data'!EO81,$B$38,$B$37)","v":66},{"$f":"OFFSET('Raw Data'!EP81,$B$38,$B$37)","v":72},85.4,80.714285714285708,"19:15:00",76,84,111,83,73,66,72,85.4,80.714285714285708]
[null,null,null,null,null,null,null,null,null,null,null,null,null,null,null,null,null,null,null,null,null,null,null,null,null,null,1930,{"$f":"OFFSET('Raw Data'!EJ82,$B$38,$B$37)","v":69},{"$f":"OFFSET('Raw Data'!EK82,$B$38,$B$37)","v":91},{"$f":"OFFSET('Raw Data'!EL82,$B$38,$B$37)","v":89},{"$f":"OFFSET('Raw Data'!EM82,$B$38,$B$37)","v":84},{"$f":"OFFSET('Raw Data'!EN82,$B$38,$B$37)","v":75},{"$f":"OFFSET('Raw Data'!EO82,$B$38,$B$37)","v":77},{"$f":"OFFSET('Raw Data'!EP82,$B$38,$B$37)","v":64},81.599999999999994,78.428571428571431,"19:30:00",69,91,89,84,75,77,64,81.599999999999994,78.428571428571431]
[null,null,null,null,null,null,null,null,null,null,null,null,null,null,null,null,null,null,null,null,null,null,null,null,null,null,1945,{"$f":"OFFSET('Raw Data'!EJ83,$B$38,$B$37)","v":63},{"$f":"OFFSET('Raw Data'!EK83,$B$38,$B$37)","v":72},{"$f":"OFFSET('Raw Data'!EL83,$B$38,$B$37)","v":85},{"$f":"OFFSET('Raw Data'!EM83,$B$38,$B$37)","v":74},{"$f":"OFFSET('Raw Data'!EN83,$B$38,$B$37)","v":89},{"$f":"OFFSET('Raw Data'!EO83,$B$38,$B$37)","v":51},{"$f":"OFFSET('Raw Data'!EP83,$B$38,$B$37)","v":59},76.599999999999994,70.428571428571431,"19:45:00",63,72,85,74,89,51,59,76.599999999999994,70.428571428571431]
[null,null,null,null,null,null,null,null,null,null,null,null,null,null,null,null,null,null,null,null,null,null,null,null,null,null,2000,{"$f":"OFFSET('Raw Data'!EJ84,$B$38,$B$37)","v":59},{"$f":"OFFSET('Raw Data'!EK84,$B$38,$B$37)","v":65},{"$f":"OFFSET('Raw Data'!EL84,$B$38,$B$37)","v":73},{"$f":"OFFSET('Raw Data'!EM84,$B$38,$B$37)","v":74},{"$f":"OFFSET('Raw Data'!EN84,$B$38,$B$37)","v":68},{"$f":"OFFSET('Raw Data'!EO84,$B$38,$B$37)","v":56},{"$f":"OFFSET('Raw Data'!EP84,$B$38,$B$37)","v":58},67.8,64.714285714285708,"20:00:00",59,65,73,74,68,56,58,67.8,64.714285714285708]
[null,null,null,null,null,null,null,null,null,null,null,null,null,null,null,null,null,null,null,null,null,null,null,null,null,null,2015,{"$f":"OFFSET('Raw Data'!EJ85,$B$38,$B$37)","v":60},{"$f":"OFFSET('Raw Data'!EK85,$B$38,$B$37)","v":61},{"$f":"OFFSET('Raw Data'!EL85,$B$38,$B$37)","v":75},{"$f":"OFFSET('Raw Data'!EM85,$B$38,$B$37)","v":68},{"$f":"OFFSET('Raw Data'!EN85,$B$38,$B$37)","v":55},{"$f":"OFFSET('Raw Data'!EO85,$B$38,$B$37)","v":67},{"$f":"OFFSET('Raw Data'!EP85,$B$38,$B$37)","v":52},63.8,62.571428571428569,"20:15:00",60,61,75,68,55,67,52,63.8,62.571428571428569]
[null,null,null,null,null,null,null,null,null,null,null,null,null,null,null,null,null,null,null,null,null,null,null,null,null,null,2030,{"$f":"OFFSET('Raw Data'!EJ86,$B$38,$B$37)","v":61},{"$f":"OFFSET('Raw Data'!EK86,$B$38,$B$37)","v":76},{"$f":"OFFSET('Raw Data'!EL86,$B$38,$B$37)","v":78},{"$f":"OFFSET('Raw Data'!EM86,$B$38,$B$37)","v":60},{"$f":"OFFSET('Raw Data'!EN86,$B$38,$B$37)","v":87},{"$f":"OFFSET('Raw Data'!EO86,$B$38,$B$37)","v":64},{"$f":"OFFSET('Raw Data'!EP86,$B$38,$B$37)","v":53},72.400000000000006,68.428571428571431,"20:30:00",61,76,78,60,87,64,53,72.400000000000006,68.428571428571431]
[null,null,null,null,null,null,null,null,null,null,null,null,null,null,null,null,null,null,null,null,null,null,null,null,null,null,2045,{"$f":"OFFSET('Raw Data'!EJ87,$B$38,$B$37)","v":53},{"$f":"OFFSET('Raw Data'!EK87,$B$38,$B$37)","v":60},{"$f":"OFFSET('Raw Data'!EL87,$B$38,$B$37)","v":67},{"$f":"OFFSET('Raw Data'!EM87,$B$38,$B$37)","v":59},{"$f":"OFFSET('Raw Data'!EN87,$B$38,$B$37)","v":67},{"$f":"OFFSET('Raw Data'!EO87,$B$38,$B$37)","v":67},{"$f":"OFFSET('Raw Data'!EP87,$B$38,$B$37)","v":58},61.2,61.571428571428569,"20:45:00",53,60,67,59,67,67,58,61.2,61.571428571428569]
[null,null,null,null,null,null,null,null,null,null,null,null,null,null,null,null,null,null,null,null,null,null,null,null,null,null,2100,{"$f":"OFFSET('Raw Data'!EJ88,$B$38,$B$37)","v":48},{"$f":"OFFSET('Raw Data'!EK88,$B$38,$B$37)","v":56},{"$f":"OFFSET('Raw Data'!EL88,$B$38,$B$37)","v":65},{"$f":"OFFSET('Raw Data'!EM88,$B$38,$B$37)","v":53},{"$f":"OFFSET('Raw Data'!EN88,$B$38,$B$37)","v":52},{"$f":"OFFSET('Raw Data'!EO88,$B$38,$B$37)","v":62},{"$f":"OFFSET('Raw Data'!EP88,$B$38,$B$37)","v":58},54.8,56.285714285714285,"21:00:00",48,56,65,53,52,62,58,54.8,56.285714285714285]
[null,null,null,null,null,null,null,null,null,null,null,null,null,null,null,null,null,null,null,null,null,null,null,null,null,null,2115,{"$f":"OFFSET('Raw Data'!EJ89,$B$38,$B$37)","v":45},{"$f":"OFFSET('Raw Data'!EK89,$B$38,$B$37)","v":46},{"$f":"OFFSET('Raw Data'!EL89,$B$38,$B$37)","v":32},{"$f":"OFFSET('Raw Data'!EM89,$B$38,$B$37)","v":61},{"$f":"OFFSET('Raw Data'!EN89,$B$38,$B$37)","v":56},{"$f":"OFFSET('Raw Data'!EO89,$B$38,$B$37)","v":56},{"$f":"OFFSET('Raw Data'!EP89,$B$38,$B$37)","v":38},48,47.714285714285715,"21:15:00",45,46,32,61,56,56,38,48,47.714285714285715]
[null,null,null,null,null,null,null,null,null,null,null,null,null,null,null,null,null,null,null,null,null,null,null,null,null,null,2130,{"$f":"OFFSET('Raw Data'!EJ90,$B$38,$B$37)","v":59},{"$f":"OFFSET('Raw Data'!EK90,$B$38,$B$37)","v":44},{"$f":"OFFSET('Raw Data'!EL90,$B$38,$B$37)","v":58},{"$f":"OFFSET('Raw Data'!EM90,$B$38,$B$37)","v":39},{"$f":"OFFSET('Raw Data'!EN90,$B$38,$B$37)","v":59},{"$f":"OFFSET('Raw Data'!EO90,$B$38,$B$37)","v":59},{"$f":"OFFSET('Raw Data'!EP90,$B$38,$B$37)","v":65},51.8,54.714285714285715,"21:30:00",59,44,58,39,59,59,65,51.8,54.714285714285715]
[null,null,null,null,null,null,null,null,null,null,null,null,null,null,null,null,null,null,null,null,null,null,null,null,null,null,2145,{"$f":"OFFSET('Raw Data'!EJ91,$B$38,$B$37)","v":51},{"$f":"OFFSET('Raw Data'!EK91,$B$38,$B$37)","v":51},{"$f":"OFFSET('Raw Data'!EL91,$B$38,$B$37)","v":52},{"$f":"OFFSET('Raw Data'!EM91,$B$38,$B$37)","v":48},{"$f":"OFFSET('Raw Data'!EN91,$B$38,$B$37)","v":57},{"$f":"OFFSET('Raw Data'!EO91,$B$38,$B$37)","v":65},{"$f":"OFFSET('Raw Data'!EP91,$B$38,$B$37)","v":50},51.8,53.428571428571431,"21:45:00",51,51,52,48,57,65,50,51.8,53.428571428571431]
[null,null,null,null,null,null,null,null,null,null,null,null,null,null,null,null,null,null,null,null,null,null,null,null,null,null,2200,{"$f":"OFFSET('Raw Data'!EJ92,$B$38,$B$37)","v":47},{"$f":"OFFSET('Raw Data'!EK92,$B$38,$B$37)","v":55},{"$f":"OFFSET('Raw Data'!EL92,$B$38,$B$37)","v":59},{"$f":"OFFSET('Raw Data'!EM92,$B$38,$B$37)","v":64},{"$f":"OFFSET('Raw Data'!EN92,$B$38,$B$37)","v":56},{"$f":"OFFSET('Raw Data'!EO92,$B$38,$B$37)","v":59},{"$f":"OFFSET('Raw Data'!EP92,$B$38,$B$37)","v":47},{"$f":"SUM(AB93:AF93)/5","v":56.2},{"$f":"SUM(AB93:AH93)/7","v":55.285714285714285},"22:00:00",47,55,59,64,56,59,47,56.2,55.285714285714285]
[null,null,null,null,null,null,null,null,null,null,null,null,null,null,null,null,null,null,null,null,null,null,null,null,null,null,2215,{"$f":"OFFSET('Raw Data'!EJ93,$B$38,$B$37)","v":58},{"$f":"OFFSET('Raw Data'!EK93,$B$38,$B$37)","v":66},{"$f":"OFFSET('Raw Data'!EL93,$B$38,$B$37)","v":71},{"$f":"OFFSET('Raw Data'!EM93,$B$38,$B$37)","v":36},{"$f":"OFFSET('Raw Data'!EN93,$B$38,$B$37)","v":53},{"$f":"OFFSET('Raw Data'!EO93,$B$38,$B$37)","v":76},{"$f":"OFFSET('Raw Data'!EP93,$B$38,$B$37)","v":41},56.8,57.285714285714285,"22:15:00",58,66,71,36,53,76,41,56.8,57.285714285714285]
[null,null,null,null,null,null,null,null,null,null,null,null,null,null,null,null,null,null,null,null,null,null,null,null,null,null,2230,{"$f":"OFFSET('Raw Data'!EJ94,$B$38,$B$37)","v":40},{"$f":"OFFSET('Raw Data'!EK94,$B$38,$B$37)","v":57},{"$f":"OFFSET('Raw Data'!EL94,$B$38,$B$37)","v":48},{"$f":"OFFSET('Raw Data'!EM94,$B$38,$B$37)","v":40},{"$f":"OFFSET('Raw Data'!EN94,$B$38,$B$37)","v":62},{"$f":"OFFSET('Raw Data'!EO94,$B$38,$B$37)","v":64},{"$f":"OFFSET('Raw Data'!EP94,$B$38,$B$37)","v":40},49.4,50.142857142857146,"22:30:00",40,57,48,40,62,64,40,49.4,50.142857142857146]
[null,null,null,null,null,null,null,null,null,null,null,null,null,null,null,null,null,null,null,null,null,null,null,null,null,null,2245,{"$f":"OFFSET('Raw Data'!EJ95,$B$38,$B$37)","v":40},{"$f":"OFFSET('Raw Data'!EK95,$B$38,$B$37)","v":52},{"$f":"OFFSET('Raw Data'!EL95,$B$38,$B$37)","v":47},{"$f":"OFFSET('Raw Data'!EM95,$B$38,$B$37)","v":49},{"$f":"OFFSET('Raw Data'!EN95,$B$38,$B$37)","v":68},{"$f":"OFFSET('Raw Data'!EO95,$B$38,$B$37)","v":58},{"$f":"OFFSET('Raw Data'!EP95,$B$38,$B$37)","v":43},51.2,51,"22:45:00",40,52,47,49,68,58,43,51.2,51]
[null,null,null,null,null,null,null,null,null,null,null,null,null,null,null,null,null,null,null,null,null,null,null,null,null,null,2300,{"$f":"OFFSET('Raw Data'!EJ96,$B$38,$B$37)","v":48},{"$f":"OFFSET('Raw Data'!EK96,$B$38,$B$37)","v":63},{"$f":"OFFSET('Raw Data'!EL96,$B$38,$B$37)","v":46},{"$f":"OFFSET('Raw Data'!EM96,$B$38,$B$37)","v":48},{"$f":"OFFSET('Raw Data'!EN96,$B$38,$B$37)","v":46},{"$f":"OFFSET('Raw Data'!EO96,$B$38,$B$37)","v":50},{"$f":"OFFSET('Raw Data'!EP96,$B$38,$B$37)","v":33},50.2,47.714285714285715,"23:00:00",48,63,46,48,46,50,33,50.2,47.714285714285715]
[null,null,null,null,null,null,null,null,null,null,null,null,null,null,null,null,null,null,null,null,null,null,null,null,null,null,2315,{"$f":"OFFSET('Raw Data'!EJ97,$B$38,$B$37)","v":34},{"$f":"OFFSET('Raw Data'!EK97,$B$38,$B$37)","v":34},{"$f":"OFFSET('Raw Data'!EL97,$B$38,$B$37)","v":45},{"$f":"OFFSET('Raw Data'!EM97,$B$38,$B$37)","v":51},{"$f":"OFFSET('Raw Data'!EN97,$B$38,$B$37)","v":66},{"$f":"OFFSET('Raw Data'!EO97,$B$38,$B$37)","v":56},{"$f":"OFFSET('Raw Data'!EP97,$B$38,$B$37)","v":33},46,45.571428571428569,"23:15:00",34,34,45,51,66,56,33,46,45.571428571428569]
[null,null,null,null,null,null,null,null,null,null,null,null,null,null,null,null,null,null,null,null,null,null,null,null,null,null,2330,{"$f":"OFFSET('Raw Data'!EJ98,$B$38,$B$37)","v":36},{"$f":"OFFSET('Raw Data'!EK98,$B$38,$B$37)","v":35},{"$f":"OFFSET('Raw Data'!EL98,$B$38,$B$37)","v":56},{"$f":"OFFSET('Raw Data'!EM98,$B$38,$B$37)","v":47},{"$f":"OFFSET('Raw Data'!EN98,$B$38,$B$37)","v":58},{"$f":"OFFSET('Raw Data'!EO98,$B$38,$B$37)","v":59},{"$f":"OFFSET('Raw Data'!EP98,$B$38,$B$37)","v":26},46.4,45.285714285714285,"23:30:00",36,35,56,47,58,59,26,46.4,45.285714285714285]
[null,null,null,null,null,null,null,null,null,null,null,null,null,null,null,null,null,null,null,null,null,null,null,null,null,null,2345,{"$f":"OFFSET('Raw Data'!EJ99,$B$38,$B$37)","v":20},{"$f":"OFFSET('Raw Data'!EK99,$B$38,$B$37)","v":60},{"$f":"OFFSET('Raw Data'!EL99,$B$38,$B$37)","v":29},{"$f":"OFFSET('Raw Data'!EM99,$B$38,$B$37)","v":35},{"$f":"OFFSET('Raw Data'!EN99,$B$38,$B$37)","v":36},{"$f":"OFFSET('Raw Data'!EO99,$B$38,$B$37)","v":51},{"$f":"OFFSET('Raw Data'!EP99,$B$38,$B$37)","v":27},36,36.857142857142854,"23:45:00",20,60,29,35,36,51,27,36,36.857142857142854]

{"sheet":"Input_Plans","index":1,"n_rows":11,"n_cols":2,"rows_kept":11,"cut":false,"hidden":true,"merged":[]}
["Please select…","Site Picture"]
[{"$f":"Input_Details!O28","v":"1. Harper Road (South of Falmouth Road) - 51.49617, -0.09302"},"Picture 1"]
[{"$f":"Input_Details!O29","v":"2. Harper Road (South of Borough High street) - 51.49882, -0.09646"},"Picture 2"]
[{"$f":"Input_Details!O30","v":""},"Picture 3"]
[{"$f":"Input_Details!O31","v":""},"Picture 4"]
[{"$f":"Input_Details!O32","v":""},"Picture 5"]
[{"$f":"Input_Details!O33","v":""},"Picture 6"]
[{"$f":"Input_Details!O34","v":""},"Picture 7"]
[{"$f":"Input_Details!O35","v":""},"Picture 8"]
[{"$f":"Input_Details!O36","v":""},"Picture 9"]
[{"$f":"Input_Details!O37","v":""},"Picture 10"]

{"sheet":"Raw Data","index":2,"n_rows":6915,"n_cols":160,"rows_kept":562,"cut":true,"hidden":false,"merged":[[1,78,1,81],[1,128,2,128],[1,39,1,42],[1,19,1,38],[1,127,2,127],[1,7,1,18],[1,85,1,96],[0,117,1,120],[1,123,2,123],[0,121,0,126],[1,97,1,116],[1,121,2,121],[1,122,2,122],[1,124,2,124],[1,125,2,125],[1,126,2,126],[0,85,0,116],[1,46,1,57],[0,4,0,42],[0,43,0,81],[1,58,1,77],[0,153,0,159],[0,146,0,152],[0,139,0,145],[1,129,2,129],[1,130,2,130],[1,131,2,131],[1,132,2,132],[1,133,2,133],[1,136,2,136],[0,127,0,132],[0,133,0,138],[1,137,2,137],[1,135,2,135],[1,134,2,134],[1,138,2,138]],"bounds":{"rows_first":250,"rows_last":62,"rows_between":250,"halvings":3}}
[null,null,null,null,"PRIMARY DATA",null,null,null,null,null,null,null,null,null,null,null,null,null,null,null,null,null,null,null,null,null,null,null,null,null,null,null,null,null,null,null,null,null,null,null,null,null,null,"SECONDARY DATA",null,null,null,null,null,null,null,null,null,null,null,null,null,null,null,null,null,null,null,null,null,null,null,null,null,null,null,null,null,null,null,null,null,null,null,null,null,null,null,null,null,"COMBINED DATA",null,null,null,null,null,null,null,null,null,null,null,null,null,null,null,null,null,null,null,null,null,null,null,null,null,null,null,null,null,null,null,"Speed",null,null,null,"PRIMARY DATA Class Grouping",null,null,null,null,null,"SECONDARY DATA Class Grouping",null,null,null,null,null,"COMBINED Class Grouping",null,null,null,null,null,"PRIMARY DATA Weekly Summary",null,null,null,null,null,null,"SECONDARY DATA Weekly Summary",null,null,null,null,null,null,"COMBINED DATA Weekly Summary"]
[null,null,null,null,null,null,null,"Volume Counts - Vehicle Classification Breakdown",null,null,null,null,null,null,null,null,null,null,null,"Volume Counts - Vehicle Speed Bin Breakdown",null,null,null,null,null,null,null,null,null,null,null,null,null,null,null,null,null,null,null,"Speed Statistics",null,null,null,null,null,null,"Volume Counts - Vehicle Classification Breakdown",null,null,null,null,null,null,null,null,null,null,null,"Volume Counts - Vehicle Speed Bin Breakdown",null,null,null,null,null,null,null,null,null,null,null,null,null,null,null,null,null,null,null,"Speed Statistics",null,null,null,null,null,null,"Vehicle Classification",null,null,null,null,null,null,null,null,null,null,null,"Vehicle Speed Bins",null,null,null,null,null,null,null,null,null,null,null,null,null,null,null,null,null,null,null,null,null,null,null,"PC + MC","Cars","LGV, R2 & PSV 2Axle","OGV1 & PSV 3Axle","OGV2","Total",{"$f":"DR2","v":"PC + MC"},{"$f":"DS2","v":"Cars"},"LGV, R2 & PSV 2Axle","OGV1 & PSV 3Axle","OGV2","Total","PC + MC","Cars","LGV, R2 & PSV 2Axle","OGV1 & PSV 3Axle","OGV2","Total"]
["Site No.","Date","Road Name","Location","Primary Direction","Day","Time","PC & MC","Car","Short \nTowing","R2","R3","R4","A3","A4","A5","A6+","BD","DRT","0-10","10-15","15-20","20-25","25-30","30-35","35-40","40-45","45-50","50-55","55-60","60-65","65-70","70-75","75-80","80-85","85-90","90-95","95-100","100+","Ave","85%ile","Min","Max","Secondary Direction","Day","Time",{"$f":"H3","v":"PC & MC"},{"$f":"I3","v":"Car"},"Short \nTowing","R2","R3","R4","A3","A4","A5","A6+","BD","DRT","0-10","10-15","15-20","20-25","25-30","30-35","35-40","40-45","45-50","50-55","55-60","60-65","65-70","70-75","75-80","80-85","85-90","90-95","95-100","100+","Ave","85%ile","Min","Max",null,null,null,{"$f":"H3","v":"PC & MC"},{"$f":"I3","v":"Car"},"Short \nTowing","R2","R3","R4","A3","A4","A5","A6+","BD","DRT","0-10","10-15","15-20","20-25","25-30","30-35","35-40","40-45","45-50","50-55","55-60","60-65","65-70","70-75","75-80","80-85","85-90","90-95","95-100","100+","Ave","85%ile","Min","Max",null,null,null,null,null,null,null,null,null,null,null,null,null,null,null,null,null,null,"Mon","Tue","Wed","Thu","Fri","Sat","Sun","Mon","Tue","Wed","Thu","Fri","Sat","Sun","Mon","Tue","Wed","Thu","Fri","Sat","Sun"]
[{"$f":"Input_Details!$J$5","v":1},{"$f":"OFFSET(Input_Details!$Q$4,MATCH($A4, Input_Details!$J$5:$J$24, 0), 0)","v":"2017-04-24"},{"$f":"INDEX(Input_Details!$H$5:$H$24, MATCH($A4, Input_Details!$J$5:$J$24, 0), 0)","v":"Harper Road (South of Falmouth Road)"},{"$f":"INDEX(Input_Details!$I$5:$I$24, MATCH($A4, Input_Details!$J$5:$J$24, 0), 0)","v":"51.49617, -0.09302"},{"$f":"INDEX(Input_Details!$K$5:$K$24, MATCH($A4, Input_Details!$J$5:$J$24, 0), 0)","v":"Southbound"},"Mon","00:00:00",1,20,0,0,1,1,0,0,0,0,0,0,0,5,10,5,3,0,0,0,0,0,0,0,0,0,0,0,0,0,0,0,18.7,22.6,10.5,29.3,{"$f":"INDEX(Input_Details!$L$5:$L$24, MATCH($A4, Input_Details!$J$5:$J$24, 0), 0)","v":"Northbound"},"Mon","00:00:00",1,5,0,0,1,0,0,0,0,0,0,0,0,1,2,4,0,0,0,0,0,0,0,0,0,0,0,0,0,0,0,0,19.5,"-",13.6,23.1,null,"Mon","00:00:00",{"$f":"IF(OR(H4=\"\", AU4=\"\"), \"-\",SUM(H4+AU4))","v":2},{"$f":"IF(OR(I4=\"\", AV4=\"\"), \"-\",SUM(I4+AV4))","v":25},{"$f":"IF(OR(J4=\"\", AW4=\"\"), \"-\",SUM(J4+AW4))","v":0},{"$f":"IF(OR(K4=\"\", AX4=\"\"), \"-\",SUM(K4+AX4))","v":0},{"$f":"IF(OR(L4=\"\", AY4=\"\"), \"-\",SUM(L4+AY4))","v":2},{"$f":"IF(OR(M4=\"\", AZ4=\"\"), \"-\",SUM(M4+AZ4))","v":1},{"$f":"IF(OR(N4=\"\", BA4=\"\"), \"-\",SUM(N4+BA4))","v":0},{"$f":"IF(OR(O4=\"\", BB4=\"\"), \"-\",SUM(O4+BB4))","v":0},{"$f":"IF(OR(P4=\"\", BC4=\"\"), \"-\",SUM(P4+BC4))","v":0},{"$f":"IF(OR(Q4=\"\", BD4=\"\"), \"-\",SUM(Q4+BD4))","v":0},{"$f":"IF(OR(R4=\"\", BE4=\"\"), \"-\",SUM(R4+BE4))","v":0},{"$f":"IF(OR(S4=\"\", BF4=\"\"), \"-\",SUM(S4+BF4))","v":0},{"$f":"IF(OR(T4=\"\", BG4=\"\"), \"-\",SUM(T4+BG4))","v":0},{"$f":"IF(OR(U4=\"\", BH4=\"\"), \"-\",SUM(U4+BH4))","v":6},{"$f":"IF(OR(V4=\"\", BI4=\"\"), \"-\",SUM(V4+BI4))","v":12},{"$f":"IF(OR(W4=\"\", BJ4=\"\"), \"-\",SUM(W4+BJ4))","v":9},{"$f":"IF(OR(X4=\"\", BK4=\"\"), \"-\",SUM(X4+BK4))","v":3},{"$f":"IF(OR(Y4=\"\", BL4=\"\"), \"-\",SUM(Y4+BL4))","v":0},{"$f":"IF(OR(Z4=\"\", BM4=\"\"), \"-\",SUM(Z4+BM4))","v":0},{"$f":"IF(OR(AA4=\"\", BN4=\"\"), \"-\",SUM(AA4+BN4))","v":0},{"$f":"IF(OR(AB4=\"\", BO4=\"\"), \"-\",SUM(AB4+BO4))","v":0},{"$f":"IF(OR(AC4=\"\", BP4=\"\"), \"-\",SUM(AC4+BP4))","v":0},{"$f":"IF(OR(AD4=\"\", BQ4=\"\"), \"-\",SUM(AD4+BQ4))","v":0},{"$f":"IF(OR(AE4=\"\", BR4=\"\"), \"-\",SUM(AE4+BR4))","v":0},{"$f":"IF(OR(AF4=\"\", BS4=\"\"), \"-\",SUM(AF4+BS4))","v":0},{"$f":"IF(OR(AG4=\"\", BT4=\"\"), \"-\",SUM(AG4+BT4))","v":0},{"$f":"IF(OR(AH4=\"\", BU4=\"\"), \"-\",SUM(AH4+BU4))","v":0},{"$f":"IF(OR(AI4=\"\", BV4=\"\"), \"-\",SUM(AI4+BV4))","v":0},{"$f":"IF(OR(AJ4=\"\", BW4=\"\"), \"-\",SUM(AJ4+BW4))","v":0},{"$f":"IF(OR(AK4=\"\", BX4=\"\"), \"-\",SUM(AK4+BX4))","v":0},{"$f":"IF(OR(AL4=\"\", BY4=\"\"), \"-\",SUM(AL4+BY4))","v":0},{"$f":"IF(OR(AM4=\"\", BZ4=\"\"), \"-\",SUM(AM4+BZ4))","v":0},{"$f":"IF(OR(DW4=\"-\", EC4=\"-\", EI4=\"-\", EI4=0),\"-\",IF(OR(DW4=\"-\", DW4=0),CA4,IF(EC4=0,AN4,SUM((AN4*DW4),(CA4*EC4))/EI4)))","v":18.886666666666663},{"$f":"IFERROR(IF(OR(DW4=\"-\", EC4=\"-\", EI4=\"-\", EI4=0), \"-\", IF(AO4=\"-\", CB4, AVERAGE(AO4,CB4))), \"-\")","v":22.6},{"$f":"IF(OR(DW4=\"-\", EC4=\"-\",EI4=\"-\", EI4=0),\"-\",MIN(AP4,CC4))","v":10.5},{"$f":"IF(OR(DW4=\"-\", EC4=\"-\",EI4=\"-\", EI4=0),\"-\",MAX(AQ4,CD4))","v":29.3},{"$f":"IF(H4=\"\", \"-\", H4)","v":1},{"$f":"IF(DR4=\"-\", \"-\", SUM(I4:J4))","v":20},{"$f":"IF(DR4=\"-\", \"-\", K4)","v":0},{"$f":"IF(DR4=\"-\", \"-\", L4)","v":1},{"$f":"IF(DR4=\"-\", \"-\", SUM(M4:S4))","v":1},{"$f":"IF(DR4=\"-\", \"-\", SUM(H4:S4))","v":23},{"$f":"IF(AU4=\"\", \"-\", AU4)","v":1},{"$f":"IF(DX4=\"-\", \"-\", SUM(AV4:AW4))","v":5},{"$f":"IF(DX4=\"-\", \"-\", AX4)","v":0},{"$f":"IF(DX4=\"-\", \"-\", AY4)","v":1},{"$f":"IF(DX4=\"-\", \"-\", SUM(AZ4:BF4))","v":0},{"$f":"IF(DX4=\"-\", \"-\", SUM(AU4:BF4))","v":7},{"$f":"IF(OR(DR4=\"-\", DX4=\"-\"), \"-\", SUM(DR4,DX4))","v":2},{"$f":"IF(OR(DS4=\"-\", DY4=\"-\"), \"-\", SUM(DS4,DY4))","v":25},{"$f":"IF(OR(DT4=\"-\", DZ4=\"-\"), \"-\", SUM(DT4,DZ4))","v":0},{"$f":"IF(OR(DU4=\"-\", EA4=\"-\"), \"-\", SUM(DU4,EA4))","v":2},{"$f":"IF(OR(DV4=\"-\", EB4=\"-\"), \"-\", SUM(DV4,EB4))","v":1},{"$f":"IF(OR(DW4=\"-\", EC4=\"-\"), \"-\", SUM(DW4,EC4))","v":30},{"$f":"+DW4","v":23},{"$f":"+DW100","v":24},{"$f":"+DW196","v":27},{"$f":"+DW292","v":34},{"$f":"+DW388","v":35},{"$f":"+DW484","v":37},{"$f":"+DW580","v":49},{"$f":"+EC4","v":7},{"$f":"+EC100","v":4},{"$f":"+EC196","v":7},{"$f":"+EC292","v":8},{"$f":"+EC388","v":6},{"$f":"+EC484","v":5},{"$f":"+EC580","v":8},{"$f":"IF(OR(EJ4=\"-\", EQ4=\"-\"), \"-\", SUM(EJ4,EQ4))","v":30},{"$f":"IF(OR(EK4=\"-\", ER4=\"-\"), \"-\", SUM(EK4,ER4))","v":28},{"$f":"IF(OR(EL4=\"-\", ES4=\"-\"), \"-\", SUM(EL4,ES4))","v":34},{"$f":"IF(OR(EM4=\"-\", ET4=\"-\"), \"-\", SUM(EM4,ET4))","v":42},{"$f":"IF(OR(EN4=\"-\", EU4=\"-\"), \"-\", SUM(EN4,EU4))","v":41},{"$f":"IF(OR(EO4=\"-\", EV4=\"-\"), \"-\", SUM(EO4,EV4))","v":42},{"$f":"IF(OR(EP4=\"-\", EW4=\"-\"), \"-\", SUM(EP4,EW4))","v":57}]
[{"$f":"A4","v":1},{"$f":"OFFSET(Input_Details!$Q$4,MATCH($A5, Input_Details!$J$5:$J$24, 0), 0)","v":"2017-04-24"},{"$f":"INDEX(Input_Details!$H$5:$H$24, MATCH($A5, Input_Details!$J$5:$J$24, 0), 0)","v":"Harper Road (South of Falmouth Road)"},{"$f":"INDEX(Input_Details!$I$5:$I$24, MATCH($A5, Input_Details!$J$5:$J$24, 0), 0)","v":"51.49617, -0.09302"},{"$f":"INDEX(Input_Details!$K$5:$K$24, MATCH($A5, Input_Details!$J$5:$J$24, 0), 0)","v":"Southbound"},{"$f":"+F4","v":"Mon"},"00:15:00",2,16,0,0,2,0,0,0,0,0,0,0,0,4,11,4,1,0,0,0,0,0,0,0,0,0,0,0,0,0,0,0,17.899999999999999,21,10.4,25.2,{"$f":"INDEX(Input_Details!$L$5:$L$24, MATCH($A5, Input_Details!$J$5:$J$24, 0), 0)","v":"Northbound"},"Mon","00:15:00",0,3,0,0,1,0,0,0,0,0,0,0,0,1,0,3,0,0,0,0,0,0,0,0,0,0,0,0,0,0,0,0,19.8,"-",12.5,22.7,null,"Mon","00:15:00",{"$f":"IF(OR(H5=\"\", AU5=\"\"), \"-\",SUM(H5+AU5))","v":2},19,0,0,3,0,0,0,0,0,0,0,0,5,11,7,1,0,0,0,0,0,0,0,0,0,0,0,0,0,0,0,{"$f":"IF(OR(DW5=\"-\", EC5=\"-\", EI5=\"-\", EI5=0),\"-\",IF(OR(DW5=\"-\", DW5=0),CA5,IF(EC5=0,AN5,SUM((AN5*DW5),(CA5*EC5))/EI5)))","v":18.216666666666665},{"$f":"IFERROR(IF(OR(DW5=\"-\", EC5=\"-\", EI5=\"-\", EI5=0), \"-\", IF(AO5=\"-\", CB5, AVERAGE(AO5,CB5))), \"-\")","v":21},{"$f":"IF(OR(DW5=\"-\", EC5=\"-\",EI5=\"-\", EI5=0),\"-\",MIN(AP5,CC5))","v":10.4},{"$f":"IF(OR(DW5=\"-\", EC5=\"-\",EI5=\"-\", EI5=0),\"-\",MAX(AQ5,CD5))","v":25.2},2,16,0,2,0,20,{"$f":"IF(AU5=\"\", \"-\", AU5)","v":0},{"$f":"IF(DX5=\"-\", \"-\", SUM(AV5:AW5))","v":3},{"$f":"IF(DX5=\"-\", \"-\", AX5)","v":0},{"$f":"IF(DX5=\"-\", \"-\", AY5)","v":1},{"$f":"IF(DX5=\"-\", \"-\", SUM(AZ5:BF5))","v":0},{"$f":"IF(DX5=\"-\", \"-\", SUM(AU5:BF5))","v":4},{"$f":"IF(OR(DR5=\"-\", DX5=\"-\"), \"-\", SUM(DR5,DX5))","v":2},19,0,3,0,24,{"$f":"+DW5","v":20},{"$f":"+DW101","v":19},{"$f":"+DW197","v":26},{"$f":"+DW293","v":29},{"$f":"+DW389","v":22},{"$f":"+DW485","v":42},{"$f":"+DW581","v":29},{"$f":"+EC5","v":4},{"$f":"+EC101","v":7},{"$f":"+EC197","v":10},{"$f":"+EC293","v":3},{"$f":"+EC389","v":1},{"$f":"+EC485","v":3},{"$f":"+EC581","v":6},{"$f":"IF(OR(EJ5=\"-\", EQ5=\"-\"), \"-\", SUM(EJ5,EQ5))","v":24},26,36,32,23,45,35]
[1,{"$f":"OFFSET(Input_Details!$Q$4,MATCH($A6, Input_Details!$J$5:$J$24, 0), 0)","v":"2017-04-24"},{"$f":"INDEX(Input_Details!$H$5:$H$24, MATCH($A6, Input_Details!$J$5:$J$24, 0), 0)","v":"Harper Road (South of Falmouth Road)"},{"$f":"INDEX(Input_Details!$I$5:$I$24, MATCH($A6, Input_Details!$J$5:$J$24, 0), 0)","v":"51.49617, -0.09302"},{"$f":"INDEX(Input_Details!$K$5:$K$24, MATCH($A6, Input_Details!$J$5:$J$24, 0), 0)","v":"Southbound"},"Mon","00:30:00",1,13,0,1,4,0,0,0,0,0,0,0,0,1,10,6,2,0,0,0,0,0,0,0,0,0,0,0,0,0,0,0,19.5,23,12.4,28,{"$f":"INDEX(Input_Details!$L$5:$L$24, MATCH($A6, Input_Details!$J$5:$J$24, 0), 0)","v":"Northbound"},"Mon","00:30:00",1,2,0,0,0,0,0,0,0,0,0,0,1,2,0,0,0,0,0,0,0,0,0,0,0,0,0,0,0,0,0,0,11.1,"-",7.9,12.6,null,"Mon","00:30:00",2,15,0,1,4,0,0,0,0,0,0,0,1,3,10,6,2,0,0,0,0,0,0,0,0,0,0,0,0,0,0,0,18.354545454545455,23,7.9,28,1,13,1,4,0,19,1,2,0,0,0,3,2,15,1,4,0,22,19,13,28,16,28,37,41,3,4,10,4,3,4,8,22,17,38,20,31,41,49]
[1,{"$f":"OFFSET(Input_Details!$Q$4,MATCH($A7, Input_Details!$J$5:$J$24, 0), 0)","v":"2017-04-24"},{"$f":"INDEX(Input_Details!$H$5:$H$24, MATCH($A7, Input_Details!$J$5:$J$24, 0), 0)","v":"Harper Road (South of Falmouth Road)"},{"$f":"INDEX(Input_Details!$I$5:$I$24, MATCH($A7, Input_Details!$J$5:$J$24, 0), 0)","v":"51.49617, -0.09302"},{"$f":"INDEX(Input_Details!$K$5:$K$24, MATCH($A7, Input_Details!$J$5:$J$24, 0), 0)","v":"Southbound"},"Mon","00:45:00",0,15,0,0,0,0,0,0,0,0,0,0,0,0,12,1,2,0,0,0,0,0,0,0,0,0,0,0,0,0,0,0,18.5,20.8,15.2,25.4,{"$f":"INDEX(Input_Details!$L$5:$L$24, MATCH($A7, Input_Details!$J$5:$J$24, 0), 0)","v":"Northbound"},"Mon","00:45:00",1,3,0,0,0,0,0,0,0,0,0,0,0,2,2,0,0,0,0,0,0,0,0,0,0,0,0,0,0,0,0,0,15.4,"-",12.6,18.600000000000001,null,"Mon","00:45:00",1,18,0,0,0,0,0,0,0,0,0,0,0,2,14,1,2,0,0,0,0,0,0,0,0,0,0,0,0,0,0,0,17.847368421052632,20.8,12.6,25.4,0,15,0,0,0,15,1,3,0,0,0,4,1,18,0,0,0,19,15,19,17,24,30,37,43,4,5,6,4,5,7,6,19,24,23,28,35,44,49]
[1,{"$f":"OFFSET(Input_Details!$Q$4,MATCH($A8, Input_Details!$J$5:$J$24, 0), 0)","v":"2017-04-24"},{"$f":"INDEX(Input_Details!$H$5:$H$24, MATCH($A8, Input_Details!$J$5:$J$24, 0), 0)","v":"Harper Road (South of Falmouth Road)"},{"$f":"INDEX(Input_Details!$I$5:$I$24, MATCH($A8, Input_Details!$J$5:$J$24, 0), 0)","v":"51.49617, -0.09302"},{"$f":"INDEX(Input_Details!$K$5:$K$24, MATCH($A8, Input_Details!$J$5:$J$24, 0), 0)","v":"Southbound"},"Mon","01:00:00",1,11,0,1,1,0,0,0,0,0,0,0,0,1,3,5,5,0,0,0,0,0,0,0,0,0,0,0,0,0,0,0,22.8,27.3,14.5,29.8,{"$f":"INDEX(Input_Details!$L$5:$L$24, MATCH($A8, Input_Details!$J$5:$J$24, 0), 0)","v":"Northbound"},"Mon","01:00:00",0,3,0,0,0,0,0,0,0,0,0,0,0,0,2,1,0,0,0,0,0,0,0,0,0,0,0,0,0,0,0,0,17.100000000000001,"-",15.3,20.9,null,"Mon","01:00:00",1,14,0,1,1,0,0,0,0,0,0,0,0,1,5,6,5,0,0,0,0,0,0,0,0,0,0,0,0,0,0,0,21.794117647058822,27.3,14.5,29.8,1,11,1,1,0,14,0,3,0,0,0,3,1,14,1,1,0,17,14,12,18,19,22,20,32,3,2,3,1,3,7,3,17,14,21,20,25,27,35]
[1,{"$f":"OFFSET(Input_Details!$Q$4,MATCH($A9, Input_Details!$J$5:$J$24, 0), 0)","v":"2017-04-24"},{"$f":"INDEX(Input_Details!$H$5:$H$24, MATCH($A9, Input_Details!$J$5:$J$24, 0), 0)","v":"Harper Road (South of Falmouth Road)"},{"$f":"INDEX(Input_Details!$I$5:$I$24, MATCH($A9, Input_Details!$J$5:$J$24, 0), 0)","v":"51.49617, -0.09302"},{"$f":"INDEX(Input_Details!$K$5:$K$24, MATCH($A9, Input_Details!$J$5:$J$24, 0), 0)","v":"Southbound"},"Mon","01:15:00",0,8,0,0,0,0,0,0,0,0,0,0,0,0,4,3,1,0,0,0,0,0,0,0,0,0,0,0,0,0,0,0,20.100000000000001,"-",15.1,25.3,{"$f":"INDEX(Input_Details!$L$5:$L$24, MATCH($A9, Input_Details!$J$5:$J$24, 0), 0)","v":"Northbound"},"Mon","01:15:00",1,1,0,0,0,0,0,0,0,0,0,0,0,0,1,0,0,1,0,0,0,0,0,0,0,0,0,0,0,0,0,0,24.2,"-",18.399999999999999,30,null,"Mon","01:15:00",1,9,0,0,0,0,0,0,0,0,0,0,0,0,5,3,1,1,0,0,0,0,0,0,0,0,0,0,0,0,0,0,20.92,"-",15.1,30,0,8,0,0,0,8,1,1,0,0,0,2,1,9,0,0,0,10,8,10,18,16,13,29,31,2,6,10,2,2,2,8,10,16,28,18,15,31,39]
[1,{"$f":"OFFSET(Input_Details!$Q$4,MATCH($A10, Input_Details!$J$5:$J$24, 0), 0)","v":"2017-04-24"},{"$f":"INDEX(Input_Details!$H$5:$H$24, MATCH($A10, Input_Details!$J$5:$J$24, 0), 0)","v":"Harper Road (South of Falmouth Road)"},{"$f":"INDEX(Input_Details!$I$5:$I$24, MATCH($A10, Input_Details!$J$5:$J$24, 0), 0)","v":"51.49617, -0.09302"},{"$f":"INDEX(Input_Details!$K$5:$K$24, MATCH($A10, Input_Details!$J$5:$J$24, 0), 0)","v":"Southbound"},"Mon","01:30:00",1,11,0,2,0,0,0,0,0,0,0,0,0,5,6,3,0,0,0,0,0,0,0,0,0,0,0,0,0,0,0,0,17,20.100000000000001,11.9,23.1,{"$f":"INDEX(Input_Details!$L$5:$L$24, MATCH($A10, Input_Details!$J$5:$J$24, 0), 0)","v":"Northbound"},"Mon","01:30:00",0,3,0,0,0,0,0,0,0,0,0,0,0,0,0,3,0,0,0,0,0,0,0,0,0,0,0,0,0,0,0,0,21.2,"-",21.2,21.2,null,"Mon","01:30:00",1,14,0,2,0,0,0,0,0,0,0,0,0,5,6,6,0,0,0,0,0,0,0,0,0,0,0,0,0,0,0,0,17.741176470588236,20.100000000000001,11.9,23.1,1,11,2,0,0,14,0,3,0,0,0,3,1,14,2,0,0,17,14,13,14,13,21,23,27,3,5,5,4,2,3,3,17,18,19,17,23,26,30]
[1,{"$f":"OFFSET(Input_Details!$Q$4,MATCH($A11, Input_Details!$J$5:$J$24, 0), 0)","v":"2017-04-24"},{"$f":"INDEX(Input_Details!$H$5:$H$24, MATCH($A11, Input_Details!$J$5:$J$24, 0), 0)","v":"Harper Road (South of Falmouth Road)"},{"$f":"INDEX(Input_Details!$I$5:$I$24, MATCH($A11, Input_Details!$J$5:$J$24, 0), 0)","v":"51.49617, -0.09302"},{"$f":"INDEX(Input_Details!$K$5:$K$24, MATCH($A11, Input_Details!$J$5:$J$24, 0), 0)","v":"Southbound"},"Mon","01:45:00",0,9,0,0,0,0,0,0,0,0,0,0,0,4,3,1,0,0,0,1,0,0,0,0,0,0,0,0,0,0,0,0,18.899999999999999,"-",12.8,41.1,{"$f":"INDEX(Input_Details!$L$5:$L$24, MATCH($A11, Input_Details!$J$5:$J$24, 0), 0)","v":"Northbound"},"Mon","01:45:00",0,3,0,0,0,0,0,0,0,0,0,0,0,0,0,3,0,0,0,0,0,0,0,0,0,0,0,0,0,0,0,0,20.9,"-",20.8,21,null,"Mon","01:45:00",0,12,0,0,0,0,0,0,0,0,0,0,0,4,3,4,0,0,0,1,0,0,0,0,0,0,0,0,0,0,0,0,19.399999999999999,"-",12.8,41.1,0,9,0,0,0,9,0,3,0,0,0,3,0,12,0,0,0,12,9,11,10,11,15,18,25,3,4,3,1,2,6,1,12,15,13,12,17,24,26]
[1,{"$f":"OFFSET(Input_Details!$Q$4,MATCH($A12, Input_Details!$J$5:$J$24, 0), 0)","v":"2017-04-24"},{"$f":"INDEX(Input_Details!$H$5:$H$24, MATCH($A12, Input_Details!$J$5:$J$24, 0), 0)","v":"Harper Road (South of Falmouth Road)"},{"$f":"INDEX(Input_Details!$I$5:$I$24, MATCH($A12, Input_Details!$J$5:$J$24, 0), 0)","v":"51.49617, -0.09302"},{"$f":"INDEX(Input_Details!$K$5:$K$24, MATCH($A12, Input_Details!$J$5:$J$24, 0), 0)","v":"Southbound"},"Mon","02:00:00",0,5,0,0,1,0,0,0,0,0,0,0,0,1,0,4,1,0,0,0,0,0,0,0,0,0,0,0,0,0,0,0,21.1,"-",14,25.4,{"$f":"INDEX(Input_Details!$L$5:$L$24, MATCH($A12, Input_Details!$J$5:$J$24, 0), 0)","v":"Northbound"},"Mon","02:00:00",1,0,0,0,0,0,0,0,0,0,0,0,0,1,0,0,0,0,0,0,0,0,0,0,0,0,0,0,0,0,0,0,12.7,"-",12.7,12.7,null,"Mon","02:00:00",1,5,0,0,1,0,0,0,0,0,0,0,0,2,0,4,1,0,0,0,0,0,0,0,0,0,0,0,0,0,0,0,19.900000000000002,"-",12.7,25.4,0,5,0,1,0,6,1,0,0,0,0,1,1,5,0,1,0,7,6,6,9,12,13,20,30,1,1,5,2,1,5,8,7,7,14,14,14,25,38]
[1,{"$f":"OFFSET(Input_Details!$Q$4,MATCH($A13, Input_Details!$J$5:$J$24, 0), 0)","v":"2017-04-24"},{"$f":"INDEX(Input_Details!$H$5:$H$24, MATCH($A13, Input_Details!$J$5:$J$24, 0), 0)","v":"Harper Road (South of Falmouth Road)"},{"$f":"INDEX(Input_Details!$I$5:$I$24, MATCH($A13, Input_Details!$J$5:$J$24, 0), 0)","v":"51.49617, -0.09302"},{"$f":"INDEX(Input_Details!$K$5:$K$24, MATCH($A13, Input_Details!$J$5:$J$24, 0), 0)","v":"Southbound"},"Mon","02:15:00",1,7,0,0,0,0,0,0,0,0,0,0,0,1,3,4,0,0,0,0,0,0,0,0,0,0,0,0,0,0,0,0,18.7,"-",13.8,21.9,{"$f":"INDEX(Input_Details!$L$5:$L$24, MATCH($A13, Input_Details!$J$5:$J$24, 0), 0)","v":"Northbound"},"Mon","02:15:00",0,3,0,0,0,0,0,0,0,0,0,0,0,1,2,0,0,0,0,0,0,0,0,0,0,0,0,0,0,0,0,0,16,"-",14.4,16.8,null,"Mon","02:15:00",1,10,0,0,0,0,0,0,0,0,0,0,0,2,5,4,0,0,0,0,0,0,0,0,0,0,0,0,0,0,0,0,17.963636363636365,"-",13.8,21.9,1,7,0,0,0,8,0,3,0,0,0,3,1,10,0,0,0,11,8,6,9,16,10,23,27,3,3,3,0,2,3,7,11,9,12,16,12,26,34]
[1,{"$f":"OFFSET(Input_Details!$Q$4,MATCH($A14, Input_Details!$J$5:$J$24, 0), 0)","v":"2017-04-24"},{"$f":"INDEX(Input_Details!$H$5:$H$24, MATCH($A14, Input_Details!$J$5:$J$24, 0), 0)","v":"Harper Road (South of Falmouth Road)"},{"$f":"INDEX(Input_Details!$I$5:$I$24, MATCH($A14, Input_Details!$J$5:$J$24, 0), 0)","v":"51.49617, -0.09302"},{"$f":"INDEX(Input_Details!$K$5:$K$24, MATCH($A14, Input_Details!$J$5:$J$24, 0), 0)","v":"Southbound"},"Mon","02:30:00",0,1,0,0,1,0,0,0,0,0,0,0,0,0,2,0,0,0,0,0,0,0,0,0,0,0,0,0,0,0,0,0,19,"-",19,19,{"$f":"INDEX(Input_Details!$L$5:$L$24, MATCH($A14, Input_Details!$J$5:$J$24, 0), 0)","v":"Northbound"},"Mon","02:30:00",0,2,0,0,0,0,0,0,0,0,0,0,0,1,0,1,0,0,0,0,0,0,0,0,0,0,0,0,0,0,0,0,15.5,"-",10.6,20.5,null,"Mon","02:30:00",0,3,0,0,1,0,0,0,0,0,0,0,0,1,2,1,0,0,0,0,0,0,0,0,0,0,0,0,0,0,0,0,17.25,"-",10.6,20.5,0,1,0,1,0,2,0,2,0,0,0,2,0,3,0,1,0,4,2,4,8,7,14,22,25,2,1,1,4,0,1,7,4,5,9,11,14,23,32]
[1,{"$f":"OFFSET(Input_Details!$Q$4,MATCH($A15, Input_Details!$J$5:$J$24, 0), 0)","v":"2017-04-24"},{"$f":"INDEX(Input_Details!$H$5:$H$24, MATCH($A15, Input_Details!$J$5:$J$24, 0), 0)","v":"Harper Road (South of Falmouth Road)"},{"$f":"INDEX(Input_Details!$I$5:$I$24, MATCH($A15, Input_Details!$J$5:$J$24, 0), 0)","v":"51.49617, -0.09302"},{"$f":"INDEX(Input_Details!$K$5:$K$24, MATCH($A15, Input_Details!$J$5:$J$24, 0), 0)","v":"Southbound"},"Mon","02:45:00",0,3,0,0,0,0,0,0,0,0,0,0,0,2,1,0,0,0,0,0,0,0,0,0,0,0,0,0,0,0,0,0,13.9,"-",12.8,15.2,{"$f":"INDEX(Input_Details!$L$5:$L$24, MATCH($A15, Input_Details!$J$5:$J$24, 0), 0)","v":"Northbound"},"Mon","02:45:00",0,0,0,0,1,0,0,0,0,0,0,0,0,0,1,0,0,0,0,0,0,0,0,0,0,0,0,0,0,0,0,0,17.600000000000001,"-",17.600000000000001,17.600000000000001,null,"Mon","02:45:00",0,3,0,0,1,0,0,0,0,0,0,0,0,2,2,0,0,0,0,0,0,0,0,0,0,0,0,0,0,0,0,0,14.825000000000001,"-",12.8,17.600000000000001,0,3,0,0,0,3,0,0,0,1,0,1,0,3,0,1,0,4,3,4,8,5,12,11,24,1,1,2,1,1,2,2,4,5,10,6,13,13,26]
[1,{"$f":"OFFSET(Input_Details!$Q$4,MATCH($A16, Input_Details!$J$5:$J$24, 0), 0)","v":"2017-04-24"},{"$f":"INDEX(Input_Details!$H$5:$H$24, MATCH($A16, Input_Details!$J$5:$J$24, 0), 0)","v":"Harper Road (South of Falmouth Road)"},{"$f":"INDEX(Input_Details!$I$5:$I$24, MATCH($A16, Input_Details!$J$5:$J$24, 0), 0)","v":"51.49617, -0.09302"},{"$f":"INDEX(Input_Details!$K$5:$K$24, MATCH($A16, Input_Details!$J$5:$J$24, 0), 0)","v":"Southbound"},"Mon","03:00:00",0,7,0,1,1,0,0,0,0,0,0,0,0,1,5,2,1,0,0,0,0,0,0,0,0,0,0,0,0,0,0,0,19.5,"-",12.3,29.3,{"$f":"INDEX(Input_Details!$L$5:$L$24, MATCH($A16, Input_Details!$J$5:$J$24, 0), 0)","v":"Northbound"},"Mon","03:00:00",0,1,0,0,0,0,0,0,0,0,0,0,0,0,1,0,0,0,0,0,0,0,0,0,0,0,0,0,0,0,0,0,17.2,"-",17.2,17.2,null,"Mon","03:00:00",0,8,0,1,1,0,0,0,0,0,0,0,0,1,6,2,1,0,0,0,0,0,0,0,0,0,0,0,0,0,0,0,19.27,"-",12.3,29.3,0,7,1,1,0,9,0,1,0,0,0,1,0,8,1,1,0,10,9,3,10,8,6,18,20,1,2,6,0,0,1,5,10,5,16,8,6,19,25]
[1,{"$f":"OFFSET(Input_Details!$Q$4,MATCH($A17, Input_Details!$J$5:$J$24, 0), 0)","v":"2017-04-24"},{"$f":"INDEX(Input_Details!$H$5:$H$24, MATCH($A17, Input_Details!$J$5:$J$24, 0), 0)","v":"Harper Road (South of Falmouth Road)"},{"$f":"INDEX(Input_Details!$I$5:$I$24, MATCH($A17, Input_Details!$J$5:$J$24, 0), 0)","v":"51.49617, -0.09302"},{"$f":"INDEX(Input_Details!$K$5:$K$24, MATCH($A17, Input_Details!$J$5:$J$24, 0), 0)","v":"Southbound"},"Mon","03:15:00",0,6,0,1,0,0,0,0,0,0,0,0,0,0,0,6,1,0,0,0,0,0,0,0,0,0,0,0,0,0,0,0,23.1,"-",20.2,25.9,{"$f":"INDEX(Input_Details!$L$5:$L$24, MATCH($A17, Input_Details!$J$5:$J$24, 0), 0)","v":"Northbound"},"Mon","03:15:00",0,2,0,0,0,0,0,0,0,0,0,0,0,0,1,1,0,0,0,0,0,0,0,0,0,0,0,0,0,0,0,0,20.399999999999999,"-",17.2,23.6,null,"Mon","03:15:00",0,8,0,1,0,0,0,0,0,0,0,0,0,0,1,7,1,0,0,0,0,0,0,0,0,0,0,0,0,0,0,0,22.5,"-",17.2,25.9,0,6,1,0,0,7,0,2,0,0,0,2,0,8,1,0,0,9,7,11,9,4,15,14,17,2,1,3,2,0,0,4,9,12,12,6,15,14,21]
[1,{"$f":"OFFSET(Input_Details!$Q$4,MATCH($A18, Input_Details!$J$5:$J$24, 0), 0)","v":"2017-04-24"},{"$f":"INDEX(Input_Details!$H$5:$H$24, MATCH($A18, Input_Details!$J$5:$J$24, 0), 0)","v":"Harper Road (South of Falmouth Road)"},{"$f":"INDEX(Input_Details!$I$5:$I$24, MATCH($A18, Input_Details!$J$5:$J$24, 0), 0)","v":"51.49617, -0.09302"},{"$f":"INDEX(Input_Details!$K$5:$K$24, MATCH($A18, Input_Details!$J$5:$J$24, 0), 0)","v":"Southbound"},"Mon","03:30:00",0,6,0,0,0,0,0,0,0,0,0,0,0,0,1,3,0,1,0,1,0,0,0,0,0,0,0,0,0,0,0,0,26.3,"-",19.899999999999999,42.2,{"$f":"INDEX(Input_Details!$L$5:$L$24, MATCH($A18, Input_Details!$J$5:$J$24, 0), 0)","v":"Northbound"},"Mon","03:30:00",1,0,0,0,0,0,0,0,0,0,0,0,0,1,0,0,0,0,0,0,0,0,0,0,0,0,0,0,0,0,0,0,11.6,"-",11.6,11.6,null,"Mon","03:30:00",1,6,0,0,0,0,0,0,0,0,0,0,0,1,1,3,0,1,0,1,0,0,0,0,0,0,0,0,0,0,0,0,24.2,"-",11.6,42.2,0,6,0,0,0,6,1,0,0,0,0,1,1,6,0,0,0,7,6,5,3,8,17,20,16,1,0,3,1,1,1,4,7,5,6,9,18,21,20]
[1,{"$f":"OFFSET(Input_Details!$Q$4,MATCH($A19, Input_Details!$J$5:$J$24, 0), 0)","v":"2017-04-24"},{"$f":"INDEX(Input_Details!$H$5:$H$24, MATCH($A19, Input_Details!$J$5:$J$24, 0), 0)","v":"Harper Road (South of Falmouth Road)"},{"$f":"INDEX(Input_Details!$I$5:$I$24, MATCH($A19, Input_Details!$J$5:$J$24, 0), 0)","v":"51.49617, -0.09302"},{"$f":"INDEX(Input_Details!$K$5:$K$24, MATCH($A19, Input_Details!$J$5:$J$24, 0), 0)","v":"Southbound"},"Mon","03:45:00",0,5,0,0,1,0,0,0,0,0,0,0,0,1,2,2,0,1,0,0,0,0,0,0,0,0,0,0,0,0,0,0,20.8,"-",13.7,31.7,{"$f":"INDEX(Input_Details!$L$5:$L$24, MATCH($A19, Input_Details!$J$5:$J$24, 0), 0)","v":"Northbound"},"Mon","03:45:00",0,0,0,0,0,0,0,0,0,0,0,0,0,0,0,0,0,0,0,0,0,0,0,0,0,0,0,0,0,0,0,0,"-","-","-","-",null,"Mon","03:45:00",0,5,0,0,1,0,0,0,0,0,0,0,0,1,2,2,0,1,0,0,0,0,0,0,0,0,0,0,0,0,0,0,20.8,"-",13.7,31.7,0,5,0,1,0,6,0,0,0,0,0,0,0,5,0,1,0,6,6,8,9,8,11,10,19,0,3,3,0,0,2,2,6,11,12,8,11,12,21]
[1,{"$f":"OFFSET(Input_Details!$Q$4,MATCH($A20, Input_Details!$J$5:$J$24, 0), 0)","v":"2017-04-24"},{"$f":"INDEX(Input_Details!$H$5:$H$24, MATCH($A20, Input_Details!$J$5:$J$24, 0), 0)","v":"Harper Road (South of Falmouth Road)"},{"$f":"INDEX(Input_Details!$I$5:$I$24, MATCH($A20, Input_Details!$J$5:$J$24, 0), 0)","v":"51.49617, -0.09302"},{"$f":"INDEX(Input_Details!$K$5:$K$24, MATCH($A20, Input_Details!$J$5:$J$24, 0), 0)","v":"Southbound"},"Mon","04:00:00",0,5,0,0,1,0,0,0,0,0,0,0,0,1,2,2,1,0,0,0,0,0,0,0,0,0,0,0,0,0,0,0,19.7,"-",14.6,25.2,{"$f":"INDEX(Input_Details!$L$5:$L$24, MATCH($A20, Input_Details!$J$5:$J$24, 0), 0)","v":"Northbound"},"Mon","04:00:00",0,1,0,0,0,0,0,0,0,0,0,0,0,1,0,0,0,0,0,0,0,0,0,0,0,0,0,0,0,0,0,0,14.4,"-",14.4,14.4,null,"Mon","04:00:00",0,6,0,0,1,0,0,0,0,0,0,0,0,2,2,2,1,0,0,0,0,0,0,0,0,0,0,0,0,0,0,0,18.942857142857143,"-",14.4,25.2,0,5,0,1,0,6,0,1,0,0,0,1,0,6,0,1,0,7,6,4,7,12,11,11,8,1,2,0,0,0,2,2,7,6,7,12,11,13,10]
[1,{"$f":"OFFSET(Input_Details!$Q$4,MATCH($A21, Input_Details!$J$5:$J$24, 0), 0)","v":"2017-04-24"},{"$f":"INDEX(Input_Details!$H$5:$H$24, MATCH($A21, Input_Details!$J$5:$J$24, 0), 0)","v":"Harper Road (South of Falmouth Road)"},{"$f":"INDEX(Input_Details!$I$5:$I$24, MATCH($A21, Input_Details!$J$5:$J$24, 0), 0)","v":"51.49617, -0.09302"},{"$f":"INDEX(Input_Details!$K$5:$K$24, MATCH($A21, Input_Details!$J$5:$J$24, 0), 0)","v":"Southbound"},"Mon","04:15:00",0,5,0,0,0,0,0,0,0,0,0,0,1,1,2,1,0,0,0,0,0,0,0,0,0,0,0,0,0,0,0,0,15.5,"-",7.8,21.1,{"$f":"INDEX(Input_Details!$L$5:$L$24, MATCH($A21, Input_Details!$J$5:$J$24, 0), 0)","v":"Northbound"},"Mon","04:15:00",0,1,0,0,0,0,0,0,0,0,0,0,0,1,0,0,0,0,0,0,0,0,0,0,0,0,0,0,0,0,0,0,14.4,"-",14.4,14.4,null,"Mon","04:15:00",0,6,0,0,0,0,0,0,0,0,0,0,1,2,2,1,0,0,0,0,0,0,0,0,0,0,0,0,0,0,0,0,15.316666666666668,"-",7.8,21.1,0,5,0,0,0,5,0,1,0,0,0,1,0,6,0,0,0,6,5,9,7,8,7,9,17,1,1,6,0,1,0,1,6,10,13,8,8,9,18]
[1,{"$f":"OFFSET(Input_Details!$Q$4,MATCH($A22, Input_Details!$J$5:$J$24, 0), 0)","v":"2017-04-24"},{"$f":"INDEX(Input_Details!$H$5:$H$24, MATCH($A22, Input_Details!$J$5:$J$24, 0), 0)","v":"Harper Road (South of Falmouth Road)"},{"$f":"INDEX(Input_Details!$I$5:$I$24, MATCH($A22, Input_Details!$J$5:$J$24, 0), 0)","v":"51.49617, -0.09302"},{"$f":"INDEX(Input_Details!$K$5:$K$24, MATCH($A22, Input_Details!$J$5:$J$24, 0), 0)","v":"Southbound"},"Mon","04:30:00",0,3,0,0,1,0,0,0,0,0,0,0,0,1,1,2,0,0,0,0,0,0,0,0,0,0,0,0,0,0,0,0,18.7,"-",14.1,21,{"$f":"INDEX(Input_Details!$L$5:$L$24, MATCH($A22, Input_Details!$J$5:$J$24, 0), 0)","v":"Northbound"},"Mon","04:30:00",0,1,0,0,0,0,0,0,0,0,0,0,0,0,0,1,0,0,0,0,0,0,0,0,0,0,0,0,0,0,0,0,24.1,"-",24.1,24.1,null,"Mon","04:30:00",0,4,0,0,1,0,0,0,0,0,0,0,0,1,1,3,0,0,0,0,0,0,0,0,0,0,0,0,0,0,0,0,19.78,"-",14.1,24.1,0,3,0,1,0,4,0,1,0,0,0,1,0,4,0,1,0,5,4,10,5,4,7,13,11,1,1,3,4,2,2,4,5,11,8,8,9,15,15]
[1,{"$f":"OFFSET(Input_Details!$Q$4,MATCH($A23, Input_Details!$J$5:$J$24, 0), 0)","v":"2017-04-24"},{"$f":"INDEX(Input_Details!$H$5:$H$24, MATCH($A23, Input_Details!$J$5:$J$24, 0), 0)","v":"Harper Road (South of Falmouth Road)"},{"$f":"INDEX(Input_Details!$I$5:$I$24, MATCH($A23, Input_Details!$J$5:$J$24, 0), 0)","v":"51.49617, -0.09302"},{"$f":"INDEX(Input_Details!$K$5:$K$24, MATCH($A23, Input_Details!$J$5:$J$24, 0), 0)","v":"Southbound"},"Mon","04:45:00",1,4,0,1,0,0,0,0,0,0,0,0,0,0,2,2,1,1,0,0,0,0,0,0,0,0,0,0,0,0,0,0,23.3,"-",17.399999999999999,31.2,{"$f":"INDEX(Input_Details!$L$5:$L$24, MATCH($A23, Input_Details!$J$5:$J$24, 0), 0)","v":"Northbound"},"Mon","04:45:00",3,1,0,0,0,0,0,0,0,0,0,0,0,2,2,0,0,0,0,0,0,0,0,0,0,0,0,0,0,0,0,0,14.9,"-",11,19.3,null,"Mon","04:45:00",4,5,0,1,0,0,0,0,0,0,0,0,0,2,4,2,1,1,0,0,0,0,0,0,0,0,0,0,0,0,0,0,19.940000000000001,"-",11,31.2,1,4,1,0,0,6,3,1,0,0,0,4,4,5,1,0,0,10,6,9,7,7,5,12,7,4,5,6,5,5,4,3,10,14,13,12,10,16,10]
[1,{"$f":"OFFSET(Input_Details!$Q$4,MATCH($A24, Input_Details!$J$5:$J$24, 0), 0)","v":"2017-04-24"},{"$f":"INDEX(Input_Details!$H$5:$H$24, MATCH($A24, Input_Details!$J$5:$J$24, 0), 0)","v":"Harper Road (South of Falmouth Road)"},{"$f":"INDEX(Input_Details!$I$5:$I$24, MATCH($A24, Input_Details!$J$5:$J$24, 0), 0)","v":"51.49617, -0.09302"},{"$f":"INDEX(Input_Details!$K$5:$K$24, MATCH($A24, Input_Details!$J$5:$J$24, 0), 0)","v":"Southbound"},"Mon","05:00:00",1,7,0,0,2,0,0,0,0,0,0,0,0,1,1,7,1,0,0,0,0,0,0,0,0,0,0,0,0,0,0,0,20.9,"-",13.4,26.4,{"$f":"INDEX(Input_Details!$L$5:$L$24, MATCH($A24, Input_Details!$J$5:$J$24, 0), 0)","v":"Northbound"},"Mon","05:00:00",2,3,0,0,0,0,0,0,0,0,0,0,0,4,0,1,0,0,0,0,0,0,0,0,0,0,0,0,0,0,0,0,15.8,"-",10.5,24.7,null,"Mon","05:00:00",3,10,0,0,2,0,0,0,0,0,0,0,0,5,1,8,1,0,0,0,0,0,0,0,0,0,0,0,0,0,0,0,19.2,"-",10.5,26.4,1,7,0,2,0,10,2,3,0,0,0,5,3,10,0,2,0,15,10,10,14,10,11,10,14,5,4,2,3,4,9,3,15,14,16,13,15,19,17]
[1,{"$f":"OFFSET(Input_Details!$Q$4,MATCH($A25, Input_Details!$J$5:$J$24, 0), 0)","v":"2017-04-24"},{"$f":"INDEX(Input_Details!$H$5:$H$24, MATCH($A25, Input_Details!$J$5:$J$24, 0), 0)","v":"Harper Road (South of Falmouth Road)"},{"$f":"INDEX(Input_Details!$I$5:$I$24, MATCH($A25, Input_Details!$J$5:$J$24, 0), 0)","v":"51.49617, -0.09302"},{"$f":"INDEX(Input_Details!$K$5:$K$24, MATCH($A25, Input_Details!$J$5:$J$24, 0), 0)","v":"Southbound"},"Mon","05:15:00",0,7,0,0,1,0,0,0,0,0,0,0,0,1,3,4,0,0,0,0,0,0,0,0,0,0,0,0,0,0,0,0,18.8,"-",13.8,23.1,{"$f":"INDEX(Input_Details!$L$5:$L$24, MATCH($A25, Input_Details!$J$5:$J$24, 0), 0)","v":"Northbound"},"Mon","05:15:00",1,3,0,0,0,0,0,0,0,0,0,0,0,2,0,0,2,0,0,0,0,0,0,0,0,0,0,0,0,0,0,0,19.899999999999999,"-",12.2,26.7,null,"Mon","05:15:00",1,10,0,0,1,0,0,0,0,0,0,0,0,3,3,4,2,0,0,0,0,0,0,0,0,0,0,0,0,0,0,0,19.166666666666668,"-",12.2,26.7,0,7,0,1,0,8,1,3,0,0,0,4,1,10,0,1,0,12,8,11,5,10,15,19,13,4,1,2,3,4,7,5,12,12,7,13,19,26,18]
[1,{"$f":"OFFSET(Input_Details!$Q$4,MATCH($A26, Input_Details!$J$5:$J$24, 0), 0)","v":"2017-04-24"},{"$f":"INDEX(Input_Details!$H$5:$H$24, MATCH($A26, Input_Details!$J$5:$J$24, 0), 0)","v":"Harper Road (South of Falmouth Road)"},{"$f":"INDEX(Input_Details!$I$5:$I$24, MATCH($A26, Input_Details!$J$5:$J$24, 0), 0)","v":"51.49617, -0.09302"},{"$f":"INDEX(Input_Details!$K$5:$K$24, MATCH($A26, Input_Details!$J$5:$J$24, 0), 0)","v":"Southbound"},"Mon","05:30:00",0,5,0,1,0,0,0,0,0,0,0,0,0,0,2,3,1,0,0,0,0,0,0,0,0,0,0,0,0,0,0,0,23.1,"-",18.899999999999999,29.4,{"$f":"INDEX(Input_Details!$L$5:$L$24, MATCH($A26, Input_Details!$J$5:$J$24, 0), 0)","v":"Northbound"},"Mon","05:30:00",3,1,0,0,1,0,0,0,0,0,0,0,1,1,0,2,1,0,0,0,0,0,0,0,0,0,0,0,0,0,0,0,18.100000000000001,"-",9.6999999999999993,29.5,null,"Mon","05:30:00",3,6,0,1,1,0,0,0,0,0,0,0,1,1,2,5,2,0,0,0,0,0,0,0,0,0,0,0,0,0,0,0,20.827272727272728,"-",9.6999999999999993,29.5,0,5,1,0,0,6,3,1,0,1,0,5,3,6,1,1,0,11,6,12,7,13,10,11,15,5,6,6,4,4,2,4,11,18,13,17,14,13,19]
[1,{"$f":"OFFSET(Input_Details!$Q$4,MATCH($A27, Input_Details!$J$5:$J$24, 0), 0)","v":"2017-04-24"},{"$f":"INDEX(Input_Details!$H$5:$H$24, MATCH($A27, Input_Details!$J$5:$J$24, 0), 0)","v":"Harper Road (South of Falmouth Road)"},{"$f":"INDEX(Input_Details!$I$5:$I$24, MATCH($A27, Input_Details!$J$5:$J$24, 0), 0)","v":"51.49617, -0.09302"},{"$f":"INDEX(Input_Details!$K$5:$K$24, MATCH($A27, Input_Details!$J$5:$J$24, 0), 0)","v":"Southbound"},"Mon","05:45:00",0,12,0,3,1,0,0,0,0,0,0,0,0,1,7,5,3,0,0,0,0,0,0,0,0,0,0,0,0,0,0,0,20.5,25.3,13.9,28.1,{"$f":"INDEX(Input_Details!$L$5:$L$24, MATCH($A27, Input_Details!$J$5:$J$24, 0), 0)","v":"Northbound"},"Mon","05:45:00",2,1,0,0,0,0,0,0,0,0,0,0,0,1,1,1,0,0,0,0,0,0,0,0,0,0,0,0,0,0,0,0,18.3,"-",11.7,23.4,null,"Mon","05:45:00",2,13,0,3,1,0,0,0,0,0,0,0,0,2,8,6,3,0,0,0,0,0,0,0,0,0,0,0,0,0,0,0,20.152631578947368,25.3,11.7,28.1,0,12,3,1,0,16,2,1,0,0,0,3,2,13,3,1,0,19,16,17,22,11,12,11,16,3,11,9,6,11,2,1,19,28,31,17,23,13,17]
[1,{"$f":"OFFSET(Input_Details!$Q$4,MATCH($A28, Input_Details!$J$5:$J$24, 0), 0)","v":"2017-04-24"},{"$f":"INDEX(Input_Details!$H$5:$H$24, MATCH($A28, Input_Details!$J$5:$J$24, 0), 0)","v":"Harper Road (South of Falmouth Road)"},{"$f":"INDEX(Input_Details!$I$5:$I$24, MATCH($A28, Input_Details!$J$5:$J$24, 0), 0)","v":"51.49617, -0.09302"},{"$f":"INDEX(Input_Details!$K$5:$K$24, MATCH($A28, Input_Details!$J$5:$J$24, 0), 0)","v":"Southbound"},"Mon","06:00:00",0,12,0,0,1,1,0,0,0,0,0,0,0,2,4,6,1,1,0,0,0,0,0,0,0,0,0,0,0,0,0,0,20.5,23.9,12.6,31,{"$f":"INDEX(Input_Details!$L$5:$L$24, MATCH($A28, Input_Details!$J$5:$J$24, 0), 0)","v":"Northbound"},"Mon","06:00:00",3,5,0,0,0,0,0,0,0,0,0,0,0,1,1,4,1,1,0,0,0,0,0,0,0,0,0,0,0,0,0,0,21.9,"-",14,33,null,"Mon","06:00:00",3,17,0,0,1,1,0,0,0,0,0,0,0,3,5,10,2,2,0,0,0,0,0,0,0,0,0,0,0,0,0,0,21.009090909090908,23.9,12.6,33,0,12,0,1,1,14,3,5,0,0,0,8,3,17,0,1,1,22,14,22,18,23,19,11,11,8,10,8,3,2,4,5,22,32,26,26,21,15,16]
[1,{"$f":"OFFSET(Input_Details!$Q$4,MATCH($A29, Input_Details!$J$5:$J$24, 0), 0)","v":"2017-04-24"},{"$f":"INDEX(Input_Details!$H$5:$H$24, MATCH($A29, Input_Details!$J$5:$J$24, 0), 0)","v":"Harper Road (South of Falmouth Road)"},{"$f":"INDEX(Input_Details!$I$5:$I$24, MATCH($A29, Input_Details!$J$5:$J$24, 0), 0)","v":"51.49617, -0.09302"},{"$f":"INDEX(Input_Details!$K$5:$K$24, MATCH($A29, Input_Details!$J$5:$J$24, 0), 0)","v":"Southbound"},"Mon","06:15:00",0,21,0,3,1,1,0,0,0,0,0,0,3,4,14,4,1,0,0,0,0,0,0,0,0,0,0,0,0,0,0,0,17.100000000000001,19.899999999999999,9,28,{"$f":"INDEX(Input_Details!$L$5:$L$24, MATCH($A29, Input_Details!$J$5:$J$24, 0), 0)","v":"Northbound"},"Mon","06:15:00",4,4,0,0,1,0,0,0,0,0,0,0,0,1,3,3,1,1,0,0,0,0,0,0,0,0,0,0,0,0,0,0,21.4,"-",14.1,32.1,null,"Mon","06:15:00",4,25,0,3,2,1,0,0,0,0,0,0,3,5,17,7,2,1,0,0,0,0,0,0,0,0,0,0,0,0,0,0,18.205714285714286,19.899999999999999,9,32.1,0,21,3,1,1,26,4,4,0,1,0,9,4,25,3,2,1,35,26,27,27,26,31,21,16,9,16,15,8,6,0,6,35,43,42,34,37,21,22]
[1,{"$f":"OFFSET(Input_Details!$Q$4,MATCH($A30, Input_Details!$J$5:$J$24, 0), 0)","v":"2017-04-24"},{"$f":"INDEX(Input_Details!$H$5:$H$24, MATCH($A30, Input_Details!$J$5:$J$24, 0), 0)","v":"Harper Road (South of Falmouth Road)"},{"$f":"INDEX(Input_Details!$I$5:$I$24, MATCH($A30, Input_Details!$J$5:$J$24, 0), 0)","v":"51.49617, -0.09302"},{"$f":"INDEX(Input_Details!$K$5:$K$24, MATCH($A30, Input_Details!$J$5:$J$24, 0), 0)","v":"Southbound"},"Mon","06:30:00",0,24,0,3,3,0,0,0,0,0,0,0,0,0,13,12,5,0,0,0,0,0,0,0,0,0,0,0,0,0,0,0,21.3,25.1,15.3,27.5,{"$f":"INDEX(Input_Details!$L$5:$L$24, MATCH($A30, Input_Details!$J$5:$J$24, 0), 0)","v":"Northbound"},"Mon","06:30:00",3,5,0,0,2,0,0,0,0,0,0,0,0,1,5,2,1,1,0,0,0,0,0,0,0,0,0,0,0,0,0,0,20.100000000000001,"-",14.8,32,null,"Mon","06:30:00",3,29,0,3,5,0,0,0,0,0,0,0,0,1,18,14,6,1,0,0,0,0,0,0,0,0,0,0,0,0,0,0,21,25.1,14.8,32,0,24,3,3,0,30,3,5,0,2,0,10,3,29,3,5,0,40,30,37,42,37,29,19,22,10,14,19,6,13,2,2,40,51,61,43,42,21,24]
[1,{"$f":"OFFSET(Input_Details!$Q$4,MATCH($A31, Input_Details!$J$5:$J$24, 0), 0)","v":"2017-04-24"},{"$f":"INDEX(Input_Details!$H$5:$H$24, MATCH($A31, Input_Details!$J$5:$J$24, 0), 0)","v":"Harper Road (South of Falmouth Road)"},{"$f":"INDEX(Input_Details!$I$5:$I$24, MATCH($A31, Input_Details!$J$5:$J$24, 0), 0)","v":"51.49617, -0.09302"},{"$f":"INDEX(Input_Details!$K$5:$K$24, MATCH($A31, Input_Details!$J$5:$J$24, 0), 0)","v":"Southbound"},"Mon","06:45:00",4,27,0,2,5,0,0,0,0,0,0,0,0,3,4,22,8,1,0,0,0,0,0,0,0,0,0,0,0,0,0,0,22,25.9,10.8,31.5,{"$f":"INDEX(Input_Details!$L$5:$L$24, MATCH($A31, Input_Details!$J$5:$J$24, 0), 0)","v":"Northbound"},"Mon","06:45:00",5,6,0,1,2,0,0,0,0,0,0,0,1,3,6,1,2,1,0,0,0,0,0,0,0,0,0,0,0,0,0,0,18.8,25.7,9.6999999999999993,33.6,null,"Mon","06:45:00",9,33,0,3,7,0,0,0,0,0,0,0,1,6,10,23,10,2,0,0,0,0,0,0,0,0,0,0,0,0,0,0,21.138461538461538,25.799999999999997,9.6999999999999993,33.6,4,27,2,5,0,38,5,6,1,2,0,14,9,33,3,7,0,52,38,38,28,31,36,19,21,14,18,22,12,15,1,3,52,56,50,43,51,20,24]
[1,{"$f":"OFFSET(Input_Details!$Q$4,MATCH($A32, Input_Details!$J$5:$J$24, 0), 0)","v":"2017-04-24"},{"$f":"INDEX(Input_Details!$H$5:$H$24, MATCH($A32, Input_Details!$J$5:$J$24, 0), 0)","v":"Harper Road (South of Falmouth Road)"},{"$f":"INDEX(Input_Details!$I$5:$I$24, MATCH($A32, Input_Details!$J$5:$J$24, 0), 0)","v":"51.49617, -0.09302"},{"$f":"INDEX(Input_Details!$K$5:$K$24, MATCH($A32, Input_Details!$J$5:$J$24, 0), 0)","v":"Southbound"},"Mon","07:00:00",1,19,0,0,1,0,0,0,0,0,1,0,1,4,7,7,2,1,0,0,0,0,0,0,0,0,0,0,0,0,0,0,19.8,24.8,10,30.3,{"$f":"INDEX(Input_Details!$L$5:$L$24, MATCH($A32, Input_Details!$J$5:$J$24, 0), 0)","v":"Northbound"},"Mon","07:00:00",4,8,0,0,0,1,0,0,0,0,0,0,2,0,5,3,3,0,0,0,0,0,0,0,0,0,0,0,0,0,0,0,19.7,25.5,9.6999999999999993,28.7,null,"Mon","07:00:00",5,27,0,0,1,1,0,0,0,0,1,0,3,4,12,10,5,1,0,0,0,0,0,0,0,0,0,0,0,0,0,0,19.762857142857143,25.15,9.6999999999999993,30.3,1,19,0,1,1,22,4,8,0,0,1,13,5,27,0,1,2,35,22,21,32,28,31,19,13,13,10,15,8,7,2,4,35,31,47,36,38,21,17]
[1,{"$f":"OFFSET(Input_Details!$Q$4,MATCH($A33, Input_Details!$J$5:$J$24, 0), 0)","v":"2017-04-24"},{"$f":"INDEX(Input_Details!$H$5:$H$24, MATCH($A33, Input_Details!$J$5:$J$24, 0), 0)","v":"Harper Road (South of Falmouth Road)"},{"$f":"INDEX(Input_Details!$I$5:$I$24, MATCH($A33, Input_Details!$J$5:$J$24, 0), 0)","v":"51.49617, -0.09302"},{"$f":"INDEX(Input_Details!$K$5:$K$24, MATCH($A33, Input_Details!$J$5:$J$24, 0), 0)","v":"Southbound"},"Mon","07:15:00",0,18,0,1,3,1,0,0,0,0,0,0,1,1,13,8,0,0,0,0,0,0,0,0,0,0,0,0,0,0,0,0,18.7,20.6,9.9,21.5,{"$f":"INDEX(Input_Details!$L$5:$L$24, MATCH($A33, Input_Details!$J$5:$J$24, 0), 0)","v":"Northbound"},"Mon","07:15:00",6,6,0,0,0,0,0,0,0,0,0,0,1,5,1,4,0,1,0,0,0,0,0,0,0,0,0,0,0,0,0,0,17.5,21,9.9,33,null,"Mon","07:15:00",6,24,0,1,3,1,0,0,0,0,0,0,2,6,14,12,0,1,0,0,0,0,0,0,0,0,0,0,0,0,0,0,18.288571428571426,20.8,9.9,33,0,18,1,3,1,23,6,6,0,0,0,12,6,24,1,3,1,35,23,24,38,35,31,17,19,12,16,19,16,9,5,2,35,40,57,51,40,22,21]
[1,{"$f":"OFFSET(Input_Details!$Q$4,MATCH($A34, Input_Details!$J$5:$J$24, 0), 0)","v":"2017-04-24"},{"$f":"INDEX(Input_Details!$H$5:$H$24, MATCH($A34, Input_Details!$J$5:$J$24, 0), 0)","v":"Harper Road (South of Falmouth Road)"},{"$f":"INDEX(Input_Details!$I$5:$I$24, MATCH($A34, Input_Details!$J$5:$J$24, 0), 0)","v":"51.49617, -0.09302"},{"$f":"INDEX(Input_Details!$K$5:$K$24, MATCH($A34, Input_Details!$J$5:$J$24, 0), 0)","v":"Southbound"},"Mon","07:30:00",6,28,0,1,1,0,0,0,0,0,0,0,1,6,7,19,3,0,0,0,0,0,0,0,0,0,0,0,0,0,0,0,20.2,23.7,7.9,29.3,{"$f":"INDEX(Input_Details!$L$5:$L$24, MATCH($A34, Input_Details!$J$5:$J$24, 0), 0)","v":"Northbound"},"Mon","07:30:00",4,12,0,0,0,0,0,0,0,0,0,0,0,4,8,2,1,1,0,0,0,0,0,0,0,0,0,0,0,0,0,0,18.7,24.6,13.1,33,null,"Mon","07:30:00",10,40,0,1,1,0,0,0,0,0,0,0,1,10,15,21,4,1,0,0,0,0,0,0,0,0,0,0,0,0,0,0,19.738461538461536,24.15,7.9,33,6,28,1,1,0,36,4,12,0,0,0,16,10,40,1,1,0,52,36,37,43,40,49,16,11,16,22,18,17,13,8,2,52,59,61,57,62,24,13]
[1,{"$f":"OFFSET(Input_Details!$Q$4,MATCH($A35, Input_Details!$J$5:$J$24, 0), 0)","v":"2017-04-24"},{"$f":"INDEX(Input_Details!$H$5:$H$24, MATCH($A35, Input_Details!$J$5:$J$24, 0), 0)","v":"Harper Road (South of Falmouth Road)"},{"$f":"INDEX(Input_Details!$I$5:$I$24, MATCH($A35, Input_Details!$J$5:$J$24, 0), 0)","v":"51.49617, -0.09302"},{"$f":"INDEX(Input_Details!$K$5:$K$24, MATCH($A35, Input_Details!$J$5:$J$24, 0), 0)","v":"Southbound"},"Mon","07:45:00",7,31,0,2,1,0,0,0,0,0,0,0,1,4,13,15,8,0,0,0,0,0,0,0,0,0,0,0,0,0,0,0,20.3,25.5,8.1999999999999993,28.9,{"$f":"INDEX(Input_Details!$L$5:$L$24, MATCH($A35, Input_Details!$J$5:$J$24, 0), 0)","v":"Northbound"},"Mon","07:45:00",9,3,0,0,2,0,0,0,0,0,0,0,1,6,5,1,1,0,0,0,0,0,0,0,0,0,0,0,0,0,0,0,16,18.8,9.5,28.5,null,"Mon","07:45:00",16,34,0,2,3,0,0,0,0,0,0,0,2,10,18,16,9,0,0,0,0,0,0,0,0,0,0,0,0,0,0,0,19.20545454545455,22.15,8.1999999999999993,28.9,7,31,2,1,0,41,9,3,0,2,0,14,16,34,2,3,0,55,41,43,42,39,36,28,17,14,24,24,10,15,6,5,55,67,66,49,51,34,22]
[1,{"$f":"OFFSET(Input_Details!$Q$4,MATCH($A36, Input_Details!$J$5:$J$24, 0), 0)","v":"2017-04-24"},{"$f":"INDEX(Input_Details!$H$5:$H$24, MATCH($A36, Input_Details!$J$5:$J$24, 0), 0)","v":"Harper Road (South of Falmouth Road)"},{"$f":"INDEX(Input_Details!$I$5:$I$24, MATCH($A36, Input_Details!$J$5:$J$24, 0), 0)","v":"51.49617, -0.09302"},{"$f":"INDEX(Input_Details!$K$5:$K$24, MATCH($A36, Input_Details!$J$5:$J$24, 0), 0)","v":"Southbound"},"Mon","08:00:00",3,26,0,4,1,0,0,2,0,0,0,0,0,6,19,10,0,1,0,0,0,0,0,0,0,0,0,0,0,0,0,0,18.5,21,10.6,31.5,{"$f":"INDEX(Input_Details!$L$5:$L$24, MATCH($A36, Input_Details!$J$5:$J$24, 0), 0)","v":"Northbound"},"Mon","08:00:00",10,8,0,0,0,0,0,0,0,0,0,0,2,5,9,2,0,0,0,0,0,0,0,0,0,0,0,0,0,0,0,0,15.5,18.8,8.5,23.2,null,"Mon","08:00:00",13,34,0,4,1,0,0,2,0,0,0,0,2,11,28,12,0,1,0,0,0,0,0,0,0,0,0,0,0,0,0,0,17.5,19.899999999999999,8.5,31.5,3,26,4,1,2,36,10,8,0,0,0,18,13,34,4,1,2,54,36,41,43,38,45,23,11,18,21,12,12,12,5,2,54,62,55,50,57,28,13]
[1,{"$f":"OFFSET(Input_Details!$Q$4,MATCH($A37, Input_Details!$J$5:$J$24, 0), 0)","v":"2017-04-24"},{"$f":"INDEX(Input_Details!$H$5:$H$24, MATCH($A37, Input_Details!$J$5:$J$24, 0), 0)","v":"Harper Road (South of Falmouth Road)"},{"$f":"INDEX(Input_Details!$I$5:$I$24, MATCH($A37, Input_Details!$J$5:$J$24, 0), 0)","v":"51.49617, -0.09302"},{"$f":"INDEX(Input_Details!$K$5:$K$24, MATCH($A37, Input_Details!$J$5:$J$24, 0), 0)","v":"Southbound"},{"$f":"+F36","v":"Mon"},"08:15:00",2,44,0,7,2,1,0,1,0,0,0,0,1,7,34,14,1,0,0,0,0,0,0,0,0,0,0,0,0,0,0,0,18,21,8.1999999999999993,25.1,{"$f":"INDEX(Input_Details!$L$5:$L$24, MATCH($A37, Input_Details!$J$5:$J$24, 0), 0)","v":"Northbound"},"Mon","08:15:00",9,11,0,0,0,1,0,0,0,0,0,0,1,12,5,3,0,0,0,0,0,0,0,0,0,0,0,0,0,0,0,0,14.9,18.3,8.1999999999999993,21.9,null,"Mon","08:15:00",11,55,0,7,2,2,0,1,0,0,0,0,2,19,39,17,1,0,0,0,0,0,0,0,0,0,0,0,0,0,0,0,17.165384615384617,19.649999999999999,8.1999999999999993,25.1,2,44,7,2,2,57,9,11,0,0,1,21,11,55,7,2,3,78,57,39,37,51,52,29,22,21,33,30,21,15,7,4,78,72,67,72,67,36,26]
[1,{"$f":"OFFSET(Input_Details!$Q$4,MATCH($A38, Input_Details!$J$5:$J$24, 0), 0)","v":"2017-04-24"},{"$f":"INDEX(Input_Details!$H$5:$H$24, MATCH($A38, Input_Details!$J$5:$J$24, 0), 0)","v":"Harper Road (South of Falmouth Road)"},{"$f":"INDEX(Input_Details!$I$5:$I$24, MATCH($A38, Input_Details!$J$5:$J$24, 0), 0)","v":"51.49617, -0.09302"},{"$f":"INDEX(Input_Details!$K$5:$K$24, MATCH($A38, Input_Details!$J$5:$J$24, 0), 0)","v":"Southbound"},"Mon","08:30:00",8,29,0,2,4,0,0,0,0,1,0,0,0,6,26,10,1,0,1,0,0,0,0,0,0,0,0,0,0,0,0,0,18.2,21.7,10.8,38,{"$f":"INDEX(Input_Details!$L$5:$L$24, MATCH($A38, Input_Details!$J$5:$J$24, 0), 0)","v":"Northbound"},"Mon","08:30:00",11,9,0,0,0,0,0,0,0,0,0,0,2,10,6,0,1,0,1,0,0,0,0,0,0,0,0,0,0,0,0,0,15.9,17.399999999999999,9,37.1,null,"Mon","08:30:00",19,38,0,2,4,0,0,0,0,1,0,0,2,16,32,10,2,0,2,0,0,0,0,0,0,0,0,0,0,0,0,0,17.481249999999999,19.549999999999997,9,38,8,29,2,4,1,44,11,9,0,0,0,20,19,38,2,4,1,64,44,34,40,52,38,31,15,20,30,27,17,19,4,2,64,64,67,69,57,35,17]
[1,{"$f":"OFFSET(Input_Details!$Q$4,MATCH($A39, Input_Details!$J$5:$J$24, 0), 0)","v":"2017-04-24"},{"$f":"INDEX(Input_Details!$H$5:$H$24, MATCH($A39, Input_Details!$J$5:$J$24, 0), 0)","v":"Harper Road (South of Falmouth Road)"},{"$f":"INDEX(Input_Details!$I$5:$I$24, MATCH($A39, Input_Details!$J$5:$J$24, 0), 0)","v":"51.49617, -0.09302"},{"$f":"INDEX(Input_Details!$K$5:$K$24, MATCH($A39, Input_Details!$J$5:$J$24, 0), 0)","v":"Southbound"},"Mon","08:45:00",2,33,0,2,0,0,0,0,0,1,1,0,0,5,20,10,4,0,0,0,0,0,0,0,0,0,0,0,0,0,0,0,19.100000000000001,23.9,10.5,27.4,{"$f":"INDEX(Input_Details!$L$5:$L$24, MATCH($A39, Input_Details!$J$5:$J$24, 0), 0)","v":"Northbound"},"Mon","08:45:00",10,9,0,0,0,0,0,0,0,0,0,0,1,9,5,3,1,0,0,0,0,0,0,0,0,0,0,0,0,0,0,0,15.7,19.899999999999999,9.6999999999999993,26.3,null,"Mon","08:45:00",12,42,0,2,0,0,0,0,0,1,1,0,1,14,25,13,5,0,0,0,0,0,0,0,0,0,0,0,0,0,0,0,17.986206896551725,21.9,9.6999999999999993,27.4,2,33,2,0,2,39,10,9,0,0,0,19,12,42,2,0,2,58,39,40,42,46,57,22,11,19,32,18,20,17,4,6,58,72,60,66,74,26,17]
[1,{"$f":"OFFSET(Input_Details!$Q$4,MATCH($A40, Input_Details!$J$5:$J$24, 0), 0)","v":"2017-04-24"},{"$f":"INDEX(Input_Details!$H$5:$H$24, MATCH($A40, Input_Details!$J$5:$J$24, 0), 0)","v":"Harper Road (South of Falmouth Road)"},{"$f":"INDEX(Input_Details!$I$5:$I$24, MATCH($A40, Input_Details!$J$5:$J$24, 0), 0)","v":"51.49617, -0.09302"},{"$f":"INDEX(Input_Details!$K$5:$K$24, MATCH($A40, Input_Details!$J$5:$J$24, 0), 0)","v":"Southbound"},"Mon","09:00:00",5,39,0,6,1,1,0,0,0,0,0,0,0,7,25,17,3,0,0,0,0,0,0,0,0,0,0,0,0,0,0,0,19.100000000000001,22.8,12.1,26.9,{"$f":"INDEX(Input_Details!$L$5:$L$24, MATCH($A40, Input_Details!$J$5:$J$24, 0), 0)","v":"Northbound"},"Mon","09:00:00",13,6,0,1,1,0,0,0,0,0,0,0,1,14,4,1,1,0,0,0,0,0,0,0,0,0,0,0,0,0,0,0,14.7,16.3,8.6999999999999993,29,null,"Mon","09:00:00",18,45,0,7,2,1,0,0,0,0,0,0,1,21,29,18,4,0,0,0,0,0,0,0,0,0,0,0,0,0,0,0,17.834246575342465,19.55,8.6999999999999993,29,5,39,6,1,1,52,13,6,1,1,0,21,18,45,7,2,1,73,52,49,52,48,47,34,16,21,26,18,13,18,5,4,73,75,70,61,65,39,20]
[1,{"$f":"OFFSET(Input_Details!$Q$4,MATCH($A41, Input_Details!$J$5:$J$24, 0), 0)","v":"2017-04-24"},{"$f":"INDEX(Input_Details!$H$5:$H$24, MATCH($A41, Input_Details!$J$5:$J$24, 0), 0)","v":"Harper Road (South of Falmouth Road)"},{"$f":"INDEX(Input_Details!$I$5:$I$24, MATCH($A41, Input_Details!$J$5:$J$24, 0), 0)","v":"51.49617, -0.09302"},{"$f":"INDEX(Input_Details!$K$5:$K$24, MATCH($A41, Input_Details!$J$5:$J$24, 0), 0)","v":"Southbound"},"Mon","09:15:00",2,33,0,9,0,0,0,0,0,1,0,0,0,3,22,16,3,1,0,0,0,0,0,0,0,0,0,0,0,0,0,0,19.7,23,12.6,31.2,{"$f":"INDEX(Input_Details!$L$5:$L$24, MATCH($A41, Input_Details!$J$5:$J$24, 0), 0)","v":"Northbound"},"Mon","09:15:00",7,4,0,0,0,0,0,0,0,0,0,0,1,6,3,1,0,0,0,0,0,0,0,0,0,0,0,0,0,0,0,0,13.9,16.3,8.6999999999999993,20.2,null,"Mon","09:15:00",9,37,0,9,0,0,0,0,0,1,0,0,1,9,25,17,3,1,0,0,0,0,0,0,0,0,0,0,0,0,0,0,18.560714285714287,19.649999999999999,8.6999999999999993,31.2,2,33,9,0,1,45,7,4,0,0,0,11,9,37,9,0,1,56,45,31,48,36,51,39,16,11,14,17,10,10,7,2,56,45,65,46,61,46,18]
[1,{"$f":"OFFSET(Input_Details!$Q$4,MATCH($A42, Input_Details!$J$5:$J$24, 0), 0)","v":"2017-04-24"},{"$f":"INDEX(Input_Details!$H$5:$H$24, MATCH($A42, Input_Details!$J$5:$J$24, 0), 0)","v":"Harper Road (South of Falmouth Road)"},{"$f":"INDEX(Input_Details!$I$5:$I$24, MATCH($A42, Input_Details!$J$5:$J$24, 0), 0)","v":"51.49617, -0.09302"},{"$f":"INDEX(Input_Details!$K$5:$K$24, MATCH($A42, Input_Details!$J$5:$J$24, 0), 0)","v":"Southbound"},"Mon","09:30:00",1,33,0,7,0,0,0,0,0,0,0,0,1,5,18,16,1,0,0,0,0,0,0,0,0,0,0,0,0,0,0,0,19.3,21.7,8,28.7,{"$f":"INDEX(Input_Details!$L$5:$L$24, MATCH($A42, Input_Details!$J$5:$J$24, 0), 0)","v":"Northbound"},"Mon","09:30:00",3,3,0,0,0,1,0,0,0,0,0,0,0,2,3,2,0,0,0,0,0,0,0,0,0,0,0,0,0,0,0,0,17.3,"-",10.5,24.5,null,"Mon","09:30:00",4,36,0,7,0,1,0,0,0,0,0,0,1,7,21,18,1,0,0,0,0,0,0,0,0,0,0,0,0,0,0,0,19.008333333333336,21.7,8,28.7,1,33,7,0,0,41,3,3,0,0,1,7,4,36,7,0,1,48,41,43,39,40,51,32,25,7,16,8,14,8,9,9,48,59,47,54,59,41,34]
[1,{"$f":"OFFSET(Input_Details!$Q$4,MATCH($A43, Input_Details!$J$5:$J$24, 0), 0)","v":"2017-04-24"},{"$f":"INDEX(Input_Details!$H$5:$H$24, MATCH($A43, Input_Details!$J$5:$J$24, 0), 0)","v":"Harper Road (South of Falmouth Road)"},{"$f":"INDEX(Input_Details!$I$5:$I$24, MATCH($A43, Input_Details!$J$5:$J$24, 0), 0)","v":"51.49617, -0.09302"},{"$f":"INDEX(Input_Details!$K$5:$K$24, MATCH($A43, Input_Details!$J$5:$J$24, 0), 0)","v":"Southbound"},"Mon","09:45:00",3,23,0,11,0,0,0,0,0,0,0,0,0,2,12,14,9,0,0,0,0,0,0,0,0,0,0,0,0,0,0,0,21.8,26.2,13.4,29.4,{"$f":"INDEX(Input_Details!$L$5:$L$24, MATCH($A43, Input_Details!$J$5:$J$24, 0), 0)","v":"Northbound"},"Mon","09:45:00",1,7,0,0,0,0,0,0,0,0,0,0,0,1,6,1,0,0,0,0,0,0,0,0,0,0,0,0,0,0,0,0,18,"-",10.199999999999999,22.3,null,"Mon","09:45:00",4,30,0,11,0,0,0,0,0,0,0,0,0,3,18,15,9,0,0,0,0,0,0,0,0,0,0,0,0,0,0,0,21.124444444444446,26.2,10.199999999999999,29.4,3,23,11,0,0,37,1,7,0,0,0,8,4,30,11,0,0,45,37,49,43,34,55,48,23,8,16,9,9,10,4,6,45,65,52,43,65,52,29]
[1,{"$f":"OFFSET(Input_Details!$Q$4,MATCH($A44, Input_Details!$J$5:$J$24, 0), 0)","v":"2017-04-24"},{"$f":"INDEX(Input_Details!$H$5:$H$24, MATCH($A44, Input_Details!$J$5:$J$24, 0), 0)","v":"Harper Road (South of Falmouth Road)"},{"$f":"INDEX(Input_Details!$I$5:$I$24, MATCH($A44, Input_Details!$J$5:$J$24, 0), 0)","v":"51.49617, -0.09302"},{"$f":"INDEX(Input_Details!$K$5:$K$24, MATCH($A44, Input_Details!$J$5:$J$24, 0), 0)","v":"Southbound"},"Mon","10:00:00",1,41,0,1,1,3,0,0,1,0,0,0,0,1,26,20,1,0,0,0,0,0,0,0,0,0,0,0,0,0,0,0,19.600000000000001,22.1,12.3,26.2,{"$f":"INDEX(Input_Details!$L$5:$L$24, MATCH($A44, Input_Details!$J$5:$J$24, 0), 0)","v":"Northbound"},"Mon","10:00:00",3,5,0,0,0,1,0,0,0,0,0,0,1,2,1,2,2,0,0,1,0,0,0,0,0,0,0,0,0,0,0,0,20.7,"-",7.6,40.6,null,"Mon","10:00:00",4,46,0,1,1,4,0,0,1,0,0,0,1,3,27,22,3,0,0,1,0,0,0,0,0,0,0,0,0,0,0,0,19.773684210526319,22.1,7.6,40.6,1,41,1,1,4,48,3,5,0,0,1,9,4,46,1,1,5,57,48,41,49,47,33,39,21,9,12,14,4,8,9,3,57,53,63,51,41,48,24]
[1,{"$f":"OFFSET(Input_Details!$Q$4,MATCH($A45, Input_Details!$J$5:$J$24, 0), 0)","v":"2017-04-24"},{"$f":"INDEX(Input_Details!$H$5:$H$24, MATCH($A45, Input_Details!$J$5:$J$24, 0), 0)","v":"Harper Road (South of Falmouth Road)"},{"$f":"INDEX(Input_Details!$I$5:$I$24, MATCH($A45, Input_Details!$J$5:$J$24, 0), 0)","v":"51.49617, -0.09302"},{"$f":"INDEX(Input_Details!$K$5:$K$24, MATCH($A45, Input_Details!$J$5:$J$24, 0), 0)","v":"Southbound"},"Mon","10:15:00",3,35,0,10,4,1,0,0,0,0,0,0,1,2,12,35,3,0,0,0,0,0,0,0,0,0,0,0,0,0,0,0,21,24.2,8.8000000000000007,28.8,{"$f":"INDEX(Input_Details!$L$5:$L$24, MATCH($A45, Input_Details!$J$5:$J$24, 0), 0)","v":"Northbound"},"Mon","10:15:00",0,6,0,0,0,0,0,0,0,0,0,0,0,1,5,0,0,0,0,0,0,0,0,0,0,0,0,0,0,0,0,0,16.5,"-",10.199999999999999,17.8,null,"Mon","10:15:00",3,41,0,10,4,1,0,0,0,0,0,0,1,3,17,35,3,0,0,0,0,0,0,0,0,0,0,0,0,0,0,0,20.542372881355931,24.2,8.8000000000000007,28.8,3,35,10,4,1,53,0,6,0,0,0,6,3,41,10,4,1,59,53,39,60,56,49,49,20,6,11,18,10,6,5,7,59,50,78,66,55,54,27]
[1,{"$f":"OFFSET(Input_Details!$Q$4,MATCH($A46, Input_Details!$J$5:$J$24, 0), 0)","v":"2017-04-24"},{"$f":"INDEX(Input_Details!$H$5:$H$24, MATCH($A46, Input_Details!$J$5:$J$24, 0), 0)","v":"Harper Road (South of Falmouth Road)"},{"$f":"INDEX(Input_Details!$I$5:$I$24, MATCH($A46, Input_Details!$J$5:$J$24, 0), 0)","v":"51.49617, -0.09302"},{"$f":"INDEX(Input_Details!$K$5:$K$24, MATCH($A46, Input_Details!$J$5:$J$24, 0), 0)","v":"Southbound"},"Mon","10:30:00",4,25,1,15,3,1,0,0,0,0,0,0,0,7,17,18,6,1,0,0,0,0,0,0,0,0,0,0,0,0,0,0,20.3,24.8,12.8,30.3,{"$f":"INDEX(Input_Details!$L$5:$L$24, MATCH($A46, Input_Details!$J$5:$J$24, 0), 0)","v":"Northbound"},"Mon","10:30:00",0,3,0,0,0,0,0,0,0,0,0,0,0,0,3,0,0,0,0,0,0,0,0,0,0,0,0,0,0,0,0,0,18.600000000000001,"-",17.8,19.399999999999999,null,"Mon","10:30:00",4,28,1,15,3,1,0,0,0,0,0,0,0,7,20,18,6,1,0,0,0,0,0,0,0,0,0,0,0,0,0,0,20.201923076923077,24.8,12.8,30.3,4,26,15,3,1,49,0,3,0,0,0,3,4,29,15,3,1,52,49,53,54,58,56,40,27,3,12,15,9,6,7,3,52,65,69,67,62,47,30]
[1,{"$f":"OFFSET(Input_Details!$Q$4,MATCH($A47, Input_Details!$J$5:$J$24, 0), 0)","v":"2017-04-24"},{"$f":"INDEX(Input_Details!$H$5:$H$24, MATCH($A47, Input_Details!$J$5:$J$24, 0), 0)","v":"Harper Road (South of Falmouth Road)"},{"$f":"INDEX(Input_Details!$I$5:$I$24, MATCH($A47, Input_Details!$J$5:$J$24, 0), 0)","v":"51.49617, -0.09302"},{"$f":"INDEX(Input_Details!$K$5:$K$24, MATCH($A47, Input_Details!$J$5:$J$24, 0), 0)","v":"Southbound"},"Mon","10:45:00",2,37,0,17,3,1,0,0,0,0,0,0,0,4,28,23,4,1,0,0,0,0,0,0,0,0,0,0,0,0,0,0,20.2,23,14,32.9,{"$f":"INDEX(Input_Details!$L$5:$L$24, MATCH($A47, Input_Details!$J$5:$J$24, 0), 0)","v":"Northbound"},"Mon","10:45:00",2,7,0,0,2,0,0,0,0,0,0,0,0,5,4,2,0,0,0,0,0,0,0,0,0,0,0,0,0,0,0,0,16,18.600000000000001,11.2,23.7,null,"Mon","10:45:00",4,44,0,17,5,1,0,0,0,0,0,0,0,9,32,25,4,1,0,0,0,0,0,0,0,0,0,0,0,0,0,0,19.549295774647888,20.8,11.2,32.9,2,37,17,3,1,60,2,7,0,2,0,11,4,44,17,5,1,71,60,74,48,57,52,40,36,11,13,8,6,4,7,7,71,87,56,63,56,47,43]
[1,{"$f":"OFFSET(Input_Details!$Q$4,MATCH($A48, Input_Details!$J$5:$J$24, 0), 0)","v":"2017-04-24"},{"$f":"INDEX(Input_Details!$H$5:$H$24, MATCH($A48, Input_Details!$J$5:$J$24, 0), 0)","v":"Harper Road (South of Falmouth Road)"},{"$f":"INDEX(Input_Details!$I$5:$I$24, MATCH($A48, Input_Details!$J$5:$J$24, 0), 0)","v":"51.49617, -0.09302"},{"$f":"INDEX(Input_Details!$K$5:$K$24, MATCH($A48, Input_Details!$J$5:$J$24, 0), 0)","v":"Southbound"},"Mon","11:00:00",2,48,0,10,1,1,0,0,0,0,0,0,0,7,32,19,3,1,0,0,0,0,0,0,0,0,0,0,0,0,0,0,19.3,21.5,12.2,30.6,{"$f":"INDEX(Input_Details!$L$5:$L$24, MATCH($A48, Input_Details!$J$5:$J$24, 0), 0)","v":"Northbound"},"Mon","11:00:00",1,2,0,0,0,0,0,0,0,0,0,0,0,1,1,1,0,0,0,0,0,0,0,0,0,0,0,0,0,0,0,0,16.2,"-",12.4,20.5,null,"Mon","11:00:00",3,50,0,10,1,1,0,0,0,0,0,0,0,8,33,20,3,1,0,0,0,0,0,0,0,0,0,0,0,0,0,0,19.156923076923078,21.5,12.2,30.6,2,48,10,1,1,62,1,2,0,0,0,3,3,50,10,1,1,65,62,50,49,60,55,42,34,3,11,7,12,6,4,6,65,61,56,72,61,46,40]
[1,{"$f":"OFFSET(Input_Details!$Q$4,MATCH($A49, Input_Details!$J$5:$J$24, 0), 0)","v":"2017-04-24"},{"$f":"INDEX(Input_Details!$H$5:$H$24, MATCH($A49, Input_Details!$J$5:$J$24, 0), 0)","v":"Harper Road (South of Falmouth Road)"},{"$f":"INDEX(Input_Details!$I$5:$I$24, MATCH($A49, Input_Details!$J$5:$J$24, 0), 0)","v":"51.49617, -0.09302"},{"$f":"INDEX(Input_Details!$K$5:$K$24, MATCH($A49, Input_Details!$J$5:$J$24, 0), 0)","v":"Southbound"},"Mon","11:15:00",6,32,0,7,0,2,0,0,0,0,0,0,0,3,25,14,4,0,1,0,0,0,0,0,0,0,0,0,0,0,0,0,20.2,24.2,10.7,35.299999999999997,{"$f":"INDEX(Input_Details!$L$5:$L$24, MATCH($A49, Input_Details!$J$5:$J$24, 0), 0)","v":"Northbound"},"Mon","11:15:00",2,5,0,0,0,0,0,0,0,0,0,0,0,2,4,1,0,0,0,0,0,0,0,0,0,0,0,0,0,0,0,0,15.8,"-",11.8,22,null,"Mon","11:15:00",8,37,0,7,0,2,0,0,0,0,0,0,0,5,29,15,4,0,1,0,0,0,0,0,0,0,0,0,0,0,0,0,19.62962962962963,24.2,10.7,35.299999999999997,6,32,7,0,2,47,2,5,0,0,0,7,8,37,7,0,2,54,47,47,53,56,52,55,28,7,5,10,10,7,7,6,54,52,63,66,59,62,34]
[1,{"$f":"OFFSET(Input_Details!$Q$4,MATCH($A50, Input_Details!$J$5:$J$24, 0), 0)","v":"2017-04-24"},{"$f":"INDEX(Input_Details!$H$5:$H$24, MATCH($A50, Input_Details!$J$5:$J$24, 0), 0)","v":"Harper Road (South of Falmouth Road)"},{"$f":"INDEX(Input_Details!$I$5:$I$24, MATCH($A50, Input_Details!$J$5:$J$24, 0), 0)","v":"51.49617, -0.09302"},{"$f":"INDEX(Input_Details!$K$5:$K$24, MATCH($A50, Input_Details!$J$5:$J$24, 0), 0)","v":"Southbound"},"Mon","11:30:00",2,18,0,7,2,1,0,0,0,0,0,0,1,2,15,8,4,0,0,0,0,0,0,0,0,0,0,0,0,0,0,0,19.600000000000001,23,9.3000000000000007,29.8,{"$f":"INDEX(Input_Details!$L$5:$L$24, MATCH($A50, Input_Details!$J$5:$J$24, 0), 0)","v":"Northbound"},"Mon","11:30:00",2,6,0,0,0,0,0,0,0,0,0,0,0,3,3,2,0,0,0,0,0,0,0,0,0,0,0,0,0,0,0,0,16.5,"-",12.1,20.9,null,"Mon","11:30:00",4,24,0,7,2,1,0,0,0,0,0,0,1,5,18,10,4,0,0,0,0,0,0,0,0,0,0,0,0,0,0,0,18.94736842105263,23,9.3000000000000007,29.8,2,18,7,2,1,30,2,6,0,0,0,8,4,24,7,2,1,38,30,48,59,58,57,48,36,8,9,7,2,4,6,5,38,57,66,60,61,54,41]
[1,{"$f":"OFFSET(Input_Details!$Q$4,MATCH($A51, Input_Details!$J$5:$J$24, 0), 0)","v":"2017-04-24"},{"$f":"INDEX(Input_Details!$H$5:$H$24, MATCH($A51, Input_Details!$J$5:$J$24, 0), 0)","v":"Harper Road (South of Falmouth Road)"},{"$f":"INDEX(Input_Details!$I$5:$I$24, MATCH($A51, Input_Details!$J$5:$J$24, 0), 0)","v":"51.49617, -0.09302"},{"$f":"INDEX(Input_Details!$K$5:$K$24, MATCH($A51, Input_Details!$J$5:$J$24, 0), 0)","v":"Southbound"},"Mon","11:45:00",3,27,0,9,1,0,0,0,0,0,0,0,0,5,17,15,3,0,0,0,0,0,0,0,0,0,0,0,0,0,0,0,19.3,22.8,11.2,27.4,{"$f":"INDEX(Input_Details!$L$5:$L$24, MATCH($A51, Input_Details!$J$5:$J$24, 0), 0)","v":"Northbound"},"Mon","11:45:00",3,6,0,0,0,0,0,0,0,0,0,0,1,5,1,2,0,0,0,0,0,0,0,0,0,0,0,0,0,0,0,0,15.5,"-",9.4,24.4,null,"Mon","11:45:00",6,33,0,9,1,0,0,0,0,0,0,0,1,10,18,17,3,0,0,0,0,0,0,0,0,0,0,0,0,0,0,0,18.602040816326532,22.8,9.4,27.4,3,27,9,1,0,40,3,6,0,0,0,9,6,33,9,1,0,49,40,53,62,63,55,48,23,9,11,8,6,4,7,10,49,64,70,69,59,55,33]
[1,{"$f":"OFFSET(Input_Details!$Q$4,MATCH($A52, Input_Details!$J$5:$J$24, 0), 0)","v":"2017-04-24"},{"$f":"INDEX(Input_Details!$H$5:$H$24, MATCH($A52, Input_Details!$J$5:$J$24, 0), 0)","v":"Harper Road (South of Falmouth Road)"},{"$f":"INDEX(Input_Details!$I$5:$I$24, MATCH($A52, Input_Details!$J$5:$J$24, 0), 0)","v":"51.49617, -0.09302"},{"$f":"INDEX(Input_Details!$K$5:$K$24, MATCH($A52, Input_Details!$J$5:$J$24, 0), 0)","v":"Southbound"},"Mon","12:00:00",6,30,1,13,0,0,0,1,0,0,0,0,0,4,15,26,4,0,2,0,0,0,0,0,0,0,0,0,0,0,0,0,21.1,24.4,13,36.299999999999997,{"$f":"INDEX(Input_Details!$L$5:$L$24, MATCH($A52, Input_Details!$J$5:$J$24, 0), 0)","v":"Northbound"},"Mon","12:00:00",0,4,0,0,0,0,0,0,0,0,0,0,0,0,4,0,0,0,0,0,0,0,0,0,0,0,0,0,0,0,0,0,18.5,"-",17.100000000000001,19.399999999999999,null,"Mon","12:00:00",6,34,1,13,0,0,0,1,0,0,0,0,0,4,19,26,4,0,2,0,0,0,0,0,0,0,0,0,0,0,0,0,20.910909090909094,24.4,13,36.299999999999997,6,31,13,0,1,51,0,4,0,0,0,4,6,35,13,0,1,55,51,52,47,50,64,45,29,4,13,9,6,7,6,3,55,65,56,56,71,51,32]
[1,{"$f":"OFFSET(Input_Details!$Q$4,MATCH($A53, Input_Details!$J$5:$J$24, 0), 0)","v":"2017-04-24"},{"$f":"INDEX(Input_Details!$H$5:$H$24, MATCH($A53, Input_Details!$J$5:$J$24, 0), 0)","v":"Harper Road (South of Falmouth Road)"},{"$f":"INDEX(Input_Details!$I$5:$I$24, MATCH($A53, Input_Details!$J$5:$J$24, 0), 0)","v":"51.49617, -0.09302"},{"$f":"INDEX(Input_Details!$K$5:$K$24, MATCH($A53, Input_Details!$J$5:$J$24, 0), 0)","v":"Southbound"},"Mon","12:15:00",4,40,1,8,0,1,0,0,0,0,0,0,0,2,12,35,3,1,1,0,0,0,0,0,0,0,0,0,0,0,0,0,21.9,24.4,14.9,35.4,{"$f":"INDEX(Input_Details!$L$5:$L$24, MATCH($A53, Input_Details!$J$5:$J$24, 0), 0)","v":"Northbound"},"Mon","12:15:00",1,5,0,0,0,0,0,0,0,0,0,0,0,2,4,0,0,0,0,0,0,0,0,0,0,0,0,0,0,0,0,0,16.2,"-",12.8,18.899999999999999,null,"Mon","12:15:00",5,45,1,8,0,1,0,0,0,0,0,0,0,4,16,35,3,1,1,0,0,0,0,0,0,0,0,0,0,0,0,0,21.33,24.4,12.8,35.4,4,41,8,0,1,54,1,5,0,0,0,6,5,46,8,0,1,60,54,66,55,61,68,49,30,6,5,9,5,7,5,9,60,71,64,66,75,54,39]
[1,{"$f":"OFFSET(Input_Details!$Q$4,MATCH($A54, Input_Details!$J$5:$J$24, 0), 0)","v":"2017-04-24"},{"$f":"INDEX(Input_Details!$H$5:$H$24, MATCH($A54, Input_Details!$J$5:$J$24, 0), 0)","v":"Harper Road (South of Falmouth Road)"},{"$f":"INDEX(Input_Details!$I$5:$I$24, MATCH($A54, Input_Details!$J$5:$J$24, 0), 0)","v":"51.49617, -0.09302"},{"$f":"INDEX(Input_Details!$K$5:$K$24, MATCH($A54, Input_Details!$J$5:$J$24, 0), 0)","v":"Southbound"},"Mon","12:30:00",6,33,0,13,0,0,0,0,0,1,0,0,0,6,23,16,5,3,0,0,0,0,0,0,0,0,0,0,0,0,0,0,20.3,24.6,12.3,31.3,{"$f":"INDEX(Input_Details!$L$5:$L$24, MATCH($A54, Input_Details!$J$5:$J$24, 0), 0)","v":"Northbound"},"Mon","12:30:00",0,4,0,0,0,0,0,0,0,0,0,0,0,3,0,1,0,0,0,0,0,0,0,0,0,0,0,0,0,0,0,0,14.4,"-",10.7,20.3,null,"Mon","12:30:00",6,37,0,13,0,0,0,0,0,1,0,0,0,9,23,17,5,3,0,0,0,0,0,0,0,0,0,0,0,0,0,0,19.885964912280702,24.6,10.7,31.3,6,33,13,0,1,53,0,4,0,0,0,4,6,37,13,0,1,57,53,51,59,52,71,62,44,4,8,14,6,9,4,5,57,59,73,58,80,66,49]
[1,{"$f":"OFFSET(Input_Details!$Q$4,MATCH($A55, Input_Details!$J$5:$J$24, 0), 0)","v":"2017-04-24"},{"$f":"INDEX(Input_Details!$H$5:$H$24, MATCH($A55, Input_Details!$J$5:$J$24, 0), 0)","v":"Harper Road (South of Falmouth Road)"},{"$f":"INDEX(Input_Details!$I$5:$I$24, MATCH($A55, Input_Details!$J$5:$J$24, 0), 0)","v":"51.49617, -0.09302"},{"$f":"INDEX(Input_Details!$K$5:$K$24, MATCH($A55, Input_Details!$J$5:$J$24, 0), 0)","v":"Southbound"},"Mon","12:45:00",2,32,0,10,0,0,0,0,0,0,0,0,0,1,15,25,3,0,0,0,0,0,0,0,0,0,0,0,0,0,0,0,20.6,22.8,11.9,26.2,{"$f":"INDEX(Input_Details!$L$5:$L$24, MATCH($A55, Input_Details!$J$5:$J$24, 0), 0)","v":"Northbound"},"Mon","12:45:00",5,4,0,0,1,0,0,0,0,0,0,0,0,2,6,2,0,0,0,0,0,0,0,0,0,0,0,0,0,0,0,0,17.8,"-",10.8,23.4,null,"Mon","12:45:00",7,36,0,10,1,0,0,0,0,0,0,0,0,3,21,27,3,0,0,0,0,0,0,0,0,0,0,0,0,0,0,0,20.081481481481482,22.8,10.8,26.2,2,32,10,0,0,44,5,4,0,1,0,10,7,36,10,1,0,54,44,57,53,54,64,58,39,10,8,8,4,6,8,11,54,65,61,58,70,66,50]
[1,{"$f":"OFFSET(Input_Details!$Q$4,MATCH($A56, Input_Details!$J$5:$J$24, 0), 0)","v":"2017-04-24"},{"$f":"INDEX(Input_Details!$H$5:$H$24, MATCH($A56, Input_Details!$J$5:$J$24, 0), 0)","v":"Harper Road (South of Falmouth Road)"},{"$f":"INDEX(Input_Details!$I$5:$I$24, MATCH($A56, Input_Details!$J$5:$J$24, 0), 0)","v":"51.49617, -0.09302"},{"$f":"INDEX(Input_Details!$K$5:$K$24, MATCH($A56, Input_Details!$J$5:$J$24, 0), 0)","v":"Southbound"},"Mon","13:00:00",5,42,0,9,0,2,0,0,0,0,0,0,0,4,27,23,2,2,0,0,0,0,0,0,0,0,0,0,0,0,0,0,20.100000000000001,23.3,12.4,30.7,{"$f":"INDEX(Input_Details!$L$5:$L$24, MATCH($A56, Input_Details!$J$5:$J$24, 0), 0)","v":"Northbound"},"Mon","13:00:00",1,5,0,0,0,1,0,0,0,0,0,0,0,2,3,2,0,0,0,0,0,0,0,0,0,0,0,0,0,0,0,0,16.899999999999999,"-",10.6,20.9,null,"Mon","13:00:00",6,47,0,9,0,3,0,0,0,0,0,0,0,6,30,25,2,2,0,0,0,0,0,0,0,0,0,0,0,0,0,0,19.755384615384617,23.3,10.6,30.7,5,42,9,0,2,58,1,5,0,0,1,7,6,47,9,0,3,65,58,65,59,64,58,76,30,7,10,9,9,12,8,5,65,75,68,73,70,84,35]
[1,{"$f":"OFFSET(Input_Details!$Q$4,MATCH($A57, Input_Details!$J$5:$J$24, 0), 0)","v":"2017-04-24"},{"$f":"INDEX(Input_Details!$H$5:$H$24, MATCH($A57, Input_Details!$J$5:$J$24, 0), 0)","v":"Harper Road (South of Falmouth Road)"},{"$f":"INDEX(Input_Details!$I$5:$I$24, MATCH($A57, Input_Details!$J$5:$J$24, 0), 0)","v":"51.49617, -0.09302"},{"$f":"INDEX(Input_Details!$K$5:$K$24, MATCH($A57, Input_Details!$J$5:$J$24, 0), 0)","v":"Southbound"},"Mon","13:15:00",5,43,0,8,3,2,0,1,0,0,0,0,0,9,33,18,2,0,0,0,0,0,0,0,0,0,0,0,0,0,0,0,18.899999999999999,22.1,10.9,28.7,{"$f":"INDEX(Input_Details!$L$5:$L$24, MATCH($A57, Input_Details!$J$5:$J$24, 0), 0)","v":"Northbound"},"Mon","13:15:00",0,9,0,0,1,0,0,0,0,0,0,0,0,7,2,1,0,0,0,0,0,0,0,0,0,0,0,0,0,0,0,0,14.8,"-",10.8,20.3,null,"Mon","13:15:00",5,52,0,8,4,2,0,1,0,0,0,0,0,16,35,19,2,0,0,0,0,0,0,0,0,0,0,0,0,0,0,0,18.330555555555556,22.1,10.8,28.7,5,43,8,3,3,62,0,9,0,1,0,10,5,52,8,4,3,72,62,53,67,69,60,70,42,10,7,6,8,9,15,14,72,60,73,77,69,85,56]
[1,{"$f":"OFFSET(Input_Details!$Q$4,MATCH($A58, Input_Details!$J$5:$J$24, 0), 0)","v":"2017-04-24"},{"$f":"INDEX(Input_Details!$H$5:$H$24, MATCH($A58, Input_Details!$J$5:$J$24, 0), 0)","v":"Harper Road (South of Falmouth Road)"},{"$f":"INDEX(Input_Details!$I$5:$I$24, MATCH($A58, Input_Details!$J$5:$J$24, 0), 0)","v":"51.49617, -0.09302"},{"$f":"INDEX(Input_Details!$K$5:$K$24, MATCH($A58, Input_Details!$J$5:$J$24, 0), 0)","v":"Southbound"},"Mon","13:30:00",5,40,1,10,2,0,1,0,0,0,0,0,0,2,28,22,6,1,0,0,0,0,0,0,0,0,0,0,0,0,0,0,20.7,23.7,10.6,34.200000000000003,{"$f":"INDEX(Input_Details!$L$5:$L$24, MATCH($A58, Input_Details!$J$5:$J$24, 0), 0)","v":"Northbound"},"Mon","13:30:00",1,7,0,0,0,0,0,0,0,0,0,0,0,8,0,0,0,0,0,0,0,0,0,0,0,0,0,0,0,0,0,0,13,"-",11.6,14.4,null,"Mon","13:30:00",6,47,1,10,2,0,1,0,0,0,0,0,0,10,28,22,6,1,0,0,0,0,0,0,0,0,0,0,0,0,0,0,19.780597014925373,23.7,10.6,34.200000000000003,5,41,10,2,1,59,1,7,0,0,0,8,6,48,10,2,1,67,59,57,72,62,54,73,38,8,11,15,3,11,6,5,67,68,87,65,65,79,43]
[1,{"$f":"OFFSET(Input_Details!$Q$4,MATCH($A59, Input_Details!$J$5:$J$24, 0), 0)","v":"2017-04-24"},{"$f":"INDEX(Input_Details!$H$5:$H$24, MATCH($A59, Input_Details!$J$5:$J$24, 0), 0)","v":"Harper Road (South of Falmouth Road)"},{"$f":"INDEX(Input_Details!$I$5:$I$24, MATCH($A59, Input_Details!$J$5:$J$24, 0), 0)","v":"51.49617, -0.09302"},{"$f":"INDEX(Input_Details!$K$5:$K$24, MATCH($A59, Input_Details!$J$5:$J$24, 0), 0)","v":"Southbound"},"Mon","13:45:00",5,39,0,7,4,0,0,0,1,0,0,0,0,2,24,25,4,1,0,0,0,0,0,0,0,0,0,0,0,0,0,0,20.7,24.2,11.3,32.9,{"$f":"INDEX(Input_Details!$L$5:$L$24, MATCH($A59, Input_Details!$J$5:$J$24, 0), 0)","v":"Northbound"},"Mon","13:45:00",2,6,0,0,0,0,0,0,0,0,0,0,0,3,4,1,0,0,0,0,0,0,0,0,0,0,0,0,0,0,0,0,16.7,"-",12.2,23.1,null,"Mon","13:45:00",7,45,0,7,4,0,0,0,1,0,0,0,0,5,28,26,4,1,0,0,0,0,0,0,0,0,0,0,0,0,0,0,20.2,24.2,11.3,32.9,5,39,7,4,1,56,2,6,0,0,0,8,7,45,7,4,1,64,56,63,65,75,96,76,45,8,15,7,8,9,5,6,64,78,72,83,105,81,51]
[1,{"$f":"OFFSET(Input_Details!$Q$4,MATCH($A60, Input_Details!$J$5:$J$24, 0), 0)","v":"2017-04-24"},{"$f":"INDEX(Input_Details!$H$5:$H$24, MATCH($A60, Input_Details!$J$5:$J$24, 0), 0)","v":"Harper Road (South of Falmouth Road)"},{"$f":"INDEX(Input_Details!$I$5:$I$24, MATCH($A60, Input_Details!$J$5:$J$24, 0), 0)","v":"51.49617, -0.09302"},{"$f":"INDEX(Input_Details!$K$5:$K$24, MATCH($A60, Input_Details!$J$5:$J$24, 0), 0)","v":"Southbound"},"Mon","14:00:00",9,36,0,14,3,0,0,0,0,0,0,0,0,2,16,37,4,3,0,0,0,0,0,0,0,0,0,0,0,0,0,0,21.6,24.6,14.3,33.700000000000003,{"$f":"INDEX(Input_Details!$L$5:$L$24, MATCH($A60, Input_Details!$J$5:$J$24, 0), 0)","v":"Northbound"},"Mon","14:00:00",2,3,0,0,0,0,0,0,0,0,0,0,1,2,2,0,0,0,0,0,0,0,0,0,0,0,0,0,0,0,0,0,13.7,"-",10,19.2,null,"Mon","14:00:00",11,39,0,14,3,0,0,0,0,0,0,0,1,4,18,37,4,3,0,0,0,0,0,0,0,0,0,0,0,0,0,0,21.01044776119403,24.6,10,33.700000000000003,9,36,14,3,0,62,2,3,0,0,0,5,11,39,14,3,0,67,62,65,78,70,69,73,38,5,8,9,2,17,11,6,67,73,87,72,86,84,44]
[1,{"$f":"OFFSET(Input_Details!$Q$4,MATCH($A61, Input_Details!$J$5:$J$24, 0), 0)","v":"2017-04-24"},{"$f":"INDEX(Input_Details!$H$5:$H$24, MATCH($A61, Input_Details!$J$5:$J$24, 0), 0)","v":"Harper Road (South of Falmouth Road)"},{"$f":"INDEX(Input_Details!$I$5:$I$24, MATCH($A61, Input_Details!$J$5:$J$24, 0), 0)","v":"51.49617, -0.09302"},{"$f":"INDEX(Input_Details!$K$5:$K$24, MATCH($A61, Input_Details!$J$5:$J$24, 0), 0)","v":"Southbound"},"Mon","14:15:00",4,50,0,15,1,0,1,1,1,0,0,0,0,2,44,24,3,0,0,0,0,0,0,0,0,0,0,0,0,0,0,0,19.5,22.1,14.1,29.4,{"$f":"INDEX(Input_Details!$L$5:$L$24, MATCH($A61, Input_Details!$J$5:$J$24, 0), 0)","v":"Northbound"},"Mon","14:15:00",1,2,0,0,0,0,0,0,0,0,0,0,0,3,0,0,0,0,0,0,0,0,0,0,0,0,0,0,0,0,0,0,12.7,"-",12,13.1,null,"Mon","14:15:00",5,52,0,15,1,0,1,1,1,0,0,0,0,5,44,24,3,0,0,0,0,0,0,0,0,0,0,0,0,0,0,0,19.231578947368419,22.1,12,29.4,4,50,15,1,3,73,1,2,0,0,0,3,5,52,15,1,3,76,73,69,72,72,64,52,53,3,9,5,5,7,5,4,76,78,77,77,71,57,57]
[1,{"$f":"OFFSET(Input_Details!$Q$4,MATCH($A62, Input_Details!$J$5:$J$24, 0), 0)","v":"2017-04-24"},{"$f":"INDEX(Input_Details!$H$5:$H$24, MATCH($A62, Input_Details!$J$5:$J$24, 0), 0)","v":"Harper Road (South of Falmouth Road)"},{"$f":"INDEX(Input_Details!$I$5:$I$24, MATCH($A62, Input_Details!$J$5:$J$24, 0), 0)","v":"51.49617, -0.09302"},{"$f":"INDEX(Input_Details!$K$5:$K$24, MATCH($A62, Input_Details!$J$5:$J$24, 0), 0)","v":"Southbound"},"Mon","14:30:00",4,41,2,12,3,0,0,0,0,0,0,0,0,2,27,27,4,2,0,0,0,0,0,0,0,0,0,0,0,0,0,0,20.6,23.7,12.9,31.3,{"$f":"INDEX(Input_Details!$L$5:$L$24, MATCH($A62, Input_Details!$J$5:$J$24, 0), 0)","v":"Northbound"},"Mon","14:30:00",3,4,0,1,0,0,0,0,0,0,0,0,0,5,3,0,0,0,0,0,0,0,0,0,0,0,0,0,0,0,0,0,14.2,"-",11.5,18,null,"Mon","14:30:00",7,45,2,13,3,0,0,0,0,0,0,0,0,7,30,27,4,2,0,0,0,0,0,0,0,0,0,0,0,0,0,0,19.868571428571428,23.7,11.5,31.3,4,43,12,3,0,62,3,4,1,0,0,8,7,47,13,3,0,70,62,74,81,54,67,63,44,8,9,12,4,4,6,6,70,83,93,58,71,69,50]
[1,{"$f":"OFFSET(Input_Details!$Q$4,MATCH($A63, Input_Details!$J$5:$J$24, 0), 0)","v":"2017-04-24"},{"$f":"INDEX(Input_Details!$H$5:$H$24, MATCH($A63, Input_Details!$J$5:$J$24, 0), 0)","v":"Harper Road (South of Falmouth Road)"},{"$f":"INDEX(Input_Details!$I$5:$I$24, MATCH($A63, Input_Details!$J$5:$J$24, 0), 0)","v":"51.49617, -0.09302"},{"$f":"INDEX(Input_Details!$K$5:$K$24, MATCH($A63, Input_Details!$J$5:$J$24, 0), 0)","v":"Southbound"},"Mon","14:45:00",7,46,0,16,2,0,0,0,0,0,0,0,1,9,28,27,5,1,0,0,0,0,0,0,0,0,0,0,0,0,0,0,19.3,21.7,8.3000000000000007,30.6,{"$f":"INDEX(Input_Details!$L$5:$L$24, MATCH($A63, Input_Details!$J$5:$J$24, 0), 0)","v":"Northbound"},"Mon","14:45:00",1,4,0,1,0,0,0,0,0,0,0,0,0,2,4,0,0,0,0,0,0,0,0,0,0,0,0,0,0,0,0,0,15.8,"-",11.7,19.899999999999999,null,"Mon","14:45:00",8,50,0,17,2,0,0,0,0,0,0,0,1,11,32,27,5,1,0,0,0,0,0,0,0,0,0,0,0,0,0,0,19.027272727272727,21.7,8.3000000000000007,30.6,7,46,16,2,0,71,1,4,1,0,0,6,8,50,17,2,0,77,71,88,66,87,72,70,38,6,8,8,6,6,11,5,77,96,74,93,78,81,43]
[1,{"$f":"OFFSET(Input_Details!$Q$4,MATCH($A64, Input_Details!$J$5:$J$24, 0), 0)","v":"2017-04-24"},{"$f":"INDEX(Input_Details!$H$5:$H$24, MATCH($A64, Input_Details!$J$5:$J$24, 0), 0)","v":"Harper Road (South of Falmouth Road)"},{"$f":"INDEX(Input_Details!$I$5:$I$24, MATCH($A64, Input_Details!$J$5:$J$24, 0), 0)","v":"51.49617, -0.09302"},{"$f":"INDEX(Input_Details!$K$5:$K$24, MATCH($A64, Input_Details!$J$5:$J$24, 0), 0)","v":"Southbound"},"Mon","15:00:00",6,47,1,13,2,2,0,0,0,0,0,0,2,7,20,35,6,1,0,0,0,0,0,0,0,0,0,0,0,0,0,0,20.3,23,8.6,30.6,{"$f":"INDEX(Input_Details!$L$5:$L$24, MATCH($A64, Input_Details!$J$5:$J$24, 0), 0)","v":"Northbound"},"Mon","15:00:00",2,5,0,0,0,0,0,0,0,0,0,0,0,1,3,2,1,0,0,0,0,0,0,0,0,0,0,0,0,0,0,0,19.2,"-",11.7,28.3,null,"Mon","15:00:00",8,52,1,13,2,2,0,0,0,0,0,0,2,8,23,37,7,1,0,0,0,0,0,0,0,0,0,0,0,0,0,0,20.201282051282053,23,8.6,30.6,6,48,13,2,2,71,2,5,0,0,0,7,8,53,13,2,2,78,71,77,80,68,74,59,36,7,8,19,6,5,7,7,78,85,99,74,79,66,43]
[1,{"$f":"OFFSET(Input_Details!$Q$4,MATCH($A65, Input_Details!$J$5:$J$24, 0), 0)","v":"2017-04-24"},{"$f":"INDEX(Input_Details!$H$5:$H$24, MATCH($A65, Input_Details!$J$5:$J$24, 0), 0)","v":"Harper Road (South of Falmouth Road)"},{"$f":"INDEX(Input_Details!$I$5:$I$24, MATCH($A65, Input_Details!$J$5:$J$24, 0), 0)","v":"51.49617, -0.09302"},{"$f":"INDEX(Input_Details!$K$5:$K$24, MATCH($A65, Input_Details!$J$5:$J$24, 0), 0)","v":"Southbound"},"Mon","15:15:00",8,39,1,6,0,1,0,0,0,0,0,0,0,9,30,12,0,4,0,0,0,0,0,0,0,0,0,0,0,0,0,0,18.8,22.8,11.2,32,{"$f":"INDEX(Input_Details!$L$5:$L$24, MATCH($A65, Input_Details!$J$5:$J$24, 0), 0)","v":"Northbound"},"Mon","15:15:00",2,4,0,0,0,0,0,0,0,0,0,0,0,2,3,0,1,0,0,0,0,0,0,0,0,0,0,0,0,0,0,0,16.8,"-",10.3,26.8,null,"Mon","15:15:00",10,43,1,6,0,1,0,0,0,0,0,0,0,11,33,12,1,4,0,0,0,0,0,0,0,0,0,0,0,0,0,0,18.60327868852459,22.8,10.3,32,8,40,6,0,1,55,2,4,0,0,0,6,10,44,6,0,1,61,55,71,61,97,70,60,41,6,5,10,8,9,11,5,61,76,71,105,79,71,46]
[1,{"$f":"OFFSET(Input_Details!$Q$4,MATCH($A66, Input_Details!$J$5:$J$24, 0), 0)","v":"2017-04-24"},{"$f":"INDEX(Input_Details!$H$5:$H$24, MATCH($A66, Input_Details!$J$5:$J$24, 0), 0)","v":"Harper Road (South of Falmouth Road)"},{"$f":"INDEX(Input_Details!$I$5:$I$24, MATCH($A66, Input_Details!$J$5:$J$24, 0), 0)","v":"51.49617, -0.09302"},{"$f":"INDEX(Input_Details!$K$5:$K$24, MATCH($A66, Input_Details!$J$5:$J$24, 0), 0)","v":"Southbound"},"Mon","15:30:00",8,50,1,7,2,2,0,0,0,0,0,0,0,23,37,8,2,0,0,0,0,0,0,0,0,0,0,0,0,0,0,0,16.8,19.899999999999999,11.3,28.8,{"$f":"INDEX(Input_Details!$L$5:$L$24, MATCH($A66, Input_Details!$J$5:$J$24, 0), 0)","v":"Northbound"},"Mon","15:30:00",7,9,0,0,1,0,0,0,0,0,0,0,1,11,4,1,0,0,0,0,0,0,0,0,0,0,0,0,0,0,0,0,13.8,16.8,7.1,24.5,null,"Mon","15:30:00",15,59,1,7,3,2,0,0,0,0,0,0,1,34,41,9,2,0,0,0,0,0,0,0,0,0,0,0,0,0,0,0,16.213793103448275,18.350000000000001,7.1,28.8,8,51,7,2,2,70,7,9,0,1,0,17,15,60,7,3,2,87,70,81,66,71,64,47,45,17,13,9,9,14,10,8,87,94,75,80,78,57,53]
[1,{"$f":"OFFSET(Input_Details!$Q$4,MATCH($A67, Input_Details!$J$5:$J$24, 0), 0)","v":"2017-04-24"},{"$f":"INDEX(Input_Details!$H$5:$H$24, MATCH($A67, Input_Details!$J$5:$J$24, 0), 0)","v":"Harper Road (South of Falmouth Road)"},{"$f":"INDEX(Input_Details!$I$5:$I$24, MATCH($A67, Input_Details!$J$5:$J$24, 0), 0)","v":"51.49617, -0.09302"},{"$f":"INDEX(Input_Details!$K$5:$K$24, MATCH($A67, Input_Details!$J$5:$J$24, 0), 0)","v":"Southbound"},"Mon","15:45:00",11,43,1,5,3,0,1,0,0,0,0,0,1,3,37,17,3,3,0,0,0,0,0,0,0,0,0,0,0,0,0,0,19.600000000000001,23,9.8000000000000007,33.5,{"$f":"INDEX(Input_Details!$L$5:$L$24, MATCH($A67, Input_Details!$J$5:$J$24, 0), 0)","v":"Northbound"},"Mon","15:45:00",1,6,0,0,0,0,0,0,0,0,0,0,0,2,4,0,1,0,0,0,0,0,0,0,0,0,0,0,0,0,0,0,17.600000000000001,"-",13.7,26.5,null,"Mon","15:45:00",12,49,1,5,3,0,1,0,0,0,0,0,1,5,41,17,4,3,0,0,0,0,0,0,0,0,0,0,0,0,0,0,19.402816901408453,23,9.8000000000000007,33.5,11,44,5,3,1,64,1,6,0,0,0,7,12,50,5,3,1,71,64,78,90,81,86,51,52,7,13,14,13,5,8,6,71,91,104,94,91,59,58]
[1,{"$f":"OFFSET(Input_Details!$Q$4,MATCH($A68, Input_Details!$J$5:$J$24, 0), 0)","v":"2017-04-24"},{"$f":"INDEX(Input_Details!$H$5:$H$24, MATCH($A68, Input_Details!$J$5:$J$24, 0), 0)","v":"Harper Road (South of Falmouth Road)"},{"$f":"INDEX(Input_Details!$I$5:$I$24, MATCH($A68, Input_Details!$J$5:$J$24, 0), 0)","v":"51.49617, -0.09302"},{"$f":"INDEX(Input_Details!$K$5:$K$24, MATCH($A68, Input_Details!$J$5:$J$24, 0), 0)","v":"Southbound"},"Mon","16:00:00",8,55,1,8,2,3,0,0,0,0,0,0,0,8,14,40,12,1,2,0,0,0,0,0,0,0,0,0,0,0,0,0,21.8,25.9,11.9,37.1,{"$f":"INDEX(Input_Details!$L$5:$L$24, MATCH($A68, Input_Details!$J$5:$J$24, 0), 0)","v":"Northbound"},"Mon","16:00:00",2,4,0,0,0,0,0,0,0,0,0,0,0,1,4,1,0,0,0,0,0,0,0,0,0,0,0,0,0,0,0,0,17.7,"-",12.7,24,null,"Mon","16:00:00",10,{"$f":"IF(OR(I68=\"\", AV68=\"\"), \"-\",SUM(I68+AV68))","v":59},{"$f":"IF(OR(J68=\"\", AW68=\"\"), \"-\",SUM(J68+AW68))","v":1},{"$f":"IF(OR(K68=\"\", AX68=\"\"), \"-\",SUM(K68+AX68))","v":8},{"$f":"IF(OR(L68=\"\", AY68=\"\"), \"-\",SUM(L68+AY68))","v":2},{"$f":"IF(OR(M68=\"\", AZ68=\"\"), \"-\",SUM(M68+AZ68))","v":3},{"$f":"IF(OR(N68=\"\", BA68=\"\"), \"-\",SUM(N68+BA68))","v":0},{"$f":"IF(OR(O68=\"\", BB68=\"\"), \"-\",SUM(O68+BB68))","v":0},{"$f":"IF(OR(P68=\"\", BC68=\"\"), \"-\",SUM(P68+BC68))","v":0},{"$f":"IF(OR(Q68=\"\", BD68=\"\"), \"-\",SUM(Q68+BD68))","v":0},{"$f":"IF(OR(R68=\"\", BE68=\"\"), \"-\",SUM(R68+BE68))","v":0},{"$f":"IF(OR(S68=\"\", BF68=\"\"), \"-\",SUM(S68+BF68))","v":0},{"$f":"IF(OR(T68=\"\", BG68=\"\"), \"-\",SUM(T68+BG68))","v":0},{"$f":"IF(OR(U68=\"\", BH68=\"\"), \"-\",SUM(U68+BH68))","v":9},{"$f":"IF(OR(V68=\"\", BI68=\"\"), \"-\",SUM(V68+BI68))","v":18},{"$f":"IF(OR(W68=\"\", BJ68=\"\"), \"-\",SUM(W68+BJ68))","v":41},{"$f":"IF(OR(X68=\"\", BK68=\"\"), \"-\",SUM(X68+BK68))","v":12},{"$f":"IF(OR(Y68=\"\", BL68=\"\"), \"-\",SUM(Y68+BL68))","v":1},{"$f":"IF(OR(Z68=\"\", BM68=\"\"), \"-\",SUM(Z68+BM68))","v":2},{"$f":"IF(OR(AA68=\"\", BN68=\"\"), \"-\",SUM(AA68+BN68))","v":0},{"$f":"IF(OR(AB68=\"\", BO68=\"\"), \"-\",SUM(AB68+BO68))","v":0},{"$f":"IF(OR(AC68=\"\", BP68=\"\"), \"-\",SUM(AC68+BP68))","v":0},{"$f":"IF(OR(AD68=\"\", BQ68=\"\"), \"-\",SUM(AD68+BQ68))","v":0},{"$f":"IF(OR(AE68=\"\", BR68=\"\"), \"-\",SUM(AE68+BR68))","v":0},{"$f":"IF(OR(AF68=\"\", BS68=\"\"), \"-\",SUM(AF68+BS68))","v":0},{"$f":"IF(OR(AG68=\"\", BT68=\"\"), \"-\",SUM(AG68+BT68))","v":0},{"$f":"IF(OR(AH68=\"\", BU68=\"\"), \"-\",SUM(AH68+BU68))","v":0},{"$f":"IF(OR(AI68=\"\", BV68=\"\"), \"-\",SUM(AI68+BV68))","v":0},{"$f":"IF(OR(AJ68=\"\", BW68=\"\"), \"-\",SUM(AJ68+BW68))","v":0},{"$f":"IF(OR(AK68=\"\", BX68=\"\"), \"-\",SUM(AK68+BX68))","v":0},{"$f":"IF(OR(AL68=\"\", BY68=\"\"), \"-\",SUM(AL68+BY68))","v":0},{"$f":"IF(OR(AM68=\"\", BZ68=\"\"), \"-\",SUM(AM68+BZ68))","v":0},21.503614457831329,25.9,11.9,37.1,{"$f":"IF(H68=\"\", \"-\", H68)","v":8},{"$f":"IF(DR68=\"-\", \"-\", SUM(I68:J68))","v":56},{"$f":"IF(DR68=\"-\", \"-\", K68)","v":8},{"$f":"IF(DR68=\"-\", \"-\", L68)","v":2},{"$f":"IF(DR68=\"-\", \"-\", SUM(M68:S68))","v":3},{"$f":"IF(DR68=\"-\", \"-\", SUM(H68:S68))","v":77},2,4,0,0,0,6,10,{"$f":"IF(OR(DS68=\"-\", DY68=\"-\"), \"-\", SUM(DS68,DY68))","v":60},{"$f":"IF(OR(DT68=\"-\", DZ68=\"-\"), \"-\", SUM(DT68,DZ68))","v":8},{"$f":"IF(OR(DU68=\"-\", EA68=\"-\"), \"-\", SUM(DU68,EA68))","v":2},{"$f":"IF(OR(DV68=\"-\", EB68=\"-\"), \"-\", SUM(DV68,EB68))","v":3},{"$f":"IF(OR(DW68=\"-\", EC68=\"-\"), \"-\", SUM(DW68,EC68))","v":83},77,78,88,80,94,66,30,6,10,7,11,8,12,6,83,{"$f":"IF(OR(EK68=\"-\", ER68=\"-\"), \"-\", SUM(EK68,ER68))","v":88},{"$f":"IF(OR(EL68=\"-\", ES68=\"-\"), \"-\", SUM(EL68,ES68))","v":95},{"$f":"IF(OR(EM68=\"-\", ET68=\"-\"), \"-\", SUM(EM68,ET68))","v":91},{"$f":"IF(OR(EN68=\"-\", EU68=\"-\"), \"-\", SUM(EN68,EU68))","v":102},{"$f":"IF(OR(EO68=\"-\", EV68=\"-\"), \"-\", SUM(EO68,EV68))","v":78},{"$f":"IF(OR(EP68=\"-\", EW68=\"-\"), \"-\", SUM(EP68,EW68))","v":36}]
[{"$f":"A68","v":1},{"$f":"OFFSET(Input_Details!$Q$4,MATCH($A69, Input_Details!$J$5:$J$24, 0), 0)","v":"2017-04-24"},{"$f":"INDEX(Input_Details!$H$5:$H$24, MATCH($A69, Input_Details!$J$5:$J$24, 0), 0)","v":"Harper Road (South of Falmouth Road)"},{"$f":"INDEX(Input_Details!$I$5:$I$24, MATCH($A69, Input_Details!$J$5:$J$24, 0), 0)","v":"51.49617, -0.09302"},{"$f":"INDEX(Input_Details!$K$5:$K$24, MATCH($A69, Input_Details!$J$5:$J$24, 0), 0)","v":"Southbound"},{"$f":"+F68","v":"Mon"},"16:15:00",11,46,0,9,4,1,0,1,0,0,0,0,0,4,30,26,8,4,0,0,0,0,0,0,0,0,0,0,0,0,0,0,21,25.3,13.4,33.799999999999997,{"$f":"INDEX(Input_Details!$L$5:$L$24, MATCH($A69, Input_Details!$J$5:$J$24, 0), 0)","v":"Northbound"},"Mon","16:15:00",2,1,0,0,0,0,0,0,0,0,0,0,0,1,1,1,0,0,0,0,0,0,0,0,0,0,0,0,0,0,0,0,18.8,"-",12.7,24.4,null,"Mon","16:15:00",{"$f":"IF(OR(H69=\"\", AU69=\"\"), \"-\",SUM(H69+AU69))","v":13},47,0,9,4,1,0,1,0,0,0,0,0,5,31,27,8,4,0,0,0,0,0,0,0,0,0,0,0,0,0,0,{"$f":"IF(OR(DW69=\"-\", EC69=\"-\", EI69=\"-\", EI69=0),\"-\",IF(OR(DW69=\"-\", DW69=0),CA69,IF(EC69=0,AN69,SUM((AN69*DW69),(CA69*EC69))/EI69)))","v":20.912000000000003},{"$f":"IFERROR(IF(OR(DW69=\"-\", EC69=\"-\", EI69=\"-\", EI69=0), \"-\", IF(AO69=\"-\", CB69, AVERAGE(AO69,CB69))), \"-\")","v":25.3},{"$f":"IF(OR(DW69=\"-\", EC69=\"-\",EI69=\"-\", EI69=0),\"-\",MIN(AP69,CC69))","v":12.7},{"$f":"IF(OR(DW69=\"-\", EC69=\"-\",EI69=\"-\", EI69=0),\"-\",MAX(AQ69,CD69))","v":33.799999999999997},11,46,9,4,2,72,{"$f":"IF(AU69=\"\", \"-\", AU69)","v":2},{"$f":"IF(DX69=\"-\", \"-\", SUM(AV69:AW69))","v":1},{"$f":"IF(DX69=\"-\", \"-\", AX69)","v":0},{"$f":"IF(DX69=\"-\", \"-\", AY69)","v":0},{"$f":"IF(DX69=\"-\", \"-\", SUM(AZ69:BF69))","v":0},{"$f":"IF(DX69=\"-\", \"-\", SUM(AU69:BF69))","v":3},{"$f":"IF(OR(DR69=\"-\", DX69=\"-\"), \"-\", SUM(DR69,DX69))","v":13},47,9,4,2,75,{"$f":"+DW69","v":72},{"$f":"+DW165","v":56},{"$f":"+DW261","v":82},{"$f":"+DW357","v":82},{"$f":"+DW453","v":79},{"$f":"+DW549","v":60},{"$f":"+DW645","v":45},{"$f":"+EC69","v":3},{"$f":"+EC165","v":13},{"$f":"+EC261","v":15},{"$f":"+EC357","v":8},{"$f":"+EC453","v":3},{"$f":"+EC549","v":13},{"$f":"+EC645","v":7},{"$f":"IF(OR(EJ69=\"-\", EQ69=\"-\"), \"-\", SUM(EJ69,EQ69))","v":75},69,97,90,82,73,52]
[1,{"$f":"OFFSET(Input_Details!$Q$4,MATCH($A70, Input_Details!$J$5:$J$24, 0), 0)","v":"2017-04-24"},{"$f":"INDEX(Input_Details!$H$5:$H$24, MATCH($A70, Input_Details!$J$5:$J$24, 0), 0)","v":"Harper Road (South of Falmouth Road)"},{"$f":"INDEX(Input_Details!$I$5:$I$24, MATCH($A70, Input_Details!$J$5:$J$24, 0), 0)","v":"51.49617, -0.09302"},{"$f":"INDEX(Input_Details!$K$5:$K$24, MATCH($A70, Input_Details!$J$5:$J$24, 0), 0)","v":"Southbound"},"Mon","16:30:00",12,61,2,8,2,1,0,1,0,0,0,0,1,6,36,36,6,2,0,0,0,0,0,0,0,0,0,0,0,0,0,0,20.2,23,9.5,34.5,{"$f":"INDEX(Input_Details!$L$5:$L$24, MATCH($A70, Input_Details!$J$5:$J$24, 0), 0)","v":"Northbound"},"Mon","16:30:00",1,9,0,0,0,0,0,0,0,0,0,0,1,7,2,0,0,0,0,0,0,0,0,0,0,0,0,0,0,0,0,0,14,"-",9.5,19.399999999999999,null,"Mon","16:30:00",13,70,2,8,2,1,0,1,0,0,0,0,2,13,38,36,6,2,0,0,0,0,0,0,0,0,0,0,0,0,0,0,19.560824742268039,23,9.5,34.5,12,63,8,2,2,87,1,9,0,0,0,10,13,72,8,2,2,97,87,76,87,91,82,51,51,10,9,17,4,7,8,5,97,85,104,95,89,59,56]
[1,{"$f":"OFFSET(Input_Details!$Q$4,MATCH($A71, Input_Details!$J$5:$J$24, 0), 0)","v":"2017-04-24"},{"$f":"INDEX(Input_Details!$H$5:$H$24, MATCH($A71, Input_Details!$J$5:$J$24, 0), 0)","v":"Harper Road (South of Falmouth Road)"},{"$f":"INDEX(Input_Details!$I$5:$I$24, MATCH($A71, Input_Details!$J$5:$J$24, 0), 0)","v":"51.49617, -0.09302"},{"$f":"INDEX(Input_Details!$K$5:$K$24, MATCH($A71, Input_Details!$J$5:$J$24, 0), 0)","v":"Southbound"},"Mon","16:45:00",20,63,0,10,1,1,0,0,0,0,0,0,0,6,39,32,11,7,0,0,0,0,0,0,0,0,0,0,0,0,0,0,20.8,25.1,10.9,33.200000000000003,{"$f":"INDEX(Input_Details!$L$5:$L$24, MATCH($A71, Input_Details!$J$5:$J$24, 0), 0)","v":"Northbound"},"Mon","16:45:00",2,8,0,0,0,0,0,0,0,0,0,0,0,4,5,1,0,0,0,0,0,0,0,0,0,0,0,0,0,0,0,0,15.7,"-",11.6,20.8,null,"Mon","16:45:00",22,71,0,10,1,1,0,0,0,0,0,0,0,10,44,33,11,7,0,0,0,0,0,0,0,0,0,0,0,0,0,0,20.314285714285713,25.1,10.9,33.200000000000003,20,63,10,1,1,95,2,8,0,0,0,10,22,71,10,1,1,105,95,85,108,94,78,55,41,10,15,16,9,7,14,2,105,100,124,103,85,69,43]
[1,{"$f":"OFFSET(Input_Details!$Q$4,MATCH($A72, Input_Details!$J$5:$J$24, 0), 0)","v":"2017-04-24"},{"$f":"INDEX(Input_Details!$H$5:$H$24, MATCH($A72, Input_Details!$J$5:$J$24, 0), 0)","v":"Harper Road (South of Falmouth Road)"},{"$f":"INDEX(Input_Details!$I$5:$I$24, MATCH($A72, Input_Details!$J$5:$J$24, 0), 0)","v":"51.49617, -0.09302"},{"$f":"INDEX(Input_Details!$K$5:$K$24, MATCH($A72, Input_Details!$J$5:$J$24, 0), 0)","v":"Southbound"},"Mon","17:00:00",16,42,0,11,1,1,0,0,0,1,0,0,0,10,33,21,5,3,0,0,0,0,0,0,0,0,0,0,0,0,0,0,19.7,23,12.3,35,{"$f":"INDEX(Input_Details!$L$5:$L$24, MATCH($A72, Input_Details!$J$5:$J$24, 0), 0)","v":"Northbound"},"Mon","17:00:00",2,3,0,0,1,0,0,0,0,0,0,0,0,5,1,0,0,0,0,0,0,0,0,0,0,0,0,0,0,0,0,0,14,"-",10.6,18.2,null,"Mon","17:00:00",18,45,0,11,2,1,0,0,0,1,0,0,0,15,34,21,5,3,0,0,0,0,0,0,0,0,0,0,0,0,0,0,19.261538461538461,23,10.6,35,16,42,11,1,2,72,2,3,0,1,0,6,18,45,11,2,2,78,72,73,96,81,87,55,50,6,8,10,4,4,10,6,78,81,106,85,91,65,56]
[1,{"$f":"OFFSET(Input_Details!$Q$4,MATCH($A73, Input_Details!$J$5:$J$24, 0), 0)","v":"2017-04-24"},{"$f":"INDEX(Input_Details!$H$5:$H$24, MATCH($A73, Input_Details!$J$5:$J$24, 0), 0)","v":"Harper Road (South of Falmouth Road)"},{"$f":"INDEX(Input_Details!$I$5:$I$24, MATCH($A73, Input_Details!$J$5:$J$24, 0), 0)","v":"51.49617, -0.09302"},{"$f":"INDEX(Input_Details!$K$5:$K$24, MATCH($A73, Input_Details!$J$5:$J$24, 0), 0)","v":"Southbound"},"Mon","17:15:00",30,43,1,10,3,1,0,1,0,0,0,0,0,11,26,32,13,6,1,0,0,0,0,0,0,0,0,0,0,0,0,0,21.6,29.1,10.8,35.200000000000003,{"$f":"INDEX(Input_Details!$L$5:$L$24, MATCH($A73, Input_Details!$J$5:$J$24, 0), 0)","v":"Northbound"},"Mon","17:15:00",4,4,0,0,0,0,0,0,0,0,0,0,1,1,5,1,0,0,0,0,0,0,0,0,0,0,0,0,0,0,0,0,15.6,"-",9.8000000000000007,21.3,null,"Mon","17:15:00",34,47,1,10,3,1,0,1,0,0,0,0,1,12,31,33,13,6,1,0,0,0,0,0,0,0,0,0,0,0,0,0,21.105154639175257,29.1,9.8000000000000007,35.200000000000003,30,44,10,3,2,89,4,4,0,0,0,8,34,48,10,3,2,97,89,103,93,83,108,65,62,8,12,12,4,8,10,8,97,115,105,87,116,75,70]
[1,{"$f":"OFFSET(Input_Details!$Q$4,MATCH($A74, Input_Details!$J$5:$J$24, 0), 0)","v":"2017-04-24"},{"$f":"INDEX(Input_Details!$H$5:$H$24, MATCH($A74, Input_Details!$J$5:$J$24, 0), 0)","v":"Harper Road (South of Falmouth Road)"},{"$f":"INDEX(Input_Details!$I$5:$I$24, MATCH($A74, Input_Details!$J$5:$J$24, 0), 0)","v":"51.49617, -0.09302"},{"$f":"INDEX(Input_Details!$K$5:$K$24, MATCH($A74, Input_Details!$J$5:$J$24, 0), 0)","v":"Southbound"},"Mon","17:30:00",19,57,0,12,1,2,0,1,0,1,0,0,0,10,38,32,8,5,0,0,0,0,0,0,0,0,0,0,0,0,0,0,20.2,23.7,11.2,34.6,{"$f":"INDEX(Input_Details!$L$5:$L$24, MATCH($A74, Input_Details!$J$5:$J$24, 0), 0)","v":"Northbound"},"Mon","17:30:00",2,1,0,0,0,0,0,0,0,0,0,0,0,3,0,0,0,0,0,0,0,0,0,0,0,0,0,0,0,0,0,0,11.9,"-",10.6,13.6,null,"Mon","17:30:00",21,58,0,12,1,2,0,1,0,1,0,0,0,13,38,32,8,5,0,0,0,0,0,0,0,0,0,0,0,0,0,0,19.940625000000001,23.7,10.6,34.6,19,57,12,1,4,93,2,1,0,0,0,3,21,58,12,1,4,96,93,88,76,100,85,39,61,3,16,14,7,6,9,2,96,104,90,107,91,48,63]
[1,{"$f":"OFFSET(Input_Details!$Q$4,MATCH($A75, Input_Details!$J$5:$J$24, 0), 0)","v":"2017-04-24"},{"$f":"INDEX(Input_Details!$H$5:$H$24, MATCH($A75, Input_Details!$J$5:$J$24, 0), 0)","v":"Harper Road (South of Falmouth Road)"},{"$f":"INDEX(Input_Details!$I$5:$I$24, MATCH($A75, Input_Details!$J$5:$J$24, 0), 0)","v":"51.49617, -0.09302"},{"$f":"INDEX(Input_Details!$K$5:$K$24, MATCH($A75, Input_Details!$J$5:$J$24, 0), 0)","v":"Southbound"},"Mon","17:45:00",21,53,0,4,5,3,0,0,0,0,0,0,0,8,46,21,9,1,0,1,0,0,0,0,0,0,0,0,0,0,0,0,19.8,24.4,12.2,41,{"$f":"INDEX(Input_Details!$L$5:$L$24, MATCH($A75, Input_Details!$J$5:$J$24, 0), 0)","v":"Northbound"},"Mon","17:45:00",3,7,0,0,1,0,0,0,0,0,0,0,1,4,3,3,0,0,0,0,0,0,0,0,0,0,0,0,0,0,0,0,17,22.6,8.9,24.8,null,"Mon","17:45:00",24,60,0,4,6,3,0,0,0,0,0,0,1,12,49,24,9,1,0,1,0,0,0,0,0,0,0,0,0,0,0,0,19.482474226804122,23.5,8.9,41,21,53,4,5,3,86,3,7,0,1,0,11,24,60,4,6,3,97,86,105,90,90,98,56,62,11,19,9,9,11,4,8,97,124,99,99,109,60,70]
[1,{"$f":"OFFSET(Input_Details!$Q$4,MATCH($A76, Input_Details!$J$5:$J$24, 0), 0)","v":"2017-04-24"},{"$f":"INDEX(Input_Details!$H$5:$H$24, MATCH($A76, Input_Details!$J$5:$J$24, 0), 0)","v":"Harper Road (South of Falmouth Road)"},{"$f":"INDEX(Input_Details!$I$5:$I$24, MATCH($A76, Input_Details!$J$5:$J$24, 0), 0)","v":"51.49617, -0.09302"},{"$f":"INDEX(Input_Details!$K$5:$K$24, MATCH($A76, Input_Details!$J$5:$J$24, 0), 0)","v":"Southbound"},"Mon","18:00:00",28,60,1,4,2,1,0,1,0,2,0,0,1,22,36,30,8,1,1,0,0,0,0,0,0,0,0,0,0,0,0,0,19,23.7,9,36.799999999999997,{"$f":"INDEX(Input_Details!$L$5:$L$24, MATCH($A76, Input_Details!$J$5:$J$24, 0), 0)","v":"Northbound"},"Mon","18:00:00",1,16,0,0,0,0,0,0,0,0,0,0,0,10,2,5,0,0,0,0,0,0,0,0,0,0,0,0,0,0,0,0,16.5,20.399999999999999,12.7,22.6,null,"Mon","18:00:00",29,76,1,4,2,1,0,1,0,2,0,0,1,32,38,35,8,1,1,0,0,0,0,0,0,0,0,0,0,0,0,0,18.633620689655171,22.049999999999997,9,36.799999999999997,28,61,4,2,4,99,1,16,0,0,0,17,29,77,4,2,4,116,99,106,110,107,85,60,56,17,14,10,10,11,11,4,116,120,120,117,96,71,60]
[1,{"$f":"OFFSET(Input_Details!$Q$4,MATCH($A77, Input_Details!$J$5:$J$24, 0), 0)","v":"2017-04-24"},{"$f":"INDEX(Input_Details!$H$5:$H$24, MATCH($A77, Input_Details!$J$5:$J$24, 0), 0)","v":"Harper Road (South of Falmouth Road)"},{"$f":"INDEX(Input_Details!$I$5:$I$24, MATCH($A77, Input_Details!$J$5:$J$24, 0), 0)","v":"51.49617, -0.09302"},{"$f":"INDEX(Input_Details!$K$5:$K$24, MATCH($A77, Input_Details!$J$5:$J$24, 0), 0)","v":"Southbound"},"Mon","18:15:00",27,43,1,5,3,0,0,1,0,1,0,0,1,10,35,23,8,3,1,0,0,0,0,0,0,0,0,0,0,0,0,0,20,24.6,6.3,36.9,{"$f":"INDEX(Input_Details!$L$5:$L$24, MATCH($A77, Input_Details!$J$5:$J$24, 0), 0)","v":"Northbound"},"Mon","18:15:00",5,5,0,0,1,0,0,0,0,0,0,0,2,7,1,1,0,0,0,0,0,0,0,0,0,0,0,0,0,0,0,0,12.6,13.6,9.1999999999999993,20.5,null,"Mon","18:15:00",32,48,1,5,4,0,0,1,0,1,0,0,3,17,36,24,8,3,1,0,0,0,0,0,0,0,0,0,0,0,0,0,19.115217391304348,19.100000000000001,6.3,36.9,27,44,5,3,2,81,5,5,0,1,0,11,32,49,5,4,2,92,81,88,102,90,91,62,64,11,16,20,16,14,8,8,92,104,122,106,105,70,72]
[1,{"$f":"OFFSET(Input_Details!$Q$4,MATCH($A78, Input_Details!$J$5:$J$24, 0), 0)","v":"2017-04-24"},{"$f":"INDEX(Input_Details!$H$5:$H$24, MATCH($A78, Input_Details!$J$5:$J$24, 0), 0)","v":"Harper Road (South of Falmouth Road)"},{"$f":"INDEX(Input_Details!$I$5:$I$24, MATCH($A78, Input_Details!$J$5:$J$24, 0), 0)","v":"51.49617, -0.09302"},{"$f":"INDEX(Input_Details!$K$5:$K$24, MATCH($A78, Input_Details!$J$5:$J$24, 0), 0)","v":"Southbound"},"Mon","18:30:00",20,49,1,8,5,2,0,0,0,0,1,0,1,9,44,26,5,1,0,0,0,0,0,0,0,0,0,0,0,0,0,0,19,22.4,8.6,32.200000000000003,{"$f":"INDEX(Input_Details!$L$5:$L$24, MATCH($A78, Input_Details!$J$5:$J$24, 0), 0)","v":"Northbound"},"Mon","18:30:00",2,10,0,0,0,0,0,0,0,0,0,0,0,3,6,3,0,0,0,0,0,0,0,0,0,0,0,0,0,0,0,0,17.399999999999999,20.100000000000001,11.9,24.4,null,"Mon","18:30:00",22,59,1,8,5,2,0,0,0,0,1,0,1,12,50,29,5,1,0,0,0,0,0,0,0,0,0,0,0,0,0,0,18.804081632653062,21.25,8.6,32.200000000000003,20,50,8,5,3,86,2,10,0,0,0,12,22,60,8,5,3,98,86,106,95,88,95,78,63,12,17,18,8,9,17,6,98,123,113,96,104,95,69]
[1,{"$f":"OFFSET(Input_Details!$Q$4,MATCH($A79, Input_Details!$J$5:$J$24, 0), 0)","v":"2017-04-24"},{"$f":"INDEX(Input_Details!$H$5:$H$24, MATCH($A79, Input_Details!$J$5:$J$24, 0), 0)","v":"Harper Road (South of Falmouth Road)"},{"$f":"INDEX(Input_Details!$I$5:$I$24, MATCH($A79, Input_Details!$J$5:$J$24, 0), 0)","v":"51.49617, -0.09302"},{"$f":"INDEX(Input_Details!$K$5:$K$24, MATCH($A79, Input_Details!$J$5:$J$24, 0), 0)","v":"Southbound"},"Mon","18:45:00",18,53,3,0,1,0,0,0,0,2,0,0,3,17,39,15,2,1,0,0,0,0,0,0,0,0,0,0,0,0,0,0,17,20.8,7.1,33.4,{"$f":"INDEX(Input_Details!$L$5:$L$24, MATCH($A79, Input_Details!$J$5:$J$24, 0), 0)","v":"Northbound"},"Mon","18:45:00",2,10,1,0,0,0,0,0,0,0,0,0,1,6,4,1,1,0,0,0,0,0,0,0,0,0,0,0,0,0,0,0,15.8,17.399999999999999,6.4,29.3,null,"Mon","18:45:00",20,63,4,0,1,0,0,0,0,2,0,0,4,23,43,16,3,1,0,0,0,0,0,0,0,0,0,0,0,0,0,0,16.826666666666668,19.100000000000001,6.4,33.4,18,56,0,1,2,77,2,11,0,0,0,13,20,67,0,1,2,90,77,97,90,79,95,65,59,13,10,15,10,10,10,9,90,107,105,89,105,75,68]
[1,{"$f":"OFFSET(Input_Details!$Q$4,MATCH($A80, Input_Details!$J$5:$J$24, 0), 0)","v":"2017-04-24"},{"$f":"INDEX(Input_Details!$H$5:$H$24, MATCH($A80, Input_Details!$J$5:$J$24, 0), 0)","v":"Harper Road (South of Falmouth Road)"},{"$f":"INDEX(Input_Details!$I$5:$I$24, MATCH($A80, Input_Details!$J$5:$J$24, 0), 0)","v":"51.49617, -0.09302"},{"$f":"INDEX(Input_Details!$K$5:$K$24, MATCH($A80, Input_Details!$J$5:$J$24, 0), 0)","v":"Southbound"},"Mon","19:00:00",23,58,1,1,3,0,0,0,0,0,0,0,1,16,49,15,5,0,0,0,0,0,0,0,0,0,0,0,0,0,0,0,18,21,9.5,28,{"$f":"INDEX(Input_Details!$L$5:$L$24, MATCH($A80, Input_Details!$J$5:$J$24, 0), 0)","v":"Northbound"},"Mon","19:00:00",3,9,0,0,1,0,0,0,0,0,0,0,0,4,4,5,0,0,0,0,0,0,0,0,0,0,0,0,0,0,0,0,18,21.3,10.7,24.8,null,"Mon","19:00:00",26,67,1,1,4,0,0,0,0,0,0,0,1,20,53,20,5,0,0,0,0,0,0,0,0,0,0,0,0,0,0,0,18,21.15,9.5,28,23,59,1,3,0,86,3,9,0,1,0,13,26,68,1,4,0,99,86,76,98,90,96,68,60,13,7,15,4,15,11,6,99,83,113,94,111,79,66]
[1,{"$f":"OFFSET(Input_Details!$Q$4,MATCH($A81, Input_Details!$J$5:$J$24, 0), 0)","v":"2017-04-24"},{"$f":"INDEX(Input_Details!$H$5:$H$24, MATCH($A81, Input_Details!$J$5:$J$24, 0), 0)","v":"Harper Road (South of Falmouth Road)"},{"$f":"INDEX(Input_Details!$I$5:$I$24, MATCH($A81, Input_Details!$J$5:$J$24, 0), 0)","v":"51.49617, -0.09302"},{"$f":"INDEX(Input_Details!$K$5:$K$24, MATCH($A81, Input_Details!$J$5:$J$24, 0), 0)","v":"Southbound"},"Mon","19:15:00",8,52,0,0,4,1,0,0,0,0,0,0,1,8,30,23,2,1,0,0,0,0,0,0,0,0,0,0,0,0,0,0,19.2,22.4,10,32,{"$f":"INDEX(Input_Details!$L$5:$L$24, MATCH($A81, Input_Details!$J$5:$J$24, 0), 0)","v":"Northbound"},"Mon","19:15:00",3,7,0,0,1,0,0,0,0,0,0,0,0,7,4,0,0,0,0,0,0,0,0,0,0,0,0,0,0,0,0,0,15.1,17.899999999999999,11.1,18.3,null,"Mon","19:15:00",11,59,0,0,5,1,0,0,0,0,0,0,1,15,34,23,2,1,0,0,0,0,0,0,0,0,0,0,0,0,0,0,18.606578947368419,20.149999999999999,10,32,8,52,0,4,1,65,3,7,0,1,0,11,11,59,0,5,1,76,65,74,90,72,66,59,66,11,10,21,11,7,7,6,76,84,111,83,73,66,72]
[1,{"$f":"OFFSET(Input_Details!$Q$4,MATCH($A82, Input_Details!$J$5:$J$24, 0), 0)","v":"2017-04-24"},{"$f":"INDEX(Input_Details!$H$5:$H$24, MATCH($A82, Input_Details!$J$5:$J$24, 0), 0)","v":"Harper Road (South of Falmouth Road)"},{"$f":"INDEX(Input_Details!$I$5:$I$24, MATCH($A82, Input_Details!$J$5:$J$24, 0), 0)","v":"51.49617, -0.09302"},{"$f":"INDEX(Input_Details!$K$5:$K$24, MATCH($A82, Input_Details!$J$5:$J$24, 0), 0)","v":"Southbound"},"Mon","19:30:00",11,46,0,2,2,0,0,0,0,0,0,0,0,8,38,6,8,0,1,0,0,0,0,0,0,0,0,0,0,0,0,0,18.600000000000001,23.3,10,35.6,{"$f":"INDEX(Input_Details!$L$5:$L$24, MATCH($A82, Input_Details!$J$5:$J$24, 0), 0)","v":"Northbound"},"Mon","19:30:00",1,7,0,0,0,0,0,0,0,0,0,0,1,7,0,0,0,0,0,0,0,0,0,0,0,0,0,0,0,0,0,0,12.4,"-",8.1999999999999993,14.4,null,"Mon","19:30:00",12,53,0,2,2,0,0,0,0,0,0,0,1,15,38,6,8,0,1,0,0,0,0,0,0,0,0,0,0,0,0,0,17.881159420289858,23.3,8.1999999999999993,35.6,11,46,2,2,0,61,1,7,0,0,0,8,12,53,2,2,0,69,61,77,78,77,64,65,56,8,14,11,7,11,12,8,69,91,89,84,75,77,64]
[1,{"$f":"OFFSET(Input_Details!$Q$4,MATCH($A83, Input_Details!$J$5:$J$24, 0), 0)","v":"2017-04-24"},{"$f":"INDEX(Input_Details!$H$5:$H$24, MATCH($A83, Input_Details!$J$5:$J$24, 0), 0)","v":"Harper Road (South of Falmouth Road)"},{"$f":"INDEX(Input_Details!$I$5:$I$24, MATCH($A83, Input_Details!$J$5:$J$24, 0), 0)","v":"51.49617, -0.09302"},{"$f":"INDEX(Input_Details!$K$5:$K$24, MATCH($A83, Input_Details!$J$5:$J$24, 0), 0)","v":"Southbound"},"Mon","19:45:00",10,41,1,1,2,0,0,0,0,0,0,0,2,14,15,18,4,2,0,0,0,0,0,0,0,0,0,0,0,0,0,0,18.899999999999999,23.5,9.4,32.700000000000003,{"$f":"INDEX(Input_Details!$L$5:$L$24, MATCH($A83, Input_Details!$J$5:$J$24, 0), 0)","v":"Northbound"},"Mon","19:45:00",1,7,0,0,0,0,0,0,0,0,0,0,0,3,4,1,0,0,0,0,0,0,0,0,0,0,0,0,0,0,0,0,16.7,"-",13.6,24.2,null,"Mon","19:45:00",11,48,1,1,2,0,0,0,0,0,0,0,2,17,19,19,4,2,0,0,0,0,0,0,0,0,0,0,0,0,0,0,18.62063492063492,23.5,9.4,32.700000000000003,10,42,1,2,0,55,1,7,0,0,0,8,11,49,1,2,0,63,55,64,72,67,78,42,51,8,8,13,7,11,9,8,63,72,85,74,89,51,59]
[1,{"$f":"OFFSET(Input_Details!$Q$4,MATCH($A84, Input_Details!$J$5:$J$24, 0), 0)","v":"2017-04-24"},{"$f":"INDEX(Input_Details!$H$5:$H$24, MATCH($A84, Input_Details!$J$5:$J$24, 0), 0)","v":"Harper Road (South of Falmouth Road)"},{"$f":"INDEX(Input_Details!$I$5:$I$24, MATCH($A84, Input_Details!$J$5:$J$24, 0), 0)","v":"51.49617, -0.09302"},{"$f":"INDEX(Input_Details!$K$5:$K$24, MATCH($A84, Input_Details!$J$5:$J$24, 0), 0)","v":"Southbound"},"Mon","20:00:00",6,48,0,0,1,0,0,0,0,0,0,0,0,10,33,10,2,0,0,0,0,0,0,0,0,0,0,0,0,0,0,0,17.399999999999999,20.8,11,27.9,{"$f":"INDEX(Input_Details!$L$5:$L$24, MATCH($A84, Input_Details!$J$5:$J$24, 0), 0)","v":"Northbound"},"Mon","20:00:00",2,2,0,0,0,0,0,0,0,0,0,0,1,0,3,0,0,0,0,0,0,0,0,0,0,0,0,0,0,0,0,0,15.1,"-",8.3000000000000007,19.7,null,"Mon","20:00:00",8,50,0,0,1,0,0,0,0,0,0,0,1,10,36,10,2,0,0,0,0,0,0,0,0,0,0,0,0,0,0,0,17.244067796610167,20.8,8.3000000000000007,27.9,6,48,0,1,0,55,2,2,0,0,0,4,8,50,0,1,0,59,55,52,58,61,59,52,49,4,13,15,13,9,4,9,59,65,73,74,68,56,58]
[1,{"$f":"OFFSET(Input_Details!$Q$4,MATCH($A85, Input_Details!$J$5:$J$24, 0), 0)","v":"2017-04-24"},{"$f":"INDEX(Input_Details!$H$5:$H$24, MATCH($A85, Input_Details!$J$5:$J$24, 0), 0)","v":"Harper Road (South of Falmouth Road)"},{"$f":"INDEX(Input_Details!$I$5:$I$24, MATCH($A85, Input_Details!$J$5:$J$24, 0), 0)","v":"51.49617, -0.09302"},{"$f":"INDEX(Input_Details!$K$5:$K$24, MATCH($A85, Input_Details!$J$5:$J$24, 0), 0)","v":"Southbound"},"Mon","20:15:00",8,36,2,1,2,0,0,0,0,0,0,0,1,11,19,14,2,2,0,0,0,0,0,0,0,0,0,0,0,0,0,0,18.3,21.9,9.8000000000000007,30.9,{"$f":"INDEX(Input_Details!$L$5:$L$24, MATCH($A85, Input_Details!$J$5:$J$24, 0), 0)","v":"Northbound"},"Mon","20:15:00",4,7,0,0,0,0,0,0,0,0,0,0,1,2,4,4,0,0,0,0,0,0,0,0,0,0,0,0,0,0,0,0,16.899999999999999,21.5,6.8,22.5,null,"Mon","20:15:00",12,43,2,1,2,0,0,0,0,0,0,0,2,13,23,18,2,2,0,0,0,0,0,0,0,0,0,0,0,0,0,0,18.043333333333333,21.7,6.8,30.9,8,38,1,2,0,49,4,7,0,0,0,11,12,45,1,2,0,60,49,51,57,63,49,59,45,11,10,18,5,6,8,7,60,61,75,68,55,67,52]
[1,{"$f":"OFFSET(Input_Details!$Q$4,MATCH($A86, Input_Details!$J$5:$J$24, 0), 0)","v":"2017-04-24"},{"$f":"INDEX(Input_Details!$H$5:$H$24, MATCH($A86, Input_Details!$J$5:$J$24, 0), 0)","v":"Harper Road (South of Falmouth Road)"},{"$f":"INDEX(Input_Details!$I$5:$I$24, MATCH($A86, Input_Details!$J$5:$J$24, 0), 0)","v":"51.49617, -0.09302"},{"$f":"INDEX(Input_Details!$K$5:$K$24, MATCH($A86, Input_Details!$J$5:$J$24, 0), 0)","v":"Southbound"},"Mon","20:30:00",5,42,0,1,2,0,1,0,0,0,0,0,1,15,28,6,0,1,0,0,0,0,0,0,0,0,0,0,0,0,0,0,16.899999999999999,19.2,9.6999999999999993,30.2,{"$f":"INDEX(Input_Details!$L$5:$L$24, MATCH($A86, Input_Details!$J$5:$J$24, 0), 0)","v":"Northbound"},"Mon","20:30:00",4,6,0,0,0,0,0,0,0,0,0,0,0,0,4,5,1,0,0,0,0,0,0,0,0,0,0,0,0,0,0,0,20.8,"-",17,27,null,"Mon","20:30:00",9,48,0,1,2,0,1,0,0,0,0,0,1,15,32,11,1,1,0,0,0,0,0,0,0,0,0,0,0,0,0,0,17.539344262295085,19.2,9.6999999999999993,30.2,5,42,1,2,1,51,4,6,0,0,0,10,9,48,1,2,1,61,51,65,67,57,82,54,50,10,11,11,3,5,10,3,61,76,78,60,87,64,53]
[1,{"$f":"OFFSET(Input_Details!$Q$4,MATCH($A87, Input_Details!$J$5:$J$24, 0), 0)","v":"2017-04-24"},{"$f":"INDEX(Input_Details!$H$5:$H$24, MATCH($A87, Input_Details!$J$5:$J$24, 0), 0)","v":"Harper Road (South of Falmouth Road)"},{"$f":"INDEX(Input_Details!$I$5:$I$24, MATCH($A87, Input_Details!$J$5:$J$24, 0), 0)","v":"51.49617, -0.09302"},{"$f":"INDEX(Input_Details!$K$5:$K$24, MATCH($A87, Input_Details!$J$5:$J$24, 0), 0)","v":"Southbound"},"Mon","20:45:00",11,38,0,0,1,0,0,0,0,0,0,0,2,12,28,5,2,1,0,0,0,0,0,0,0,0,0,0,0,0,0,0,17.399999999999999,21.5,9.1,33.9,{"$f":"INDEX(Input_Details!$L$5:$L$24, MATCH($A87, Input_Details!$J$5:$J$24, 0), 0)","v":"Northbound"},"Mon","20:45:00",0,3,0,0,0,0,0,0,0,0,0,0,0,0,3,0,0,0,0,0,0,0,0,0,0,0,0,0,0,0,0,0,17.7,"-",16,18.5,null,"Mon","20:45:00",11,41,0,0,1,0,0,0,0,0,0,0,2,12,31,5,2,1,0,0,0,0,0,0,0,0,0,0,0,0,0,0,17.41698113207547,21.5,9.1,33.9,11,38,0,1,0,50,0,3,0,0,0,3,11,41,0,1,0,53,50,45,50,51,53,57,52,3,15,17,8,14,10,6,53,60,67,59,67,67,58]
[1,{"$f":"OFFSET(Input_Details!$Q$4,MATCH($A88, Input_Details!$J$5:$J$24, 0), 0)","v":"2017-04-24"},{"$f":"INDEX(Input_Details!$H$5:$H$24, MATCH($A88, Input_Details!$J$5:$J$24, 0), 0)","v":"Harper Road (South of Falmouth Road)"},{"$f":"INDEX(Input_Details!$I$5:$I$24, MATCH($A88, Input_Details!$J$5:$J$24, 0), 0)","v":"51.49617, -0.09302"},{"$f":"INDEX(Input_Details!$K$5:$K$24, MATCH($A88, Input_Details!$J$5:$J$24, 0), 0)","v":"Southbound"},"Mon","21:00:00",7,31,1,1,0,0,0,0,0,0,0,0,0,6,26,7,1,0,0,0,0,0,0,0,0,0,0,0,0,0,0,0,17.899999999999999,20.6,10.4,25.5,{"$f":"INDEX(Input_Details!$L$5:$L$24, MATCH($A88, Input_Details!$J$5:$J$24, 0), 0)","v":"Northbound"},"Mon","21:00:00",3,5,0,0,0,0,0,0,0,0,0,0,2,1,4,0,1,0,0,0,0,0,0,0,0,0,0,0,0,0,0,0,15.6,"-",8.1999999999999993,25.3,null,"Mon","21:00:00",10,36,1,1,0,0,0,0,0,0,0,0,2,7,30,7,2,0,0,0,0,0,0,0,0,0,0,0,0,0,0,0,17.516666666666666,20.6,8.1999999999999993,25.5,7,32,1,0,0,40,3,5,0,0,0,8,10,37,1,0,0,48,40,40,47,47,41,48,45,8,16,18,6,11,14,13,48,56,65,53,52,62,58]
[1,{"$f":"OFFSET(Input_Details!$Q$4,MATCH($A89, Input_Details!$J$5:$J$24, 0), 0)","v":"2017-04-24"},{"$f":"INDEX(Input_Details!$H$5:$H$24, MATCH($A89, Input_Details!$J$5:$J$24, 0), 0)","v":"Harper Road (South of Falmouth Road)"},{"$f":"INDEX(Input_Details!$I$5:$I$24, MATCH($A89, Input_Details!$J$5:$J$24, 0), 0)","v":"51.49617, -0.09302"},{"$f":"INDEX(Input_Details!$K$5:$K$24, MATCH($A89, Input_Details!$J$5:$J$24, 0), 0)","v":"Southbound"},"Mon","21:15:00",8,28,0,1,2,0,0,0,0,0,0,0,1,9,18,8,2,1,0,0,0,0,0,0,0,0,0,0,0,0,0,0,18.3,22.6,8.3000000000000007,30.6,{"$f":"INDEX(Input_Details!$L$5:$L$24, MATCH($A89, Input_Details!$J$5:$J$24, 0), 0)","v":"Northbound"},"Mon","21:15:00",0,6,0,0,0,0,0,0,0,0,0,0,0,2,4,0,0,0,0,0,0,0,0,0,0,0,0,0,0,0,0,0,15.8,"-",12.4,19.3,null,"Mon","21:15:00",8,34,0,1,2,0,0,0,0,0,0,0,1,11,22,8,2,1,0,0,0,0,0,0,0,0,0,0,0,0,0,0,17.966666666666665,22.6,8.3000000000000007,30.6,8,28,1,2,0,39,0,6,0,0,0,6,8,34,1,2,0,45,39,35,28,55,48,47,34,6,11,4,6,8,9,4,45,46,32,61,56,56,38]
[1,{"$f":"OFFSET(Input_Details!$Q$4,MATCH($A90, Input_Details!$J$5:$J$24, 0), 0)","v":"2017-04-24"},{"$f":"INDEX(Input_Details!$H$5:$H$24, MATCH($A90, Input_Details!$J$5:$J$24, 0), 0)","v":"Harper Road (South of Falmouth Road)"},{"$f":"INDEX(Input_Details!$I$5:$I$24, MATCH($A90, Input_Details!$J$5:$J$24, 0), 0)","v":"51.49617, -0.09302"},{"$f":"INDEX(Input_Details!$K$5:$K$24, MATCH($A90, Input_Details!$J$5:$J$24, 0), 0)","v":"Southbound"},"Mon","21:30:00",3,42,0,3,1,1,0,0,0,0,0,0,2,12,28,6,1,1,0,0,0,0,0,0,0,0,0,0,0,0,0,0,16.8,19.899999999999999,9.1,30.3,{"$f":"INDEX(Input_Details!$L$5:$L$24, MATCH($A90, Input_Details!$J$5:$J$24, 0), 0)","v":"Northbound"},"Mon","21:30:00",1,7,0,0,1,0,0,0,0,0,0,0,0,5,4,0,0,0,0,0,0,0,0,0,0,0,0,0,0,0,0,0,14.1,"-",10,18.600000000000001,null,"Mon","21:30:00",4,49,0,3,2,1,0,0,0,0,0,0,2,17,32,6,1,1,0,0,0,0,0,0,0,0,0,0,0,0,0,0,16.388135593220337,19.899999999999999,9.1,30.3,3,42,3,1,1,50,1,7,0,1,0,9,4,49,3,2,1,59,50,32,49,36,49,49,52,9,12,9,3,10,10,13,59,44,58,39,59,59,65]
[1,{"$f":"OFFSET(Input_Details!$Q$4,MATCH($A91, Input_Details!$J$5:$J$24, 0), 0)","v":"2017-04-24"},{"$f":"INDEX(Input_Details!$H$5:$H$24, MATCH($A91, Input_Details!$J$5:$J$24, 0), 0)","v":"Harper Road (South of Falmouth Road)"},{"$f":"INDEX(Input_Details!$I$5:$I$24, MATCH($A91, Input_Details!$J$5:$J$24, 0), 0)","v":"51.49617, -0.09302"},{"$f":"INDEX(Input_Details!$K$5:$K$24, MATCH($A91, Input_Details!$J$5:$J$24, 0), 0)","v":"Southbound"},"Mon","21:45:00",7,32,0,1,2,1,0,0,0,0,0,0,0,9,20,10,2,2,0,0,0,0,0,0,0,0,0,0,0,0,0,0,19,23.5,11,34,{"$f":"INDEX(Input_Details!$L$5:$L$24, MATCH($A91, Input_Details!$J$5:$J$24, 0), 0)","v":"Northbound"},"Mon","21:45:00",0,8,0,0,0,0,0,0,0,0,0,0,0,1,5,1,1,0,0,0,0,0,0,0,0,0,0,0,0,0,0,0,18.2,"-",14.8,26.7,null,"Mon","21:45:00",7,40,0,1,2,1,0,0,0,0,0,0,0,10,25,11,3,2,0,0,0,0,0,0,0,0,0,0,0,0,0,0,18.874509803921569,23.5,11,34,7,32,1,2,1,43,0,8,0,0,0,8,7,40,1,2,1,51,43,37,39,47,46,48,43,8,14,13,1,11,17,7,51,51,52,48,57,65,50]
[1,{"$f":"OFFSET(Input_Details!$Q$4,MATCH($A92, Input_Details!$J$5:$J$24, 0), 0)","v":"2017-04-24"},{"$f":"INDEX(Input_Details!$H$5:$H$24, MATCH($A92, Input_Details!$J$5:$J$24, 0), 0)","v":"Harper Road (South of Falmouth Road)"},{"$f":"INDEX(Input_Details!$I$5:$I$24, MATCH($A92, Input_Details!$J$5:$J$24, 0), 0)","v":"51.49617, -0.09302"},{"$f":"INDEX(Input_Details!$K$5:$K$24, MATCH($A92, Input_Details!$J$5:$J$24, 0), 0)","v":"Southbound"},"Mon","22:00:00",11,28,0,1,0,0,0,0,0,0,0,0,0,6,12,16,4,1,1,0,0,0,0,0,0,0,0,0,0,0,0,0,20.3,24.2,11.3,36.5,{"$f":"INDEX(Input_Details!$L$5:$L$24, MATCH($A92, Input_Details!$J$5:$J$24, 0), 0)","v":"Northbound"},"Mon","22:00:00",0,6,0,1,0,0,0,0,0,0,0,0,1,1,1,3,1,0,0,0,0,0,0,0,0,0,0,0,0,0,0,0,19.2,"-",7.6,27.8,null,"Mon","22:00:00",11,34,0,2,0,0,0,0,0,0,0,0,1,7,13,19,5,1,1,0,0,0,0,0,0,0,0,0,0,0,0,0,20.136170212765958,24.2,7.6,36.5,11,28,1,0,0,40,0,6,1,0,0,7,11,34,2,0,0,47,40,46,48,59,51,41,38,7,9,11,5,5,18,9,47,55,59,64,56,59,47]
[1,{"$f":"OFFSET(Input_Details!$Q$4,MATCH($A93, Input_Details!$J$5:$J$24, 0), 0)","v":"2017-04-24"},{"$f":"INDEX(Input_Details!$H$5:$H$24, MATCH($A93, Input_Details!$J$5:$J$24, 0), 0)","v":"Harper Road (South of Falmouth Road)"},{"$f":"INDEX(Input_Details!$I$5:$I$24, MATCH($A93, Input_Details!$J$5:$J$24, 0), 0)","v":"51.49617, -0.09302"},{"$f":"INDEX(Input_Details!$K$5:$K$24, MATCH($A93, Input_Details!$J$5:$J$24, 0), 0)","v":"Southbound"},"Mon","22:15:00",10,39,0,0,1,0,0,0,0,0,0,0,2,7,28,9,3,1,0,0,0,0,0,0,0,0,0,0,0,0,0,0,18.100000000000001,21.7,8.5,31,{"$f":"INDEX(Input_Details!$L$5:$L$24, MATCH($A93, Input_Details!$J$5:$J$24, 0), 0)","v":"Northbound"},"Mon","22:15:00",0,6,0,1,1,0,0,0,0,0,0,0,0,0,4,4,0,0,0,0,0,0,0,0,0,0,0,0,0,0,0,0,19,"-",15.3,20.9,null,"Mon","22:15:00",10,45,0,1,2,0,0,0,0,0,0,0,2,7,32,13,3,1,0,0,0,0,0,0,0,0,0,0,0,0,0,0,18.224137931034484,21.7,8.5,31,10,39,0,1,0,50,0,6,1,1,0,8,10,45,1,2,0,58,50,53,59,33,48,59,34,8,13,12,3,5,17,7,58,66,71,36,53,76,41]
[1,{"$f":"OFFSET(Input_Details!$Q$4,MATCH($A94, Input_Details!$J$5:$J$24, 0), 0)","v":"2017-04-24"},{"$f":"INDEX(Input_Details!$H$5:$H$24, MATCH($A94, Input_Details!$J$5:$J$24, 0), 0)","v":"Harper Road (South of Falmouth Road)"},{"$f":"INDEX(Input_Details!$I$5:$I$24, MATCH($A94, Input_Details!$J$5:$J$24, 0), 0)","v":"51.49617, -0.09302"},{"$f":"INDEX(Input_Details!$K$5:$K$24, MATCH($A94, Input_Details!$J$5:$J$24, 0), 0)","v":"Southbound"},"Mon","22:30:00",4,28,0,0,3,0,0,0,0,0,0,0,0,6,15,11,2,1,0,0,0,0,0,0,0,0,0,0,0,0,0,0,19.100000000000001,23.9,10.199999999999999,34.6,{"$f":"INDEX(Input_Details!$L$5:$L$24, MATCH($A94, Input_Details!$J$5:$J$24, 0), 0)","v":"Northbound"},"Mon","22:30:00",0,5,0,0,0,0,0,0,0,0,0,0,0,0,5,0,0,0,0,0,0,0,0,0,0,0,0,0,0,0,0,0,17.5,"-",17.5,17.5,null,"Mon","22:30:00",4,33,0,0,3,0,0,0,0,0,0,0,0,6,20,11,2,1,0,0,0,0,0,0,0,0,0,0,0,0,0,0,18.899999999999999,23.9,10.199999999999999,34.6,4,28,0,3,0,35,0,5,0,0,0,5,4,33,0,3,0,40,35,47,42,39,58,54,34,5,10,6,1,4,10,6,40,57,48,40,62,64,40]
[1,{"$f":"OFFSET(Input_Details!$Q$4,MATCH($A95, Input_Details!$J$5:$J$24, 0), 0)","v":"2017-04-24"},{"$f":"INDEX(Input_Details!$H$5:$H$24, MATCH($A95, Input_Details!$J$5:$J$24, 0), 0)","v":"Harper Road (South of Falmouth Road)"},{"$f":"INDEX(Input_Details!$I$5:$I$24, MATCH($A95, Input_Details!$J$5:$J$24, 0), 0)","v":"51.49617, -0.09302"},{"$f":"INDEX(Input_Details!$K$5:$K$24, MATCH($A95, Input_Details!$J$5:$J$24, 0), 0)","v":"Southbound"},"Mon","22:45:00",3,28,0,1,2,0,0,0,0,0,0,0,2,7,13,10,2,0,0,0,0,0,0,0,0,0,0,0,0,0,0,0,17.8,21.5,4.9000000000000004,27.4,{"$f":"INDEX(Input_Details!$L$5:$L$24, MATCH($A95, Input_Details!$J$5:$J$24, 0), 0)","v":"Northbound"},"Mon","22:45:00",1,5,0,0,0,0,0,0,0,0,0,0,0,0,6,0,0,0,0,0,0,0,0,0,0,0,0,0,0,0,0,0,16.8,"-",15.5,19.3,null,"Mon","22:45:00",4,33,0,1,2,0,0,0,0,0,0,0,2,7,19,10,2,0,0,0,0,0,0,0,0,0,0,0,0,0,0,0,17.649999999999999,21.5,4.9000000000000004,27.4,3,28,1,2,0,34,1,5,0,0,0,6,4,33,1,2,0,40,34,44,40,45,61,50,38,6,8,7,4,7,8,5,40,52,47,49,68,58,43]
[1,{"$f":"OFFSET(Input_Details!$Q$4,MATCH($A96, Input_Details!$J$5:$J$24, 0), 0)","v":"2017-04-24"},{"$f":"INDEX(Input_Details!$H$5:$H$24, MATCH($A96, Input_Details!$J$5:$J$24, 0), 0)","v":"Harper Road (South of Falmouth Road)"},{"$f":"INDEX(Input_Details!$I$5:$I$24, MATCH($A96, Input_Details!$J$5:$J$24, 0), 0)","v":"51.49617, -0.09302"},{"$f":"INDEX(Input_Details!$K$5:$K$24, MATCH($A96, Input_Details!$J$5:$J$24, 0), 0)","v":"Southbound"},"Mon","23:00:00",5,31,0,0,0,0,0,0,1,0,0,0,0,4,22,7,2,2,0,0,0,0,0,0,0,0,0,0,0,0,0,0,18.600000000000001,22.1,12.2,33.299999999999997,{"$f":"INDEX(Input_Details!$L$5:$L$24, MATCH($A96, Input_Details!$J$5:$J$24, 0), 0)","v":"Northbound"},"Mon","23:00:00",1,10,0,0,0,0,0,0,0,0,0,0,0,0,8,2,1,0,0,0,0,0,0,0,0,0,0,0,0,0,0,0,19.399999999999999,20.6,16.100000000000001,26.3,null,"Mon","23:00:00",6,41,0,0,0,0,0,0,1,0,0,0,0,4,30,9,3,2,0,0,0,0,0,0,0,0,0,0,0,0,0,0,18.783333333333335,21.35,12.2,33.299999999999997,5,31,0,0,1,37,1,10,0,0,0,11,6,41,0,0,1,48,37,51,39,46,35,46,31,11,12,7,2,11,4,2,48,63,46,48,46,50,33]
[1,{"$f":"OFFSET(Input_Details!$Q$4,MATCH($A97, Input_Details!$J$5:$J$24, 0), 0)","v":"2017-04-24"},{"$f":"INDEX(Input_Details!$H$5:$H$24, MATCH($A97, Input_Details!$J$5:$J$24, 0), 0)","v":"Harper Road (South of Falmouth Road)"},{"$f":"INDEX(Input_Details!$I$5:$I$24, MATCH($A97, Input_Details!$J$5:$J$24, 0), 0)","v":"51.49617, -0.09302"},{"$f":"INDEX(Input_Details!$K$5:$K$24, MATCH($A97, Input_Details!$J$5:$J$24, 0), 0)","v":"Southbound"},"Mon","23:15:00",3,23,0,0,3,0,0,0,0,0,0,0,0,8,14,6,1,0,0,0,0,0,0,0,0,0,0,0,0,0,0,0,17.600000000000001,21.3,10.3,28.9,{"$f":"INDEX(Input_Details!$L$5:$L$24, MATCH($A97, Input_Details!$J$5:$J$24, 0), 0)","v":"Northbound"},"Mon","23:15:00",0,5,0,0,0,0,0,0,0,0,0,0,0,0,0,4,1,0,0,0,0,0,0,0,0,0,0,0,0,0,0,0,22.9,"-",22.2,25.8,null,"Mon","23:15:00",3,28,0,0,3,0,0,0,0,0,0,0,0,8,14,10,2,0,0,0,0,0,0,0,0,0,0,0,0,0,0,0,18.379411764705885,21.3,10.3,28.9,3,23,0,3,0,29,0,5,0,0,0,5,3,28,0,3,0,34,29,28,39,50,57,47,28,5,6,6,1,9,9,5,34,34,45,51,66,56,33]
[1,{"$f":"OFFSET(Input_Details!$Q$4,MATCH($A98, Input_Details!$J$5:$J$24, 0), 0)","v":"2017-04-24"},{"$f":"INDEX(Input_Details!$H$5:$H$24, MATCH($A98, Input_Details!$J$5:$J$24, 0), 0)","v":"Harper Road (South of Falmouth Road)"},{"$f":"INDEX(Input_Details!$I$5:$I$24, MATCH($A98, Input_Details!$J$5:$J$24, 0), 0)","v":"51.49617, -0.09302"},{"$f":"INDEX(Input_Details!$K$5:$K$24, MATCH($A98, Input_Details!$J$5:$J$24, 0), 0)","v":"Southbound"},"Mon","23:30:00",2,28,0,1,1,0,0,0,0,0,0,0,0,7,14,10,1,0,0,0,0,0,0,0,0,0,0,0,0,0,0,0,18.5,21.3,12,29.6,{"$f":"INDEX(Input_Details!$L$5:$L$24, MATCH($A98, Input_Details!$J$5:$J$24, 0), 0)","v":"Northbound"},"Mon","23:30:00",1,3,0,0,0,0,0,0,0,0,0,0,0,1,0,1,2,0,0,0,0,0,0,0,0,0,0,0,0,0,0,0,22.4,"-",14.5,29.3,null,"Mon","23:30:00",3,31,0,1,1,0,0,0,0,0,0,0,0,8,14,11,3,0,0,0,0,0,0,0,0,0,0,0,0,0,0,0,18.933333333333334,21.3,12,29.6,2,28,1,1,0,32,1,3,0,0,0,4,3,31,1,1,0,36,32,29,50,42,46,53,23,4,6,6,5,12,6,3,36,35,56,47,58,59,26]
[1,{"$f":"OFFSET(Input_Details!$Q$4,MATCH($A99, Input_Details!$J$5:$J$24, 0), 0)","v":"2017-04-24"},{"$f":"INDEX(Input_Details!$H$5:$H$24, MATCH($A99, Input_Details!$J$5:$J$24, 0), 0)","v":"Harper Road (South of Falmouth Road)"},{"$f":"INDEX(Input_Details!$I$5:$I$24, MATCH($A99, Input_Details!$J$5:$J$24, 0), 0)","v":"51.49617, -0.09302"},{"$f":"INDEX(Input_Details!$K$5:$K$24, MATCH($A99, Input_Details!$J$5:$J$24, 0), 0)","v":"Southbound"},"Mon","23:45:00",3,11,0,2,2,0,0,0,0,0,0,0,1,2,11,1,3,0,0,0,0,0,0,0,0,0,0,0,0,0,0,0,17.899999999999999,21,9.6,27.9,{"$f":"INDEX(Input_Details!$L$5:$L$24, MATCH($A99, Input_Details!$J$5:$J$24, 0), 0)","v":"Northbound"},"Mon","23:45:00",1,1,0,0,0,0,0,0,0,0,0,0,0,0,0,1,1,0,0,0,0,0,0,0,0,0,0,0,0,0,0,0,23.5,"-",20.100000000000001,26.9,null,"Mon","23:45:00",4,12,0,2,2,0,0,0,0,0,0,0,1,2,11,2,4,0,0,0,0,0,0,0,0,0,0,0,0,0,0,0,18.46,21,9.6,27.9,3,11,2,2,0,18,1,1,0,0,0,2,4,12,2,2,0,20,18,45,22,32,30,45,24,2,15,7,3,6,6,3,20,60,29,35,36,51,27]
[1,{"$f":"OFFSET(Input_Details!$Q$4,MATCH($A100, Input_Details!$J$5:$J$24, 0), 1)","v":"2017-04-25"},{"$f":"INDEX(Input_Details!$H$5:$H$24, MATCH($A100, Input_Details!$J$5:$J$24, 0), 0)","v":"Harper Road (South of Falmouth Road)"},{"$f":"INDEX(Input_Details!$I$5:$I$24, MATCH($A100, Input_Details!$J$5:$J$24, 0), 0)","v":"51.49617, -0.09302"},{"$f":"INDEX(Input_Details!$K$5:$K$24, MATCH($A100, Input_Details!$J$5:$J$24, 0), 0)","v":"Southbound"},"Tues","00:00:00",3,20,0,0,0,0,0,0,0,1,0,0,2,9,8,3,1,1,0,0,0,0,0,0,0,0,0,0,0,0,0,0,16.5,20.6,9.4,32.700000000000003,{"$f":"INDEX(Input_Details!$L$5:$L$24, MATCH($A100, Input_Details!$J$5:$J$24, 0), 0)","v":"Northbound"},"Tues","00:00:00",2,2,0,0,0,0,0,0,0,0,0,0,0,0,0,2,2,0,0,0,0,0,0,0,0,0,0,0,0,0,0,0,25.7,"-",23.5,28.5,null,"Tues","00:00:00",5,22,0,0,0,0,0,0,0,1,0,0,2,9,8,5,3,1,0,0,0,0,0,0,0,0,0,0,0,0,0,0,17.814285714285713,20.6,9.4,32.700000000000003,3,20,0,0,1,24,2,2,0,0,0,4,5,22,0,0,1,28]
[1,{"$f":"OFFSET(Input_Details!$Q$4,MATCH($A101, Input_Details!$J$5:$J$24, 0), 1)","v":"2017-04-25"},{"$f":"INDEX(Input_Details!$H$5:$H$24, MATCH($A101, Input_Details!$J$5:$J$24, 0), 0)","v":"Harper Road (South of Falmouth Road)"},{"$f":"INDEX(Input_Details!$I$5:$I$24, MATCH($A101, Input_Details!$J$5:$J$24, 0), 0)","v":"51.49617, -0.09302"},{"$f":"INDEX(Input_Details!$K$5:$K$24, MATCH($A101, Input_Details!$J$5:$J$24, 0), 0)","v":"Southbound"},"Tues","00:15:00",4,14,0,0,1,0,0,0,0,0,0,0,0,2,12,3,2,0,0,0,0,0,0,0,0,0,0,0,0,0,0,0,18.399999999999999,20.399999999999999,11.9,26,{"$f":"INDEX(Input_Details!$L$5:$L$24, MATCH($A101, Input_Details!$J$5:$J$24, 0), 0)","v":"Northbound"},"Tues","00:15:00",2,5,0,0,0,0,0,0,0,0,0,0,0,2,1,1,3,0,0,0,0,0,0,0,0,0,0,0,0,0,0,0,20.6,"-",10.4,29.1,null,"Tues","00:15:00",6,19,0,0,1,0,0,0,0,0,0,0,0,4,13,4,5,0,0,0,0,0,0,0,0,0,0,0,0,0,0,0,18.992307692307691,20.399999999999999,10.4,29.1,4,14,0,1,0,19,2,5,0,0,0,7,6,19,0,1,0,26]
[1,{"$f":"OFFSET(Input_Details!$Q$4,MATCH($A102, Input_Details!$J$5:$J$24, 0), 1)","v":"2017-04-25"},{"$f":"INDEX(Input_Details!$H$5:$H$24, MATCH($A102, Input_Details!$J$5:$J$24, 0), 0)","v":"Harper Road (South of Falmouth Road)"},{"$f":"INDEX(Input_Details!$I$5:$I$24, MATCH($A102, Input_Details!$J$5:$J$24, 0), 0)","v":"51.49617, -0.09302"},{"$f":"INDEX(Input_Details!$K$5:$K$24, MATCH($A102, Input_Details!$J$5:$J$24, 0), 0)","v":"Southbound"},"Tues","00:30:00",1,12,0,0,0,0,0,0,0,0,0,0,0,4,6,2,0,0,0,1,0,0,0,0,0,0,0,0,0,0,0,0,18,21,10.4,41.1,{"$f":"INDEX(Input_Details!$L$5:$L$24, MATCH($A102, Input_Details!$J$5:$J$24, 0), 0)","v":"Northbound"},"Tues","00:30:00",0,4,0,0,0,0,0,0,0,0,0,0,0,1,0,3,0,0,0,0,0,0,0,0,0,0,0,0,0,0,0,0,19.100000000000001,"-",12.2,21.7,null,"Tues","00:30:00",1,16,0,0,0,0,0,0,0,0,0,0,0,5,6,5,0,0,0,1,0,0,0,0,0,0,0,0,0,0,0,0,18.258823529411764,21,10.4,41.1,1,12,0,0,0,13,0,4,0,0,0,4,1,16,0,0,0,17]
[1,{"$f":"OFFSET(Input_Details!$Q$4,MATCH($A103, Input_Details!$J$5:$J$24, 0), 1)","v":"2017-04-25"},{"$f":"INDEX(Input_Details!$H$5:$H$24, MATCH($A103, Input_Details!$J$5:$J$24, 0), 0)","v":"Harper Road (South of Falmouth Road)"},{"$f":"INDEX(Input_Details!$I$5:$I$24, MATCH($A103, Input_Details!$J$5:$J$24, 0), 0)","v":"51.49617, -0.09302"},{"$f":"INDEX(Input_Details!$K$5:$K$24, MATCH($A103, Input_Details!$J$5:$J$24, 0), 0)","v":"Southbound"},"Tues","00:45:00",0,17,0,2,0,0,0,0,0,0,0,0,0,1,10,7,0,1,0,0,0,0,0,0,0,0,0,0,0,0,0,0,19.899999999999999,22.6,14,32.1,{"$f":"INDEX(Input_Details!$L$5:$L$24, MATCH($A103, Input_Details!$J$5:$J$24, 0), 0)","v":"Northbound"},"Tues","00:45:00",0,5,0,0,0,0,0,0,0,0,0,0,0,0,5,0,0,0,0,0,0,0,0,0,0,0,0,0,0,0,0,0,18.899999999999999,"-",18.899999999999999,18.899999999999999,null,"Tues","00:45:00",0,22,0,2,0,0,0,0,0,0,0,0,0,1,15,7,0,1,0,0,0,0,0,0,0,0,0,0,0,0,0,0,19.691666666666666,22.6,14,32.1,0,17,2,0,0,19,0,5,0,0,0,5,0,22,2,0,0,24]
[1,{"$f":"OFFSET(Input_Details!$Q$4,MATCH($A104, Input_Details!$J$5:$J$24, 0), 1)","v":"2017-04-25"},{"$f":"INDEX(Input_Details!$H$5:$H$24, MATCH($A104, Input_Details!$J$5:$J$24, 0), 0)","v":"Harper Road (South of Falmouth Road)"},{"$f":"INDEX(Input_Details!$I$5:$I$24, MATCH($A104, Input_Details!$J$5:$J$24, 0), 0)","v":"51.49617, -0.09302"},{"$f":"INDEX(Input_Details!$K$5:$K$24, MATCH($A104, Input_Details!$J$5:$J$24, 0), 0)","v":"Southbound"},"Tues","01:00:00",1,11,0,0,0,0,0,0,0,0,0,0,0,2,8,2,0,0,0,0,0,0,0,0,0,0,0,0,0,0,0,0,18.100000000000001,19.899999999999999,14.2,23.1,{"$f":"INDEX(Input_Details!$L$5:$L$24, MATCH($A104, Input_Details!$J$5:$J$24, 0), 0)","v":"Northbound"},"Tues","01:00:00",0,2,0,0,0,0,0,0,0,0,0,0,0,0,2,0,0,0,0,0,0,0,0,0,0,0,0,0,0,0,0,0,18.899999999999999,"-",18.899999999999999,18.899999999999999,null,"Tues","01:00:00",1,13,0,0,0,0,0,0,0,0,0,0,0,2,10,2,0,0,0,0,0,0,0,0,0,0,0,0,0,0,0,0,18.214285714285715,19.899999999999999,14.2,23.1,1,11,0,0,0,12,0,2,0,0,0,2,1,13,0,0,0,14]
[1,{"$f":"OFFSET(Input_Details!$Q$4,MATCH($A105, Input_Details!$J$5:$J$24, 0), 1)","v":"2017-04-25"},{"$f":"INDEX(Input_Details!$H$5:$H$24, MATCH($A105, Input_Details!$J$5:$J$24, 0), 0)","v":"Harper Road (South of Falmouth Road)"},{"$f":"INDEX(Input_Details!$I$5:$I$24, MATCH($A105, Input_Details!$J$5:$J$24, 0), 0)","v":"51.49617, -0.09302"},{"$f":"INDEX(Input_Details!$K$5:$K$24, MATCH($A105, Input_Details!$J$5:$J$24, 0), 0)","v":"Southbound"},"Tues","01:15:00",1,7,0,2,0,0,0,0,0,0,0,0,0,1,6,2,1,0,0,0,0,0,0,0,0,0,0,0,0,0,0,0,19.2,"-",13.5,25.6,{"$f":"INDEX(Input_Details!$L$5:$L$24, MATCH($A105, Input_Details!$J$5:$J$24, 0), 0)","v":"Northbound"},"Tues","01:15:00",0,6,0,0,0,0,0,0,0,0,0,0,0,0,2,4,0,0,0,0,0,0,0,0,0,0,0,0,0,0,0,0,20.2,"-",16.600000000000001,22.6,null,"Tues","01:15:00",1,13,0,2,0,0,0,0,0,0,0,0,0,1,8,6,1,0,0,0,0,0,0,0,0,0,0,0,0,0,0,0,19.574999999999999,"-",13.5,25.6,1,7,2,0,0,10,0,6,0,0,0,6,1,13,2,0,0,16]
[1,{"$f":"OFFSET(Input_Details!$Q$4,MATCH($A106, Input_Details!$J$5:$J$24, 0), 1)","v":"2017-04-25"},{"$f":"INDEX(Input_Details!$H$5:$H$24, MATCH($A106, Input_Details!$J$5:$J$24, 0), 0)","v":"Harper Road (South of Falmouth Road)"},{"$f":"INDEX(Input_Details!$I$5:$I$24, MATCH($A106, Input_Details!$J$5:$J$24, 0), 0)","v":"51.49617, -0.09302"},{"$f":"INDEX(Input_Details!$K$5:$K$24, MATCH($A106, Input_Details!$J$5:$J$24, 0), 0)","v":"Southbound"},"Tues","01:30:00",0,9,0,1,3,0,0,0,0,0,0,0,0,0,5,8,0,0,0,0,0,0,0,0,0,0,0,0,0,0,0,0,20.399999999999999,22.1,16.100000000000001,23.4,{"$f":"INDEX(Input_Details!$L$5:$L$24, MATCH($A106, Input_Details!$J$5:$J$24, 0), 0)","v":"Northbound"},"Tues","01:30:00",0,4,0,0,1,0,0,0,0,0,0,0,0,1,4,0,0,0,0,0,0,0,0,0,0,0,0,0,0,0,0,0,16.5,"-",14.8,16.899999999999999,null,"Tues","01:30:00",0,13,0,1,4,0,0,0,0,0,0,0,0,1,9,8,0,0,0,0,0,0,0,0,0,0,0,0,0,0,0,0,19.316666666666666,22.1,14.8,23.4,0,9,1,3,0,13,0,4,0,1,0,5,0,13,1,4,0,18]
[1,{"$f":"OFFSET(Input_Details!$Q$4,MATCH($A107, Input_Details!$J$5:$J$24, 0), 1)","v":"2017-04-25"},{"$f":"INDEX(Input_Details!$H$5:$H$24, MATCH($A107, Input_Details!$J$5:$J$24, 0), 0)","v":"Harper Road (South of Falmouth Road)"},{"$f":"INDEX(Input_Details!$I$5:$I$24, MATCH($A107, Input_Details!$J$5:$J$24, 0), 0)","v":"51.49617, -0.09302"},{"$f":"INDEX(Input_Details!$K$5:$K$24, MATCH($A107, Input_Details!$J$5:$J$24, 0), 0)","v":"Southbound"},"Tues","01:45:00",0,8,0,1,2,0,0,0,0,0,0,0,0,0,2,9,0,0,0,0,0,0,0,0,0,0,0,0,0,0,0,0,21,21.3,18.8,22.9,{"$f":"INDEX(Input_Details!$L$5:$L$24, MATCH($A107, Input_Details!$J$5:$J$24, 0), 0)","v":"Northbound"},"Tues","01:45:00",0,4,0,0,0,0,0,0,0,0,0,0,0,1,3,0,0,0,0,0,0,0,0,0,0,0,0,0,0,0,0,0,15.5,"-",14.2,16.899999999999999,null,"Tues","01:45:00",0,12,0,1,2,0,0,0,0,0,0,0,0,1,5,9,0,0,0,0,0,0,0,0,0,0,0,0,0,0,0,0,19.533333333333335,21.3,14.2,22.9,0,8,1,2,0,11,0,4,0,0,0,4,0,12,1,2,0,15]
[1,{"$f":"OFFSET(Input_Details!$Q$4,MATCH($A108, Input_Details!$J$5:$J$24, 0), 1)","v":"2017-04-25"},{"$f":"INDEX(Input_Details!$H$5:$H$24, MATCH($A108, Input_Details!$J$5:$J$24, 0), 0)","v":"Harper Road (South of Falmouth Road)"},{"$f":"INDEX(Input_Details!$I$5:$I$24, MATCH($A108, Input_Details!$J$5:$J$24, 0), 0)","v":"51.49617, -0.09302"},{"$f":"INDEX(Input_Details!$K$5:$K$24, MATCH($A108, Input_Details!$J$5:$J$24, 0), 0)","v":"Southbound"},"Tues","02:00:00",0,5,0,0,1,0,0,0,0,0,0,0,0,0,4,2,0,0,0,0,0,0,0,0,0,0,0,0,0,0,0,0,19.899999999999999,"-",18.399999999999999,21.8,{"$f":"INDEX(Input_Details!$L$5:$L$24, MATCH($A108, Input_Details!$J$5:$J$24, 0), 0)","v":"Northbound"},"Tues","02:00:00",0,0,0,0,1,0,0,0,0,0,0,0,1,0,0,0,0,0,0,0,0,0,0,0,0,0,0,0,0,0,0,0,9.6,"-",9.6,9.6,null,"Tues","02:00:00",0,5,0,0,2,0,0,0,0,0,0,0,1,0,4,2,0,0,0,0,0,0,0,0,0,0,0,0,0,0,0,0,18.428571428571427,"-",9.6,21.8,0,5,0,1,0,6,0,0,0,1,0,1,0,5,0,2,0,7]
[1,{"$f":"OFFSET(Input_Details!$Q$4,MATCH($A109, Input_Details!$J$5:$J$24, 0), 1)","v":"2017-04-25"},{"$f":"INDEX(Input_Details!$H$5:$H$24, MATCH($A109, Input_Details!$J$5:$J$24, 0), 0)","v":"Harper Road (South of Falmouth Road)"},{"$f":"INDEX(Input_Details!$I$5:$I$24, MATCH($A109, Input_Details!$J$5:$J$24, 0), 0)","v":"51.49617, -0.09302"},{"$f":"INDEX(Input_Details!$K$5:$K$24, MATCH($A109, Input_Details!$J$5:$J$24, 0), 0)","v":"Southbound"},"Tues","02:15:00",0,6,0,0,0,0,0,0,0,0,0,0,0,0,0,6,0,0,0,0,0,0,0,0,0,0,0,0,0,0,0,0,21.7,"-",20.7,23.4,{"$f":"INDEX(Input_Details!$L$5:$L$24, MATCH($A109, Input_Details!$J$5:$J$24, 0), 0)","v":"Northbound"},"Tues","02:15:00",0,3,0,0,0,0,0,0,0,0,0,0,0,3,0,0,0,0,0,0,0,0,0,0,0,0,0,0,0,0,0,0,12.6,"-",12.6,12.6,null,"Tues","02:15:00",0,9,0,0,0,0,0,0,0,0,0,0,0,3,0,6,0,0,0,0,0,0,0,0,0,0,0,0,0,0,0,0,18.666666666666668,"-",12.6,23.4,0,6,0,0,0,6,0,3,0,0,0,3,0,9,0,0,0,9]
[1,{"$f":"OFFSET(Input_Details!$Q$4,MATCH($A110, Input_Details!$J$5:$J$24, 0), 1)","v":"2017-04-25"},{"$f":"INDEX(Input_Details!$H$5:$H$24, MATCH($A110, Input_Details!$J$5:$J$24, 0), 0)","v":"Harper Road (South of Falmouth Road)"},{"$f":"INDEX(Input_Details!$I$5:$I$24, MATCH($A110, Input_Details!$J$5:$J$24, 0), 0)","v":"51.49617, -0.09302"},{"$f":"INDEX(Input_Details!$K$5:$K$24, MATCH($A110, Input_Details!$J$5:$J$24, 0), 0)","v":"Southbound"},"Tues","02:30:00",0,4,0,0,0,0,0,0,0,0,0,0,0,0,3,1,0,0,0,0,0,0,0,0,0,0,0,0,0,0,0,0,19.5,"-",17,22.2,{"$f":"INDEX(Input_Details!$L$5:$L$24, MATCH($A110, Input_Details!$J$5:$J$24, 0), 0)","v":"Northbound"},"Tues","02:30:00",0,1,0,0,0,0,0,0,0,0,0,0,0,1,0,0,0,0,0,0,0,0,0,0,0,0,0,0,0,0,0,0,12.6,"-",12.6,12.6,null,"Tues","02:30:00",0,5,0,0,0,0,0,0,0,0,0,0,0,1,3,1,0,0,0,0,0,0,0,0,0,0,0,0,0,0,0,0,18.119999999999997,"-",12.6,22.2,0,4,0,0,0,4,0,1,0,0,0,1,0,5,0,0,0,5]
[1,{"$f":"OFFSET(Input_Details!$Q$4,MATCH($A111, Input_Details!$J$5:$J$24, 0), 1)","v":"2017-04-25"},{"$f":"INDEX(Input_Details!$H$5:$H$24, MATCH($A111, Input_Details!$J$5:$J$24, 0), 0)","v":"Harper Road (South of Falmouth Road)"},{"$f":"INDEX(Input_Details!$I$5:$I$24, MATCH($A111, Input_Details!$J$5:$J$24, 0), 0)","v":"51.49617, -0.09302"},{"$f":"INDEX(Input_Details!$K$5:$K$24, MATCH($A111, Input_Details!$J$5:$J$24, 0), 0)","v":"Southbound"},"Tues","02:45:00",0,3,0,0,1,0,0,0,0,0,0,0,0,0,4,0,0,0,0,0,0,0,0,0,0,0,0,0,0,0,0,0,18.8,"-",17.399999999999999,19.600000000000001,{"$f":"INDEX(Input_Details!$L$5:$L$24, MATCH($A111, Input_Details!$J$5:$J$24, 0), 0)","v":"Northbound"},"Tues","02:45:00",0,1,0,0,0,0,0,0,0,0,0,0,0,1,0,0,0,0,0,0,0,0,0,0,0,0,0,0,0,0,0,0,12.6,"-",12.6,12.6,null,"Tues","02:45:00",0,4,0,0,1,0,0,0,0,0,0,0,0,1,4,0,0,0,0,0,0,0,0,0,0,0,0,0,0,0,0,0,17.559999999999999,"-",12.6,19.600000000000001,0,3,0,1,0,4,0,1,0,0,0,1,0,4,0,1,0,5]
[1,{"$f":"OFFSET(Input_Details!$Q$4,MATCH($A112, Input_Details!$J$5:$J$24, 0), 1)","v":"2017-04-25"},{"$f":"INDEX(Input_Details!$H$5:$H$24, MATCH($A112, Input_Details!$J$5:$J$24, 0), 0)","v":"Harper Road (South of Falmouth Road)"},{"$f":"INDEX(Input_Details!$I$5:$I$24, MATCH($A112, Input_Details!$J$5:$J$24, 0), 0)","v":"51.49617, -0.09302"},{"$f":"INDEX(Input_Details!$K$5:$K$24, MATCH($A112, Input_Details!$J$5:$J$24, 0), 0)","v":"Southbound"},"Tues","03:00:00",0,3,0,0,0,0,0,0,0,0,0,0,0,0,2,1,0,0,0,0,0,0,0,0,0,0,0,0,0,0,0,0,20,"-",18.899999999999999,22.3,{"$f":"INDEX(Input_Details!$L$5:$L$24, MATCH($A112, Input_Details!$J$5:$J$24, 0), 0)","v":"Northbound"},"Tues","03:00:00",0,2,0,0,0,0,0,0,0,0,0,0,0,2,0,0,0,0,0,0,0,0,0,0,0,0,0,0,0,0,0,0,12.6,"-",12.6,12.6,null,"Tues","03:00:00",0,5,0,0,0,0,0,0,0,0,0,0,0,2,2,1,0,0,0,0,0,0,0,0,0,0,0,0,0,0,0,0,17.04,"-",12.6,22.3,0,3,0,0,0,3,0,2,0,0,0,2,0,5,0,0,0,5]
[1,{"$f":"OFFSET(Input_Details!$Q$4,MATCH($A113, Input_Details!$J$5:$J$24, 0), 1)","v":"2017-04-25"},{"$f":"INDEX(Input_Details!$H$5:$H$24, MATCH($A113, Input_Details!$J$5:$J$24, 0), 0)","v":"Harper Road (South of Falmouth Road)"},{"$f":"INDEX(Input_Details!$I$5:$I$24, MATCH($A113, Input_Details!$J$5:$J$24, 0), 0)","v":"51.49617, -0.09302"},{"$f":"INDEX(Input_Details!$K$5:$K$24, MATCH($A113, Input_Details!$J$5:$J$24, 0), 0)","v":"Southbound"},"Tues","03:15:00",1,7,0,2,1,0,0,0,0,0,0,0,0,0,5,1,5,0,0,0,0,0,0,0,0,0,0,0,0,0,0,0,22.7,26.4,17.7,27.1,{"$f":"INDEX(Input_Details!$L$5:$L$24, MATCH($A113, Input_Details!$J$5:$J$24, 0), 0)","v":"Northbound"},"Tues","03:15:00",1,0,0,0,0,0,0,0,0,0,0,0,0,0,1,0,0,0,0,0,0,0,0,0,0,0,0,0,0,0,0,0,18.3,"-",18.3,18.3,null,"Tues","03:15:00",2,7,0,2,1,0,0,0,0,0,0,0,0,0,6,1,5,0,0,0,0,0,0,0,0,0,0,0,0,0,0,0,22.333333333333332,26.4,17.7,27.1,1,7,2,1,0,11,1,0,0,0,0,1,2,7,2,1,0,12]
[1,{"$f":"OFFSET(Input_Details!$Q$4,MATCH($A114, Input_Details!$J$5:$J$24, 0), 1)","v":"2017-04-25"},{"$f":"INDEX(Input_Details!$H$5:$H$24, MATCH($A114, Input_Details!$J$5:$J$24, 0), 0)","v":"Harper Road (South of Falmouth Road)"},{"$f":"INDEX(Input_Details!$I$5:$I$24, MATCH($A114, Input_Details!$J$5:$J$24, 0), 0)","v":"51.49617, -0.09302"},{"$f":"INDEX(Input_Details!$K$5:$K$24, MATCH($A114, Input_Details!$J$5:$J$24, 0), 0)","v":"Southbound"},"Tues","03:30:00",0,3,0,2,0,0,0,0,0,0,0,0,0,0,2,1,1,1,0,0,0,0,0,0,0,0,0,0,0,0,0,0,22.9,"-",17.399999999999999,30.6,{"$f":"INDEX(Input_Details!$L$5:$L$24, MATCH($A114, Input_Details!$J$5:$J$24, 0), 0)","v":"Northbound"},"Tues","03:30:00",0,0,0,0,0,0,0,0,0,0,0,0,0,0,0,0,0,0,0,0,0,0,0,0,0,0,0,0,0,0,0,0,"-","-","-","-",null,"Tues","03:30:00",0,3,0,2,0,0,0,0,0,0,0,0,0,0,2,1,1,1,0,0,0,0,0,0,0,0,0,0,0,0,0,0,22.9,"-",17.399999999999999,30.6,0,3,2,0,0,5,0,0,0,0,0,0,0,3,2,0,0,5]
[1,{"$f":"OFFSET(Input_Details!$Q$4,MATCH($A115, Input_Details!$J$5:$J$24, 0), 1)","v":"2017-04-25"},{"$f":"INDEX(Input_Details!$H$5:$H$24, MATCH($A115, Input_Details!$J$5:$J$24, 0), 0)","v":"Harper Road (South of Falmouth Road)"},{"$f":"INDEX(Input_Details!$I$5:$I$24, MATCH($A115, Input_Details!$J$5:$J$24, 0), 0)","v":"51.49617, -0.09302"},{"$f":"INDEX(Input_Details!$K$5:$K$24, MATCH($A115, Input_Details!$J$5:$J$24, 0), 0)","v":"Southbound"},"Tues","03:45:00",0,7,0,0,1,0,0,0,0,0,0,0,0,1,1,4,2,0,0,0,0,0,0,0,0,0,0,0,0,0,0,0,21.7,"-",14.6,27,{"$f":"INDEX(Input_Details!$L$5:$L$24, MATCH($A115, Input_Details!$J$5:$J$24, 0), 0)","v":"Northbound"},"Tues","03:45:00",1,1,0,0,1,0,0,0,0,0,0,0,0,1,1,0,0,0,1,0,0,0,0,0,0,0,0,0,0,0,0,0,22,"-",14.6,36.4,null,"Tues","03:45:00",1,8,0,0,2,0,0,0,0,0,0,0,0,2,2,4,2,0,1,0,0,0,0,0,0,0,0,0,0,0,0,0,21.781818181818181,"-",14.6,36.4,0,7,0,1,0,8,1,1,0,1,0,3,1,8,0,2,0,11]
[1,{"$f":"OFFSET(Input_Details!$Q$4,MATCH($A116, Input_Details!$J$5:$J$24, 0), 1)","v":"2017-04-25"},{"$f":"INDEX(Input_Details!$H$5:$H$24, MATCH($A116, Input_Details!$J$5:$J$24, 0), 0)","v":"Harper Road (South of Falmouth Road)"},{"$f":"INDEX(Input_Details!$I$5:$I$24, MATCH($A116, Input_Details!$J$5:$J$24, 0), 0)","v":"51.49617, -0.09302"},{"$f":"INDEX(Input_Details!$K$5:$K$24, MATCH($A116, Input_Details!$J$5:$J$24, 0), 0)","v":"Southbound"},"Tues","04:00:00",0,2,0,0,2,0,0,0,0,0,0,0,0,0,1,3,0,0,0,0,0,0,0,0,0,0,0,0,0,0,0,0,20.9,"-",20,22.6,{"$f":"INDEX(Input_Details!$L$5:$L$24, MATCH($A116, Input_Details!$J$5:$J$24, 0), 0)","v":"Northbound"},"Tues","04:00:00",0,2,0,0,0,0,0,0,0,0,0,0,0,0,1,1,0,0,0,0,0,0,0,0,0,0,0,0,0,0,0,0,20.9,"-",19.399999999999999,22.5,null,"Tues","04:00:00",0,4,0,0,2,0,0,0,0,0,0,0,0,0,2,4,0,0,0,0,0,0,0,0,0,0,0,0,0,0,0,0,20.9,"-",19.399999999999999,22.6,0,2,0,2,0,4,0,2,0,0,0,2,0,4,0,2,0,6]
[1,{"$f":"OFFSET(Input_Details!$Q$4,MATCH($A117, Input_Details!$J$5:$J$24, 0), 1)","v":"2017-04-25"},{"$f":"INDEX(Input_Details!$H$5:$H$24, MATCH($A117, Input_Details!$J$5:$J$24, 0), 0)","v":"Harper Road (South of Falmouth Road)"},{"$f":"INDEX(Input_Details!$I$5:$I$24, MATCH($A117, Input_Details!$J$5:$J$24, 0), 0)","v":"51.49617, -0.09302"},{"$f":"INDEX(Input_Details!$K$5:$K$24, MATCH($A117, Input_Details!$J$5:$J$24, 0), 0)","v":"Southbound"},"Tues","04:15:00",0,8,0,0,1,0,0,0,0,0,0,0,0,0,1,6,2,0,0,0,0,0,0,0,0,0,0,0,0,0,0,0,22.7,"-",16.8,29.4,{"$f":"INDEX(Input_Details!$L$5:$L$24, MATCH($A117, Input_Details!$J$5:$J$24, 0), 0)","v":"Northbound"},"Tues","04:15:00",0,1,0,0,0,0,0,0,0,0,0,0,0,1,0,0,0,0,0,0,0,0,0,0,0,0,0,0,0,0,0,0,14.4,"-",14.4,14.4,null,"Tues","04:15:00",0,9,0,0,1,0,0,0,0,0,0,0,0,1,1,6,2,0,0,0,0,0,0,0,0,0,0,0,0,0,0,0,21.869999999999997,"-",14.4,29.4,0,8,0,1,0,9,0,1,0,0,0,1,0,9,0,1,0,10]
[1,{"$f":"OFFSET(Input_Details!$Q$4,MATCH($A118, Input_Details!$J$5:$J$24, 0), 1)","v":"2017-04-25"},{"$f":"INDEX(Input_Details!$H$5:$H$24, MATCH($A118, Input_Details!$J$5:$J$24, 0), 0)","v":"Harper Road (South of Falmouth Road)"},{"$f":"INDEX(Input_Details!$I$5:$I$24, MATCH($A118, Input_Details!$J$5:$J$24, 0), 0)","v":"51.49617, -0.09302"},{"$f":"INDEX(Input_Details!$K$5:$K$24, MATCH($A118, Input_Details!$J$5:$J$24, 0), 0)","v":"Southbound"},"Tues","04:30:00",0,9,0,1,0,0,0,0,0,0,0,0,0,1,6,3,0,0,0,0,0,0,0,0,0,0,0,0,0,0,0,0,17.7,"-",11.9,22.1,{"$f":"INDEX(Input_Details!$L$5:$L$24, MATCH($A118, Input_Details!$J$5:$J$24, 0), 0)","v":"Northbound"},"Tues","04:30:00",0,1,0,0,0,0,0,0,0,0,0,0,0,0,1,0,0,0,0,0,0,0,0,0,0,0,0,0,0,0,0,0,18.5,"-",18.5,18.5,null,"Tues","04:30:00",0,10,0,1,0,0,0,0,0,0,0,0,0,1,7,3,0,0,0,0,0,0,0,0,0,0,0,0,0,0,0,0,17.772727272727273,"-",11.9,22.1,0,9,1,0,0,10,0,1,0,0,0,1,0,10,1,0,0,11]
[1,{"$f":"OFFSET(Input_Details!$Q$4,MATCH($A119, Input_Details!$J$5:$J$24, 0), 1)","v":"2017-04-25"},{"$f":"INDEX(Input_Details!$H$5:$H$24, MATCH($A119, Input_Details!$J$5:$J$24, 0), 0)","v":"Harper Road (South of Falmouth Road)"},{"$f":"INDEX(Input_Details!$I$5:$I$24, MATCH($A119, Input_Details!$J$5:$J$24, 0), 0)","v":"51.49617, -0.09302"},{"$f":"INDEX(Input_Details!$K$5:$K$24, MATCH($A119, Input_Details!$J$5:$J$24, 0), 0)","v":"Southbound"},"Tues","04:45:00",0,9,0,0,0,0,0,0,0,0,0,0,0,0,6,3,0,0,0,0,0,0,0,0,0,0,0,0,0,0,0,0,18.899999999999999,"-",16.600000000000001,21.1,{"$f":"INDEX(Input_Details!$L$5:$L$24, MATCH($A119, Input_Details!$J$5:$J$24, 0), 0)","v":"Northbound"},"Tues","04:45:00",2,3,0,0,0,0,0,0,0,0,0,0,0,2,3,0,0,0,0,0,0,0,0,0,0,0,0,0,0,0,0,0,15.2,"-",11.6,17.100000000000001,null,"Tues","04:45:00",2,12,0,0,0,0,0,0,0,0,0,0,0,2,9,3,0,0,0,0,0,0,0,0,0,0,0,0,0,0,0,0,17.578571428571429,"-",11.6,21.1,0,9,0,0,0,9,2,3,0,0,0,5,2,12,0,0,0,14]
[1,{"$f":"OFFSET(Input_Details!$Q$4,MATCH($A120, Input_Details!$J$5:$J$24, 0), 1)","v":"2017-04-25"},{"$f":"INDEX(Input_Details!$H$5:$H$24, MATCH($A120, Input_Details!$J$5:$J$24, 0), 0)","v":"Harper Road (South of Falmouth Road)"},{"$f":"INDEX(Input_Details!$I$5:$I$24, MATCH($A120, Input_Details!$J$5:$J$24, 0), 0)","v":"51.49617, -0.09302"},{"$f":"INDEX(Input_Details!$K$5:$K$24, MATCH($A120, Input_Details!$J$5:$J$24, 0), 0)","v":"Southbound"},"Tues","05:00:00",1,7,0,1,1,0,0,0,0,0,0,0,0,0,4,5,0,1,0,0,0,0,0,0,0,0,0,0,0,0,0,0,21.8,"-",17.399999999999999,33.5,{"$f":"INDEX(Input_Details!$L$5:$L$24, MATCH($A120, Input_Details!$J$5:$J$24, 0), 0)","v":"Northbound"},"Tues","05:00:00",1,3,0,0,0,0,0,0,0,0,0,0,0,4,0,0,0,0,0,0,0,0,0,0,0,0,0,0,0,0,0,0,14.1,"-",13.9,14.1,null,"Tues","05:00:00",2,10,0,1,1,0,0,0,0,0,0,0,0,4,4,5,0,1,0,0,0,0,0,0,0,0,0,0,0,0,0,0,19.599999999999998,"-",13.9,33.5,1,7,1,1,0,10,1,3,0,0,0,4,2,10,1,1,0,14]
[1,{"$f":"OFFSET(Input_Details!$Q$4,MATCH($A121, Input_Details!$J$5:$J$24, 0), 1)","v":"2017-04-25"},{"$f":"INDEX(Input_Details!$H$5:$H$24, MATCH($A121, Input_Details!$J$5:$J$24, 0), 0)","v":"Harper Road (South of Falmouth Road)"},{"$f":"INDEX(Input_Details!$I$5:$I$24, MATCH($A121, Input_Details!$J$5:$J$24, 0), 0)","v":"51.49617, -0.09302"},{"$f":"INDEX(Input_Details!$K$5:$K$24, MATCH($A121, Input_Details!$J$5:$J$24, 0), 0)","v":"Southbound"},"Tues","05:15:00",1,10,0,0,0,0,0,0,0,0,0,0,0,2,3,5,0,1,0,0,0,0,0,0,0,0,0,0,0,0,0,0,19.600000000000001,21.3,13.3,30.7,{"$f":"INDEX(Input_Details!$L$5:$L$24, MATCH($A121, Input_Details!$J$5:$J$24, 0), 0)","v":"Northbound"},"Tues","05:15:00",0,1,0,0,0,0,0,0,0,0,0,0,0,1,0,0,0,0,0,0,0,0,0,0,0,0,0,0,0,0,0,0,14.1,"-",14.1,14.1,null,"Tues","05:15:00",1,11,0,0,0,0,0,0,0,0,0,0,0,3,3,5,0,1,0,0,0,0,0,0,0,0,0,0,0,0,0,0,19.141666666666669,21.3,13.3,30.7,1,10,0,0,0,11,0,1,0,0,0,1,1,11,0,0,0,12]
[1,{"$f":"OFFSET(Input_Details!$Q$4,MATCH($A122, Input_Details!$J$5:$J$24, 0), 1)","v":"2017-04-25"},{"$f":"INDEX(Input_Details!$H$5:$H$24, MATCH($A122, Input_Details!$J$5:$J$24, 0), 0)","v":"Harper Road (South of Falmouth Road)"},{"$f":"INDEX(Input_Details!$I$5:$I$24, MATCH($A122, Input_Details!$J$5:$J$24, 0), 0)","v":"51.49617, -0.09302"},{"$f":"INDEX(Input_Details!$K$5:$K$24, MATCH($A122, Input_Details!$J$5:$J$24, 0), 0)","v":"Southbound"},"Tues","05:30:00",1,10,0,0,1,0,0,0,0,0,0,0,0,0,4,5,2,1,0,0,0,0,0,0,0,0,0,0,0,0,0,0,21.9,26.2,15.1,31.7,{"$f":"INDEX(Input_Details!$L$5:$L$24, MATCH($A122, Input_Details!$J$5:$J$24, 0), 0)","v":"Northbound"},"Tues","05:30:00",1,4,0,0,1,0,0,0,0,0,0,0,0,1,1,2,2,0,0,0,0,0,0,0,0,0,0,0,0,0,0,0,22.2,"-",14.1,29,null,"Tues","05:30:00",2,14,0,0,2,0,0,0,0,0,0,0,0,1,5,7,4,1,0,0,0,0,0,0,0,0,0,0,0,0,0,0,21.999999999999996,26.2,14.1,31.7,1,10,0,1,0,12,1,4,0,1,0,6,2,14,0,2,0,18]
[1,{"$f":"OFFSET(Input_Details!$Q$4,MATCH($A123, Input_Details!$J$5:$J$24, 0), 1)","v":"2017-04-25"},{"$f":"INDEX(Input_Details!$H$5:$H$24, MATCH($A123, Input_Details!$J$5:$J$24, 0), 0)","v":"Harper Road (South of Falmouth Road)"},{"$f":"INDEX(Input_Details!$I$5:$I$24, MATCH($A123, Input_Details!$J$5:$J$24, 0), 0)","v":"51.49617, -0.09302"},{"$f":"INDEX(Input_Details!$K$5:$K$24, MATCH($A123, Input_Details!$J$5:$J$24, 0), 0)","v":"Southbound"},"Tues","05:45:00",0,15,0,1,1,0,0,0,0,0,0,0,0,0,1,9,7,0,0,0,0,0,0,0,0,0,0,0,0,0,0,0,24.1,26.2,18.8,28,{"$f":"INDEX(Input_Details!$L$5:$L$24, MATCH($A123, Input_Details!$J$5:$J$24, 0), 0)","v":"Northbound"},"Tues","05:45:00",2,8,0,0,1,0,0,0,0,0,0,0,0,1,4,5,1,0,0,0,0,0,0,0,0,0,0,0,0,0,0,0,20.7,23.3,11,26.8,null,"Tues","05:45:00",2,23,0,1,2,0,0,0,0,0,0,0,0,1,5,14,8,0,0,0,0,0,0,0,0,0,0,0,0,0,0,0,22.764285714285716,24.75,11,28,0,15,1,1,0,17,2,8,0,1,0,11,2,23,1,2,0,28]
[1,{"$f":"OFFSET(Input_Details!$Q$4,MATCH($A124, Input_Details!$J$5:$J$24, 0), 1)","v":"2017-04-25"},{"$f":"INDEX(Input_Details!$H$5:$H$24, MATCH($A124, Input_Details!$J$5:$J$24, 0), 0)","v":"Harper Road (South of Falmouth Road)"},{"$f":"INDEX(Input_Details!$I$5:$I$24, MATCH($A124, Input_Details!$J$5:$J$24, 0), 0)","v":"51.49617, -0.09302"},{"$f":"INDEX(Input_Details!$K$5:$K$24, MATCH($A124, Input_Details!$J$5:$J$24, 0), 0)","v":"Southbound"},"Tues","06:00:00",0,18,0,2,2,0,0,0,0,0,0,0,0,0,3,12,6,0,1,0,0,0,0,0,0,0,0,0,0,0,0,0,23.4,25.3,18,37.4,{"$f":"INDEX(Input_Details!$L$5:$L$24, MATCH($A124, Input_Details!$J$5:$J$24, 0), 0)","v":"Northbound"},"Tues","06:00:00",2,7,0,0,1,0,0,0,0,0,0,0,0,4,3,2,1,0,0,0,0,0,0,0,0,0,0,0,0,0,0,0,17.5,"-",10.7,25.2,null,"Tues","06:00:00",2,25,0,2,3,0,0,0,0,0,0,0,0,4,6,14,7,0,1,0,0,0,0,0,0,0,0,0,0,0,0,0,21.556249999999999,25.3,10.7,37.4,0,18,2,2,0,22,2,7,0,1,0,10,2,25,2,3,0,32]
[1,{"$f":"OFFSET(Input_Details!$Q$4,MATCH($A125, Input_Details!$J$5:$J$24, 0), 1)","v":"2017-04-25"},{"$f":"INDEX(Input_Details!$H$5:$H$24, MATCH($A125, Input_Details!$J$5:$J$24, 0), 0)","v":"Harper Road (South of Falmouth Road)"},{"$f":"INDEX(Input_Details!$I$5:$I$24, MATCH($A125, Input_Details!$J$5:$J$24, 0), 0)","v":"51.49617, -0.09302"},{"$f":"INDEX(Input_Details!$K$5:$K$24, MATCH($A125, Input_Details!$J$5:$J$24, 0), 0)","v":"Southbound"},"Tues","06:15:00",2,20,0,1,3,0,0,0,1,0,0,0,0,0,4,9,11,3,0,0,0,0,0,0,0,0,0,0,0,0,0,0,24.7,29.1,17.100000000000001,32.4,{"$f":"INDEX(Input_Details!$L$5:$L$24, MATCH($A125, Input_Details!$J$5:$J$24, 0), 0)","v":"Northbound"},"Tues","06:15:00",4,11,0,0,1,0,0,0,0,0,0,0,0,6,6,1,2,0,1,0,0,0,0,0,0,0,0,0,0,0,0,0,18.5,27.5,11.1,37.299999999999997,null,"Tues","06:15:00",6,31,0,1,4,0,0,0,1,0,0,0,0,6,10,10,13,3,1,0,0,0,0,0,0,0,0,0,0,0,0,0,22.393023255813954,28.3,11.1,37.299999999999997,2,20,1,3,1,27,4,11,0,1,0,16,6,31,1,4,1,43]
[1,{"$f":"OFFSET(Input_Details!$Q$4,MATCH($A126, Input_Details!$J$5:$J$24, 0), 1)","v":"2017-04-25"},{"$f":"INDEX(Input_Details!$H$5:$H$24, MATCH($A126, Input_Details!$J$5:$J$24, 0), 0)","v":"Harper Road (South of Falmouth Road)"},{"$f":"INDEX(Input_Details!$I$5:$I$24, MATCH($A126, Input_Details!$J$5:$J$24, 0), 0)","v":"51.49617, -0.09302"},{"$f":"INDEX(Input_Details!$K$5:$K$24, MATCH($A126, Input_Details!$J$5:$J$24, 0), 0)","v":"Southbound"},"Tues","06:30:00",1,26,0,5,4,0,0,0,0,1,0,0,0,1,14,18,4,0,0,0,0,0,0,0,0,0,0,0,0,0,0,0,21,24.4,14,28.1,{"$f":"INDEX(Input_Details!$L$5:$L$24, MATCH($A126, Input_Details!$J$5:$J$24, 0), 0)","v":"Northbound"},"Tues","06:30:00",3,11,0,0,0,0,0,0,0,0,0,0,0,1,3,8,2,0,0,0,0,0,0,0,0,0,0,0,0,0,0,0,21.7,24.6,12.9,26,null,"Tues","06:30:00",4,37,0,5,4,0,0,0,0,1,0,0,0,2,17,26,6,0,0,0,0,0,0,0,0,0,0,0,0,0,0,0,21.192156862745097,24.5,12.9,28.1,1,26,5,4,1,37,3,11,0,0,0,14,4,37,5,4,1,51]
[1,{"$f":"OFFSET(Input_Details!$Q$4,MATCH($A127, Input_Details!$J$5:$J$24, 0), 1)","v":"2017-04-25"},{"$f":"INDEX(Input_Details!$H$5:$H$24, MATCH($A127, Input_Details!$J$5:$J$24, 0), 0)","v":"Harper Road (South of Falmouth Road)"},{"$f":"INDEX(Input_Details!$I$5:$I$24, MATCH($A127, Input_Details!$J$5:$J$24, 0), 0)","v":"51.49617, -0.09302"},{"$f":"INDEX(Input_Details!$K$5:$K$24, MATCH($A127, Input_Details!$J$5:$J$24, 0), 0)","v":"Southbound"},"Tues","06:45:00",2,30,1,1,3,1,0,0,0,0,0,0,0,1,10,15,11,0,1,0,0,0,0,0,0,0,0,0,0,0,0,0,22.8,26.6,13.8,36.299999999999997,{"$f":"INDEX(Input_Details!$L$5:$L$24, MATCH($A127, Input_Details!$J$5:$J$24, 0), 0)","v":"Northbound"},"Tues","06:45:00",5,11,0,2,0,0,0,0,0,0,0,0,0,1,7,5,5,0,0,0,0,0,0,0,0,0,0,0,0,0,0,0,20.8,25.9,13.1,29.9,null,"Tues","06:45:00",7,41,1,3,3,1,0,0,0,0,0,0,0,2,17,20,16,0,1,0,0,0,0,0,0,0,0,0,0,0,0,0,22.157142857142855,26.25,13.1,36.299999999999997,2,31,1,3,1,38,5,11,2,0,0,18,7,42,3,3,1,56]
[1,{"$f":"OFFSET(Input_Details!$Q$4,MATCH($A128, Input_Details!$J$5:$J$24, 0), 1)","v":"2017-04-25"},{"$f":"INDEX(Input_Details!$H$5:$H$24, MATCH($A128, Input_Details!$J$5:$J$24, 0), 0)","v":"Harper Road (South of Falmouth Road)"},{"$f":"INDEX(Input_Details!$I$5:$I$24, MATCH($A128, Input_Details!$J$5:$J$24, 0), 0)","v":"51.49617, -0.09302"},{"$f":"INDEX(Input_Details!$K$5:$K$24, MATCH($A128, Input_Details!$J$5:$J$24, 0), 0)","v":"Southbound"},"Tues","07:00:00",4,16,0,0,1,0,0,0,0,0,0,0,0,2,4,5,9,1,0,0,0,0,0,0,0,0,0,0,0,0,0,0,23.4,27.5,10.9,32.5,{"$f":"INDEX(Input_Details!$L$5:$L$24, MATCH($A128, Input_Details!$J$5:$J$24, 0), 0)","v":"Northbound"},"Tues","07:00:00",5,4,0,0,1,0,0,0,0,0,0,0,0,7,1,0,2,0,0,0,0,0,0,0,0,0,0,0,0,0,0,0,15.6,"-",10.6,25.8,null,"Tues","07:00:00",9,20,0,0,2,0,0,0,0,0,0,0,0,9,5,5,11,1,0,0,0,0,0,0,0,0,0,0,0,0,0,0,20.883870967741935,27.5,10.6,32.5,4,16,0,1,0,21,5,4,0,1,0,10,9,20,0,2,0,31]
[1,{"$f":"OFFSET(Input_Details!$Q$4,MATCH($A129, Input_Details!$J$5:$J$24, 0), 1)","v":"2017-04-25"},{"$f":"INDEX(Input_Details!$H$5:$H$24, MATCH($A129, Input_Details!$J$5:$J$24, 0), 0)","v":"Harper Road (South of Falmouth Road)"},{"$f":"INDEX(Input_Details!$I$5:$I$24, MATCH($A129, Input_Details!$J$5:$J$24, 0), 0)","v":"51.49617, -0.09302"},{"$f":"INDEX(Input_Details!$K$5:$K$24, MATCH($A129, Input_Details!$J$5:$J$24, 0), 0)","v":"Southbound"},"Tues","07:15:00",2,21,0,1,0,0,0,0,0,0,0,0,1,1,13,9,0,0,0,0,0,0,0,0,0,0,0,0,0,0,0,0,18.600000000000001,21.3,4.3,24.9,{"$f":"INDEX(Input_Details!$L$5:$L$24, MATCH($A129, Input_Details!$J$5:$J$24, 0), 0)","v":"Northbound"},"Tues","07:15:00",5,10,0,0,1,0,0,0,0,0,0,0,0,2,7,5,2,0,0,0,0,0,0,0,0,0,0,0,0,0,0,0,19.5,23,12.3,26.5,null,"Tues","07:15:00",7,31,0,1,1,0,0,0,0,0,0,0,1,3,20,14,2,0,0,0,0,0,0,0,0,0,0,0,0,0,0,0,18.96,22.15,4.3,26.5,2,21,1,0,0,24,5,10,0,1,0,16,7,31,1,1,0,40]
[1,{"$f":"OFFSET(Input_Details!$Q$4,MATCH($A130, Input_Details!$J$5:$J$24, 0), 1)","v":"2017-04-25"},{"$f":"INDEX(Input_Details!$H$5:$H$24, MATCH($A130, Input_Details!$J$5:$J$24, 0), 0)","v":"Harper Road (South of Falmouth Road)"},{"$f":"INDEX(Input_Details!$I$5:$I$24, MATCH($A130, Input_Details!$J$5:$J$24, 0), 0)","v":"51.49617, -0.09302"},{"$f":"INDEX(Input_Details!$K$5:$K$24, MATCH($A130, Input_Details!$J$5:$J$24, 0), 0)","v":"Southbound"},"Tues","07:30:00",5,24,0,2,6,0,0,0,0,0,0,0,0,1,22,12,2,0,0,0,0,0,0,0,0,0,0,0,0,0,0,0,19.5,22.6,12.6,28.4,{"$f":"INDEX(Input_Details!$L$5:$L$24, MATCH($A130, Input_Details!$J$5:$J$24, 0), 0)","v":"Northbound"},"Tues","07:30:00",10,11,0,0,1,0,0,0,0,0,0,0,3,11,6,2,0,0,0,0,0,0,0,0,0,0,0,0,0,0,0,0,14.3,19,9.5,23.3,null,"Tues","07:30:00",15,35,0,2,7,0,0,0,0,0,0,0,3,12,28,14,2,0,0,0,0,0,0,0,0,0,0,0,0,0,0,0,17.561016949152542,20.8,9.5,28.4,5,24,2,6,0,37,10,11,0,1,0,22,15,35,2,7,0,59]
[1,{"$f":"OFFSET(Input_Details!$Q$4,MATCH($A131, Input_Details!$J$5:$J$24, 0), 1)","v":"2017-04-25"},{"$f":"INDEX(Input_Details!$H$5:$H$24, MATCH($A131, Input_Details!$J$5:$J$24, 0), 0)","v":"Harper Road (South of Falmouth Road)"},{"$f":"INDEX(Input_Details!$I$5:$I$24, MATCH($A131, Input_Details!$J$5:$J$24, 0), 0)","v":"51.49617, -0.09302"},{"$f":"INDEX(Input_Details!$K$5:$K$24, MATCH($A131, Input_Details!$J$5:$J$24, 0), 0)","v":"Southbound"},"Tues","07:45:00",7,29,1,2,3,1,0,0,0,0,0,0,0,6,19,16,2,0,0,0,0,0,0,0,0,0,0,0,0,0,0,0,18.899999999999999,23,11.2,26.4,{"$f":"INDEX(Input_Details!$L$5:$L$24, MATCH($A131, Input_Details!$J$5:$J$24, 0), 0)","v":"Northbound"},"Tues","07:45:00",7,17,0,0,0,0,0,0,0,0,0,0,2,8,9,4,0,1,0,0,0,0,0,0,0,0,0,0,0,0,0,0,16.600000000000001,20.6,9.1999999999999993,30.5,null,"Tues","07:45:00",14,46,1,2,3,1,0,0,0,0,0,0,2,14,28,20,2,1,0,0,0,0,0,0,0,0,0,0,0,0,0,0,18.076119402985075,21.8,9.1999999999999993,30.5,7,30,2,3,1,43,7,17,0,0,0,24,14,47,2,3,1,67]
[1,{"$f":"OFFSET(Input_Details!$Q$4,MATCH($A132, Input_Details!$J$5:$J$24, 0), 1)","v":"2017-04-25"},{"$f":"INDEX(Input_Details!$H$5:$H$24, MATCH($A132, Input_Details!$J$5:$J$24, 0), 0)","v":"Harper Road (South of Falmouth Road)"},{"$f":"INDEX(Input_Details!$I$5:$I$24, MATCH($A132, Input_Details!$J$5:$J$24, 0), 0)","v":"51.49617, -0.09302"},{"$f":"INDEX(Input_Details!$K$5:$K$24, MATCH($A132, Input_Details!$J$5:$J$24, 0), 0)","v":"Southbound"},"Tues","08:00:00",3,33,0,3,2,0,0,0,0,0,0,0,0,0,21,19,1,0,0,0,0,0,0,0,0,0,0,0,0,0,0,0,20.100000000000001,22.1,15.2,26.9,{"$f":"INDEX(Input_Details!$L$5:$L$24, MATCH($A132, Input_Details!$J$5:$J$24, 0), 0)","v":"Northbound"},"Tues","08:00:00",5,16,0,0,0,0,0,0,0,0,0,0,2,6,12,0,1,0,0,0,0,0,0,0,0,0,0,0,0,0,0,0,15.2,16.600000000000001,9.1,25.6,null,"Tues","08:00:00",8,{"$f":"IF(OR(I132=\"\", AV132=\"\"), \"-\",SUM(I132+AV132))","v":49},{"$f":"IF(OR(J132=\"\", AW132=\"\"), \"-\",SUM(J132+AW132))","v":0},{"$f":"IF(OR(K132=\"\", AX132=\"\"), \"-\",SUM(K132+AX132))","v":3},{"$f":"IF(OR(L132=\"\", AY132=\"\"), \"-\",SUM(L132+AY132))","v":2},{"$f":"IF(OR(M132=\"\", AZ132=\"\"), \"-\",SUM(M132+AZ132))","v":0},{"$f":"IF(OR(N132=\"\", BA132=\"\"), \"-\",SUM(N132+BA132))","v":0},{"$f":"IF(OR(O132=\"\", BB132=\"\"), \"-\",SUM(O132+BB132))","v":0},{"$f":"IF(OR(P132=\"\", BC132=\"\"), \"-\",SUM(P132+BC132))","v":0},{"$f":"IF(OR(Q132=\"\", BD132=\"\"), \"-\",SUM(Q132+BD132))","v":0},{"$f":"IF(OR(R132=\"\", BE132=\"\"), \"-\",SUM(R132+BE132))","v":0},{"$f":"IF(OR(S132=\"\", BF132=\"\"), \"-\",SUM(S132+BF132))","v":0},{"$f":"IF(OR(T132=\"\", BG132=\"\"), \"-\",SUM(T132+BG132))","v":2},{"$f":"IF(OR(U132=\"\", BH132=\"\"), \"-\",SUM(U132+BH132))","v":6},{"$f":"IF(OR(V132=\"\", BI132=\"\"), \"-\",SUM(V132+BI132))","v":33},{"$f":"IF(OR(W132=\"\", BJ132=\"\"), \"-\",SUM(W132+BJ132))","v":19},{"$f":"IF(OR(X132=\"\", BK132=\"\"), \"-\",SUM(X132+BK132))","v":2},{"$f":"IF(OR(Y132=\"\", BL132=\"\"), \"-\",SUM(Y132+BL132))","v":0},{"$f":"IF(OR(Z132=\"\", BM132=\"\"), \"-\",SUM(Z132+BM132))","v":0},{"$f":"IF(OR(AA132=\"\", BN132=\"\"), \"-\",SUM(AA132+BN132))","v":0},{"$f":"IF(OR(AB132=\"\", BO132=\"\"), \"-\",SUM(AB132+BO132))","v":0},{"$f":"IF(OR(AC132=\"\", BP132=\"\"), \"-\",SUM(AC132+BP132))","v":0},{"$f":"IF(OR(AD132=\"\", BQ132=\"\"), \"-\",SUM(AD132+BQ132))","v":0},{"$f":"IF(OR(AE132=\"\", BR132=\"\"), \"-\",SUM(AE132+BR132))","v":0},{"$f":"IF(OR(AF132=\"\", BS132=\"\"), \"-\",SUM(AF132+BS132))","v":0},{"$f":"IF(OR(AG132=\"\", BT132=\"\"), \"-\",SUM(AG132+BT132))","v":0},{"$f":"IF(OR(AH132=\"\", BU132=\"\"), \"-\",SUM(AH132+BU132))","v":0},{"$f":"IF(OR(AI132=\"\", BV132=\"\"), \"-\",SUM(AI132+BV132))","v":0},{"$f":"IF(OR(AJ132=\"\", BW132=\"\"), \"-\",SUM(AJ132+BW132))","v":0},{"$f":"IF(OR(AK132=\"\", BX132=\"\"), \"-\",SUM(AK132+BX132))","v":0},{"$f":"IF(OR(AL132=\"\", BY132=\"\"), \"-\",SUM(AL132+BY132))","v":0},{"$f":"IF(OR(AM132=\"\", BZ132=\"\"), \"-\",SUM(AM132+BZ132))","v":0},18.440322580645162,19.350000000000001,9.1,26.9,{"$f":"IF(H132=\"\", \"-\", H132)","v":3},{"$f":"IF(DR132=\"-\", \"-\", SUM(I132:J132))","v":33},{"$f":"IF(DR132=\"-\", \"-\", K132)","v":3},{"$f":"IF(DR132=\"-\", \"-\", L132)","v":2},{"$f":"IF(DR132=\"-\", \"-\", SUM(M132:S132))","v":0},{"$f":"IF(DR132=\"-\", \"-\", SUM(H132:S132))","v":41},5,16,0,0,0,21,8,{"$f":"IF(OR(DS132=\"-\", DY132=\"-\"), \"-\", SUM(DS132,DY132))","v":49},{"$f":"IF(OR(DT132=\"-\", DZ132=\"-\"), \"-\", SUM(DT132,DZ132))","v":3},{"$f":"IF(OR(DU132=\"-\", EA132=\"-\"), \"-\", SUM(DU132,EA132))","v":2},{"$f":"IF(OR(DV132=\"-\", EB132=\"-\"), \"-\", SUM(DV132,EB132))","v":0},{"$f":"IF(OR(DW132=\"-\", EC132=\"-\"), \"-\", SUM(DW132,EC132))","v":62}]
[{"$f":"A132","v":1},{"$f":"OFFSET(Input_Details!$Q$4,MATCH($A133, Input_Details!$J$5:$J$24, 0), 1)","v":"2017-04-25"},{"$f":"INDEX(Input_Details!$H$5:$H$24, MATCH($A133, Input_Details!$J$5:$J$24, 0), 0)","v":"Harper Road (South of Falmouth Road)"},{"$f":"INDEX(Input_Details!$I$5:$I$24, MATCH($A133, Input_Details!$J$5:$J$24, 0), 0)","v":"51.49617, -0.09302"},{"$f":"INDEX(Input_Details!$K$5:$K$24, MATCH($A133, Input_Details!$J$5:$J$24, 0), 0)","v":"Southbound"},"Tues","08:15:00",1,34,1,0,3,0,0,0,0,0,0,0,0,7,19,12,1,0,0,0,0,0,0,0,0,0,0,0,0,0,0,0,18.3,21.9,12.7,27.8,{"$f":"INDEX(Input_Details!$L$5:$L$24, MATCH($A133, Input_Details!$J$5:$J$24, 0), 0)","v":"Northbound"},"Tues","08:15:00",15,15,0,1,1,0,0,1,0,0,0,0,2,18,10,2,1,0,0,0,0,0,0,0,0,0,0,0,0,0,0,0,14.6,16.8,7.2,29.1,null,"Tues","08:15:00",{"$f":"IF(OR(H133=\"\", AU133=\"\"), \"-\",SUM(H133+AU133))","v":16},49,1,1,4,0,0,1,0,0,0,0,2,25,29,14,2,0,0,0,0,0,0,0,0,0,0,0,0,0,0,0,{"$f":"IF(OR(DW133=\"-\", EC133=\"-\", EI133=\"-\", EI133=0),\"-\",IF(OR(DW133=\"-\", DW133=0),CA133,IF(EC133=0,AN133,SUM((AN133*DW133),(CA133*EC133))/EI133)))","v":16.604166666666668},{"$f":"IFERROR(IF(OR(DW133=\"-\", EC133=\"-\", EI133=\"-\", EI133=0), \"-\", IF(AO133=\"-\", CB133, AVERAGE(AO133,CB133))), \"-\")","v":19.350000000000001},{"$f":"IF(OR(DW133=\"-\", EC133=\"-\",EI133=\"-\", EI133=0),\"-\",MIN(AP133,CC133))","v":7.2},{"$f":"IF(OR(DW133=\"-\", EC133=\"-\",EI133=\"-\", EI133=0),\"-\",MAX(AQ133,CD133))","v":29.1},1,35,0,3,0,39,{"$f":"IF(AU133=\"\", \"-\", AU133)","v":15},{"$f":"IF(DX133=\"-\", \"-\", SUM(AV133:AW133))","v":15},{"$f":"IF(DX133=\"-\", \"-\", AX133)","v":1},{"$f":"IF(DX133=\"-\", \"-\", AY133)","v":1},{"$f":"IF(DX133=\"-\", \"-\", SUM(AZ133:BF133))","v":1},{"$f":"IF(DX133=\"-\", \"-\", SUM(AU133:BF133))","v":33},{"$f":"IF(OR(DR133=\"-\", DX133=\"-\"), \"-\", SUM(DR133,DX133))","v":16},50,1,4,1,72]
[1,{"$f":"OFFSET(Input_Details!$Q$4,MATCH($A134, Input_Details!$J$5:$J$24, 0), 1)","v":"2017-04-25"},{"$f":"INDEX(Input_Details!$H$5:$H$24, MATCH($A134, Input_Details!$J$5:$J$24, 0), 0)","v":"Harper Road (South of Falmouth Road)"},{"$f":"INDEX(Input_Details!$I$5:$I$24, MATCH($A134, Input_Details!$J$5:$J$24, 0), 0)","v":"51.49617, -0.09302"},{"$f":"INDEX(Input_Details!$K$5:$K$24, MATCH($A134, Input_Details!$J$5:$J$24, 0), 0)","v":"Southbound"},"Tues","08:30:00",3,27,0,2,2,0,0,0,0,0,0,0,0,0,23,9,2,0,0,0,0,0,0,0,0,0,0,0,0,0,0,0,19.5,21.9,15.2,27.4,{"$f":"INDEX(Input_Details!$L$5:$L$24, MATCH($A134, Input_Details!$J$5:$J$24, 0), 0)","v":"Northbound"},"Tues","08:30:00",13,14,0,1,2,0,0,0,0,0,0,0,1,11,16,1,0,1,0,0,0,0,0,0,0,0,0,0,0,0,0,0,16.100000000000001,19,9.8000000000000007,34.1,null,"Tues","08:30:00",16,41,0,3,4,0,0,0,0,0,0,0,1,11,39,10,2,1,0,0,0,0,0,0,0,0,0,0,0,0,0,0,17.90625,20.45,9.8000000000000007,34.1,3,27,2,2,0,34,13,14,1,2,0,30,16,41,3,4,0,64]
[1,{"$f":"OFFSET(Input_Details!$Q$4,MATCH($A135, Input_Details!$J$5:$J$24, 0), 1)","v":"2017-04-25"},{"$f":"INDEX(Input_Details!$H$5:$H$24, MATCH($A135, Input_Details!$J$5:$J$24, 0), 0)","v":"Harper Road (South of Falmouth Road)"},{"$f":"INDEX(Input_Details!$I$5:$I$24, MATCH($A135, Input_Details!$J$5:$J$24, 0), 0)","v":"51.49617, -0.09302"},{"$f":"INDEX(Input_Details!$K$5:$K$24, MATCH($A135, Input_Details!$J$5:$J$24, 0), 0)","v":"Southbound"},"Tues","08:45:00",4,30,0,2,2,1,0,0,0,1,0,0,0,3,17,15,4,1,0,0,0,0,0,0,0,0,0,0,0,0,0,0,20.3,23.7,11.4,33.9,{"$f":"INDEX(Input_Details!$L$5:$L$24, MATCH($A135, Input_Details!$J$5:$J$24, 0), 0)","v":"Northbound"},"Tues","08:45:00",17,13,0,0,1,1,0,0,0,0,0,0,2,21,6,1,1,1,0,0,0,0,0,0,0,0,0,0,0,0,0,0,14.4,15.7,8.8000000000000007,32.200000000000003,null,"Tues","08:45:00",21,43,0,2,3,2,0,0,0,1,0,0,2,24,23,16,5,2,0,0,0,0,0,0,0,0,0,0,0,0,0,0,17.677777777777777,19.7,8.8000000000000007,33.9,4,30,2,2,2,40,17,13,0,1,1,32,21,43,2,3,3,72]
[1,{"$f":"OFFSET(Input_Details!$Q$4,MATCH($A136, Input_Details!$J$5:$J$24, 0), 1)","v":"2017-04-25"},{"$f":"INDEX(Input_Details!$H$5:$H$24, MATCH($A136, Input_Details!$J$5:$J$24, 0), 0)","v":"Harper Road (South of Falmouth Road)"},{"$f":"INDEX(Input_Details!$I$5:$I$24, MATCH($A136, Input_Details!$J$5:$J$24, 0), 0)","v":"51.49617, -0.09302"},{"$f":"INDEX(Input_Details!$K$5:$K$24, MATCH($A136, Input_Details!$J$5:$J$24, 0), 0)","v":"Southbound"},"Tues","09:00:00",1,40,0,4,4,0,0,0,0,0,0,0,0,8,22,17,2,0,0,0,0,0,0,0,0,0,0,0,0,0,0,0,18.7,22.8,12,27.5,{"$f":"INDEX(Input_Details!$L$5:$L$24, MATCH($A136, Input_Details!$J$5:$J$24, 0), 0)","v":"Northbound"},"Tues","09:00:00",10,11,0,0,4,1,0,0,0,0,0,0,1,16,4,5,0,0,0,0,0,0,0,0,0,0,0,0,0,0,0,0,14.9,20.100000000000001,9.8000000000000007,24,null,"Tues","09:00:00",11,51,0,4,8,1,0,0,0,0,0,0,1,24,26,22,2,0,0,0,0,0,0,0,0,0,0,0,0,0,0,0,17.382666666666669,21.450000000000003,9.8000000000000007,27.5,1,40,4,4,0,49,10,11,0,4,1,26,11,51,4,8,1,75]
[1,{"$f":"OFFSET(Input_Details!$Q$4,MATCH($A137, Input_Details!$J$5:$J$24, 0), 1)","v":"2017-04-25"},{"$f":"INDEX(Input_Details!$H$5:$H$24, MATCH($A137, Input_Details!$J$5:$J$24, 0), 0)","v":"Harper Road (South of Falmouth Road)"},{"$f":"INDEX(Input_Details!$I$5:$I$24, MATCH($A137, Input_Details!$J$5:$J$24, 0), 0)","v":"51.49617, -0.09302"},{"$f":"INDEX(Input_Details!$K$5:$K$24, MATCH($A137, Input_Details!$J$5:$J$24, 0), 0)","v":"Southbound"},"Tues","09:15:00",2,23,1,3,1,0,0,1,0,0,0,0,1,8,12,9,1,0,0,0,0,0,0,0,0,0,0,0,0,0,0,0,17.5,22.1,8.9,26.9,{"$f":"INDEX(Input_Details!$L$5:$L$24, MATCH($A137, Input_Details!$J$5:$J$24, 0), 0)","v":"Northbound"},"Tues","09:15:00",3,11,0,0,0,0,0,0,0,0,0,0,1,9,1,2,1,0,0,0,0,0,0,0,0,0,0,0,0,0,0,0,15.4,21.9,8.9,26.9,null,"Tues","09:15:00",5,34,1,3,1,0,0,1,0,0,0,0,2,17,13,11,2,0,0,0,0,0,0,0,0,0,0,0,0,0,0,0,16.846666666666668,22,8.9,26.9,2,24,3,1,1,31,3,11,0,0,0,14,5,35,3,1,1,45]
[1,{"$f":"OFFSET(Input_Details!$Q$4,MATCH($A138, Input_Details!$J$5:$J$24, 0), 1)","v":"2017-04-25"},{"$f":"INDEX(Input_Details!$H$5:$H$24, MATCH($A138, Input_Details!$J$5:$J$24, 0), 0)","v":"Harper Road (South of Falmouth Road)"},{"$f":"INDEX(Input_Details!$I$5:$I$24, MATCH($A138, Input_Details!$J$5:$J$24, 0), 0)","v":"51.49617, -0.09302"},{"$f":"INDEX(Input_Details!$K$5:$K$24, MATCH($A138, Input_Details!$J$5:$J$24, 0), 0)","v":"Southbound"},"Tues","09:30:00",1,34,0,3,5,0,0,0,0,0,0,0,1,4,15,19,3,1,0,0,0,0,0,0,0,0,0,0,0,0,0,0,20.2,23,8.8000000000000007,34,{"$f":"INDEX(Input_Details!$L$5:$L$24, MATCH($A138, Input_Details!$J$5:$J$24, 0), 0)","v":"Northbound"},"Tues","09:30:00",5,10,0,0,1,0,0,0,0,0,0,0,1,7,5,3,0,0,0,0,0,0,0,0,0,0,0,0,0,0,0,0,15.3,19.899999999999999,8.5,21.7,null,"Tues","09:30:00",6,44,0,3,6,0,0,0,0,0,0,0,2,11,20,22,3,1,0,0,0,0,0,0,0,0,0,0,0,0,0,0,18.871186440677967,21.45,8.5,34,1,34,3,5,0,43,5,10,0,1,0,16,6,44,3,6,0,59]
[1,{"$f":"OFFSET(Input_Details!$Q$4,MATCH($A139, Input_Details!$J$5:$J$24, 0), 1)","v":"2017-04-25"},{"$f":"INDEX(Input_Details!$H$5:$H$24, MATCH($A139, Input_Details!$J$5:$J$24, 0), 0)","v":"Harper Road (South of Falmouth Road)"},{"$f":"INDEX(Input_Details!$I$5:$I$24, MATCH($A139, Input_Details!$J$5:$J$24, 0), 0)","v":"51.49617, -0.09302"},{"$f":"INDEX(Input_Details!$K$5:$K$24, MATCH($A139, Input_Details!$J$5:$J$24, 0), 0)","v":"Southbound"},"Tues","09:45:00",4,32,1,10,1,1,0,0,0,0,0,0,0,2,20,20,5,1,0,1,0,0,0,0,0,0,0,0,0,0,0,0,20.7,23.3,13.3,43.1,{"$f":"INDEX(Input_Details!$L$5:$L$24, MATCH($A139, Input_Details!$J$5:$J$24, 0), 0)","v":"Northbound"},"Tues","09:45:00",4,10,0,0,2,0,0,0,0,0,0,0,1,11,4,0,0,0,0,0,0,0,0,0,0,0,0,0,0,0,0,0,12.9,16.600000000000001,6.7,18.5,null,"Tues","09:45:00",8,42,1,10,3,1,0,0,0,0,0,0,1,13,24,20,5,1,0,1,0,0,0,0,0,0,0,0,0,0,0,0,18.78,19.950000000000003,6.7,43.1,4,33,10,1,1,49,4,10,0,2,0,16,8,43,10,3,1,65]
[1,{"$f":"OFFSET(Input_Details!$Q$4,MATCH($A140, Input_Details!$J$5:$J$24, 0), 1)","v":"2017-04-25"},{"$f":"INDEX(Input_Details!$H$5:$H$24, MATCH($A140, Input_Details!$J$5:$J$24, 0), 0)","v":"Harper Road (South of Falmouth Road)"},{"$f":"INDEX(Input_Details!$I$5:$I$24, MATCH($A140, Input_Details!$J$5:$J$24, 0), 0)","v":"51.49617, -0.09302"},{"$f":"INDEX(Input_Details!$K$5:$K$24, MATCH($A140, Input_Details!$J$5:$J$24, 0), 0)","v":"Southbound"},"Tues","10:00:00",3,29,0,4,5,0,0,0,0,0,0,0,0,3,30,8,0,0,0,0,0,0,0,0,0,0,0,0,0,0,0,0,17.8,20.399999999999999,10.3,23.8,{"$f":"INDEX(Input_Details!$L$5:$L$24, MATCH($A140, Input_Details!$J$5:$J$24, 0), 0)","v":"Northbound"},"Tues","10:00:00",3,9,0,0,0,0,0,0,0,0,0,0,2,10,0,0,0,0,0,0,0,0,0,0,0,0,0,0,0,0,0,0,11,12.1,9.4,13.3,null,"Tues","10:00:00",6,38,0,4,5,0,0,0,0,0,0,0,2,13,30,8,0,0,0,0,0,0,0,0,0,0,0,0,0,0,0,0,16.260377358490569,16.25,9.4,23.8,3,29,4,5,0,41,3,9,0,0,0,12,6,38,4,5,0,53]
[1,{"$f":"OFFSET(Input_Details!$Q$4,MATCH($A141, Input_Details!$J$5:$J$24, 0), 1)","v":"2017-04-25"},{"$f":"INDEX(Input_Details!$H$5:$H$24, MATCH($A141, Input_Details!$J$5:$J$24, 0), 0)","v":"Harper Road (South of Falmouth Road)"},{"$f":"INDEX(Input_Details!$I$5:$I$24, MATCH($A141, Input_Details!$J$5:$J$24, 0), 0)","v":"51.49617, -0.09302"},{"$f":"INDEX(Input_Details!$K$5:$K$24, MATCH($A141, Input_Details!$J$5:$J$24, 0), 0)","v":"Southbound"},"Tues","10:15:00",2,29,0,7,1,0,0,0,0,0,0,0,0,7,18,11,3,0,0,0,0,0,0,0,0,0,0,0,0,0,0,0,18.899999999999999,22.1,12.6,26.1,{"$f":"INDEX(Input_Details!$L$5:$L$24, MATCH($A141, Input_Details!$J$5:$J$24, 0), 0)","v":"Northbound"},"Tues","10:15:00",2,9,0,0,0,0,0,0,0,0,0,0,0,9,1,1,0,0,0,0,0,0,0,0,0,0,0,0,0,0,0,0,14.5,14.5,10.7,21.4,null,"Tues","10:15:00",4,38,0,7,1,0,0,0,0,0,0,0,0,16,19,12,3,0,0,0,0,0,0,0,0,0,0,0,0,0,0,0,17.931999999999999,18.3,10.7,26.1,2,29,7,1,0,39,2,9,0,0,0,11,4,38,7,1,0,50]
[1,{"$f":"OFFSET(Input_Details!$Q$4,MATCH($A142, Input_Details!$J$5:$J$24, 0), 1)","v":"2017-04-25"},{"$f":"INDEX(Input_Details!$H$5:$H$24, MATCH($A142, Input_Details!$J$5:$J$24, 0), 0)","v":"Harper Road (South of Falmouth Road)"},{"$f":"INDEX(Input_Details!$I$5:$I$24, MATCH($A142, Input_Details!$J$5:$J$24, 0), 0)","v":"51.49617, -0.09302"},{"$f":"INDEX(Input_Details!$K$5:$K$24, MATCH($A142, Input_Details!$J$5:$J$24, 0), 0)","v":"Southbound"},"Tues","10:30:00",1,39,1,8,4,0,0,0,0,0,0,0,0,13,20,18,2,0,0,0,0,0,0,0,0,0,0,0,0,0,0,0,18.2,21.3,10.5,27.9,{"$f":"INDEX(Input_Details!$L$5:$L$24, MATCH($A142, Input_Details!$J$5:$J$24, 0), 0)","v":"Northbound"},"Tues","10:30:00",6,4,0,0,2,0,0,0,0,0,0,0,2,3,4,3,0,0,0,0,0,0,0,0,0,0,0,0,0,0,0,0,15.5,20.100000000000001,8.8000000000000007,23.8,null,"Tues","10:30:00",7,43,1,8,6,0,0,0,0,0,0,0,2,16,24,21,2,0,0,0,0,0,0,0,0,0,0,0,0,0,0,0,17.701538461538462,20.700000000000003,8.8000000000000007,27.9,1,40,8,4,0,53,6,4,0,2,0,12,7,44,8,6,0,65]
[1,{"$f":"OFFSET(Input_Details!$Q$4,MATCH($A143, Input_Details!$J$5:$J$24, 0), 1)","v":"2017-04-25"},{"$f":"INDEX(Input_Details!$H$5:$H$24, MATCH($A143, Input_Details!$J$5:$J$24, 0), 0)","v":"Harper Road (South of Falmouth Road)"},{"$f":"INDEX(Input_Details!$I$5:$I$24, MATCH($A143, Input_Details!$J$5:$J$24, 0), 0)","v":"51.49617, -0.09302"},{"$f":"INDEX(Input_Details!$K$5:$K$24, MATCH($A143, Input_Details!$J$5:$J$24, 0), 0)","v":"Southbound"},"Tues","10:45:00",6,56,0,9,3,0,0,0,0,0,0,0,1,10,39,19,3,2,0,0,0,0,0,0,0,0,0,0,0,0,0,0,19,23,9.6,34,{"$f":"INDEX(Input_Details!$L$5:$L$24, MATCH($A143, Input_Details!$J$5:$J$24, 0), 0)","v":"Northbound"},"Tues","10:45:00",2,11,0,0,0,0,0,0,0,0,0,0,0,7,0,5,0,1,0,0,0,0,0,0,0,0,0,0,0,0,0,0,16.7,21.5,10.199999999999999,31.9,null,"Tues","10:45:00",8,67,0,9,3,0,0,0,0,0,0,0,1,17,39,24,3,3,0,0,0,0,0,0,0,0,0,0,0,0,0,0,18.656321839080459,22.25,9.6,34,6,56,9,3,0,74,2,11,0,0,0,13,8,67,9,3,0,87]
[1,{"$f":"OFFSET(Input_Details!$Q$4,MATCH($A144, Input_Details!$J$5:$J$24, 0), 1)","v":"2017-04-25"},{"$f":"INDEX(Input_Details!$H$5:$H$24, MATCH($A144, Input_Details!$J$5:$J$24, 0), 0)","v":"Harper Road (South of Falmouth Road)"},{"$f":"INDEX(Input_Details!$I$5:$I$24, MATCH($A144, Input_Details!$J$5:$J$24, 0), 0)","v":"51.49617, -0.09302"},{"$f":"INDEX(Input_Details!$K$5:$K$24, MATCH($A144, Input_Details!$J$5:$J$24, 0), 0)","v":"Southbound"},"Tues","11:00:00",2,38,1,2,5,1,0,0,1,0,0,0,0,4,28,12,6,0,0,0,0,0,0,0,0,0,0,0,0,0,0,0,18.899999999999999,22.1,13,29.6,{"$f":"INDEX(Input_Details!$L$5:$L$24, MATCH($A144, Input_Details!$J$5:$J$24, 0), 0)","v":"Northbound"},"Tues","11:00:00",1,9,0,0,1,0,0,0,0,0,0,0,0,1,8,1,0,1,0,0,0,0,0,0,0,0,0,0,0,0,0,0,18,18.3,14.3,30.6,null,"Tues","11:00:00",3,47,1,2,6,1,0,0,1,0,0,0,0,5,36,13,6,1,0,0,0,0,0,0,0,0,0,0,0,0,0,0,18.737704918032787,20.200000000000003,13,30.6,2,39,2,5,2,50,1,9,0,1,0,11,3,48,2,6,2,61]
[1,{"$f":"OFFSET(Input_Details!$Q$4,MATCH($A145, Input_Details!$J$5:$J$24, 0), 1)","v":"2017-04-25"},{"$f":"INDEX(Input_Details!$H$5:$H$24, MATCH($A145, Input_Details!$J$5:$J$24, 0), 0)","v":"Harper Road (South of Falmouth Road)"},{"$f":"INDEX(Input_Details!$I$5:$I$24, MATCH($A145, Input_Details!$J$5:$J$24, 0), 0)","v":"51.49617, -0.09302"},{"$f":"INDEX(Input_Details!$K$5:$K$24, MATCH($A145, Input_Details!$J$5:$J$24, 0), 0)","v":"Southbound"},"Tues","11:15:00",8,32,0,6,1,0,0,0,0,0,0,0,0,8,18,17,4,0,0,0,0,0,0,0,0,0,0,0,0,0,0,0,19.2,22.4,11.6,29.7,{"$f":"INDEX(Input_Details!$L$5:$L$24, MATCH($A145, Input_Details!$J$5:$J$24, 0), 0)","v":"Northbound"},"Tues","11:15:00",1,3,0,0,0,1,0,0,0,0,0,0,0,1,3,1,0,0,0,0,0,0,0,0,0,0,0,0,0,0,0,0,17.100000000000001,"-",11.1,21.2,null,"Tues","11:15:00",9,35,0,6,1,1,0,0,0,0,0,0,0,9,21,18,4,0,0,0,0,0,0,0,0,0,0,0,0,0,0,0,18.998076923076923,22.4,11.1,29.7,8,32,6,1,0,47,1,3,0,0,1,5,9,35,6,1,1,52]
[1,{"$f":"OFFSET(Input_Details!$Q$4,MATCH($A146, Input_Details!$J$5:$J$24, 0), 1)","v":"2017-04-25"},{"$f":"INDEX(Input_Details!$H$5:$H$24, MATCH($A146, Input_Details!$J$5:$J$24, 0), 0)","v":"Harper Road (South of Falmouth Road)"},{"$f":"INDEX(Input_Details!$I$5:$I$24, MATCH($A146, Input_Details!$J$5:$J$24, 0), 0)","v":"51.49617, -0.09302"},{"$f":"INDEX(Input_Details!$K$5:$K$24, MATCH($A146, Input_Details!$J$5:$J$24, 0), 0)","v":"Southbound"},"Tues","11:30:00",4,31,0,11,0,1,0,0,0,0,1,0,0,5,28,12,2,1,0,0,0,0,0,0,0,0,0,0,0,0,0,0,19,23.3,13,30.1,{"$f":"INDEX(Input_Details!$L$5:$L$24, MATCH($A146, Input_Details!$J$5:$J$24, 0), 0)","v":"Northbound"},"Tues","11:30:00",4,4,0,1,0,0,0,0,0,0,0,0,0,4,1,1,2,1,0,0,0,0,0,0,0,0,0,0,0,0,0,0,19.399999999999999,"-",10.7,30.1,null,"Tues","11:30:00",8,35,0,12,0,1,0,0,0,0,1,0,0,9,29,13,4,2,0,0,0,0,0,0,0,0,0,0,0,0,0,0,19.06315789473684,23.3,10.7,30.1,4,31,11,0,2,48,4,4,1,0,0,9,8,35,12,0,2,57]
[1,{"$f":"OFFSET(Input_Details!$Q$4,MATCH($A147, Input_Details!$J$5:$J$24, 0), 1)","v":"2017-04-25"},{"$f":"INDEX(Input_Details!$H$5:$H$24, MATCH($A147, Input_Details!$J$5:$J$24, 0), 0)","v":"Harper Road (South of Falmouth Road)"},{"$f":"INDEX(Input_Details!$I$5:$I$24, MATCH($A147, Input_Details!$J$5:$J$24, 0), 0)","v":"51.49617, -0.09302"},{"$f":"INDEX(Input_Details!$K$5:$K$24, MATCH($A147, Input_Details!$J$5:$J$24, 0), 0)","v":"Southbound"},"Tues","11:45:00",2,42,1,5,3,0,0,0,0,0,0,0,1,7,25,18,0,2,0,0,0,0,0,0,0,0,0,0,0,0,0,0,19,22.1,8.1,32.9,{"$f":"INDEX(Input_Details!$L$5:$L$24, MATCH($A147, Input_Details!$J$5:$J$24, 0), 0)","v":"Northbound"},"Tues","11:45:00",0,9,0,1,1,0,0,0,0,0,0,0,0,2,7,2,0,0,0,0,0,0,0,0,0,0,0,0,0,0,0,0,17.5,19.5,10,21.5,null,"Tues","11:45:00",2,51,1,6,4,0,0,0,0,0,0,0,1,9,32,20,0,2,0,0,0,0,0,0,0,0,0,0,0,0,0,0,18.7421875,20.8,8.1,32.9,2,43,5,3,0,53,0,9,1,1,0,11,2,52,6,4,0,64]
[1,{"$f":"OFFSET(Input_Details!$Q$4,MATCH($A148, Input_Details!$J$5:$J$24, 0), 1)","v":"2017-04-25"},{"$f":"INDEX(Input_Details!$H$5:$H$24, MATCH($A148, Input_Details!$J$5:$J$24, 0), 0)","v":"Harper Road (South of Falmouth Road)"},{"$f":"INDEX(Input_Details!$I$5:$I$24, MATCH($A148, Input_Details!$J$5:$J$24, 0), 0)","v":"51.49617, -0.09302"},{"$f":"INDEX(Input_Details!$K$5:$K$24, MATCH($A148, Input_Details!$J$5:$J$24, 0), 0)","v":"Southbound"},"Tues","12:00:00",4,37,0,9,0,1,0,0,0,0,0,1,0,3,21,25,2,1,0,0,0,0,0,0,0,0,0,0,0,0,0,0,20.3,24.2,10.8,30,{"$f":"INDEX(Input_Details!$L$5:$L$24, MATCH($A148, Input_Details!$J$5:$J$24, 0), 0)","v":"Northbound"},"Tues","12:00:00",5,7,0,1,0,0,0,0,0,0,0,0,2,7,4,0,0,0,0,0,0,0,0,0,0,0,0,0,0,0,0,0,13.3,16.100000000000001,9.3000000000000007,16.5,null,"Tues","12:00:00",9,44,0,10,0,1,0,0,0,0,0,1,2,10,25,25,2,1,0,0,0,0,0,0,0,0,0,0,0,0,0,0,18.900000000000002,20.149999999999999,9.3000000000000007,30,4,37,9,0,2,52,5,7,1,0,0,13,9,44,10,0,2,65]
[1,{"$f":"OFFSET(Input_Details!$Q$4,MATCH($A149, Input_Details!$J$5:$J$24, 0), 1)","v":"2017-04-25"},{"$f":"INDEX(Input_Details!$H$5:$H$24, MATCH($A149, Input_Details!$J$5:$J$24, 0), 0)","v":"Harper Road (South of Falmouth Road)"},{"$f":"INDEX(Input_Details!$I$5:$I$24, MATCH($A149, Input_Details!$J$5:$J$24, 0), 0)","v":"51.49617, -0.09302"},{"$f":"INDEX(Input_Details!$K$5:$K$24, MATCH($A149, Input_Details!$J$5:$J$24, 0), 0)","v":"Southbound"},"Tues","12:15:00",3,48,1,12,1,1,0,0,0,0,0,0,0,8,37,16,5,0,0,0,0,0,0,0,0,0,0,0,0,0,0,0,19,21.5,12.1,29.5,{"$f":"INDEX(Input_Details!$L$5:$L$24, MATCH($A149, Input_Details!$J$5:$J$24, 0), 0)","v":"Northbound"},"Tues","12:15:00",0,5,0,0,0,0,0,0,0,0,0,0,0,5,0,0,0,0,0,0,0,0,0,0,0,0,0,0,0,0,0,0,13,"-",13,13,null,"Tues","12:15:00",3,53,1,12,1,1,0,0,0,0,0,0,0,13,37,16,5,0,0,0,0,0,0,0,0,0,0,0,0,0,0,0,18.577464788732396,21.5,12.1,29.5,3,49,12,1,1,66,0,5,0,0,0,5,3,54,12,1,1,71]
[1,{"$f":"OFFSET(Input_Details!$Q$4,MATCH($A150, Input_Details!$J$5:$J$24, 0), 1)","v":"2017-04-25"},{"$f":"INDEX(Input_Details!$H$5:$H$24, MATCH($A150, Input_Details!$J$5:$J$24, 0), 0)","v":"Harper Road (South of Falmouth Road)"},{"$f":"INDEX(Input_Details!$I$5:$I$24, MATCH($A150, Input_Details!$J$5:$J$24, 0), 0)","v":"51.49617, -0.09302"},{"$f":"INDEX(Input_Details!$K$5:$K$24, MATCH($A150, Input_Details!$J$5:$J$24, 0), 0)","v":"Southbound"},"Tues","12:30:00",6,33,0,7,4,0,1,0,0,0,0,0,1,7,28,11,4,0,0,0,0,0,0,0,0,0,0,0,0,0,0,0,18.7,21.9,7.1,29,{"$f":"INDEX(Input_Details!$L$5:$L$24, MATCH($A150, Input_Details!$J$5:$J$24, 0), 0)","v":"Northbound"},"Tues","12:30:00",3,4,0,0,1,0,0,0,0,0,0,0,1,3,2,1,0,1,0,0,0,0,0,0,0,0,0,0,0,0,0,0,17.899999999999999,"-",9.8000000000000007,33.6,null,"Tues","12:30:00",9,37,0,7,5,0,1,0,0,0,0,0,2,10,30,12,4,1,0,0,0,0,0,0,0,0,0,0,0,0,0,0,18.591525423728811,21.9,7.1,33.6,6,33,7,4,1,51,3,4,0,1,0,8,9,37,7,5,1,59]
[1,{"$f":"OFFSET(Input_Details!$Q$4,MATCH($A151, Input_Details!$J$5:$J$24, 0), 1)","v":"2017-04-25"},{"$f":"INDEX(Input_Details!$H$5:$H$24, MATCH($A151, Input_Details!$J$5:$J$24, 0), 0)","v":"Harper Road (South of Falmouth Road)"},{"$f":"INDEX(Input_Details!$I$5:$I$24, MATCH($A151, Input_Details!$J$5:$J$24, 0), 0)","v":"51.49617, -0.09302"},{"$f":"INDEX(Input_Details!$K$5:$K$24, MATCH($A151, Input_Details!$J$5:$J$24, 0), 0)","v":"Southbound"},"Tues","12:45:00",4,40,1,7,3,0,0,1,0,0,1,0,0,5,20,21,9,2,0,0,0,0,0,0,0,0,0,0,0,0,0,0,20.7,25.7,10.1,30.6,{"$f":"INDEX(Input_Details!$L$5:$L$24, MATCH($A151, Input_Details!$J$5:$J$24, 0), 0)","v":"Northbound"},"Tues","12:45:00",0,8,0,0,0,0,0,0,0,0,0,0,0,0,1,2,0,4,1,0,0,0,0,0,0,0,0,0,0,0,0,0,28.5,"-",17.2,38,null,"Tues","12:45:00",4,48,1,7,3,0,0,1,0,0,1,0,0,5,21,23,9,6,1,0,0,0,0,0,0,0,0,0,0,0,0,0,21.659999999999997,25.7,10.1,38,4,41,7,3,2,57,0,8,0,0,0,8,4,49,7,3,2,65]
[1,{"$f":"OFFSET(Input_Details!$Q$4,MATCH($A152, Input_Details!$J$5:$J$24, 0), 1)","v":"2017-04-25"},{"$f":"INDEX(Input_Details!$H$5:$H$24, MATCH($A152, Input_Details!$J$5:$J$24, 0), 0)","v":"Harper Road (South of Falmouth Road)"},{"$f":"INDEX(Input_Details!$I$5:$I$24, MATCH($A152, Input_Details!$J$5:$J$24, 0), 0)","v":"51.49617, -0.09302"},{"$f":"INDEX(Input_Details!$K$5:$K$24, MATCH($A152, Input_Details!$J$5:$J$24, 0), 0)","v":"Southbound"},"Tues","13:00:00",9,40,0,12,3,1,0,0,0,0,0,0,1,2,32,24,4,1,1,0,0,0,0,0,0,0,0,0,0,0,0,0,20.2,24.2,9.8000000000000007,35.5,{"$f":"INDEX(Input_Details!$L$5:$L$24, MATCH($A152, Input_Details!$J$5:$J$24, 0), 0)","v":"Northbound"},"Tues","13:00:00",2,7,0,0,0,1,0,0,0,0,0,0,0,7,0,3,0,0,0,0,0,0,0,0,0,0,0,0,0,0,0,0,16.899999999999999,"-",11.7,24.1,null,"Tues","13:00:00",11,47,0,12,3,2,0,0,0,0,0,0,1,9,32,27,4,1,1,0,0,0,0,0,0,0,0,0,0,0,0,0,19.760000000000002,24.2,9.8000000000000007,35.5,9,40,12,3,1,65,2,7,0,0,1,10,11,47,12,3,2,75]
[1,{"$f":"OFFSET(Input_Details!$Q$4,MATCH($A153, Input_Details!$J$5:$J$24, 0), 1)","v":"2017-04-25"},{"$f":"INDEX(Input_Details!$H$5:$H$24, MATCH($A153, Input_Details!$J$5:$J$24, 0), 0)","v":"Harper Road (South of Falmouth Road)"},{"$f":"INDEX(Input_Details!$I$5:$I$24, MATCH($A153, Input_Details!$J$5:$J$24, 0), 0)","v":"51.49617, -0.09302"},{"$f":"INDEX(Input_Details!$K$5:$K$24, MATCH($A153, Input_Details!$J$5:$J$24, 0), 0)","v":"Southbound"},"Tues","13:15:00",6,32,0,11,2,2,0,0,0,0,0,0,0,3,21,23,5,0,1,0,0,0,0,0,0,0,0,0,0,0,0,0,20.8,23.9,12.2,38,{"$f":"INDEX(Input_Details!$L$5:$L$24, MATCH($A153, Input_Details!$J$5:$J$24, 0), 0)","v":"Northbound"},"Tues","13:15:00",3,3,0,1,0,0,0,0,0,0,0,0,0,4,2,1,0,0,0,0,0,0,0,0,0,0,0,0,0,0,0,0,14.9,"-",10.9,23.2,null,"Tues","13:15:00",9,35,0,12,2,2,0,0,0,0,0,0,0,7,23,24,5,0,1,0,0,0,0,0,0,0,0,0,0,0,0,0,20.111666666666668,23.9,10.9,38,6,32,11,2,2,53,3,3,1,0,0,7,9,35,12,2,2,60]
[1,{"$f":"OFFSET(Input_Details!$Q$4,MATCH($A154, Input_Details!$J$5:$J$24, 0), 1)","v":"2017-04-25"},{"$f":"INDEX(Input_Details!$H$5:$H$24, MATCH($A154, Input_Details!$J$5:$J$24, 0), 0)","v":"Harper Road (South of Falmouth Road)"},{"$f":"INDEX(Input_Details!$I$5:$I$24, MATCH($A154, Input_Details!$J$5:$J$24, 0), 0)","v":"51.49617, -0.09302"},{"$f":"INDEX(Input_Details!$K$5:$K$24, MATCH($A154, Input_Details!$J$5:$J$24, 0), 0)","v":"Southbound"},"Tues","13:30:00",9,36,1,8,3,0,0,0,0,0,0,0,1,11,19,16,7,2,1,0,0,0,0,0,0,0,0,0,0,0,0,0,20,24.8,6.8,36.6,{"$f":"INDEX(Input_Details!$L$5:$L$24, MATCH($A154, Input_Details!$J$5:$J$24, 0), 0)","v":"Northbound"},"Tues","13:30:00",5,6,0,0,0,0,0,0,0,0,0,0,2,8,0,0,1,0,0,0,0,0,0,0,0,0,0,0,0,0,0,0,13.6,14.3,6.8,29.7,null,"Tues","13:30:00",14,42,1,8,3,0,0,0,0,0,0,0,3,19,19,16,8,2,1,0,0,0,0,0,0,0,0,0,0,0,0,0,18.964705882352941,19.55,6.8,36.6,9,37,8,3,0,57,5,6,0,0,0,11,14,43,8,3,0,68]
[1,{"$f":"OFFSET(Input_Details!$Q$4,MATCH($A155, Input_Details!$J$5:$J$24, 0), 1)","v":"2017-04-25"},{"$f":"INDEX(Input_Details!$H$5:$H$24, MATCH($A155, Input_Details!$J$5:$J$24, 0), 0)","v":"Harper Road (South of Falmouth Road)"},{"$f":"INDEX(Input_Details!$I$5:$I$24, MATCH($A155, Input_Details!$J$5:$J$24, 0), 0)","v":"51.49617, -0.09302"},{"$f":"INDEX(Input_Details!$K$5:$K$24, MATCH($A155, Input_Details!$J$5:$J$24, 0), 0)","v":"Southbound"},"Tues","13:45:00",2,50,1,7,2,0,0,0,0,0,1,0,1,4,30,25,3,0,0,0,0,0,0,0,0,0,0,0,0,0,0,0,19.600000000000001,22.1,8.6,27.3,{"$f":"INDEX(Input_Details!$L$5:$L$24, MATCH($A155, Input_Details!$J$5:$J$24, 0), 0)","v":"Northbound"},"Tues","13:45:00",4,9,0,0,2,0,0,0,0,0,0,0,1,7,7,0,0,0,0,0,0,0,0,0,0,0,0,0,0,0,0,0,13.7,15.4,7.3,18.600000000000001,null,"Tues","13:45:00",6,59,1,7,4,0,0,0,0,0,1,0,2,11,37,25,3,0,0,0,0,0,0,0,0,0,0,0,0,0,0,0,18.465384615384618,18.75,7.3,27.3,2,51,7,2,1,63,4,9,0,2,0,15,6,60,7,4,1,78]
[1,{"$f":"OFFSET(Input_Details!$Q$4,MATCH($A156, Input_Details!$J$5:$J$24, 0), 1)","v":"2017-04-25"},{"$f":"INDEX(Input_Details!$H$5:$H$24, MATCH($A156, Input_Details!$J$5:$J$24, 0), 0)","v":"Harper Road (South of Falmouth Road)"},{"$f":"INDEX(Input_Details!$I$5:$I$24, MATCH($A156, Input_Details!$J$5:$J$24, 0), 0)","v":"51.49617, -0.09302"},{"$f":"INDEX(Input_Details!$K$5:$K$24, MATCH($A156, Input_Details!$J$5:$J$24, 0), 0)","v":"Southbound"},"Tues","14:00:00",2,46,0,13,3,0,0,1,0,0,0,0,2,7,47,8,0,1,0,0,0,0,0,0,0,0,0,0,0,0,0,0,17.8,19.899999999999999,9.3000000000000007,30.3,{"$f":"INDEX(Input_Details!$L$5:$L$24, MATCH($A156, Input_Details!$J$5:$J$24, 0), 0)","v":"Northbound"},"Tues","14:00:00",0,8,0,0,0,0,0,0,0,0,0,0,0,8,0,0,0,0,0,0,0,0,0,0,0,0,0,0,0,0,0,0,11,"-",10.199999999999999,11.2,null,"Tues","14:00:00",2,54,0,13,3,0,0,1,0,0,0,0,2,15,47,8,0,1,0,0,0,0,0,0,0,0,0,0,0,0,0,0,17.054794520547944,19.899999999999999,9.3000000000000007,30.3,2,46,13,3,1,65,0,8,0,0,0,8,2,54,13,3,1,73]
[1,{"$f":"OFFSET(Input_Details!$Q$4,MATCH($A157, Input_Details!$J$5:$J$24, 0), 1)","v":"2017-04-25"},{"$f":"INDEX(Input_Details!$H$5:$H$24, MATCH($A157, Input_Details!$J$5:$J$24, 0), 0)","v":"Harper Road (South of Falmouth Road)"},{"$f":"INDEX(Input_Details!$I$5:$I$24, MATCH($A157, Input_Details!$J$5:$J$24, 0), 0)","v":"51.49617, -0.09302"},{"$f":"INDEX(Input_Details!$K$5:$K$24, MATCH($A157, Input_Details!$J$5:$J$24, 0), 0)","v":"Southbound"},"Tues","14:15:00",7,49,0,8,2,1,0,2,0,0,0,0,1,4,24,27,13,0,0,0,0,0,0,0,0,0,0,0,0,0,0,0,20.8,25.9,9.9,29.8,{"$f":"INDEX(Input_Details!$L$5:$L$24, MATCH($A157, Input_Details!$J$5:$J$24, 0), 0)","v":"Northbound"},"Tues","14:15:00",5,3,0,1,0,0,0,0,0,0,0,0,0,3,1,4,1,0,0,0,0,0,0,0,0,0,0,0,0,0,0,0,19,"-",11.4,28.5,null,"Tues","14:15:00",12,52,0,9,2,1,0,2,0,0,0,0,1,7,25,31,14,0,0,0,0,0,0,0,0,0,0,0,0,0,0,0,20.592307692307692,25.9,9.9,29.8,7,49,8,2,3,69,5,3,1,0,0,9,12,52,9,2,3,78]
[1,{"$f":"OFFSET(Input_Details!$Q$4,MATCH($A158, Input_Details!$J$5:$J$24, 0), 1)","v":"2017-04-25"},{"$f":"INDEX(Input_Details!$H$5:$H$24, MATCH($A158, Input_Details!$J$5:$J$24, 0), 0)","v":"Harper Road (South of Falmouth Road)"},{"$f":"INDEX(Input_Details!$I$5:$I$24, MATCH($A158, Input_Details!$J$5:$J$24, 0), 0)","v":"51.49617, -0.09302"},{"$f":"INDEX(Input_Details!$K$5:$K$24, MATCH($A158, Input_Details!$J$5:$J$24, 0), 0)","v":"Southbound"},"Tues","14:30:00",8,47,0,15,2,2,0,0,0,0,0,0,0,5,23,30,13,2,1,0,0,0,0,0,0,0,0,0,0,0,0,0,21.3,25.5,10.6,37,{"$f":"INDEX(Input_Details!$L$5:$L$24, MATCH($A158, Input_Details!$J$5:$J$24, 0), 0)","v":"Northbound"},"Tues","14:30:00",2,7,0,0,0,0,0,0,0,0,0,0,1,1,1,5,1,0,0,0,0,0,0,0,0,0,0,0,0,0,0,0,20.100000000000001,"-",8,26.9,null,"Tues","14:30:00",10,54,0,15,2,2,0,0,0,0,0,0,1,6,24,35,14,2,1,0,0,0,0,0,0,0,0,0,0,0,0,0,21.169879518072293,25.5,8,37,8,47,15,2,2,74,2,7,0,0,0,9,10,54,15,2,2,83]
[1,{"$f":"OFFSET(Input_Details!$Q$4,MATCH($A159, Input_Details!$J$5:$J$24, 0), 1)","v":"2017-04-25"},{"$f":"INDEX(Input_Details!$H$5:$H$24, MATCH($A159, Input_Details!$J$5:$J$24, 0), 0)","v":"Harper Road (South of Falmouth Road)"},{"$f":"INDEX(Input_Details!$I$5:$I$24, MATCH($A159, Input_Details!$J$5:$J$24, 0), 0)","v":"51.49617, -0.09302"},{"$f":"INDEX(Input_Details!$K$5:$K$24, MATCH($A159, Input_Details!$J$5:$J$24, 0), 0)","v":"Southbound"},"Tues","14:45:00",10,60,1,12,5,0,0,0,0,0,0,0,1,6,47,22,11,1,0,0,0,0,0,0,0,0,0,0,0,0,0,0,19.7,24.2,6.8,32.799999999999997,{"$f":"INDEX(Input_Details!$L$5:$L$24, MATCH($A159, Input_Details!$J$5:$J$24, 0), 0)","v":"Northbound"},"Tues","14:45:00",0,7,0,1,0,0,0,0,0,0,0,0,1,1,6,0,0,0,0,0,0,0,0,0,0,0,0,0,0,0,0,0,15.2,"-",9.6,17.899999999999999,null,"Tues","14:45:00",10,67,1,13,5,0,0,0,0,0,0,0,2,7,53,22,11,1,0,0,0,0,0,0,0,0,0,0,0,0,0,0,19.324999999999999,24.2,6.8,32.799999999999997,10,61,12,5,0,88,0,7,1,0,0,8,10,68,13,5,0,96]
[1,{"$f":"OFFSET(Input_Details!$Q$4,MATCH($A160, Input_Details!$J$5:$J$24, 0), 1)","v":"2017-04-25"},{"$f":"INDEX(Input_Details!$H$5:$H$24, MATCH($A160, Input_Details!$J$5:$J$24, 0), 0)","v":"Harper Road (South of Falmouth Road)"},{"$f":"INDEX(Input_Details!$I$5:$I$24, MATCH($A160, Input_Details!$J$5:$J$24, 0), 0)","v":"51.49617, -0.09302"},{"$f":"INDEX(Input_Details!$K$5:$K$24, MATCH($A160, Input_Details!$J$5:$J$24, 0), 0)","v":"Southbound"},"Tues","15:00:00",12,54,0,10,1,0,0,0,0,0,0,0,1,9,36,23,7,1,0,0,0,0,0,0,0,0,0,0,0,0,0,0,19.399999999999999,23.7,3.9,34.4,{"$f":"INDEX(Input_Details!$L$5:$L$24, MATCH($A160, Input_Details!$J$5:$J$24, 0), 0)","v":"Northbound"},"Tues","15:00:00",2,6,0,0,0,0,0,0,0,0,0,0,0,4,1,3,0,0,0,0,0,0,0,0,0,0,0,0,0,0,0,0,16.2,"-",10.199999999999999,24.6,null,"Tues","15:00:00",14,60,0,10,1,0,0,0,0,0,0,0,1,13,37,26,7,1,0,0,0,0,0,0,0,0,0,0,0,0,0,0,19.098823529411764,23.7,3.9,34.4,12,54,10,1,0,77,2,6,0,0,0,8,14,60,10,1,0,85]
[1,{"$f":"OFFSET(Input_Details!$Q$4,MATCH($A161, Input_Details!$J$5:$J$24, 0), 1)","v":"2017-04-25"},{"$f":"INDEX(Input_Details!$H$5:$H$24, MATCH($A161, Input_Details!$J$5:$J$24, 0), 0)","v":"Harper Road (South of Falmouth Road)"},{"$f":"INDEX(Input_Details!$I$5:$I$24, MATCH($A161, Input_Details!$J$5:$J$24, 0), 0)","v":"51.49617, -0.09302"},{"$f":"INDEX(Input_Details!$K$5:$K$24, MATCH($A161, Input_Details!$J$5:$J$24, 0), 0)","v":"Southbound"},"Tues","15:15:00",8,44,0,16,2,0,0,0,0,1,0,0,0,12,35,19,4,1,0,0,0,0,0,0,0,0,0,0,0,0,0,0,19,21.7,11.5,35,{"$f":"INDEX(Input_Details!$L$5:$L$24, MATCH($A161, Input_Details!$J$5:$J$24, 0), 0)","v":"Northbound"},"Tues","15:15:00",2,3,0,0,0,0,0,0,0,0,0,0,0,1,2,1,1,0,0,0,0,0,0,0,0,0,0,0,0,0,0,0,18.899999999999999,"-",12,26.9,null,"Tues","15:15:00",10,47,0,16,2,0,0,0,0,1,0,0,0,13,37,20,5,1,0,0,0,0,0,0,0,0,0,0,0,0,0,0,18.993421052631579,21.7,11.5,35,8,44,16,2,1,71,2,3,0,0,0,5,10,47,16,2,1,76]
[1,{"$f":"OFFSET(Input_Details!$Q$4,MATCH($A162, Input_Details!$J$5:$J$24, 0), 1)","v":"2017-04-25"},{"$f":"INDEX(Input_Details!$H$5:$H$24, MATCH($A162, Input_Details!$J$5:$J$24, 0), 0)","v":"Harper Road (South of Falmouth Road)"},{"$f":"INDEX(Input_Details!$I$5:$I$24, MATCH($A162, Input_Details!$J$5:$J$24, 0), 0)","v":"51.49617, -0.09302"},{"$f":"INDEX(Input_Details!$K$5:$K$24, MATCH($A162, Input_Details!$J$5:$J$24, 0), 0)","v":"Southbound"},"Tues","15:30:00",10,63,0,5,3,0,0,0,0,0,0,0,3,16,44,17,1,0,0,0,0,0,0,0,0,0,0,0,0,0,0,0,17.100000000000001,20.8,8.8000000000000007,26.8,{"$f":"INDEX(Input_Details!$L$5:$L$24, MATCH($A162, Input_Details!$J$5:$J$24, 0), 0)","v":"Northbound"},"Tues","15:30:00",2,11,0,0,0,0,0,0,0,0,0,0,0,3,10,0,0,0,0,0,0,0,0,0,0,0,0,0,0,0,0,0,15.8,16.8,10.3,18.8,null,"Tues","15:30:00",12,74,0,5,3,0,0,0,0,0,0,0,3,19,54,17,1,0,0,0,0,0,0,0,0,0,0,0,0,0,0,0,16.920212765957448,18.8,8.8000000000000007,26.8,10,63,5,3,0,81,2,11,0,0,0,13,12,74,5,3,0,94]
[1,{"$f":"OFFSET(Input_Details!$Q$4,MATCH($A163, Input_Details!$J$5:$J$24, 0), 1)","v":"2017-04-25"},{"$f":"INDEX(Input_Details!$H$5:$H$24, MATCH($A163, Input_Details!$J$5:$J$24, 0), 0)","v":"Harper Road (South of Falmouth Road)"},{"$f":"INDEX(Input_Details!$I$5:$I$24, MATCH($A163, Input_Details!$J$5:$J$24, 0), 0)","v":"51.49617, -0.09302"},{"$f":"INDEX(Input_Details!$K$5:$K$24, MATCH($A163, Input_Details!$J$5:$J$24, 0), 0)","v":"Southbound"},"Tues","15:45:00",6,52,0,15,3,2,0,0,0,0,0,0,3,8,43,19,5,0,0,0,0,0,0,0,0,0,0,0,0,0,0,0,18.399999999999999,20.8,9.6,26.9,{"$f":"INDEX(Input_Details!$L$5:$L$24, MATCH($A163, Input_Details!$J$5:$J$24, 0), 0)","v":"Northbound"},"Tues","15:45:00",3,10,0,0,0,0,0,0,0,0,0,0,7,5,1,0,0,0,0,0,0,0,0,0,0,0,0,0,0,0,0,0,11.4,13.4,7.1,16.899999999999999,null,"Tues","15:45:00",9,62,0,15,3,2,0,0,0,0,0,0,10,13,44,19,5,0,0,0,0,0,0,0,0,0,0,0,0,0,0,0,17.399999999999999,17.100000000000001,7.1,26.9,6,52,15,3,2,78,3,10,0,0,0,13,9,62,15,3,2,91]
[1,{"$f":"OFFSET(Input_Details!$Q$4,MATCH($A164, Input_Details!$J$5:$J$24, 0), 1)","v":"2017-04-25"},{"$f":"INDEX(Input_Details!$H$5:$H$24, MATCH($A164, Input_Details!$J$5:$J$24, 0), 0)","v":"Harper Road (South of Falmouth Road)"},{"$f":"INDEX(Input_Details!$I$5:$I$24, MATCH($A164, Input_Details!$J$5:$J$24, 0), 0)","v":"51.49617, -0.09302"},{"$f":"INDEX(Input_Details!$K$5:$K$24, MATCH($A164, Input_Details!$J$5:$J$24, 0), 0)","v":"Southbound"},"Tues","16:00:00",14,54,0,8,0,0,0,2,0,0,0,0,0,10,31,29,8,0,0,0,0,0,0,0,0,0,0,0,0,0,0,0,19.7,23.5,12.1,29.8,{"$f":"INDEX(Input_Details!$L$5:$L$24, MATCH($A164, Input_Details!$J$5:$J$24, 0), 0)","v":"Northbound"},"Tues","16:00:00",2,8,0,0,0,0,0,0,0,0,0,0,1,4,3,1,1,0,0,0,0,0,0,0,0,0,0,0,0,0,0,0,16.100000000000001,"-",9.9,27.4,null,"Tues","16:00:00",16,62,0,8,0,0,0,2,0,0,0,0,1,14,34,30,9,0,0,0,0,0,0,0,0,0,0,0,0,0,0,0,19.290909090909089,23.5,9.9,29.8,14,54,8,0,2,78,2,8,0,0,0,10,16,62,8,0,2,88]
[1,{"$f":"OFFSET(Input_Details!$Q$4,MATCH($A165, Input_Details!$J$5:$J$24, 0), 1)","v":"2017-04-25"},{"$f":"INDEX(Input_Details!$H$5:$H$24, MATCH($A165, Input_Details!$J$5:$J$24, 0), 0)","v":"Harper Road (South of Falmouth Road)"},{"$f":"INDEX(Input_Details!$I$5:$I$24, MATCH($A165, Input_Details!$J$5:$J$24, 0), 0)","v":"51.49617, -0.09302"},{"$f":"INDEX(Input_Details!$K$5:$K$24, MATCH($A165, Input_Details!$J$5:$J$24, 0), 0)","v":"Southbound"},"Tues","16:15:00",9,38,0,7,0,2,0,0,0,0,0,0,1,12,27,12,3,1,0,0,0,0,0,0,0,0,0,0,0,0,0,0,17.899999999999999,21.5,5.8,34.299999999999997,{"$f":"INDEX(Input_Details!$L$5:$L$24, MATCH($A165, Input_Details!$J$5:$J$24, 0), 0)","v":"Northbound"},"Tues","16:15:00",0,13,0,0,0,0,0,0,0,0,0,0,0,6,7,0,0,0,0,0,0,0,0,0,0,0,0,0,0,0,0,0,15.1,17,12.4,18.3,null,"Tues","16:15:00",9,51,0,7,0,2,0,0,0,0,0,0,1,18,34,12,3,1,0,0,0,0,0,0,0,0,0,0,0,0,0,0,17.372463768115939,19.25,5.8,34.299999999999997,9,38,7,0,2,56,0,13,0,0,0,13,9,51,7,0,2,69]
[1,{"$f":"OFFSET(Input_Details!$Q$4,MATCH($A166, Input_Details!$J$5:$J$24, 0), 1)","v":"2017-04-25"},{"$f":"INDEX(Input_Details!$H$5:$H$24, MATCH($A166, Input_Details!$J$5:$J$24, 0), 0)","v":"Harper Road (South of Falmouth Road)"},{"$f":"INDEX(Input_Details!$I$5:$I$24, MATCH($A166, Input_Details!$J$5:$J$24, 0), 0)","v":"51.49617, -0.09302"},{"$f":"INDEX(Input_Details!$K$5:$K$24, MATCH($A166, Input_Details!$J$5:$J$24, 0), 0)","v":"Southbound"},"Tues","16:30:00",15,45,0,12,1,2,0,1,0,0,0,0,0,15,30,22,5,4,0,0,0,0,0,0,0,0,0,0,0,0,0,0,19.3,23.7,10.8,34.799999999999997,{"$f":"INDEX(Input_Details!$L$5:$L$24, MATCH($A166, Input_Details!$J$5:$J$24, 0), 0)","v":"Northbound"},"Tues","16:30:00",2,7,0,0,0,0,0,0,0,0,0,0,0,9,0,0,0,0,0,0,0,0,0,0,0,0,0,0,0,0,0,0,14,"-",13.3,14.8,null,"Tues","16:30:00",17,52,0,12,1,2,0,1,0,0,0,0,0,24,30,22,5,4,0,0,0,0,0,0,0,0,0,0,0,0,0,0,18.738823529411764,23.7,10.8,34.799999999999997,15,45,12,1,3,76,2,7,0,0,0,9,17,52,12,1,3,85]
[1,{"$f":"OFFSET(Input_Details!$Q$4,MATCH($A167, Input_Details!$J$5:$J$24, 0), 1)","v":"2017-04-25"},{"$f":"INDEX(Input_Details!$H$5:$H$24, MATCH($A167, Input_Details!$J$5:$J$24, 0), 0)","v":"Harper Road (South of Falmouth Road)"},{"$f":"INDEX(Input_Details!$I$5:$I$24, MATCH($A167, Input_Details!$J$5:$J$24, 0), 0)","v":"51.49617, -0.09302"},{"$f":"INDEX(Input_Details!$K$5:$K$24, MATCH($A167, Input_Details!$J$5:$J$24, 0), 0)","v":"Southbound"},"Tues","16:45:00",15,51,3,12,0,2,1,0,0,1,0,0,1,18,35,18,6,7,0,0,0,0,0,0,0,0,0,0,0,0,0,0,19.399999999999999,23.7,9.9,33.4,{"$f":"INDEX(Input_Details!$L$5:$L$24, MATCH($A167, Input_Details!$J$5:$J$24, 0), 0)","v":"Northbound"},"Tues","16:45:00",7,8,0,0,0,0,0,0,0,0,0,0,2,5,8,0,0,0,0,0,0,0,0,0,0,0,0,0,0,0,0,0,14.9,19.2,8.6999999999999993,19.7,null,"Tues","16:45:00",22,59,3,12,0,2,1,0,0,1,0,0,3,23,43,18,6,7,0,0,0,0,0,0,0,0,0,0,0,0,0,0,18.724999999999998,21.45,8.6999999999999993,33.4,15,54,12,0,4,85,7,8,0,0,0,15,22,62,12,0,4,100]
[1,{"$f":"OFFSET(Input_Details!$Q$4,MATCH($A168, Input_Details!$J$5:$J$24, 0), 1)","v":"2017-04-25"},{"$f":"INDEX(Input_Details!$H$5:$H$24, MATCH($A168, Input_Details!$J$5:$J$24, 0), 0)","v":"Harper Road (South of Falmouth Road)"},{"$f":"INDEX(Input_Details!$I$5:$I$24, MATCH($A168, Input_Details!$J$5:$J$24, 0), 0)","v":"51.49617, -0.09302"},{"$f":"INDEX(Input_Details!$K$5:$K$24, MATCH($A168, Input_Details!$J$5:$J$24, 0), 0)","v":"Southbound"},"Tues","17:00:00",9,46,3,12,1,1,0,1,0,0,0,0,0,4,29,33,2,3,1,0,1,0,0,0,0,0,0,0,0,0,0,0,21.1,23.9,11.8,45.6,{"$f":"INDEX(Input_Details!$L$5:$L$24, MATCH($A168, Input_Details!$J$5:$J$24, 0), 0)","v":"Northbound"},"Tues","17:00:00",1,7,0,0,0,0,0,0,0,0,0,0,1,3,4,0,0,0,0,0,0,0,0,0,0,0,0,0,0,0,0,0,13.5,"-",6.4,15.5,null,"Tues","17:00:00",10,53,3,12,1,1,0,1,0,0,0,0,1,7,33,33,2,3,1,0,1,0,0,0,0,0,0,0,0,0,0,0,20.349382716049384,23.9,6.4,45.6,9,49,12,1,2,73,1,7,0,0,0,8,10,56,12,1,2,81]
[1,{"$f":"OFFSET(Input_Details!$Q$4,MATCH($A169, Input_Details!$J$5:$J$24, 0), 1)","v":"2017-04-25"},{"$f":"INDEX(Input_Details!$H$5:$H$24, MATCH($A169, Input_Details!$J$5:$J$24, 0), 0)","v":"Harper Road (South of Falmouth Road)"},{"$f":"INDEX(Input_Details!$I$5:$I$24, MATCH($A169, Input_Details!$J$5:$J$24, 0), 0)","v":"51.49617, -0.09302"},{"$f":"INDEX(Input_Details!$K$5:$K$24, MATCH($A169, Input_Details!$J$5:$J$24, 0), 0)","v":"Southbound"},"Tues","17:15:00",21,68,2,8,2,0,0,0,1,1,0,0,2,11,44,28,14,4,0,0,0,0,0,0,0,0,0,0,0,0,0,0,20.399999999999999,25.9,9.5,34.799999999999997,{"$f":"INDEX(Input_Details!$L$5:$L$24, MATCH($A169, Input_Details!$J$5:$J$24, 0), 0)","v":"Northbound"},"Tues","17:15:00",2,9,0,1,0,0,0,0,0,0,0,0,0,4,2,5,0,1,0,0,0,0,0,0,0,0,0,0,0,0,0,0,20.8,24.6,13.3,34.9,null,"Tues","17:15:00",23,77,2,9,2,0,0,0,1,1,0,0,2,15,46,33,14,5,0,0,0,0,0,0,0,0,0,0,0,0,0,0,20.44173913043478,25.25,9.5,34.9,21,70,8,2,2,103,2,9,1,0,0,12,23,79,9,2,2,115]
[1,{"$f":"OFFSET(Input_Details!$Q$4,MATCH($A170, Input_Details!$J$5:$J$24, 0), 1)","v":"2017-04-25"},{"$f":"INDEX(Input_Details!$H$5:$H$24, MATCH($A170, Input_Details!$J$5:$J$24, 0), 0)","v":"Harper Road (South of Falmouth Road)"},{"$f":"INDEX(Input_Details!$I$5:$I$24, MATCH($A170, Input_Details!$J$5:$J$24, 0), 0)","v":"51.49617, -0.09302"},{"$f":"INDEX(Input_Details!$K$5:$K$24, MATCH($A170, Input_Details!$J$5:$J$24, 0), 0)","v":"Southbound"},"Tues","17:30:00",17,62,2,4,1,0,0,1,0,0,0,1,3,8,49,23,4,1,0,0,0,0,0,0,0,0,0,0,0,0,0,0,18.7,22.1,7.6,30.1,{"$f":"INDEX(Input_Details!$L$5:$L$24, MATCH($A170, Input_Details!$J$5:$J$24, 0), 0)","v":"Northbound"},"Tues","17:30:00",5,9,0,1,1,0,0,0,0,0,0,0,1,6,7,2,0,0,0,0,0,0,0,0,0,0,0,0,0,0,0,0,15.7,18.3,9.9,22.7,null,"Tues","17:30:00",22,71,2,5,2,0,0,1,0,0,0,1,4,14,56,25,4,1,0,0,0,0,0,0,0,0,0,0,0,0,0,0,18.238461538461539,20.200000000000003,7.6,30.1,17,64,4,1,2,88,5,9,1,1,0,16,22,73,5,2,2,104]
[1,{"$f":"OFFSET(Input_Details!$Q$4,MATCH($A171, Input_Details!$J$5:$J$24, 0), 1)","v":"2017-04-25"},{"$f":"INDEX(Input_Details!$H$5:$H$24, MATCH($A171, Input_Details!$J$5:$J$24, 0), 0)","v":"Harper Road (South of Falmouth Road)"},{"$f":"INDEX(Input_Details!$I$5:$I$24, MATCH($A171, Input_Details!$J$5:$J$24, 0), 0)","v":"51.49617, -0.09302"},{"$f":"INDEX(Input_Details!$K$5:$K$24, MATCH($A171, Input_Details!$J$5:$J$24, 0), 0)","v":"Southbound"},"Tues","17:45:00",27,67,2,5,3,0,0,0,0,1,0,0,0,26,34,31,9,3,1,1,0,0,0,0,0,0,0,0,0,0,0,0,19.3,24.6,10,43.2,{"$f":"INDEX(Input_Details!$L$5:$L$24, MATCH($A171, Input_Details!$J$5:$J$24, 0), 0)","v":"Northbound"},"Tues","17:45:00",3,15,0,0,1,0,0,0,0,0,0,0,1,9,8,1,0,0,0,0,0,0,0,0,0,0,0,0,0,0,0,0,14.8,15.2,9.3000000000000007,20.399999999999999,null,"Tues","17:45:00",30,82,2,5,4,0,0,0,0,1,0,0,1,35,42,32,9,3,1,1,0,0,0,0,0,0,0,0,0,0,0,0,18.610483870967741,19.899999999999999,9.3000000000000007,43.2,27,69,5,3,1,105,3,15,0,1,0,19,30,84,5,4,1,124]
[1,{"$f":"OFFSET(Input_Details!$Q$4,MATCH($A172, Input_Details!$J$5:$J$24, 0), 1)","v":"2017-04-25"},{"$f":"INDEX(Input_Details!$H$5:$H$24, MATCH($A172, Input_Details!$J$5:$J$24, 0), 0)","v":"Harper Road (South of Falmouth Road)"},{"$f":"INDEX(Input_Details!$I$5:$I$24, MATCH($A172, Input_Details!$J$5:$J$24, 0), 0)","v":"51.49617, -0.09302"},{"$f":"INDEX(Input_Details!$K$5:$K$24, MATCH($A172, Input_Details!$J$5:$J$24, 0), 0)","v":"Southbound"},"Tues","18:00:00",36,55,0,11,4,0,0,0,0,0,0,0,2,4,35,38,17,5,4,0,1,0,0,0,0,0,0,0,0,0,0,0,22.1,27.5,9.3000000000000007,48.9,{"$f":"INDEX(Input_Details!$L$5:$L$24, MATCH($A172, Input_Details!$J$5:$J$24, 0), 0)","v":"Northbound"},"Tues","18:00:00",6,6,0,0,1,1,0,0,0,0,0,0,0,6,6,2,0,0,0,0,0,0,0,0,0,0,0,0,0,0,0,0,15.6,18.3,10.9,22,null,"Tues","18:00:00",42,61,0,11,5,1,0,0,0,0,0,0,2,10,41,40,17,5,4,0,1,0,0,0,0,0,0,0,0,0,0,0,21.341666666666672,22.9,9.3000000000000007,48.9,36,55,11,4,0,106,6,6,0,1,1,14,42,61,11,5,1,120]
[1,{"$f":"OFFSET(Input_Details!$Q$4,MATCH($A173, Input_Details!$J$5:$J$24, 0), 1)","v":"2017-04-25"},{"$f":"INDEX(Input_Details!$H$5:$H$24, MATCH($A173, Input_Details!$J$5:$J$24, 0), 0)","v":"Harper Road (South of Falmouth Road)"},{"$f":"INDEX(Input_Details!$I$5:$I$24, MATCH($A173, Input_Details!$J$5:$J$24, 0), 0)","v":"51.49617, -0.09302"},{"$f":"INDEX(Input_Details!$K$5:$K$24, MATCH($A173, Input_Details!$J$5:$J$24, 0), 0)","v":"Southbound"},"Tues","18:15:00",25,49,1,8,1,3,0,0,0,0,1,0,2,16,27,30,9,1,3,0,0,0,0,0,0,0,0,0,0,0,0,0,20,24.8,9.5,38.9,{"$f":"INDEX(Input_Details!$L$5:$L$24, MATCH($A173, Input_Details!$J$5:$J$24, 0), 0)","v":"Northbound"},"Tues","18:15:00",1,13,1,0,1,0,0,0,0,0,0,0,0,3,5,7,1,0,0,0,0,0,0,0,0,0,0,0,0,0,0,0,19,21.5,13.9,25.9,null,"Tues","18:15:00",26,62,2,8,2,3,0,0,0,0,1,0,2,19,32,37,10,1,3,0,0,0,0,0,0,0,0,0,0,0,0,0,19.846153846153847,23.15,9.5,38.9,25,50,8,1,4,88,1,14,0,1,0,16,26,64,8,2,4,104]
[1,{"$f":"OFFSET(Input_Details!$Q$4,MATCH($A174, Input_Details!$J$5:$J$24, 0), 1)","v":"2017-04-25"},{"$f":"INDEX(Input_Details!$H$5:$H$24, MATCH($A174, Input_Details!$J$5:$J$24, 0), 0)","v":"Harper Road (South of Falmouth Road)"},{"$f":"INDEX(Input_Details!$I$5:$I$24, MATCH($A174, Input_Details!$J$5:$J$24, 0), 0)","v":"51.49617, -0.09302"},{"$f":"INDEX(Input_Details!$K$5:$K$24, MATCH($A174, Input_Details!$J$5:$J$24, 0), 0)","v":"Southbound"},"Tues","18:30:00",34,63,1,3,1,1,0,1,0,0,0,2,0,14,53,24,9,2,4,0,0,0,0,0,0,0,0,0,0,0,0,0,19.8,24.6,11.3,39.6,{"$f":"INDEX(Input_Details!$L$5:$L$24, MATCH($A174, Input_Details!$J$5:$J$24, 0), 0)","v":"Northbound"},"Tues","18:30:00",4,13,0,0,0,0,0,0,0,0,0,0,3,12,0,2,0,0,0,0,0,0,0,0,0,0,0,0,0,0,0,0,13.6,13.9,8.3000000000000007,20.399999999999999,null,"Tues","18:30:00",38,76,1,3,1,1,0,1,0,0,0,2,3,26,53,26,9,2,4,0,0,0,0,0,0,0,0,0,0,0,0,0,18.943089430894307,19.25,8.3000000000000007,39.6,34,64,3,1,4,106,4,13,0,0,0,17,38,77,3,1,4,123]
[1,{"$f":"OFFSET(Input_Details!$Q$4,MATCH($A175, Input_Details!$J$5:$J$24, 0), 1)","v":"2017-04-25"},{"$f":"INDEX(Input_Details!$H$5:$H$24, MATCH($A175, Input_Details!$J$5:$J$24, 0), 0)","v":"Harper Road (South of Falmouth Road)"},{"$f":"INDEX(Input_Details!$I$5:$I$24, MATCH($A175, Input_Details!$J$5:$J$24, 0), 0)","v":"51.49617, -0.09302"},{"$f":"INDEX(Input_Details!$K$5:$K$24, MATCH($A175, Input_Details!$J$5:$J$24, 0), 0)","v":"Southbound"},"Tues","18:45:00",23,57,2,8,1,5,0,1,0,0,0,0,1,33,37,17,8,1,0,0,0,0,0,0,0,0,0,0,0,0,0,0,17.8,22.1,7,31.6,{"$f":"INDEX(Input_Details!$L$5:$L$24, MATCH($A175, Input_Details!$J$5:$J$24, 0), 0)","v":"Northbound"},"Tues","18:45:00",2,7,0,0,1,0,0,0,0,0,0,0,4,4,1,1,0,0,0,0,0,0,0,0,0,0,0,0,0,0,0,0,12.9,"-",9.4,22,null,"Tues","18:45:00",25,64,2,8,2,5,0,1,0,0,0,0,5,37,38,18,8,1,0,0,0,0,0,0,0,0,0,0,0,0,0,0,17.342056074766358,22.1,7,31.6,23,59,8,1,6,97,2,7,0,1,0,10,25,66,8,2,6,107]
[1,{"$f":"OFFSET(Input_Details!$Q$4,MATCH($A176, Input_Details!$J$5:$J$24, 0), 1)","v":"2017-04-25"},{"$f":"INDEX(Input_Details!$H$5:$H$24, MATCH($A176, Input_Details!$J$5:$J$24, 0), 0)","v":"Harper Road (South of Falmouth Road)"},{"$f":"INDEX(Input_Details!$I$5:$I$24, MATCH($A176, Input_Details!$J$5:$J$24, 0), 0)","v":"51.49617, -0.09302"},{"$f":"INDEX(Input_Details!$K$5:$K$24, MATCH($A176, Input_Details!$J$5:$J$24, 0), 0)","v":"Southbound"},"Tues","19:00:00",16,53,2,2,2,0,0,1,0,0,0,0,2,15,39,17,2,1,0,0,0,0,0,0,0,0,0,0,0,0,0,0,18.2,22.1,8.3000000000000007,33.5,{"$f":"INDEX(Input_Details!$L$5:$L$24, MATCH($A176, Input_Details!$J$5:$J$24, 0), 0)","v":"Northbound"},"Tues","19:00:00",0,6,0,0,1,0,0,0,0,0,0,0,0,2,5,0,0,0,0,0,0,0,0,0,0,0,0,0,0,0,0,0,16.5,"-",14.1,19.600000000000001,null,"Tues","19:00:00",16,59,2,2,3,0,0,1,0,0,0,0,2,17,44,17,2,1,0,0,0,0,0,0,0,0,0,0,0,0,0,0,18.056626506024099,22.1,8.3000000000000007,33.5,16,55,2,2,1,76,0,6,0,1,0,7,16,61,2,3,1,83]
[1,{"$f":"OFFSET(Input_Details!$Q$4,MATCH($A177, Input_Details!$J$5:$J$24, 0), 1)","v":"2017-04-25"},{"$f":"INDEX(Input_Details!$H$5:$H$24, MATCH($A177, Input_Details!$J$5:$J$24, 0), 0)","v":"Harper Road (South of Falmouth Road)"},{"$f":"INDEX(Input_Details!$I$5:$I$24, MATCH($A177, Input_Details!$J$5:$J$24, 0), 0)","v":"51.49617, -0.09302"},{"$f":"INDEX(Input_Details!$K$5:$K$24, MATCH($A177, Input_Details!$J$5:$J$24, 0), 0)","v":"Southbound"},"Tues","19:15:00",12,53,0,3,5,0,0,0,0,1,0,0,1,9,39,21,2,2,0,0,0,0,0,0,0,0,0,0,0,0,0,0,19.100000000000001,22.1,8.6999999999999993,34.299999999999997,{"$f":"INDEX(Input_Details!$L$5:$L$24, MATCH($A177, Input_Details!$J$5:$J$24, 0), 0)","v":"Northbound"},"Tues","19:15:00",3,7,0,0,0,0,0,0,0,0,0,0,1,7,2,0,0,0,0,0,0,0,0,0,0,0,0,0,0,0,0,0,13.6,"-",9.5,17.600000000000001,null,"Tues","19:15:00",15,60,0,3,5,0,0,0,0,1,0,0,2,16,41,21,2,2,0,0,0,0,0,0,0,0,0,0,0,0,0,0,18.445238095238096,22.1,8.6999999999999993,34.299999999999997,12,53,3,5,1,74,3,7,0,0,0,10,15,60,3,5,1,84]
[1,{"$f":"OFFSET(Input_Details!$Q$4,MATCH($A178, Input_Details!$J$5:$J$24, 0), 1)","v":"2017-04-25"},{"$f":"INDEX(Input_Details!$H$5:$H$24, MATCH($A178, Input_Details!$J$5:$J$24, 0), 0)","v":"Harper Road (South of Falmouth Road)"},{"$f":"INDEX(Input_Details!$I$5:$I$24, MATCH($A178, Input_Details!$J$5:$J$24, 0), 0)","v":"51.49617, -0.09302"},{"$f":"INDEX(Input_Details!$K$5:$K$24, MATCH($A178, Input_Details!$J$5:$J$24, 0), 0)","v":"Southbound"},"Tues","19:30:00",17,53,1,4,2,0,0,0,0,0,0,0,0,11,46,16,4,0,0,0,0,0,0,0,0,0,0,0,0,0,0,0,18.2,21.3,11.2,29.7,{"$f":"INDEX(Input_Details!$L$5:$L$24, MATCH($A178, Input_Details!$J$5:$J$24, 0), 0)","v":"Northbound"},"Tues","19:30:00",3,10,0,0,1,0,0,0,0,0,0,0,0,2,7,5,0,0,0,0,0,0,0,0,0,0,0,0,0,0,0,0,18.5,20.8,13.9,23.3,null,"Tues","19:30:00",20,63,1,4,3,0,0,0,0,0,0,0,0,13,53,21,4,0,0,0,0,0,0,0,0,0,0,0,0,0,0,0,18.246153846153845,21.05,11.2,29.7,17,54,4,2,0,77,3,10,0,1,0,14,20,64,4,3,0,91]
[1,{"$f":"OFFSET(Input_Details!$Q$4,MATCH($A179, Input_Details!$J$5:$J$24, 0), 1)","v":"2017-04-25"},{"$f":"INDEX(Input_Details!$H$5:$H$24, MATCH($A179, Input_Details!$J$5:$J$24, 0), 0)","v":"Harper Road (South of Falmouth Road)"},{"$f":"INDEX(Input_Details!$I$5:$I$24, MATCH($A179, Input_Details!$J$5:$J$24, 0), 0)","v":"51.49617, -0.09302"},{"$f":"INDEX(Input_Details!$K$5:$K$24, MATCH($A179, Input_Details!$J$5:$J$24, 0), 0)","v":"Southbound"},"Tues","19:45:00",7,53,1,0,3,0,0,0,0,0,0,0,3,10,30,17,2,2,0,0,0,0,0,0,0,0,0,0,0,0,0,0,18.5,21.9,9.3000000000000007,34.1,{"$f":"INDEX(Input_Details!$L$5:$L$24, MATCH($A179, Input_Details!$J$5:$J$24, 0), 0)","v":"Northbound"},"Tues","19:45:00",0,8,0,0,0,0,0,0,0,0,0,0,0,2,5,0,1,0,0,0,0,0,0,0,0,0,0,0,0,0,0,0,16.600000000000001,"-",14.1,26.4,null,"Tues","19:45:00",7,61,1,0,3,0,0,0,0,0,0,0,3,12,35,17,3,2,0,0,0,0,0,0,0,0,0,0,0,0,0,0,18.288888888888888,21.9,9.3000000000000007,34.1,7,54,0,3,0,64,0,8,0,0,0,8,7,62,0,3,0,72]
[1,{"$f":"OFFSET(Input_Details!$Q$4,MATCH($A180, Input_Details!$J$5:$J$24, 0), 1)","v":"2017-04-25"},{"$f":"INDEX(Input_Details!$H$5:$H$24, MATCH($A180, Input_Details!$J$5:$J$24, 0), 0)","v":"Harper Road (South of Falmouth Road)"},{"$f":"INDEX(Input_Details!$I$5:$I$24, MATCH($A180, Input_Details!$J$5:$J$24, 0), 0)","v":"51.49617, -0.09302"},{"$f":"INDEX(Input_Details!$K$5:$K$24, MATCH($A180, Input_Details!$J$5:$J$24, 0), 0)","v":"Southbound"},"Tues","20:00:00",5,47,0,0,0,0,0,0,0,0,0,0,0,8,23,12,7,2,0,0,0,0,0,0,0,0,0,0,0,0,0,0,19.600000000000001,25.1,11.2,31.6,{"$f":"INDEX(Input_Details!$L$5:$L$24, MATCH($A180, Input_Details!$J$5:$J$24, 0), 0)","v":"Northbound"},"Tues","20:00:00",1,11,0,0,1,0,0,0,0,0,0,0,2,8,2,1,0,0,0,0,0,0,0,0,0,0,0,0,0,0,0,0,14.1,15.7,7.7,23.1,null,"Tues","20:00:00",6,58,0,0,1,0,0,0,0,0,0,0,2,16,25,13,7,2,0,0,0,0,0,0,0,0,0,0,0,0,0,0,18.5,20.399999999999999,7.7,31.6,5,47,0,0,0,52,1,11,0,1,0,13,6,58,0,1,0,65]
[1,{"$f":"OFFSET(Input_Details!$Q$4,MATCH($A181, Input_Details!$J$5:$J$24, 0), 1)","v":"2017-04-25"},{"$f":"INDEX(Input_Details!$H$5:$H$24, MATCH($A181, Input_Details!$J$5:$J$24, 0), 0)","v":"Harper Road (South of Falmouth Road)"},{"$f":"INDEX(Input_Details!$I$5:$I$24, MATCH($A181, Input_Details!$J$5:$J$24, 0), 0)","v":"51.49617, -0.09302"},{"$f":"INDEX(Input_Details!$K$5:$K$24, MATCH($A181, Input_Details!$J$5:$J$24, 0), 0)","v":"Southbound"},"Tues","20:15:00",8,40,0,2,1,0,0,0,0,0,0,0,0,8,28,9,3,3,0,0,0,0,0,0,0,0,0,0,0,0,0,0,18.7,22.8,10.4,33.1,{"$f":"INDEX(Input_Details!$L$5:$L$24, MATCH($A181, Input_Details!$J$5:$J$24, 0), 0)","v":"Northbound"},"Tues","20:15:00",0,9,0,0,1,0,0,0,0,0,0,0,0,7,3,0,0,0,0,0,0,0,0,0,0,0,0,0,0,0,0,0,14.3,"-",12.8,15.3,null,"Tues","20:15:00",8,49,0,2,2,0,0,0,0,0,0,0,0,15,31,9,3,3,0,0,0,0,0,0,0,0,0,0,0,0,0,0,17.978688524590162,22.8,10.4,33.1,8,40,2,1,0,51,0,9,0,1,0,10,8,49,2,2,0,61]
[1,{"$f":"OFFSET(Input_Details!$Q$4,MATCH($A182, Input_Details!$J$5:$J$24, 0), 1)","v":"2017-04-25"},{"$f":"INDEX(Input_Details!$H$5:$H$24, MATCH($A182, Input_Details!$J$5:$J$24, 0), 0)","v":"Harper Road (South of Falmouth Road)"},{"$f":"INDEX(Input_Details!$I$5:$I$24, MATCH($A182, Input_Details!$J$5:$J$24, 0), 0)","v":"51.49617, -0.09302"},{"$f":"INDEX(Input_Details!$K$5:$K$24, MATCH($A182, Input_Details!$J$5:$J$24, 0), 0)","v":"Southbound"},"Tues","20:30:00",8,53,0,2,2,0,0,0,0,0,0,0,1,13,39,7,2,1,1,1,0,0,0,0,0,0,0,0,0,0,0,0,17.8,20.6,8.3000000000000007,44.7,{"$f":"INDEX(Input_Details!$L$5:$L$24, MATCH($A182, Input_Details!$J$5:$J$24, 0), 0)","v":"Northbound"},"Tues","20:30:00",2,9,0,0,0,0,0,0,0,0,0,0,0,3,1,2,4,0,0,1,0,0,0,0,0,0,0,0,0,0,0,0,22.4,29.5,10.6,42.3,null,"Tues","20:30:00",10,62,0,2,2,0,0,0,0,0,0,0,1,16,40,9,6,1,1,2,0,0,0,0,0,0,0,0,0,0,0,0,18.465789473684211,25.05,8.3000000000000007,44.7,8,53,2,2,0,65,2,9,0,0,0,11,10,62,2,2,0,76]
[1,{"$f":"OFFSET(Input_Details!$Q$4,MATCH($A183, Input_Details!$J$5:$J$24, 0), 1)","v":"2017-04-25"},{"$f":"INDEX(Input_Details!$H$5:$H$24, MATCH($A183, Input_Details!$J$5:$J$24, 0), 0)","v":"Harper Road (South of Falmouth Road)"},{"$f":"INDEX(Input_Details!$I$5:$I$24, MATCH($A183, Input_Details!$J$5:$J$24, 0), 0)","v":"51.49617, -0.09302"},{"$f":"INDEX(Input_Details!$K$5:$K$24, MATCH($A183, Input_Details!$J$5:$J$24, 0), 0)","v":"Southbound"},"Tues","20:45:00",4,36,1,0,2,1,0,0,0,1,0,0,0,9,27,5,3,1,0,0,0,0,0,0,0,0,0,0,0,0,0,0,18.100000000000001,20.8,10.6,30.3,{"$f":"INDEX(Input_Details!$L$5:$L$24, MATCH($A183, Input_Details!$J$5:$J$24, 0), 0)","v":"Northbound"},"Tues","20:45:00",1,13,0,0,1,0,0,0,0,0,0,0,0,2,7,5,1,0,0,0,0,0,0,0,0,0,0,0,0,0,0,0,19.2,22.4,11.7,28.7,null,"Tues","20:45:00",5,49,1,0,3,1,0,0,0,1,0,0,0,11,34,10,4,1,0,0,0,0,0,0,0,0,0,0,0,0,0,0,18.375,21.6,10.6,30.3,4,37,0,2,2,45,1,13,0,1,0,15,5,50,0,3,2,60]
[1,{"$f":"OFFSET(Input_Details!$Q$4,MATCH($A184, Input_Details!$J$5:$J$24, 0), 1)","v":"2017-04-25"},{"$f":"INDEX(Input_Details!$H$5:$H$24, MATCH($A184, Input_Details!$J$5:$J$24, 0), 0)","v":"Harper Road (South of Falmouth Road)"},{"$f":"INDEX(Input_Details!$I$5:$I$24, MATCH($A184, Input_Details!$J$5:$J$24, 0), 0)","v":"51.49617, -0.09302"},{"$f":"INDEX(Input_Details!$K$5:$K$24, MATCH($A184, Input_Details!$J$5:$J$24, 0), 0)","v":"Southbound"},"Tues","21:00:00",5,32,0,1,1,1,0,0,0,0,0,0,0,5,27,5,2,1,0,0,0,0,0,0,0,0,0,0,0,0,0,0,18.899999999999999,21.3,12,31.5,{"$f":"INDEX(Input_Details!$L$5:$L$24, MATCH($A184, Input_Details!$J$5:$J$24, 0), 0)","v":"Northbound"},"Tues","21:00:00",3,12,0,0,1,0,0,0,0,0,0,0,0,1,6,5,3,1,0,0,0,0,0,0,0,0,0,0,0,0,0,0,21.2,25.3,11.8,33.9,null,"Tues","21:00:00",8,44,0,1,2,1,0,0,0,0,0,0,0,6,33,10,5,2,0,0,0,0,0,0,0,0,0,0,0,0,0,0,19.557142857142857,23.3,11.8,33.9,5,32,1,1,1,40,3,12,0,1,0,16,8,44,1,2,1,56]
[1,{"$f":"OFFSET(Input_Details!$Q$4,MATCH($A185, Input_Details!$J$5:$J$24, 0), 1)","v":"2017-04-25"},{"$f":"INDEX(Input_Details!$H$5:$H$24, MATCH($A185, Input_Details!$J$5:$J$24, 0), 0)","v":"Harper Road (South of Falmouth Road)"},{"$f":"INDEX(Input_Details!$I$5:$I$24, MATCH($A185, Input_Details!$J$5:$J$24, 0), 0)","v":"51.49617, -0.09302"},{"$f":"INDEX(Input_Details!$K$5:$K$24, MATCH($A185, Input_Details!$J$5:$J$24, 0), 0)","v":"Southbound"},"Tues","21:15:00",8,25,0,0,0,2,0,0,0,0,0,0,0,8,22,4,1,0,0,0,0,0,0,0,0,0,0,0,0,0,0,0,17,19.5,11.1,25.5,{"$f":"INDEX(Input_Details!$L$5:$L$24, MATCH($A185, Input_Details!$J$5:$J$24, 0), 0)","v":"Northbound"},"Tues","21:15:00",5,6,0,0,0,0,0,0,0,0,0,0,1,3,6,0,1,0,0,0,0,0,0,0,0,0,0,0,0,0,0,0,15.8,17.2,6.8,26.2,null,"Tues","21:15:00",13,31,0,0,0,2,0,0,0,0,0,0,1,11,28,4,2,0,0,0,0,0,0,0,0,0,0,0,0,0,0,0,16.713043478260868,18.350000000000001,6.8,26.2,8,25,0,0,2,35,5,6,0,0,0,11,13,31,0,0,2,46]
[1,{"$f":"OFFSET(Input_Details!$Q$4,MATCH($A186, Input_Details!$J$5:$J$24, 0), 1)","v":"2017-04-25"},{"$f":"INDEX(Input_Details!$H$5:$H$24, MATCH($A186, Input_Details!$J$5:$J$24, 0), 0)","v":"Harper Road (South of Falmouth Road)"},{"$f":"INDEX(Input_Details!$I$5:$I$24, MATCH($A186, Input_Details!$J$5:$J$24, 0), 0)","v":"51.49617, -0.09302"},{"$f":"INDEX(Input_Details!$K$5:$K$24, MATCH($A186, Input_Details!$J$5:$J$24, 0), 0)","v":"Southbound"},"Tues","21:30:00",6,24,0,0,1,0,0,0,1,0,0,0,1,9,14,6,1,1,0,0,0,0,0,0,0,0,0,0,0,0,0,0,17.5,22.4,9.6999999999999993,31.5,{"$f":"INDEX(Input_Details!$L$5:$L$24, MATCH($A186, Input_Details!$J$5:$J$24, 0), 0)","v":"Northbound"},"Tues","21:30:00",1,10,0,0,1,0,0,0,0,0,0,0,0,5,6,1,0,0,0,0,0,0,0,0,0,0,0,0,0,0,0,0,15.8,17.7,12.4,21.3,null,"Tues","21:30:00",7,34,0,0,2,0,0,0,1,0,0,0,1,14,20,7,1,1,0,0,0,0,0,0,0,0,0,0,0,0,0,0,17.036363636363635,20.049999999999997,9.6999999999999993,31.5,6,24,0,1,1,32,1,10,0,1,0,12,7,34,0,2,1,44]
[1,{"$f":"OFFSET(Input_Details!$Q$4,MATCH($A187, Input_Details!$J$5:$J$24, 0), 1)","v":"2017-04-25"},{"$f":"INDEX(Input_Details!$H$5:$H$24, MATCH($A187, Input_Details!$J$5:$J$24, 0), 0)","v":"Harper Road (South of Falmouth Road)"},{"$f":"INDEX(Input_Details!$I$5:$I$24, MATCH($A187, Input_Details!$J$5:$J$24, 0), 0)","v":"51.49617, -0.09302"},{"$f":"INDEX(Input_Details!$K$5:$K$24, MATCH($A187, Input_Details!$J$5:$J$24, 0), 0)","v":"Southbound"},"Tues","21:45:00",6,28,0,0,3,0,0,0,0,0,0,0,0,4,22,8,2,1,0,0,0,0,0,0,0,0,0,0,0,0,0,0,18.7,20.6,11.1,31.9,{"$f":"INDEX(Input_Details!$L$5:$L$24, MATCH($A187, Input_Details!$J$5:$J$24, 0), 0)","v":"Northbound"},"Tues","21:45:00",1,11,0,0,1,0,0,0,1,0,0,0,0,1,12,1,0,0,0,0,0,0,0,0,0,0,0,0,0,0,0,0,17.3,19,12.6,23.1,null,"Tues","21:45:00",7,39,0,0,4,0,0,0,1,0,0,0,0,5,34,9,2,1,0,0,0,0,0,0,0,0,0,0,0,0,0,0,18.315686274509805,19.8,11.1,31.9,6,28,0,3,0,37,1,11,0,1,1,14,7,39,0,4,1,51]
[1,{"$f":"OFFSET(Input_Details!$Q$4,MATCH($A188, Input_Details!$J$5:$J$24, 0), 1)","v":"2017-04-25"},{"$f":"INDEX(Input_Details!$H$5:$H$24, MATCH($A188, Input_Details!$J$5:$J$24, 0), 0)","v":"Harper Road (South of Falmouth Road)"},{"$f":"INDEX(Input_Details!$I$5:$I$24, MATCH($A188, Input_Details!$J$5:$J$24, 0), 0)","v":"51.49617, -0.09302"},{"$f":"INDEX(Input_Details!$K$5:$K$24, MATCH($A188, Input_Details!$J$5:$J$24, 0), 0)","v":"Southbound"},"Tues","22:00:00",6,35,1,0,4,0,0,0,0,0,0,0,0,6,16,17,5,1,0,1,0,0,0,0,0,0,0,0,0,0,0,0,20.399999999999999,24.2,10.5,42.4,{"$f":"INDEX(Input_Details!$L$5:$L$24, MATCH($A188, Input_Details!$J$5:$J$24, 0), 0)","v":"Northbound"},"Tues","22:00:00",2,6,0,0,1,0,0,0,0,0,0,0,0,2,5,1,1,0,0,0,0,0,0,0,0,0,0,0,0,0,0,0,18.600000000000001,"-",12.1,25.5,null,"Tues","22:00:00",8,41,1,0,5,0,0,0,0,0,0,0,0,8,21,18,6,1,0,1,0,0,0,0,0,0,0,0,0,0,0,0,20.105454545454545,24.2,10.5,42.4,6,36,0,4,0,46,2,6,0,1,0,9,8,42,0,5,0,55]
[1,{"$f":"OFFSET(Input_Details!$Q$4,MATCH($A189, Input_Details!$J$5:$J$24, 0), 1)","v":"2017-04-25"},{"$f":"INDEX(Input_Details!$H$5:$H$24, MATCH($A189, Input_Details!$J$5:$J$24, 0), 0)","v":"Harper Road (South of Falmouth Road)"},{"$f":"INDEX(Input_Details!$I$5:$I$24, MATCH($A189, Input_Details!$J$5:$J$24, 0), 0)","v":"51.49617, -0.09302"},{"$f":"INDEX(Input_Details!$K$5:$K$24, MATCH($A189, Input_Details!$J$5:$J$24, 0), 0)","v":"Southbound"},"Tues","22:15:00",7,40,0,1,5,0,0,0,0,0,0,0,0,4,33,12,4,0,0,0,0,0,0,0,0,0,0,0,0,0,0,0,18.600000000000001,21,10.6,29.3,{"$f":"INDEX(Input_Details!$L$5:$L$24, MATCH($A189, Input_Details!$J$5:$J$24, 0), 0)","v":"Northbound"},"Tues","22:15:00",0,13,0,0,0,0,0,0,0,0,0,0,0,1,12,0,0,0,0,0,0,0,0,0,0,0,0,0,0,0,0,0,15.6,16.8,13.2,17.600000000000001,null,"Tues","22:15:00",7,53,0,1,5,0,0,0,0,0,0,0,0,5,45,12,4,0,0,0,0,0,0,0,0,0,0,0,0,0,0,0,18.009090909090911,18.899999999999999,10.6,29.3,7,40,1,5,0,53,0,13,0,0,0,13,7,53,1,5,0,66]
[1,{"$f":"OFFSET(Input_Details!$Q$4,MATCH($A190, Input_Details!$J$5:$J$24, 0), 1)","v":"2017-04-25"},{"$f":"INDEX(Input_Details!$H$5:$H$24, MATCH($A190, Input_Details!$J$5:$J$24, 0), 0)","v":"Harper Road (South of Falmouth Road)"},{"$f":"INDEX(Input_Details!$I$5:$I$24, MATCH($A190, Input_Details!$J$5:$J$24, 0), 0)","v":"51.49617, -0.09302"},{"$f":"INDEX(Input_Details!$K$5:$K$24, MATCH($A190, Input_Details!$J$5:$J$24, 0), 0)","v":"Southbound"},"Tues","22:30:00",7,32,0,0,5,2,0,0,0,1,0,0,0,12,20,13,1,1,0,0,0,0,0,0,0,0,0,0,0,0,0,0,18.100000000000001,21,11.5,33,{"$f":"INDEX(Input_Details!$L$5:$L$24, MATCH($A190, Input_Details!$J$5:$J$24, 0), 0)","v":"Northbound"},"Tues","22:30:00",0,10,0,0,0,0,0,0,0,0,0,0,0,0,10,0,0,0,0,0,0,0,0,0,0,0,0,0,0,0,0,0,15.6,"-",15,18.8,null,"Tues","22:30:00",7,42,0,0,5,2,0,0,0,1,0,0,0,12,30,13,1,1,0,0,0,0,0,0,0,0,0,0,0,0,0,0,17.661403508771929,21,11.5,33,7,32,0,5,3,47,0,10,0,0,0,10,7,42,0,5,3,57]
[1,{"$f":"OFFSET(Input_Details!$Q$4,MATCH($A191, Input_Details!$J$5:$J$24, 0), 1)","v":"2017-04-25"},{"$f":"INDEX(Input_Details!$H$5:$H$24, MATCH($A191, Input_Details!$J$5:$J$24, 0), 0)","v":"Harper Road (South of Falmouth Road)"},{"$f":"INDEX(Input_Details!$I$5:$I$24, MATCH($A191, Input_Details!$J$5:$J$24, 0), 0)","v":"51.49617, -0.09302"},{"$f":"INDEX(Input_Details!$K$5:$K$24, MATCH($A191, Input_Details!$J$5:$J$24, 0), 0)","v":"Southbound"},"Tues","22:45:00",8,32,0,0,4,0,0,0,0,0,0,0,1,6,13,17,5,2,0,0,0,0,0,0,0,0,0,0,0,0,0,0,20.5,23.7,9.8000000000000007,31,{"$f":"INDEX(Input_Details!$L$5:$L$24, MATCH($A191, Input_Details!$J$5:$J$24, 0), 0)","v":"Northbound"},"Tues","22:45:00",0,8,0,0,0,0,0,0,0,0,0,0,0,2,6,0,0,0,0,0,0,0,0,0,0,0,0,0,0,0,0,0,15.9,"-",11.8,16.899999999999999,null,"Tues","22:45:00",8,40,0,0,4,0,0,0,0,0,0,0,1,8,19,17,5,2,0,0,0,0,0,0,0,0,0,0,0,0,0,0,19.792307692307695,23.7,9.8000000000000007,31,8,32,0,4,0,44,0,8,0,0,0,8,8,40,0,4,0,52]
[1,{"$f":"OFFSET(Input_Details!$Q$4,MATCH($A192, Input_Details!$J$5:$J$24, 0), 1)","v":"2017-04-25"},{"$f":"INDEX(Input_Details!$H$5:$H$24, MATCH($A192, Input_Details!$J$5:$J$24, 0), 0)","v":"Harper Road (South of Falmouth Road)"},{"$f":"INDEX(Input_Details!$I$5:$I$24, MATCH($A192, Input_Details!$J$5:$J$24, 0), 0)","v":"51.49617, -0.09302"},{"$f":"INDEX(Input_Details!$K$5:$K$24, MATCH($A192, Input_Details!$J$5:$J$24, 0), 0)","v":"Southbound"},"Tues","23:00:00",7,36,0,2,5,0,0,0,0,1,0,0,2,12,25,7,4,1,0,0,0,0,0,0,0,0,0,0,0,0,0,0,18.100000000000001,21.3,9.6,33.799999999999997,{"$f":"INDEX(Input_Details!$L$5:$L$24, MATCH($A192, Input_Details!$J$5:$J$24, 0), 0)","v":"Northbound"},"Tues","23:00:00",2,9,0,0,0,1,0,0,0,0,0,0,1,5,1,4,1,0,0,0,0,0,0,0,0,0,0,0,0,0,0,0,17.8,21.7,8.8000000000000007,29.5,null,"Tues","23:00:00",9,45,0,2,5,1,0,0,0,1,0,0,3,17,26,11,5,1,0,0,0,0,0,0,0,0,0,0,0,0,0,0,18.042857142857144,21.5,8.8000000000000007,33.799999999999997,7,36,2,5,1,51,2,9,0,0,1,12,9,45,2,5,2,63]
[1,{"$f":"OFFSET(Input_Details!$Q$4,MATCH($A193, Input_Details!$J$5:$J$24, 0), 1)","v":"2017-04-25"},{"$f":"INDEX(Input_Details!$H$5:$H$24, MATCH($A193, Input_Details!$J$5:$J$24, 0), 0)","v":"Harper Road (South of Falmouth Road)"},{"$f":"INDEX(Input_Details!$I$5:$I$24, MATCH($A193, Input_Details!$J$5:$J$24, 0), 0)","v":"51.49617, -0.09302"},{"$f":"INDEX(Input_Details!$K$5:$K$24, MATCH($A193, Input_Details!$J$5:$J$24, 0), 0)","v":"Southbound"},"Tues","23:15:00",4,19,0,1,2,1,0,0,0,0,1,0,0,6,10,7,4,1,0,0,0,0,0,0,0,0,0,0,0,0,0,0,19,25.7,11,30.9,{"$f":"INDEX(Input_Details!$L$5:$L$24, MATCH($A193, Input_Details!$J$5:$J$24, 0), 0)","v":"Northbound"},"Tues","23:15:00",0,6,0,0,0,0,0,0,0,0,0,0,0,6,0,0,0,0,0,0,0,0,0,0,0,0,0,0,0,0,0,0,13.7,"-",13.1,13.8,null,"Tues","23:15:00",4,25,0,1,2,1,0,0,0,0,1,0,0,12,10,7,4,1,0,0,0,0,0,0,0,0,0,0,0,0,0,0,18.064705882352943,25.7,11,30.9,4,19,1,2,2,28,0,6,0,0,0,6,4,25,1,2,2,34]
[1,{"$f":"OFFSET(Input_Details!$Q$4,MATCH($A194, Input_Details!$J$5:$J$24, 0), 1)","v":"2017-04-25"},{"$f":"INDEX(Input_Details!$H$5:$H$24, MATCH($A194, Input_Details!$J$5:$J$24, 0), 0)","v":"Harper Road (South of Falmouth Road)"},{"$f":"INDEX(Input_Details!$I$5:$I$24, MATCH($A194, Input_Details!$J$5:$J$24, 0), 0)","v":"51.49617, -0.09302"},{"$f":"INDEX(Input_Details!$K$5:$K$24, MATCH($A194, Input_Details!$J$5:$J$24, 0), 0)","v":"Southbound"},"Tues","23:30:00",6,18,0,0,5,0,0,0,0,0,0,0,0,4,12,10,2,0,1,0,0,0,0,0,0,0,0,0,0,0,0,0,19.899999999999999,23.5,10.4,39.1,{"$f":"INDEX(Input_Details!$L$5:$L$24, MATCH($A194, Input_Details!$J$5:$J$24, 0), 0)","v":"Northbound"},"Tues","23:30:00",0,5,0,0,1,0,0,0,0,0,0,0,0,1,5,0,0,0,0,0,0,0,0,0,0,0,0,0,0,0,0,0,15.3,"-",11.3,18.5,null,"Tues","23:30:00",6,23,0,0,6,0,0,0,0,0,0,0,0,5,17,10,2,0,1,0,0,0,0,0,0,0,0,0,0,0,0,0,19.111428571428569,23.5,10.4,39.1,6,18,0,5,0,29,0,5,0,1,0,6,6,23,0,6,0,35]
[1,{"$f":"OFFSET(Input_Details!$Q$4,MATCH($A195, Input_Details!$J$5:$J$24, 0), 1)","v":"2017-04-25"},{"$f":"INDEX(Input_Details!$H$5:$H$24, MATCH($A195, Input_Details!$J$5:$J$24, 0), 0)","v":"Harper Road (South of Falmouth Road)"},{"$f":"INDEX(Input_Details!$I$5:$I$24, MATCH($A195, Input_Details!$J$5:$J$24, 0), 0)","v":"51.49617, -0.09302"},{"$f":"INDEX(Input_Details!$K$5:$K$24, MATCH($A195, Input_Details!$J$5:$J$24, 0), 0)","v":"Southbound"},"Tues","23:45:00",7,31,0,1,3,0,0,0,1,1,0,1,0,3,20,19,2,1,0,0,0,0,0,0,0,0,0,0,0,0,0,0,20.100000000000001,24.2,14,34.1,{"$f":"INDEX(Input_Details!$L$5:$L$24, MATCH($A195, Input_Details!$J$5:$J$24, 0), 0)","v":"Northbound"},"Tues","23:45:00",0,15,0,0,0,0,0,0,0,0,0,0,1,10,3,1,0,0,0,0,0,0,0,0,0,0,0,0,0,0,0,0,14.6,15.4,8.3000000000000007,21,null,"Tues","23:45:00",7,46,0,1,3,0,0,0,1,1,0,1,1,13,23,20,2,1,0,0,0,0,0,0,0,0,0,0,0,0,0,0,18.725000000000001,19.8,8.3000000000000007,34.1,7,31,1,3,3,45,0,15,0,0,0,15,7,46,1,3,3,60]
[1,{"$f":"OFFSET(Input_Details!$Q$4,MATCH($A196, Input_Details!$J$5:$J$24, 0), 2)","v":"2017-04-26"},{"$f":"INDEX(Input_Details!$H$5:$H$24, MATCH($A196, Input_Details!$J$5:$J$24, 0), 0)","v":"Harper Road (South of Falmouth Road)"},{"$f":"INDEX(Input_Details!$I$5:$I$24, MATCH($A196, Input_Details!$J$5:$J$24, 0), 0)","v":"51.49617, -0.09302"},{"$f":"INDEX(Input_Details!$K$5:$K$24, MATCH($A196, Input_Details!$J$5:$J$24, 0), 0)","v":"Southbound"},"Wed","00:00:00",5,22,0,0,0,0,0,0,0,0,0,0,1,10,14,2,0,0,0,0,0,0,0,0,0,0,0,0,0,0,0,0,15.5,17.2,8.8000000000000007,23,{"$f":"INDEX(Input_Details!$L$5:$L$24, MATCH($A196, Input_Details!$J$5:$J$24, 0), 0)","v":"Northbound"},"Wed","00:00:00",0,7,0,0,0,0,0,0,0,0,0,0,0,3,3,1,0,0,0,0,0,0,0,0,0,0,0,0,0,0,0,0,17.7,"-",13,24.3,null,"Wed","00:00:00",5,{"$f":"IF(OR(I196=\"\", AV196=\"\"), \"-\",SUM(I196+AV196))","v":29},{"$f":"IF(OR(J196=\"\", AW196=\"\"), \"-\",SUM(J196+AW196))","v":0},{"$f":"IF(OR(K196=\"\", AX196=\"\"), \"-\",SUM(K196+AX196))","v":0},{"$f":"IF(OR(L196=\"\", AY196=\"\"), \"-\",SUM(L196+AY196))","v":0},{"$f":"IF(OR(M196=\"\", AZ196=\"\"), \"-\",SUM(M196+AZ196))","v":0},{"$f":"IF(OR(N196=\"\", BA196=\"\"), \"-\",SUM(N196+BA196))","v":0},{"$f":"IF(OR(O196=\"\", BB196=\"\"), \"-\",SUM(O196+BB196))","v":0},{"$f":"IF(OR(P196=\"\", BC196=\"\"), \"-\",SUM(P196+BC196))","v":0},{"$f":"IF(OR(Q196=\"\", BD196=\"\"), \"-\",SUM(Q196+BD196))","v":0},{"$f":"IF(OR(R196=\"\", BE196=\"\"), \"-\",SUM(R196+BE196))","v":0},{"$f":"IF(OR(S196=\"\", BF196=\"\"), \"-\",SUM(S196+BF196))","v":0},{"$f":"IF(OR(T196=\"\", BG196=\"\"), \"-\",SUM(T196+BG196))","v":1},{"$f":"IF(OR(U196=\"\", BH196=\"\"), \"-\",SUM(U196+BH196))","v":13},{"$f":"IF(OR(V196=\"\", BI196=\"\"), \"-\",SUM(V196+BI196))","v":17},{"$f":"IF(OR(W196=\"\", BJ196=\"\"), \"-\",SUM(W196+BJ196))","v":3},{"$f":"IF(OR(X196=\"\", BK196=\"\"), \"-\",SUM(X196+BK196))","v":0},{"$f":"IF(OR(Y196=\"\", BL196=\"\"), \"-\",SUM(Y196+BL196))","v":0},{"$f":"IF(OR(Z196=\"\", BM196=\"\"), \"-\",SUM(Z196+BM196))","v":0},{"$f":"IF(OR(AA196=\"\", BN196=\"\"), \"-\",SUM(AA196+BN196))","v":0},{"$f":"IF(OR(AB196=\"\", BO196=\"\"), \"-\",SUM(AB196+BO196))","v":0},{"$f":"IF(OR(AC196=\"\", BP196=\"\"), \"-\",SUM(AC196+BP196))","v":0},{"$f":"IF(OR(AD196=\"\", BQ196=\"\"), \"-\",SUM(AD196+BQ196))","v":0},{"$f":"IF(OR(AE196=\"\", BR196=\"\"), \"-\",SUM(AE196+BR196))","v":0},{"$f":"IF(OR(AF196=\"\", BS196=\"\"), \"-\",SUM(AF196+BS196))","v":0},{"$f":"IF(OR(AG196=\"\", BT196=\"\"), \"-\",SUM(AG196+BT196))","v":0},{"$f":"IF(OR(AH196=\"\", BU196=\"\"), \"-\",SUM(AH196+BU196))","v":0},{"$f":"IF(OR(AI196=\"\", BV196=\"\"), \"-\",SUM(AI196+BV196))","v":0},{"$f":"IF(OR(AJ196=\"\", BW196=\"\"), \"-\",SUM(AJ196+BW196))","v":0},{"$f":"IF(OR(AK196=\"\", BX196=\"\"), \"-\",SUM(AK196+BX196))","v":0},{"$f":"IF(OR(AL196=\"\", BY196=\"\"), \"-\",SUM(AL196+BY196))","v":0},{"$f":"IF(OR(AM196=\"\", BZ196=\"\"), \"-\",SUM(AM196+BZ196))","v":0},15.952941176470588,17.2,8.8000000000000007,24.3,{"$f":"IF(H196=\"\", \"-\", H196)","v":5},{"$f":"IF(DR196=\"-\", \"-\", SUM(I196:J196))","v":22},{"$f":"IF(DR196=\"-\", \"-\", K196)","v":0},{"$f":"IF(DR196=\"-\", \"-\", L196)","v":0},{"$f":"IF(DR196=\"-\", \"-\", SUM(M196:S196))","v":0},{"$f":"IF(DR196=\"-\", \"-\", SUM(H196:S196))","v":27},0,7,0,0,0,7,5,{"$f":"IF(OR(DS196=\"-\", DY196=\"-\"), \"-\", SUM(DS196,DY196))","v":29},{"$f":"IF(OR(DT196=\"-\", DZ196=\"-\"), \"-\", SUM(DT196,DZ196))","v":0},{"$f":"IF(OR(DU196=\"-\", EA196=\"-\"), \"-\", SUM(DU196,EA196))","v":0},{"$f":"IF(OR(DV196=\"-\", EB196=\"-\"), \"-\", SUM(DV196,EB196))","v":0},{"$f":"IF(OR(DW196=\"-\", EC196=\"-\"), \"-\", SUM(DW196,EC196))","v":34}]
[{"$f":"A196","v":1},{"$f":"OFFSET(Input_Details!$Q$4,MATCH($A197, Input_Details!$J$5:$J$24, 0), 2)","v":"2017-04-26"},{"$f":"INDEX(Input_Details!$H$5:$H$24, MATCH($A197, Input_Details!$J$5:$J$24, 0), 0)","v":"Harper Road (South of Falmouth Road)"},{"$f":"INDEX(Input_Details!$I$5:$I$24, MATCH($A197, Input_Details!$J$5:$J$24, 0), 0)","v":"51.49617, -0.09302"},{"$f":"INDEX(Input_Details!$K$5:$K$24, MATCH($A197, Input_Details!$J$5:$J$24, 0), 0)","v":"Southbound"},"Wed","00:15:00",3,15,0,1,7,0,0,0,0,0,0,0,1,3,11,9,2,0,0,0,0,0,0,0,0,0,0,0,0,0,0,0,19.2,21.3,9,29.9,{"$f":"INDEX(Input_Details!$L$5:$L$24, MATCH($A197, Input_Details!$J$5:$J$24, 0), 0)","v":"Northbound"},"Wed","00:15:00",0,10,0,0,0,0,0,0,0,0,0,0,0,1,9,0,0,0,0,0,0,0,0,0,0,0,0,0,0,0,0,0,16.600000000000001,"-",13.5,19.399999999999999,null,"Wed","00:15:00",{"$f":"IF(OR(H197=\"\", AU197=\"\"), \"-\",SUM(H197+AU197))","v":3},25,0,1,7,0,0,0,0,0,0,0,1,4,20,9,2,0,0,0,0,0,0,0,0,0,0,0,0,0,0,0,{"$f":"IF(OR(DW197=\"-\", EC197=\"-\", EI197=\"-\", EI197=0),\"-\",IF(OR(DW197=\"-\", DW197=0),CA197,IF(EC197=0,AN197,SUM((AN197*DW197),(CA197*EC197))/EI197)))","v":18.477777777777778},{"$f":"IFERROR(IF(OR(DW197=\"-\", EC197=\"-\", EI197=\"-\", EI197=0), \"-\", IF(AO197=\"-\", CB197, AVERAGE(AO197,CB197))), \"-\")","v":21.3},{"$f":"IF(OR(DW197=\"-\", EC197=\"-\",EI197=\"-\", EI197=0),\"-\",MIN(AP197,CC197))","v":9},{"$f":"IF(OR(DW197=\"-\", EC197=\"-\",EI197=\"-\", EI197=0),\"-\",MAX(AQ197,CD197))","v":29.9},3,15,1,7,0,26,{"$f":"IF(AU197=\"\", \"-\", AU197)","v":0},{"$f":"IF(DX197=\"-\", \"-\", SUM(AV197:AW197))","v":10},{"$f":"IF(DX197=\"-\", \"-\", AX197)","v":0},{"$f":"IF(DX197=\"-\", \"-\", AY197)","v":0},{"$f":"IF(DX197=\"-\", \"-\", SUM(AZ197:BF197))","v":0},{"$f":"IF(DX197=\"-\", \"-\", SUM(AU197:BF197))","v":10},{"$f":"IF(OR(DR197=\"-\", DX197=\"-\"), \"-\", SUM(DR197,DX197))","v":3},25,1,7,0,36]
[1,{"$f":"OFFSET(Input_Details!$Q$4,MATCH($A198, Input_Details!$J$5:$J$24, 0), 2)","v":"2017-04-26"},{"$f":"INDEX(Input_Details!$H$5:$H$24, MATCH($A198, Input_Details!$J$5:$J$24, 0), 0)","v":"Harper Road (South of Falmouth Road)"},{"$f":"INDEX(Input_Details!$I$5:$I$24, MATCH($A198, Input_Details!$J$5:$J$24, 0), 0)","v":"51.49617, -0.09302"},{"$f":"INDEX(Input_Details!$K$5:$K$24, MATCH($A198, Input_Details!$J$5:$J$24, 0), 0)","v":"Southbound"},"Wed","00:30:00",0,24,0,3,0,0,0,0,0,0,1,0,0,1,23,4,0,0,0,0,0,0,0,0,0,0,0,0,0,0,0,0,18.3,19.7,14.5,23.2,{"$f":"INDEX(Input_Details!$L$5:$L$24, MATCH($A198, Input_Details!$J$5:$J$24, 0), 0)","v":"Northbound"},"Wed","00:30:00",0,10,0,0,0,0,0,0,0,0,0,0,0,0,10,0,0,0,0,0,0,0,0,0,0,0,0,0,0,0,0,0,16.600000000000001,"-",16.2,16.899999999999999,null,"Wed","00:30:00",0,34,0,3,0,0,0,0,0,0,1,0,0,1,33,4,0,0,0,0,0,0,0,0,0,0,0,0,0,0,0,0,17.852631578947367,19.7,14.5,23.2,0,24,3,0,1,28,0,10,0,0,0,10,0,34,3,0,1,38]
[1,{"$f":"OFFSET(Input_Details!$Q$4,MATCH($A199, Input_Details!$J$5:$J$24, 0), 2)","v":"2017-04-26"},{"$f":"INDEX(Input_Details!$H$5:$H$24, MATCH($A199, Input_Details!$J$5:$J$24, 0), 0)","v":"Harper Road (South of Falmouth Road)"},{"$f":"INDEX(Input_Details!$I$5:$I$24, MATCH($A199, Input_Details!$J$5:$J$24, 0), 0)","v":"51.49617, -0.09302"},{"$f":"INDEX(Input_Details!$K$5:$K$24, MATCH($A199, Input_Details!$J$5:$J$24, 0), 0)","v":"Southbound"},"Wed","00:45:00",2,14,0,0,1,0,0,0,0,0,0,0,0,2,8,6,0,0,0,1,0,0,0,0,0,0,0,0,0,0,0,0,20.100000000000001,23.3,12.4,43.3,{"$f":"INDEX(Input_Details!$L$5:$L$24, MATCH($A199, Input_Details!$J$5:$J$24, 0), 0)","v":"Northbound"},"Wed","00:45:00",0,6,0,0,0,0,0,0,0,0,0,0,0,0,5,1,0,0,0,0,0,0,0,0,0,0,0,0,0,0,0,0,17.2,"-",16.5,20.5,null,"Wed","00:45:00",2,20,0,0,1,0,0,0,0,0,0,0,0,2,13,7,0,0,0,1,0,0,0,0,0,0,0,0,0,0,0,0,19.343478260869567,23.3,12.4,43.3,2,14,0,1,0,17,0,6,0,0,0,6,2,20,0,1,0,23]
[1,{"$f":"OFFSET(Input_Details!$Q$4,MATCH($A200, Input_Details!$J$5:$J$24, 0), 2)","v":"2017-04-26"},{"$f":"INDEX(Input_Details!$H$5:$H$24, MATCH($A200, Input_Details!$J$5:$J$24, 0), 0)","v":"Harper Road (South of Falmouth Road)"},{"$f":"INDEX(Input_Details!$I$5:$I$24, MATCH($A200, Input_Details!$J$5:$J$24, 0), 0)","v":"51.49617, -0.09302"},{"$f":"INDEX(Input_Details!$K$5:$K$24, MATCH($A200, Input_Details!$J$5:$J$24, 0), 0)","v":"Southbound"},"Wed","01:00:00",1,15,0,0,1,1,0,0,0,0,0,0,0,0,9,7,1,1,0,0,0,0,0,0,0,0,0,0,0,0,0,0,20.6,22.6,15.7,30.8,{"$f":"INDEX(Input_Details!$L$5:$L$24, MATCH($A200, Input_Details!$J$5:$J$24, 0), 0)","v":"Northbound"},"Wed","01:00:00",0,3,0,0,0,0,0,0,0,0,0,0,0,0,3,0,0,0,0,0,0,0,0,0,0,0,0,0,0,0,0,0,18.5,"-",18.5,18.5,null,"Wed","01:00:00",1,18,0,0,1,1,0,0,0,0,0,0,0,0,12,7,1,1,0,0,0,0,0,0,0,0,0,0,0,0,0,0,20.3,22.6,15.7,30.8,1,15,0,1,1,18,0,3,0,0,0,3,1,18,0,1,1,21]
[1,{"$f":"OFFSET(Input_Details!$Q$4,MATCH($A201, Input_Details!$J$5:$J$24, 0), 2)","v":"2017-04-26"},{"$f":"INDEX(Input_Details!$H$5:$H$24, MATCH($A201, Input_Details!$J$5:$J$24, 0), 0)","v":"Harper Road (South of Falmouth Road)"},{"$f":"INDEX(Input_Details!$I$5:$I$24, MATCH($A201, Input_Details!$J$5:$J$24, 0), 0)","v":"51.49617, -0.09302"},{"$f":"INDEX(Input_Details!$K$5:$K$24, MATCH($A201, Input_Details!$J$5:$J$24, 0), 0)","v":"Southbound"},"Wed","01:15:00",0,17,0,0,1,0,0,0,0,0,0,0,0,0,1,17,0,0,0,0,0,0,0,0,0,0,0,0,0,0,0,0,23.4,24.4,16.8,24.5,{"$f":"INDEX(Input_Details!$L$5:$L$24, MATCH($A201, Input_Details!$J$5:$J$24, 0), 0)","v":"Northbound"},"Wed","01:15:00",0,10,0,0,0,0,0,0,0,0,0,0,0,0,10,0,0,0,0,0,0,0,0,0,0,0,0,0,0,0,0,0,18.5,"-",18.5,18.5,null,"Wed","01:15:00",0,27,0,0,1,0,0,0,0,0,0,0,0,0,11,17,0,0,0,0,0,0,0,0,0,0,0,0,0,0,0,0,21.650000000000002,24.4,16.8,24.5,0,17,0,1,0,18,0,10,0,0,0,10,0,27,0,1,0,28]
[1,{"$f":"OFFSET(Input_Details!$Q$4,MATCH($A202, Input_Details!$J$5:$J$24, 0), 2)","v":"2017-04-26"},{"$f":"INDEX(Input_Details!$H$5:$H$24, MATCH($A202, Input_Details!$J$5:$J$24, 0), 0)","v":"Harper Road (South of Falmouth Road)"},{"$f":"INDEX(Input_Details!$I$5:$I$24, MATCH($A202, Input_Details!$J$5:$J$24, 0), 0)","v":"51.49617, -0.09302"},{"$f":"INDEX(Input_Details!$K$5:$K$24, MATCH($A202, Input_Details!$J$5:$J$24, 0), 0)","v":"Southbound"},"Wed","01:30:00",1,10,0,1,1,0,0,0,0,1,0,0,0,0,3,9,2,0,0,0,0,0,0,0,0,0,0,0,0,0,0,0,22.5,23.9,16.5,29.8,{"$f":"INDEX(Input_Details!$L$5:$L$24, MATCH($A202, Input_Details!$J$5:$J$24, 0), 0)","v":"Northbound"},"Wed","01:30:00",0,5,0,0,0,0,0,0,0,0,0,0,0,0,5,0,0,0,0,0,0,0,0,0,0,0,0,0,0,0,0,0,18.5,"-",18.5,18.5,null,"Wed","01:30:00",1,15,0,1,1,0,0,0,0,1,0,0,0,0,8,9,2,0,0,0,0,0,0,0,0,0,0,0,0,0,0,0,21.44736842105263,23.9,16.5,29.8,1,10,1,1,1,14,0,5,0,0,0,5,1,15,1,1,1,19]
[1,{"$f":"OFFSET(Input_Details!$Q$4,MATCH($A203, Input_Details!$J$5:$J$24, 0), 2)","v":"2017-04-26"},{"$f":"INDEX(Input_Details!$H$5:$H$24, MATCH($A203, Input_Details!$J$5:$J$24, 0), 0)","v":"Harper Road (South of Falmouth Road)"},{"$f":"INDEX(Input_Details!$I$5:$I$24, MATCH($A203, Input_Details!$J$5:$J$24, 0), 0)","v":"51.49617, -0.09302"},{"$f":"INDEX(Input_Details!$K$5:$K$24, MATCH($A203, Input_Details!$J$5:$J$24, 0), 0)","v":"Southbound"},"Wed","01:45:00",0,8,0,0,2,0,0,0,0,0,0,0,0,1,5,4,0,0,0,0,0,0,0,0,0,0,0,0,0,0,0,0,19.3,"-",10.6,23.5,{"$f":"INDEX(Input_Details!$L$5:$L$24, MATCH($A203, Input_Details!$J$5:$J$24, 0), 0)","v":"Northbound"},"Wed","01:45:00",0,3,0,0,0,0,0,0,0,0,0,0,0,0,3,0,0,0,0,0,0,0,0,0,0,0,0,0,0,0,0,0,18.5,"-",18.5,18.5,null,"Wed","01:45:00",0,11,0,0,2,0,0,0,0,0,0,0,0,1,8,4,0,0,0,0,0,0,0,0,0,0,0,0,0,0,0,0,19.115384615384617,"-",10.6,23.5,0,8,0,2,0,10,0,3,0,0,0,3,0,11,0,2,0,13]
[1,{"$f":"OFFSET(Input_Details!$Q$4,MATCH($A204, Input_Details!$J$5:$J$24, 0), 2)","v":"2017-04-26"},{"$f":"INDEX(Input_Details!$H$5:$H$24, MATCH($A204, Input_Details!$J$5:$J$24, 0), 0)","v":"Harper Road (South of Falmouth Road)"},{"$f":"INDEX(Input_Details!$I$5:$I$24, MATCH($A204, Input_Details!$J$5:$J$24, 0), 0)","v":"51.49617, -0.09302"},{"$f":"INDEX(Input_Details!$K$5:$K$24, MATCH($A204, Input_Details!$J$5:$J$24, 0), 0)","v":"Southbound"},"Wed","02:00:00",0,8,0,0,1,0,0,0,0,0,0,0,0,0,2,5,2,0,0,0,0,0,0,0,0,0,0,0,0,0,0,0,22.4,"-",18.600000000000001,25.3,{"$f":"INDEX(Input_Details!$L$5:$L$24, MATCH($A204, Input_Details!$J$5:$J$24, 0), 0)","v":"Northbound"},"Wed","02:00:00",0,4,0,0,1,0,0,0,0,0,0,0,0,1,4,0,0,0,0,0,0,0,0,0,0,0,0,0,0,0,0,0,15.7,"-",12.8,18.5,null,"Wed","02:00:00",0,12,0,0,2,0,0,0,0,0,0,0,0,1,6,5,2,0,0,0,0,0,0,0,0,0,0,0,0,0,0,0,20.00714285714286,"-",12.8,25.3,0,8,0,1,0,9,0,4,0,1,0,5,0,12,0,2,0,14]
[1,{"$f":"OFFSET(Input_Details!$Q$4,MATCH($A205, Input_Details!$J$5:$J$24, 0), 2)","v":"2017-04-26"},{"$f":"INDEX(Input_Details!$H$5:$H$24, MATCH($A205, Input_Details!$J$5:$J$24, 0), 0)","v":"Harper Road (South of Falmouth Road)"},{"$f":"INDEX(Input_Details!$I$5:$I$24, MATCH($A205, Input_Details!$J$5:$J$24, 0), 0)","v":"51.49617, -0.09302"},{"$f":"INDEX(Input_Details!$K$5:$K$24, MATCH($A205, Input_Details!$J$5:$J$24, 0), 0)","v":"Southbound"},"Wed","02:15:00",1,8,0,0,0,0,0,0,0,0,0,0,0,0,2,4,2,0,1,0,0,0,0,0,0,0,0,0,0,0,0,0,23.6,"-",16.2,35.6,{"$f":"INDEX(Input_Details!$L$5:$L$24, MATCH($A205, Input_Details!$J$5:$J$24, 0), 0)","v":"Northbound"},"Wed","02:15:00",1,2,0,0,0,0,0,0,0,0,0,0,0,0,0,2,1,0,0,0,0,0,0,0,0,0,0,0,0,0,0,0,22.2,"-",20.6,25.5,null,"Wed","02:15:00",2,10,0,0,0,0,0,0,0,0,0,0,0,0,2,6,3,0,1,0,0,0,0,0,0,0,0,0,0,0,0,0,23.25,"-",16.2,35.6,1,8,0,0,0,9,1,2,0,0,0,3,2,10,0,0,0,12]
[1,{"$f":"OFFSET(Input_Details!$Q$4,MATCH($A206, Input_Details!$J$5:$J$24, 0), 2)","v":"2017-04-26"},{"$f":"INDEX(Input_Details!$H$5:$H$24, MATCH($A206, Input_Details!$J$5:$J$24, 0), 0)","v":"Harper Road (South of Falmouth Road)"},{"$f":"INDEX(Input_Details!$I$5:$I$24, MATCH($A206, Input_Details!$J$5:$J$24, 0), 0)","v":"51.49617, -0.09302"},{"$f":"INDEX(Input_Details!$K$5:$K$24, MATCH($A206, Input_Details!$J$5:$J$24, 0), 0)","v":"Southbound"},"Wed","02:30:00",1,7,0,0,0,0,0,0,0,0,0,0,0,1,2,2,2,1,0,0,0,0,0,0,0,0,0,0,0,0,0,0,22.9,"-",10.199999999999999,30.4,{"$f":"INDEX(Input_Details!$L$5:$L$24, MATCH($A206, Input_Details!$J$5:$J$24, 0), 0)","v":"Northbound"},"Wed","02:30:00",0,1,0,0,0,0,0,0,0,0,0,0,0,0,0,1,0,0,0,0,0,0,0,0,0,0,0,0,0,0,0,0,20.6,"-",20.6,20.6,null,"Wed","02:30:00",1,8,0,0,0,0,0,0,0,0,0,0,0,1,2,3,2,1,0,0,0,0,0,0,0,0,0,0,0,0,0,0,22.644444444444442,"-",10.199999999999999,30.4,1,7,0,0,0,8,0,1,0,0,0,1,1,8,0,0,0,9]
[1,{"$f":"OFFSET(Input_Details!$Q$4,MATCH($A207, Input_Details!$J$5:$J$24, 0), 2)","v":"2017-04-26"},{"$f":"INDEX(Input_Details!$H$5:$H$24, MATCH($A207, Input_Details!$J$5:$J$24, 0), 0)","v":"Harper Road (South of Falmouth Road)"},{"$f":"INDEX(Input_Details!$I$5:$I$24, MATCH($A207, Input_Details!$J$5:$J$24, 0), 0)","v":"51.49617, -0.09302"},{"$f":"INDEX(Input_Details!$K$5:$K$24, MATCH($A207, Input_Details!$J$5:$J$24, 0), 0)","v":"Southbound"},"Wed","02:45:00",1,5,0,0,2,0,0,0,0,0,0,0,1,2,2,1,2,0,0,0,0,0,0,0,0,0,0,0,0,0,0,0,18.399999999999999,"-",9.1999999999999993,28.6,{"$f":"INDEX(Input_Details!$L$5:$L$24, MATCH($A207, Input_Details!$J$5:$J$24, 0), 0)","v":"Northbound"},"Wed","02:45:00",0,2,0,0,0,0,0,0,0,0,0,0,0,0,0,2,0,0,0,0,0,0,0,0,0,0,0,0,0,0,0,0,20.6,"-",20.6,20.6,null,"Wed","02:45:00",1,7,0,0,2,0,0,0,0,0,0,0,1,2,2,3,2,0,0,0,0,0,0,0,0,0,0,0,0,0,0,0,18.839999999999996,"-",9.1999999999999993,28.6,1,5,0,2,0,8,0,2,0,0,0,2,1,7,0,2,0,10]
[1,{"$f":"OFFSET(Input_Details!$Q$4,MATCH($A208, Input_Details!$J$5:$J$24, 0), 2)","v":"2017-04-26"},{"$f":"INDEX(Input_Details!$H$5:$H$24, MATCH($A208, Input_Details!$J$5:$J$24, 0), 0)","v":"Harper Road (South of Falmouth Road)"},{"$f":"INDEX(Input_Details!$I$5:$I$24, MATCH($A208, Input_Details!$J$5:$J$24, 0), 0)","v":"51.49617, -0.09302"},{"$f":"INDEX(Input_Details!$K$5:$K$24, MATCH($A208, Input_Details!$J$5:$J$24, 0), 0)","v":"Southbound"},"Wed","03:00:00",0,8,0,0,2,0,0,0,0,0,0,0,0,0,10,0,0,0,0,0,0,0,0,0,0,0,0,0,0,0,0,0,19.399999999999999,"-",17.5,19.899999999999999,{"$f":"INDEX(Input_Details!$L$5:$L$24, MATCH($A208, Input_Details!$J$5:$J$24, 0), 0)","v":"Northbound"},"Wed","03:00:00",0,5,0,0,1,0,0,0,0,0,0,0,0,1,4,1,0,0,0,0,0,0,0,0,0,0,0,0,0,0,0,0,17.100000000000001,"-",13.5,20.6,null,"Wed","03:00:00",0,13,0,0,3,0,0,0,0,0,0,0,0,1,14,1,0,0,0,0,0,0,0,0,0,0,0,0,0,0,0,0,18.537500000000001,"-",13.5,20.6,0,8,0,2,0,10,0,5,0,1,0,6,0,13,0,3,0,16]
[1,{"$f":"OFFSET(Input_Details!$Q$4,MATCH($A209, Input_Details!$J$5:$J$24, 0), 2)","v":"2017-04-26"},{"$f":"INDEX(Input_Details!$H$5:$H$24, MATCH($A209, Input_Details!$J$5:$J$24, 0), 0)","v":"Harper Road (South of Falmouth Road)"},{"$f":"INDEX(Input_Details!$I$5:$I$24, MATCH($A209, Input_Details!$J$5:$J$24, 0), 0)","v":"51.49617, -0.09302"},{"$f":"INDEX(Input_Details!$K$5:$K$24, MATCH($A209, Input_Details!$J$5:$J$24, 0), 0)","v":"Southbound"},"Wed","03:15:00",0,8,0,1,0,0,0,0,0,0,0,0,0,0,1,7,1,0,0,0,0,0,0,0,0,0,0,0,0,0,0,0,22.6,"-",17.8,25.8,{"$f":"INDEX(Input_Details!$L$5:$L$24, MATCH($A209, Input_Details!$J$5:$J$24, 0), 0)","v":"Northbound"},"Wed","03:15:00",0,3,0,0,0,0,0,0,0,0,0,0,0,0,3,0,0,0,0,0,0,0,0,0,0,0,0,0,0,0,0,0,17.100000000000001,"-",17.100000000000001,17.100000000000001,null,"Wed","03:15:00",0,11,0,1,0,0,0,0,0,0,0,0,0,0,4,7,1,0,0,0,0,0,0,0,0,0,0,0,0,0,0,0,21.225000000000001,"-",17.100000000000001,25.8,0,8,1,0,0,9,0,3,0,0,0,3,0,11,1,0,0,12]
[1,{"$f":"OFFSET(Input_Details!$Q$4,MATCH($A210, Input_Details!$J$5:$J$24, 0), 2)","v":"2017-04-26"},{"$f":"INDEX(Input_Details!$H$5:$H$24, MATCH($A210, Input_Details!$J$5:$J$24, 0), 0)","v":"Harper Road (South of Falmouth Road)"},{"$f":"INDEX(Input_Details!$I$5:$I$24, MATCH($A210, Input_Details!$J$5:$J$24, 0), 0)","v":"51.49617, -0.09302"},{"$f":"INDEX(Input_Details!$K$5:$K$24, MATCH($A210, Input_Details!$J$5:$J$24, 0), 0)","v":"Southbound"},"Wed","03:30:00",0,3,0,0,0,0,0,0,0,0,0,0,0,0,1,1,1,0,0,0,0,0,0,0,0,0,0,0,0,0,0,0,23.8,"-",19.5,27.7,{"$f":"INDEX(Input_Details!$L$5:$L$24, MATCH($A210, Input_Details!$J$5:$J$24, 0), 0)","v":"Northbound"},"Wed","03:30:00",0,3,0,0,0,0,0,0,0,0,0,0,0,0,3,0,0,0,0,0,0,0,0,0,0,0,0,0,0,0,0,0,17.100000000000001,"-",17.100000000000001,17.100000000000001,null,"Wed","03:30:00",0,6,0,0,0,0,0,0,0,0,0,0,0,0,4,1,1,0,0,0,0,0,0,0,0,0,0,0,0,0,0,0,20.450000000000003,"-",17.100000000000001,27.7,0,3,0,0,0,3,0,3,0,0,0,3,0,6,0,0,0,6]
[1,{"$f":"OFFSET(Input_Details!$Q$4,MATCH($A211, Input_Details!$J$5:$J$24, 0), 2)","v":"2017-04-26"},{"$f":"INDEX(Input_Details!$H$5:$H$24, MATCH($A211, Input_Details!$J$5:$J$24, 0), 0)","v":"Harper Road (South of Falmouth Road)"},{"$f":"INDEX(Input_Details!$I$5:$I$24, MATCH($A211, Input_Details!$J$5:$J$24, 0), 0)","v":"51.49617, -0.09302"},{"$f":"INDEX(Input_Details!$K$5:$K$24, MATCH($A211, Input_Details!$J$5:$J$24, 0), 0)","v":"Southbound"},"Wed","03:45:00",0,9,0,0,0,0,0,0,0,0,0,0,0,1,5,2,1,0,0,0,0,0,0,0,0,0,0,0,0,0,0,0,19.899999999999999,"-",12.4,29.5,{"$f":"INDEX(Input_Details!$L$5:$L$24, MATCH($A211, Input_Details!$J$5:$J$24, 0), 0)","v":"Northbound"},"Wed","03:45:00",0,3,0,0,0,0,0,0,0,0,0,0,0,0,3,0,0,0,0,0,0,0,0,0,0,0,0,0,0,0,0,0,17.100000000000001,"-",17.100000000000001,17.100000000000001,null,"Wed","03:45:00",0,12,0,0,0,0,0,0,0,0,0,0,0,1,8,2,1,0,0,0,0,0,0,0,0,0,0,0,0,0,0,0,19.2,"-",12.4,29.5,0,9,0,0,0,9,0,3,0,0,0,3,0,12,0,0,0,12]
[1,{"$f":"OFFSET(Input_Details!$Q$4,MATCH($A212, Input_Details!$J$5:$J$24, 0), 2)","v":"2017-04-26"},{"$f":"INDEX(Input_Details!$H$5:$H$24, MATCH($A212, Input_Details!$J$5:$J$24, 0), 0)","v":"Harper Road (South of Falmouth Road)"},{"$f":"INDEX(Input_Details!$I$5:$I$24, MATCH($A212, Input_Details!$J$5:$J$24, 0), 0)","v":"51.49617, -0.09302"},{"$f":"INDEX(Input_Details!$K$5:$K$24, MATCH($A212, Input_Details!$J$5:$J$24, 0), 0)","v":"Southbound"},"Wed","04:00:00",0,5,0,0,2,0,0,0,0,0,0,0,0,1,4,2,0,0,0,0,0,0,0,0,0,0,0,0,0,0,0,0,18.600000000000001,"-",12,24.8,{"$f":"INDEX(Input_Details!$L$5:$L$24, MATCH($A212, Input_Details!$J$5:$J$24, 0), 0)","v":"Northbound"},"Wed","04:00:00",0,0,0,0,0,0,0,0,0,0,0,0,0,0,0,0,0,0,0,0,0,0,0,0,0,0,0,0,0,0,0,0,"-","-","-","-",null,"Wed","04:00:00",0,5,0,0,2,0,0,0,0,0,0,0,0,1,4,2,0,0,0,0,0,0,0,0,0,0,0,0,0,0,0,0,18.600000000000001,"-",12,24.8,0,5,0,2,0,7,0,0,0,0,0,0,0,5,0,2,0,7]
[1,{"$f":"OFFSET(Input_Details!$Q$4,MATCH($A213, Input_Details!$J$5:$J$24, 0), 2)","v":"2017-04-26"},{"$f":"INDEX(Input_Details!$H$5:$H$24, MATCH($A213, Input_Details!$J$5:$J$24, 0), 0)","v":"Harper Road (South of Falmouth Road)"},{"$f":"INDEX(Input_Details!$I$5:$I$24, MATCH($A213, Input_Details!$J$5:$J$24, 0), 0)","v":"51.49617, -0.09302"},{"$f":"INDEX(Input_Details!$K$5:$K$24, MATCH($A213, Input_Details!$J$5:$J$24, 0), 0)","v":"Southbound"},"Wed","04:15:00",0,5,0,0,2,0,0,0,0,0,0,0,0,0,3,3,0,1,0,0,0,0,0,0,0,0,0,0,0,0,0,0,22.4,"-",19.899999999999999,30.3,{"$f":"INDEX(Input_Details!$L$5:$L$24, MATCH($A213, Input_Details!$J$5:$J$24, 0), 0)","v":"Northbound"},"Wed","04:15:00",1,4,0,0,0,1,0,0,0,0,0,0,0,3,2,0,0,0,1,0,0,0,0,0,0,0,0,0,0,0,0,0,18.2,"-",11.9,35.799999999999997,null,"Wed","04:15:00",1,9,0,0,2,1,0,0,0,0,0,0,0,3,5,3,0,1,1,0,0,0,0,0,0,0,0,0,0,0,0,0,20.46153846153846,"-",11.9,35.799999999999997,0,5,0,2,0,7,1,4,0,0,1,6,1,9,0,2,1,13]
[1,{"$f":"OFFSET(Input_Details!$Q$4,MATCH($A214, Input_Details!$J$5:$J$24, 0), 2)","v":"2017-04-26"},{"$f":"INDEX(Input_Details!$H$5:$H$24, MATCH($A214, Input_Details!$J$5:$J$24, 0), 0)","v":"Harper Road (South of Falmouth Road)"},{"$f":"INDEX(Input_Details!$I$5:$I$24, MATCH($A214, Input_Details!$J$5:$J$24, 0), 0)","v":"51.49617, -0.09302"},{"$f":"INDEX(Input_Details!$K$5:$K$24, MATCH($A214, Input_Details!$J$5:$J$24, 0), 0)","v":"Southbound"},"Wed","04:30:00",0,4,0,0,1,0,0,0,0,0,0,0,0,0,3,2,0,0,0,0,0,0,0,0,0,0,0,0,0,0,0,0,20.399999999999999,"-",15.8,24.8,{"$f":"INDEX(Input_Details!$L$5:$L$24, MATCH($A214, Input_Details!$J$5:$J$24, 0), 0)","v":"Northbound"},"Wed","04:30:00",1,2,0,0,0,0,0,0,0,0,0,0,0,2,1,0,0,0,0,0,0,0,0,0,0,0,0,0,0,0,0,0,13.2,"-",11.8,15.4,null,"Wed","04:30:00",1,6,0,0,1,0,0,0,0,0,0,0,0,2,4,2,0,0,0,0,0,0,0,0,0,0,0,0,0,0,0,0,17.7,"-",11.8,24.8,0,4,0,1,0,5,1,2,0,0,0,3,1,6,0,1,0,8]
[1,{"$f":"OFFSET(Input_Details!$Q$4,MATCH($A215, Input_Details!$J$5:$J$24, 0), 2)","v":"2017-04-26"},{"$f":"INDEX(Input_Details!$H$5:$H$24, MATCH($A215, Input_Details!$J$5:$J$24, 0), 0)","v":"Harper Road (South of Falmouth Road)"},{"$f":"INDEX(Input_Details!$I$5:$I$24, MATCH($A215, Input_Details!$J$5:$J$24, 0), 0)","v":"51.49617, -0.09302"},{"$f":"INDEX(Input_Details!$K$5:$K$24, MATCH($A215, Input_Details!$J$5:$J$24, 0), 0)","v":"Southbound"},"Wed","04:45:00",0,5,0,1,1,0,0,0,0,0,0,0,0,0,2,1,3,0,0,1,0,0,0,0,0,0,0,0,0,0,0,0,26.8,"-",19.600000000000001,43.6,{"$f":"INDEX(Input_Details!$L$5:$L$24, MATCH($A215, Input_Details!$J$5:$J$24, 0), 0)","v":"Northbound"},"Wed","04:45:00",3,3,0,0,0,0,0,0,0,0,0,0,0,4,1,1,0,0,0,0,0,0,0,0,0,0,0,0,0,0,0,0,14.5,"-",11,22.5,null,"Wed","04:45:00",3,8,0,1,1,0,0,0,0,0,0,0,0,4,3,2,3,0,0,1,0,0,0,0,0,0,0,0,0,0,0,0,21.123076923076926,"-",11,43.6,0,5,1,1,0,7,3,3,0,0,0,6,3,8,1,1,0,13]
[1,{"$f":"OFFSET(Input_Details!$Q$4,MATCH($A216, Input_Details!$J$5:$J$24, 0), 2)","v":"2017-04-26"},{"$f":"INDEX(Input_Details!$H$5:$H$24, MATCH($A216, Input_Details!$J$5:$J$24, 0), 0)","v":"Harper Road (South of Falmouth Road)"},{"$f":"INDEX(Input_Details!$I$5:$I$24, MATCH($A216, Input_Details!$J$5:$J$24, 0), 0)","v":"51.49617, -0.09302"},{"$f":"INDEX(Input_Details!$K$5:$K$24, MATCH($A216, Input_Details!$J$5:$J$24, 0), 0)","v":"Southbound"},"Wed","05:00:00",1,10,0,1,1,1,0,0,0,0,0,0,0,1,3,9,1,0,0,0,0,0,0,0,0,0,0,0,0,0,0,0,21.2,23.7,14.9,27.1,{"$f":"INDEX(Input_Details!$L$5:$L$24, MATCH($A216, Input_Details!$J$5:$J$24, 0), 0)","v":"Northbound"},"Wed","05:00:00",0,2,0,0,0,0,0,0,0,0,0,0,0,2,0,0,0,0,0,0,0,0,0,0,0,0,0,0,0,0,0,0,13.2,"-",13.2,13.2,null,"Wed","05:00:00",1,12,0,1,1,1,0,0,0,0,0,0,0,3,3,9,1,0,0,0,0,0,0,0,0,0,0,0,0,0,0,0,20.2,23.7,13.2,27.1,1,10,1,1,1,14,0,2,0,0,0,2,1,12,1,1,1,16]
[1,{"$f":"OFFSET(Input_Details!$Q$4,MATCH($A217, Input_Details!$J$5:$J$24, 0), 2)","v":"2017-04-26"},{"$f":"INDEX(Input_Details!$H$5:$H$24, MATCH($A217, Input_Details!$J$5:$J$24, 0), 0)","v":"Harper Road (South of Falmouth Road)"},{"$f":"INDEX(Input_Details!$I$5:$I$24, MATCH($A217, Input_Details!$J$5:$J$24, 0), 0)","v":"51.49617, -0.09302"},{"$f":"INDEX(Input_Details!$K$5:$K$24, MATCH($A217, Input_Details!$J$5:$J$24, 0), 0)","v":"Southbound"},"Wed","05:15:00",0,5,0,0,0,0,0,0,0,0,0,0,0,0,0,4,1,0,0,0,0,0,0,0,0,0,0,0,0,0,0,0,24.3,"-",21.9,29.6,{"$f":"INDEX(Input_Details!$L$5:$L$24, MATCH($A217, Input_Details!$J$5:$J$24, 0), 0)","v":"Northbound"},"Wed","05:15:00",0,2,0,0,0,0,0,0,0,0,0,0,0,2,0,0,0,0,0,0,0,0,0,0,0,0,0,0,0,0,0,0,13.2,"-",13.2,13.2,null,"Wed","05:15:00",0,7,0,0,0,0,0,0,0,0,0,0,0,2,0,4,1,0,0,0,0,0,0,0,0,0,0,0,0,0,0,0,21.12857142857143,"-",13.2,29.6,0,5,0,0,0,5,0,2,0,0,0,2,0,7,0,0,0,7]
[1,{"$f":"OFFSET(Input_Details!$Q$4,MATCH($A218, Input_Details!$J$5:$J$24, 0), 2)","v":"2017-04-26"},{"$f":"INDEX(Input_Details!$H$5:$H$24, MATCH($A218, Input_Details!$J$5:$J$24, 0), 0)","v":"Harper Road (South of Falmouth Road)"},{"$f":"INDEX(Input_Details!$I$5:$I$24, MATCH($A218, Input_Details!$J$5:$J$24, 0), 0)","v":"51.49617, -0.09302"},{"$f":"INDEX(Input_Details!$K$5:$K$24, MATCH($A218, Input_Details!$J$5:$J$24, 0), 0)","v":"Southbound"},"Wed","05:30:00",0,5,0,0,1,0,0,0,0,1,0,0,0,0,1,3,2,1,0,0,0,0,0,0,0,0,0,0,0,0,0,0,24.9,"-",16.100000000000001,34.1,{"$f":"INDEX(Input_Details!$L$5:$L$24, MATCH($A218, Input_Details!$J$5:$J$24, 0), 0)","v":"Northbound"},"Wed","05:30:00",3,2,0,0,1,0,0,0,0,0,0,0,1,2,1,0,2,0,0,0,0,0,0,0,0,0,0,0,0,0,0,0,17.399999999999999,"-",9.9,29.6,null,"Wed","05:30:00",3,7,0,0,2,0,0,0,0,1,0,0,1,2,2,3,4,1,0,0,0,0,0,0,0,0,0,0,0,0,0,0,21.438461538461539,"-",9.9,34.1,0,5,0,1,1,7,3,2,0,1,0,6,3,7,0,2,1,13]
[1,{"$f":"OFFSET(Input_Details!$Q$4,MATCH($A219, Input_Details!$J$5:$J$24, 0), 2)","v":"2017-04-26"},{"$f":"INDEX(Input_Details!$H$5:$H$24, MATCH($A219, Input_Details!$J$5:$J$24, 0), 0)","v":"Harper Road (South of Falmouth Road)"},{"$f":"INDEX(Input_Details!$I$5:$I$24, MATCH($A219, Input_Details!$J$5:$J$24, 0), 0)","v":"51.49617, -0.09302"},{"$f":"INDEX(Input_Details!$K$5:$K$24, MATCH($A219, Input_Details!$J$5:$J$24, 0), 0)","v":"Southbound"},"Wed","05:45:00",0,21,0,0,1,0,0,0,0,0,0,0,0,0,2,13,6,1,0,0,0,0,0,0,0,0,0,0,0,0,0,0,24,27.7,18.100000000000001,31.4,{"$f":"INDEX(Input_Details!$L$5:$L$24, MATCH($A219, Input_Details!$J$5:$J$24, 0), 0)","v":"Northbound"},"Wed","05:45:00",1,8,0,0,0,0,0,0,0,0,0,0,0,0,2,6,1,0,0,0,0,0,0,0,0,0,0,0,0,0,0,0,21.8,"-",17.100000000000001,25.6,null,"Wed","05:45:00",1,29,0,0,1,0,0,0,0,0,0,0,0,0,4,19,7,1,0,0,0,0,0,0,0,0,0,0,0,0,0,0,23.361290322580647,27.7,17.100000000000001,31.4,0,21,0,1,0,22,1,8,0,0,0,9,1,29,0,1,0,31]
[1,{"$f":"OFFSET(Input_Details!$Q$4,MATCH($A220, Input_Details!$J$5:$J$24, 0), 2)","v":"2017-04-26"},{"$f":"INDEX(Input_Details!$H$5:$H$24, MATCH($A220, Input_Details!$J$5:$J$24, 0), 0)","v":"Harper Road (South of Falmouth Road)"},{"$f":"INDEX(Input_Details!$I$5:$I$24, MATCH($A220, Input_Details!$J$5:$J$24, 0), 0)","v":"51.49617, -0.09302"},{"$f":"INDEX(Input_Details!$K$5:$K$24, MATCH($A220, Input_Details!$J$5:$J$24, 0), 0)","v":"Southbound"},"Wed","06:00:00",0,15,0,0,3,0,0,0,0,0,0,0,0,1,3,13,0,1,0,0,0,0,0,0,0,0,0,0,0,0,0,0,21.1,22.1,12.7,30,{"$f":"INDEX(Input_Details!$L$5:$L$24, MATCH($A220, Input_Details!$J$5:$J$24, 0), 0)","v":"Northbound"},"Wed","06:00:00",1,6,0,0,1,0,0,0,0,0,0,0,0,0,1,6,1,0,0,0,0,0,0,0,0,0,0,0,0,0,0,0,22.1,"-",17.600000000000001,26.3,null,"Wed","06:00:00",1,21,0,0,4,0,0,0,0,0,0,0,0,1,4,19,1,1,0,0,0,0,0,0,0,0,0,0,0,0,0,0,21.407692307692308,22.1,12.7,30,0,15,0,3,0,18,1,6,0,1,0,8,1,21,0,4,0,26]
[1,{"$f":"OFFSET(Input_Details!$Q$4,MATCH($A221, Input_Details!$J$5:$J$24, 0), 2)","v":"2017-04-26"},{"$f":"INDEX(Input_Details!$H$5:$H$24, MATCH($A221, Input_Details!$J$5:$J$24, 0), 0)","v":"Harper Road (South of Falmouth Road)"},{"$f":"INDEX(Input_Details!$I$5:$I$24, MATCH($A221, Input_Details!$J$5:$J$24, 0), 0)","v":"51.49617, -0.09302"},{"$f":"INDEX(Input_Details!$K$5:$K$24, MATCH($A221, Input_Details!$J$5:$J$24, 0), 0)","v":"Southbound"},"Wed","06:15:00",1,22,0,0,4,0,0,0,0,0,0,0,0,1,5,17,4,0,0,0,0,0,0,0,0,0,0,0,0,0,0,0,21.8,23.9,14.1,29.7,{"$f":"INDEX(Input_Details!$L$5:$L$24, MATCH($A221, Input_Details!$J$5:$J$24, 0), 0)","v":"Northbound"},"Wed","06:15:00",3,11,0,0,1,0,0,0,0,0,0,0,0,3,5,3,2,2,0,0,0,0,0,0,0,0,0,0,0,0,0,0,21,27.1,14,33.9,null,"Wed","06:15:00",4,33,0,0,5,0,0,0,0,0,0,0,0,4,10,20,6,2,0,0,0,0,0,0,0,0,0,0,0,0,0,0,21.514285714285716,25.5,14,33.9,1,22,0,4,0,27,3,11,0,1,0,15,4,33,0,5,0,42]
[1,{"$f":"OFFSET(Input_Details!$Q$4,MATCH($A222, Input_Details!$J$5:$J$24, 0), 2)","v":"2017-04-26"},{"$f":"INDEX(Input_Details!$H$5:$H$24, MATCH($A222, Input_Details!$J$5:$J$24, 0), 0)","v":"Harper Road (South of Falmouth Road)"},{"$f":"INDEX(Input_Details!$I$5:$I$24, MATCH($A222, Input_Details!$J$5:$J$24, 0), 0)","v":"51.49617, -0.09302"},{"$f":"INDEX(Input_Details!$K$5:$K$24, MATCH($A222, Input_Details!$J$5:$J$24, 0), 0)","v":"Southbound"},"Wed","06:30:00",1,33,0,0,7,1,0,0,0,0,0,0,0,0,20,17,5,0,0,0,0,0,0,0,0,0,0,0,0,0,0,0,20.9,24.2,15,27.7,{"$f":"INDEX(Input_Details!$L$5:$L$24, MATCH($A222, Input_Details!$J$5:$J$24, 0), 0)","v":"Northbound"},"Wed","06:30:00",5,11,1,1,1,0,0,0,0,0,0,0,0,2,6,5,5,1,0,0,0,0,0,0,0,0,0,0,0,0,0,0,23.1,29.8,12.7,34.700000000000003,null,"Wed","06:30:00",6,44,1,1,8,1,0,0,0,0,0,0,0,2,26,22,10,1,0,0,0,0,0,0,0,0,0,0,0,0,0,0,21.585245901639347,27,12.7,34.700000000000003,1,33,0,7,1,42,5,12,1,1,0,19,6,45,1,8,1,61]
[1,{"$f":"OFFSET(Input_Details!$Q$4,MATCH($A223, Input_Details!$J$5:$J$24, 0), 2)","v":"2017-04-26"},{"$f":"INDEX(Input_Details!$H$5:$H$24, MATCH($A223, Input_Details!$J$5:$J$24, 0), 0)","v":"Harper Road (South of Falmouth Road)"},{"$f":"INDEX(Input_Details!$I$5:$I$24, MATCH($A223, Input_Details!$J$5:$J$24, 0), 0)","v":"51.49617, -0.09302"},{"$f":"INDEX(Input_Details!$K$5:$K$24, MATCH($A223, Input_Details!$J$5:$J$24, 0), 0)","v":"Southbound"},"Wed","06:45:00",2,24,0,0,2,0,0,0,0,0,0,0,0,1,7,16,4,0,0,0,0,0,0,0,0,0,0,0,0,0,0,0,21.7,24.4,14.9,27.6,{"$f":"INDEX(Input_Details!$L$5:$L$24, MATCH($A223, Input_Details!$J$5:$J$24, 0), 0)","v":"Northbound"},"Wed","06:45:00",9,12,0,0,1,0,0,0,0,0,0,0,1,4,5,9,2,1,0,0,0,0,0,0,0,0,0,0,0,0,0,0,19.5,24.4,9.9,32.1,null,"Wed","06:45:00",11,36,0,0,3,0,0,0,0,0,0,0,1,5,12,25,6,1,0,0,0,0,0,0,0,0,0,0,0,0,0,0,20.731999999999999,24.4,9.9,32.1,2,24,0,2,0,28,9,12,0,1,0,22,11,36,0,3,0,50]
[1,{"$f":"OFFSET(Input_Details!$Q$4,MATCH($A224, Input_Details!$J$5:$J$24, 0), 2)","v":"2017-04-26"},{"$f":"INDEX(Input_Details!$H$5:$H$24, MATCH($A224, Input_Details!$J$5:$J$24, 0), 0)","v":"Harper Road (South of Falmouth Road)"},{"$f":"INDEX(Input_Details!$I$5:$I$24, MATCH($A224, Input_Details!$J$5:$J$24, 0), 0)","v":"51.49617, -0.09302"},{"$f":"INDEX(Input_Details!$K$5:$K$24, MATCH($A224, Input_Details!$J$5:$J$24, 0), 0)","v":"Southbound"},"Wed","07:00:00",1,29,0,0,2,0,0,0,0,0,0,0,0,0,12,15,5,0,0,0,0,0,0,0,0,0,0,0,0,0,0,0,21.2,24.4,15.5,25.9,{"$f":"INDEX(Input_Details!$L$5:$L$24, MATCH($A224, Input_Details!$J$5:$J$24, 0), 0)","v":"Northbound"},"Wed","07:00:00",2,12,0,0,1,0,0,0,0,0,0,0,0,1,0,11,2,1,0,0,0,0,0,0,0,0,0,0,0,0,0,0,23.5,28,13.6,32.799999999999997,null,"Wed","07:00:00",3,41,0,0,3,0,0,0,0,0,0,0,0,1,12,26,7,1,0,0,0,0,0,0,0,0,0,0,0,0,0,0,21.934042553191492,26.2,13.6,32.799999999999997,1,29,0,2,0,32,2,12,0,1,0,15,3,41,0,3,0,47]
[1,{"$f":"OFFSET(Input_Details!$Q$4,MATCH($A225, Input_Details!$J$5:$J$24, 0), 2)","v":"2017-04-26"},{"$f":"INDEX(Input_Details!$H$5:$H$24, MATCH($A225, Input_Details!$J$5:$J$24, 0), 0)","v":"Harper Road (South of Falmouth Road)"},{"$f":"INDEX(Input_Details!$I$5:$I$24, MATCH($A225, Input_Details!$J$5:$J$24, 0), 0)","v":"51.49617, -0.09302"},{"$f":"INDEX(Input_Details!$K$5:$K$24, MATCH($A225, Input_Details!$J$5:$J$24, 0), 0)","v":"Southbound"},"Wed","07:15:00",5,28,0,4,1,0,0,0,0,0,0,0,0,6,19,11,2,0,0,0,0,0,0,0,0,0,0,0,0,0,0,0,19.2,21.9,10.9,25.2,{"$f":"INDEX(Input_Details!$L$5:$L$24, MATCH($A225, Input_Details!$J$5:$J$24, 0), 0)","v":"Northbound"},"Wed","07:15:00",4,14,0,0,0,0,0,0,0,1,0,0,0,4,7,6,2,0,0,0,0,0,0,0,0,0,0,0,0,0,0,0,18.3,21.5,10,28.6,null,"Wed","07:15:00",9,42,0,4,1,0,0,0,0,1,0,0,0,10,26,17,4,0,0,0,0,0,0,0,0,0,0,0,0,0,0,0,18.899999999999999,21.7,10,28.6,5,28,4,1,0,38,4,14,0,0,1,19,9,42,4,1,1,57]
[1,{"$f":"OFFSET(Input_Details!$Q$4,MATCH($A226, Input_Details!$J$5:$J$24, 0), 2)","v":"2017-04-26"},{"$f":"INDEX(Input_Details!$H$5:$H$24, MATCH($A226, Input_Details!$J$5:$J$24, 0), 0)","v":"Harper Road (South of Falmouth Road)"},{"$f":"INDEX(Input_Details!$I$5:$I$24, MATCH($A226, Input_Details!$J$5:$J$24, 0), 0)","v":"51.49617, -0.09302"},{"$f":"INDEX(Input_Details!$K$5:$K$24, MATCH($A226, Input_Details!$J$5:$J$24, 0), 0)","v":"Southbound"},"Wed","07:30:00",7,28,0,2,5,1,0,0,0,0,0,0,0,4,10,23,5,1,0,0,0,0,0,0,0,0,0,0,0,0,0,0,21.6,24.8,14.7,31.5,{"$f":"INDEX(Input_Details!$L$5:$L$24, MATCH($A226, Input_Details!$J$5:$J$24, 0), 0)","v":"Northbound"},"Wed","07:30:00",7,9,0,0,2,0,0,0,0,0,0,0,3,12,3,0,0,0,0,0,0,0,0,0,0,0,0,0,0,0,0,0,12.7,14.8,9.5,17.7,null,"Wed","07:30:00",14,37,0,2,7,1,0,0,0,0,0,0,3,16,13,23,5,1,0,0,0,0,0,0,0,0,0,0,0,0,0,0,18.973770491803279,19.8,9.5,31.5,7,28,2,5,1,43,7,9,0,2,0,18,14,37,2,7,1,61]
[1,{"$f":"OFFSET(Input_Details!$Q$4,MATCH($A227, Input_Details!$J$5:$J$24, 0), 2)","v":"2017-04-26"},{"$f":"INDEX(Input_Details!$H$5:$H$24, MATCH($A227, Input_Details!$J$5:$J$24, 0), 0)","v":"Harper Road (South of Falmouth Road)"},{"$f":"INDEX(Input_Details!$I$5:$I$24, MATCH($A227, Input_Details!$J$5:$J$24, 0), 0)","v":"51.49617, -0.09302"},{"$f":"INDEX(Input_Details!$K$5:$K$24, MATCH($A227, Input_Details!$J$5:$J$24, 0), 0)","v":"Southbound"},"Wed","07:45:00",7,32,0,2,1,0,0,0,0,0,0,0,0,2,15,22,2,1,0,0,0,0,0,0,0,0,0,0,0,0,0,0,20.5,22.8,11.1,32.5,{"$f":"INDEX(Input_Details!$L$5:$L$24, MATCH($A227, Input_Details!$J$5:$J$24, 0), 0)","v":"Northbound"},"Wed","07:45:00",8,16,0,0,0,0,0,0,0,0,0,0,3,10,10,0,1,0,0,0,0,0,0,0,0,0,0,0,0,0,0,0,14.1,15.4,9.5,28,null,"Wed","07:45:00",15,48,0,2,1,0,0,0,0,0,0,0,3,12,25,22,3,1,0,0,0,0,0,0,0,0,0,0,0,0,0,0,18.172727272727276,19.100000000000001,9.5,32.5,7,32,2,1,0,42,8,16,0,0,0,24,15,48,2,1,0,66]
[1,{"$f":"OFFSET(Input_Details!$Q$4,MATCH($A228, Input_Details!$J$5:$J$24, 0), 2)","v":"2017-04-26"},{"$f":"INDEX(Input_Details!$H$5:$H$24, MATCH($A228, Input_Details!$J$5:$J$24, 0), 0)","v":"Harper Road (South of Falmouth Road)"},{"$f":"INDEX(Input_Details!$I$5:$I$24, MATCH($A228, Input_Details!$J$5:$J$24, 0), 0)","v":"51.49617, -0.09302"},{"$f":"INDEX(Input_Details!$K$5:$K$24, MATCH($A228, Input_Details!$J$5:$J$24, 0), 0)","v":"Southbound"},"Wed","08:00:00",3,33,0,4,1,1,0,0,0,0,0,1,0,3,10,26,3,1,0,0,0,0,0,0,0,0,0,0,0,0,0,0,20.8,23.7,12.4,30.3,{"$f":"INDEX(Input_Details!$L$5:$L$24, MATCH($A228, Input_Details!$J$5:$J$24, 0), 0)","v":"Northbound"},"Wed","08:00:00",5,7,0,0,0,0,0,0,0,0,0,0,1,10,1,0,0,0,0,0,0,0,0,0,0,0,0,0,0,0,0,0,12.5,13.6,9.6,15.8,null,"Wed","08:00:00",8,40,0,4,1,1,0,0,0,0,0,1,1,13,11,26,3,1,0,0,0,0,0,0,0,0,0,0,0,0,0,0,18.989090909090912,18.649999999999999,9.6,30.3,3,33,4,1,2,43,5,7,0,0,0,12,8,40,4,1,2,55]
[1,{"$f":"OFFSET(Input_Details!$Q$4,MATCH($A229, Input_Details!$J$5:$J$24, 0), 2)","v":"2017-04-26"},{"$f":"INDEX(Input_Details!$H$5:$H$24, MATCH($A229, Input_Details!$J$5:$J$24, 0), 0)","v":"Harper Road (South of Falmouth Road)"},{"$f":"INDEX(Input_Details!$I$5:$I$24, MATCH($A229, Input_Details!$J$5:$J$24, 0), 0)","v":"51.49617, -0.09302"},{"$f":"INDEX(Input_Details!$K$5:$K$24, MATCH($A229, Input_Details!$J$5:$J$24, 0), 0)","v":"Southbound"},"Wed","08:15:00",1,33,0,1,2,0,0,0,0,0,0,0,0,7,23,7,0,0,0,0,0,0,0,0,0,0,0,0,0,0,0,0,18.3,20.399999999999999,11.5,25,{"$f":"INDEX(Input_Details!$L$5:$L$24, MATCH($A229, Input_Details!$J$5:$J$24, 0), 0)","v":"Northbound"},"Wed","08:15:00",13,14,0,0,2,0,0,0,0,1,0,0,3,19,6,2,0,0,0,0,0,0,0,0,0,0,0,0,0,0,0,0,13.3,17.2,7.3,21.2,null,"Wed","08:15:00",14,47,0,1,4,0,0,0,0,1,0,0,3,26,29,9,0,0,0,0,0,0,0,0,0,0,0,0,0,0,0,0,16.061194029850746,18.799999999999997,7.3,25,1,33,1,2,0,37,13,14,0,2,1,30,14,47,1,4,1,67]
[1,{"$f":"OFFSET(Input_Details!$Q$4,MATCH($A230, Input_Details!$J$5:$J$24, 0), 2)","v":"2017-04-26"},{"$f":"INDEX(Input_Details!$H$5:$H$24, MATCH($A230, Input_Details!$J$5:$J$24, 0), 0)","v":"Harper Road (South of Falmouth Road)"},{"$f":"INDEX(Input_Details!$I$5:$I$24, MATCH($A230, Input_Details!$J$5:$J$24, 0), 0)","v":"51.49617, -0.09302"},{"$f":"INDEX(Input_Details!$K$5:$K$24, MATCH($A230, Input_Details!$J$5:$J$24, 0), 0)","v":"Southbound"},"Wed","08:30:00",0,34,0,2,4,0,0,0,0,0,0,0,0,3,23,12,2,0,0,0,0,0,0,0,0,0,0,0,0,0,0,0,19.399999999999999,21.5,12.2,27.6,{"$f":"INDEX(Input_Details!$L$5:$L$24, MATCH($A230, Input_Details!$J$5:$J$24, 0), 0)","v":"Northbound"},"Wed","08:30:00",15,11,0,0,1,0,0,0,0,0,0,0,1,18,7,0,1,0,0,0,0,0,0,0,0,0,0,0,0,0,0,0,14.5,17,8.1999999999999993,27.1,null,"Wed","08:30:00",15,45,0,2,5,0,0,0,0,0,0,0,1,21,30,12,3,0,0,0,0,0,0,0,0,0,0,0,0,0,0,0,17.425373134328357,19.25,8.1999999999999993,27.6,0,34,2,4,0,40,15,11,0,1,0,27,15,45,2,5,0,67]
[1,{"$f":"OFFSET(Input_Details!$Q$4,MATCH($A231, Input_Details!$J$5:$J$24, 0), 2)","v":"2017-04-26"},{"$f":"INDEX(Input_Details!$H$5:$H$24, MATCH($A231, Input_Details!$J$5:$J$24, 0), 0)","v":"Harper Road (South of Falmouth Road)"},{"$f":"INDEX(Input_Details!$I$5:$I$24, MATCH($A231, Input_Details!$J$5:$J$24, 0), 0)","v":"51.49617, -0.09302"},{"$f":"INDEX(Input_Details!$K$5:$K$24, MATCH($A231, Input_Details!$J$5:$J$24, 0), 0)","v":"Southbound"},"Wed","08:45:00",6,30,0,5,1,0,0,0,0,0,0,0,0,3,12,23,3,1,0,0,0,0,0,0,0,0,0,0,0,0,0,0,21.1,24.2,11.9,30.9,{"$f":"INDEX(Input_Details!$L$5:$L$24, MATCH($A231, Input_Details!$J$5:$J$24, 0), 0)","v":"Northbound"},"Wed","08:45:00",9,8,0,0,1,0,0,0,0,0,0,0,2,9,7,0,0,0,0,0,0,0,0,0,0,0,0,0,0,0,0,0,13.8,16.3,9.3000000000000007,19.600000000000001,null,"Wed","08:45:00",15,38,0,5,2,0,0,0,0,0,0,0,2,12,19,23,3,1,0,0,0,0,0,0,0,0,0,0,0,0,0,0,18.910000000000004,20.25,9.3000000000000007,30.9,6,30,5,1,0,42,9,8,0,1,0,18,15,38,5,2,0,60]
[1,{"$f":"OFFSET(Input_Details!$Q$4,MATCH($A232, Input_Details!$J$5:$J$24, 0), 2)","v":"2017-04-26"},{"$f":"INDEX(Input_Details!$H$5:$H$24, MATCH($A232, Input_Details!$J$5:$J$24, 0), 0)","v":"Harper Road (South of Falmouth Road)"},{"$f":"INDEX(Input_Details!$I$5:$I$24, MATCH($A232, Input_Details!$J$5:$J$24, 0), 0)","v":"51.49617, -0.09302"},{"$f":"INDEX(Input_Details!$K$5:$K$24, MATCH($A232, Input_Details!$J$5:$J$24, 0), 0)","v":"Southbound"},"Wed","09:00:00",2,39,1,7,2,1,0,0,0,0,0,0,0,3,22,24,2,1,0,0,0,0,0,0,0,0,0,0,0,0,0,0,19.899999999999999,22.1,13.2,30.8,{"$f":"INDEX(Input_Details!$L$5:$L$24, MATCH($A232, Input_Details!$J$5:$J$24, 0), 0)","v":"Northbound"},"Wed","09:00:00",5,13,0,0,0,0,0,0,0,0,0,0,1,14,2,1,0,0,0,0,0,0,0,0,0,0,0,0,0,0,0,0,13.7,14.3,8.8000000000000007,22.2,null,"Wed","09:00:00",7,52,1,7,2,1,0,0,0,0,0,0,1,17,24,25,2,1,0,0,0,0,0,0,0,0,0,0,0,0,0,0,18.305714285714284,18.200000000000003,8.8000000000000007,30.8,2,40,7,2,1,52,5,13,0,0,0,18,7,53,7,2,1,70]
[1,{"$f":"OFFSET(Input_Details!$Q$4,MATCH($A233, Input_Details!$J$5:$J$24, 0), 2)","v":"2017-04-26"},{"$f":"INDEX(Input_Details!$H$5:$H$24, MATCH($A233, Input_Details!$J$5:$J$24, 0), 0)","v":"Harper Road (South of Falmouth Road)"},{"$f":"INDEX(Input_Details!$I$5:$I$24, MATCH($A233, Input_Details!$J$5:$J$24, 0), 0)","v":"51.49617, -0.09302"},{"$f":"INDEX(Input_Details!$K$5:$K$24, MATCH($A233, Input_Details!$J$5:$J$24, 0), 0)","v":"Southbound"},"Wed","09:15:00",4,33,0,7,3,0,0,1,0,0,0,0,0,3,18,20,5,2,0,0,0,0,0,0,0,0,0,0,0,0,0,0,20.9,24.2,10.5,31.3,{"$f":"INDEX(Input_Details!$L$5:$L$24, MATCH($A233, Input_Details!$J$5:$J$24, 0), 0)","v":"Northbound"},"Wed","09:15:00",7,8,0,0,1,1,0,0,0,0,0,0,0,14,2,1,0,0,0,0,0,0,0,0,0,0,0,0,0,0,0,0,13.7,14.3,11.5,22.5,null,"Wed","09:15:00",11,41,0,7,4,1,0,1,0,0,0,0,0,17,20,21,5,2,0,0,0,0,0,0,0,0,0,0,0,0,0,0,19.016923076923074,19.25,10.5,31.3,4,33,7,3,1,48,7,8,0,1,1,17,11,41,7,4,2,65]
[1,{"$f":"OFFSET(Input_Details!$Q$4,MATCH($A234, Input_Details!$J$5:$J$24, 0), 2)","v":"2017-04-26"},{"$f":"INDEX(Input_Details!$H$5:$H$24, MATCH($A234, Input_Details!$J$5:$J$24, 0), 0)","v":"Harper Road (South of Falmouth Road)"},{"$f":"INDEX(Input_Details!$I$5:$I$24, MATCH($A234, Input_Details!$J$5:$J$24, 0), 0)","v":"51.49617, -0.09302"},{"$f":"INDEX(Input_Details!$K$5:$K$24, MATCH($A234, Input_Details!$J$5:$J$24, 0), 0)","v":"Southbound"},"Wed","09:30:00",1,32,0,5,1,0,0,0,0,0,0,0,0,1,11,21,5,1,0,0,0,0,0,0,0,0,0,0,0,0,0,0,21.4,23.7,13.7,34.200000000000003,{"$f":"INDEX(Input_Details!$L$5:$L$24, MATCH($A234, Input_Details!$J$5:$J$24, 0), 0)","v":"Northbound"},"Wed","09:30:00",4,4,0,0,0,0,0,0,0,0,0,0,0,3,3,2,0,0,0,0,0,0,0,0,0,0,0,0,0,0,0,0,16.7,"-",11.4,21.4,null,"Wed","09:30:00",5,36,0,5,1,0,0,0,0,0,0,0,0,4,14,23,5,1,0,0,0,0,0,0,0,0,0,0,0,0,0,0,20.599999999999998,23.7,11.4,34.200000000000003,1,32,5,1,0,39,4,4,0,0,0,8,5,36,5,1,0,47]
[1,{"$f":"OFFSET(Input_Details!$Q$4,MATCH($A235, Input_Details!$J$5:$J$24, 0), 2)","v":"2017-04-26"},{"$f":"INDEX(Input_Details!$H$5:$H$24, MATCH($A235, Input_Details!$J$5:$J$24, 0), 0)","v":"Harper Road (South of Falmouth Road)"},{"$f":"INDEX(Input_Details!$I$5:$I$24, MATCH($A235, Input_Details!$J$5:$J$24, 0), 0)","v":"51.49617, -0.09302"},{"$f":"INDEX(Input_Details!$K$5:$K$24, MATCH($A235, Input_Details!$J$5:$J$24, 0), 0)","v":"Southbound"},"Wed","09:45:00",0,29,0,4,7,1,0,0,0,2,0,0,0,4,14,21,4,0,0,0,0,0,0,0,0,0,0,0,0,0,0,0,20.2,23.7,11.7,28.2,{"$f":"INDEX(Input_Details!$L$5:$L$24, MATCH($A235, Input_Details!$J$5:$J$24, 0), 0)","v":"Northbound"},"Wed","09:45:00",2,6,0,0,1,0,0,0,0,0,0,0,0,3,4,1,1,0,0,0,0,0,0,0,0,0,0,0,0,0,0,0,16.899999999999999,"-",10.1,25.3,null,"Wed","09:45:00",2,35,0,4,8,1,0,0,0,2,0,0,0,7,18,22,5,0,0,0,0,0,0,0,0,0,0,0,0,0,0,0,19.628846153846155,23.7,10.1,28.2,0,29,4,7,3,43,2,6,0,1,0,9,2,35,4,8,3,52]
[1,{"$f":"OFFSET(Input_Details!$Q$4,MATCH($A236, Input_Details!$J$5:$J$24, 0), 2)","v":"2017-04-26"},{"$f":"INDEX(Input_Details!$H$5:$H$24, MATCH($A236, Input_Details!$J$5:$J$24, 0), 0)","v":"Harper Road (South of Falmouth Road)"},{"$f":"INDEX(Input_Details!$I$5:$I$24, MATCH($A236, Input_Details!$J$5:$J$24, 0), 0)","v":"51.49617, -0.09302"},{"$f":"INDEX(Input_Details!$K$5:$K$24, MATCH($A236, Input_Details!$J$5:$J$24, 0), 0)","v":"Southbound"},"Wed","10:00:00",2,38,0,8,1,0,0,0,0,0,0,0,0,9,22,14,3,0,1,0,0,0,0,0,0,0,0,0,0,0,0,0,18.899999999999999,22.4,12.4,35.700000000000003,{"$f":"INDEX(Input_Details!$L$5:$L$24, MATCH($A236, Input_Details!$J$5:$J$24, 0), 0)","v":"Northbound"},"Wed","10:00:00",2,10,0,1,1,0,0,0,0,0,0,0,0,10,4,0,0,0,0,0,0,0,0,0,0,0,0,0,0,0,0,0,13.8,15.7,10.3,18,null,"Wed","10:00:00",4,48,0,9,2,0,0,0,0,0,0,0,0,19,26,14,3,0,1,0,0,0,0,0,0,0,0,0,0,0,0,0,17.766666666666666,19.049999999999997,10.3,35.700000000000003,2,38,8,1,0,49,2,10,1,1,0,14,4,48,9,2,0,63]
[1,{"$f":"OFFSET(Input_Details!$Q$4,MATCH($A237, Input_Details!$J$5:$J$24, 0), 2)","v":"2017-04-26"},{"$f":"INDEX(Input_Details!$H$5:$H$24, MATCH($A237, Input_Details!$J$5:$J$24, 0), 0)","v":"Harper Road (South of Falmouth Road)"},{"$f":"INDEX(Input_Details!$I$5:$I$24, MATCH($A237, Input_Details!$J$5:$J$24, 0), 0)","v":"51.49617, -0.09302"},{"$f":"INDEX(Input_Details!$K$5:$K$24, MATCH($A237, Input_Details!$J$5:$J$24, 0), 0)","v":"Southbound"},"Wed","10:15:00",5,42,0,11,2,0,0,0,0,0,0,0,1,5,19,33,2,0,0,0,0,0,0,0,0,0,0,0,0,0,0,0,19.899999999999999,23,9.8000000000000007,27.8,{"$f":"INDEX(Input_Details!$L$5:$L$24, MATCH($A237, Input_Details!$J$5:$J$24, 0), 0)","v":"Northbound"},"Wed","10:15:00",5,12,0,0,1,0,0,0,0,0,0,0,1,8,7,2,0,0,0,0,0,0,0,0,0,0,0,0,0,0,0,0,15.7,17.899999999999999,9.4,22.9,null,"Wed","10:15:00",10,54,0,11,3,0,0,0,0,0,0,0,2,13,26,35,2,0,0,0,0,0,0,0,0,0,0,0,0,0,0,0,18.930769230769229,20.45,9.4,27.8,5,42,11,2,0,60,5,12,0,1,0,18,10,54,11,3,0,78]
[1,{"$f":"OFFSET(Input_Details!$Q$4,MATCH($A238, Input_Details!$J$5:$J$24, 0), 2)","v":"2017-04-26"},{"$f":"INDEX(Input_Details!$H$5:$H$24, MATCH($A238, Input_Details!$J$5:$J$24, 0), 0)","v":"Harper Road (South of Falmouth Road)"},{"$f":"INDEX(Input_Details!$I$5:$I$24, MATCH($A238, Input_Details!$J$5:$J$24, 0), 0)","v":"51.49617, -0.09302"},{"$f":"INDEX(Input_Details!$K$5:$K$24, MATCH($A238, Input_Details!$J$5:$J$24, 0), 0)","v":"Southbound"},"Wed","10:30:00",2,38,1,8,5,0,0,0,0,0,0,0,0,0,19,34,1,0,0,0,0,0,0,0,0,0,0,0,0,0,0,0,20.9,23,15.9,27.5,{"$f":"INDEX(Input_Details!$L$5:$L$24, MATCH($A238, Input_Details!$J$5:$J$24, 0), 0)","v":"Northbound"},"Wed","10:30:00",2,11,0,1,1,0,0,0,0,0,0,0,0,2,5,8,0,0,0,0,0,0,0,0,0,0,0,0,0,0,0,0,19.3,23,10.4,24,null,"Wed","10:30:00",4,49,1,9,6,0,0,0,0,0,0,0,0,2,24,42,1,0,0,0,0,0,0,0,0,0,0,0,0,0,0,0,20.552173913043475,23,10.4,27.5,2,39,8,5,0,54,2,11,1,1,0,15,4,50,9,6,0,69]
[1,{"$f":"OFFSET(Input_Details!$Q$4,MATCH($A239, Input_Details!$J$5:$J$24, 0), 2)","v":"2017-04-26"},{"$f":"INDEX(Input_Details!$H$5:$H$24, MATCH($A239, Input_Details!$J$5:$J$24, 0), 0)","v":"Harper Road (South of Falmouth Road)"},{"$f":"INDEX(Input_Details!$I$5:$I$24, MATCH($A239, Input_Details!$J$5:$J$24, 0), 0)","v":"51.49617, -0.09302"},{"$f":"INDEX(Input_Details!$K$5:$K$24, MATCH($A239, Input_Details!$J$5:$J$24, 0), 0)","v":"Southbound"},"Wed","10:45:00",1,31,1,11,3,1,0,0,0,0,0,0,0,2,21,20,4,1,0,0,0,0,0,0,0,0,0,0,0,0,0,0,20.399999999999999,23.7,11.6,30.2,{"$f":"INDEX(Input_Details!$L$5:$L$24, MATCH($A239, Input_Details!$J$5:$J$24, 0), 0)","v":"Northbound"},"Wed","10:45:00",3,5,0,0,0,0,0,0,0,0,0,0,1,6,1,0,0,0,0,0,0,0,0,0,0,0,0,0,0,0,0,0,12.6,"-",9,18.7,null,"Wed","10:45:00",4,36,1,11,3,1,0,0,0,0,0,0,1,8,22,20,4,1,0,0,0,0,0,0,0,0,0,0,0,0,0,0,19.285714285714285,23.7,9,30.2,1,32,11,3,1,48,3,5,0,0,0,8,4,37,11,3,1,56]
[1,{"$f":"OFFSET(Input_Details!$Q$4,MATCH($A240, Input_Details!$J$5:$J$24, 0), 2)","v":"2017-04-26"},{"$f":"INDEX(Input_Details!$H$5:$H$24, MATCH($A240, Input_Details!$J$5:$J$24, 0), 0)","v":"Harper Road (South of Falmouth Road)"},{"$f":"INDEX(Input_Details!$I$5:$I$24, MATCH($A240, Input_Details!$J$5:$J$24, 0), 0)","v":"51.49617, -0.09302"},{"$f":"INDEX(Input_Details!$K$5:$K$24, MATCH($A240, Input_Details!$J$5:$J$24, 0), 0)","v":"Southbound"},"Wed","11:00:00",4,32,0,8,5,0,0,0,0,0,0,0,0,8,15,16,9,0,0,1,0,0,0,0,0,0,0,0,0,0,0,0,20.5,24.8,11.2,40.6,{"$f":"INDEX(Input_Details!$L$5:$L$24, MATCH($A240, Input_Details!$J$5:$J$24, 0), 0)","v":"Northbound"},"Wed","11:00:00",0,7,0,0,0,0,0,0,0,0,0,0,0,5,1,0,1,0,0,0,0,0,0,0,0,0,0,0,0,0,0,0,15.2,"-",11.4,26.8,null,"Wed","11:00:00",4,39,0,8,5,0,0,0,0,0,0,0,0,13,16,16,10,0,0,1,0,0,0,0,0,0,0,0,0,0,0,0,19.837500000000002,24.8,11.2,40.6,4,32,8,5,0,49,0,7,0,0,0,7,4,39,8,5,0,56]
[1,{"$f":"OFFSET(Input_Details!$Q$4,MATCH($A241, Input_Details!$J$5:$J$24, 0), 2)","v":"2017-04-26"},{"$f":"INDEX(Input_Details!$H$5:$H$24, MATCH($A241, Input_Details!$J$5:$J$24, 0), 0)","v":"Harper Road (South of Falmouth Road)"},{"$f":"INDEX(Input_Details!$I$5:$I$24, MATCH($A241, Input_Details!$J$5:$J$24, 0), 0)","v":"51.49617, -0.09302"},{"$f":"INDEX(Input_Details!$K$5:$K$24, MATCH($A241, Input_Details!$J$5:$J$24, 0), 0)","v":"Southbound"},"Wed","11:15:00",4,42,0,6,1,0,0,0,0,0,0,0,1,6,29,13,3,1,0,0,0,0,0,0,0,0,0,0,0,0,0,0,18.600000000000001,22.1,8.9,30.3,{"$f":"INDEX(Input_Details!$L$5:$L$24, MATCH($A241, Input_Details!$J$5:$J$24, 0), 0)","v":"Northbound"},"Wed","11:15:00",3,6,0,0,1,0,0,0,0,0,0,0,1,5,4,0,0,0,0,0,0,0,0,0,0,0,0,0,0,0,0,0,14.4,"-",9.4,19.399999999999999,null,"Wed","11:15:00",7,48,0,6,2,0,0,0,0,0,0,0,2,11,33,13,3,1,0,0,0,0,0,0,0,0,0,0,0,0,0,0,17.933333333333337,22.1,8.9,30.3,4,42,6,1,0,53,3,6,0,1,0,10,7,48,6,2,0,63]
[1,{"$f":"OFFSET(Input_Details!$Q$4,MATCH($A242, Input_Details!$J$5:$J$24, 0), 2)","v":"2017-04-26"},{"$f":"INDEX(Input_Details!$H$5:$H$24, MATCH($A242, Input_Details!$J$5:$J$24, 0), 0)","v":"Harper Road (South of Falmouth Road)"},{"$f":"INDEX(Input_Details!$I$5:$I$24, MATCH($A242, Input_Details!$J$5:$J$24, 0), 0)","v":"51.49617, -0.09302"},{"$f":"INDEX(Input_Details!$K$5:$K$24, MATCH($A242, Input_Details!$J$5:$J$24, 0), 0)","v":"Southbound"},"Wed","11:30:00",5,40,0,11,3,0,0,0,0,0,0,0,0,4,26,21,7,1,0,0,0,0,0,0,0,0,0,0,0,0,0,0,20.100000000000001,24.6,11.3,33,{"$f":"INDEX(Input_Details!$L$5:$L$24, MATCH($A242, Input_Details!$J$5:$J$24, 0), 0)","v":"Northbound"},"Wed","11:30:00",0,7,0,0,0,0,0,0,0,0,0,0,0,1,5,1,0,0,0,0,0,0,0,0,0,0,0,0,0,0,0,0,16.600000000000001,"-",12.4,21.8,null,"Wed","11:30:00",5,47,0,11,3,0,0,0,0,0,0,0,0,5,31,22,7,1,0,0,0,0,0,0,0,0,0,0,0,0,0,0,19.72878787878788,24.6,11.3,33,5,40,11,3,0,59,0,7,0,0,0,7,5,47,11,3,0,66]
[1,{"$f":"OFFSET(Input_Details!$Q$4,MATCH($A243, Input_Details!$J$5:$J$24, 0), 2)","v":"2017-04-26"},{"$f":"INDEX(Input_Details!$H$5:$H$24, MATCH($A243, Input_Details!$J$5:$J$24, 0), 0)","v":"Harper Road (South of Falmouth Road)"},{"$f":"INDEX(Input_Details!$I$5:$I$24, MATCH($A243, Input_Details!$J$5:$J$24, 0), 0)","v":"51.49617, -0.09302"},{"$f":"INDEX(Input_Details!$K$5:$K$24, MATCH($A243, Input_Details!$J$5:$J$24, 0), 0)","v":"Southbound"},"Wed","11:45:00",2,49,0,7,3,0,0,1,0,0,0,0,0,6,18,26,9,3,0,0,0,0,0,0,0,0,0,0,0,0,0,0,21.4,25.9,12.7,34.799999999999997,{"$f":"INDEX(Input_Details!$L$5:$L$24, MATCH($A243, Input_Details!$J$5:$J$24, 0), 0)","v":"Northbound"},"Wed","11:45:00",1,6,0,1,0,0,0,0,0,0,0,0,0,1,6,1,0,0,0,0,0,0,0,0,0,0,0,0,0,0,0,0,18,"-",13.1,24.8,null,"Wed","11:45:00",3,55,0,8,3,0,0,1,0,0,0,0,0,7,24,27,9,3,0,0,0,0,0,0,0,0,0,0,0,0,0,0,21.011428571428571,25.9,12.7,34.799999999999997,2,49,7,3,1,62,1,6,1,0,0,8,3,55,8,3,1,70]
[1,{"$f":"OFFSET(Input_Details!$Q$4,MATCH($A244, Input_Details!$J$5:$J$24, 0), 2)","v":"2017-04-26"},{"$f":"INDEX(Input_Details!$H$5:$H$24, MATCH($A244, Input_Details!$J$5:$J$24, 0), 0)","v":"Harper Road (South of Falmouth Road)"},{"$f":"INDEX(Input_Details!$I$5:$I$24, MATCH($A244, Input_Details!$J$5:$J$24, 0), 0)","v":"51.49617, -0.09302"},{"$f":"INDEX(Input_Details!$K$5:$K$24, MATCH($A244, Input_Details!$J$5:$J$24, 0), 0)","v":"Southbound"},"Wed","12:00:00",2,34,0,9,2,0,0,0,0,0,0,0,1,3,19,19,3,1,1,0,0,0,0,0,0,0,0,0,0,0,0,0,20.2,23.7,8.4,36,{"$f":"INDEX(Input_Details!$L$5:$L$24, MATCH($A244, Input_Details!$J$5:$J$24, 0), 0)","v":"Northbound"},"Wed","12:00:00",0,6,0,0,1,2,0,0,0,0,0,0,0,6,3,0,0,0,0,0,0,0,0,0,0,0,0,0,0,0,0,0,14.1,"-",10.199999999999999,17.399999999999999,null,"Wed","12:00:00",2,40,0,9,3,2,0,0,0,0,0,0,1,9,22,19,3,1,1,0,0,0,0,0,0,0,0,0,0,0,0,0,19.219642857142855,23.7,8.4,36,2,34,9,2,0,47,0,6,0,1,2,9,2,40,9,3,2,56]
[1,{"$f":"OFFSET(Input_Details!$Q$4,MATCH($A245, Input_Details!$J$5:$J$24, 0), 2)","v":"2017-04-26"},{"$f":"INDEX(Input_Details!$H$5:$H$24, MATCH($A245, Input_Details!$J$5:$J$24, 0), 0)","v":"Harper Road (South of Falmouth Road)"},{"$f":"INDEX(Input_Details!$I$5:$I$24, MATCH($A245, Input_Details!$J$5:$J$24, 0), 0)","v":"51.49617, -0.09302"},{"$f":"INDEX(Input_Details!$K$5:$K$24, MATCH($A245, Input_Details!$J$5:$J$24, 0), 0)","v":"Southbound"},"Wed","12:15:00",5,40,0,9,0,0,0,0,1,0,0,0,1,4,31,16,2,1,0,0,0,0,0,0,0,0,0,0,0,0,0,0,19.2,23.5,9.1999999999999993,34.299999999999997,{"$f":"INDEX(Input_Details!$L$5:$L$24, MATCH($A245, Input_Details!$J$5:$J$24, 0), 0)","v":"Northbound"},"Wed","12:15:00",1,8,0,0,0,0,0,0,0,0,0,0,1,3,5,0,0,0,0,0,0,0,0,0,0,0,0,0,0,0,0,0,14.1,"-",6.2,18.5,null,"Wed","12:15:00",6,48,0,9,0,0,0,0,1,0,0,0,2,7,36,16,2,1,0,0,0,0,0,0,0,0,0,0,0,0,0,0,18.482812500000001,23.5,6.2,34.299999999999997,5,40,9,0,1,55,1,8,0,0,0,9,6,48,9,0,1,64]
[1,{"$f":"OFFSET(Input_Details!$Q$4,MATCH($A246, Input_Details!$J$5:$J$24, 0), 2)","v":"2017-04-26"},{"$f":"INDEX(Input_Details!$H$5:$H$24, MATCH($A246, Input_Details!$J$5:$J$24, 0), 0)","v":"Harper Road (South of Falmouth Road)"},{"$f":"INDEX(Input_Details!$I$5:$I$24, MATCH($A246, Input_Details!$J$5:$J$24, 0), 0)","v":"51.49617, -0.09302"},{"$f":"INDEX(Input_Details!$K$5:$K$24, MATCH($A246, Input_Details!$J$5:$J$24, 0), 0)","v":"Southbound"},"Wed","12:30:00",2,44,0,10,2,1,0,0,0,0,0,0,1,6,35,13,3,0,1,0,0,0,0,0,0,0,0,0,0,0,0,0,18.600000000000001,21.3,9.6999999999999993,36.6,{"$f":"INDEX(Input_Details!$L$5:$L$24, MATCH($A246, Input_Details!$J$5:$J$24, 0), 0)","v":"Northbound"},"Wed","12:30:00",3,10,0,0,0,0,0,0,0,0,1,0,1,7,4,1,1,0,0,0,0,0,0,0,0,0,0,0,0,0,0,0,15.2,19.5,9,27.4,null,"Wed","12:30:00",5,54,0,10,2,1,0,0,0,0,1,0,2,13,39,14,4,0,1,0,0,0,0,0,0,0,0,0,0,0,0,0,17.947945205479453,20.399999999999999,9,36.6,2,44,10,2,1,59,3,10,0,0,1,14,5,54,10,2,2,73]
[1,{"$f":"OFFSET(Input_Details!$Q$4,MATCH($A247, Input_Details!$J$5:$J$24, 0), 2)","v":"2017-04-26"},{"$f":"INDEX(Input_Details!$H$5:$H$24, MATCH($A247, Input_Details!$J$5:$J$24, 0), 0)","v":"Harper Road (South of Falmouth Road)"},{"$f":"INDEX(Input_Details!$I$5:$I$24, MATCH($A247, Input_Details!$J$5:$J$24, 0), 0)","v":"51.49617, -0.09302"},{"$f":"INDEX(Input_Details!$K$5:$K$24, MATCH($A247, Input_Details!$J$5:$J$24, 0), 0)","v":"Southbound"},"Wed","12:45:00",3,38,0,11,1,0,0,0,0,0,0,0,1,16,12,16,8,0,0,0,0,0,0,0,0,0,0,0,0,0,0,0,18.8,24.6,9.6,29.8,{"$f":"INDEX(Input_Details!$L$5:$L$24, MATCH($A247, Input_Details!$J$5:$J$24, 0), 0)","v":"Northbound"},"Wed","12:45:00",1,6,0,0,1,0,0,0,0,0,0,0,0,4,2,2,0,0,0,0,0,0,0,0,0,0,0,0,0,0,0,0,16.2,"-",11.3,20.5,null,"Wed","12:45:00",4,44,0,11,2,0,0,0,0,0,0,0,1,20,14,18,8,0,0,0,0,0,0,0,0,0,0,0,0,0,0,0,18.459016393442624,24.6,9.6,29.8,3,38,11,1,0,53,1,6,0,1,0,8,4,44,11,2,0,61]
[1,{"$f":"OFFSET(Input_Details!$Q$4,MATCH($A248, Input_Details!$J$5:$J$24, 0), 2)","v":"2017-04-26"},{"$f":"INDEX(Input_Details!$H$5:$H$24, MATCH($A248, Input_Details!$J$5:$J$24, 0), 0)","v":"Harper Road (South of Falmouth Road)"},{"$f":"INDEX(Input_Details!$I$5:$I$24, MATCH($A248, Input_Details!$J$5:$J$24, 0), 0)","v":"51.49617, -0.09302"},{"$f":"INDEX(Input_Details!$K$5:$K$24, MATCH($A248, Input_Details!$J$5:$J$24, 0), 0)","v":"Southbound"},"Wed","13:00:00",2,52,0,5,0,0,0,0,0,0,0,0,0,2,32,24,1,0,0,0,0,0,0,0,0,0,0,0,0,0,0,0,19.8,22.8,13.5,25.7,{"$f":"INDEX(Input_Details!$L$5:$L$24, MATCH($A248, Input_Details!$J$5:$J$24, 0), 0)","v":"Northbound"},"Wed","13:00:00",2,5,0,0,2,0,0,0,0,0,0,0,1,5,2,1,0,0,0,0,0,0,0,0,0,0,0,0,0,0,0,0,14.9,"-",8.3000000000000007,22,null,"Wed","13:00:00",4,57,0,5,2,0,0,0,0,0,0,0,1,7,34,25,1,0,0,0,0,0,0,0,0,0,0,0,0,0,0,0,19.151470588235295,22.8,8.3000000000000007,25.7,2,52,5,0,0,59,2,5,0,2,0,9,4,57,5,2,0,68]
[1,{"$f":"OFFSET(Input_Details!$Q$4,MATCH($A249, Input_Details!$J$5:$J$24, 0), 2)","v":"2017-04-26"},{"$f":"INDEX(Input_Details!$H$5:$H$24, MATCH($A249, Input_Details!$J$5:$J$24, 0), 0)","v":"Harper Road (South of Falmouth Road)"},{"$f":"INDEX(Input_Details!$I$5:$I$24, MATCH($A249, Input_Details!$J$5:$J$24, 0), 0)","v":"51.49617, -0.09302"},{"$f":"INDEX(Input_Details!$K$5:$K$24, MATCH($A249, Input_Details!$J$5:$J$24, 0), 0)","v":"Southbound"},"Wed","13:15:00",6,50,1,9,1,0,0,0,0,0,0,0,1,6,21,32,6,1,0,0,0,0,0,0,0,0,0,0,0,0,0,0,20.2,24.2,5.6,30.9,{"$f":"INDEX(Input_Details!$L$5:$L$24, MATCH($A249, Input_Details!$J$5:$J$24, 0), 0)","v":"Northbound"},"Wed","13:15:00",1,5,0,0,0,0,0,0,0,0,0,0,1,0,1,3,1,0,0,0,0,0,0,0,0,0,0,0,0,0,0,0,20.5,"-",5.6,28,null,"Wed","13:15:00",7,55,1,9,1,0,0,0,0,0,0,0,2,6,22,35,7,1,0,0,0,0,0,0,0,0,0,0,0,0,0,0,20.224657534246575,24.2,5.6,30.9,6,51,9,1,0,67,1,5,0,0,0,6,7,56,9,1,0,73]
[1,{"$f":"OFFSET(Input_Details!$Q$4,MATCH($A250, Input_Details!$J$5:$J$24, 0), 2)","v":"2017-04-26"},{"$f":"INDEX(Input_Details!$H$5:$H$24, MATCH($A250, Input_Details!$J$5:$J$24, 0), 0)","v":"Harper Road (South of Falmouth Road)"},{"$f":"INDEX(Input_Details!$I$5:$I$24, MATCH($A250, Input_Details!$J$5:$J$24, 0), 0)","v":"51.49617, -0.09302"},{"$f":"INDEX(Input_Details!$K$5:$K$24, MATCH($A250, Input_Details!$J$5:$J$24, 0), 0)","v":"Southbound"},"Wed","13:30:00",7,50,0,9,4,2,0,0,0,0,0,0,1,2,31,32,4,2,0,0,0,0,0,0,0,0,0,0,0,0,0,0,20.100000000000001,21.9,9.4,31.4,{"$f":"INDEX(Input_Details!$L$5:$L$24, MATCH($A250, Input_Details!$J$5:$J$24, 0), 0)","v":"Northbound"},"Wed","13:30:00",2,10,0,1,2,0,0,0,0,0,0,0,0,10,5,0,0,0,0,0,0,0,0,0,0,0,0,0,0,0,0,0,14.4,16.600000000000001,10.9,18.100000000000001,null,"Wed","13:30:00",9,60,0,10,6,2,0,0,0,0,0,0,1,12,36,32,4,2,0,0,0,0,0,0,0,0,0,0,0,0,0,0,19.117241379310347,19.25,9.4,31.4,7,50,9,4,2,72,2,10,1,2,0,15,9,60,10,6,2,87]
[1,{"$f":"OFFSET(Input_Details!$Q$4,MATCH($A272, Input_Details!$J$5:$J$24, 0), 2)","v":"2017-04-26"},{"$f":"INDEX(Input_Details!$H$5:$H$24, MATCH($A272, Input_Details!$J$5:$J$24, 0), 0)","v":"Harper Road (South of Falmouth Road)"},{"$f":"INDEX(Input_Details!$I$5:$I$24, MATCH($A272, Input_Details!$J$5:$J$24, 0), 0)","v":"51.49617, -0.09302"},{"$f":"INDEX(Input_Details!$K$5:$K$24, MATCH($A272, Input_Details!$J$5:$J$24, 0), 0)","v":"Southbound"},"Wed","19:00:00",31,60,3,1,3,0,0,0,0,0,0,0,1,8,46,24,8,5,5,1,0,0,0,0,0,0,0,0,0,0,0,0,21,26.8,6.1,43.4,{"$f":"INDEX(Input_Details!$L$5:$L$24, MATCH($A272, Input_Details!$J$5:$J$24, 0), 0)","v":"Northbound"},"Wed","19:00:00",2,13,0,0,0,0,0,0,0,0,0,0,0,12,2,0,1,0,0,0,0,0,0,0,0,0,0,0,0,0,0,0,14.1,15.9,10.8,25.2,null,"Wed","19:00:00",33,73,3,1,3,0,0,0,0,0,0,0,1,20,48,24,9,5,5,1,0,0,0,0,0,0,0,0,0,0,0,0,20.084070796460178,21.35,6.1,43.4,31,63,1,3,0,98,2,13,0,0,0,15,33,76,1,3,0,113]
[1,{"$f":"OFFSET(Input_Details!$Q$4,MATCH($A301, Input_Details!$J$5:$J$24, 0), 3)","v":"2017-04-20"},{"$f":"INDEX(Input_Details!$H$5:$H$24, MATCH($A301, Input_Details!$J$5:$J$24, 0), 0)","v":"Harper Road (South of Falmouth Road)"},{"$f":"INDEX(Input_Details!$I$5:$I$24, MATCH($A301, Input_Details!$J$5:$J$24, 0), 0)","v":"51.49617, -0.09302"},{"$f":"INDEX(Input_Details!$K$5:$K$24, MATCH($A301, Input_Details!$J$5:$J$24, 0), 0)","v":"Southbound"},"Thu","02:15:00",3,12,0,1,0,0,0,0,0,0,0,0,1,1,8,5,1,0,0,0,0,0,0,0,0,0,0,0,0,0,0,0,19.3,24.2,9.9,28,{"$f":"INDEX(Input_Details!$L$5:$L$24, MATCH($A301, Input_Details!$J$5:$J$24, 0), 0)","v":"Northbound"},"Thu","02:15:00",0,0,0,0,0,0,0,0,0,0,0,0,0,0,0,0,0,0,0,0,0,0,0,0,0,0,0,0,0,0,0,0,"-","-","-","-",null,"Thu","02:15:00",3,12,0,1,0,0,0,0,0,0,0,0,1,1,8,5,1,0,0,0,0,0,0,0,0,0,0,0,0,0,0,0,19.3,24.2,9.9,28,3,12,1,0,0,16,0,0,0,0,0,0,3,12,1,0,0,16]
[1,{"$f":"OFFSET(Input_Details!$Q$4,MATCH($A319, Input_Details!$J$5:$J$24, 0), 3)","v":"2017-04-20"},{"$f":"INDEX(Input_Details!$H$5:$H$24, MATCH($A319, Input_Details!$J$5:$J$24, 0), 0)","v":"Harper Road (South of Falmouth Road)"},{"$f":"INDEX(Input_Details!$I$5:$I$24, MATCH($A319, Input_Details!$J$5:$J$24, 0), 0)","v":"51.49617, -0.09302"},{"$f":"INDEX(Input_Details!$K$5:$K$24, MATCH($A319, Input_Details!$J$5:$J$24, 0), 0)","v":"Southbound"},"Thu","06:45:00",3,26,0,2,0,0,0,0,0,0,0,0,0,2,9,14,5,1,0,0,0,0,0,0,0,0,0,0,0,0,0,0,21.8,25.7,11.8,33.6,{"$f":"INDEX(Input_Details!$L$5:$L$24, MATCH($A319, Input_Details!$J$5:$J$24, 0), 0)","v":"Northbound"},"Thu","06:45:00",5,6,0,1,0,0,0,0,0,0,0,0,1,5,4,0,2,0,0,0,0,0,0,0,0,0,0,0,0,0,0,0,16.5,18.600000000000001,9.1,28.4,null,"Thu","06:45:00",8,32,0,3,0,0,0,0,0,0,0,0,1,7,13,14,7,1,0,0,0,0,0,0,0,0,0,0,0,0,0,0,20.32093023255814,22.15,9.1,33.6,3,26,2,0,0,31,5,6,1,0,0,12,8,32,3,0,0,43]
[1,{"$f":"OFFSET(Input_Details!$Q$4,MATCH($A338, Input_Details!$J$5:$J$24, 0), 3)","v":"2017-04-20"},{"$f":"INDEX(Input_Details!$H$5:$H$24, MATCH($A338, Input_Details!$J$5:$J$24, 0), 0)","v":"Harper Road (South of Falmouth Road)"},{"$f":"INDEX(Input_Details!$I$5:$I$24, MATCH($A338, Input_Details!$J$5:$J$24, 0), 0)","v":"51.49617, -0.09302"},{"$f":"INDEX(Input_Details!$K$5:$K$24, MATCH($A338, Input_Details!$J$5:$J$24, 0), 0)","v":"Southbound"},"Thu","11:30:00",3,40,0,12,1,0,1,1,0,0,0,0,0,6,32,16,3,1,0,0,0,0,0,0,0,0,0,0,0,0,0,0,19.100000000000001,23,12,34.299999999999997,{"$f":"INDEX(Input_Details!$L$5:$L$24, MATCH($A338, Input_Details!$J$5:$J$24, 0), 0)","v":"Northbound"},"Thu","11:30:00",0,1,0,0,0,1,0,0,0,0,0,0,0,2,0,0,0,0,0,0,0,0,0,0,0,0,0,0,0,0,0,0,12.4,"-",11.3,13.4,null,"Thu","11:30:00",3,41,0,12,1,1,1,1,0,0,0,0,0,8,32,16,3,1,0,0,0,0,0,0,0,0,0,0,0,0,0,0,18.876666666666669,23,11.3,34.299999999999997,3,40,12,1,2,58,0,1,0,0,1,2,3,41,12,1,3,60]
[1,{"$f":"OFFSET(Input_Details!$Q$4,MATCH($A382, Input_Details!$J$5:$J$24, 0), 3)","v":"2017-04-20"},{"$f":"INDEX(Input_Details!$H$5:$H$24, MATCH($A382, Input_Details!$J$5:$J$24, 0), 0)","v":"Harper Road (South of Falmouth Road)"},{"$f":"INDEX(Input_Details!$I$5:$I$24, MATCH($A382, Input_Details!$J$5:$J$24, 0), 0)","v":"51.49617, -0.09302"},{"$f":"INDEX(Input_Details!$K$5:$K$24, MATCH($A382, Input_Details!$J$5:$J$24, 0), 0)","v":"Southbound"},"Thu","22:30:00",4,33,1,1,0,0,0,0,0,0,0,0,0,9,23,2,5,0,0,0,0,0,0,0,0,0,0,0,0,0,0,0,18.2,21.7,11.6,29.7,{"$f":"INDEX(Input_Details!$L$5:$L$24, MATCH($A382, Input_Details!$J$5:$J$24, 0), 0)","v":"Northbound"},"Thu","22:30:00",0,1,0,0,0,0,0,0,0,0,0,0,0,1,0,0,0,0,0,0,0,0,0,0,0,0,0,0,0,0,0,0,14.2,"-",14.2,14.2,null,"Thu","22:30:00",4,34,1,1,0,0,0,0,0,0,0,0,0,10,23,2,5,0,0,0,0,0,0,0,0,0,0,0,0,0,0,0,18.100000000000001,21.7,11.6,29.7,4,34,1,0,0,39,0,1,0,0,0,1,4,35,1,0,0,40]
[1,{"$f":"OFFSET(Input_Details!$Q$4,MATCH($A405, Input_Details!$J$5:$J$24, 0), 4)","v":"2017-04-21"},{"$f":"INDEX(Input_Details!$H$5:$H$24, MATCH($A405, Input_Details!$J$5:$J$24, 0), 0)","v":"Harper Road (South of Falmouth Road)"},{"$f":"INDEX(Input_Details!$I$5:$I$24, MATCH($A405, Input_Details!$J$5:$J$24, 0), 0)","v":"51.49617, -0.09302"},{"$f":"INDEX(Input_Details!$K$5:$K$24, MATCH($A405, Input_Details!$J$5:$J$24, 0), 0)","v":"Southbound"},"Fri","04:15:00",0,7,0,0,0,0,0,0,0,0,0,0,0,1,2,4,0,0,0,0,0,0,0,0,0,0,0,0,0,0,0,0,19.600000000000001,"-",14.8,21.8,{"$f":"INDEX(Input_Details!$L$5:$L$24, MATCH($A405, Input_Details!$J$5:$J$24, 0), 0)","v":"Northbound"},"Fri","04:15:00",0,1,0,0,0,0,0,0,0,0,0,0,0,0,0,1,0,0,0,0,0,0,0,0,0,0,0,0,0,0,0,0,22.4,"-",22.4,22.4,null,"Fri","04:15:00",0,8,0,0,0,0,0,0,0,0,0,0,0,1,2,5,0,0,0,0,0,0,0,0,0,0,0,0,0,0,0,0,19.950000000000003,"-",14.8,22.4,0,7,0,0,0,7,0,1,0,0,0,1,0,8,0,0,0,8]
[1,{"$f":"OFFSET(Input_Details!$Q$4,MATCH($A434, Input_Details!$J$5:$J$24, 0), 4)","v":"2017-04-21"},{"$f":"INDEX(Input_Details!$H$5:$H$24, MATCH($A434, Input_Details!$J$5:$J$24, 0), 0)","v":"Harper Road (South of Falmouth Road)"},{"$f":"INDEX(Input_Details!$I$5:$I$24, MATCH($A434, Input_Details!$J$5:$J$24, 0), 0)","v":"51.49617, -0.09302"},{"$f":"INDEX(Input_Details!$K$5:$K$24, MATCH($A434, Input_Details!$J$5:$J$24, 0), 0)","v":"Southbound"},"Fri","11:30:00",2,42,0,12,1,0,0,0,0,0,0,0,0,1,32,19,4,1,0,0,0,0,0,0,0,0,0,0,0,0,0,0,20.100000000000001,23.9,14.5,31,{"$f":"INDEX(Input_Details!$L$5:$L$24, MATCH($A434, Input_Details!$J$5:$J$24, 0), 0)","v":"Northbound"},"Fri","11:30:00",0,3,0,0,0,1,0,0,0,0,0,0,0,2,2,0,0,0,0,0,0,0,0,0,0,0,0,0,0,0,0,0,15.8,"-",14,18,null,"Fri","11:30:00",2,45,0,12,1,1,0,0,0,0,0,0,0,3,34,19,4,1,0,0,0,0,0,0,0,0,0,0,0,0,0,0,19.818032786885247,23.9,14,31,2,42,12,1,0,57,0,3,0,0,1,4,2,45,12,1,1,61]
[1,{"$f":"OFFSET(Input_Details!$Q$4,MATCH($A438, Input_Details!$J$5:$J$24, 0), 4)","v":"2017-04-21"},{"$f":"INDEX(Input_Details!$H$5:$H$24, MATCH($A438, Input_Details!$J$5:$J$24, 0), 0)","v":"Harper Road (South of Falmouth Road)"},{"$f":"INDEX(Input_Details!$I$5:$I$24, MATCH($A438, Input_Details!$J$5:$J$24, 0), 0)","v":"51.49617, -0.09302"},{"$f":"INDEX(Input_Details!$K$5:$K$24, MATCH($A438, Input_Details!$J$5:$J$24, 0), 0)","v":"Southbound"},"Fri","12:30:00",6,50,0,14,1,0,0,0,0,0,0,0,0,5,31,29,6,0,0,0,0,0,0,0,0,0,0,0,0,0,0,0,19.899999999999999,22.6,14.4,29.2,{"$f":"INDEX(Input_Details!$L$5:$L$24, MATCH($A438, Input_Details!$J$5:$J$24, 0), 0)","v":"Northbound"},"Fri","12:30:00",4,5,0,0,0,0,0,0,0,0,0,0,0,3,5,1,0,0,0,0,0,0,0,0,0,0,0,0,0,0,0,0,16.8,"-",12.4,21.1,null,"Fri","12:30:00",10,55,0,14,1,0,0,0,0,0,0,0,0,8,36,30,6,0,0,0,0,0,0,0,0,0,0,0,0,0,0,0,19.55125,22.6,12.4,29.2,6,50,14,1,0,71,4,5,0,0,0,9,10,55,14,1,0,80]
[1,{"$f":"OFFSET(Input_Details!$Q$4,MATCH($A471, Input_Details!$J$5:$J$24, 0), 4)","v":"2017-04-21"},{"$f":"INDEX(Input_Details!$H$5:$H$24, MATCH($A471, Input_Details!$J$5:$J$24, 0), 0)","v":"Harper Road (South of Falmouth Road)"},{"$f":"INDEX(Input_Details!$I$5:$I$24, MATCH($A471, Input_Details!$J$5:$J$24, 0), 0)","v":"51.49617, -0.09302"},{"$f":"INDEX(Input_Details!$K$5:$K$24, MATCH($A471, Input_Details!$J$5:$J$24, 0), 0)","v":"Southbound"},"Fri","20:45:00",4,46,0,3,0,0,0,0,0,0,0,0,3,23,21,5,1,0,0,0,0,0,0,0,0,0,0,0,0,0,0,0,15.5,18.600000000000001,8,26,{"$f":"INDEX(Input_Details!$L$5:$L$24, MATCH($A471, Input_Details!$J$5:$J$24, 0), 0)","v":"Northbound"},"Fri","20:45:00",6,7,0,0,1,0,0,0,0,0,0,0,0,5,5,2,2,0,0,0,0,0,0,0,0,0,0,0,0,0,0,0,17.600000000000001,24.4,10.5,28.4,null,"Fri","20:45:00",10,53,0,3,1,0,0,0,0,0,0,0,3,28,26,7,3,0,0,0,0,0,0,0,0,0,0,0,0,0,0,0,15.938805970149255,21.5,8,28.4,4,46,3,0,0,53,6,7,0,1,0,14,10,53,3,1,0,67]
[1,{"$f":"OFFSET(Input_Details!$Q$4,MATCH($A501, Input_Details!$J$5:$J$24, 0), 5)","v":"2017-04-22"},{"$f":"INDEX(Input_Details!$H$5:$H$24, MATCH($A501, Input_Details!$J$5:$J$24, 0), 0)","v":"Harper Road (South of Falmouth Road)"},{"$f":"INDEX(Input_Details!$I$5:$I$24, MATCH($A501, Input_Details!$J$5:$J$24, 0), 0)","v":"51.49617, -0.09302"},{"$f":"INDEX(Input_Details!$K$5:$K$24, MATCH($A501, Input_Details!$J$5:$J$24, 0), 0)","v":"Southbound"},"Sat","04:15:00",0,9,0,0,0,0,0,0,0,0,0,0,1,0,1,5,2,0,0,0,0,0,0,0,0,0,0,0,0,0,0,0,21.4,"-",7.6,26.5,{"$f":"INDEX(Input_Details!$L$5:$L$24, MATCH($A501, Input_Details!$J$5:$J$24, 0), 0)","v":"Northbound"},"Sat","04:15:00",0,0,0,0,0,0,0,0,0,0,0,0,0,0,0,0,0,0,0,0,0,0,0,0,0,0,0,0,0,0,0,0,"-","-","-","-",null,"Sat","04:15:00",0,9,0,0,0,0,0,0,0,0,0,0,1,0,1,5,2,0,0,0,0,0,0,0,0,0,0,0,0,0,0,0,21.4,"-",7.6,26.5,0,9,0,0,0,9,0,0,0,0,0,0,0,9,0,0,0,9]
[1,{"$f":"OFFSET(Input_Details!$Q$4,MATCH($A538, Input_Details!$J$5:$J$24, 0), 5)","v":"2017-04-22"},{"$f":"INDEX(Input_Details!$H$5:$H$24, MATCH($A538, Input_Details!$J$5:$J$24, 0), 0)","v":"Harper Road (South of Falmouth Road)"},{"$f":"INDEX(Input_Details!$I$5:$I$24, MATCH($A538, Input_Details!$J$5:$J$24, 0), 0)","v":"51.49617, -0.09302"},{"$f":"INDEX(Input_Details!$K$5:$K$24, MATCH($A538, Input_Details!$J$5:$J$24, 0), 0)","v":"Southbound"},"Sat","13:30:00",6,65,0,2,0,0,0,0,0,0,0,0,0,25,32,13,2,1,0,0,0,0,0,0,0,0,0,0,0,0,0,0,17.600000000000001,21.7,10.6,30.7,{"$f":"INDEX(Input_Details!$L$5:$L$24, MATCH($A538, Input_Details!$J$5:$J$24, 0), 0)","v":"Northbound"},"Sat","13:30:00",2,4,0,0,0,0,0,0,0,0,0,0,0,1,4,1,0,0,0,0,0,0,0,0,0,0,0,0,0,0,0,0,16.5,"-",11.5,22.2,null,"Sat","13:30:00",8,69,0,2,0,0,0,0,0,0,0,0,0,26,36,14,2,1,0,0,0,0,0,0,0,0,0,0,0,0,0,0,17.516455696202534,21.7,10.6,30.7,6,65,2,0,0,73,2,4,0,0,0,6,8,69,2,0,0,79]
[1,{"$f":"OFFSET(Input_Details!$Q$4,MATCH($A541, Input_Details!$J$5:$J$24, 0), 5)","v":"2017-04-22"},{"$f":"INDEX(Input_Details!$H$5:$H$24, MATCH($A541, Input_Details!$J$5:$J$24, 0), 0)","v":"Harper Road (South of Falmouth Road)"},{"$f":"INDEX(Input_Details!$I$5:$I$24, MATCH($A541, Input_Details!$J$5:$J$24, 0), 0)","v":"51.49617, -0.09302"},{"$f":"INDEX(Input_Details!$K$5:$K$24, MATCH($A541, Input_Details!$J$5:$J$24, 0), 0)","v":"Southbound"},"Sat","14:15:00",3,45,0,4,0,0,0,0,0,0,0,0,1,13,25,12,1,0,0,0,0,0,0,0,0,0,0,0,0,0,0,0,17.3,21.3,9.3000000000000007,29.3,{"$f":"INDEX(Input_Details!$L$5:$L$24, MATCH($A541, Input_Details!$J$5:$J$24, 0), 0)","v":"Northbound"},"Sat","14:15:00",0,5,0,0,0,0,0,0,0,0,0,0,1,1,2,0,1,0,0,0,0,0,0,0,0,0,0,0,0,0,0,0,17.3,"-",9.1999999999999993,27.5,null,"Sat","14:15:00",3,50,0,4,0,0,0,0,0,0,0,0,2,14,27,12,2,0,0,0,0,0,0,0,0,0,0,0,0,0,0,0,17.3,21.3,9.1999999999999993,29.3,3,45,4,0,0,52,0,5,0,0,0,5,3,50,4,0,0,57]
[1,{"$f":"OFFSET(Input_Details!$Q$4,MATCH($A584, Input_Details!$J$5:$J$24, 0), 6)","v":"2017-04-23"},{"$f":"INDEX(Input_Details!$H$5:$H$24, MATCH($A584, Input_Details!$J$5:$J$24, 0), 0)","v":"Harper Road (South of Falmouth Road)"},{"$f":"INDEX(Input_Details!$I$5:$I$24, MATCH($A584, Input_Details!$J$5:$J$24, 0), 0)","v":"51.49617, -0.09302"},{"$f":"INDEX(Input_Details!$K$5:$K$24, MATCH($A584, Input_Details!$J$5:$J$24, 0), 0)","v":"Southbound"},"Sun","01:00:00",0,31,0,1,0,0,0,0,0,0,0,0,0,8,16,7,1,0,0,0,0,0,0,0,0,0,0,0,0,0,0,0,17.8,22.6,11.1,27.8,{"$f":"INDEX(Input_Details!$L$5:$L$24, MATCH($A584, Input_Details!$J$5:$J$24, 0), 0)","v":"Northbound"},"Sun","01:00:00",0,3,0,0,0,0,0,0,0,0,0,0,0,0,3,0,0,0,0,0,0,0,0,0,0,0,0,0,0,0,0,0,17.3,"-",16.600000000000001,18.7,null,"Sun","01:00:00",0,34,0,1,0,0,0,0,0,0,0,0,0,8,19,7,1,0,0,0,0,0,0,0,0,0,0,0,0,0,0,0,17.757142857142856,22.6,11.1,27.8,0,31,1,0,0,32,0,3,0,0,0,3,0,34,1,0,0,35]
[1,{"$f":"OFFSET(Input_Details!$Q$4,MATCH($A608, Input_Details!$J$5:$J$24, 0), 6)","v":"2017-04-23"},{"$f":"INDEX(Input_Details!$H$5:$H$24, MATCH($A608, Input_Details!$J$5:$J$24, 0), 0)","v":"Harper Road (South of Falmouth Road)"},{"$f":"INDEX(Input_Details!$I$5:$I$24, MATCH($A608, Input_Details!$J$5:$J$24, 0), 0)","v":"51.49617, -0.09302"},{"$f":"INDEX(Input_Details!$K$5:$K$24, MATCH($A608, Input_Details!$J$5:$J$24, 0), 0)","v":"Southbound"},"Sun","07:00:00",1,10,0,0,2,0,0,0,0,0,0,0,0,1,4,6,1,0,1,0,0,0,0,0,0,0,0,0,0,0,0,0,22.3,24.8,12.8,38.299999999999997,{"$f":"INDEX(Input_Details!$L$5:$L$24, MATCH($A608, Input_Details!$J$5:$J$24, 0), 0)","v":"Northbound"},"Sun","07:00:00",0,4,0,0,0,0,0,0,0,0,0,0,0,3,1,0,0,0,0,0,0,0,0,0,0,0,0,0,0,0,0,0,14,"-",11.4,15.7,null,"Sun","07:00:00",1,14,0,0,2,0,0,0,0,0,0,0,0,4,5,6,1,0,1,0,0,0,0,0,0,0,0,0,0,0,0,0,20.347058823529412,24.8,11.4,38.299999999999997,1,10,0,2,0,13,0,4,0,0,0,4,1,14,0,2,0,17]
[1,{"$f":"OFFSET(Input_Details!$Q$4,MATCH($A620, Input_Details!$J$5:$J$24, 0), 6)","v":"2017-04-23"},{"$f":"INDEX(Input_Details!$H$5:$H$24, MATCH($A620, Input_Details!$J$5:$J$24, 0), 0)","v":"Harper Road (South of Falmouth Road)"},{"$f":"INDEX(Input_Details!$I$5:$I$24, MATCH($A620, Input_Details!$J$5:$J$24, 0), 0)","v":"51.49617, -0.09302"},{"$f":"INDEX(Input_Details!$K$5:$K$24, MATCH($A620, Input_Details!$J$5:$J$24, 0), 0)","v":"Southbound"},"Sun","10:00:00",0,20,0,1,0,0,0,0,0,0,0,0,0,6,7,7,1,0,0,0,0,0,0,0,0,0,0,0,0,0,0,0,18.100000000000001,21.5,10.7,25.6,{"$f":"INDEX(Input_Details!$L$5:$L$24, MATCH($A620, Input_Details!$J$5:$J$24, 0), 0)","v":"Northbound"},"Sun","10:00:00",1,2,0,0,0,0,0,0,0,0,0,0,0,0,3,0,0,0,0,0,0,0,0,0,0,0,0,0,0,0,0,0,18,"-",16.2,19.100000000000001,null,"Sun","10:00:00",1,22,0,1,0,0,0,0,0,0,0,0,0,6,10,7,1,0,0,0,0,0,0,0,0,0,0,0,0,0,0,0,18.087500000000002,21.5,10.7,25.6,0,20,1,0,0,21,1,2,0,0,0,3,1,22,1,0,0,24]
[1,{"$f":"OFFSET(Input_Details!$Q$4,MATCH($A671, Input_Details!$J$5:$J$24, 0), 6)","v":"2017-04-23"},{"$f":"INDEX(Input_Details!$H$5:$H$24, MATCH($A671, Input_Details!$J$5:$J$24, 0), 0)","v":"Harper Road (South of Falmouth Road)"},{"$f":"INDEX(Input_Details!$I$5:$I$24, MATCH($A671, Input_Details!$J$5:$J$24, 0), 0)","v":"51.49617, -0.09302"},{"$f":"INDEX(Input_Details!$K$5:$K$24, MATCH($A671, Input_Details!$J$5:$J$24, 0), 0)","v":"Southbound"},"Sun","22:45:00",3,35,0,0,0,0,0,0,0,0,0,0,0,3,23,11,1,0,0,0,0,0,0,0,0,0,0,0,0,0,0,0,19,22.6,11.1,27.3,{"$f":"INDEX(Input_Details!$L$5:$L$24, MATCH($A671, Input_Details!$J$5:$J$24, 0), 0)","v":"Northbound"},"Sun","22:45:00",1,3,0,0,1,0,0,0,0,0,0,0,0,4,1,0,0,0,0,0,0,0,0,0,0,0,0,0,0,0,0,0,14.6,"-",13.8,15.5,null,"Sun","22:45:00",4,38,0,0,1,0,0,0,0,0,0,0,0,7,24,11,1,0,0,0,0,0,0,0,0,0,0,0,0,0,0,0,18.488372093023255,22.6,11.1,27.3,3,35,0,0,0,38,1,3,0,1,0,5,4,38,0,1,0,43]
[1,"Weekday Average",{"$f":"INDEX(Input_Details!$H$5:$H$24, MATCH($A683, Input_Details!$J$5:$J$24, 0), 0)","v":"Harper Road (South of Falmouth Road)"},{"$f":"INDEX(Input_Details!$I$5:$I$24, MATCH($A683, Input_Details!$J$5:$J$24, 0), 0)","v":"51.49617, -0.09302"},{"$f":"INDEX(Input_Details!$K$5:$K$24, MATCH($A683, Input_Details!$J$5:$J$24, 0), 0)","v":"Southbound"},"WD Ave","01:45:00",{"$f":"IF(AND(H11=\"\",H107=\"\",H203=\"\",H299=\"\",H395=\"\"), \"-\", IF(H11+H107+H203+H299+H395=0,0,ROUND(AVERAGE(H11,H107,H203,H299,H395), 0)))","v":0},9,0,0,1,0,0,0,0,0,0,0,0,1,5,4,0,0,0,0,0,0,0,0,0,0,0,0,0,0,0,0,{"$f":"IF(SUM(H683:S683)=0,\"-\",AVERAGEIF(G4:G483,$G683,AN4:AN483))","v":19.259999999999998},{"$f":"IFERROR(IF(SUM(H683:S683)=0,\"-\",AVERAGEIF(G4:G483,G683,AO4:AO483)), \"-\")","v":20.533333333333335},10.6,41.1,{"$f":"INDEX(Input_Details!$L$5:$L$24, MATCH($A683, Input_Details!$J$5:$J$24, 0), 0)","v":"Northbound"},"WD Ave","01:45:00",{"$f":"IF(AND(AU11=\"\",AU107=\"\",AU203=\"\",AU299=\"\",AU395=\"\"), \"-\", IF(AU11+AU107+AU203+AU299+AU395=0,0,ROUND(AVERAGE(AU11,AU107,AU203,AU299,AU395), 0)))","v":0},2,0,0,0,0,0,0,0,0,0,0,0,0,1,0,0,0,0,0,0,0,0,0,0,0,0,0,0,0,0,0,{"$f":"IF(SUM(AU683:BF683)=0,\"-\",AVERAGEIF(AT4:AT483,$G683,CA4:CA483))","v":17.720000000000002},{"$f":"IFERROR(IF(SUM(AU683:BF683)=0,\"-\",AVERAGEIF(AT4:AT483,AT683,CB4:CB483)), \"-\")","v":"-"},8.8000000000000007,21,null,"WD Ave","01:45:00",{"$f":"IF(AND(CH11=\"-\",CH107=\"-\",CH203=\"-\",CH299=\"-\",CH395=\"-\"), \"-\", ROUND(AVERAGE(CH11,CH107,CH203,CH299,CH395), 0))","v":1},12,0,0,1,0,0,0,0,0,0,0,{"$f":"IF(AND(CT11=\"-\",CT107=\"-\",CT203=\"-\",CT299=\"-\",CT395=\"-\"), \"-\", IF(SUM($CH683:$CS683)=0, 0, ROUND(AVERAGE(CT11,CT107,CT203,CT299,CT395), 0)))","v":0},2,7,5,0,0,0,0,0,0,0,0,0,0,0,0,0,0,0,0,19.00333333333333,20.533333333333335,8.8000000000000007,41.1,0,9,0,1,0,10,0,2,0,0,0,2,0,11,0,1,0,12]
[1,"Weekday Average",{"$f":"INDEX(Input_Details!$H$5:$H$24, MATCH($A708, Input_Details!$J$5:$J$24, 0), 0)","v":"Harper Road (South of Falmouth Road)"},{"$f":"INDEX(Input_Details!$I$5:$I$24, MATCH($A708, Input_Details!$J$5:$J$24, 0), 0)","v":"51.49617, -0.09302"},{"$f":"INDEX(Input_Details!$K$5:$K$24, MATCH($A708, Input_Details!$J$5:$J$24, 0), 0)","v":"Southbound"},"WD Ave","08:00:00",{"$f":"IF(AND(H36=\"\",H132=\"\",H228=\"\",H324=\"\",H420=\"\"), \"-\", IF(H36+H132+H228+H324+H420=0,0,ROUND(AVERAGE(H36,H132,H228,H324,H420), 0)))","v":3},30,0,6,1,0,0,0,0,0,0,0,{"$f":"IF(AND(T36=\"\",T132=\"\",T228=\"\",T324=\"\",T420=\"\"), \"-\", IF(SUM(H708:S708)=0, 0, IF(T36+T132+T228+T324+T420=0,0,ROUNDDOWN(AVERAGE(T36,T132,T228,T324,T420), 0))))","v":0},{"$f":"IF(AND(U36=\"\",U132=\"\",U228=\"\",U324=\"\",U420=\"\"), \"-\", IF(SUM(H708:S708)=0, 0, IF(U36+U132+U228+U324+U420=0,0,ROUNDDOWN(AVERAGE(U36,U132,U228,U324,U420), 0))))","v":2},{"$f":"IF(AND(V36=\"\",V132=\"\",V228=\"\",V324=\"\",V420=\"\"), \"-\", IF(SUM(H708:S708)=0, 0, IF(V36+V132+V228+V324+V420=0,0,ROUNDDOWN(AVERAGE(V36,V132,V228,V324,V420), 0))))","v":19},{"$f":"IF(AND(W36=\"\",W132=\"\",W228=\"\",W324=\"\",W420=\"\"), \"-\", IF(SUM(H708:S708)=0, 0, IF(W36+W132+W228+W324+W420=0,0,ROUNDDOWN(AVERAGE(W36,W132,W228,W324,W420), 0))))","v":15},{"$f":"IF(AND(X36=\"\",X132=\"\",X228=\"\",X324=\"\",X420=\"\"), \"-\", IF(SUM(H708:S708)=0, 0, IF(X36+X132+X228+X324+X420=0,0,ROUNDDOWN(AVERAGE(X36,X132,X228,X324,X420), 0))))","v":2},{"$f":"IF(AND(Y36=\"\",Y132=\"\",Y228=\"\",Y324=\"\",Y420=\"\"), \"-\", IF(SUM(H708:S708)=0, 0, IF(Y36+Y132+Y228+Y324+Y420=0,0,ROUNDDOWN(AVERAGE(Y36,Y132,Y228,Y324,Y420), 0))))","v":0},{"$f":"IF(AND(Z36=\"\",Z132=\"\",Z228=\"\",Z324=\"\",Z420=\"\"), \"-\", IF(SUM(H708:S708)=0, 0, IF(Z36+Z132+Z228+Z324+Z420=0,0,ROUNDDOWN(AVERAGE(Z36,Z132,Z228,Z324,Z420), 0))))","v":0},{"$f":"IF(AND(AA36=\"\",AA132=\"\",AA228=\"\",AA324=\"\",AA420=\"\"), \"-\", IF(SUM(H708:S708)=0, 0, IF(AA36+AA132+AA228+AA324+AA420=0,0,ROUNDDOWN(AVERAGE(AA36,AA132,AA228,AA324,AA420), 0))))","v":0},{"$f":"IF(AND(AB36=\"\",AB132=\"\",AB228=\"\",AB324=\"\",AB420=\"\"), \"-\", IF(SUM(H708:S708)=0, 0, IF(AB36+AB132+AB228+AB324+AB420=0,0,ROUNDDOWN(AVERAGE(AB36,AB132,AB228,AB324,AB420), 0))))","v":0},{"$f":"IF(AND(AC36=\"\",AC132=\"\",AC228=\"\",AC324=\"\",AC420=\"\"), \"-\", IF(SUM(H708:S708)=0, 0, IF(AC36+AC132+AC228+AC324+AC420=0,0,ROUNDDOWN(AVERAGE(AC36,AC132,AC228,AC324,AC420), 0))))","v":0},{"$f":"IF(AND(AD36=\"\",AD132=\"\",AD228=\"\",AD324=\"\",AD420=\"\"), \"-\", IF(SUM(H708:S708)=0, 0, IF(AD36+AD132+AD228+AD324+AD420=0,0,ROUNDDOWN(AVERAGE(AD36,AD132,AD228,AD324,AD420), 0))))","v":0},{"$f":"IF(AND(AE36=\"\",AE132=\"\",AE228=\"\",AE324=\"\",AE420=\"\"), \"-\", IF(SUM(H708:S708)=0, 0, IF(AE36+AE132+AE228+AE324+AE420=0,0,ROUNDDOWN(AVERAGE(AE36,AE132,AE228,AE324,AE420), 0))))","v":0},{"$f":"IF(AND(AF36=\"\",AF132=\"\",AF228=\"\",AF324=\"\",AF420=\"\"), \"-\", IF(SUM(H708:S708)=0, 0, IF(AF36+AF132+AF228+AF324+AF420=0,0,ROUNDDOWN(AVERAGE(AF36,AF132,AF228,AF324,AF420), 0))))","v":0},{"$f":"IF(AND(AG36=\"\",AG132=\"\",AG228=\"\",AG324=\"\",AG420=\"\"), \"-\", IF(SUM(H708:S708)=0, 0, IF(AG36+AG132+AG228+AG324+AG420=0,0,ROUNDDOWN(AVERAGE(AG36,AG132,AG228,AG324,AG420), 0))))","v":0},{"$f":"IF(AND(AH36=\"\",AH132=\"\",AH228=\"\",AH324=\"\",AH420=\"\"), \"-\", IF(SUM(H708:S708)=0, 0, IF(AH36+AH132+AH228+AH324+AH420=0,0,ROUNDDOWN(AVERAGE(AH36,AH132,AH228,AH324,AH420), 0))))","v":0},{"$f":"IF(AND(AI36=\"\",AI132=\"\",AI228=\"\",AI324=\"\",AI420=\"\"), \"-\", IF(SUM(H708:S708)=0, 0, IF(AI36+AI132+AI228+AI324+AI420=0,0,ROUNDDOWN(AVERAGE(AI36,AI132,AI228,AI324,AI420), 0))))","v":0},{"$f":"IF(AND(AJ36=\"\",AJ132=\"\",AJ228=\"\",AJ324=\"\",AJ420=\"\"), \"-\", IF(SUM(H708:S708)=0, 0, IF(AJ36+AJ132+AJ228+AJ324+AJ420=0,0,ROUNDDOWN(AVERAGE(AJ36,AJ132,AJ228,AJ324,AJ420), 0))))","v":0},{"$f":"IF(AND(AK36=\"\",AK132=\"\",AK228=\"\",AK324=\"\",AK420=\"\"), \"-\", IF(SUM(H708:S708)=0, 0, IF(AK36+AK132+AK228+AK324+AK420=0,0,ROUNDDOWN(AVERAGE(AK36,AK132,AK228,AK324,AK420), 0))))","v":0},{"$f":"IF(AND(AL36=\"\",AL132=\"\",AL228=\"\",AL324=\"\",AL420=\"\"), \"-\", IF(SUM(H708:S708)=0, 0, IF(AL36+AL132+AL228+AL324+AL420=0,0,ROUNDDOWN(AVERAGE(AL36,AL132,AL228,AL324,AL420), 0))))","v":0},{"$f":"IF(AND(AM36=\"\",AM132=\"\",AM228=\"\",AM324=\"\",AM420=\"\"), \"-\", IF(SUM(H708:S708)=0, 0, IF(AM36+AM132+AM228+AM324+AM420=0,0,ROUNDDOWN(AVERAGE(AM36,AM132,AM228,AM324,AM420), 0))))","v":0},{"$f":"IF(SUM(H708:S708)=0,\"-\",AVERAGEIF(G4:G483,$G708,AN4:AN483))","v":19.380000000000003},{"$f":"IFERROR(IF(SUM(H708:S708)=0,\"-\",AVERAGEIF(G4:G483,G708,AO4:AO483)), \"-\")","v":22.04},{"$f":"IF(SUM(H708:S708)=0,\"-\",MIN(AP36,AP132,AP228,AP324,AP420))","v":8.9},{"$f":"IF(SUM(H708:S708)=0,\"-\",MAX(AQ36,AQ132,AQ228,AQ324,AQ420))","v":31.5},{"$f":"INDEX(Input_Details!$L$5:$L$24, MATCH($A708, Input_Details!$J$5:$J$24, 0), 0)","v":"Northbound"},"WD Ave","08:00:00",{"$f":"IF(AND(AU36=\"\",AU132=\"\",AU228=\"\",AU324=\"\",AU420=\"\"), \"-\", IF(AU36+AU132+AU228+AU324+AU420=0,0,ROUND(AVERAGE(AU36,AU132,AU228,AU324,AU420), 0)))","v":6},8,0,0,1,0,0,0,0,0,0,0,{"$f":"IF(AND(BG36=\"\",BG132=\"\",BG228=\"\",BG324=\"\",BG420=\"\"), \"-\", IF(SUM(AU708:BF708)=0, 0, IF(BG36+BG132+BG228+BG324+BG420=0,0,ROUNDDOWN(AVERAGE(BG36,BG132,BG228,BG324,BG420), 0))))","v":1},{"$f":"IF(AND(BH36=\"\",BH132=\"\",BH228=\"\",BH324=\"\",BH420=\"\"), \"-\", IF(SUM(AU708:BF708)=0, 0, IF(BH36+BH132+BH228+BH324+BH420=0,0,ROUNDDOWN(AVERAGE(BH36,BH132,BH228,BH324,BH420), 0))))","v":7},{"$f":"IF(AND(BI36=\"\",BI132=\"\",BI228=\"\",BI324=\"\",BI420=\"\"), \"-\", IF(SUM(AU708:BF708)=0, 0, IF(BI36+BI132+BI228+BI324+BI420=0,0,ROUNDDOWN(AVERAGE(BI36,BI132,BI228,BI324,BI420), 0))))","v":5},{"$f":"IF(AND(BJ36=\"\",BJ132=\"\",BJ228=\"\",BJ324=\"\",BJ420=\"\"), \"-\", IF(SUM(AU708:BF708)=0, 0, IF(BJ36+BJ132+BJ228+BJ324+BJ420=0,0,ROUNDDOWN(AVERAGE(BJ36,BJ132,BJ228,BJ324,BJ420), 0))))","v":1},{"$f":"IF(AND(BK36=\"\",BK132=\"\",BK228=\"\",BK324=\"\",BK420=\"\"), \"-\", IF(SUM(AU708:BF708)=0, 0, IF(BK36+BK132+BK228+BK324+BK420=0,0,ROUNDDOWN(AVERAGE(BK36,BK132,BK228,BK324,BK420), 0))))","v":0},{"$f":"IF(AND(BL36=\"\",BL132=\"\",BL228=\"\",BL324=\"\",BL420=\"\"), \"-\", IF(SUM(AU708:BF708)=0, 0, IF(BL36+BL132+BL228+BL324+BL420=0,0,ROUNDDOWN(AVERAGE(BL36,BL132,BL228,BL324,BL420), 0))))","v":0},{"$f":"IF(AND(BM36=\"\",BM132=\"\",BM228=\"\",BM324=\"\",BM420=\"\"), \"-\", IF(SUM(AU708:BF708)=0, 0, IF(BM36+BM132+BM228+BM324+BM420=0,0,ROUNDDOWN(AVERAGE(BM36,BM132,BM228,BM324,BM420), 0))))","v":0},{"$f":"IF(AND(BN36=\"\",BN132=\"\",BN228=\"\",BN324=\"\",BN420=\"\"), \"-\", IF(SUM(AU708:BF708)=0, 0, IF(BN36+BN132+BN228+BN324+BN420=0,0,ROUNDDOWN(AVERAGE(BN36,BN132,BN228,BN324,BN420), 0))))","v":0},{"$f":"IF(AND(BO36=\"\",BO132=\"\",BO228=\"\",BO324=\"\",BO420=\"\"), \"-\", IF(SUM(AU708:BF708)=0, 0, IF(BO36+BO132+BO228+BO324+BO420=0,0,ROUNDDOWN(AVERAGE(BO36,BO132,BO228,BO324,BO420), 0))))","v":0},{"$f":"IF(AND(BP36=\"\",BP132=\"\",BP228=\"\",BP324=\"\",BP420=\"\"), \"-\", IF(SUM(AU708:BF708)=0, 0, IF(BP36+BP132+BP228+BP324+BP420=0,0,ROUNDDOWN(AVERAGE(BP36,BP132,BP228,BP324,BP420), 0))))","v":0},{"$f":"IF(AND(BQ36=\"\",BQ132=\"\",BQ228=\"\",BQ324=\"\",BQ420=\"\"), \"-\", IF(SUM(AU708:BF708)=0, 0, IF(BQ36+BQ132+BQ228+BQ324+BQ420=0,0,ROUNDDOWN(AVERAGE(BQ36,BQ132,BQ228,BQ324,BQ420), 0))))","v":0},{"$f":"IF(AND(BR36=\"\",BR132=\"\",BR228=\"\",BR324=\"\",BR420=\"\"), \"-\", IF(SUM(AU708:BF708)=0, 0, IF(BR36+BR132+BR228+BR324+BR420=0,0,ROUNDDOWN(AVERAGE(BR36,BR132,BR228,BR324,BR420), 0))))","v":0},{"$f":"IF(AND(BS36=\"\",BS132=\"\",BS228=\"\",BS324=\"\",BS420=\"\"), \"-\", IF(SUM(AU708:BF708)=0, 0, IF(BS36+BS132+BS228+BS324+BS420=0,0,ROUNDDOWN(AVERAGE(BS36,BS132,BS228,BS324,BS420), 0))))","v":0},{"$f":"IF(AND(BT36=\"\",BT132=\"\",BT228=\"\",BT324=\"\",BT420=\"\"), \"-\", IF(SUM(AU708:BF708)=0, 0, IF(BT36+BT132+BT228+BT324+BT420=0,0,ROUNDDOWN(AVERAGE(BT36,BT132,BT228,BT324,BT420), 0))))","v":0},{"$f":"IF(AND(BU36=\"\",BU132=\"\",BU228=\"\",BU324=\"\",BU420=\"\"), \"-\", IF(SUM(AU708:BF708)=0, 0, IF(BU36+BU132+BU228+BU324+BU420=0,0,ROUNDDOWN(AVERAGE(BU36,BU132,BU228,BU324,BU420), 0))))","v":0},{"$f":"IF(AND(BV36=\"\",BV132=\"\",BV228=\"\",BV324=\"\",BV420=\"\"), \"-\", IF(SUM(AU708:BF708)=0, 0, IF(BV36+BV132+BV228+BV324+BV420=0,0,ROUNDDOWN(AVERAGE(BV36,BV132,BV228,BV324,BV420), 0))))","v":0},{"$f":"IF(AND(BW36=\"\",BW132=\"\",BW228=\"\",BW324=\"\",BW420=\"\"), \"-\", IF(SUM(AU708:BF708)=0, 0, IF(BW36+BW132+BW228+BW324+BW420=0,0,ROUNDDOWN(AVERAGE(BW36,BW132,BW228,BW324,BW420), 0))))","v":0},{"$f":"IF(AND(BX36=\"\",BX132=\"\",BX228=\"\",BX324=\"\",BX420=\"\"), \"-\", IF(SUM(AU708:BF708)=0, 0, IF(BX36+BX132+BX228+BX324+BX420=0,0,ROUNDDOWN(AVERAGE(BX36,BX132,BX228,BX324,BX420), 0))))","v":0},{"$f":"IF(AND(BY36=\"\",BY132=\"\",BY228=\"\",BY324=\"\",BY420=\"\"), \"-\", IF(SUM(AU708:BF708)=0, 0, IF(BY36+BY132+BY228+BY324+BY420=0,0,ROUNDDOWN(AVERAGE(BY36,BY132,BY228,BY324,BY420), 0))))","v":0},{"$f":"IF(AND(BZ36=\"\",BZ132=\"\",BZ228=\"\",BZ324=\"\",BZ420=\"\"), \"-\", IF(SUM(AU708:BF708)=0, 0, IF(BZ36+BZ132+BZ228+BZ324+BZ420=0,0,ROUNDDOWN(AVERAGE(BZ36,BZ132,BZ228,BZ324,BZ420), 0))))","v":0},{"$f":"IF(SUM(AU708:BF708)=0,\"-\",AVERAGEIF(AT4:AT483,$G708,CA4:CA483))","v":14.219999999999999},{"$f":"IFERROR(IF(SUM(AU708:BF708)=0,\"-\",AVERAGEIF(AT4:AT483,AT708,CB4:CB483)), \"-\")","v":16.28},7.1,25.6,null,"WD Ave","08:00:00",{"$f":"IF(AND(CH36=\"-\",CH132=\"-\",CH228=\"-\",CH324=\"-\",CH420=\"-\"), \"-\", ROUND(AVERAGE(CH36,CH132,CH228,CH324,CH420), 0))","v":9},38,0,6,2,1,0,0,0,0,0,0,{"$f":"IF(AND(CT36=\"-\",CT132=\"-\",CT228=\"-\",CT324=\"-\",CT420=\"-\"), \"-\", IF(SUM($CH708:$CS708)=0, 0, ROUND(AVERAGE(CT36,CT132,CT228,CT324,CT420), 0)))","v":2},10,25,16,2,0,0,0,0,0,0,0,0,0,0,0,0,0,0,0,17.972727272727273,19.16,7.1,31.5,3,{"$f":"IF(DR708=\"-\", \"-\", SUM(I708:J708))","v":30},{"$f":"IF(DR708=\"-\", \"-\", K708)","v":6},1,0,40,6,8,0,1,0,15,9,{"$f":"IF(OR(DS708=\"-\", DY708=\"-\"), \"-\", SUM(DS708,DY708))","v":38},{"$f":"IF(OR(DT708=\"-\", DZ708=\"-\"), \"-\", SUM(DT708,DZ708))","v":6},{"$f":"IF(OR(DU708=\"-\", EA708=\"-\"), \"-\", SUM(DU708,EA708))","v":2},{"$f":"IF(OR(DV708=\"-\", EB708=\"-\"), \"-\", SUM(DV708,EB708))","v":0},{"$f":"IF(OR(DW708=\"-\", EC708=\"-\"), \"-\", SUM(DW708,EC708))","v":55}]
[1,"Weekday Average",{"$f":"INDEX(Input_Details!$H$5:$H$24, MATCH($A741, Input_Details!$J$5:$J$24, 0), 0)","v":"Harper Road (South of Falmouth Road)"},{"$f":"INDEX(Input_Details!$I$5:$I$24, MATCH($A741, Input_Details!$J$5:$J$24, 0), 0)","v":"51.49617, -0.09302"},{"$f":"INDEX(Input_Details!$K$5:$K$24, MATCH($A741, Input_Details!$J$5:$J$24, 0), 0)","v":"Southbound"},"WD Ave","16:15:00",{"$f":"IF(AND(H69=\"\",H165=\"\",H261=\"\",H357=\"\",H453=\"\"), \"-\", IF(H69+H165+H261+H357+H453=0,0,ROUND(AVERAGE(H69,H165,H261,H357,H453), 0)))","v":14},45,1,11,2,1,0,0,0,0,0,0,0,8,28,24,8,2,0,0,0,0,0,0,0,0,0,0,0,0,0,0,{"$f":"IF(SUM(H741:S741)=0,\"-\",AVERAGEIF(G4:G483,$G741,AN4:AN483))","v":20.18},{"$f":"IFERROR(IF(SUM(H741:S741)=0,\"-\",AVERAGEIF(G4:G483,G741,AO4:AO483)), \"-\")","v":24.7},5.8,36.700000000000003,{"$f":"INDEX(Input_Details!$L$5:$L$24, MATCH($A741, Input_Details!$J$5:$J$24, 0), 0)","v":"Northbound"},"WD Ave","16:15:00",{"$f":"IF(AND(AU69=\"\",AU165=\"\",AU261=\"\",AU357=\"\",AU453=\"\"), \"-\", IF(AU69+AU165+AU261+AU357+AU453=0,0,ROUND(AVERAGE(AU69,AU165,AU261,AU357,AU453), 0)))","v":2},6,0,0,0,0,0,0,0,0,0,0,0,2,4,0,0,0,0,0,0,0,0,0,0,0,0,0,0,0,0,0,{"$f":"IF(SUM(AU741:BF741)=0,\"-\",AVERAGEIF(AT4:AT483,$G741,CA4:CA483))","v":18},{"$f":"IFERROR(IF(SUM(AU741:BF741)=0,\"-\",AVERAGEIF(AT4:AT483,AT741,CB4:CB483)), \"-\")","v":17.8},{"$f":"IF(SUM(AU741:BF741)=0,\"-\",MIN(CC69,CC165,CC261,CC357,CC453))","v":9.6999999999999993},{"$f":"IF(SUM(AU741:BF741)=0,\"-\",MAX(CD69,CD165,CD261,CD357,CD453))","v":32},null,"WD Ave","16:15:00",{"$f":"IF(AND(CH69=\"-\",CH165=\"-\",CH261=\"-\",CH357=\"-\",CH453=\"-\"), \"-\", ROUND(AVERAGE(CH69,CH165,CH261,CH357,CH453), 0))","v":15},51,1,11,3,1,0,0,0,0,0,0,{"$f":"IF(AND(CT69=\"-\",CT165=\"-\",CT261=\"-\",CT357=\"-\",CT453=\"-\"), \"-\", IF(SUM($CH741:$CS741)=0, 0, ROUND(AVERAGE(CT69,CT165,CT261,CT357,CT453), 0)))","v":1},11,34,25,8,3,1,0,0,0,0,0,0,0,0,0,0,0,0,0,19.967317073170729,21.25,5.8,36.700000000000003,14,46,11,2,1,74,2,6,0,0,0,8,16,52,11,2,1,82]
[1,"Weekday Average",{"$f":"INDEX(Input_Details!$H$5:$H$24, MATCH($A766, Input_Details!$J$5:$J$24, 0), 0)","v":"Harper Road (South of Falmouth Road)"},{"$f":"INDEX(Input_Details!$I$5:$I$24, MATCH($A766, Input_Details!$J$5:$J$24, 0), 0)","v":"51.49617, -0.09302"},{"$f":"INDEX(Input_Details!$K$5:$K$24, MATCH($A766, Input_Details!$J$5:$J$24, 0), 0)","v":"Southbound"},"WD Ave","22:30:00",{"$f":"IF(AND(H94=\"\",H190=\"\",H286=\"\",H382=\"\",H478=\"\"), \"-\", IF(H94+H190+H286+H382+H478=0,0,ROUND(AVERAGE(H94,H190,H286,H382,H478), 0)))","v":6},34,0,0,3,1,0,0,0,0,0,0,0,11,21,7,2,0,0,0,0,0,0,0,0,0,0,0,0,0,0,0,{"$f":"IF(SUM(H766:S766)=0,\"-\",AVERAGEIF(G4:G483,$G766,AN4:AN483))","v":17.96},{"$f":"IFERROR(IF(SUM(H766:S766)=0,\"-\",AVERAGEIF(G4:G483,G766,AO4:AO483)), \"-\")","v":21.419999999999998},9,34.6,{"$f":"INDEX(Input_Details!$L$5:$L$24, MATCH($A766, Input_Details!$J$5:$J$24, 0), 0)","v":"Northbound"},"WD Ave","22:30:00",{"$f":"IF(AND(AU94=\"\",AU190=\"\",AU286=\"\",AU382=\"\",AU478=\"\"), \"-\", IF(AU94+AU190+AU286+AU382+AU478=0,0,ROUND(AVERAGE(AU94,AU190,AU286,AU382,AU478), 0)))","v":0},5,0,0,0,0,0,0,0,0,0,0,0,1,3,0,0,0,0,0,0,0,0,0,0,0,0,0,0,0,0,0,{"$f":"IF(SUM(AU766:BF766)=0,\"-\",AVERAGEIF(AT4:AT483,$G766,CA4:CA483))","v":15.440000000000001},{"$f":"IFERROR(IF(SUM(AU766:BF766)=0,\"-\",AVERAGEIF(AT4:AT483,AT766,CB4:CB483)), \"-\")","v":"-"},10.1,20.8,null,"WD Ave","22:30:00",{"$f":"IF(AND(CH94=\"-\",CH190=\"-\",CH286=\"-\",CH382=\"-\",CH478=\"-\"), \"-\", ROUND(AVERAGE(CH94,CH190,CH286,CH382,CH478), 0))","v":7},39,0,0,3,1,0,0,0,0,0,0,{"$f":"IF(AND(CT94=\"-\",CT190=\"-\",CT286=\"-\",CT382=\"-\",CT478=\"-\"), \"-\", IF(SUM($CH766:$CS766)=0, 0, ROUND(AVERAGE(CT94,CT190,CT286,CT382,CT478), 0)))","v":1},13,25,8,3,1,0,0,0,0,0,0,0,0,0,0,0,0,0,0,17.702857142857145,21.419999999999998,9,34.6,6,34,0,3,1,44,0,5,0,0,0,5,6,39,0,3,1,49]
[1,"7-Day Average",{"$f":"INDEX(Input_Details!$H$5:$H$24, MATCH($A804, Input_Details!$J$5:$J$24, 0), 0)","v":"Harper Road (South of Falmouth Road)"},{"$f":"INDEX(Input_Details!$I$5:$I$24, MATCH($A804, Input_Details!$J$5:$J$24, 0), 0)","v":"51.49617, -0.09302"},{"$f":"INDEX(Input_Details!$K$5:$K$24, MATCH($A804, Input_Details!$J$5:$J$24, 0), 0)","v":"Southbound"},"7 Day Ave","08:00:00",{"$f":"IF(AND(H36=\"\",H132=\"\",H228=\"\",H324=\"\",H420=\"\",H516=\"\",H612=\"\"), \"-\", IF(H36+H132+H228+H324+H420+H516+H612=0,0,ROUND(AVERAGE(H36,H132,H228,H324,H420,H516,H612),0)))","v":2},26,0,4,1,0,0,0,0,0,0,0,{"$f":"IF(AND(T36=\"\",T132=\"\",T228=\"\",T324=\"\",T420=\"\",T516=\"\",T612=\"\"), \"-\", IF(SUM(H804:S804)=0, 0, IF(T36+T132+T228+T324+T420+T516+T612=0,0,ROUNDDOWN(AVERAGE(T36,T132,T228,T324,T420,T516,T612),0))))","v":0},{"$f":"IF(AND(U36=\"\",U132=\"\",U228=\"\",U324=\"\",U420=\"\",U516=\"\",U612=\"\"), \"-\", IF(SUM(H804:S804)=0, 0, IF(U36+U132+U228+U324+U420+U516+U612=0,0,ROUNDDOWN(AVERAGE(U36,U132,U228,U324,U420,U516,U612),0))))","v":2},{"$f":"IF(AND(V36=\"\",V132=\"\",V228=\"\",V324=\"\",V420=\"\",V516=\"\",V612=\"\"), \"-\", IF(SUM(H804:S804)=0, 0, IF(V36+V132+V228+V324+V420+V516+V612=0,0,ROUNDDOWN(AVERAGE(V36,V132,V228,V324,V420,V516,V612),0))))","v":15},{"$f":"IF(AND(W36=\"\",W132=\"\",W228=\"\",W324=\"\",W420=\"\",W516=\"\",W612=\"\"), \"-\", IF(SUM(H804:S804)=0, 0, IF(W36+W132+W228+W324+W420+W516+W612=0,0,ROUNDDOWN(AVERAGE(W36,W132,W228,W324,W420,W516,W612),0))))","v":13},{"$f":"IF(AND(X36=\"\",X132=\"\",X228=\"\",X324=\"\",X420=\"\",X516=\"\",X612=\"\"), \"-\", IF(SUM(H804:S804)=0, 0, IF(X36+X132+X228+X324+X420+X516+X612=0,0,ROUNDDOWN(AVERAGE(X36,X132,X228,X324,X420,X516,X612),0))))","v":1},{"$f":"IF(AND(Y36=\"\",Y132=\"\",Y228=\"\",Y324=\"\",Y420=\"\",Y516=\"\",Y612=\"\"), \"-\", IF(SUM(H804:S804)=0, 0, IF(Y36+Y132+Y228+Y324+Y420+Y516+Y612=0,0,ROUNDDOWN(AVERAGE(Y36,Y132,Y228,Y324,Y420,Y516,Y612),0))))","v":0},{"$f":"IF(AND(Z36=\"\",Z132=\"\",Z228=\"\",Z324=\"\",Z420=\"\",Z516=\"\",Z612=\"\"), \"-\", IF(SUM(H804:S804)=0, 0, IF(Z36+Z132+Z228+Z324+Z420+Z516+Z612=0,0,ROUNDDOWN(AVERAGE(Z36,Z132,Z228,Z324,Z420,Z516,Z612),0))))","v":0},{"$f":"IF(AND(AA36=\"\",AA132=\"\",AA228=\"\",AA324=\"\",AA420=\"\",AA516=\"\",AA612=\"\"), \"-\", IF(SUM(H804:S804)=0, 0, IF(AA36+AA132+AA228+AA324+AA420+AA516+AA612=0,0,ROUNDDOWN(AVERAGE(AA36,AA132,AA228,AA324,AA420,AA516,AA612),0))))","v":0},{"$f":"IF(AND(AB36=\"\",AB132=\"\",AB228=\"\",AB324=\"\",AB420=\"\",AB516=\"\",AB612=\"\"), \"-\", IF(SUM(H804:S804)=0, 0, IF(AB36+AB132+AB228+AB324+AB420+AB516+AB612=0,0,ROUNDDOWN(AVERAGE(AB36,AB132,AB228,AB324,AB420,AB516,AB612),0))))","v":0},{"$f":"IF(AND(AC36=\"\",AC132=\"\",AC228=\"\",AC324=\"\",AC420=\"\",AC516=\"\",AC612=\"\"), \"-\", IF(SUM(H804:S804)=0, 0, IF(AC36+AC132+AC228+AC324+AC420+AC516+AC612=0,0,ROUNDDOWN(AVERAGE(AC36,AC132,AC228,AC324,AC420,AC516,AC612),0))))","v":0},{"$f":"IF(AND(AD36=\"\",AD132=\"\",AD228=\"\",AD324=\"\",AD420=\"\",AD516=\"\",AD612=\"\"), \"-\", IF(SUM(H804:S804)=0, 0, IF(AD36+AD132+AD228+AD324+AD420+AD516+AD612=0,0,ROUNDDOWN(AVERAGE(AD36,AD132,AD228,AD324,AD420,AD516,AD612),0))))","v":0},{"$f":"IF(AND(AE36=\"\",AE132=\"\",AE228=\"\",AE324=\"\",AE420=\"\",AE516=\"\",AE612=\"\"), \"-\", IF(SUM(H804:S804)=0, 0, IF(AE36+AE132+AE228+AE324+AE420+AE516+AE612=0,0,ROUNDDOWN(AVERAGE(AE36,AE132,AE228,AE324,AE420,AE516,AE612),0))))","v":0},{"$f":"IF(AND(AF36=\"\",AF132=\"\",AF228=\"\",AF324=\"\",AF420=\"\",AF516=\"\",AF612=\"\"), \"-\", IF(SUM(H804:S804)=0, 0, IF(AF36+AF132+AF228+AF324+AF420+AF516+AF612=0,0,ROUNDDOWN(AVERAGE(AF36,AF132,AF228,AF324,AF420,AF516,AF612),0))))","v":0},{"$f":"IF(AND(AG36=\"\",AG132=\"\",AG228=\"\",AG324=\"\",AG420=\"\",AG516=\"\",AG612=\"\"), \"-\", IF(SUM(H804:S804)=0, 0, IF(AG36+AG132+AG228+AG324+AG420+AG516+AG612=0,0,ROUNDDOWN(AVERAGE(AG36,AG132,AG228,AG324,AG420,AG516,AG612),0))))","v":0},{"$f":"IF(AND(AH36=\"\",AH132=\"\",AH228=\"\",AH324=\"\",AH420=\"\",AH516=\"\",AH612=\"\"), \"-\", IF(SUM(H804:S804)=0, 0, IF(AH36+AH132+AH228+AH324+AH420+AH516+AH612=0,0,ROUNDDOWN(AVERAGE(AH36,AH132,AH228,AH324,AH420,AH516,AH612),0))))","v":0},{"$f":"IF(AND(AI36=\"\",AI132=\"\",AI228=\"\",AI324=\"\",AI420=\"\",AI516=\"\",AI612=\"\"), \"-\", IF(SUM(H804:S804)=0, 0, IF(AI36+AI132+AI228+AI324+AI420+AI516+AI612=0,0,ROUNDDOWN(AVERAGE(AI36,AI132,AI228,AI324,AI420,AI516,AI612),0))))","v":0},{"$f":"IF(AND(AJ36=\"\",AJ132=\"\",AJ228=\"\",AJ324=\"\",AJ420=\"\",AJ516=\"\",AJ612=\"\"), \"-\", IF(SUM(H804:S804)=0, 0, IF(AJ36+AJ132+AJ228+AJ324+AJ420+AJ516+AJ612=0,0,ROUNDDOWN(AVERAGE(AJ36,AJ132,AJ228,AJ324,AJ420,AJ516,AJ612),0))))","v":0},{"$f":"IF(AND(AK36=\"\",AK132=\"\",AK228=\"\",AK324=\"\",AK420=\"\",AK516=\"\",AK612=\"\"), \"-\", IF(SUM(H804:S804)=0, 0, IF(AK36+AK132+AK228+AK324+AK420+AK516+AK612=0,0,ROUNDDOWN(AVERAGE(AK36,AK132,AK228,AK324,AK420,AK516,AK612),0))))","v":0},{"$f":"IF(AND(AL36=\"\",AL132=\"\",AL228=\"\",AL324=\"\",AL420=\"\",AL516=\"\",AL612=\"\"), \"-\", IF(SUM(H804:S804)=0, 0, IF(AL36+AL132+AL228+AL324+AL420+AL516+AL612=0,0,ROUNDDOWN(AVERAGE(AL36,AL132,AL228,AL324,AL420,AL516,AL612),0))))","v":0},{"$f":"IF(AND(AM36=\"\",AM132=\"\",AM228=\"\",AM324=\"\",AM420=\"\",AM516=\"\",AM612=\"\"), \"-\", IF(SUM(H804:S804)=0, 0, IF(AM36+AM132+AM228+AM324+AM420+AM516+AM612=0,0,ROUNDDOWN(AVERAGE(AM36,AM132,AM228,AM324,AM420,AM516,AM612),0))))","v":0},{"$f":"IF(SUM(H804:S804)=0,\"-\",AVERAGEIF(G4:G675,$G804,AN4:AN675))","v":19.614285714285717},{"$f":"IFERROR(IF(SUM(H804:S804)=0,\"-\",AVERAGEIF(G4:G675,G804,AO4:AO675)), \"-\")","v":22.2},{"$f":"IF(SUM(H804:S804)=0,\"-\",MIN(AP36,AP132,AP228,AP324,AP420,AP516,AP612))","v":8.9},{"$f":"IF(SUM(H804:S804)=0,\"-\",MAX(AQ36,AQ132,AQ228,AQ324,AQ420,AQ516,AQ612))","v":31.8},{"$f":"INDEX(Input_Details!$L$5:$L$24, MATCH($A804, Input_Details!$J$5:$J$24, 0), 0)","v":"Northbound"},"7 Day Ave","08:00:00",{"$f":"IF(AND(AU36=\"\",AU132=\"\",AU228=\"\",AU324=\"\",AU420=\"\",AU516=\"\",AU612=\"\"), \"-\", IF(AU36+AU132+AU228+AU324+AU420+AU516+AU612=0,0,ROUND(AVERAGE(AU36,AU132,AU228,AU324,AU420,AU516,AU612),0)))","v":5},6,0,0,0,0,0,0,0,0,0,0,{"$f":"IF(AND(BG36=\"\",BG132=\"\",BG228=\"\",BG324=\"\",BG420=\"\",BG516=\"\",BG612=\"\"), \"-\", IF(SUM(AU804:BF804)=0, 0, IF(BG36+BG132+BG228+BG324+BG420+BG516+BG612=0,0,ROUNDDOWN(AVERAGE(BG36,BG132,BG228,BG324,BG420,BG516,BG612),0))))","v":1},{"$f":"IF(AND(BH36=\"\",BH132=\"\",BH228=\"\",BH324=\"\",BH420=\"\",BH516=\"\",BH612=\"\"), \"-\", IF(SUM(AU804:BF804)=0, 0, IF(BH36+BH132+BH228+BH324+BH420+BH516+BH612=0,0,ROUNDDOWN(AVERAGE(BH36,BH132,BH228,BH324,BH420,BH516,BH612),0))))","v":5},{"$f":"IF(AND(BI36=\"\",BI132=\"\",BI228=\"\",BI324=\"\",BI420=\"\",BI516=\"\",BI612=\"\"), \"-\", IF(SUM(AU804:BF804)=0, 0, IF(BI36+BI132+BI228+BI324+BI420+BI516+BI612=0,0,ROUNDDOWN(AVERAGE(BI36,BI132,BI228,BI324,BI420,BI516,BI612),0))))","v":4},{"$f":"IF(AND(BJ36=\"\",BJ132=\"\",BJ228=\"\",BJ324=\"\",BJ420=\"\",BJ516=\"\",BJ612=\"\"), \"-\", IF(SUM(AU804:BF804)=0, 0, IF(BJ36+BJ132+BJ228+BJ324+BJ420+BJ516+BJ612=0,0,ROUNDDOWN(AVERAGE(BJ36,BJ132,BJ228,BJ324,BJ420,BJ516,BJ612),0))))","v":0},{"$f":"IF(AND(BK36=\"\",BK132=\"\",BK228=\"\",BK324=\"\",BK420=\"\",BK516=\"\",BK612=\"\"), \"-\", IF(SUM(AU804:BF804)=0, 0, IF(BK36+BK132+BK228+BK324+BK420+BK516+BK612=0,0,ROUNDDOWN(AVERAGE(BK36,BK132,BK228,BK324,BK420,BK516,BK612),0))))","v":0},{"$f":"IF(AND(BL36=\"\",BL132=\"\",BL228=\"\",BL324=\"\",BL420=\"\",BL516=\"\",BL612=\"\"), \"-\", IF(SUM(AU804:BF804)=0, 0, IF(BL36+BL132+BL228+BL324+BL420+BL516+BL612=0,0,ROUNDDOWN(AVERAGE(BL36,BL132,BL228,BL324,BL420,BL516,BL612),0))))","v":0},{"$f":"IF(AND(BM36=\"\",BM132=\"\",BM228=\"\",BM324=\"\",BM420=\"\",BM516=\"\",BM612=\"\"), \"-\", IF(SUM(AU804:BF804)=0, 0, IF(BM36+BM132+BM228+BM324+BM420+BM516+BM612=0,0,ROUNDDOWN(AVERAGE(BM36,BM132,BM228,BM324,BM420,BM516,BM612),0))))","v":0},{"$f":"IF(AND(BN36=\"\",BN132=\"\",BN228=\"\",BN324=\"\",BN420=\"\",BN516=\"\",BN612=\"\"), \"-\", IF(SUM(AU804:BF804)=0, 0, IF(BN36+BN132+BN228+BN324+BN420+BN516+BN612=0,0,ROUNDDOWN(AVERAGE(BN36,BN132,BN228,BN324,BN420,BN516,BN612),0))))","v":0},{"$f":"IF(AND(BO36=\"\",BO132=\"\",BO228=\"\",BO324=\"\",BO420=\"\",BO516=\"\",BO612=\"\"), \"-\", IF(SUM(AU804:BF804)=0, 0, IF(BO36+BO132+BO228+BO324+BO420+BO516+BO612=0,0,ROUNDDOWN(AVERAGE(BO36,BO132,BO228,BO324,BO420,BO516,BO612),0))))","v":0},{"$f":"IF(AND(BP36=\"\",BP132=\"\",BP228=\"\",BP324=\"\",BP420=\"\",BP516=\"\",BP612=\"\"), \"-\", IF(SUM(AU804:BF804)=0, 0, IF(BP36+BP132+BP228+BP324+BP420+BP516+BP612=0,0,ROUNDDOWN(AVERAGE(BP36,BP132,BP228,BP324,BP420,BP516,BP612),0))))","v":0},{"$f":"IF(AND(BQ36=\"\",BQ132=\"\",BQ228=\"\",BQ324=\"\",BQ420=\"\",BQ516=\"\",BQ612=\"\"), \"-\", IF(SUM(AU804:BF804)=0, 0, IF(BQ36+BQ132+BQ228+BQ324+BQ420+BQ516+BQ612=0,0,ROUNDDOWN(AVERAGE(BQ36,BQ132,BQ228,BQ324,BQ420,BQ516,BQ612),0))))","v":0},{"$f":"IF(AND(BR36=\"\",BR132=\"\",BR228=\"\",BR324=\"\",BR420=\"\",BR516=\"\",BR612=\"\"), \"-\", IF(SUM(AU804:BF804)=0, 0, IF(BR36+BR132+BR228+BR324+BR420+BR516+BR612=0,0,ROUNDDOWN(AVERAGE(BR36,BR132,BR228,BR324,BR420,BR516,BR612),0))))","v":0},{"$f":"IF(AND(BS36=\"\",BS132=\"\",BS228=\"\",BS324=\"\",BS420=\"\",BS516=\"\",BS612=\"\"), \"-\", IF(SUM(AU804:BF804)=0, 0, IF(BS36+BS132+BS228+BS324+BS420+BS516+BS612=0,0,ROUNDDOWN(AVERAGE(BS36,BS132,BS228,BS324,BS420,BS516,BS612),0))))","v":0},{"$f":"IF(AND(BT36=\"\",BT132=\"\",BT228=\"\",BT324=\"\",BT420=\"\",BT516=\"\",BT612=\"\"), \"-\", IF(SUM(AU804:BF804)=0, 0, IF(BT36+BT132+BT228+BT324+BT420+BT516+BT612=0,0,ROUNDDOWN(AVERAGE(BT36,BT132,BT228,BT324,BT420,BT516,BT612),0))))","v":0},{"$f":"IF(AND(BU36=\"\",BU132=\"\",BU228=\"\",BU324=\"\",BU420=\"\",BU516=\"\",BU612=\"\"), \"-\", IF(SUM(AU804:BF804)=0, 0, IF(BU36+BU132+BU228+BU324+BU420+BU516+BU612=0,0,ROUNDDOWN(AVERAGE(BU36,BU132,BU228,BU324,BU420,BU516,BU612),0))))","v":0},{"$f":"IF(AND(BV36=\"\",BV132=\"\",BV228=\"\",BV324=\"\",BV420=\"\",BV516=\"\",BV612=\"\"), \"-\", IF(SUM(AU804:BF804)=0, 0, IF(BV36+BV132+BV228+BV324+BV420+BV516+BV612=0,0,ROUNDDOWN(AVERAGE(BV36,BV132,BV228,BV324,BV420,BV516,BV612),0))))","v":0},{"$f":"IF(AND(BW36=\"\",BW132=\"\",BW228=\"\",BW324=\"\",BW420=\"\",BW516=\"\",BW612=\"\"), \"-\", IF(SUM(AU804:BF804)=0, 0, IF(BW36+BW132+BW228+BW324+BW420+BW516+BW612=0,0,ROUNDDOWN(AVERAGE(BW36,BW132,BW228,BW324,BW420,BW516,BW612),0))))","v":0},{"$f":"IF(AND(BX36=\"\",BX132=\"\",BX228=\"\",BX324=\"\",BX420=\"\",BX516=\"\",BX612=\"\"), \"-\", IF(SUM(AU804:BF804)=0, 0, IF(BX36+BX132+BX228+BX324+BX420+BX516+BX612=0,0,ROUNDDOWN(AVERAGE(BX36,BX132,BX228,BX324,BX420,BX516,BX612),0))))","v":0},{"$f":"IF(AND(BY36=\"\",BY132=\"\",BY228=\"\",BY324=\"\",BY420=\"\",BY516=\"\",BY612=\"\"), \"-\", IF(SUM(AU804:BF804)=0, 0, IF(BY36+BY132+BY228+BY324+BY420+BY516+BY612=0,0,ROUNDDOWN(AVERAGE(BY36,BY132,BY228,BY324,BY420,BY516,BY612),0))))","v":0},{"$f":"IF(AND(BZ36=\"\",BZ132=\"\",BZ228=\"\",BZ324=\"\",BZ420=\"\",BZ516=\"\",BZ612=\"\"), \"-\", IF(SUM(AU804:BF804)=0, 0, IF(BZ36+BZ132+BZ228+BZ324+BZ420+BZ516+BZ612=0,0,ROUNDDOWN(AVERAGE(BZ36,BZ132,BZ228,BZ324,BZ420,BZ516,BZ612),0))))","v":0},{"$f":"IF(SUM(AU804:BF804)=0,\"-\",AVERAGEIF(AT4:AT675,$G804,CA4:CA675))","v":15.114285714285714},{"$f":"IFERROR(IF(SUM(AU804:BF804)=0,\"-\",AVERAGEIF(AT4:AT675,AT804,CB4:CB675)), \"-\")","v":16.28},7.1,28.3,null,"7 Day Ave","08:00:00",{"$f":"IF(AND(CH36=\"-\",CH132=\"-\",CH228=\"-\",CH324=\"-\",CH420=\"-\",CH516=\"-\",CH612=\"-\"), \"-\", ROUND(AVERAGE(CH36,CH132,CH228,CH324,CH420,CH516,CH612),0))","v":7},32,0,4,1,0,0,0,0,0,0,0,{"$f":"IF(AND(CT36=\"-\",CT132=\"-\",CT228=\"-\",CT324=\"-\",CT420=\"-\",CT516=\"-\",CT612=\"-\"), \"-\", IF(SUM($CH804:$CS804)=0, 0, ROUND(AVERAGE(CT36,CT132,CT228,CT324,CT420,CT516,CT612),0)))","v":2},8,20,14,2,0,0,0,0,0,0,0,0,0,0,0,0,0,0,0,{"$f":"IF(OR(DW804=\"-\", EC804=\"-\", EI804=\"-\", EI804=0),\"-\",IF(OR(DW804=\"-\", DW804=0),CA804,IF(EC804=0,AN804,SUM((AN804*DW804),(CA804*EC804))/EI804)))","v":18.489285714285717},{"$f":"IFERROR(IF(OR(DW804=\"-\", EC804=\"-\", EI804=\"-\", EI804=0), \"-\", IF(AO804=\"-\", CB804, AVERAGE(AO804,CB804))), \"-\")","v":19.240000000000002},{"$f":"IF(OR(DW804=\"-\", EC804=\"-\",EI804=\"-\", EI804=0),\"-\",MIN(AP804,CC804))","v":7.1},{"$f":"IF(OR(DW804=\"-\", EC804=\"-\",EI804=\"-\", EI804=0),\"-\",MAX(AQ804,CD804))","v":31.8},{"$f":"IF(H804=\"\", \"-\", H804)","v":2},26,{"$f":"IF(DR804=\"-\", \"-\", K804)","v":4},1,0,{"$f":"IF(DR804=\"-\", \"-\", SUM(H804:S804))","v":33},{"$f":"IF(AU804=\"\", \"-\", AU804)","v":5},{"$f":"IF(DX804=\"-\", \"-\", SUM(AV804:AW804))","v":6},0,0,0,{"$f":"IF(DX804=\"-\", \"-\", SUM(AU804:BF804))","v":11},7,32,4,1,0,44]
[1,"7-Day Average",{"$f":"INDEX(Input_Details!$H$5:$H$24, MATCH($A829, Input_Details!$J$5:$J$24, 0), 0)","v":"Harper Road (South of Falmouth Road)"},{"$f":"INDEX(Input_Details!$I$5:$I$24, MATCH($A829, Input_Details!$J$5:$J$24, 0), 0)","v":"51.49617, -0.09302"},{"$f":"INDEX(Input_Details!$K$5:$K$24, MATCH($A829, Input_Details!$J$5:$J$24, 0), 0)","v":"Southbound"},"7 Day Ave","14:15:00",{"$f":"IF(AND(H61=\"\",H157=\"\",H253=\"\",H349=\"\",H445=\"\",H541=\"\",H637=\"\"), \"-\", IF(H61+H157+H253+H349+H445+H541+H637=0,0,ROUND(AVERAGE(H61,H157,H253,H349,H445,H541,H637),0)))","v":6},46,0,10,1,0,0,1,0,0,0,0,0,8,30,19,4,0,0,0,0,0,0,0,0,0,0,0,0,0,0,0,{"$f":"IF(SUM(H829:S829)=0,\"-\",AVERAGEIF(G4:G675,$G829,AN4:AN675))","v":19.014285714285712},{"$f":"IFERROR(IF(SUM(H829:S829)=0,\"-\",AVERAGEIF(G4:G675,G829,AO4:AO675)), \"-\")","v":22.585714285714285},7.5,40.1,{"$f":"INDEX(Input_Details!$L$5:$L$24, MATCH($A829, Input_Details!$J$5:$J$24, 0), 0)","v":"Northbound"},"7 Day Ave","14:15:00",{"$f":"IF(AND(AU61=\"\",AU157=\"\",AU253=\"\",AU349=\"\",AU445=\"\",AU541=\"\",AU637=\"\"), \"-\", IF(AU61+AU157+AU253+AU349+AU445+AU541+AU637=0,0,ROUND(AVERAGE(AU61,AU157,AU253,AU349,AU445,AU541,AU637),0)))","v":1},4,0,0,0,0,0,0,0,0,0,0,0,1,1,1,0,0,0,0,0,0,0,0,0,0,0,0,0,0,0,0,{"$f":"IF(SUM(AU829:BF829)=0,\"-\",AVERAGEIF(AT4:AT675,$G829,CA4:CA675))","v":16.8},{"$f":"IFERROR(IF(SUM(AU829:BF829)=0,\"-\",AVERAGEIF(AT4:AT675,AT829,CB4:CB675)), \"-\")","v":"-"},9.1999999999999993,33,null,"7 Day Ave","14:15:00",{"$f":"IF(AND(CH61=\"-\",CH157=\"-\",CH253=\"-\",CH349=\"-\",CH445=\"-\",CH541=\"-\",CH637=\"-\"), \"-\", ROUND(AVERAGE(CH61,CH157,CH253,CH349,CH445,CH541,CH637),0))","v":8},50,0,10,1,1,0,1,0,0,0,0,{"$f":"IF(AND(CT61=\"-\",CT157=\"-\",CT253=\"-\",CT349=\"-\",CT445=\"-\",CT541=\"-\",CT637=\"-\"), \"-\", IF(SUM($CH829:$CS829)=0, 0, ROUND(AVERAGE(CT61,CT157,CT253,CT349,CT445,CT541,CT637),0)))","v":1},10,32,21,5,1,0,0,0,0,0,0,0,0,0,0,0,0,0,0,18.85383022774327,22.585714285714285,7.5,40.1,6,46,10,1,1,64,1,4,0,0,0,5,7,50,10,1,1,69]
[1,"7-Day Average",{"$f":"INDEX(Input_Details!$H$5:$H$24, MATCH($A841, Input_Details!$J$5:$J$24, 0), 0)","v":"Harper Road (South of Falmouth Road)"},{"$f":"INDEX(Input_Details!$I$5:$I$24, MATCH($A841, Input_Details!$J$5:$J$24, 0), 0)","v":"51.49617, -0.09302"},{"$f":"INDEX(Input_Details!$K$5:$K$24, MATCH($A841, Input_Details!$J$5:$J$24, 0), 0)","v":"Southbound"},"7 Day Ave","17:15:00",{"$f":"IF(AND(H73=\"\",H169=\"\",H265=\"\",H361=\"\",H457=\"\",H553=\"\",H649=\"\"), \"-\", IF(H73+H169+H265+H361+H457+H553+H649=0,0,ROUND(AVERAGE(H73,H169,H265,H361,H457,H553,H649),0)))","v":17},57,2,7,1,1,0,0,0,0,0,0,1,9,35,28,7,3,0,0,0,0,0,0,0,0,0,0,0,0,0,0,{"$f":"IF(SUM(H841:S841)=0,\"-\",AVERAGEIF(G4:G675,$G841,AN4:AN675))","v":20.071428571428573},{"$f":"IFERROR(IF(SUM(H841:S841)=0,\"-\",AVERAGEIF(G4:G675,G841,AO4:AO675)), \"-\")","v":24.414285714285711},3.5,42.6,{"$f":"INDEX(Input_Details!$L$5:$L$24, MATCH($A841, Input_Details!$J$5:$J$24, 0), 0)","v":"Northbound"},"7 Day Ave","17:15:00",{"$f":"IF(AND(AU73=\"\",AU169=\"\",AU265=\"\",AU361=\"\",AU457=\"\",AU553=\"\",AU649=\"\"), \"-\", IF(AU73+AU169+AU265+AU361+AU457+AU553+AU649=0,0,ROUND(AVERAGE(AU73,AU169,AU265,AU361,AU457,AU553,AU649),0)))","v":2},6,0,0,0,0,0,0,0,0,0,0,0,3,2,1,0,0,0,0,0,0,0,0,0,0,0,0,0,0,0,0,{"$f":"IF(SUM(AU841:BF841)=0,\"-\",AVERAGEIF(AT4:AT675,$G841,CA4:CA675))","v":15.871428571428572},{"$f":"IFERROR(IF(SUM(AU841:BF841)=0,\"-\",AVERAGEIF(AT4:AT675,AT841,CB4:CB675)), \"-\")","v":19.8},3.5,34.9,null,"7 Day Ave","17:15:00",{"$f":"IF(AND(CH73=\"-\",CH169=\"-\",CH265=\"-\",CH361=\"-\",CH457=\"-\",CH553=\"-\",CH649=\"-\"), \"-\", ROUND(AVERAGE(CH73,CH169,CH265,CH361,CH457,CH553,CH649),0))","v":19},64,2,7,1,1,0,0,0,0,0,0,{"$f":"IF(AND(CT73=\"-\",CT169=\"-\",CT265=\"-\",CT361=\"-\",CT457=\"-\",CT553=\"-\",CT649=\"-\"), \"-\", IF(SUM($CH841:$CS841)=0, 0, ROUND(AVERAGE(CT73,CT169,CT265,CT361,CT457,CT553,CT649),0)))","v":2},12,39,29,8,4,0,0,0,0,0,0,0,0,0,0,0,0,0,0,19.710138248847926,22.107142857142854,3.5,42.6,17,59,7,1,1,85,2,6,0,0,0,8,19,65,7,1,1,93]
[2,{"$f":"OFFSET(Input_Details!$Q$4,MATCH($A874, Input_Details!$J$5:$J$24, 0), 0)","v":"2017-04-24"},{"$f":"INDEX(Input_Details!$H$5:$H$24, MATCH($A874, Input_Details!$J$5:$J$24, 0), 0)","v":"Harper Road (South of Borough High street)"},{"$f":"INDEX(Input_Details!$I$5:$I$24, MATCH($A874, Input_Details!$J$5:$J$24, 0), 0)","v":"51.49882, -0.09646"},{"$f":"INDEX(Input_Details!$K$5:$K$24, MATCH($A874, Input_Details!$J$5:$J$24, 0), 0)","v":"Southbound"},"Mon","01:30:00",1,9,0,0,0,0,0,0,0,0,0,0,0,1,0,5,4,0,0,0,0,0,0,0,0,0,0,0,0,0,0,0,23.7,"-",12.5,28.4,{"$f":"INDEX(Input_Details!$L$5:$L$24, MATCH($A874, Input_Details!$J$5:$J$24, 0), 0)","v":"Northbound"},"Mon","01:30:00",0,1,0,0,0,0,0,0,0,0,0,0,0,0,1,0,0,0,0,0,0,0,0,0,0,0,0,0,0,0,0,0,19.3,"-",19.3,19.3,null,"Mon","01:30:00",1,10,0,0,0,0,0,0,0,0,0,0,0,1,1,5,4,0,0,0,0,0,0,0,0,0,0,0,0,0,0,0,23.3,"-",12.5,28.4,1,9,0,0,0,10,0,1,0,0,0,1,1,10,0,0,0,11,10,12,18,14,23,18,34,1,6,6,4,5,10,16,11,18,24,18,28,28,50]
[2,{"$f":"OFFSET(Input_Details!$Q$4,MATCH($A885, Input_Details!$J$5:$J$24, 0), 0)","v":"2017-04-24"},{"$f":"INDEX(Input_Details!$H$5:$H$24, MATCH($A885, Input_Details!$J$5:$J$24, 0), 0)","v":"Harper Road (South of Borough High street)"},{"$f":"INDEX(Input_Details!$I$5:$I$24, MATCH($A885, Input_Details!$J$5:$J$24, 0), 0)","v":"51.49882, -0.09646"},{"$f":"INDEX(Input_Details!$K$5:$K$24, MATCH($A885, Input_Details!$J$5:$J$24, 0), 0)","v":"Southbound"},"Mon","04:15:00",0,3,0,0,0,0,0,0,0,0,0,0,0,0,1,1,1,0,0,0,0,0,0,0,0,0,0,0,0,0,0,0,23.4,"-",19.399999999999999,27,{"$f":"INDEX(Input_Details!$L$5:$L$24, MATCH($A885, Input_Details!$J$5:$J$24, 0), 0)","v":"Northbound"},"Mon","04:15:00",1,6,0,0,0,0,0,0,0,0,0,0,0,1,3,2,1,0,0,0,0,0,0,0,0,0,0,0,0,0,0,0,19.5,"-",12,26,null,"Mon","04:15:00",1,9,0,0,0,0,0,0,0,0,0,0,0,1,4,3,2,0,0,0,0,0,0,0,0,0,0,0,0,0,0,0,20.669999999999998,"-",12,27,0,3,0,0,0,3,1,6,0,0,0,7,1,9,0,0,0,10,3,10,10,8,7,10,20,7,3,4,3,4,1,7,10,13,14,11,11,11,27]
[2,{"$f":"OFFSET(Input_Details!$Q$4,MATCH($A911, Input_Details!$J$5:$J$24, 0), 0)","v":"2017-04-24"},{"$f":"INDEX(Input_Details!$H$5:$H$24, MATCH($A911, Input_Details!$J$5:$J$24, 0), 0)","v":"Harper Road (South of Borough High street)"},{"$f":"INDEX(Input_Details!$I$5:$I$24, MATCH($A911, Input_Details!$J$5:$J$24, 0), 0)","v":"51.49882, -0.09646"},{"$f":"INDEX(Input_Details!$K$5:$K$24, MATCH($A911, Input_Details!$J$5:$J$24, 0), 0)","v":"Southbound"},"Mon","10:45:00",2,39,0,14,0,1,0,0,0,0,0,0,1,0,9,30,11,5,0,0,0,0,0,0,0,0,0,0,0,0,0,0,23.3,27.5,9.1,34,{"$f":"INDEX(Input_Details!$L$5:$L$24, MATCH($A911, Input_Details!$J$5:$J$24, 0), 0)","v":"Northbound"},"Mon","10:45:00",1,9,0,1,0,0,0,0,0,0,0,0,0,0,4,3,2,2,0,0,0,0,0,0,0,0,0,0,0,0,0,0,23.6,27.7,16.7,32.1,null,"Mon","10:45:00",3,48,0,15,0,1,0,0,0,0,0,0,1,0,13,33,13,7,0,0,0,0,0,0,0,0,0,0,0,0,0,0,23.349253731343286,27.6,9.1,34,2,39,14,0,1,56,1,9,1,0,0,11,3,48,15,0,1,67,56,55,44,56,53,40,34,11,8,10,17,9,10,6,67,63,54,73,62,50,40]
[2,{"$f":"OFFSET(Input_Details!$Q$4,MATCH($A953, Input_Details!$J$5:$J$24, 0), 0)","v":"2017-04-24"},{"$f":"INDEX(Input_Details!$H$5:$H$24, MATCH($A953, Input_Details!$J$5:$J$24, 0), 0)","v":"Harper Road (South of Borough High street)"},{"$f":"INDEX(Input_Details!$I$5:$I$24, MATCH($A953, Input_Details!$J$5:$J$24, 0), 0)","v":"51.49882, -0.09646"},{"$f":"INDEX(Input_Details!$K$5:$K$24, MATCH($A953, Input_Details!$J$5:$J$24, 0), 0)","v":"Southbound"},"Mon","21:15:00",9,24,0,5,0,0,0,0,0,0,0,0,0,0,17,13,4,3,1,0,0,0,0,0,0,0,0,0,0,0,0,0,21.9,26.8,15.3,36.299999999999997,{"$f":"INDEX(Input_Details!$L$5:$L$24, MATCH($A953, Input_Details!$J$5:$J$24, 0), 0)","v":"Northbound"},"Mon","21:15:00",3,7,0,1,0,0,0,0,0,0,0,0,0,3,2,4,1,1,0,0,0,0,0,0,0,0,0,0,0,0,0,0,19.8,23.3,11.8,33.1,null,"Mon","21:15:00",12,31,0,6,0,0,0,0,0,0,0,0,0,3,19,17,5,4,1,0,0,0,0,0,0,0,0,0,0,0,0,0,21.428571428571427,25.05,11.8,36.299999999999997,9,24,5,0,0,38,3,7,1,0,0,11,12,31,6,0,0,49,38,46,39,48,59,40,42,11,10,14,12,12,17,9,49,56,53,60,71,57,51]
[2,{"$f":"OFFSET(Input_Details!$Q$4,MATCH($A974, Input_Details!$J$5:$J$24, 0), 1)","v":"2017-04-25"},{"$f":"INDEX(Input_Details!$H$5:$H$24, MATCH($A974, Input_Details!$J$5:$J$24, 0), 0)","v":"Harper Road (South of Borough High street)"},{"$f":"INDEX(Input_Details!$I$5:$I$24, MATCH($A974, Input_Details!$J$5:$J$24, 0), 0)","v":"51.49882, -0.09646"},{"$f":"INDEX(Input_Details!$K$5:$K$24, MATCH($A974, Input_Details!$J$5:$J$24, 0), 0)","v":"Southbound"},"Tues","02:30:00",0,5,0,0,0,0,0,0,0,0,0,0,0,0,1,3,1,0,0,0,0,0,0,0,0,0,0,0,0,0,0,0,23.1,"-",19,28.8,{"$f":"INDEX(Input_Details!$L$5:$L$24, MATCH($A974, Input_Details!$J$5:$J$24, 0), 0)","v":"Northbound"},"Tues","02:30:00",0,1,0,0,0,0,0,0,0,0,0,0,0,1,0,0,0,0,0,0,0,0,0,0,0,0,0,0,0,0,0,0,11.2,"-",11.2,11.2,null,"Tues","02:30:00",0,6,0,0,0,0,0,0,0,0,0,0,0,1,1,3,1,0,0,0,0,0,0,0,0,0,0,0,0,0,0,0,21.116666666666667,"-",11.2,28.8,0,5,0,0,0,5,0,1,0,0,0,1,0,6,0,0,0,6]
[2,{"$f":"OFFSET(Input_Details!$Q$4,MATCH($A1007, Input_Details!$J$5:$J$24, 0), 1)","v":"2017-04-25"},{"$f":"INDEX(Input_Details!$H$5:$H$24, MATCH($A1007, Input_Details!$J$5:$J$24, 0), 0)","v":"Harper Road (South of Borough High street)"},{"$f":"INDEX(Input_Details!$I$5:$I$24, MATCH($A1007, Input_Details!$J$5:$J$24, 0), 0)","v":"51.49882, -0.09646"},{"$f":"INDEX(Input_Details!$K$5:$K$24, MATCH($A1007, Input_Details!$J$5:$J$24, 0), 0)","v":"Southbound"},"Tues","10:45:00",7,36,0,10,2,0,0,0,0,0,0,0,0,2,18,23,10,0,2,0,0,0,0,0,0,0,0,0,0,0,0,0,21.9,25.3,12.4,39.700000000000003,{"$f":"INDEX(Input_Details!$L$5:$L$24, MATCH($A1007, Input_Details!$J$5:$J$24, 0), 0)","v":"Northbound"},"Tues","10:45:00",2,6,0,0,0,0,0,0,0,0,0,0,0,2,1,3,1,0,1,0,0,0,0,0,0,0,0,0,0,0,0,0,20.8,"-",11.1,37.6,null,"Tues","10:45:00",9,42,0,10,2,0,0,0,0,0,0,0,0,4,19,26,11,0,3,0,0,0,0,0,0,0,0,0,0,0,0,0,21.760317460317463,25.3,11.1,39.700000000000003,7,36,10,2,0,55,2,6,0,0,0,8,9,42,10,2,0,63]
[2,{"$f":"OFFSET(Input_Details!$Q$4,MATCH($A1031, Input_Details!$J$5:$J$24, 0), 1)","v":"2017-04-25"},{"$f":"INDEX(Input_Details!$H$5:$H$24, MATCH($A1031, Input_Details!$J$5:$J$24, 0), 0)","v":"Harper Road (South of Borough High street)"},{"$f":"INDEX(Input_Details!$I$5:$I$24, MATCH($A1031, Input_Details!$J$5:$J$24, 0), 0)","v":"51.49882, -0.09646"},{"$f":"INDEX(Input_Details!$K$5:$K$24, MATCH($A1031, Input_Details!$J$5:$J$24, 0), 0)","v":"Southbound"},"Tues","16:45:00",21,46,3,12,2,1,0,0,0,0,0,1,1,6,19,27,23,5,3,0,2,0,0,0,0,0,0,0,0,0,0,0,23.3,28.9,6.8,47.2,{"$f":"INDEX(Input_Details!$L$5:$L$24, MATCH($A1031, Input_Details!$J$5:$J$24, 0), 0)","v":"Northbound"},"Tues","16:45:00",0,11,0,0,0,0,0,0,0,0,0,0,0,0,2,7,1,1,0,0,0,0,0,0,0,0,0,0,0,0,0,0,22.4,24.2,16.2,33.1,null,"Tues","16:45:00",21,57,3,12,2,1,0,0,0,0,0,1,1,6,21,34,24,6,3,0,2,0,0,0,0,0,0,0,0,0,0,0,23.197938144329896,26.549999999999997,6.8,47.2,21,49,12,2,2,86,0,11,0,0,0,11,21,60,12,2,2,97]
[2,{"$f":"OFFSET(Input_Details!$Q$4,MATCH($A1044, Input_Details!$J$5:$J$24, 0), 1)","v":"2017-04-25"},{"$f":"INDEX(Input_Details!$H$5:$H$24, MATCH($A1044, Input_Details!$J$5:$J$24, 0), 0)","v":"Harper Road (South of Borough High street)"},{"$f":"INDEX(Input_Details!$I$5:$I$24, MATCH($A1044, Input_Details!$J$5:$J$24, 0), 0)","v":"51.49882, -0.09646"},{"$f":"INDEX(Input_Details!$K$5:$K$24, MATCH($A1044, Input_Details!$J$5:$J$24, 0), 0)","v":"Southbound"},"Tues","20:00:00",9,51,0,6,0,0,0,0,0,0,0,0,0,7,23,24,7,5,0,0,0,0,0,0,0,0,0,0,0,0,0,0,20.7,25.1,11.2,34.9,{"$f":"INDEX(Input_Details!$L$5:$L$24, MATCH($A1044, Input_Details!$J$5:$J$24, 0), 0)","v":"Northbound"},"Tues","20:00:00",6,5,0,1,0,0,0,0,0,0,0,0,0,5,1,4,1,0,1,0,0,0,0,0,0,0,0,0,0,0,0,0,19.8,24.4,11.8,36.9,null,"Tues","20:00:00",15,56,0,7,0,0,0,0,0,0,0,0,0,12,24,28,8,5,1,0,0,0,0,0,0,0,0,0,0,0,0,0,20.561538461538465,24.75,11.2,36.9,9,51,6,0,0,66,6,5,1,0,0,12,15,56,7,0,0,78]
[2,{"$f":"OFFSET(Input_Details!$Q$4,MATCH($A1072, Input_Details!$J$5:$J$24, 0), 2)","v":"2017-04-26"},{"$f":"INDEX(Input_Details!$H$5:$H$24, MATCH($A1072, Input_Details!$J$5:$J$24, 0), 0)","v":"Harper Road (South of Borough High street)"},{"$f":"INDEX(Input_Details!$I$5:$I$24, MATCH($A1072, Input_Details!$J$5:$J$24, 0), 0)","v":"51.49882, -0.09646"},{"$f":"INDEX(Input_Details!$K$5:$K$24, MATCH($A1072, Input_Details!$J$5:$J$24, 0), 0)","v":"Southbound"},"Wed","03:00:00",0,12,0,1,0,0,0,0,0,0,0,0,0,0,1,7,5,0,0,0,0,0,0,0,0,0,0,0,0,0,0,0,23.8,27.7,18.2,29.4,{"$f":"INDEX(Input_Details!$L$5:$L$24, MATCH($A1072, Input_Details!$J$5:$J$24, 0), 0)","v":"Northbound"},"Wed","03:00:00",0,3,0,0,0,0,0,0,0,0,0,0,0,0,2,1,0,0,0,0,0,0,0,0,0,0,0,0,0,0,0,0,18,"-",16.899999999999999,20.3,null,"Wed","03:00:00",0,15,0,1,0,0,0,0,0,0,0,0,0,0,3,8,5,0,0,0,0,0,0,0,0,0,0,0,0,0,0,0,22.712500000000002,27.7,16.899999999999999,29.4,0,12,1,0,0,13,0,3,0,0,0,3,0,15,1,0,0,16]
[2,{"$f":"OFFSET(Input_Details!$Q$4,MATCH($A1107, Input_Details!$J$5:$J$24, 0), 2)","v":"2017-04-26"},{"$f":"INDEX(Input_Details!$H$5:$H$24, MATCH($A1107, Input_Details!$J$5:$J$24, 0), 0)","v":"Harper Road (South of Borough High street)"},{"$f":"INDEX(Input_Details!$I$5:$I$24, MATCH($A1107, Input_Details!$J$5:$J$24, 0), 0)","v":"51.49882, -0.09646"},{"$f":"INDEX(Input_Details!$K$5:$K$24, MATCH($A1107, Input_Details!$J$5:$J$24, 0), 0)","v":"Southbound"},"Wed","11:45:00",1,34,0,11,1,2,0,1,0,0,0,0,0,1,7,25,12,5,0,0,0,0,0,0,0,0,0,0,0,0,0,0,23.9,27.7,14.5,33.6,{"$f":"INDEX(Input_Details!$L$5:$L$24, MATCH($A1107, Input_Details!$J$5:$J$24, 0), 0)","v":"Northbound"},"Wed","11:45:00",1,5,0,2,0,0,0,0,0,0,0,0,0,3,2,2,0,0,1,0,0,0,0,0,0,0,0,0,0,0,0,0,19.100000000000001,"-",11.2,38,null,"Wed","11:45:00",2,39,0,13,1,2,0,1,0,0,0,0,0,4,9,27,12,5,1,0,0,0,0,0,0,0,0,0,0,0,0,0,23.237931034482759,27.7,11.2,38,1,34,11,1,3,50,1,5,2,0,0,8,2,39,13,1,3,58]
[2,{"$f":"OFFSET(Input_Details!$Q$4,MATCH($A1135, Input_Details!$J$5:$J$24, 0), 2)","v":"2017-04-26"},{"$f":"INDEX(Input_Details!$H$5:$H$24, MATCH($A1135, Input_Details!$J$5:$J$24, 0), 0)","v":"Harper Road (South of Borough High street)"},{"$f":"INDEX(Input_Details!$I$5:$I$24, MATCH($A1135, Input_Details!$J$5:$J$24, 0), 0)","v":"51.49882, -0.09646"},{"$f":"INDEX(Input_Details!$K$5:$K$24, MATCH($A1135, Input_Details!$J$5:$J$24, 0), 0)","v":"Southbound"},"Wed","18:45:00",19,61,3,4,0,1,0,1,0,1,0,0,4,6,25,35,14,4,2,0,0,0,0,0,0,0,0,0,0,0,0,0,21.5,26.6,8.6,39,{"$f":"INDEX(Input_Details!$L$5:$L$24, MATCH($A1135, Input_Details!$J$5:$J$24, 0), 0)","v":"Northbound"},"Wed","18:45:00",6,22,0,0,0,0,0,0,0,0,0,0,1,3,13,6,2,2,1,0,0,0,0,0,0,0,0,0,0,0,0,0,20.5,25.9,8.6,35.9,null,"Wed","18:45:00",25,83,3,4,0,1,0,1,0,1,0,0,5,9,38,41,16,6,3,0,0,0,0,0,0,0,0,0,0,0,0,0,21.262711864406779,26.25,8.6,39,19,64,4,0,3,90,6,22,0,0,0,28,25,86,4,0,3,118]
[2,{"$f":"OFFSET(Input_Details!$Q$4,MATCH($A1174, Input_Details!$J$5:$J$24, 0), 3)","v":"2017-04-20"},{"$f":"INDEX(Input_Details!$H$5:$H$24, MATCH($A1174, Input_Details!$J$5:$J$24, 0), 0)","v":"Harper Road (South of Borough High street)"},{"$f":"INDEX(Input_Details!$I$5:$I$24, MATCH($A1174, Input_Details!$J$5:$J$24, 0), 0)","v":"51.49882, -0.09646"},{"$f":"INDEX(Input_Details!$K$5:$K$24, MATCH($A1174, Input_Details!$J$5:$J$24, 0), 0)","v":"Southbound"},"Thu","04:30:00",1,2,0,0,0,0,0,0,0,0,0,0,0,1,0,2,0,0,0,0,0,0,0,0,0,0,0,0,0,0,0,0,19.8,"-",11.1,24.9,{"$f":"INDEX(Input_Details!$L$5:$L$24, MATCH($A1174, Input_Details!$J$5:$J$24, 0), 0)","v":"Northbound"},"Thu","04:30:00",1,0,0,1,0,0,0,0,0,0,0,0,0,1,1,0,0,0,0,0,0,0,0,0,0,0,0,0,0,0,0,0,15.4,"-",11.6,19.100000000000001,null,"Thu","04:30:00",2,2,0,1,0,0,0,0,0,0,0,0,0,2,1,2,0,0,0,0,0,0,0,0,0,0,0,0,0,0,0,0,18.04,"-",11.1,24.9,1,2,0,0,0,3,1,0,1,0,0,2,2,2,1,0,0,5]
[2,{"$f":"OFFSET(Input_Details!$Q$4,MATCH($A1177, Input_Details!$J$5:$J$24, 0), 3)","v":"2017-04-20"},{"$f":"INDEX(Input_Details!$H$5:$H$24, MATCH($A1177, Input_Details!$J$5:$J$24, 0), 0)","v":"Harper Road (South of Borough High street)"},{"$f":"INDEX(Input_Details!$I$5:$I$24, MATCH($A1177, Input_Details!$J$5:$J$24, 0), 0)","v":"51.49882, -0.09646"},{"$f":"INDEX(Input_Details!$K$5:$K$24, MATCH($A1177, Input_Details!$J$5:$J$24, 0), 0)","v":"Southbound"},"Thu","05:15:00",1,4,0,0,0,0,0,0,0,0,0,0,0,1,0,2,0,2,0,0,0,0,0,0,0,0,0,0,0,0,0,0,23.6,"-",10.5,31.2,{"$f":"INDEX(Input_Details!$L$5:$L$24, MATCH($A1177, Input_Details!$J$5:$J$24, 0), 0)","v":"Northbound"},"Thu","05:15:00",2,0,0,2,0,0,0,0,0,0,0,0,0,1,2,1,0,0,0,0,0,0,0,0,0,0,0,0,0,0,0,0,17.399999999999999,"-",11.3,21.1,null,"Thu","05:15:00",3,4,0,2,0,0,0,0,0,0,0,0,0,2,2,3,0,2,0,0,0,0,0,0,0,0,0,0,0,0,0,0,20.844444444444445,"-",10.5,31.2,1,4,0,0,0,5,2,0,2,0,0,4,3,4,2,0,0,9]
[2,{"$f":"OFFSET(Input_Details!$Q$4,MATCH($A1218, Input_Details!$J$5:$J$24, 0), 3)","v":"2017-04-20"},{"$f":"INDEX(Input_Details!$H$5:$H$24, MATCH($A1218, Input_Details!$J$5:$J$24, 0), 0)","v":"Harper Road (South of Borough High street)"},{"$f":"INDEX(Input_Details!$I$5:$I$24, MATCH($A1218, Input_Details!$J$5:$J$24, 0), 0)","v":"51.49882, -0.09646"},{"$f":"INDEX(Input_Details!$K$5:$K$24, MATCH($A1218, Input_Details!$J$5:$J$24, 0), 0)","v":"Southbound"},"Thu","15:30:00",11,37,2,11,0,1,1,1,0,0,0,0,0,4,8,34,11,5,2,0,0,0,0,0,0,0,0,0,0,0,0,0,23.4,27.3,11.3,39.700000000000003,{"$f":"INDEX(Input_Details!$L$5:$L$24, MATCH($A1218, Input_Details!$J$5:$J$24, 0), 0)","v":"Northbound"},"Thu","15:30:00",4,7,0,0,0,1,0,0,0,0,0,0,0,2,4,4,1,1,0,0,0,0,0,0,0,0,0,0,0,0,0,0,20.2,23,10.8,32.299999999999997,null,"Thu","15:30:00",15,44,2,11,0,2,1,1,0,0,0,0,0,6,12,38,12,6,2,0,0,0,0,0,0,0,0,0,0,0,0,0,22.894736842105264,25.15,10.8,39.700000000000003,11,39,11,0,3,64,4,7,0,0,1,12,15,46,11,0,4,76]
[2,{"$f":"OFFSET(Input_Details!$Q$4,MATCH($A1240, Input_Details!$J$5:$J$24, 0), 3)","v":"2017-04-20"},{"$f":"INDEX(Input_Details!$H$5:$H$24, MATCH($A1240, Input_Details!$J$5:$J$24, 0), 0)","v":"Harper Road (South of Borough High street)"},{"$f":"INDEX(Input_Details!$I$5:$I$24, MATCH($A1240, Input_Details!$J$5:$J$24, 0), 0)","v":"51.49882, -0.09646"},{"$f":"INDEX(Input_Details!$K$5:$K$24, MATCH($A1240, Input_Details!$J$5:$J$24, 0), 0)","v":"Southbound"},"Thu","21:00:00",9,24,0,4,0,0,0,0,0,0,0,0,1,2,11,11,11,1,0,0,0,0,0,0,0,0,0,0,0,0,0,0,21.9,26.4,8.8000000000000007,33,{"$f":"INDEX(Input_Details!$L$5:$L$24, MATCH($A1240, Input_Details!$J$5:$J$24, 0), 0)","v":"Northbound"},"Thu","21:00:00",2,16,0,0,0,0,0,0,0,0,0,0,0,0,9,7,2,0,0,0,0,0,0,0,0,0,0,0,0,0,0,0,20.5,23.5,15.4,26.6,null,"Thu","21:00:00",11,40,0,4,0,0,0,0,0,0,0,0,1,2,20,18,13,1,0,0,0,0,0,0,0,0,0,0,0,0,0,0,21.441818181818181,24.95,8.8000000000000007,33,9,24,4,0,0,37,2,16,0,0,0,18,11,40,4,0,0,55]
[{"$f":"A1253","v":2},{"$f":"OFFSET(Input_Details!$Q$4,MATCH($A1254, Input_Details!$J$5:$J$24, 0), 4)","v":"2017-04-21"},{"$f":"INDEX(Input_Details!$H$5:$H$24, MATCH($A1254, Input_Details!$J$5:$J$24, 0), 0)","v":"Harper Road (South of Borough High street)"},{"$f":"INDEX(Input_Details!$I$5:$I$24, MATCH($A1254, Input_Details!$J$5:$J$24, 0), 0)","v":"51.49882, -0.09646"},{"$f":"INDEX(Input_Details!$K$5:$K$24, MATCH($A1254, Input_Details!$J$5:$J$24, 0), 0)","v":"Southbound"},"Fri","00:30:00",1,27,0,2,0,0,0,0,0,0,0,0,0,0,2,21,6,0,1,0,0,0,0,0,0,0,0,0,0,0,0,0,23.7,26.4,16.2,37.6,{"$f":"INDEX(Input_Details!$L$5:$L$24, MATCH($A1254, Input_Details!$J$5:$J$24, 0), 0)","v":"Northbound"},"Fri","00:30:00",0,7,0,0,0,0,0,0,0,0,0,0,0,1,3,2,1,0,0,0,0,0,0,0,0,0,0,0,0,0,0,0,20.399999999999999,"-",14.9,28.3,null,"Fri","00:30:00",1,34,0,2,0,0,0,0,0,0,0,0,0,1,5,23,7,0,1,0,0,0,0,0,0,0,0,0,0,0,0,0,23.075675675675676,26.4,14.9,37.6,1,27,2,0,0,30,0,7,0,0,0,7,1,34,2,0,0,37]
[2,{"$f":"OFFSET(Input_Details!$Q$4,MATCH($A1281, Input_Details!$J$5:$J$24, 0), 4)","v":"2017-04-21"},{"$f":"INDEX(Input_Details!$H$5:$H$24, MATCH($A1281, Input_Details!$J$5:$J$24, 0), 0)","v":"Harper Road (South of Borough High street)"},{"$f":"INDEX(Input_Details!$I$5:$I$24, MATCH($A1281, Input_Details!$J$5:$J$24, 0), 0)","v":"51.49882, -0.09646"},{"$f":"INDEX(Input_Details!$K$5:$K$24, MATCH($A1281, Input_Details!$J$5:$J$24, 0), 0)","v":"Southbound"},"Fri","07:15:00",3,24,0,5,0,0,0,0,0,0,0,0,0,1,2,17,11,1,0,0,0,0,0,0,0,0,0,0,0,0,0,0,23.8,26.8,11.5,31.7,{"$f":"INDEX(Input_Details!$L$5:$L$24, MATCH($A1281, Input_Details!$J$5:$J$24, 0), 0)","v":"Northbound"},"Fri","07:15:00",5,4,0,1,0,0,0,0,0,0,0,0,2,2,2,3,1,0,0,0,0,0,0,0,0,0,0,0,0,0,0,0,17.2,"-",6.8,27.6,null,"Fri","07:15:00",8,28,0,6,0,0,0,0,0,0,0,0,2,3,4,20,12,1,0,0,0,0,0,0,0,0,0,0,0,0,0,0,22.228571428571428,26.8,6.8,31.7,3,24,5,0,0,32,5,4,1,0,0,10,8,28,6,0,0,42]
[2,{"$f":"OFFSET(Input_Details!$Q$4,MATCH($A1310, Input_Details!$J$5:$J$24, 0), 4)","v":"2017-04-21"},{"$f":"INDEX(Input_Details!$H$5:$H$24, MATCH($A1310, Input_Details!$J$5:$J$24, 0), 0)","v":"Harper Road (South of Borough High street)"},{"$f":"INDEX(Input_Details!$I$5:$I$24, MATCH($A1310, Input_Details!$J$5:$J$24, 0), 0)","v":"51.49882, -0.09646"},{"$f":"INDEX(Input_Details!$K$5:$K$24, MATCH($A1310, Input_Details!$J$5:$J$24, 0), 0)","v":"Southbound"},"Fri","14:30:00",10,38,0,14,0,1,0,0,0,0,0,0,2,3,3,30,13,9,2,0,1,0,0,0,0,0,0,0,0,0,0,0,24.7,30.4,7.2,48,{"$f":"INDEX(Input_Details!$L$5:$L$24, MATCH($A1310, Input_Details!$J$5:$J$24, 0), 0)","v":"Northbound"},"Fri","14:30:00",3,7,0,3,0,0,0,0,0,0,0,0,0,1,4,4,1,2,1,0,0,0,0,0,0,0,0,0,0,0,0,0,23.2,32.200000000000003,15,35.5,null,"Fri","14:30:00",13,45,0,17,0,1,0,0,0,0,0,0,2,4,7,34,14,11,3,0,1,0,0,0,0,0,0,0,0,0,0,0,24.443421052631578,31.3,7.2,48,10,38,14,0,1,63,3,7,3,0,0,13,13,45,17,0,1,76]
[2,{"$f":"OFFSET(Input_Details!$Q$4,MATCH($A1337, Input_Details!$J$5:$J$24, 0), 4)","v":"2017-04-21"},{"$f":"INDEX(Input_Details!$H$5:$H$24, MATCH($A1337, Input_Details!$J$5:$J$24, 0), 0)","v":"Harper Road (South of Borough High street)"},{"$f":"INDEX(Input_Details!$I$5:$I$24, MATCH($A1337, Input_Details!$J$5:$J$24, 0), 0)","v":"51.49882, -0.09646"},{"$f":"INDEX(Input_Details!$K$5:$K$24, MATCH($A1337, Input_Details!$J$5:$J$24, 0), 0)","v":"Southbound"},"Fri","21:15:00",6,48,0,5,0,0,0,0,0,0,0,0,0,1,11,31,15,0,1,0,0,0,0,0,0,0,0,0,0,0,0,0,22.5,25.7,14.9,35.700000000000003,{"$f":"INDEX(Input_Details!$L$5:$L$24, MATCH($A1337, Input_Details!$J$5:$J$24, 0), 0)","v":"Northbound"},"Fri","21:15:00",2,9,0,1,0,0,0,0,0,0,0,0,0,1,4,2,4,0,1,0,0,0,0,0,0,0,0,0,0,0,0,0,22.7,29.1,14.2,35.5,null,"Fri","21:15:00",8,57,0,6,0,0,0,0,0,0,0,0,0,2,15,33,19,0,2,0,0,0,0,0,0,0,0,0,0,0,0,0,22.53380281690141,27.4,14.2,35.700000000000003,6,48,5,0,0,59,2,9,1,0,0,12,8,57,6,0,0,71]
[2,{"$f":"OFFSET(Input_Details!$Q$4,MATCH($A1373, Input_Details!$J$5:$J$24, 0), 5)","v":"2017-04-22"},{"$f":"INDEX(Input_Details!$H$5:$H$24, MATCH($A1373, Input_Details!$J$5:$J$24, 0), 0)","v":"Harper Road (South of Borough High street)"},{"$f":"INDEX(Input_Details!$I$5:$I$24, MATCH($A1373, Input_Details!$J$5:$J$24, 0), 0)","v":"51.49882, -0.09646"},{"$f":"INDEX(Input_Details!$K$5:$K$24, MATCH($A1373, Input_Details!$J$5:$J$24, 0), 0)","v":"Southbound"},"Sat","06:15:00",2,16,0,2,0,0,0,0,0,0,0,0,1,1,1,6,6,4,1,0,0,0,0,0,0,0,0,0,0,0,0,0,25.3,32.200000000000003,9.8000000000000007,36.1,{"$f":"INDEX(Input_Details!$L$5:$L$24, MATCH($A1373, Input_Details!$J$5:$J$24, 0), 0)","v":"Northbound"},"Sat","06:15:00",1,5,0,0,0,0,0,0,0,0,0,0,0,1,1,2,1,1,0,0,0,0,0,0,0,0,0,0,0,0,0,0,22.3,"-",10.5,30.5,null,"Sat","06:15:00",3,21,0,2,0,0,0,0,0,0,0,0,1,2,2,8,7,5,1,0,0,0,0,0,0,0,0,0,0,0,0,0,24.607692307692307,32.200000000000003,9.8000000000000007,36.1,2,16,2,0,0,20,1,5,0,0,0,6,3,21,2,0,0,26]
[2,{"$f":"OFFSET(Input_Details!$Q$4,MATCH($A1400, Input_Details!$J$5:$J$24, 0), 5)","v":"2017-04-22"},{"$f":"INDEX(Input_Details!$H$5:$H$24, MATCH($A1400, Input_Details!$J$5:$J$24, 0), 0)","v":"Harper Road (South of Borough High street)"},{"$f":"INDEX(Input_Details!$I$5:$I$24, MATCH($A1400, Input_Details!$J$5:$J$24, 0), 0)","v":"51.49882, -0.09646"},{"$f":"INDEX(Input_Details!$K$5:$K$24, MATCH($A1400, Input_Details!$J$5:$J$24, 0), 0)","v":"Southbound"},"Sat","13:00:00",6,36,0,12,0,0,0,0,0,0,0,0,0,3,11,29,9,1,0,1,0,0,0,0,0,0,0,0,0,0,0,0,22.3,25.3,12.9,41.1,{"$f":"INDEX(Input_Details!$L$5:$L$24, MATCH($A1400, Input_Details!$J$5:$J$24, 0), 0)","v":"Northbound"},"Sat","13:00:00",4,11,0,1,0,0,0,0,0,0,0,0,0,2,6,2,3,3,0,0,0,0,0,0,0,0,0,0,0,0,0,0,22.2,32.200000000000003,11.9,34.799999999999997,null,"Sat","13:00:00",10,47,0,13,0,0,0,0,0,0,0,0,0,5,17,31,12,4,0,1,0,0,0,0,0,0,0,0,0,0,0,0,22.277142857142859,28.75,11.9,41.1,6,36,12,0,0,54,4,11,1,0,0,16,10,47,13,0,0,70]
[2,{"$f":"OFFSET(Input_Details!$Q$4,MATCH($A1414, Input_Details!$J$5:$J$24, 0), 5)","v":"2017-04-22"},{"$f":"INDEX(Input_Details!$H$5:$H$24, MATCH($A1414, Input_Details!$J$5:$J$24, 0), 0)","v":"Harper Road (South of Borough High street)"},{"$f":"INDEX(Input_Details!$I$5:$I$24, MATCH($A1414, Input_Details!$J$5:$J$24, 0), 0)","v":"51.49882, -0.09646"},{"$f":"INDEX(Input_Details!$K$5:$K$24, MATCH($A1414, Input_Details!$J$5:$J$24, 0), 0)","v":"Southbound"},"Sat","16:30:00",4,42,0,2,0,0,0,0,0,0,0,0,0,3,4,29,11,1,0,0,0,0,0,0,0,0,0,0,0,0,0,0,23.2,27.5,12.1,34.200000000000003,{"$f":"INDEX(Input_Details!$L$5:$L$24, MATCH($A1414, Input_Details!$J$5:$J$24, 0), 0)","v":"Northbound"},"Sat","16:30:00",1,10,0,0,0,0,0,0,0,0,0,0,0,1,3,5,2,0,0,0,0,0,0,0,0,0,0,0,0,0,0,0,21,23.3,11.9,28,null,"Sat","16:30:00",5,52,0,2,0,0,0,0,0,0,0,0,0,4,7,34,13,1,0,0,0,0,0,0,0,0,0,0,0,0,0,0,22.789830508474576,25.4,11.9,34.200000000000003,4,42,2,0,0,48,1,10,0,0,0,11,5,52,2,0,0,59]
[2,{"$f":"OFFSET(Input_Details!$Q$4,MATCH($A1443, Input_Details!$J$5:$J$24, 0), 5)","v":"2017-04-22"},{"$f":"INDEX(Input_Details!$H$5:$H$24, MATCH($A1443, Input_Details!$J$5:$J$24, 0), 0)","v":"Harper Road (South of Borough High street)"},{"$f":"INDEX(Input_Details!$I$5:$I$24, MATCH($A1443, Input_Details!$J$5:$J$24, 0), 0)","v":"51.49882, -0.09646"},{"$f":"INDEX(Input_Details!$K$5:$K$24, MATCH($A1443, Input_Details!$J$5:$J$24, 0), 0)","v":"Southbound"},"Sat","23:45:00",6,42,0,2,0,0,0,0,0,0,0,0,0,0,9,27,7,5,1,1,0,0,0,0,0,0,0,0,0,0,0,0,24,28.2,16.7,41.4,{"$f":"INDEX(Input_Details!$L$5:$L$24, MATCH($A1443, Input_Details!$J$5:$J$24, 0), 0)","v":"Northbound"},"Sat","23:45:00",1,17,0,0,0,0,0,0,0,0,0,0,0,0,6,8,3,1,0,0,0,0,0,0,0,0,0,0,0,0,0,0,21.9,25.1,16.100000000000001,31,null,"Sat","23:45:00",7,59,0,2,0,0,0,0,0,0,0,0,0,0,15,35,10,6,1,1,0,0,0,0,0,0,0,0,0,0,0,0,23.444117647058825,26.65,16.100000000000001,41.4,6,42,2,0,0,50,1,17,0,0,0,18,7,59,2,0,0,68]
[2,{"$f":"OFFSET(Input_Details!$Q$4,MATCH($A1483, Input_Details!$J$5:$J$24, 0), 6)","v":"2017-04-23"},{"$f":"INDEX(Input_Details!$H$5:$H$24, MATCH($A1483, Input_Details!$J$5:$J$24, 0), 0)","v":"Harper Road (South of Borough High street)"},{"$f":"INDEX(Input_Details!$I$5:$I$24, MATCH($A1483, Input_Details!$J$5:$J$24, 0), 0)","v":"51.49882, -0.09646"},{"$f":"INDEX(Input_Details!$K$5:$K$24, MATCH($A1483, Input_Details!$J$5:$J$24, 0), 0)","v":"Southbound"},"Sun","09:45:00",0,21,0,1,0,0,0,0,0,0,0,0,0,0,0,14,8,0,0,0,0,0,0,0,0,0,0,0,0,0,0,0,24,26.4,20,29.3,{"$f":"INDEX(Input_Details!$L$5:$L$24, MATCH($A1483, Input_Details!$J$5:$J$24, 0), 0)","v":"Northbound"},"Sun","09:45:00",2,5,0,1,0,0,0,0,0,0,0,0,0,1,2,2,3,0,0,0,0,0,0,0,0,0,0,0,0,0,0,0,21.5,"-",12.1,28.9,null,"Sun","09:45:00",2,26,0,2,0,0,0,0,0,0,0,0,0,1,2,16,11,0,0,0,0,0,0,0,0,0,0,0,0,0,0,0,23.333333333333332,26.4,12.1,29.3,0,21,1,0,0,22,2,5,1,0,0,8,2,26,2,0,0,30]
[{"$f":"A1509","v":2},{"$f":"OFFSET(Input_Details!$Q$4,MATCH($A1510, Input_Details!$J$5:$J$24, 0), 6)","v":"2017-04-23"},{"$f":"INDEX(Input_Details!$H$5:$H$24, MATCH($A1510, Input_Details!$J$5:$J$24, 0), 0)","v":"Harper Road (South of Borough High street)"},{"$f":"INDEX(Input_Details!$I$5:$I$24, MATCH($A1510, Input_Details!$J$5:$J$24, 0), 0)","v":"51.49882, -0.09646"},{"$f":"INDEX(Input_Details!$K$5:$K$24, MATCH($A1510, Input_Details!$J$5:$J$24, 0), 0)","v":"Southbound"},"Sun","16:30:00",3,35,0,4,0,0,0,0,0,0,0,0,0,1,5,25,7,2,1,1,0,0,0,0,0,0,0,0,0,0,0,0,24,28.2,12.5,40.299999999999997,{"$f":"INDEX(Input_Details!$L$5:$L$24, MATCH($A1510, Input_Details!$J$5:$J$24, 0), 0)","v":"Northbound"},"Sun","16:30:00",2,6,0,1,0,0,0,0,0,0,0,0,1,1,3,1,2,1,0,0,0,0,0,0,0,0,0,0,0,0,0,0,20.6,"-",9.1,31,null,"Sun","16:30:00",5,41,0,5,0,0,0,0,0,0,0,0,1,2,8,26,9,3,1,1,0,0,0,0,0,0,0,0,0,0,0,0,23.400000000000002,28.2,9.1,40.299999999999997,3,35,4,0,0,42,2,6,1,0,0,9,5,41,5,0,0,51]
[2,{"$f":"OFFSET(Input_Details!$Q$4,MATCH($A1519, Input_Details!$J$5:$J$24, 0), 6)","v":"2017-04-23"},{"$f":"INDEX(Input_Details!$H$5:$H$24, MATCH($A1519, Input_Details!$J$5:$J$24, 0), 0)","v":"Harper Road (South of Borough High street)"},{"$f":"INDEX(Input_Details!$I$5:$I$24, MATCH($A1519, Input_Details!$J$5:$J$24, 0), 0)","v":"51.49882, -0.09646"},{"$f":"INDEX(Input_Details!$K$5:$K$24, MATCH($A1519, Input_Details!$J$5:$J$24, 0), 0)","v":"Southbound"},"Sun","18:45:00",7,40,0,5,1,0,0,0,0,0,0,0,1,0,14,23,10,4,1,0,0,0,0,0,0,0,0,0,0,0,0,0,23.1,26.6,9.3000000000000007,35.4,{"$f":"INDEX(Input_Details!$L$5:$L$24, MATCH($A1519, Input_Details!$J$5:$J$24, 0), 0)","v":"Northbound"},"Sun","18:45:00",2,12,0,0,0,0,0,0,0,0,0,0,0,0,7,6,1,0,0,0,0,0,0,0,0,0,0,0,0,0,0,0,20.6,24.4,16,25.4,null,"Sun","18:45:00",9,52,0,5,1,0,0,0,0,0,0,0,1,0,21,29,11,4,1,0,0,0,0,0,0,0,0,0,0,0,0,0,22.57761194029851,25.5,9.3000000000000007,35.4,7,40,5,1,0,53,2,12,0,0,0,14,9,52,5,1,0,67]
[2,"Weekday Average",{"$f":"INDEX(Input_Details!$H$5:$H$24, MATCH($A1547, Input_Details!$J$5:$J$24, 0), 0)","v":"Harper Road (South of Borough High street)"},{"$f":"INDEX(Input_Details!$I$5:$I$24, MATCH($A1547, Input_Details!$J$5:$J$24, 0), 0)","v":"51.49882, -0.09646"},{"$f":"INDEX(Input_Details!$K$5:$K$24, MATCH($A1547, Input_Details!$J$5:$J$24, 0), 0)","v":"Southbound"},"WD Ave","01:45:00",{"$f":"IF(AND(H875=\"\",H971=\"\",H1067=\"\",H1163=\"\",H1259=\"\"), \"-\", IF(H875+H971+H1067+H1163+H1259=0,0,ROUND(AVERAGE(H875,H971,H1067,H1163,H1259), 0)))","v":0},11,0,0,0,0,0,0,0,0,0,0,0,0,1,5,2,0,0,0,0,0,0,0,0,0,0,0,0,0,0,0,{"$f":"IF(SUM(H1547:S1547)=0,\"-\",AVERAGEIF(G868:G1347,$G1547,AN868:AN1347))","v":23.7},{"$f":"IFERROR(IF(SUM(H1547:S1547)=0,\"-\",AVERAGEIF(G868:G1347,G1547,AO868:AO1347)), \"-\")","v":25.266666666666669},11.8,44.3,{"$f":"INDEX(Input_Details!$L$5:$L$24, MATCH($A1547, Input_Details!$J$5:$J$24, 0), 0)","v":"Northbound"},"WD Ave","01:45:00",{"$f":"IF(AND(AU875=\"\",AU971=\"\",AU1067=\"\",AU1163=\"\",AU1259=\"\"), \"-\", IF(AU875+AU971+AU1067+AU1163+AU1259=0,0,ROUND(AVERAGE(AU875,AU971,AU1067,AU1163,AU1259), 0)))","v":0},3,0,0,0,0,0,0,0,0,0,0,0,0,0,2,0,0,0,0,0,0,0,0,0,0,0,0,0,0,0,0,{"$f":"IF(SUM(AU1547:BF1547)=0,\"-\",AVERAGEIF(AT868:AT1347,$G1547,CA868:CA1347))","v":21.36},{"$f":"IFERROR(IF(SUM(AU1547:BF1547)=0,\"-\",AVERAGEIF(AT868:AT1347,AT1547,CB868:CB1347)), \"-\")","v":"-"},15.5,29.6,null,"WD Ave","01:45:00",{"$f":"IF(AND(CH875=\"-\",CH971=\"-\",CH1067=\"-\",CH1163=\"-\",CH1259=\"-\"), \"-\", ROUND(AVERAGE(CH875,CH971,CH1067,CH1163,CH1259), 0))","v":0},14,0,0,0,0,0,0,0,0,0,0,{"$f":"IF(AND(CT875=\"-\",CT971=\"-\",CT1067=\"-\",CT1163=\"-\",CT1259=\"-\"), \"-\", IF(SUM($CH1547:$CS1547)=0, 0, ROUND(AVERAGE(CT875,CT971,CT1067,CT1163,CT1259), 0)))","v":0},1,3,8,3,0,0,0,0,0,0,0,0,0,0,0,0,0,0,0,23.198571428571427,25.266666666666669,11.8,44.3,0,11,0,0,0,11,0,3,0,0,0,3,0,14,0,0,0,14]
[2,"Weekday Average",{"$f":"INDEX(Input_Details!$H$5:$H$24, MATCH($A1582, Input_Details!$J$5:$J$24, 0), 0)","v":"Harper Road (South of Borough High street)"},{"$f":"INDEX(Input_Details!$I$5:$I$24, MATCH($A1582, Input_Details!$J$5:$J$24, 0), 0)","v":"51.49882, -0.09646"},{"$f":"INDEX(Input_Details!$K$5:$K$24, MATCH($A1582, Input_Details!$J$5:$J$24, 0), 0)","v":"Southbound"},"WD Ave","10:30:00",{"$f":"IF(AND(H910=\"\",H1006=\"\",H1102=\"\",H1198=\"\",H1294=\"\"), \"-\", IF(H910+H1006+H1102+H1198+H1294=0,0,ROUND(AVERAGE(H910,H1006,H1102,H1198,H1294), 0)))","v":2},30,0,13,0,1,0,0,0,0,0,0,0,1,5,27,10,1,0,0,0,0,0,0,0,0,0,0,0,0,0,0,{"$f":"IF(SUM(H1582:S1582)=0,\"-\",AVERAGEIF(G868:G1347,$G1582,AN868:AN1347))","v":23.080000000000002},{"$f":"IFERROR(IF(SUM(H1582:S1582)=0,\"-\",AVERAGEIF(G868:G1347,G1582,AO868:AO1347)), \"-\")","v":26.380000000000003},8.1999999999999993,36.9,{"$f":"INDEX(Input_Details!$L$5:$L$24, MATCH($A1582, Input_Details!$J$5:$J$24, 0), 0)","v":"Northbound"},"WD Ave","10:30:00",{"$f":"IF(AND(AU910=\"\",AU1006=\"\",AU1102=\"\",AU1198=\"\",AU1294=\"\"), \"-\", IF(AU910+AU1006+AU1102+AU1198+AU1294=0,0,ROUND(AVERAGE(AU910,AU1006,AU1102,AU1198,AU1294), 0)))","v":3},6,0,3,0,0,0,0,0,0,0,0,0,2,3,3,1,0,0,0,0,0,0,0,0,0,0,0,0,0,0,0,{"$f":"IF(SUM(AU1582:BF1582)=0,\"-\",AVERAGEIF(AT868:AT1347,$G1582,CA868:CA1347))","v":20.64},{"$f":"IFERROR(IF(SUM(AU1582:BF1582)=0,\"-\",AVERAGEIF(AT868:AT1347,AT1582,CB868:CB1347)), \"-\")","v":27.7},8.8000000000000007,46.2,null,"WD Ave","10:30:00",{"$f":"IF(AND(CH910=\"-\",CH1006=\"-\",CH1102=\"-\",CH1198=\"-\",CH1294=\"-\"), \"-\", ROUND(AVERAGE(CH910,CH1006,CH1102,CH1198,CH1294), 0))","v":4},36,0,16,1,2,0,0,0,0,0,0,{"$f":"IF(AND(CT910=\"-\",CT1006=\"-\",CT1102=\"-\",CT1198=\"-\",CT1294=\"-\"), \"-\", IF(SUM($CH1582:$CS1582)=0, 0, ROUND(AVERAGE(CT910,CT1006,CT1102,CT1198,CT1294), 0)))","v":1},4,8,30,12,2,1,0,0,0,0,0,0,0,0,0,0,0,0,0,22.575172413793105,27.04,8.1999999999999993,46.2,2,30,13,0,1,46,3,6,3,0,0,12,5,36,16,0,1,58]
[2,"Weekday Average",{"$f":"INDEX(Input_Details!$H$5:$H$24, MATCH($A1610, Input_Details!$J$5:$J$24, 0), 0)","v":"Harper Road (South of Borough High street)"},{"$f":"INDEX(Input_Details!$I$5:$I$24, MATCH($A1610, Input_Details!$J$5:$J$24, 0), 0)","v":"51.49882, -0.09646"},{"$f":"INDEX(Input_Details!$K$5:$K$24, MATCH($A1610, Input_Details!$J$5:$J$24, 0), 0)","v":"Southbound"},"WD Ave","17:30:00",{"$f":"IF(AND(H938=\"\",H1034=\"\",H1130=\"\",H1226=\"\",H1322=\"\"), \"-\", IF(H938+H1034+H1130+H1226+H1322=0,0,ROUND(AVERAGE(H938,H1034,H1130,H1226,H1322), 0)))","v":24},51,2,8,1,1,0,0,0,0,0,0,0,9,24,32,13,4,2,0,0,0,0,0,0,0,0,0,0,0,0,0,{"$f":"IF(SUM(H1610:S1610)=0,\"-\",AVERAGEIF(G868:G1347,$G1610,AN868:AN1347))","v":21.939999999999998},{"$f":"IFERROR(IF(SUM(H1610:S1610)=0,\"-\",AVERAGEIF(G868:G1347,G1610,AO868:AO1347)), \"-\")","v":27.26},8.4,43.3,{"$f":"INDEX(Input_Details!$L$5:$L$24, MATCH($A1610, Input_Details!$J$5:$J$24, 0), 0)","v":"Northbound"},"WD Ave","17:30:00",{"$f":"IF(AND(AU938=\"\",AU1034=\"\",AU1130=\"\",AU1226=\"\",AU1322=\"\"), \"-\", IF(AU938+AU1034+AU1130+AU1226+AU1322=0,0,ROUND(AVERAGE(AU938,AU1034,AU1130,AU1226,AU1322), 0)))","v":5},11,0,1,0,0,0,0,0,0,0,0,0,4,5,4,2,0,0,0,0,0,0,0,0,0,0,0,0,0,0,0,{"$f":"IF(SUM(AU1610:BF1610)=0,\"-\",AVERAGEIF(AT868:AT1347,$G1610,CA868:CA1347))","v":19.32},{"$f":"IFERROR(IF(SUM(AU1610:BF1610)=0,\"-\",AVERAGEIF(AT868:AT1347,AT1610,CB868:CB1347)), \"-\")","v":23.640000000000004},7,36.200000000000003,null,"WD Ave","17:30:00",{"$f":"IF(AND(CH938=\"-\",CH1034=\"-\",CH1130=\"-\",CH1226=\"-\",CH1322=\"-\"), \"-\", ROUND(AVERAGE(CH938,CH1034,CH1130,CH1226,CH1322), 0))","v":28},62,2,9,1,1,0,0,0,0,0,0,{"$f":"IF(AND(CT938=\"-\",CT1034=\"-\",CT1130=\"-\",CT1226=\"-\",CT1322=\"-\"), \"-\", IF(SUM($CH1610:$CS1610)=0, 0, ROUND(AVERAGE(CT938,CT1034,CT1130,CT1226,CT1322), 0)))","v":1},13,29,37,16,5,3,1,0,0,0,0,0,0,0,0,0,0,0,0,21.511730769230766,25.450000000000003,7,43.3,24,53,8,1,1,87,5,11,1,0,0,17,29,64,9,1,1,104]
[2,"7-Day Average",{"$f":"INDEX(Input_Details!$H$5:$H$24, MATCH($A1643, Input_Details!$J$5:$J$24, 0), 0)","v":"Harper Road (South of Borough High street)"},{"$f":"INDEX(Input_Details!$I$5:$I$24, MATCH($A1643, Input_Details!$J$5:$J$24, 0), 0)","v":"51.49882, -0.09646"},{"$f":"INDEX(Input_Details!$K$5:$K$24, MATCH($A1643, Input_Details!$J$5:$J$24, 0), 0)","v":"Southbound"},"7 Day Ave","01:45:00",{"$f":"IF(AND(H875=\"\",H971=\"\",H1067=\"\",H1163=\"\",H1259=\"\",H1355=\"\",H1451=\"\"), \"-\", IF(H875+H971+H1067+H1163+H1259+H1355+H1451=0,0,ROUND(AVERAGE(H875,H971,H1067,H1163,H1259,H1355,H1451),0)))","v":1},13,0,0,0,0,0,0,0,0,0,0,0,0,2,7,2,0,0,0,0,0,0,0,0,0,0,0,0,0,0,0,{"$f":"IF(SUM(H1643:S1643)=0,\"-\",AVERAGEIF(G868:G1539,$G1643,AN868:AN1539))","v":23.171428571428571},{"$f":"IFERROR(IF(SUM(H1643:S1643)=0,\"-\",AVERAGEIF(G868:G1539,G1643,AO868:AO1539)), \"-\")","v":25.26},7.9,44.3,{"$f":"INDEX(Input_Details!$L$5:$L$24, MATCH($A1643, Input_Details!$J$5:$J$24, 0), 0)","v":"Northbound"},"7 Day Ave","01:45:00",{"$f":"IF(AND(AU875=\"\",AU971=\"\",AU1067=\"\",AU1163=\"\",AU1259=\"\",AU1355=\"\",AU1451=\"\"), \"-\", IF(AU875+AU971+AU1067+AU1163+AU1259+AU1355+AU1451=0,0,ROUND(AVERAGE(AU875,AU971,AU1067,AU1163,AU1259,AU1355,AU1451),0)))","v":0},4,0,0,0,0,0,0,0,0,0,0,0,0,1,2,0,0,0,0,0,0,0,0,0,0,0,0,0,0,0,0,{"$f":"IF(SUM(AU1643:BF1643)=0,\"-\",AVERAGEIF(AT868:AT1539,$G1643,CA868:CA1539))","v":21.285714285714285},{"$f":"IFERROR(IF(SUM(AU1643:BF1643)=0,\"-\",AVERAGEIF(AT868:AT1539,AT1643,CB868:CB1539)), \"-\")","v":23.5},12.4,30.1,null,"7 Day Ave","01:45:00",{"$f":"IF(AND(CH875=\"-\",CH971=\"-\",CH1067=\"-\",CH1163=\"-\",CH1259=\"-\",CH1355=\"-\",CH1451=\"-\"), \"-\", ROUND(AVERAGE(CH875,CH971,CH1067,CH1163,CH1259,CH1355,CH1451),0))","v":1},17,0,1,0,0,0,0,0,0,0,0,{"$f":"IF(AND(CT875=\"-\",CT971=\"-\",CT1067=\"-\",CT1163=\"-\",CT1259=\"-\",CT1355=\"-\",CT1451=\"-\"), \"-\", IF(SUM($CH1643:$CS1643)=0, 0, ROUND(AVERAGE(CT875,CT971,CT1067,CT1163,CT1259,CT1355,CT1451),0)))","v":0},1,4,10,3,0,0,0,0,0,0,0,0,0,0,0,0,0,0,0,22.75238095238095,24.380000000000003,7.9,44.3,1,13,0,0,0,14,0,4,0,0,0,4,1,17,0,0,0,18]
[2,"7-Day Average",{"$f":"INDEX(Input_Details!$H$5:$H$24, MATCH($A1665, Input_Details!$J$5:$J$24, 0), 0)","v":"Harper Road (South of Borough High street)"},{"$f":"INDEX(Input_Details!$I$5:$I$24, MATCH($A1665, Input_Details!$J$5:$J$24, 0), 0)","v":"51.49882, -0.09646"},{"$f":"INDEX(Input_Details!$K$5:$K$24, MATCH($A1665, Input_Details!$J$5:$J$24, 0), 0)","v":"Southbound"},"7 Day Ave","07:15:00",{"$f":"IF(AND(H897=\"\",H993=\"\",H1089=\"\",H1185=\"\",H1281=\"\",H1377=\"\",H1473=\"\"), \"-\", IF(H897+H993+H1089+H1185+H1281+H1377+H1473=0,0,ROUND(AVERAGE(H897,H993,H1089,H1185,H1281,H1377,H1473),0)))","v":2},20,0,4,0,0,0,0,0,0,0,0,0,1,3,12,7,0,0,0,0,0,0,0,0,0,0,0,0,0,0,0,{"$f":"IF(SUM(H1665:S1665)=0,\"-\",AVERAGEIF(G868:G1539,$G1665,AN868:AN1539))","v":22.971428571428568},{"$f":"IFERROR(IF(SUM(H1665:S1665)=0,\"-\",AVERAGEIF(G868:G1539,G1665,AO868:AO1539)), \"-\")","v":26.885714285714283},7.7,35,{"$f":"INDEX(Input_Details!$L$5:$L$24, MATCH($A1665, Input_Details!$J$5:$J$24, 0), 0)","v":"Northbound"},"7 Day Ave","07:15:00",{"$f":"IF(AND(AU897=\"\",AU993=\"\",AU1089=\"\",AU1185=\"\",AU1281=\"\",AU1377=\"\",AU1473=\"\"), \"-\", IF(AU897+AU993+AU1089+AU1185+AU1281+AU1377+AU1473=0,0,ROUND(AVERAGE(AU897,AU993,AU1089,AU1185,AU1281,AU1377,AU1473),0)))","v":5},6,0,1,0,0,0,0,0,0,0,0,0,3,2,3,2,0,0,0,0,0,0,0,0,0,0,0,0,0,0,0,{"$f":"IF(SUM(AU1665:BF1665)=0,\"-\",AVERAGEIF(AT868:AT1539,$G1665,CA868:CA1539))","v":19.771428571428572},{"$f":"IFERROR(IF(SUM(AU1665:BF1665)=0,\"-\",AVERAGEIF(AT868:AT1539,AT1665,CB868:CB1539)), \"-\")","v":24.925000000000001},6.5,33.700000000000003,null,"7 Day Ave","07:15:00",{"$f":"IF(AND(CH897=\"-\",CH993=\"-\",CH1089=\"-\",CH1185=\"-\",CH1281=\"-\",CH1377=\"-\",CH1473=\"-\"), \"-\", ROUND(AVERAGE(CH897,CH993,CH1089,CH1185,CH1281,CH1377,CH1473),0))","v":7},26,0,5,1,0,0,0,0,0,0,0,{"$f":"IF(AND(CT897=\"-\",CT993=\"-\",CT1089=\"-\",CT1185=\"-\",CT1281=\"-\",CT1377=\"-\",CT1473=\"-\"), \"-\", IF(SUM($CH1665:$CS1665)=0, 0, ROUND(AVERAGE(CT897,CT993,CT1089,CT1185,CT1281,CT1377,CT1473),0)))","v":1},5,6,16,10,1,0,0,0,0,0,0,0,0,0,0,0,0,0,0,21.960902255639095,25.905357142857142,6.5,35,2,20,4,0,0,26,5,6,1,0,0,12,7,26,5,0,0,38]
[2,"7-Day Average",{"$f":"INDEX(Input_Details!$H$5:$H$24, MATCH($A1680, Input_Details!$J$5:$J$24, 0), 0)","v":"Harper Road (South of Borough High street)"},{"$f":"INDEX(Input_Details!$I$5:$I$24, MATCH($A1680, Input_Details!$J$5:$J$24, 0), 0)","v":"51.49882, -0.09646"},{"$f":"INDEX(Input_Details!$K$5:$K$24, MATCH($A1680, Input_Details!$J$5:$J$24, 0), 0)","v":"Southbound"},"7 Day Ave","11:00:00",{"$f":"IF(AND(H912=\"\",H1008=\"\",H1104=\"\",H1200=\"\",H1296=\"\",H1392=\"\",H1488=\"\"), \"-\", IF(H912+H1008+H1104+H1200+H1296+H1392+H1488=0,0,ROUND(AVERAGE(H912,H1008,H1104,H1200,H1296,H1392,H1488),0)))","v":3},30,0,10,1,1,0,0,0,0,0,0,0,1,12,18,9,2,0,0,0,0,0,0,0,0,0,0,0,0,0,0,{"$f":"IF(SUM(H1680:S1680)=0,\"-\",AVERAGEIF(G868:G1539,$G1680,AN868:AN1539))","v":22.328571428571426},{"$f":"IFERROR(IF(SUM(H1680:S1680)=0,\"-\",AVERAGEIF(G868:G1539,G1680,AO868:AO1539)), \"-\")","v":26.357142857142854},6.4,36.9,{"$f":"INDEX(Input_Details!$L$5:$L$24, MATCH($A1680, Input_Details!$J$5:$J$24, 0), 0)","v":"Northbound"},"7 Day Ave","11:00:00",{"$f":"IF(AND(AU912=\"\",AU1008=\"\",AU1104=\"\",AU1200=\"\",AU1296=\"\",AU1392=\"\",AU1488=\"\"), \"-\", IF(AU912+AU1008+AU1104+AU1200+AU1296+AU1392+AU1488=0,0,ROUND(AVERAGE(AU912,AU1008,AU1104,AU1200,AU1296,AU1392,AU1488),0)))","v":2},8,0,2,0,0,0,0,0,0,0,0,0,1,2,4,2,0,0,0,0,0,0,0,0,0,0,0,0,0,0,0,{"$f":"IF(SUM(AU1680:BF1680)=0,\"-\",AVERAGEIF(AT868:AT1539,$G1680,CA868:CA1539))","v":21.12857142857143},{"$f":"IFERROR(IF(SUM(AU1680:BF1680)=0,\"-\",AVERAGEIF(AT868:AT1539,AT1680,CB868:CB1539)), \"-\")","v":24.933333333333334},12.2,37.700000000000003,null,"7 Day Ave","11:00:00",{"$f":"IF(AND(CH912=\"-\",CH1008=\"-\",CH1104=\"-\",CH1200=\"-\",CH1296=\"-\",CH1392=\"-\",CH1488=\"-\"), \"-\", ROUND(AVERAGE(CH912,CH1008,CH1104,CH1200,CH1296,CH1392,CH1488),0))","v":5},38,0,12,1,1,0,0,0,0,0,0,{"$f":"IF(AND(CT912=\"-\",CT1008=\"-\",CT1104=\"-\",CT1200=\"-\",CT1296=\"-\",CT1392=\"-\",CT1488=\"-\"), \"-\", IF(SUM($CH1680:$CS1680)=0, 0, ROUND(AVERAGE(CT912,CT1008,CT1104,CT1200,CT1296,CT1392,CT1488),0)))","v":0},3,15,23,12,2,0,0,0,0,0,0,0,0,0,0,0,0,0,0,22.075939849624056,25.645238095238092,6.4,37.700000000000003,3,30,10,1,1,45,2,8,2,0,0,12,5,38,12,1,1,57]
[2,"7-Day Average",{"$f":"INDEX(Input_Details!$H$5:$H$24, MATCH($A1728, Input_Details!$J$5:$J$24, 0), 0)","v":"Harper Road (South of Borough High street)"},{"$f":"INDEX(Input_Details!$I$5:$I$24, MATCH($A1728, Input_Details!$J$5:$J$24, 0), 0)","v":"51.49882, -0.09646"},{"$f":"INDEX(Input_Details!$K$5:$K$24, MATCH($A1728, Input_Details!$J$5:$J$24, 0), 0)","v":"Southbound"},"7 Day Ave","23:00:00",{"$f":"IF(AND(H960=\"\",H1056=\"\",H1152=\"\",H1248=\"\",H1344=\"\",H1440=\"\",H1536=\"\"), \"-\", IF(H960+H1056+H1152+H1248+H1344+H1440+H1536=0,0,ROUND(AVERAGE(H960,H1056,H1152,H1248,H1344,H1440,H1536),0)))","v":6},33,0,2,0,0,0,0,0,0,0,0,0,1,6,20,9,1,0,0,0,0,0,0,0,0,0,0,0,0,0,0,{"$f":"IF(SUM(H1728:S1728)=0,\"-\",AVERAGEIF(G868:G1539,$G1728,AN868:AN1539))","v":23.085714285714285},{"$f":"IFERROR(IF(SUM(H1728:S1728)=0,\"-\",AVERAGEIF(G868:G1539,G1728,AO868:AO1539)), \"-\")","v":26.328571428571429},9.3000000000000007,54.8,{"$f":"INDEX(Input_Details!$L$5:$L$24, MATCH($A1728, Input_Details!$J$5:$J$24, 0), 0)","v":"Northbound"},"7 Day Ave","23:00:00",{"$f":"IF(AND(AU960=\"\",AU1056=\"\",AU1152=\"\",AU1248=\"\",AU1344=\"\",AU1440=\"\",AU1536=\"\"), \"-\", IF(AU960+AU1056+AU1152+AU1248+AU1344+AU1440+AU1536=0,0,ROUND(AVERAGE(AU960,AU1056,AU1152,AU1248,AU1344,AU1440,AU1536),0)))","v":1},9,0,0,0,0,0,0,0,0,0,0,0,1,3,3,1,0,0,0,0,0,0,0,0,0,0,0,0,0,0,0,{"$f":"IF(SUM(AU1728:BF1728)=0,\"-\",AVERAGEIF(AT868:AT1539,$G1728,CA868:CA1539))","v":20.457142857142859},{"$f":"IFERROR(IF(SUM(AU1728:BF1728)=0,\"-\",AVERAGEIF(AT868:AT1539,AT1728,CB868:CB1539)), \"-\")","v":24.266666666666666},10.7,40.9,null,"7 Day Ave","23:00:00",{"$f":"IF(AND(CH960=\"-\",CH1056=\"-\",CH1152=\"-\",CH1248=\"-\",CH1344=\"-\",CH1440=\"-\",CH1536=\"-\"), \"-\", ROUND(AVERAGE(CH960,CH1056,CH1152,CH1248,CH1344,CH1440,CH1536),0))","v":7},42,0,2,0,0,0,0,0,0,0,0,{"$f":"IF(AND(CT960=\"-\",CT1056=\"-\",CT1152=\"-\",CT1248=\"-\",CT1344=\"-\",CT1440=\"-\",CT1536=\"-\"), \"-\", IF(SUM($CH1728:$CS1728)=0, 0, ROUND(AVERAGE(CT960,CT1056,CT1152,CT1248,CT1344,CT1440,CT1536),0)))","v":0},3,10,24,11,2,1,0,0,0,0,0,0,0,0,0,0,0,0,0,22.570308123249301,25.297619047619047,9.3000000000000007,54.8,6,33,2,0,0,41,1,9,0,0,0,10,7,42,2,0,0,51]
[0,{"$f":"OFFSET(Input_Details!$Q$4,MATCH($A1743, Input_Details!$J$5:$J$24, 0), 0)","v":{"$error":"#N/A"}},{"$f":"INDEX(Input_Details!$H$5:$H$24, MATCH($A1743, Input_Details!$J$5:$J$24, 0), 0)","v":{"$error":"#N/A"}},{"$f":"INDEX(Input_Details!$I$5:$I$24, MATCH($A1743, Input_Details!$J$5:$J$24, 0), 0)","v":{"$error":"#N/A"}},{"$f":"INDEX(Input_Details!$K$5:$K$24, MATCH($A1743, Input_Details!$J$5:$J$24, 0), 0)","v":{"$error":"#N/A"}},"Mon","02:45:00","-","-",0,0,0,0,0,0,0,0,0,0,0,0,0,0,0,0,0,0,0,0,0,0,0,0,0,0,0,0,0,0,"-","-","-","-",{"$f":"INDEX(Input_Details!$L$5:$L$24, MATCH($A1743, Input_Details!$J$5:$J$24, 0), 0)","v":{"$error":"#N/A"}},"Mon","02:45:00",0,0,0,0,0,0,0,0,0,0,0,0,0,0,0,0,0,0,0,0,0,0,0,0,0,0,0,0,0,0,0,0,"-","-","-","-",null,"Mon","02:45:00",{"$error":"#VALUE!"},{"$error":"#VALUE!"},0,0,0,0,0,0,0,0,0,0,0,0,0,0,0,0,0,0,0,0,0,0,0,0,0,0,0,0,0,0,"-","-","-","-","-","-","-","-","-","-",0,0,0,0,0,0,"-","-","-","-","-","-","-","-","-","-","-","-","-",0,0,0,0,0,0,0,"-","-","-","-","-","-","-"]
[0,{"$f":"OFFSET(Input_Details!$Q$4,MATCH($A1776, Input_Details!$J$5:$J$24, 0), 0)","v":{"$error":"#N/A"}},{"$f":"INDEX(Input_Details!$H$5:$H$24, MATCH($A1776, Input_Details!$J$5:$J$24, 0), 0)","v":{"$error":"#N/A"}},{"$f":"INDEX(Input_Details!$I$5:$I$24, MATCH($A1776, Input_Details!$J$5:$J$24, 0), 0)","v":{"$error":"#N/A"}},{"$f":"INDEX(Input_Details!$K$5:$K$24, MATCH($A1776, Input_Details!$J$5:$J$24, 0), 0)","v":{"$error":"#N/A"}},"Mon","11:00:00","-","-",0,0,0,0,0,0,0,0,0,0,0,0,0,0,0,0,0,0,0,0,0,0,0,0,0,0,0,0,0,0,"-","-","-","-",{"$f":"INDEX(Input_Details!$L$5:$L$24, MATCH($A1776, Input_Details!$J$5:$J$24, 0), 0)","v":{"$error":"#N/A"}},"Mon","11:00:00",0,0,0,0,0,0,0,0,0,0,0,0,0,0,0,0,0,0,0,0,0,0,0,0,0,0,0,0,0,0,0,0,"-","-","-","-",null,"Mon","11:00:00",{"$error":"#VALUE!"},{"$error":"#VALUE!"},0,0,0,0,0,0,0,0,0,0,0,0,0,0,0,0,0,0,0,0,0,0,0,0,0,0,0,0,0,0,"-","-","-","-","-","-","-","-","-","-",0,0,0,0,0,0,"-","-","-","-","-","-","-","-","-","-","-","-","-",0,0,0,0,0,0,0,"-","-","-","-","-","-","-"]
[0,{"$f":"OFFSET(Input_Details!$Q$4,MATCH($A1784, Input_Details!$J$5:$J$24, 0), 0)","v":{"$error":"#N/A"}},{"$f":"INDEX(Input_Details!$H$5:$H$24, MATCH($A1784, Input_Details!$J$5:$J$24, 0), 0)","v":{"$error":"#N/A"}},{"$f":"INDEX(Input_Details!$I$5:$I$24, MATCH($A1784, Input_Details!$J$5:$J$24, 0), 0)","v":{"$error":"#N/A"}},{"$f":"INDEX(Input_Details!$K$5:$K$24, MATCH($A1784, Input_Details!$J$5:$J$24, 0), 0)","v":{"$error":"#N/A"}},"Mon","13:00:00","-","-",0,0,0,0,0,0,0,0,0,0,0,0,0,0,0,0,0,0,0,0,0,0,0,0,0,0,0,0,0,0,"-","-","-","-",{"$f":"INDEX(Input_Details!$L$5:$L$24, MATCH($A1784, Input_Details!$J$5:$J$24, 0), 0)","v":{"$error":"#N/A"}},"Mon","13:00:00",0,0,0,0,0,0,0,0,0,0,0,0,0,0,0,0,0,0,0,0,0,0,0,0,0,0,0,0,0,0,0,0,"-","-","-","-",null,"Mon","13:00:00",{"$error":"#VALUE!"},{"$error":"#VALUE!"},0,0,0,0,0,0,0,0,0,0,0,0,0,0,0,0,0,0,0,0,0,0,0,0,0,0,0,0,0,0,"-","-","-","-","-","-","-","-","-","-",0,0,0,0,0,0,"-","-","-","-","-","-","-","-","-","-","-","-","-",0,0,0,0,0,0,0,"-","-","-","-","-","-","-"]
[0,{"$f":"OFFSET(Input_Details!$Q$4,MATCH($A1813, Input_Details!$J$5:$J$24, 0), 0)","v":{"$error":"#N/A"}},{"$f":"INDEX(Input_Details!$H$5:$H$24, MATCH($A1813, Input_Details!$J$5:$J$24, 0), 0)","v":{"$error":"#N/A"}},{"$f":"INDEX(Input_Details!$I$5:$I$24, MATCH($A1813, Input_Details!$J$5:$J$24, 0), 0)","v":{"$error":"#N/A"}},{"$f":"INDEX(Input_Details!$K$5:$K$24, MATCH($A1813, Input_Details!$J$5:$J$24, 0), 0)","v":{"$error":"#N/A"}},"Mon","20:15:00","-","-",0,0,0,0,0,0,0,0,0,0,0,0,0,0,0,0,0,0,0,0,0,0,0,0,0,0,0,0,0,0,"-","-","-","-",{"$f":"INDEX(Input_Details!$L$5:$L$24, MATCH($A1813, Input_Details!$J$5:$J$24, 0), 0)","v":{"$error":"#N/A"}},"Mon","20:15:00",0,0,0,0,0,0,0,0,0,0,0,0,0,0,0,0,0,0,0,0,0,0,0,0,0,0,0,0,0,0,0,0,"-","-","-","-",null,"Mon","20:15:00",{"$error":"#VALUE!"},{"$error":"#VALUE!"},0,0,0,0,0,0,0,0,0,0,0,0,0,0,0,0,0,0,0,0,0,0,0,0,0,0,0,0,0,0,"-","-","-","-","-","-","-","-","-","-",0,0,0,0,0,0,"-","-","-","-","-","-","-","-","-","-","-","-","-",0,0,0,0,0,0,0,"-","-","-","-","-","-","-"]
[0,{"$f":"OFFSET(Input_Details!$Q$4,MATCH($A1852, Input_Details!$J$5:$J$24, 0), 1)","v":{"$error":"#N/A"}},{"$f":"INDEX(Input_Details!$H$5:$H$24, MATCH($A1852, Input_Details!$J$5:$J$24, 0), 0)","v":{"$error":"#N/A"}},{"$f":"INDEX(Input_Details!$I$5:$I$24, MATCH($A1852, Input_Details!$J$5:$J$24, 0), 0)","v":{"$error":"#N/A"}},{"$f":"INDEX(Input_Details!$K$5:$K$24, MATCH($A1852, Input_Details!$J$5:$J$24, 0), 0)","v":{"$error":"#N/A"}},"Tues","06:00:00","-","-",0,0,0,0,0,0,0,0,0,0,0,0,0,0,0,0,0,0,0,0,0,0,0,0,0,0,0,0,0,0,"-","-","-","-",{"$f":"INDEX(Input_Details!$L$5:$L$24, MATCH($A1852, Input_Details!$J$5:$J$24, 0), 0)","v":{"$error":"#N/A"}},"Tues","06:00:00",0,0,0,0,0,0,0,0,0,0,0,0,0,0,0,0,0,0,0,0,0,0,0,0,0,0,0,0,0,0,0,0,"-","-","-","-",null,"Tues","06:00:00",{"$error":"#VALUE!"},{"$error":"#VALUE!"},0,0,0,0,0,0,0,0,0,0,0,0,0,0,0,0,0,0,0,0,0,0,0,0,0,0,0,0,0,0,"-","-","-","-","-","-","-","-","-","-",0,0,0,0,0,0,"-","-","-","-","-","-"]
[0,{"$f":"OFFSET(Input_Details!$Q$4,MATCH($A1876, Input_Details!$J$5:$J$24, 0), 1)","v":{"$error":"#N/A"}},{"$f":"INDEX(Input_Details!$H$5:$H$24, MATCH($A1876, Input_Details!$J$5:$J$24, 0), 0)","v":{"$error":"#N/A"}},{"$f":"INDEX(Input_Details!$I$5:$I$24, MATCH($A1876, Input_Details!$J$5:$J$24, 0), 0)","v":{"$error":"#N/A"}},{"$f":"INDEX(Input_Details!$K$5:$K$24, MATCH($A1876, Input_Details!$J$5:$J$24, 0), 0)","v":{"$error":"#N/A"}},"Tues","12:00:00","-","-",0,0,0,0,0,0,0,0,0,0,0,0,0,0,0,0,0,0,0,0,0,0,0,0,0,0,0,0,0,0,"-","-","-","-",{"$f":"INDEX(Input_Details!$L$5:$L$24, MATCH($A1876, Input_Details!$J$5:$J$24, 0), 0)","v":{"$error":"#N/A"}},"Tues","12:00:00",0,0,0,0,0,0,0,0,0,0,0,0,0,0,0,0,0,0,0,0,0,0,0,0,0,0,0,0,0,0,0,0,"-","-","-","-",null,"Tues","12:00:00",{"$error":"#VALUE!"},{"$error":"#VALUE!"},0,0,0,0,0,0,0,0,0,0,0,0,0,0,0,0,0,0,0,0,0,0,0,0,0,0,0,0,0,0,"-","-","-","-","-","-","-","-","-","-",0,0,0,0,0,0,"-","-","-","-","-","-"]
[0,{"$f":"OFFSET(Input_Details!$Q$4,MATCH($A1909, Input_Details!$J$5:$J$24, 0), 1)","v":{"$error":"#N/A"}},{"$f":"INDEX(Input_Details!$H$5:$H$24, MATCH($A1909, Input_Details!$J$5:$J$24, 0), 0)","v":{"$error":"#N/A"}},{"$f":"INDEX(Input_Details!$I$5:$I$24, MATCH($A1909, Input_Details!$J$5:$J$24, 0), 0)","v":{"$error":"#N/A"}},{"$f":"INDEX(Input_Details!$K$5:$K$24, MATCH($A1909, Input_Details!$J$5:$J$24, 0), 0)","v":{"$error":"#N/A"}},"Tues","20:15:00","-","-",0,0,0,0,0,0,0,0,0,0,0,0,0,0,0,0,0,0,0,0,0,0,0,0,0,0,0,0,0,0,"-","-","-","-",{"$f":"INDEX(Input_Details!$L$5:$L$24, MATCH($A1909, Input_Details!$J$5:$J$24, 0), 0)","v":{"$error":"#N/A"}},"Tues","20:15:00",0,0,0,0,0,0,0,0,0,0,0,0,0,0,0,0,0,0,0,0,0,0,0,0,0,0,0,0,0,0,0,0,"-","-","-","-",null,"Tues","20:15:00",{"$error":"#VALUE!"},{"$error":"#VALUE!"},0,0,0,0,0,0,0,0,0,0,0,0,0,0,0,0,0,0,0,0,0,0,0,0,0,0,0,0,0,0,"-","-","-","-","-","-","-","-","-","-",0,0,0,0,0,0,"-","-","-","-","-","-"]
[0,{"$f":"OFFSET(Input_Details!$Q$4,MATCH($A1930, Input_Details!$J$5:$J$24, 0), 2)","v":{"$error":"#N/A"}},{"$f":"INDEX(Input_Details!$H$5:$H$24, MATCH($A1930, Input_Details!$J$5:$J$24, 0), 0)","v":{"$error":"#N/A"}},{"$f":"INDEX(Input_Details!$I$5:$I$24, MATCH($A1930, Input_Details!$J$5:$J$24, 0), 0)","v":{"$error":"#N/A"}},{"$f":"INDEX(Input_Details!$K$5:$K$24, MATCH($A1930, Input_Details!$J$5:$J$24, 0), 0)","v":{"$error":"#N/A"}},"Wed","01:30:00","-","-",0,0,0,0,0,0,0,0,0,0,0,0,0,0,0,0,0,0,0,0,0,0,0,0,0,0,0,0,0,0,"-","-","-","-",{"$f":"INDEX(Input_Details!$L$5:$L$24, MATCH($A1930, Input_Details!$J$5:$J$24, 0), 0)","v":{"$error":"#N/A"}},"Wed","01:30:00",0,0,0,0,0,0,0,0,0,0,0,0,0,0,0,0,0,0,0,0,0,0,0,0,0,0,0,0,0,0,0,0,"-","-","-","-",null,"Wed","01:30:00",{"$error":"#VALUE!"},{"$error":"#VALUE!"},0,0,0,0,0,0,0,0,0,0,0,0,0,0,0,0,0,0,0,0,0,0,0,0,0,0,0,0,0,0,"-","-","-","-","-","-","-","-","-","-",0,0,0,0,0,0,"-","-","-","-","-","-"]
[0,{"$f":"OFFSET(Input_Details!$Q$4,MATCH($A1946, Input_Details!$J$5:$J$24, 0), 2)","v":{"$error":"#N/A"}},{"$f":"INDEX(Input_Details!$H$5:$H$24, MATCH($A1946, Input_Details!$J$5:$J$24, 0), 0)","v":{"$error":"#N/A"}},{"$f":"INDEX(Input_Details!$I$5:$I$24, MATCH($A1946, Input_Details!$J$5:$J$24, 0), 0)","v":{"$error":"#N/A"}},{"$f":"INDEX(Input_Details!$K$5:$K$24, MATCH($A1946, Input_Details!$J$5:$J$24, 0), 0)","v":{"$error":"#N/A"}},"Wed","05:30:00","-","-",0,0,0,0,0,0,0,0,0,0,0,0,0,0,0,0,0,0,0,0,0,0,0,0,0,0,0,0,0,0,"-","-","-","-",{"$f":"INDEX(Input_Details!$L$5:$L$24, MATCH($A1946, Input_Details!$J$5:$J$24, 0), 0)","v":{"$error":"#N/A"}},"Wed","05:30:00",0,0,0,0,0,0,0,0,0,0,0,0,0,0,0,0,0,0,0,0,0,0,0,0,0,0,0,0,0,0,0,0,"-","-","-","-",null,"Wed","05:30:00",{"$error":"#VALUE!"},{"$error":"#VALUE!"},0,0,0,0,0,0,0,0,0,0,0,0,0,0,0,0,0,0,0,0,0,0,0,0,0,0,0,0,0,0,"-","-","-","-","-","-","-","-","-","-",0,0,0,0,0,0,"-","-","-","-","-","-"]
[0,{"$f":"OFFSET(Input_Details!$Q$4,MATCH($A1971, Input_Details!$J$5:$J$24, 0), 2)","v":{"$error":"#N/A"}},{"$f":"INDEX(Input_Details!$H$5:$H$24, MATCH($A1971, Input_Details!$J$5:$J$24, 0), 0)","v":{"$error":"#N/A"}},{"$f":"INDEX(Input_Details!$I$5:$I$24, MATCH($A1971, Input_Details!$J$5:$J$24, 0), 0)","v":{"$error":"#N/A"}},{"$f":"INDEX(Input_Details!$K$5:$K$24, MATCH($A1971, Input_Details!$J$5:$J$24, 0), 0)","v":{"$error":"#N/A"}},"Wed","11:45:00","-","-",0,0,0,0,0,0,0,0,0,0,0,0,0,0,0,0,0,0,0,0,0,0,0,0,0,0,0,0,0,0,"-","-","-","-",{"$f":"INDEX(Input_Details!$L$5:$L$24, MATCH($A1971, Input_Details!$J$5:$J$24, 0), 0)","v":{"$error":"#N/A"}},"Wed","11:45:00",0,0,0,0,0,0,0,0,0,0,0,0,0,0,0,0,0,0,0,0,0,0,0,0,0,0,0,0,0,0,0,0,"-","-","-","-",null,"Wed","11:45:00",{"$error":"#VALUE!"},{"$error":"#VALUE!"},0,0,0,0,0,0,0,0,0,0,0,0,0,0,0,0,0,0,0,0,0,0,0,0,0,0,0,0,0,0,"-","-","-","-","-","-","-","-","-","-",0,0,0,0,0,0,"-","-","-","-","-","-"]
[0,{"$f":"OFFSET(Input_Details!$Q$4,MATCH($A2009, Input_Details!$J$5:$J$24, 0), 2)","v":{"$error":"#N/A"}},{"$f":"INDEX(Input_Details!$H$5:$H$24, MATCH($A2009, Input_Details!$J$5:$J$24, 0), 0)","v":{"$error":"#N/A"}},{"$f":"INDEX(Input_Details!$I$5:$I$24, MATCH($A2009, Input_Details!$J$5:$J$24, 0), 0)","v":{"$error":"#N/A"}},{"$f":"INDEX(Input_Details!$K$5:$K$24, MATCH($A2009, Input_Details!$J$5:$J$24, 0), 0)","v":{"$error":"#N/A"}},"Wed","21:15:00","-","-",0,0,0,0,0,0,0,0,0,0,0,0,0,0,0,0,0,0,0,0,0,0,0,0,0,0,0,0,0,0,"-","-","-","-",{"$f":"INDEX(Input_Details!$L$5:$L$24, MATCH($A2009, Input_Details!$J$5:$J$24, 0), 0)","v":{"$error":"#N/A"}},"Wed","21:15:00",0,0,0,0,0,0,0,0,0,0,0,0,0,0,0,0,0,0,0,0,0,0,0,0,0,0,0,0,0,0,0,0,"-","-","-","-",null,"Wed","21:15:00",{"$error":"#VALUE!"},{"$error":"#VALUE!"},0,0,0,0,0,0,0,0,0,0,0,0,0,0,0,0,0,0,0,0,0,0,0,0,0,0,0,0,0,0,"-","-","-","-","-","-","-","-","-","-",0,0,0,0,0,0,"-","-","-","-","-","-"]
[0,{"$f":"OFFSET(Input_Details!$Q$4,MATCH($A2034, Input_Details!$J$5:$J$24, 0), 3)","v":{"$error":"#N/A"}},{"$f":"INDEX(Input_Details!$H$5:$H$24, MATCH($A2034, Input_Details!$J$5:$J$24, 0), 0)","v":{"$error":"#N/A"}},{"$f":"INDEX(Input_Details!$I$5:$I$24, MATCH($A2034, Input_Details!$J$5:$J$24, 0), 0)","v":{"$error":"#N/A"}},{"$f":"INDEX(Input_Details!$K$5:$K$24, MATCH($A2034, Input_Details!$J$5:$J$24, 0), 0)","v":{"$error":"#N/A"}},"Thu","03:30:00","-","-",0,0,0,0,0,0,0,0,0,0,0,0,0,0,0,0,0,0,0,0,0,0,0,0,0,0,0,0,0,0,"-","-","-","-",{"$f":"INDEX(Input_Details!$L$5:$L$24, MATCH($A2034, Input_Details!$J$5:$J$24, 0), 0)","v":{"$error":"#N/A"}},"Thu","03:30:00",0,0,0,0,0,0,0,0,0,0,0,0,0,0,0,0,0,0,0,0,0,0,0,0,0,0,0,0,0,0,0,0,"-","-","-","-",null,"Thu","03:30:00",{"$error":"#VALUE!"},{"$error":"#VALUE!"},0,0,0,0,0,0,0,0,0,0,0,0,0,0,0,0,0,0,0,0,0,0,0,0,0,0,0,0,0,0,"-","-","-","-","-","-","-","-","-","-",0,0,0,0,0,0,"-","-","-","-","-","-"]
[0,{"$f":"OFFSET(Input_Details!$Q$4,MATCH($A2050, Input_Details!$J$5:$J$24, 0), 3)","v":{"$error":"#N/A"}},{"$f":"INDEX(Input_Details!$H$5:$H$24, MATCH($A2050, Input_Details!$J$5:$J$24, 0), 0)","v":{"$error":"#N/A"}},{"$f":"INDEX(Input_Details!$I$5:$I$24, MATCH($A2050, Input_Details!$J$5:$J$24, 0), 0)","v":{"$error":"#N/A"}},{"$f":"INDEX(Input_Details!$K$5:$K$24, MATCH($A2050, Input_Details!$J$5:$J$24, 0), 0)","v":{"$error":"#N/A"}},"Thu","07:30:00","-","-",0,0,0,0,0,0,0,0,0,0,0,0,0,0,0,0,0,0,0,0,0,0,0,0,0,0,0,0,0,0,"-","-","-","-",{"$f":"INDEX(Input_Details!$L$5:$L$24, MATCH($A2050, Input_Details!$J$5:$J$24, 0), 0)","v":{"$error":"#N/A"}},"Thu","07:30:00",0,0,0,0,0,0,0,0,0,0,0,0,0,0,0,0,0,0,0,0,0,0,0,0,0,0,0,0,0,0,0,0,"-","-","-","-",null,"Thu","07:30:00",{"$error":"#VALUE!"},{"$error":"#VALUE!"},0,0,0,0,0,0,0,0,0,0,0,0,0,0,0,0,0,0,0,0,0,0,0,0,0,0,0,0,0,0,"-","-","-","-","-","-","-","-","-","-",0,0,0,0,0,0,"-","-","-","-","-","-"]
[0,{"$f":"OFFSET(Input_Details!$Q$4,MATCH($A2079, Input_Details!$J$5:$J$24, 0), 3)","v":{"$error":"#N/A"}},{"$f":"INDEX(Input_Details!$H$5:$H$24, MATCH($A2079, Input_Details!$J$5:$J$24, 0), 0)","v":{"$error":"#N/A"}},{"$f":"INDEX(Input_Details!$I$5:$I$24, MATCH($A2079, Input_Details!$J$5:$J$24, 0), 0)","v":{"$error":"#N/A"}},{"$f":"INDEX(Input_Details!$K$5:$K$24, MATCH($A2079, Input_Details!$J$5:$J$24, 0), 0)","v":{"$error":"#N/A"}},"Thu","14:45:00","-","-",0,0,0,0,0,0,0,0,0,0,0,0,0,0,0,0,0,0,0,0,0,0,0,0,0,0,0,0,0,0,"-","-","-","-",{"$f":"INDEX(Input_Details!$L$5:$L$24, MATCH($A2079, Input_Details!$J$5:$J$24, 0), 0)","v":{"$error":"#N/A"}},"Thu","14:45:00",0,0,0,0,0,0,0,0,0,0,0,0,0,0,0,0,0,0,0,0,0,0,0,0,0,0,0,0,0,0,0,0,"-","-","-","-",null,"Thu","14:45:00",{"$error":"#VALUE!"},{"$error":"#VALUE!"},0,0,0,0,0,0,0,0,0,0,0,0,0,0,0,0,0,0,0,0,0,0,0,0,0,0,0,0,0,0,"-","-","-","-","-","-","-","-","-","-",0,0,0,0,0,0,"-","-","-","-","-","-"]
[0,{"$f":"OFFSET(Input_Details!$Q$4,MATCH($A2117, Input_Details!$J$5:$J$24, 0), 4)","v":{"$error":"#N/A"}},{"$f":"INDEX(Input_Details!$H$5:$H$24, MATCH($A2117, Input_Details!$J$5:$J$24, 0), 0)","v":{"$error":"#N/A"}},{"$f":"INDEX(Input_Details!$I$5:$I$24, MATCH($A2117, Input_Details!$J$5:$J$24, 0), 0)","v":{"$error":"#N/A"}},{"$f":"INDEX(Input_Details!$K$5:$K$24, MATCH($A2117, Input_Details!$J$5:$J$24, 0), 0)","v":{"$error":"#N/A"}},"Fri","00:15:00","-","-",0,0,0,0,0,0,0,0,0,0,0,0,0,0,0,0,0,0,0,0,0,0,0,0,0,0,0,0,0,0,"-","-","-","-",{"$f":"INDEX(Input_Details!$L$5:$L$24, MATCH($A2117, Input_Details!$J$5:$J$24, 0), 0)","v":{"$error":"#N/A"}},"Fri","00:15:00",0,0,0,0,0,0,0,0,0,0,0,0,0,0,0,0,0,0,0,0,0,0,0,0,0,0,0,0,0,0,0,0,"-","-","-","-",null,"Fri","00:15:00",{"$f":"IF(OR(H2117=\"\", AU2117=\"\"), \"-\",SUM(H2117+AU2117))","v":{"$error":"#VALUE!"}},{"$error":"#VALUE!"},0,0,0,0,0,0,0,0,0,0,0,0,0,0,0,0,0,0,0,0,0,0,0,0,0,0,0,0,0,0,{"$f":"IF(OR(DW2117=\"-\", EC2117=\"-\", EI2117=\"-\", EI2117=0),\"-\",IF(OR(DW2117=\"-\", DW2117=0),CA2117,IF(EC2117=0,AN2117,SUM((AN2117*DW2117),(CA2117*EC2117))/EI2117)))","v":"-"},{"$f":"IFERROR(IF(OR(DW2117=\"-\", EC2117=\"-\", EI2117=\"-\", EI2117=0), \"-\", IF(AO2117=\"-\", CB2117, AVERAGE(AO2117,CB2117))), \"-\")","v":"-"},{"$f":"IF(OR(DW2117=\"-\", EC2117=\"-\",EI2117=\"-\", EI2117=0),\"-\",MIN(AP2117,CC2117))","v":"-"},{"$f":"IF(OR(DW2117=\"-\", EC2117=\"-\",EI2117=\"-\", EI2117=0),\"-\",MAX(AQ2117,CD2117))","v":"-"},"-","-","-","-","-","-",{"$f":"IF(AU2117=\"\", \"-\", AU2117)","v":0},{"$f":"IF(DX2117=\"-\", \"-\", SUM(AV2117:AW2117))","v":0},{"$f":"IF(DX2117=\"-\", \"-\", AX2117)","v":0},{"$f":"IF(DX2117=\"-\", \"-\", AY2117)","v":0},{"$f":"IF(DX2117=\"-\", \"-\", SUM(AZ2117:BF2117))","v":0},{"$f":"IF(DX2117=\"-\", \"-\", SUM(AU2117:BF2117))","v":0},{"$f":"IF(OR(DR2117=\"-\", DX2117=\"-\"), \"-\", SUM(DR2117,DX2117))","v":"-"},"-","-","-","-","-"]
[0,{"$f":"OFFSET(Input_Details!$Q$4,MATCH($A2142, Input_Details!$J$5:$J$24, 0), 4)","v":{"$error":"#N/A"}},{"$f":"INDEX(Input_Details!$H$5:$H$24, MATCH($A2142, Input_Details!$J$5:$J$24, 0), 0)","v":{"$error":"#N/A"}},{"$f":"INDEX(Input_Details!$I$5:$I$24, MATCH($A2142, Input_Details!$J$5:$J$24, 0), 0)","v":{"$error":"#N/A"}},{"$f":"INDEX(Input_Details!$K$5:$K$24, MATCH($A2142, Input_Details!$J$5:$J$24, 0), 0)","v":{"$error":"#N/A"}},"Fri","06:30:00","-","-",0,0,0,0,0,0,0,0,0,0,0,0,0,0,0,0,0,0,0,0,0,0,0,0,0,0,0,0,0,0,"-","-","-","-",{"$f":"INDEX(Input_Details!$L$5:$L$24, MATCH($A2142, Input_Details!$J$5:$J$24, 0), 0)","v":{"$error":"#N/A"}},"Fri","06:30:00",0,0,0,0,0,0,0,0,0,0,0,0,0,0,0,0,0,0,0,0,0,0,0,0,0,0,0,0,0,0,0,0,"-","-","-","-",null,"Fri","06:30:00",{"$error":"#VALUE!"},{"$error":"#VALUE!"},0,0,0,0,0,0,0,0,0,0,0,0,0,0,0,0,0,0,0,0,0,0,0,0,0,0,0,0,0,0,"-","-","-","-","-","-","-","-","-","-",0,0,0,0,0,0,"-","-","-","-","-","-"]
[0,{"$f":"OFFSET(Input_Details!$Q$4,MATCH($A2153, Input_Details!$J$5:$J$24, 0), 4)","v":{"$error":"#N/A"}},{"$f":"INDEX(Input_Details!$H$5:$H$24, MATCH($A2153, Input_Details!$J$5:$J$24, 0), 0)","v":{"$error":"#N/A"}},{"$f":"INDEX(Input_Details!$I$5:$I$24, MATCH($A2153, Input_Details!$J$5:$J$24, 0), 0)","v":{"$error":"#N/A"}},{"$f":"INDEX(Input_Details!$K$5:$K$24, MATCH($A2153, Input_Details!$J$5:$J$24, 0), 0)","v":{"$error":"#N/A"}},"Fri","09:15:00","-","-",0,0,0,0,0,0,0,0,0,0,0,0,0,0,0,0,0,0,0,0,0,0,0,0,0,0,0,0,0,0,"-","-","-","-",{"$f":"INDEX(Input_Details!$L$5:$L$24, MATCH($A2153, Input_Details!$J$5:$J$24, 0), 0)","v":{"$error":"#N/A"}},"Fri","09:15:00",0,0,0,0,0,0,0,0,0,0,0,0,0,0,0,0,0,0,0,0,0,0,0,0,0,0,0,0,0,0,0,0,"-","-","-","-",null,"Fri","09:15:00",{"$error":"#VALUE!"},{"$error":"#VALUE!"},0,0,0,0,0,0,0,0,0,0,0,0,0,0,0,0,0,0,0,0,0,0,0,0,0,0,0,0,0,0,"-","-","-","-","-","-","-","-","-","-",0,0,0,0,0,0,"-","-","-","-","-","-"]
[0,{"$f":"OFFSET(Input_Details!$Q$4,MATCH($A2183, Input_Details!$J$5:$J$24, 0), 4)","v":{"$error":"#N/A"}},{"$f":"INDEX(Input_Details!$H$5:$H$24, MATCH($A2183, Input_Details!$J$5:$J$24, 0), 0)","v":{"$error":"#N/A"}},{"$f":"INDEX(Input_Details!$I$5:$I$24, MATCH($A2183, Input_Details!$J$5:$J$24, 0), 0)","v":{"$error":"#N/A"}},{"$f":"INDEX(Input_Details!$K$5:$K$24, MATCH($A2183, Input_Details!$J$5:$J$24, 0), 0)","v":{"$error":"#N/A"}},"Fri","16:45:00","-","-",0,0,0,0,0,0,0,0,0,0,0,0,0,0,0,0,0,0,0,0,0,0,0,0,0,0,0,0,0,0,"-","-","-","-",{"$f":"INDEX(Input_Details!$L$5:$L$24, MATCH($A2183, Input_Details!$J$5:$J$24, 0), 0)","v":{"$error":"#N/A"}},"Fri","16:45:00",0,0,0,0,0,0,0,0,0,0,0,0,0,0,0,0,0,0,0,0,0,0,0,0,0,0,0,0,0,0,0,0,"-","-","-","-",null,"Fri","16:45:00",{"$error":"#VALUE!"},{"$error":"#VALUE!"},0,0,0,0,0,0,0,0,0,0,0,0,0,0,0,0,0,0,0,0,0,0,0,0,0,0,0,0,0,0,"-","-","-","-","-","-","-","-","-","-",0,0,0,0,0,0,"-","-","-","-","-","-"]
[0,{"$f":"OFFSET(Input_Details!$Q$4,MATCH($A2212, Input_Details!$J$5:$J$24, 0), 5)","v":{"$error":"#N/A"}},{"$f":"INDEX(Input_Details!$H$5:$H$24, MATCH($A2212, Input_Details!$J$5:$J$24, 0), 0)","v":{"$error":"#N/A"}},{"$f":"INDEX(Input_Details!$I$5:$I$24, MATCH($A2212, Input_Details!$J$5:$J$24, 0), 0)","v":{"$error":"#N/A"}},{"$f":"INDEX(Input_Details!$K$5:$K$24, MATCH($A2212, Input_Details!$J$5:$J$24, 0), 0)","v":{"$error":"#N/A"}},"Sat","00:00:00","-","-",0,0,0,0,0,0,0,0,0,0,0,0,0,0,0,0,0,0,0,0,0,0,0,0,0,0,0,0,0,0,"-","-","-","-",{"$f":"INDEX(Input_Details!$L$5:$L$24, MATCH($A2212, Input_Details!$J$5:$J$24, 0), 0)","v":{"$error":"#N/A"}},"Sat","00:00:00",0,0,0,0,0,0,0,0,0,0,0,0,0,0,0,0,0,0,0,0,0,0,0,0,0,0,0,0,0,0,0,0,"-","-","-","-",null,"Sat","00:00:00",{"$error":"#VALUE!"},{"$error":"#VALUE!"},0,0,0,0,0,0,0,0,0,0,0,0,0,0,0,0,0,0,0,0,0,0,0,0,0,0,0,0,0,0,"-","-","-","-",{"$f":"IF(H2212=\"\", \"-\", H2212)","v":"-"},"-",{"$f":"IF(DR2212=\"-\", \"-\", K2212)","v":"-"},"-","-","-",0,0,0,0,0,0,"-","-","-","-","-","-"]
[0,{"$f":"OFFSET(Input_Details!$Q$4,MATCH($A2236, Input_Details!$J$5:$J$24, 0), 5)","v":{"$error":"#N/A"}},{"$f":"INDEX(Input_Details!$H$5:$H$24, MATCH($A2236, Input_Details!$J$5:$J$24, 0), 0)","v":{"$error":"#N/A"}},{"$f":"INDEX(Input_Details!$I$5:$I$24, MATCH($A2236, Input_Details!$J$5:$J$24, 0), 0)","v":{"$error":"#N/A"}},{"$f":"INDEX(Input_Details!$K$5:$K$24, MATCH($A2236, Input_Details!$J$5:$J$24, 0), 0)","v":{"$error":"#N/A"}},"Sat","06:00:00","-","-",0,0,0,0,0,0,0,0,0,0,0,0,0,0,0,0,0,0,0,0,0,0,0,0,0,0,0,0,0,0,"-","-","-","-",{"$f":"INDEX(Input_Details!$L$5:$L$24, MATCH($A2236, Input_Details!$J$5:$J$24, 0), 0)","v":{"$error":"#N/A"}},"Sat","06:00:00",0,0,0,0,0,0,0,0,0,0,0,0,0,0,0,0,0,0,0,0,0,0,0,0,0,0,0,0,0,0,0,0,"-","-","-","-",null,"Sat","06:00:00",{"$error":"#VALUE!"},{"$error":"#VALUE!"},0,0,0,0,0,0,0,0,0,0,0,0,0,0,0,0,0,0,0,0,0,0,0,0,0,0,0,0,0,0,"-","-","-","-","-","-","-","-","-","-",0,0,0,0,0,0,"-","-","-","-","-","-"]
[0,{"$f":"OFFSET(Input_Details!$Q$4,MATCH($A2275, Input_Details!$J$5:$J$24, 0), 5)","v":{"$error":"#N/A"}},{"$f":"INDEX(Input_Details!$H$5:$H$24, MATCH($A2275, Input_Details!$J$5:$J$24, 0), 0)","v":{"$error":"#N/A"}},{"$f":"INDEX(Input_Details!$I$5:$I$24, MATCH($A2275, Input_Details!$J$5:$J$24, 0), 0)","v":{"$error":"#N/A"}},{"$f":"INDEX(Input_Details!$K$5:$K$24, MATCH($A2275, Input_Details!$J$5:$J$24, 0), 0)","v":{"$error":"#N/A"}},"Sat","15:45:00","-","-",0,0,0,0,0,0,0,0,0,0,0,0,0,0,0,0,0,0,0,0,0,0,0,0,0,0,0,0,0,0,"-","-","-","-",{"$f":"INDEX(Input_Details!$L$5:$L$24, MATCH($A2275, Input_Details!$J$5:$J$24, 0), 0)","v":{"$error":"#N/A"}},"Sat","15:45:00",0,0,0,0,0,0,0,0,0,0,0,0,0,0,0,0,0,0,0,0,0,0,0,0,0,0,0,0,0,0,0,0,"-","-","-","-",null,"Sat","15:45:00",{"$error":"#VALUE!"},{"$error":"#VALUE!"},0,0,0,0,0,0,0,0,0,0,0,0,0,0,0,0,0,0,0,0,0,0,0,0,0,0,0,0,0,0,"-","-","-","-","-","-","-","-","-","-",0,0,0,0,0,0,"-","-","-","-","-","-"]
[0,{"$f":"OFFSET(Input_Details!$Q$4,MATCH($A2299, Input_Details!$J$5:$J$24, 0), 5)","v":{"$error":"#N/A"}},{"$f":"INDEX(Input_Details!$H$5:$H$24, MATCH($A2299, Input_Details!$J$5:$J$24, 0), 0)","v":{"$error":"#N/A"}},{"$f":"INDEX(Input_Details!$I$5:$I$24, MATCH($A2299, Input_Details!$J$5:$J$24, 0), 0)","v":{"$error":"#N/A"}},{"$f":"INDEX(Input_Details!$K$5:$K$24, MATCH($A2299, Input_Details!$J$5:$J$24, 0), 0)","v":{"$error":"#N/A"}},"Sat","21:45:00","-","-",0,0,0,0,0,0,0,0,0,0,0,0,0,0,0,0,0,0,0,0,0,0,0,0,0,0,0,0,0,0,"-","-","-","-",{"$f":"INDEX(Input_Details!$L$5:$L$24, MATCH($A2299, Input_Details!$J$5:$J$24, 0), 0)","v":{"$error":"#N/A"}},"Sat","21:45:00",0,0,0,0,0,0,0,0,0,0,0,0,0,0,0,0,0,0,0,0,0,0,0,0,0,0,0,0,0,0,0,0,"-","-","-","-",null,"Sat","21:45:00",{"$error":"#VALUE!"},{"$error":"#VALUE!"},0,0,0,0,0,0,0,0,0,0,0,0,0,0,0,0,0,0,0,0,0,0,0,0,0,0,0,0,0,0,"-","-","-","-","-","-","-","-","-","-",0,0,0,0,0,0,"-","-","-","-","-","-"]
[0,{"$f":"OFFSET(Input_Details!$Q$4,MATCH($A2316, Input_Details!$J$5:$J$24, 0), 6)","v":{"$error":"#N/A"}},{"$f":"INDEX(Input_Details!$H$5:$H$24, MATCH($A2316, Input_Details!$J$5:$J$24, 0), 0)","v":{"$error":"#N/A"}},{"$f":"INDEX(Input_Details!$I$5:$I$24, MATCH($A2316, Input_Details!$J$5:$J$24, 0), 0)","v":{"$error":"#N/A"}},{"$f":"INDEX(Input_Details!$K$5:$K$24, MATCH($A2316, Input_Details!$J$5:$J$24, 0), 0)","v":{"$error":"#N/A"}},"Sun","02:00:00","-","-",0,0,0,0,0,0,0,0,0,0,0,0,0,0,0,0,0,0,0,0,0,0,0,0,0,0,0,0,0,0,"-","-","-","-",{"$f":"INDEX(Input_Details!$L$5:$L$24, MATCH($A2316, Input_Details!$J$5:$J$24, 0), 0)","v":{"$error":"#N/A"}},"Sun","02:00:00",0,0,0,0,0,0,0,0,0,0,0,0,0,0,0,0,0,0,0,0,0,0,0,0,0,0,0,0,0,0,0,0,"-","-","-","-",null,"Sun","02:00:00",{"$error":"#VALUE!"},{"$error":"#VALUE!"},0,0,0,0,0,0,0,0,0,0,0,0,0,0,0,0,0,0,0,0,0,0,0,0,0,0,0,0,0,0,"-","-","-","-","-","-","-","-","-","-",0,0,0,0,0,0,"-","-","-","-","-","-"]
[0,{"$f":"OFFSET(Input_Details!$Q$4,MATCH($A2345, Input_Details!$J$5:$J$24, 0), 6)","v":{"$error":"#N/A"}},{"$f":"INDEX(Input_Details!$H$5:$H$24, MATCH($A2345, Input_Details!$J$5:$J$24, 0), 0)","v":{"$error":"#N/A"}},{"$f":"INDEX(Input_Details!$I$5:$I$24, MATCH($A2345, Input_Details!$J$5:$J$24, 0), 0)","v":{"$error":"#N/A"}},{"$f":"INDEX(Input_Details!$K$5:$K$24, MATCH($A2345, Input_Details!$J$5:$J$24, 0), 0)","v":{"$error":"#N/A"}},"Sun","09:15:00","-","-",0,0,0,0,0,0,0,0,0,0,0,0,0,0,0,0,0,0,0,0,0,0,0,0,0,0,0,0,0,0,"-","-","-","-",{"$f":"INDEX(Input_Details!$L$5:$L$24, MATCH($A2345, Input_Details!$J$5:$J$24, 0), 0)","v":{"$error":"#N/A"}},"Sun","09:15:00",0,0,0,0,0,0,0,0,0,0,0,0,0,0,0,0,0,0,0,0,0,0,0,0,0,0,0,0,0,0,0,0,"-","-","-","-",null,"Sun","09:15:00",{"$error":"#VALUE!"},{"$error":"#VALUE!"},0,0,0,0,0,0,0,0,0,0,0,0,0,0,0,0,0,0,0,0,0,0,0,0,0,0,0,0,0,0,"-","-","-","-","-","-","-","-","-","-",0,0,0,0,0,0,"-","-","-","-","-","-"]
[0,{"$f":"OFFSET(Input_Details!$Q$4,MATCH($A2382, Input_Details!$J$5:$J$24, 0), 6)","v":{"$error":"#N/A"}},{"$f":"INDEX(Input_Details!$H$5:$H$24, MATCH($A2382, Input_Details!$J$5:$J$24, 0), 0)","v":{"$error":"#N/A"}},{"$f":"INDEX(Input_Details!$I$5:$I$24, MATCH($A2382, Input_Details!$J$5:$J$24, 0), 0)","v":{"$error":"#N/A"}},{"$f":"INDEX(Input_Details!$K$5:$K$24, MATCH($A2382, Input_Details!$J$5:$J$24, 0), 0)","v":{"$error":"#N/A"}},"Sun","18:30:00","-","-",0,0,0,0,0,0,0,0,0,0,0,0,0,0,0,0,0,0,0,0,0,0,0,0,0,0,0,0,0,0,"-","-","-","-",{"$f":"INDEX(Input_Details!$L$5:$L$24, MATCH($A2382, Input_Details!$J$5:$J$24, 0), 0)","v":{"$error":"#N/A"}},"Sun","18:30:00",0,0,0,0,0,0,0,0,0,0,0,0,0,0,0,0,0,0,0,0,0,0,0,0,0,0,0,0,0,0,0,0,"-","-","-","-",null,"Sun","18:30:00",{"$error":"#VALUE!"},{"$error":"#VALUE!"},0,0,0,0,0,0,0,0,0,0,0,0,0,0,0,0,0,0,0,0,0,0,0,0,0,0,0,0,0,0,"-","-","-","-","-","-","-","-","-","-",0,0,0,0,0,0,"-","-","-","-","-","-"]
[0,"Weekday Average",{"$f":"INDEX(Input_Details!$H$5:$H$24, MATCH($A2412, Input_Details!$J$5:$J$24, 0), 0)","v":{"$error":"#N/A"}},{"$f":"INDEX(Input_Details!$I$5:$I$24, MATCH($A2412, Input_Details!$J$5:$J$24, 0), 0)","v":{"$error":"#N/A"}},{"$f":"INDEX(Input_Details!$K$5:$K$24, MATCH($A2412, Input_Details!$J$5:$J$24, 0), 0)","v":{"$error":"#N/A"}},"WD Ave","02:00:00",{"$f":"IF(AND(H1740=\"\",H1836=\"\",H1932=\"\",H2028=\"\",H2124=\"\"), \"-\", IF(H1740+H1836+H1932+H2028+H2124=0,0,ROUND(AVERAGE(H1740,H1836,H1932,H2028,H2124), 0)))","v":{"$error":"#VALUE!"}},{"$error":"#VALUE!"},0,0,0,0,0,0,0,0,0,0,{"$error":"#VALUE!"},{"$error":"#VALUE!"},{"$error":"#VALUE!"},{"$error":"#VALUE!"},{"$error":"#VALUE!"},{"$error":"#VALUE!"},{"$error":"#VALUE!"},{"$error":"#VALUE!"},{"$error":"#VALUE!"},{"$error":"#VALUE!"},{"$error":"#VALUE!"},{"$error":"#VALUE!"},{"$error":"#VALUE!"},{"$error":"#VALUE!"},{"$error":"#VALUE!"},{"$error":"#VALUE!"},{"$error":"#VALUE!"},{"$error":"#VALUE!"},{"$error":"#VALUE!"},{"$error":"#VALUE!"},{"$f":"IF(SUM(H2412:S2412)=0,\"-\",AVERAGEIF(G1732:G2211,$G2412,AN1732:AN2211))","v":{"$error":"#VALUE!"}},{"$f":"IFERROR(IF(SUM(H2412:S2412)=0,\"-\",AVERAGEIF(G1732:G2211,G2412,AO1732:AO2211)), \"-\")","v":"-"},{"$error":"#VALUE!"},{"$error":"#VALUE!"},{"$f":"INDEX(Input_Details!$L$5:$L$24, MATCH($A2412, Input_Details!$J$5:$J$24, 0), 0)","v":{"$error":"#N/A"}},"WD Ave","02:00:00",{"$f":"IF(AND(AU1740=\"\",AU1836=\"\",AU1932=\"\",AU2028=\"\",AU2124=\"\"), \"-\", IF(AU1740+AU1836+AU1932+AU2028+AU2124=0,0,ROUND(AVERAGE(AU1740,AU1836,AU1932,AU2028,AU2124), 0)))","v":0},0,0,0,0,0,0,0,0,0,0,0,0,0,0,0,0,0,0,0,0,0,0,0,0,0,0,0,0,0,0,0,{"$f":"IF(SUM(AU2412:BF2412)=0,\"-\",AVERAGEIF(AT1732:AT2211,$G2412,CA1732:CA2211))","v":"-"},{"$f":"IFERROR(IF(SUM(AU2412:BF2412)=0,\"-\",AVERAGEIF(AT1732:AT2211,AT2412,CB1732:CB2211)), \"-\")","v":"-"},"-","-",null,"WD Ave","02:00:00",{"$f":"IF(AND(CH1740=\"-\",CH1836=\"-\",CH1932=\"-\",CH2028=\"-\",CH2124=\"-\"), \"-\", ROUND(AVERAGE(CH1740,CH1836,CH1932,CH2028,CH2124), 0))","v":{"$error":"#VALUE!"}},{"$error":"#VALUE!"},0,0,0,0,0,0,0,0,0,0,{"$f":"IF(AND(CT1740=\"-\",CT1836=\"-\",CT1932=\"-\",CT2028=\"-\",CT2124=\"-\"), \"-\", IF(SUM($CH2412:$CS2412)=0, 0, ROUND(AVERAGE(CT1740,CT1836,CT1932,CT2028,CT2124), 0)))","v":{"$error":"#VALUE!"}},{"$error":"#VALUE!"},{"$error":"#VALUE!"},{"$error":"#VALUE!"},{"$error":"#VALUE!"},{"$error":"#VALUE!"},{"$error":"#VALUE!"},{"$error":"#VALUE!"},{"$error":"#VALUE!"},{"$error":"#VALUE!"},{"$error":"#VALUE!"},{"$error":"#VALUE!"},{"$error":"#VALUE!"},{"$error":"#VALUE!"},{"$error":"#VALUE!"},{"$error":"#VALUE!"},{"$error":"#VALUE!"},{"$error":"#VALUE!"},{"$error":"#VALUE!"},{"$error":"#VALUE!"},{"$error":"#VALUE!"},"-",{"$error":"#VALUE!"},{"$error":"#VALUE!"},{"$error":"#VALUE!"},{"$error":"#VALUE!"},{"$error":"#VALUE!"},{"$error":"#VALUE!"},{"$error":"#VALUE!"},{"$error":"#VALUE!"},0,0,0,0,0,0,{"$error":"#VALUE!"},{"$error":"#VALUE!"},{"$error":"#VALUE!"},{"$error":"#VALUE!"},{"$error":"#VALUE!"},{"$error":"#VALUE!"}]
[0,"Weekday Average",{"$f":"INDEX(Input_Details!$H$5:$H$24, MATCH($A2418, Input_Details!$J$5:$J$24, 0), 0)","v":{"$error":"#N/A"}},{"$f":"INDEX(Input_Details!$I$5:$I$24, MATCH($A2418, Input_Details!$J$5:$J$24, 0), 0)","v":{"$error":"#N/A"}},{"$f":"INDEX(Input_Details!$K$5:$K$24, MATCH($A2418, Input_Details!$J$5:$J$24, 0), 0)","v":{"$error":"#N/A"}},"WD Ave","03:30:00",{"$f":"IF(AND(H1746=\"\",H1842=\"\",H1938=\"\",H2034=\"\",H2130=\"\"), \"-\", IF(H1746+H1842+H1938+H2034+H2130=0,0,ROUND(AVERAGE(H1746,H1842,H1938,H2034,H2130), 0)))","v":{"$error":"#VALUE!"}},{"$error":"#VALUE!"},0,0,0,0,0,0,0,0,0,0,{"$error":"#VALUE!"},{"$error":"#VALUE!"},{"$error":"#VALUE!"},{"$error":"#VALUE!"},{"$error":"#VALUE!"},{"$error":"#VALUE!"},{"$error":"#VALUE!"},{"$error":"#VALUE!"},{"$error":"#VALUE!"},{"$error":"#VALUE!"},{"$error":"#VALUE!"},{"$error":"#VALUE!"},{"$error":"#VALUE!"},{"$error":"#VALUE!"},{"$error":"#VALUE!"},{"$error":"#VALUE!"},{"$error":"#VALUE!"},{"$error":"#VALUE!"},{"$error":"#VALUE!"},{"$error":"#VALUE!"},{"$f":"IF(SUM(H2418:S2418)=0,\"-\",AVERAGEIF(G1732:G2211,$G2418,AN1732:AN2211))","v":{"$error":"#VALUE!"}},{"$f":"IFERROR(IF(SUM(H2418:S2418)=0,\"-\",AVERAGEIF(G1732:G2211,G2418,AO1732:AO2211)), \"-\")","v":"-"},{"$error":"#VALUE!"},{"$error":"#VALUE!"},{"$f":"INDEX(Input_Details!$L$5:$L$24, MATCH($A2418, Input_Details!$J$5:$J$24, 0), 0)","v":{"$error":"#N/A"}},"WD Ave","03:30:00",{"$f":"IF(AND(AU1746=\"\",AU1842=\"\",AU1938=\"\",AU2034=\"\",AU2130=\"\"), \"-\", IF(AU1746+AU1842+AU1938+AU2034+AU2130=0,0,ROUND(AVERAGE(AU1746,AU1842,AU1938,AU2034,AU2130), 0)))","v":0},0,0,0,0,0,0,0,0,0,0,0,0,0,0,0,0,0,0,0,0,0,0,0,0,0,0,0,0,0,0,0,{"$f":"IF(SUM(AU2418:BF2418)=0,\"-\",AVERAGEIF(AT1732:AT2211,$G2418,CA1732:CA2211))","v":"-"},{"$f":"IFERROR(IF(SUM(AU2418:BF2418)=0,\"-\",AVERAGEIF(AT1732:AT2211,AT2418,CB1732:CB2211)), \"-\")","v":"-"},"-","-",null,"WD Ave","03:30:00",{"$f":"IF(AND(CH1746=\"-\",CH1842=\"-\",CH1938=\"-\",CH2034=\"-\",CH2130=\"-\"), \"-\", ROUND(AVERAGE(CH1746,CH1842,CH1938,CH2034,CH2130), 0))","v":{"$error":"#VALUE!"}},{"$error":"#VALUE!"},0,0,0,0,0,0,0,0,0,0,{"$f":"IF(AND(CT1746=\"-\",CT1842=\"-\",CT1938=\"-\",CT2034=\"-\",CT2130=\"-\"), \"-\", IF(SUM($CH2418:$CS2418)=0, 0, ROUND(AVERAGE(CT1746,CT1842,CT1938,CT2034,CT2130), 0)))","v":{"$error":"#VALUE!"}},{"$error":"#VALUE!"},{"$error":"#VALUE!"},{"$error":"#VALUE!"},{"$error":"#VALUE!"},{"$error":"#VALUE!"},{"$error":"#VALUE!"},{"$error":"#VALUE!"},{"$error":"#VALUE!"},{"$error":"#VALUE!"},{"$error":"#VALUE!"},{"$error":"#VALUE!"},{"$error":"#VALUE!"},{"$error":"#VALUE!"},{"$error":"#VALUE!"},{"$error":"#VALUE!"},{"$error":"#VALUE!"},{"$error":"#VALUE!"},{"$error":"#VALUE!"},{"$error":"#VALUE!"},{"$error":"#VALUE!"},"-",{"$error":"#VALUE!"},{"$error":"#VALUE!"},{"$error":"#VALUE!"},{"$error":"#VALUE!"},{"$error":"#VALUE!"},{"$error":"#VALUE!"},{"$error":"#VALUE!"},{"$error":"#VALUE!"},0,0,0,0,0,0,{"$error":"#VALUE!"},{"$error":"#VALUE!"},{"$error":"#VALUE!"},{"$error":"#VALUE!"},{"$error":"#VALUE!"},{"$error":"#VALUE!"}]
[0,"Weekday Average",{"$f":"INDEX(Input_Details!$H$5:$H$24, MATCH($A2449, Input_Details!$J$5:$J$24, 0), 0)","v":{"$error":"#N/A"}},{"$f":"INDEX(Input_Details!$I$5:$I$24, MATCH($A2449, Input_Details!$J$5:$J$24, 0), 0)","v":{"$error":"#N/A"}},{"$f":"INDEX(Input_Details!$K$5:$K$24, MATCH($A2449, Input_Details!$J$5:$J$24, 0), 0)","v":{"$error":"#N/A"}},"WD Ave","11:15:00",{"$f":"IF(AND(H1777=\"\",H1873=\"\",H1969=\"\",H2065=\"\",H2161=\"\"), \"-\", IF(H1777+H1873+H1969+H2065+H2161=0,0,ROUND(AVERAGE(H1777,H1873,H1969,H2065,H2161), 0)))","v":{"$error":"#VALUE!"}},{"$error":"#VALUE!"},0,0,0,0,0,0,0,0,0,0,{"$error":"#VALUE!"},{"$error":"#VALUE!"},{"$error":"#VALUE!"},{"$error":"#VALUE!"},{"$error":"#VALUE!"},{"$error":"#VALUE!"},{"$error":"#VALUE!"},{"$error":"#VALUE!"},{"$error":"#VALUE!"},{"$error":"#VALUE!"},{"$error":"#VALUE!"},{"$error":"#VALUE!"},{"$error":"#VALUE!"},{"$error":"#VALUE!"},{"$error":"#VALUE!"},{"$error":"#VALUE!"},{"$error":"#VALUE!"},{"$error":"#VALUE!"},{"$error":"#VALUE!"},{"$error":"#VALUE!"},{"$f":"IF(SUM(H2449:S2449)=0,\"-\",AVERAGEIF(G1732:G2211,$G2449,AN1732:AN2211))","v":{"$error":"#VALUE!"}},{"$f":"IFERROR(IF(SUM(H2449:S2449)=0,\"-\",AVERAGEIF(G1732:G2211,G2449,AO1732:AO2211)), \"-\")","v":"-"},{"$error":"#VALUE!"},{"$error":"#VALUE!"},{"$f":"INDEX(Input_Details!$L$5:$L$24, MATCH($A2449, Input_Details!$J$5:$J$24, 0), 0)","v":{"$error":"#N/A"}},"WD Ave","11:15:00",{"$f":"IF(AND(AU1777=\"\",AU1873=\"\",AU1969=\"\",AU2065=\"\",AU2161=\"\"), \"-\", IF(AU1777+AU1873+AU1969+AU2065+AU2161=0,0,ROUND(AVERAGE(AU1777,AU1873,AU1969,AU2065,AU2161), 0)))","v":0},0,0,0,0,0,0,0,0,0,0,0,0,0,0,0,0,0,0,0,0,0,0,0,0,0,0,0,0,0,0,0,{"$f":"IF(SUM(AU2449:BF2449)=0,\"-\",AVERAGEIF(AT1732:AT2211,$G2449,CA1732:CA2211))","v":"-"},{"$f":"IFERROR(IF(SUM(AU2449:BF2449)=0,\"-\",AVERAGEIF(AT1732:AT2211,AT2449,CB1732:CB2211)), \"-\")","v":"-"},"-","-",null,"WD Ave","11:15:00",{"$f":"IF(AND(CH1777=\"-\",CH1873=\"-\",CH1969=\"-\",CH2065=\"-\",CH2161=\"-\"), \"-\", ROUND(AVERAGE(CH1777,CH1873,CH1969,CH2065,CH2161), 0))","v":{"$error":"#VALUE!"}},{"$error":"#VALUE!"},0,0,0,0,0,0,0,0,0,0,{"$f":"IF(AND(CT1777=\"-\",CT1873=\"-\",CT1969=\"-\",CT2065=\"-\",CT2161=\"-\"), \"-\", IF(SUM($CH2449:$CS2449)=0, 0, ROUND(AVERAGE(CT1777,CT1873,CT1969,CT2065,CT2161), 0)))","v":{"$error":"#VALUE!"}},{"$error":"#VALUE!"},{"$error":"#VALUE!"},{"$error":"#VALUE!"},{"$error":"#VALUE!"},{"$error":"#VALUE!"},{"$error":"#VALUE!"},{"$error":"#VALUE!"},{"$error":"#VALUE!"},{"$error":"#VALUE!"},{"$error":"#VALUE!"},{"$error":"#VALUE!"},{"$error":"#VALUE!"},{"$error":"#VALUE!"},{"$error":"#VALUE!"},{"$error":"#VALUE!"},{"$error":"#VALUE!"},{"$error":"#VALUE!"},{"$error":"#VALUE!"},{"$error":"#VALUE!"},{"$error":"#VALUE!"},"-",{"$error":"#VALUE!"},{"$error":"#VALUE!"},{"$error":"#VALUE!"},{"$error":"#VALUE!"},{"$error":"#VALUE!"},{"$error":"#VALUE!"},{"$error":"#VALUE!"},{"$error":"#VALUE!"},0,0,0,0,0,0,{"$error":"#VALUE!"},{"$error":"#VALUE!"},{"$error":"#VALUE!"},{"$error":"#VALUE!"},{"$error":"#VALUE!"},{"$error":"#VALUE!"}]
[0,"Weekday Average",{"$f":"INDEX(Input_Details!$H$5:$H$24, MATCH($A2481, Input_Details!$J$5:$J$24, 0), 0)","v":{"$error":"#N/A"}},{"$f":"INDEX(Input_Details!$I$5:$I$24, MATCH($A2481, Input_Details!$J$5:$J$24, 0), 0)","v":{"$error":"#N/A"}},{"$f":"INDEX(Input_Details!$K$5:$K$24, MATCH($A2481, Input_Details!$J$5:$J$24, 0), 0)","v":{"$error":"#N/A"}},"WD Ave","19:15:00",{"$f":"IF(AND(H1809=\"\",H1905=\"\",H2001=\"\",H2097=\"\",H2193=\"\"), \"-\", IF(H1809+H1905+H2001+H2097+H2193=0,0,ROUND(AVERAGE(H1809,H1905,H2001,H2097,H2193), 0)))","v":{"$error":"#VALUE!"}},{"$error":"#VALUE!"},0,0,0,0,0,0,0,0,0,0,{"$error":"#VALUE!"},{"$error":"#VALUE!"},{"$error":"#VALUE!"},{"$error":"#VALUE!"},{"$error":"#VALUE!"},{"$error":"#VALUE!"},{"$error":"#VALUE!"},{"$error":"#VALUE!"},{"$error":"#VALUE!"},{"$error":"#VALUE!"},{"$error":"#VALUE!"},{"$error":"#VALUE!"},{"$error":"#VALUE!"},{"$error":"#VALUE!"},{"$error":"#VALUE!"},{"$error":"#VALUE!"},{"$error":"#VALUE!"},{"$error":"#VALUE!"},{"$error":"#VALUE!"},{"$error":"#VALUE!"},{"$f":"IF(SUM(H2481:S2481)=0,\"-\",AVERAGEIF(G1732:G2211,$G2481,AN1732:AN2211))","v":{"$error":"#VALUE!"}},{"$f":"IFERROR(IF(SUM(H2481:S2481)=0,\"-\",AVERAGEIF(G1732:G2211,G2481,AO1732:AO2211)), \"-\")","v":"-"},{"$error":"#VALUE!"},{"$error":"#VALUE!"},{"$f":"INDEX(Input_Details!$L$5:$L$24, MATCH($A2481, Input_Details!$J$5:$J$24, 0), 0)","v":{"$error":"#N/A"}},"WD Ave","19:15:00",{"$f":"IF(AND(AU1809=\"\",AU1905=\"\",AU2001=\"\",AU2097=\"\",AU2193=\"\"), \"-\", IF(AU1809+AU1905+AU2001+AU2097+AU2193=0,0,ROUND(AVERAGE(AU1809,AU1905,AU2001,AU2097,AU2193), 0)))","v":0},0,0,0,0,0,0,0,0,0,0,0,0,0,0,0,0,0,0,0,0,0,0,0,0,0,0,0,0,0,0,0,{"$f":"IF(SUM(AU2481:BF2481)=0,\"-\",AVERAGEIF(AT1732:AT2211,$G2481,CA1732:CA2211))","v":"-"},{"$f":"IFERROR(IF(SUM(AU2481:BF2481)=0,\"-\",AVERAGEIF(AT1732:AT2211,AT2481,CB1732:CB2211)), \"-\")","v":"-"},"-","-",null,"WD Ave","19:15:00",{"$f":"IF(AND(CH1809=\"-\",CH1905=\"-\",CH2001=\"-\",CH2097=\"-\",CH2193=\"-\"), \"-\", ROUND(AVERAGE(CH1809,CH1905,CH2001,CH2097,CH2193), 0))","v":{"$error":"#VALUE!"}},{"$error":"#VALUE!"},0,0,0,0,0,0,0,0,0,0,{"$f":"IF(AND(CT1809=\"-\",CT1905=\"-\",CT2001=\"-\",CT2097=\"-\",CT2193=\"-\"), \"-\", IF(SUM($CH2481:$CS2481)=0, 0, ROUND(AVERAGE(CT1809,CT1905,CT2001,CT2097,CT2193), 0)))","v":{"$error":"#VALUE!"}},{"$error":"#VALUE!"},{"$error":"#VALUE!"},{"$error":"#VALUE!"},{"$error":"#VALUE!"},{"$error":"#VALUE!"},{"$error":"#VALUE!"},{"$error":"#VALUE!"},{"$error":"#VALUE!"},{"$error":"#VALUE!"},{"$error":"#VALUE!"},{"$error":"#VALUE!"},{"$error":"#VALUE!"},{"$error":"#VALUE!"},{"$error":"#VALUE!"},{"$error":"#VALUE!"},{"$error":"#VALUE!"},{"$error":"#VALUE!"},{"$error":"#VALUE!"},{"$error":"#VALUE!"},{"$error":"#VALUE!"},"-",{"$error":"#VALUE!"},{"$error":"#VALUE!"},{"$error":"#VALUE!"},{"$error":"#VALUE!"},{"$error":"#VALUE!"},{"$error":"#VALUE!"},{"$error":"#VALUE!"},{"$error":"#VALUE!"},0,0,0,0,0,0,{"$error":"#VALUE!"},{"$error":"#VALUE!"},{"$error":"#VALUE!"},{"$error":"#VALUE!"},{"$error":"#VALUE!"},{"$error":"#VALUE!"}]
[0,"7-Day Average",{"$f":"INDEX(Input_Details!$H$5:$H$24, MATCH($A2512, Input_Details!$J$5:$J$24, 0), 0)","v":{"$error":"#N/A"}},{"$f":"INDEX(Input_Details!$I$5:$I$24, MATCH($A2512, Input_Details!$J$5:$J$24, 0), 0)","v":{"$error":"#N/A"}},{"$f":"INDEX(Input_Details!$K$5:$K$24, MATCH($A2512, Input_Details!$J$5:$J$24, 0), 0)","v":{"$error":"#N/A"}},"7 Day Ave","03:00:00",{"$f":"IF(AND(H1744=\"\",H1840=\"\",H1936=\"\",H2032=\"\",H2128=\"\",H2224=\"\",H2320=\"\"), \"-\", IF(H1744+H1840+H1936+H2032+H2128+H2224+H2320=0,0,ROUND(AVERAGE(H1744,H1840,H1936,H2032,H2128,H2224,H2320),0)))","v":{"$error":"#VALUE!"}},{"$error":"#VALUE!"},0,0,0,0,0,0,0,0,0,0,{"$error":"#VALUE!"},{"$error":"#VALUE!"},{"$error":"#VALUE!"},{"$error":"#VALUE!"},{"$error":"#VALUE!"},{"$error":"#VALUE!"},{"$error":"#VALUE!"},{"$error":"#VALUE!"},{"$error":"#VALUE!"},{"$error":"#VALUE!"},{"$error":"#VALUE!"},{"$error":"#VALUE!"},{"$error":"#VALUE!"},{"$error":"#VALUE!"},{"$error":"#VALUE!"},{"$error":"#VALUE!"},{"$error":"#VALUE!"},{"$error":"#VALUE!"},{"$error":"#VALUE!"},{"$error":"#VALUE!"},{"$f":"IF(SUM(H2512:S2512)=0,\"-\",AVERAGEIF(G1732:G2403,$G2512,AN1732:AN2403))","v":{"$error":"#VALUE!"}},{"$f":"IFERROR(IF(SUM(H2512:S2512)=0,\"-\",AVERAGEIF(G1732:G2403,G2512,AO1732:AO2403)), \"-\")","v":"-"},{"$error":"#VALUE!"},{"$error":"#VALUE!"},{"$f":"INDEX(Input_Details!$L$5:$L$24, MATCH($A2512, Input_Details!$J$5:$J$24, 0), 0)","v":{"$error":"#N/A"}},"7 Day Ave","03:00:00",{"$f":"IF(AND(AU1744=\"\",AU1840=\"\",AU1936=\"\",AU2032=\"\",AU2128=\"\",AU2224=\"\",AU2320=\"\"), \"-\", IF(AU1744+AU1840+AU1936+AU2032+AU2128+AU2224+AU2320=0,0,ROUND(AVERAGE(AU1744,AU1840,AU1936,AU2032,AU2128,AU2224,AU2320),0)))","v":0},0,0,0,0,0,0,0,0,0,0,0,0,0,0,0,0,0,0,0,0,0,0,0,0,0,0,0,0,0,0,0,{"$f":"IF(SUM(AU2512:BF2512)=0,\"-\",AVERAGEIF(AT1732:AT2403,$G2512,CA1732:CA2403))","v":"-"},{"$f":"IFERROR(IF(SUM(AU2512:BF2512)=0,\"-\",AVERAGEIF(AT1732:AT2403,AT2512,CB1732:CB2403)), \"-\")","v":"-"},"-","-",null,"7 Day Ave","03:00:00",{"$f":"IF(AND(CH1744=\"-\",CH1840=\"-\",CH1936=\"-\",CH2032=\"-\",CH2128=\"-\",CH2224=\"-\",CH2320=\"-\"), \"-\", ROUND(AVERAGE(CH1744,CH1840,CH1936,CH2032,CH2128,CH2224,CH2320),0))","v":{"$error":"#VALUE!"}},{"$error":"#VALUE!"},0,0,0,0,0,0,0,0,0,0,{"$f":"IF(AND(CT1744=\"-\",CT1840=\"-\",CT1936=\"-\",CT2032=\"-\",CT2128=\"-\",CT2224=\"-\",CT2320=\"-\"), \"-\", IF(SUM($CH2512:$CS2512)=0, 0, ROUND(AVERAGE(CT1744,CT1840,CT1936,CT2032,CT2128,CT2224,CT2320),0)))","v":{"$error":"#VALUE!"}},{"$error":"#VALUE!"},{"$error":"#VALUE!"},{"$error":"#VALUE!"},{"$error":"#VALUE!"},{"$error":"#VALUE!"},{"$error":"#VALUE!"},{"$error":"#VALUE!"},{"$error":"#VALUE!"},{"$error":"#VALUE!"},{"$error":"#VALUE!"},{"$error":"#VALUE!"},{"$error":"#VALUE!"},{"$error":"#VALUE!"},{"$error":"#VALUE!"},{"$error":"#VALUE!"},{"$error":"#VALUE!"},{"$error":"#VALUE!"},{"$error":"#VALUE!"},{"$error":"#VALUE!"},{"$error":"#VALUE!"},"-",{"$error":"#VALUE!"},{"$error":"#VALUE!"},{"$error":"#VALUE!"},{"$error":"#VALUE!"},{"$error":"#VALUE!"},{"$error":"#VALUE!"},{"$error":"#VALUE!"},{"$error":"#VALUE!"},0,0,0,0,0,0,{"$error":"#VALUE!"},{"$error":"#VALUE!"},{"$error":"#VALUE!"},{"$error":"#VALUE!"},{"$error":"#VALUE!"},{"$error":"#VALUE!"}]
[0,"7-Day Average",{"$f":"INDEX(Input_Details!$H$5:$H$24, MATCH($A2545, Input_Details!$J$5:$J$24, 0), 0)","v":{"$error":"#N/A"}},{"$f":"INDEX(Input_Details!$I$5:$I$24, MATCH($A2545, Input_Details!$J$5:$J$24, 0), 0)","v":{"$error":"#N/A"}},{"$f":"INDEX(Input_Details!$K$5:$K$24, MATCH($A2545, Input_Details!$J$5:$J$24, 0), 0)","v":{"$error":"#N/A"}},"7 Day Ave","11:15:00",{"$f":"IF(AND(H1777=\"\",H1873=\"\",H1969=\"\",H2065=\"\",H2161=\"\",H2257=\"\",H2353=\"\"), \"-\", IF(H1777+H1873+H1969+H2065+H2161+H2257+H2353=0,0,ROUND(AVERAGE(H1777,H1873,H1969,H2065,H2161,H2257,H2353),0)))","v":{"$error":"#VALUE!"}},{"$error":"#VALUE!"},0,0,0,0,0,0,0,0,0,0,{"$error":"#VALUE!"},{"$error":"#VALUE!"},{"$error":"#VALUE!"},{"$error":"#VALUE!"},{"$error":"#VALUE!"},{"$error":"#VALUE!"},{"$error":"#VALUE!"},{"$error":"#VALUE!"},{"$error":"#VALUE!"},{"$error":"#VALUE!"},{"$error":"#VALUE!"},{"$error":"#VALUE!"},{"$error":"#VALUE!"},{"$error":"#VALUE!"},{"$error":"#VALUE!"},{"$error":"#VALUE!"},{"$error":"#VALUE!"},{"$error":"#VALUE!"},{"$error":"#VALUE!"},{"$error":"#VALUE!"},{"$f":"IF(SUM(H2545:S2545)=0,\"-\",AVERAGEIF(G1732:G2403,$G2545,AN1732:AN2403))","v":{"$error":"#VALUE!"}},{"$f":"IFERROR(IF(SUM(H2545:S2545)=0,\"-\",AVERAGEIF(G1732:G2403,G2545,AO1732:AO2403)), \"-\")","v":"-"},{"$error":"#VALUE!"},{"$error":"#VALUE!"},{"$f":"INDEX(Input_Details!$L$5:$L$24, MATCH($A2545, Input_Details!$J$5:$J$24, 0), 0)","v":{"$error":"#N/A"}},"7 Day Ave","11:15:00",{"$f":"IF(AND(AU1777=\"\",AU1873=\"\",AU1969=\"\",AU2065=\"\",AU2161=\"\",AU2257=\"\",AU2353=\"\"), \"-\", IF(AU1777+AU1873+AU1969+AU2065+AU2161+AU2257+AU2353=0,0,ROUND(AVERAGE(AU1777,AU1873,AU1969,AU2065,AU2161,AU2257,AU2353),0)))","v":0},0,0,0,0,0,0,0,0,0,0,0,0,0,0,0,0,0,0,0,0,0,0,0,0,0,0,0,0,0,0,0,{"$f":"IF(SUM(AU2545:BF2545)=0,\"-\",AVERAGEIF(AT1732:AT2403,$G2545,CA1732:CA2403))","v":"-"},{"$f":"IFERROR(IF(SUM(AU2545:BF2545)=0,\"-\",AVERAGEIF(AT1732:AT2403,AT2545,CB1732:CB2403)), \"-\")","v":"-"},"-","-",null,"7 Day Ave","11:15:00",{"$f":"IF(AND(CH1777=\"-\",CH1873=\"-\",CH1969=\"-\",CH2065=\"-\",CH2161=\"-\",CH2257=\"-\",CH2353=\"-\"), \"-\", ROUND(AVERAGE(CH1777,CH1873,CH1969,CH2065,CH2161,CH2257,CH2353),0))","v":{"$error":"#VALUE!"}},{"$error":"#VALUE!"},0,0,0,0,0,0,0,0,0,0,{"$f":"IF(AND(CT1777=\"-\",CT1873=\"-\",CT1969=\"-\",CT2065=\"-\",CT2161=\"-\",CT2257=\"-\",CT2353=\"-\"), \"-\", IF(SUM($CH2545:$CS2545)=0, 0, ROUND(AVERAGE(CT1777,CT1873,CT1969,CT2065,CT2161,CT2257,CT2353),0)))","v":{"$error":"#VALUE!"}},{"$error":"#VALUE!"},{"$error":"#VALUE!"},{"$error":"#VALUE!"},{"$error":"#VALUE!"},{"$error":"#VALUE!"},{"$error":"#VALUE!"},{"$error":"#VALUE!"},{"$error":"#VALUE!"},{"$error":"#VALUE!"},{"$error":"#VALUE!"},{"$error":"#VALUE!"},{"$error":"#VALUE!"},{"$error":"#VALUE!"},{"$error":"#VALUE!"},{"$error":"#VALUE!"},{"$error":"#VALUE!"},{"$error":"#VALUE!"},{"$error":"#VALUE!"},{"$error":"#VALUE!"},{"$error":"#VALUE!"},"-",{"$error":"#VALUE!"},{"$error":"#VALUE!"},{"$error":"#VALUE!"},{"$error":"#VALUE!"},{"$error":"#VALUE!"},{"$error":"#VALUE!"},{"$error":"#VALUE!"},{"$error":"#VALUE!"},0,0,0,0,0,0,{"$error":"#VALUE!"},{"$error":"#VALUE!"},{"$error":"#VALUE!"},{"$error":"#VALUE!"},{"$error":"#VALUE!"},{"$error":"#VALUE!"}]
[0,"7-Day Average",{"$f":"INDEX(Input_Details!$H$5:$H$24, MATCH($A2564, Input_Details!$J$5:$J$24, 0), 0)","v":{"$error":"#N/A"}},{"$f":"INDEX(Input_Details!$I$5:$I$24, MATCH($A2564, Input_Details!$J$5:$J$24, 0), 0)","v":{"$error":"#N/A"}},{"$f":"INDEX(Input_Details!$K$5:$K$24, MATCH($A2564, Input_Details!$J$5:$J$24, 0), 0)","v":{"$error":"#N/A"}},"7 Day Ave","16:00:00",{"$f":"IF(AND(H1796=\"\",H1892=\"\",H1988=\"\",H2084=\"\",H2180=\"\",H2276=\"\",H2372=\"\"), \"-\", IF(H1796+H1892+H1988+H2084+H2180+H2276+H2372=0,0,ROUND(AVERAGE(H1796,H1892,H1988,H2084,H2180,H2276,H2372),0)))","v":{"$error":"#VALUE!"}},{"$error":"#VALUE!"},0,0,0,0,0,0,0,0,0,0,{"$f":"IF(AND(T1796=\"\",T1892=\"\",T1988=\"\",T2084=\"\",T2180=\"\",T2276=\"\",T2372=\"\"), \"-\", IF(SUM(H2564:S2564)=0, 0, IF(T1796+T1892+T1988+T2084+T2180+T2276+T2372=0,0,ROUNDDOWN(AVERAGE(T1796,T1892,T1988,T2084,T2180,T2276,T2372),0))))","v":{"$error":"#VALUE!"}},{"$f":"IF(AND(U1796=\"\",U1892=\"\",U1988=\"\",U2084=\"\",U2180=\"\",U2276=\"\",U2372=\"\"), \"-\", IF(SUM(H2564:S2564)=0, 0, IF(U1796+U1892+U1988+U2084+U2180+U2276+U2372=0,0,ROUNDDOWN(AVERAGE(U1796,U1892,U1988,U2084,U2180,U2276,U2372),0))))","v":{"$error":"#VALUE!"}},{"$f":"IF(AND(V1796=\"\",V1892=\"\",V1988=\"\",V2084=\"\",V2180=\"\",V2276=\"\",V2372=\"\"), \"-\", IF(SUM(H2564:S2564)=0, 0, IF(V1796+V1892+V1988+V2084+V2180+V2276+V2372=0,0,ROUNDDOWN(AVERAGE(V1796,V1892,V1988,V2084,V2180,V2276,V2372),0))))","v":{"$error":"#VALUE!"}},{"$f":"IF(AND(W1796=\"\",W1892=\"\",W1988=\"\",W2084=\"\",W2180=\"\",W2276=\"\",W2372=\"\"), \"-\", IF(SUM(H2564:S2564)=0, 0, IF(W1796+W1892+W1988+W2084+W2180+W2276+W2372=0,0,ROUNDDOWN(AVERAGE(W1796,W1892,W1988,W2084,W2180,W2276,W2372),0))))","v":{"$error":"#VALUE!"}},{"$f":"IF(AND(X1796=\"\",X1892=\"\",X1988=\"\",X2084=\"\",X2180=\"\",X2276=\"\",X2372=\"\"), \"-\", IF(SUM(H2564:S2564)=0, 0, IF(X1796+X1892+X1988+X2084+X2180+X2276+X2372=0,0,ROUNDDOWN(AVERAGE(X1796,X1892,X1988,X2084,X2180,X2276,X2372),0))))","v":{"$error":"#VALUE!"}},{"$f":"IF(AND(Y1796=\"\",Y1892=\"\",Y1988=\"\",Y2084=\"\",Y2180=\"\",Y2276=\"\",Y2372=\"\"), \"-\", IF(SUM(H2564:S2564)=0, 0, IF(Y1796+Y1892+Y1988+Y2084+Y2180+Y2276+Y2372=0,0,ROUNDDOWN(AVERAGE(Y1796,Y1892,Y1988,Y2084,Y2180,Y2276,Y2372),0))))","v":{"$error":"#VALUE!"}},{"$f":"IF(AND(Z1796=\"\",Z1892=\"\",Z1988=\"\",Z2084=\"\",Z2180=\"\",Z2276=\"\",Z2372=\"\"), \"-\", IF(SUM(H2564:S2564)=0, 0, IF(Z1796+Z1892+Z1988+Z2084+Z2180+Z2276+Z2372=0,0,ROUNDDOWN(AVERAGE(Z1796,Z1892,Z1988,Z2084,Z2180,Z2276,Z2372),0))))","v":{"$error":"#VALUE!"}},{"$f":"IF(AND(AA1796=\"\",AA1892=\"\",AA1988=\"\",AA2084=\"\",AA2180=\"\",AA2276=\"\",AA2372=\"\"), \"-\", IF(SUM(H2564:S2564)=0, 0, IF(AA1796+AA1892+AA1988+AA2084+AA2180+AA2276+AA2372=0,0,ROUNDDOWN(AVERAGE(AA1796,AA1892,AA1988,AA2084,AA2180,AA2276,AA2372),0))))","v":{"$error":"#VALUE!"}},{"$f":"IF(AND(AB1796=\"\",AB1892=\"\",AB1988=\"\",AB2084=\"\",AB2180=\"\",AB2276=\"\",AB2372=\"\"), \"-\", IF(SUM(H2564:S2564)=0, 0, IF(AB1796+AB1892+AB1988+AB2084+AB2180+AB2276+AB2372=0,0,ROUNDDOWN(AVERAGE(AB1796,AB1892,AB1988,AB2084,AB2180,AB2276,AB2372),0))))","v":{"$error":"#VALUE!"}},{"$f":"IF(AND(AC1796=\"\",AC1892=\"\",AC1988=\"\",AC2084=\"\",AC2180=\"\",AC2276=\"\",AC2372=\"\"), \"-\", IF(SUM(H2564:S2564)=0, 0, IF(AC1796+AC1892+AC1988+AC2084+AC2180+AC2276+AC2372=0,0,ROUNDDOWN(AVERAGE(AC1796,AC1892,AC1988,AC2084,AC2180,AC2276,AC2372),0))))","v":{"$error":"#VALUE!"}},{"$f":"IF(AND(AD1796=\"\",AD1892=\"\",AD1988=\"\",AD2084=\"\",AD2180=\"\",AD2276=\"\",AD2372=\"\"), \"-\", IF(SUM(H2564:S2564)=0, 0, IF(AD1796+AD1892+AD1988+AD2084+AD2180+AD2276+AD2372=0,0,ROUNDDOWN(AVERAGE(AD1796,AD1892,AD1988,AD2084,AD2180,AD2276,AD2372),0))))","v":{"$error":"#VALUE!"}},{"$f":"IF(AND(AE1796=\"\",AE1892=\"\",AE1988=\"\",AE2084=\"\",AE2180=\"\",AE2276=\"\",AE2372=\"\"), \"-\", IF(SUM(H2564:S2564)=0, 0, IF(AE1796+AE1892+AE1988+AE2084+AE2180+AE2276+AE2372=0,0,ROUNDDOWN(AVERAGE(AE1796,AE1892,AE1988,AE2084,AE2180,AE2276,AE2372),0))))","v":{"$error":"#VALUE!"}},{"$f":"IF(AND(AF1796=\"\",AF1892=\"\",AF1988=\"\",AF2084=\"\",AF2180=\"\",AF2276=\"\",AF2372=\"\"), \"-\", IF(SUM(H2564:S2564)=0, 0, IF(AF1796+AF1892+AF1988+AF2084+AF2180+AF2276+AF2372=0,0,ROUNDDOWN(AVERAGE(AF1796,AF1892,AF1988,AF2084,AF2180,AF2276,AF2372),0))))","v":{"$error":"#VALUE!"}},{"$f":"IF(AND(AG1796=\"\",AG1892=\"\",AG1988=\"\",AG2084=\"\",AG2180=\"\",AG2276=\"\",AG2372=\"\"), \"-\", IF(SUM(H2564:S2564)=0, 0, IF(AG1796+AG1892+AG1988+AG2084+AG2180+AG2276+AG2372=0,0,ROUNDDOWN(AVERAGE(AG1796,AG1892,AG1988,AG2084,AG2180,AG2276,AG2372),0))))","v":{"$error":"#VALUE!"}},{"$f":"IF(AND(AH1796=\"\",AH1892=\"\",AH1988=\"\",AH2084=\"\",AH2180=\"\",AH2276=\"\",AH2372=\"\"), \"-\", IF(SUM(H2564:S2564)=0, 0, IF(AH1796+AH1892+AH1988+AH2084+AH2180+AH2276+AH2372=0,0,ROUNDDOWN(AVERAGE(AH1796,AH1892,AH1988,AH2084,AH2180,AH2276,AH2372),0))))","v":{"$error":"#VALUE!"}},{"$f":"IF(AND(AI1796=\"\",AI1892=\"\",AI1988=\"\",AI2084=\"\",AI2180=\"\",AI2276=\"\",AI2372=\"\"), \"-\", IF(SUM(H2564:S2564)=0, 0, IF(AI1796+AI1892+AI1988+AI2084+AI2180+AI2276+AI2372=0,0,ROUNDDOWN(AVERAGE(AI1796,AI1892,AI1988,AI2084,AI2180,AI2276,AI2372),0))))","v":{"$error":"#VALUE!"}},{"$f":"IF(AND(AJ1796=\"\",AJ1892=\"\",AJ1988=\"\",AJ2084=\"\",AJ2180=\"\",AJ2276=\"\",AJ2372=\"\"), \"-\", IF(SUM(H2564:S2564)=0, 0, IF(AJ1796+AJ1892+AJ1988+AJ2084+AJ2180+AJ2276+AJ2372=0,0,ROUNDDOWN(AVERAGE(AJ1796,AJ1892,AJ1988,AJ2084,AJ2180,AJ2276,AJ2372),0))))","v":{"$error":"#VALUE!"}},{"$f":"IF(AND(AK1796=\"\",AK1892=\"\",AK1988=\"\",AK2084=\"\",AK2180=\"\",AK2276=\"\",AK2372=\"\"), \"-\", IF(SUM(H2564:S2564)=0, 0, IF(AK1796+AK1892+AK1988+AK2084+AK2180+AK2276+AK2372=0,0,ROUNDDOWN(AVERAGE(AK1796,AK1892,AK1988,AK2084,AK2180,AK2276,AK2372),0))))","v":{"$error":"#VALUE!"}},{"$f":"IF(AND(AL1796=\"\",AL1892=\"\",AL1988=\"\",AL2084=\"\",AL2180=\"\",AL2276=\"\",AL2372=\"\"), \"-\", IF(SUM(H2564:S2564)=0, 0, IF(AL1796+AL1892+AL1988+AL2084+AL2180+AL2276+AL2372=0,0,ROUNDDOWN(AVERAGE(AL1796,AL1892,AL1988,AL2084,AL2180,AL2276,AL2372),0))))","v":{"$error":"#VALUE!"}},{"$f":"IF(AND(AM1796=\"\",AM1892=\"\",AM1988=\"\",AM2084=\"\",AM2180=\"\",AM2276=\"\",AM2372=\"\"), \"-\", IF(SUM(H2564:S2564)=0, 0, IF(AM1796+AM1892+AM1988+AM2084+AM2180+AM2276+AM2372=0,0,ROUNDDOWN(AVERAGE(AM1796,AM1892,AM1988,AM2084,AM2180,AM2276,AM2372),0))))","v":{"$error":"#VALUE!"}},{"$f":"IF(SUM(H2564:S2564)=0,\"-\",AVERAGEIF(G1732:G2403,$G2564,AN1732:AN2403))","v":{"$error":"#VALUE!"}},{"$f":"IFERROR(IF(SUM(H2564:S2564)=0,\"-\",AVERAGEIF(G1732:G2403,G2564,AO1732:AO2403)), \"-\")","v":"-"},{"$f":"IF(SUM(H2564:S2564)=0,\"-\",MIN(AP1796,AP1892,AP1988,AP2084,AP2180,AP2276,AP2372))","v":{"$error":"#VALUE!"}},{"$f":"IF(SUM(H2564:S2564)=0,\"-\",MAX(AQ1796,AQ1892,AQ1988,AQ2084,AQ2180,AQ2276,AQ2372))","v":{"$error":"#VALUE!"}},{"$f":"INDEX(Input_Details!$L$5:$L$24, MATCH($A2564, Input_Details!$J$5:$J$24, 0), 0)","v":{"$error":"#N/A"}},"7 Day Ave","16:00:00",{"$f":"IF(AND(AU1796=\"\",AU1892=\"\",AU1988=\"\",AU2084=\"\",AU2180=\"\",AU2276=\"\",AU2372=\"\"), \"-\", IF(AU1796+AU1892+AU1988+AU2084+AU2180+AU2276+AU2372=0,0,ROUND(AVERAGE(AU1796,AU1892,AU1988,AU2084,AU2180,AU2276,AU2372),0)))","v":0},0,0,0,0,0,0,0,0,0,0,0,{"$f":"IF(AND(BG1796=\"\",BG1892=\"\",BG1988=\"\",BG2084=\"\",BG2180=\"\",BG2276=\"\",BG2372=\"\"), \"-\", IF(SUM(AU2564:BF2564)=0, 0, IF(BG1796+BG1892+BG1988+BG2084+BG2180+BG2276+BG2372=0,0,ROUNDDOWN(AVERAGE(BG1796,BG1892,BG1988,BG2084,BG2180,BG2276,BG2372),0))))","v":0},{"$f":"IF(AND(BH1796=\"\",BH1892=\"\",BH1988=\"\",BH2084=\"\",BH2180=\"\",BH2276=\"\",BH2372=\"\"), \"-\", IF(SUM(AU2564:BF2564)=0, 0, IF(BH1796+BH1892+BH1988+BH2084+BH2180+BH2276+BH2372=0,0,ROUNDDOWN(AVERAGE(BH1796,BH1892,BH1988,BH2084,BH2180,BH2276,BH2372),0))))","v":0},{"$f":"IF(AND(BI1796=\"\",BI1892=\"\",BI1988=\"\",BI2084=\"\",BI2180=\"\",BI2276=\"\",BI2372=\"\"), \"-\", IF(SUM(AU2564:BF2564)=0, 0, IF(BI1796+BI1892+BI1988+BI2084+BI2180+BI2276+BI2372=0,0,ROUNDDOWN(AVERAGE(BI1796,BI1892,BI1988,BI2084,BI2180,BI2276,BI2372),0))))","v":0},{"$f":"IF(AND(BJ1796=\"\",BJ1892=\"\",BJ1988=\"\",BJ2084=\"\",BJ2180=\"\",BJ2276=\"\",BJ2372=\"\"), \"-\", IF(SUM(AU2564:BF2564)=0, 0, IF(BJ1796+BJ1892+BJ1988+BJ2084+BJ2180+BJ2276+BJ2372=0,0,ROUNDDOWN(AVERAGE(BJ1796,BJ1892,BJ1988,BJ2084,BJ2180,BJ2276,BJ2372),0))))","v":0},{"$f":"IF(AND(BK1796=\"\",BK1892=\"\",BK1988=\"\",BK2084=\"\",BK2180=\"\",BK2276=\"\",BK2372=\"\"), \"-\", IF(SUM(AU2564:BF2564)=0, 0, IF(BK1796+BK1892+BK1988+BK2084+BK2180+BK2276+BK2372=0,0,ROUNDDOWN(AVERAGE(BK1796,BK1892,BK1988,BK2084,BK2180,BK2276,BK2372),0))))","v":0},{"$f":"IF(AND(BL1796=\"\",BL1892=\"\",BL1988=\"\",BL2084=\"\",BL2180=\"\",BL2276=\"\",BL2372=\"\"), \"-\", IF(SUM(AU2564:BF2564)=0, 0, IF(BL1796+BL1892+BL1988+BL2084+BL2180+BL2276+BL2372=0,0,ROUNDDOWN(AVERAGE(BL1796,BL1892,BL1988,BL2084,BL2180,BL2276,BL2372),0))))","v":0},{"$f":"IF(AND(BM1796=\"\",BM1892=\"\",BM1988=\"\",BM2084=\"\",BM2180=\"\",BM2276=\"\",BM2372=\"\"), \"-\", IF(SUM(AU2564:BF2564)=0, 0, IF(BM1796+BM1892+BM1988+BM2084+BM2180+BM2276+BM2372=0,0,ROUNDDOWN(AVERAGE(BM1796,BM1892,BM1988,BM2084,BM2180,BM2276,BM2372),0))))","v":0},{"$f":"IF(AND(BN1796=\"\",BN1892=\"\",BN1988=\"\",BN2084=\"\",BN2180=\"\",BN2276=\"\",BN2372=\"\"), \"-\", IF(SUM(AU2564:BF2564)=0, 0, IF(BN1796+BN1892+BN1988+BN2084+BN2180+BN2276+BN2372=0,0,ROUNDDOWN(AVERAGE(BN1796,BN1892,BN1988,BN2084,BN2180,BN2276,BN2372),0))))","v":0},{"$f":"IF(AND(BO1796=\"\",BO1892=\"\",BO1988=\"\",BO2084=\"\",BO2180=\"\",BO2276=\"\",BO2372=\"\"), \"-\", IF(SUM(AU2564:BF2564)=0, 0, IF(BO1796+BO1892+BO1988+BO2084+BO2180+BO2276+BO2372=0,0,ROUNDDOWN(AVERAGE(BO1796,BO1892,BO1988,BO2084,BO2180,BO2276,BO2372),0))))","v":0},{"$f":"IF(AND(BP1796=\"\",BP1892=\"\",BP1988=\"\",BP2084=\"\",BP2180=\"\",BP2276=\"\",BP2372=\"\"), \"-\", IF(SUM(AU2564:BF2564)=0, 0, IF(BP1796+BP1892+BP1988+BP2084+BP2180+BP2276+BP2372=0,0,ROUNDDOWN(AVERAGE(BP1796,BP1892,BP1988,BP2084,BP2180,BP2276,BP2372),0))))","v":0},{"$f":"IF(AND(BQ1796=\"\",BQ1892=\"\",BQ1988=\"\",BQ2084=\"\",BQ2180=\"\",BQ2276=\"\",BQ2372=\"\"), \"-\", IF(SUM(AU2564:BF2564)=0, 0, IF(BQ1796+BQ1892+BQ1988+BQ2084+BQ2180+BQ2276+BQ2372=0,0,ROUNDDOWN(AVERAGE(BQ1796,BQ1892,BQ1988,BQ2084,BQ2180,BQ2276,BQ2372),0))))","v":0},{"$f":"IF(AND(BR1796=\"\",BR1892=\"\",BR1988=\"\",BR2084=\"\",BR2180=\"\",BR2276=\"\",BR2372=\"\"), \"-\", IF(SUM(AU2564:BF2564)=0, 0, IF(BR1796+BR1892+BR1988+BR2084+BR2180+BR2276+BR2372=0,0,ROUNDDOWN(AVERAGE(BR1796,BR1892,BR1988,BR2084,BR2180,BR2276,BR2372),0))))","v":0},{"$f":"IF(AND(BS1796=\"\",BS1892=\"\",BS1988=\"\",BS2084=\"\",BS2180=\"\",BS2276=\"\",BS2372=\"\"), \"-\", IF(SUM(AU2564:BF2564)=0, 0, IF(BS1796+BS1892+BS1988+BS2084+BS2180+BS2276+BS2372=0,0,ROUNDDOWN(AVERAGE(BS1796,BS1892,BS1988,BS2084,BS2180,BS2276,BS2372),0))))","v":0},{"$f":"IF(AND(BT1796=\"\",BT1892=\"\",BT1988=\"\",BT2084=\"\",BT2180=\"\",BT2276=\"\",BT2372=\"\"), \"-\", IF(SUM(AU2564:BF2564)=0, 0, IF(BT1796+BT1892+BT1988+BT2084+BT2180+BT2276+BT2372=0,0,ROUNDDOWN(AVERAGE(BT1796,BT1892,BT1988,BT2084,BT2180,BT2276,BT2372),0))))","v":0},{"$f":"IF(AND(BU1796=\"\",BU1892=\"\",BU1988=\"\",BU2084=\"\",BU2180=\"\",BU2276=\"\",BU2372=\"\"), \"-\", IF(SUM(AU2564:BF2564)=0, 0, IF(BU1796+BU1892+BU1988+BU2084+BU2180+BU2276+BU2372=0,0,ROUNDDOWN(AVERAGE(BU1796,BU1892,BU1988,BU2084,BU2180,BU2276,BU2372),0))))","v":0},{"$f":"IF(AND(BV1796=\"\",BV1892=\"\",BV1988=\"\",BV2084=\"\",BV2180=\"\",BV2276=\"\",BV2372=\"\"), \"-\", IF(SUM(AU2564:BF2564)=0, 0, IF(BV1796+BV1892+BV1988+BV2084+BV2180+BV2276+BV2372=0,0,ROUNDDOWN(AVERAGE(BV1796,BV1892,BV1988,BV2084,BV2180,BV2276,BV2372),0))))","v":0},{"$f":"IF(AND(BW1796=\"\",BW1892=\"\",BW1988=\"\",BW2084=\"\",BW2180=\"\",BW2276=\"\",BW2372=\"\"), \"-\", IF(SUM(AU2564:BF2564)=0, 0, IF(BW1796+BW1892+BW1988+BW2084+BW2180+BW2276+BW2372=0,0,ROUNDDOWN(AVERAGE(BW1796,BW1892,BW1988,BW2084,BW2180,BW2276,BW2372),0))))","v":0},{"$f":"IF(AND(BX1796=\"\",BX1892=\"\",BX1988=\"\",BX2084=\"\",BX2180=\"\",BX2276=\"\",BX2372=\"\"), \"-\", IF(SUM(AU2564:BF2564)=0, 0, IF(BX1796+BX1892+BX1988+BX2084+BX2180+BX2276+BX2372=0,0,ROUNDDOWN(AVERAGE(BX1796,BX1892,BX1988,BX2084,BX2180,BX2276,BX2372),0))))","v":0},{"$f":"IF(AND(BY1796=\"\",BY1892=\"\",BY1988=\"\",BY2084=\"\",BY2180=\"\",BY2276=\"\",BY2372=\"\"), \"-\", IF(SUM(AU2564:BF2564)=0, 0, IF(BY1796+BY1892+BY1988+BY2084+BY2180+BY2276+BY2372=0,0,ROUNDDOWN(AVERAGE(BY1796,BY1892,BY1988,BY2084,BY2180,BY2276,BY2372),0))))","v":0},{"$f":"IF(AND(BZ1796=\"\",BZ1892=\"\",BZ1988=\"\",BZ2084=\"\",BZ2180=\"\",BZ2276=\"\",BZ2372=\"\"), \"-\", IF(SUM(AU2564:BF2564)=0, 0, IF(BZ1796+BZ1892+BZ1988+BZ2084+BZ2180+BZ2276+BZ2372=0,0,ROUNDDOWN(AVERAGE(BZ1796,BZ1892,BZ1988,BZ2084,BZ2180,BZ2276,BZ2372),0))))","v":0},{"$f":"IF(SUM(AU2564:BF2564)=0,\"-\",AVERAGEIF(AT1732:AT2403,$G2564,CA1732:CA2403))","v":"-"},{"$f":"IFERROR(IF(SUM(AU2564:BF2564)=0,\"-\",AVERAGEIF(AT1732:AT2403,AT2564,CB1732:CB2403)), \"-\")","v":"-"},{"$f":"IF(SUM(AU2564:BF2564)=0,\"-\",MIN(CC1796,CC1892,CC1988,CC2084,CC2180,CC2276,CC2372))","v":"-"},{"$f":"IF(SUM(AU2564:BF2564)=0,\"-\",MAX(CD1796,CD1892,CD1988,CD2084,CD2180,CD2276,CD2372))","v":"-"},null,"7 Day Ave","16:00:00",{"$f":"IF(AND(CH1796=\"-\",CH1892=\"-\",CH1988=\"-\",CH2084=\"-\",CH2180=\"-\",CH2276=\"-\",CH2372=\"-\"), \"-\", ROUND(AVERAGE(CH1796,CH1892,CH1988,CH2084,CH2180,CH2276,CH2372),0))","v":{"$error":"#VALUE!"}},{"$error":"#VALUE!"},0,0,0,0,0,0,0,0,0,0,{"$f":"IF(AND(CT1796=\"-\",CT1892=\"-\",CT1988=\"-\",CT2084=\"-\",CT2180=\"-\",CT2276=\"-\",CT2372=\"-\"), \"-\", IF(SUM($CH2564:$CS2564)=0, 0, ROUND(AVERAGE(CT1796,CT1892,CT1988,CT2084,CT2180,CT2276,CT2372),0)))","v":{"$error":"#VALUE!"}},{"$error":"#VALUE!"},{"$error":"#VALUE!"},{"$error":"#VALUE!"},{"$error":"#VALUE!"},{"$error":"#VALUE!"},{"$error":"#VALUE!"},{"$error":"#VALUE!"},{"$error":"#VALUE!"},{"$error":"#VALUE!"},{"$error":"#VALUE!"},{"$error":"#VALUE!"},{"$error":"#VALUE!"},{"$error":"#VALUE!"},{"$error":"#VALUE!"},{"$error":"#VALUE!"},{"$error":"#VALUE!"},{"$error":"#VALUE!"},{"$error":"#VALUE!"},{"$error":"#VALUE!"},{"$error":"#VALUE!"},"-",{"$error":"#VALUE!"},{"$error":"#VALUE!"},{"$error":"#VALUE!"},{"$error":"#VALUE!"},{"$error":"#VALUE!"},{"$error":"#VALUE!"},{"$error":"#VALUE!"},{"$error":"#VALUE!"},0,0,0,0,0,0,{"$error":"#VALUE!"},{"$f":"IF(OR(DS2564=\"-\", DY2564=\"-\"), \"-\", SUM(DS2564,DY2564))","v":{"$error":"#VALUE!"}},{"$f":"IF(OR(DT2564=\"-\", DZ2564=\"-\"), \"-\", SUM(DT2564,DZ2564))","v":{"$error":"#VALUE!"}},{"$f":"IF(OR(DU2564=\"-\", EA2564=\"-\"), \"-\", SUM(DU2564,EA2564))","v":{"$error":"#VALUE!"}},{"$f":"IF(OR(DV2564=\"-\", EB2564=\"-\"), \"-\", SUM(DV2564,EB2564))","v":{"$error":"#VALUE!"}},{"$f":"IF(OR(DW2564=\"-\", EC2564=\"-\"), \"-\", SUM(DW2564,EC2564))","v":{"$error":"#VALUE!"}}]
[0,"7-Day Average",{"$f":"INDEX(Input_Details!$H$5:$H$24, MATCH($A2582, Input_Details!$J$5:$J$24, 0), 0)","v":{"$error":"#N/A"}},{"$f":"INDEX(Input_Details!$I$5:$I$24, MATCH($A2582, Input_Details!$J$5:$J$24, 0), 0)","v":{"$error":"#N/A"}},{"$f":"INDEX(Input_Details!$K$5:$K$24, MATCH($A2582, Input_Details!$J$5:$J$24, 0), 0)","v":{"$error":"#N/A"}},"7 Day Ave","20:30:00",{"$f":"IF(AND(H1814=\"\",H1910=\"\",H2006=\"\",H2102=\"\",H2198=\"\",H2294=\"\",H2390=\"\"), \"-\", IF(H1814+H1910+H2006+H2102+H2198+H2294+H2390=0,0,ROUND(AVERAGE(H1814,H1910,H2006,H2102,H2198,H2294,H2390),0)))","v":{"$error":"#VALUE!"}},{"$error":"#VALUE!"},0,0,0,0,0,0,0,0,0,0,{"$error":"#VALUE!"},{"$error":"#VALUE!"},{"$error":"#VALUE!"},{"$error":"#VALUE!"},{"$error":"#VALUE!"},{"$error":"#VALUE!"},{"$error":"#VALUE!"},{"$error":"#VALUE!"},{"$error":"#VALUE!"},{"$error":"#VALUE!"},{"$error":"#VALUE!"},{"$error":"#VALUE!"},{"$error":"#VALUE!"},{"$error":"#VALUE!"},{"$error":"#VALUE!"},{"$error":"#VALUE!"},{"$error":"#VALUE!"},{"$error":"#VALUE!"},{"$error":"#VALUE!"},{"$error":"#VALUE!"},{"$f":"IF(SUM(H2582:S2582)=0,\"-\",AVERAGEIF(G1732:G2403,$G2582,AN1732:AN2403))","v":{"$error":"#VALUE!"}},{"$f":"IFERROR(IF(SUM(H2582:S2582)=0,\"-\",AVERAGEIF(G1732:G2403,G2582,AO1732:AO2403)), \"-\")","v":"-"},{"$error":"#VALUE!"},{"$error":"#VALUE!"},{"$f":"INDEX(Input_Details!$L$5:$L$24, MATCH($A2582, Input_Details!$J$5:$J$24, 0), 0)","v":{"$error":"#N/A"}},"7 Day Ave","20:30:00",{"$f":"IF(AND(AU1814=\"\",AU1910=\"\",AU2006=\"\",AU2102=\"\",AU2198=\"\",AU2294=\"\",AU2390=\"\"), \"-\", IF(AU1814+AU1910+AU2006+AU2102+AU2198+AU2294+AU2390=0,0,ROUND(AVERAGE(AU1814,AU1910,AU2006,AU2102,AU2198,AU2294,AU2390),0)))","v":0},0,0,0,0,0,0,0,0,0,0,0,0,0,0,0,0,0,0,0,0,0,0,0,0,0,0,0,0,0,0,0,{"$f":"IF(SUM(AU2582:BF2582)=0,\"-\",AVERAGEIF(AT1732:AT2403,$G2582,CA1732:CA2403))","v":"-"},{"$f":"IFERROR(IF(SUM(AU2582:BF2582)=0,\"-\",AVERAGEIF(AT1732:AT2403,AT2582,CB1732:CB2403)), \"-\")","v":"-"},"-","-",null,"7 Day Ave","20:30:00",{"$f":"IF(AND(CH1814=\"-\",CH1910=\"-\",CH2006=\"-\",CH2102=\"-\",CH2198=\"-\",CH2294=\"-\",CH2390=\"-\"), \"-\", ROUND(AVERAGE(CH1814,CH1910,CH2006,CH2102,CH2198,CH2294,CH2390),0))","v":{"$error":"#VALUE!"}},{"$error":"#VALUE!"},0,0,0,0,0,0,0,0,0,0,{"$f":"IF(AND(CT1814=\"-\",CT1910=\"-\",CT2006=\"-\",CT2102=\"-\",CT2198=\"-\",CT2294=\"-\",CT2390=\"-\"), \"-\", IF(SUM($CH2582:$CS2582)=0, 0, ROUND(AVERAGE(CT1814,CT1910,CT2006,CT2102,CT2198,CT2294,CT2390),0)))","v":{"$error":"#VALUE!"}},{"$error":"#VALUE!"},{"$error":"#VALUE!"},{"$error":"#VALUE!"},{"$error":"#VALUE!"},{"$error":"#VALUE!"},{"$error":"#VALUE!"},{"$error":"#VALUE!"},{"$error":"#VALUE!"},{"$error":"#VALUE!"},{"$error":"#VALUE!"},{"$error":"#VALUE!"},{"$error":"#VALUE!"},{"$error":"#VALUE!"},{"$error":"#VALUE!"},{"$error":"#VALUE!"},{"$error":"#VALUE!"},{"$error":"#VALUE!"},{"$error":"#VALUE!"},{"$error":"#VALUE!"},{"$error":"#VALUE!"},"-",{"$error":"#VALUE!"},{"$error":"#VALUE!"},{"$error":"#VALUE!"},{"$error":"#VALUE!"},{"$error":"#VALUE!"},{"$error":"#VALUE!"},{"$error":"#VALUE!"},{"$error":"#VALUE!"},0,0,0,0,0,0,{"$error":"#VALUE!"},{"$error":"#VALUE!"},{"$error":"#VALUE!"},{"$error":"#VALUE!"},{"$error":"#VALUE!"},{"$error":"#VALUE!"}]
[{"$error":"#N/A"},{"$f":"OFFSET(Input_Details!$Q$4,MATCH($A2605, Input_Details!$J$5:$J$24, 0), 0)","v":{"$error":"#N/A"}},{"$f":"INDEX(Input_Details!$H$5:$H$24, MATCH($A2605, Input_Details!$J$5:$J$24, 0), 0)","v":{"$error":"#N/A"}},{"$f":"INDEX(Input_Details!$I$5:$I$24, MATCH($A2605, Input_Details!$J$5:$J$24, 0), 0)","v":{"$error":"#N/A"}},{"$f":"INDEX(Input_Details!$K$5:$K$24, MATCH($A2605, Input_Details!$J$5:$J$24, 0), 0)","v":{"$error":"#N/A"}},"Mon","02:15:00",0,0,0,0,0,0,0,0,0,0,0,0,0,0,0,0,0,0,0,0,0,0,0,0,0,0,0,0,0,0,0,0,"-","-","-","-",{"$f":"INDEX(Input_Details!$L$5:$L$24, MATCH($A2605, Input_Details!$J$5:$J$24, 0), 0)","v":{"$error":"#N/A"}},"Mon","02:15:00",0,0,0,0,0,0,0,0,0,0,0,0,0,0,0,0,0,0,0,0,0,0,0,0,0,0,0,0,0,0,0,0,"-","-","-","-",null,"Mon","02:15:00",0,0,0,0,0,0,0,0,0,0,0,0,0,0,0,0,0,0,0,0,0,0,0,0,0,0,0,0,0,0,0,0,"-","-","-","-",0,0,0,0,0,0,0,0,0,0,0,0,0,0,0,0,0,0,0,0,0,0,1,0,1,0,0,0,0,0,0,0,0,0,0,0,1,0,1]
[{"$error":"#N/A"},{"$f":"OFFSET(Input_Details!$Q$4,MATCH($A2645, Input_Details!$J$5:$J$24, 0), 0)","v":{"$error":"#N/A"}},{"$f":"INDEX(Input_Details!$H$5:$H$24, MATCH($A2645, Input_Details!$J$5:$J$24, 0), 0)","v":{"$error":"#N/A"}},{"$f":"INDEX(Input_Details!$I$5:$I$24, MATCH($A2645, Input_Details!$J$5:$J$24, 0), 0)","v":{"$error":"#N/A"}},{"$f":"INDEX(Input_Details!$K$5:$K$24, MATCH($A2645, Input_Details!$J$5:$J$24, 0), 0)","v":{"$error":"#N/A"}},"Mon","12:15:00",1,4,0,0,0,0,0,0,0,0,0,0,0,0,0,0,0,0,0,0,0,0,0,0,0,0,0,0,0,0,0,0,"-","-","-","-",{"$f":"INDEX(Input_Details!$L$5:$L$24, MATCH($A2645, Input_Details!$J$5:$J$24, 0), 0)","v":{"$error":"#N/A"}},"Mon","12:15:00",0,0,0,0,0,0,0,0,0,0,0,0,0,0,0,0,0,0,0,0,0,0,0,0,0,0,0,0,0,0,0,0,"-","-","-","-",null,"Mon","12:15:00",1,4,0,0,0,0,0,0,0,0,0,0,0,0,0,0,0,0,0,0,0,0,0,0,0,0,0,0,0,0,0,0,"-","-",0,0,1,4,0,0,0,5,0,0,0,0,0,0,1,4,0,0,0,5,5,0,2,4,3,7,6,0,0,0,0,0,0,0,5,0,2,4,3,7,6]
[{"$error":"#N/A"},{"$f":"OFFSET(Input_Details!$Q$4,MATCH($A2678, Input_Details!$J$5:$J$24, 0), 0)","v":{"$error":"#N/A"}},{"$f":"INDEX(Input_Details!$H$5:$H$24, MATCH($A2678, Input_Details!$J$5:$J$24, 0), 0)","v":{"$error":"#N/A"}},{"$f":"INDEX(Input_Details!$I$5:$I$24, MATCH($A2678, Input_Details!$J$5:$J$24, 0), 0)","v":{"$error":"#N/A"}},{"$f":"INDEX(Input_Details!$K$5:$K$24, MATCH($A2678, Input_Details!$J$5:$J$24, 0), 0)","v":{"$error":"#N/A"}},"Mon","20:30:00",0,0,0,0,0,0,0,0,0,0,0,0,0,0,0,0,0,0,0,0,0,0,0,0,0,0,0,0,0,0,0,0,"-","-","-","-",{"$f":"INDEX(Input_Details!$L$5:$L$24, MATCH($A2678, Input_Details!$J$5:$J$24, 0), 0)","v":{"$error":"#N/A"}},"Mon","20:30:00",0,0,0,0,0,0,0,0,0,0,0,0,0,0,0,0,0,0,0,0,0,0,0,0,0,0,0,0,0,0,0,0,"-","-","-","-",null,"Mon","20:30:00",0,0,0,0,0,0,0,0,0,0,0,0,0,0,0,0,0,0,0,0,0,0,0,0,0,0,0,0,0,0,0,0,"-","-","-","-",0,0,0,0,0,0,0,0,0,0,0,0,0,0,0,0,0,0,0,6,1,1,5,3,2,0,0,0,0,0,0,0,0,6,1,1,5,3,2]
[{"$error":"#N/A"},{"$f":"OFFSET(Input_Details!$Q$4,MATCH($A2683, Input_Details!$J$5:$J$24, 0), 0)","v":{"$error":"#N/A"}},{"$f":"INDEX(Input_Details!$H$5:$H$24, MATCH($A2683, Input_Details!$J$5:$J$24, 0), 0)","v":{"$error":"#N/A"}},{"$f":"INDEX(Input_Details!$I$5:$I$24, MATCH($A2683, Input_Details!$J$5:$J$24, 0), 0)","v":{"$error":"#N/A"}},{"$f":"INDEX(Input_Details!$K$5:$K$24, MATCH($A2683, Input_Details!$J$5:$J$24, 0), 0)","v":{"$error":"#N/A"}},"Mon","21:45:00",0,2,0,0,0,0,0,0,0,0,0,0,0,0,0,0,0,0,0,0,0,0,0,0,0,0,0,0,0,0,0,0,"-","-","-","-",{"$f":"INDEX(Input_Details!$L$5:$L$24, MATCH($A2683, Input_Details!$J$5:$J$24, 0), 0)","v":{"$error":"#N/A"}},"Mon","21:45:00",0,0,0,0,0,0,0,0,0,0,0,0,0,0,0,0,0,0,0,0,0,0,0,0,0,0,0,0,0,0,0,0,"-","-","-","-",null,"Mon","21:45:00",0,2,0,0,0,0,0,0,0,0,0,0,0,0,0,0,0,0,0,0,0,0,0,0,0,0,0,0,0,0,0,0,"-","-",0,0,0,2,0,0,0,2,0,0,0,0,0,0,0,2,0,0,0,2,2,1,1,1,3,1,2,0,0,0,0,0,0,0,2,1,1,1,3,1,2]
[{"$error":"#N/A"},{"$f":"OFFSET(Input_Details!$Q$4,MATCH($A2715, Input_Details!$J$5:$J$24, 0), 1)","v":{"$error":"#N/A"}},{"$f":"INDEX(Input_Details!$H$5:$H$24, MATCH($A2715, Input_Details!$J$5:$J$24, 0), 0)","v":{"$error":"#N/A"}},{"$f":"INDEX(Input_Details!$I$5:$I$24, MATCH($A2715, Input_Details!$J$5:$J$24, 0), 0)","v":{"$error":"#N/A"}},{"$f":"INDEX(Input_Details!$K$5:$K$24, MATCH($A2715, Input_Details!$J$5:$J$24, 0), 0)","v":{"$error":"#N/A"}},"Tues","05:45:00",0,0,0,0,0,0,0,0,0,0,0,0,0,0,0,0,0,0,0,0,0,0,0,0,0,0,0,0,0,0,0,0,"-","-","-","-",{"$f":"INDEX(Input_Details!$L$5:$L$24, MATCH($A2715, Input_Details!$J$5:$J$24, 0), 0)","v":{"$error":"#N/A"}},"Tues","05:45:00",0,0,0,0,0,0,0,0,0,0,0,0,0,0,0,0,0,0,0,0,0,0,0,0,0,0,0,0,0,0,0,0,"-","-","-","-",null,"Tues","05:45:00",0,0,0,0,0,0,0,0,0,0,0,0,0,0,0,0,0,0,0,0,0,0,0,0,0,0,0,0,0,0,0,0,"-","-","-","-",0,0,0,0,0,0,0,0,0,0,0,0,0,0,0,0,0,0]
[{"$error":"#N/A"},{"$f":"OFFSET(Input_Details!$Q$4,MATCH($A2751, Input_Details!$J$5:$J$24, 0), 1)","v":{"$error":"#N/A"}},{"$f":"INDEX(Input_Details!$H$5:$H$24, MATCH($A2751, Input_Details!$J$5:$J$24, 0), 0)","v":{"$error":"#N/A"}},{"$f":"INDEX(Input_Details!$I$5:$I$24, MATCH($A2751, Input_Details!$J$5:$J$24, 0), 0)","v":{"$error":"#N/A"}},{"$f":"INDEX(Input_Details!$K$5:$K$24, MATCH($A2751, Input_Details!$J$5:$J$24, 0), 0)","v":{"$error":"#N/A"}},"Tues","14:45:00",0,5,0,0,0,0,0,0,0,0,0,0,0,0,0,0,0,0,0,0,0,0,0,0,0,0,0,0,0,0,0,0,"-","-","-","-",{"$f":"INDEX(Input_Details!$L$5:$L$24, MATCH($A2751, Input_Details!$J$5:$J$24, 0), 0)","v":{"$error":"#N/A"}},"Tues","14:45:00",0,0,0,0,0,0,0,0,0,0,0,0,0,0,0,0,0,0,0,0,0,0,0,0,0,0,0,0,0,0,0,0,"-","-","-","-",null,"Tues","14:45:00",0,5,0,0,0,0,0,0,0,0,0,0,0,0,0,0,0,0,0,0,0,0,0,0,0,0,0,0,0,0,0,0,"-","-",0,0,0,5,0,0,0,5,0,0,0,0,0,0,0,5,0,0,0,5]
[{"$error":"#N/A"},{"$f":"OFFSET(Input_Details!$Q$4,MATCH($A2778, Input_Details!$J$5:$J$24, 0), 1)","v":{"$error":"#N/A"}},{"$f":"INDEX(Input_Details!$H$5:$H$24, MATCH($A2778, Input_Details!$J$5:$J$24, 0), 0)","v":{"$error":"#N/A"}},{"$f":"INDEX(Input_Details!$I$5:$I$24, MATCH($A2778, Input_Details!$J$5:$J$24, 0), 0)","v":{"$error":"#N/A"}},{"$f":"INDEX(Input_Details!$K$5:$K$24, MATCH($A2778, Input_Details!$J$5:$J$24, 0), 0)","v":{"$error":"#N/A"}},"Tues","21:30:00",0,1,0,0,0,0,0,0,0,0,0,0,0,0,0,0,0,0,0,0,0,0,0,0,0,0,0,0,0,0,0,0,"-","-","-","-",{"$f":"INDEX(Input_Details!$L$5:$L$24, MATCH($A2778, Input_Details!$J$5:$J$24, 0), 0)","v":{"$error":"#N/A"}},"Tues","21:30:00",0,0,0,0,0,0,0,0,0,0,0,0,0,0,0,0,0,0,0,0,0,0,0,0,0,0,0,0,0,0,0,0,"-","-","-","-",null,"Tues","21:30:00",0,1,0,0,0,0,0,0,0,0,0,0,0,0,0,0,0,0,0,0,0,0,0,0,0,0,0,0,0,0,0,0,"-","-",0,0,0,1,0,0,0,1,0,0,0,0,0,0,0,1,0,0,0,1]
[{"$error":"#N/A"},{"$f":"OFFSET(Input_Details!$Q$4,MATCH($A2811, Input_Details!$J$5:$J$24, 0), 2)","v":{"$error":"#N/A"}},{"$f":"INDEX(Input_Details!$H$5:$H$24, MATCH($A2811, Input_Details!$J$5:$J$24, 0), 0)","v":{"$error":"#N/A"}},{"$f":"INDEX(Input_Details!$I$5:$I$24, MATCH($A2811, Input_Details!$J$5:$J$24, 0), 0)","v":{"$error":"#N/A"}},{"$f":"INDEX(Input_Details!$K$5:$K$24, MATCH($A2811, Input_Details!$J$5:$J$24, 0), 0)","v":{"$error":"#N/A"}},"Wed","05:45:00",0,0,0,0,0,0,0,0,0,0,0,0,0,0,0,0,0,0,0,0,0,0,0,0,0,0,0,0,0,0,0,0,"-","-","-","-",{"$f":"INDEX(Input_Details!$L$5:$L$24, MATCH($A2811, Input_Details!$J$5:$J$24, 0), 0)","v":{"$error":"#N/A"}},"Wed","05:45:00",0,0,0,0,0,0,0,0,0,0,0,0,0,0,0,0,0,0,0,0,0,0,0,0,0,0,0,0,0,0,0,0,"-","-","-","-",null,"Wed","05:45:00",0,0,0,0,0,0,0,0,0,0,0,0,0,0,0,0,0,0,0,0,0,0,0,0,0,0,0,0,0,0,0,0,"-","-","-","-",0,0,0,0,0,0,0,0,0,0,0,0,0,0,0,0,0,0]
[{"$error":"#N/A"},{"$f":"OFFSET(Input_Details!$Q$4,MATCH($A2829, Input_Details!$J$5:$J$24, 0), 2)","v":{"$error":"#N/A"}},{"$f":"INDEX(Input_Details!$H$5:$H$24, MATCH($A2829, Input_Details!$J$5:$J$24, 0), 0)","v":{"$error":"#N/A"}},{"$f":"INDEX(Input_Details!$I$5:$I$24, MATCH($A2829, Input_Details!$J$5:$J$24, 0), 0)","v":{"$error":"#N/A"}},{"$f":"INDEX(Input_Details!$K$5:$K$24, MATCH($A2829, Input_Details!$J$5:$J$24, 0), 0)","v":{"$error":"#N/A"}},"Wed","10:15:00",3,6,0,0,0,0,0,0,0,0,0,0,0,0,0,0,0,0,0,0,0,0,0,0,0,0,0,0,0,0,0,0,"-","-","-","-",{"$f":"INDEX(Input_Details!$L$5:$L$24, MATCH($A2829, Input_Details!$J$5:$J$24, 0), 0)","v":{"$error":"#N/A"}},"Wed","10:15:00",0,0,0,0,0,0,0,0,0,0,0,0,0,0,0,0,0,0,0,0,0,0,0,0,0,0,0,0,0,0,0,0,"-","-","-","-",null,"Wed","10:15:00",3,6,0,0,0,0,0,0,0,0,0,0,0,0,0,0,0,0,0,0,0,0,0,0,0,0,0,0,0,0,0,0,"-","-",0,0,3,6,0,0,0,9,0,0,0,0,0,0,3,6,0,0,0,9]
[{"$error":"#N/A"},{"$f":"OFFSET(Input_Details!$Q$4,MATCH($A2848, Input_Details!$J$5:$J$24, 0), 2)","v":{"$error":"#N/A"}},{"$f":"INDEX(Input_Details!$H$5:$H$24, MATCH($A2848, Input_Details!$J$5:$J$24, 0), 0)","v":{"$error":"#N/A"}},{"$f":"INDEX(Input_Details!$I$5:$I$24, MATCH($A2848, Input_Details!$J$5:$J$24, 0), 0)","v":{"$error":"#N/A"}},{"$f":"INDEX(Input_Details!$K$5:$K$24, MATCH($A2848, Input_Details!$J$5:$J$24, 0), 0)","v":{"$error":"#N/A"}},"Wed","15:00:00",1,9,0,0,0,0,0,0,0,0,0,0,0,0,0,0,0,0,0,0,0,0,0,0,0,0,0,0,0,0,0,0,"-","-","-","-",{"$f":"INDEX(Input_Details!$L$5:$L$24, MATCH($A2848, Input_Details!$J$5:$J$24, 0), 0)","v":{"$error":"#N/A"}},"Wed","15:00:00",0,0,0,0,0,0,0,0,0,0,0,0,0,0,0,0,0,0,0,0,0,0,0,0,0,0,0,0,0,0,0,0,"-","-","-","-",null,"Wed","15:00:00",1,9,0,0,0,0,0,0,0,0,0,0,0,0,0,0,0,0,0,0,0,0,0,0,0,0,0,0,0,0,0,0,"-","-",0,0,1,9,0,0,0,10,0,0,0,0,0,0,1,9,0,0,0,10]
[{"$error":"#N/A"},{"$f":"OFFSET(Input_Details!$Q$4,MATCH($A2870, Input_Details!$J$5:$J$24, 0), 2)","v":{"$error":"#N/A"}},{"$f":"INDEX(Input_Details!$H$5:$H$24, MATCH($A2870, Input_Details!$J$5:$J$24, 0), 0)","v":{"$error":"#N/A"}},{"$f":"INDEX(Input_Details!$I$5:$I$24, MATCH($A2870, Input_Details!$J$5:$J$24, 0), 0)","v":{"$error":"#N/A"}},{"$f":"INDEX(Input_Details!$K$5:$K$24, MATCH($A2870, Input_Details!$J$5:$J$24, 0), 0)","v":{"$error":"#N/A"}},"Wed","20:30:00",0,1,0,0,0,0,0,0,0,0,0,0,0,0,0,0,0,0,0,0,0,0,0,0,0,0,0,0,0,0,0,0,"-","-","-","-",{"$f":"INDEX(Input_Details!$L$5:$L$24, MATCH($A2870, Input_Details!$J$5:$J$24, 0), 0)","v":{"$error":"#N/A"}},"Wed","20:30:00",0,0,0,0,0,0,0,0,0,0,0,0,0,0,0,0,0,0,0,0,0,0,0,0,0,0,0,0,0,0,0,0,"-","-","-","-",null,"Wed","20:30:00",0,1,0,0,0,0,0,0,0,0,0,0,0,0,0,0,0,0,0,0,0,0,0,0,0,0,0,0,0,0,0,0,"-","-",0,0,0,1,0,0,0,1,0,0,0,0,0,0,0,1,0,0,0,1]
[{"$error":"#N/A"},{"$f":"OFFSET(Input_Details!$Q$4,MATCH($A2911, Input_Details!$J$5:$J$24, 0), 3)","v":{"$error":"#N/A"}},{"$f":"INDEX(Input_Details!$H$5:$H$24, MATCH($A2911, Input_Details!$J$5:$J$24, 0), 0)","v":{"$error":"#N/A"}},{"$f":"INDEX(Input_Details!$I$5:$I$24, MATCH($A2911, Input_Details!$J$5:$J$24, 0), 0)","v":{"$error":"#N/A"}},{"$f":"INDEX(Input_Details!$K$5:$K$24, MATCH($A2911, Input_Details!$J$5:$J$24, 0), 0)","v":{"$error":"#N/A"}},"Thu","06:45:00",0,1,0,0,0,0,0,0,0,0,0,0,0,0,0,0,0,0,0,0,0,0,0,0,0,0,0,0,0,0,0,0,"-","-","-","-",{"$f":"INDEX(Input_Details!$L$5:$L$24, MATCH($A2911, Input_Details!$J$5:$J$24, 0), 0)","v":{"$error":"#N/A"}},"Thu","06:45:00",0,0,0,0,0,0,0,0,0,0,0,0,0,0,0,0,0,0,0,0,0,0,0,0,0,0,0,0,0,0,0,0,"-","-","-","-",null,"Thu","06:45:00",0,1,0,0,0,0,0,0,0,0,0,0,0,0,0,0,0,0,0,0,0,0,0,0,0,0,0,0,0,0,0,0,"-","-",0,0,0,1,0,0,0,1,0,0,0,0,0,0,0,1,0,0,0,1]
[{"$error":"#N/A"},{"$f":"OFFSET(Input_Details!$Q$4,MATCH($A2933, Input_Details!$J$5:$J$24, 0), 3)","v":{"$error":"#N/A"}},{"$f":"INDEX(Input_Details!$H$5:$H$24, MATCH($A2933, Input_Details!$J$5:$J$24, 0), 0)","v":{"$error":"#N/A"}},{"$f":"INDEX(Input_Details!$I$5:$I$24, MATCH($A2933, Input_Details!$J$5:$J$24, 0), 0)","v":{"$error":"#N/A"}},{"$f":"INDEX(Input_Details!$K$5:$K$24, MATCH($A2933, Input_Details!$J$5:$J$24, 0), 0)","v":{"$error":"#N/A"}},"Thu","12:15:00",1,3,0,0,0,0,0,0,0,0,0,0,0,0,0,0,0,0,0,0,0,0,0,0,0,0,0,0,0,0,0,0,"-","-","-","-",{"$f":"INDEX(Input_Details!$L$5:$L$24, MATCH($A2933, Input_Details!$J$5:$J$24, 0), 0)","v":{"$error":"#N/A"}},"Thu","12:15:00",0,0,0,0,0,0,0,0,0,0,0,0,0,0,0,0,0,0,0,0,0,0,0,0,0,0,0,0,0,0,0,0,"-","-","-","-",null,"Thu","12:15:00",1,3,0,0,0,0,0,0,0,0,0,0,0,0,0,0,0,0,0,0,0,0,0,0,0,0,0,0,0,0,0,0,"-","-",0,0,1,3,0,0,0,4,0,0,0,0,0,0,1,3,0,0,0,4]
[{"$error":"#N/A"},{"$f":"OFFSET(Input_Details!$Q$4,MATCH($A2952, Input_Details!$J$5:$J$24, 0), 3)","v":{"$error":"#N/A"}},{"$f":"INDEX(Input_Details!$H$5:$H$24, MATCH($A2952, Input_Details!$J$5:$J$24, 0), 0)","v":{"$error":"#N/A"}},{"$f":"INDEX(Input_Details!$I$5:$I$24, MATCH($A2952, Input_Details!$J$5:$J$24, 0), 0)","v":{"$error":"#N/A"}},{"$f":"INDEX(Input_Details!$K$5:$K$24, MATCH($A2952, Input_Details!$J$5:$J$24, 0), 0)","v":{"$error":"#N/A"}},"Thu","17:00:00",0,2,0,0,0,0,0,0,0,0,0,0,0,0,0,0,0,0,0,0,0,0,0,0,0,0,0,0,0,0,0,0,"-","-","-","-",{"$f":"INDEX(Input_Details!$L$5:$L$24, MATCH($A2952, Input_Details!$J$5:$J$24, 0), 0)","v":{"$error":"#N/A"}},"Thu","17:00:00",0,0,0,0,0,0,0,0,0,0,0,0,0,0,0,0,0,0,0,0,0,0,0,0,0,0,0,0,0,0,0,0,"-","-","-","-",null,"Thu","17:00:00",0,2,0,0,0,0,0,0,0,0,0,0,0,0,0,0,0,0,0,0,0,0,0,0,0,0,0,0,0,0,0,0,"-","-",0,0,0,2,0,0,0,2,0,0,0,0,0,0,0,2,0,0,0,2]
[{"$error":"#N/A"},{"$f":"OFFSET(Input_Details!$Q$4,MATCH($A2981, Input_Details!$J$5:$J$24, 0), 4)","v":{"$error":"#N/A"}},{"$f":"INDEX(Input_Details!$H$5:$H$24, MATCH($A2981, Input_Details!$J$5:$J$24, 0), 0)","v":{"$error":"#N/A"}},{"$f":"INDEX(Input_Details!$I$5:$I$24, MATCH($A2981, Input_Details!$J$5:$J$24, 0), 0)","v":{"$error":"#N/A"}},{"$f":"INDEX(Input_Details!$K$5:$K$24, MATCH($A2981, Input_Details!$J$5:$J$24, 0), 0)","v":{"$error":"#N/A"}},"Fri","00:15:00",0,0,0,0,0,0,0,0,0,0,0,0,0,0,0,0,0,0,0,0,0,0,0,0,0,0,0,0,0,0,0,0,"-","-","-","-",{"$f":"INDEX(Input_Details!$L$5:$L$24, MATCH($A2981, Input_Details!$J$5:$J$24, 0), 0)","v":{"$error":"#N/A"}},"Fri","00:15:00",0,0,0,0,0,0,0,0,0,0,0,0,0,0,0,0,0,0,0,0,0,0,0,0,0,0,0,0,0,0,0,0,"-","-","-","-",null,"Fri","00:15:00",{"$f":"IF(OR(H2981=\"\", AU2981=\"\"), \"-\",SUM(H2981+AU2981))","v":0},0,0,0,0,0,0,0,0,0,0,0,0,0,0,0,0,0,0,0,0,0,0,0,0,0,0,0,0,0,0,0,{"$f":"IF(OR(DW2981=\"-\", EC2981=\"-\", EI2981=\"-\", EI2981=0),\"-\",IF(OR(DW2981=\"-\", DW2981=0),CA2981,IF(EC2981=0,AN2981,SUM((AN2981*DW2981),(CA2981*EC2981))/EI2981)))","v":"-"},{"$f":"IFERROR(IF(OR(DW2981=\"-\", EC2981=\"-\", EI2981=\"-\", EI2981=0), \"-\", IF(AO2981=\"-\", CB2981, AVERAGE(AO2981,CB2981))), \"-\")","v":"-"},{"$f":"IF(OR(DW2981=\"-\", EC2981=\"-\",EI2981=\"-\", EI2981=0),\"-\",MIN(AP2981,CC2981))","v":"-"},{"$f":"IF(OR(DW2981=\"-\", EC2981=\"-\",EI2981=\"-\", EI2981=0),\"-\",MAX(AQ2981,CD2981))","v":"-"},0,0,0,0,0,0,{"$f":"IF(AU2981=\"\", \"-\", AU2981)","v":0},{"$f":"IF(DX2981=\"-\", \"-\", SUM(AV2981:AW2981))","v":0},{"$f":"IF(DX2981=\"-\", \"-\", AX2981)","v":0},0,0,{"$f":"IF(DX2981=\"-\", \"-\", SUM(AU2981:BF2981))","v":0},{"$f":"IF(OR(DR2981=\"-\", DX2981=\"-\"), \"-\", SUM(DR2981,DX2981))","v":0},0,0,0,0,0]
[{"$error":"#N/A"},{"$f":"OFFSET(Input_Details!$Q$4,MATCH($A3016, Input_Details!$J$5:$J$24, 0), 4)","v":{"$error":"#N/A"}},{"$f":"INDEX(Input_Details!$H$5:$H$24, MATCH($A3016, Input_Details!$J$5:$J$24, 0), 0)","v":{"$error":"#N/A"}},{"$f":"INDEX(Input_Details!$I$5:$I$24, MATCH($A3016, Input_Details!$J$5:$J$24, 0), 0)","v":{"$error":"#N/A"}},{"$f":"INDEX(Input_Details!$K$5:$K$24, MATCH($A3016, Input_Details!$J$5:$J$24, 0), 0)","v":{"$error":"#N/A"}},"Fri","09:00:00",0,5,0,0,0,0,0,0,0,0,0,0,0,0,0,0,0,0,0,0,0,0,0,0,0,0,0,0,0,0,0,0,"-","-","-","-",{"$f":"INDEX(Input_Details!$L$5:$L$24, MATCH($A3016, Input_Details!$J$5:$J$24, 0), 0)","v":{"$error":"#N/A"}},"Fri","09:00:00",0,0,0,0,0,0,0,0,0,0,0,0,0,0,0,0,0,0,0,0,0,0,0,0,0,0,0,0,0,0,0,0,"-","-","-","-",null,"Fri","09:00:00",0,5,0,0,0,0,0,0,0,0,0,0,0,0,0,0,0,0,0,0,0,0,0,0,0,0,0,0,0,0,0,0,"-","-",0,0,0,5,0,0,0,5,0,0,0,0,0,0,0,5,0,0,0,5]
[{"$error":"#N/A"},{"$f":"OFFSET(Input_Details!$Q$4,MATCH($A3044, Input_Details!$J$5:$J$24, 0), 4)","v":{"$error":"#N/A"}},{"$f":"INDEX(Input_Details!$H$5:$H$24, MATCH($A3044, Input_Details!$J$5:$J$24, 0), 0)","v":{"$error":"#N/A"}},{"$f":"INDEX(Input_Details!$I$5:$I$24, MATCH($A3044, Input_Details!$J$5:$J$24, 0), 0)","v":{"$error":"#N/A"}},{"$f":"INDEX(Input_Details!$K$5:$K$24, MATCH($A3044, Input_Details!$J$5:$J$24, 0), 0)","v":{"$error":"#N/A"}},"Fri","16:00:00",0,6,0,0,0,0,0,0,0,0,0,0,0,0,0,0,0,0,0,0,0,0,0,0,0,0,0,0,0,0,0,0,"-","-","-","-",{"$f":"INDEX(Input_Details!$L$5:$L$24, MATCH($A3044, Input_Details!$J$5:$J$24, 0), 0)","v":{"$error":"#N/A"}},"Fri","16:00:00",0,0,0,0,0,0,0,0,0,0,0,0,0,0,0,0,0,0,0,0,0,0,0,0,0,0,0,0,0,0,0,0,"-","-","-","-",null,"Fri","16:00:00",0,{"$f":"IF(OR(I3044=\"\", AV3044=\"\"), \"-\",SUM(I3044+AV3044))","v":6},{"$f":"IF(OR(J3044=\"\", AW3044=\"\"), \"-\",SUM(J3044+AW3044))","v":0},{"$f":"IF(OR(K3044=\"\", AX3044=\"\"), \"-\",SUM(K3044+AX3044))","v":0},{"$f":"IF(OR(L3044=\"\", AY3044=\"\"), \"-\",SUM(L3044+AY3044))","v":0},{"$f":"IF(OR(M3044=\"\", AZ3044=\"\"), \"-\",SUM(M3044+AZ3044))","v":0},{"$f":"IF(OR(N3044=\"\", BA3044=\"\"), \"-\",SUM(N3044+BA3044))","v":0},{"$f":"IF(OR(O3044=\"\", BB3044=\"\"), \"-\",SUM(O3044+BB3044))","v":0},{"$f":"IF(OR(P3044=\"\", BC3044=\"\"), \"-\",SUM(P3044+BC3044))","v":0},{"$f":"IF(OR(Q3044=\"\", BD3044=\"\"), \"-\",SUM(Q3044+BD3044))","v":0},{"$f":"IF(OR(R3044=\"\", BE3044=\"\"), \"-\",SUM(R3044+BE3044))","v":0},{"$f":"IF(OR(S3044=\"\", BF3044=\"\"), \"-\",SUM(S3044+BF3044))","v":0},{"$f":"IF(OR(T3044=\"\", BG3044=\"\"), \"-\",SUM(T3044+BG3044))","v":0},{"$f":"IF(OR(U3044=\"\", BH3044=\"\"), \"-\",SUM(U3044+BH3044))","v":0},{"$f":"IF(OR(V3044=\"\", BI3044=\"\"), \"-\",SUM(V3044+BI3044))","v":0},{"$f":"IF(OR(W3044=\"\", BJ3044=\"\"), \"-\",SUM(W3044+BJ3044))","v":0},{"$f":"IF(OR(X3044=\"\", BK3044=\"\"), \"-\",SUM(X3044+BK3044))","v":0},{"$f":"IF(OR(Y3044=\"\", BL3044=\"\"), \"-\",SUM(Y3044+BL3044))","v":0},{"$f":"IF(OR(Z3044=\"\", BM3044=\"\"), \"-\",SUM(Z3044+BM3044))","v":0},{"$f":"IF(OR(AA3044=\"\", BN3044=\"\"), \"-\",SUM(AA3044+BN3044))","v":0},{"$f":"IF(OR(AB3044=\"\", BO3044=\"\"), \"-\",SUM(AB3044+BO3044))","v":0},{"$f":"IF(OR(AC3044=\"\", BP3044=\"\"), \"-\",SUM(AC3044+BP3044))","v":0},{"$f":"IF(OR(AD3044=\"\", BQ3044=\"\"), \"-\",SUM(AD3044+BQ3044))","v":0},{"$f":"IF(OR(AE3044=\"\", BR3044=\"\"), \"-\",SUM(AE3044+BR3044))","v":0},{"$f":"IF(OR(AF3044=\"\", BS3044=\"\"), \"-\",SUM(AF3044+BS3044))","v":0},{"$f":"IF(OR(AG3044=\"\", BT3044=\"\"), \"-\",SUM(AG3044+BT3044))","v":0},{"$f":"IF(OR(AH3044=\"\", BU3044=\"\"), \"-\",SUM(AH3044+BU3044))","v":0},{"$f":"IF(OR(AI3044=\"\", BV3044=\"\"), \"-\",SUM(AI3044+BV3044))","v":0},{"$f":"IF(OR(AJ3044=\"\", BW3044=\"\"), \"-\",SUM(AJ3044+BW3044))","v":0},{"$f":"IF(OR(AK3044=\"\", BX3044=\"\"), \"-\",SUM(AK3044+BX3044))","v":0},{"$f":"IF(OR(AL3044=\"\", BY3044=\"\"), \"-\",SUM(AL3044+BY3044))","v":0},{"$f":"IF(OR(AM3044=\"\", BZ3044=\"\"), \"-\",SUM(AM3044+BZ3044))","v":0},"-","-",0,0,{"$f":"IF(H3044=\"\", \"-\", H3044)","v":0},{"$f":"IF(DR3044=\"-\", \"-\", SUM(I3044:J3044))","v":6},{"$f":"IF(DR3044=\"-\", \"-\", K3044)","v":0},0,0,{"$f":"IF(DR3044=\"-\", \"-\", SUM(H3044:S3044))","v":6},0,0,0,0,0,0,0,6,0,0,0,6]
[{"$error":"#N/A"},{"$f":"OFFSET(Input_Details!$Q$4,MATCH($A3052, Input_Details!$J$5:$J$24, 0), 4)","v":{"$error":"#N/A"}},{"$f":"INDEX(Input_Details!$H$5:$H$24, MATCH($A3052, Input_Details!$J$5:$J$24, 0), 0)","v":{"$error":"#N/A"}},{"$f":"INDEX(Input_Details!$I$5:$I$24, MATCH($A3052, Input_Details!$J$5:$J$24, 0), 0)","v":{"$error":"#N/A"}},{"$f":"INDEX(Input_Details!$K$5:$K$24, MATCH($A3052, Input_Details!$J$5:$J$24, 0), 0)","v":{"$error":"#N/A"}},"Fri","18:00:00",0,6,0,0,0,0,0,0,0,0,0,0,0,0,0,0,0,0,0,0,0,0,0,0,0,0,0,0,0,0,0,0,"-","-","-","-",{"$f":"INDEX(Input_Details!$L$5:$L$24, MATCH($A3052, Input_Details!$J$5:$J$24, 0), 0)","v":{"$error":"#N/A"}},"Fri","18:00:00",0,0,0,0,0,0,0,0,0,0,0,0,0,0,0,0,0,0,0,0,0,0,0,0,0,0,0,0,0,0,0,0,"-","-","-","-",null,"Fri","18:00:00",0,6,0,0,0,0,0,0,0,0,0,0,0,0,0,0,0,0,0,0,0,0,0,0,0,0,0,0,0,0,0,0,"-","-",0,0,0,6,0,0,0,6,0,0,0,0,0,0,0,6,0,0,0,6]
[{"$error":"#N/A"},{"$f":"OFFSET(Input_Details!$Q$4,MATCH($A3085, Input_Details!$J$5:$J$24, 0), 5)","v":{"$error":"#N/A"}},{"$f":"INDEX(Input_Details!$H$5:$H$24, MATCH($A3085, Input_Details!$J$5:$J$24, 0), 0)","v":{"$error":"#N/A"}},{"$f":"INDEX(Input_Details!$I$5:$I$24, MATCH($A3085, Input_Details!$J$5:$J$24, 0), 0)","v":{"$error":"#N/A"}},{"$f":"INDEX(Input_Details!$K$5:$K$24, MATCH($A3085, Input_Details!$J$5:$J$24, 0), 0)","v":{"$error":"#N/A"}},"Sat","02:15:00",0,0,0,0,0,0,0,0,0,0,0,0,0,0,0,0,0,0,0,0,0,0,0,0,0,0,0,0,0,0,0,0,"-","-","-","-",{"$f":"INDEX(Input_Details!$L$5:$L$24, MATCH($A3085, Input_Details!$J$5:$J$24, 0), 0)","v":{"$error":"#N/A"}},"Sat","02:15:00",0,0,0,0,0,0,0,0,0,0,0,0,0,0,0,0,0,0,0,0,0,0,0,0,0,0,0,0,0,0,0,0,"-","-","-","-",null,"Sat","02:15:00",0,0,0,0,0,0,0,0,0,0,0,0,0,0,0,0,0,0,0,0,0,0,0,0,0,0,0,0,0,0,0,0,"-","-","-","-",0,0,0,0,0,0,0,0,0,0,0,0,0,0,0,0,0,0]
[{"$error":"#N/A"},{"$f":"OFFSET(Input_Details!$Q$4,MATCH($A3114, Input_Details!$J$5:$J$24, 0), 5)","v":{"$error":"#N/A"}},{"$f":"INDEX(Input_Details!$H$5:$H$24, MATCH($A3114, Input_Details!$J$5:$J$24, 0), 0)","v":{"$error":"#N/A"}},{"$f":"INDEX(Input_Details!$I$5:$I$24, MATCH($A3114, Input_Details!$J$5:$J$24, 0), 0)","v":{"$error":"#N/A"}},{"$f":"INDEX(Input_Details!$K$5:$K$24, MATCH($A3114, Input_Details!$J$5:$J$24, 0), 0)","v":{"$error":"#N/A"}},"Sat","09:30:00",2,4,0,0,0,0,0,0,0,0,0,0,0,0,0,0,0,0,0,0,0,0,0,0,0,0,0,0,0,0,0,0,"-","-","-","-",{"$f":"INDEX(Input_Details!$L$5:$L$24, MATCH($A3114, Input_Details!$J$5:$J$24, 0), 0)","v":{"$error":"#N/A"}},"Sat","09:30:00",0,0,0,0,0,0,0,0,0,0,0,0,0,0,0,0,0,0,0,0,0,0,0,0,0,0,0,0,0,0,0,0,"-","-","-","-",null,"Sat","09:30:00",2,4,0,0,0,0,0,0,0,0,0,0,0,0,0,0,0,0,0,0,0,0,0,0,0,0,0,0,0,0,0,0,"-","-",0,0,2,4,0,0,0,6,0,0,0,0,0,0,2,4,0,0,0,6]
[{"$error":"#N/A"},{"$f":"OFFSET(Input_Details!$Q$4,MATCH($A3135, Input_Details!$J$5:$J$24, 0), 5)","v":{"$error":"#N/A"}},{"$f":"INDEX(Input_Details!$H$5:$H$24, MATCH($A3135, Input_Details!$J$5:$J$24, 0), 0)","v":{"$error":"#N/A"}},{"$f":"INDEX(Input_Details!$I$5:$I$24, MATCH($A3135, Input_Details!$J$5:$J$24, 0), 0)","v":{"$error":"#N/A"}},{"$f":"INDEX(Input_Details!$K$5:$K$24, MATCH($A3135, Input_Details!$J$5:$J$24, 0), 0)","v":{"$error":"#N/A"}},"Sat","14:45:00",0,1,0,0,0,0,0,0,0,0,0,0,0,0,0,0,0,0,0,0,0,0,0,0,0,0,0,0,0,0,0,0,"-","-","-","-",{"$f":"INDEX(Input_Details!$L$5:$L$24, MATCH($A3135, Input_Details!$J$5:$J$24, 0), 0)","v":{"$error":"#N/A"}},"Sat","14:45:00",0,0,0,0,0,0,0,0,0,0,0,0,0,0,0,0,0,0,0,0,0,0,0,0,0,0,0,0,0,0,0,0,"-","-","-","-",null,"Sat","14:45:00",0,1,0,0,0,0,0,0,0,0,0,0,0,0,0,0,0,0,0,0,0,0,0,0,0,0,0,0,0,0,0,0,"-","-",0,0,0,1,0,0,0,1,0,0,0,0,0,0,0,1,0,0,0,1]
[{"$error":"#N/A"},{"$f":"OFFSET(Input_Details!$Q$4,MATCH($A3177, Input_Details!$J$5:$J$24, 0), 6)","v":{"$error":"#N/A"}},{"$f":"INDEX(Input_Details!$H$5:$H$24, MATCH($A3177, Input_Details!$J$5:$J$24, 0), 0)","v":{"$error":"#N/A"}},{"$f":"INDEX(Input_Details!$I$5:$I$24, MATCH($A3177, Input_Details!$J$5:$J$24, 0), 0)","v":{"$error":"#N/A"}},{"$f":"INDEX(Input_Details!$K$5:$K$24, MATCH($A3177, Input_Details!$J$5:$J$24, 0), 0)","v":{"$error":"#N/A"}},"Sun","01:15:00",0,0,0,0,0,0,0,0,0,0,0,0,0,0,0,0,0,0,0,0,0,0,0,0,0,0,0,0,0,0,0,0,"-","-","-","-",{"$f":"INDEX(Input_Details!$L$5:$L$24, MATCH($A3177, Input_Details!$J$5:$J$24, 0), 0)","v":{"$error":"#N/A"}},"Sun","01:15:00",0,0,0,0,0,0,0,0,0,0,0,0,0,0,0,0,0,0,0,0,0,0,0,0,0,0,0,0,0,0,0,0,"-","-","-","-",null,"Sun","01:15:00",0,0,0,0,0,0,0,0,0,0,0,0,0,0,0,0,0,0,0,0,0,0,0,0,0,0,0,0,0,0,0,0,"-","-","-","-",0,0,0,0,0,0,0,0,0,0,0,0,0,0,0,0,0,0]
[{"$error":"#N/A"},{"$f":"OFFSET(Input_Details!$Q$4,MATCH($A3198, Input_Details!$J$5:$J$24, 0), 6)","v":{"$error":"#N/A"}},{"$f":"INDEX(Input_Details!$H$5:$H$24, MATCH($A3198, Input_Details!$J$5:$J$24, 0), 0)","v":{"$error":"#N/A"}},{"$f":"INDEX(Input_Details!$I$5:$I$24, MATCH($A3198, Input_Details!$J$5:$J$24, 0), 0)","v":{"$error":"#N/A"}},{"$f":"INDEX(Input_Details!$K$5:$K$24, MATCH($A3198, Input_Details!$J$5:$J$24, 0), 0)","v":{"$error":"#N/A"}},"Sun","06:30:00",0,0,0,0,0,0,0,0,0,0,0,0,0,0,0,0,0,0,0,0,0,0,0,0,0,0,0,0,0,0,0,0,"-","-","-","-",{"$f":"INDEX(Input_Details!$L$5:$L$24, MATCH($A3198, Input_Details!$J$5:$J$24, 0), 0)","v":{"$error":"#N/A"}},"Sun","06:30:00",0,0,0,0,0,0,0,0,0,0,0,0,0,0,0,0,0,0,0,0,0,0,0,0,0,0,0,0,0,0,0,0,"-","-","-","-",null,"Sun","06:30:00",0,0,0,0,0,0,0,0,0,0,0,0,0,0,0,0,0,0,0,0,0,0,0,0,0,0,0,0,0,0,0,0,"-","-","-","-",0,0,0,0,0,0,0,0,0,0,0,0,0,0,0,0,0,0]
[{"$error":"#N/A"},{"$f":"OFFSET(Input_Details!$Q$4,MATCH($A3218, Input_Details!$J$5:$J$24, 0), 6)","v":{"$error":"#N/A"}},{"$f":"INDEX(Input_Details!$H$5:$H$24, MATCH($A3218, Input_Details!$J$5:$J$24, 0), 0)","v":{"$error":"#N/A"}},{"$f":"INDEX(Input_Details!$I$5:$I$24, MATCH($A3218, Input_Details!$J$5:$J$24, 0), 0)","v":{"$error":"#N/A"}},{"$f":"INDEX(Input_Details!$K$5:$K$24, MATCH($A3218, Input_Details!$J$5:$J$24, 0), 0)","v":{"$error":"#N/A"}},"Sun","11:30:00",1,1,0,0,0,0,0,0,0,0,0,0,0,0,0,0,0,0,0,0,0,0,0,0,0,0,0,0,0,0,0,0,"-","-","-","-",{"$f":"INDEX(Input_Details!$L$5:$L$24, MATCH($A3218, Input_Details!$J$5:$J$24, 0), 0)","v":{"$error":"#N/A"}},"Sun","11:30:00",0,0,0,0,0,0,0,0,0,0,0,0,0,0,0,0,0,0,0,0,0,0,0,0,0,0,0,0,0,0,0,0,"-","-","-","-",null,"Sun","11:30:00",1,1,0,0,0,0,0,0,0,0,0,0,0,0,0,0,0,0,0,0,0,0,0,0,0,0,0,0,0,0,0,0,"-","-",0,0,1,1,0,0,0,2,0,0,0,0,0,0,1,1,0,0,0,2]
[{"$error":"#N/A"},{"$f":"OFFSET(Input_Details!$Q$4,MATCH($A3247, Input_Details!$J$5:$J$24, 0), 6)","v":{"$error":"#N/A"}},{"$f":"INDEX(Input_Details!$H$5:$H$24, MATCH($A3247, Input_Details!$J$5:$J$24, 0), 0)","v":{"$error":"#N/A"}},{"$f":"INDEX(Input_Details!$I$5:$I$24, MATCH($A3247, Input_Details!$J$5:$J$24, 0), 0)","v":{"$error":"#N/A"}},{"$f":"INDEX(Input_Details!$K$5:$K$24, MATCH($A3247, Input_Details!$J$5:$J$24, 0), 0)","v":{"$error":"#N/A"}},"Sun","18:45:00",1,1,0,0,0,0,0,0,0,0,0,0,0,0,0,0,0,0,0,0,0,0,0,0,0,0,0,0,0,0,0,0,"-","-","-","-",{"$f":"INDEX(Input_Details!$L$5:$L$24, MATCH($A3247, Input_Details!$J$5:$J$24, 0), 0)","v":{"$error":"#N/A"}},"Sun","18:45:00",0,0,0,0,0,0,0,0,0,0,0,0,0,0,0,0,0,0,0,0,0,0,0,0,0,0,0,0,0,0,0,0,"-","-","-","-",null,"Sun","18:45:00",1,1,0,0,0,0,0,0,0,0,0,0,0,0,0,0,0,0,0,0,0,0,0,0,0,0,0,0,0,0,0,0,"-","-",0,0,1,1,0,0,0,2,0,0,0,0,0,0,1,1,0,0,0,2]
[{"$error":"#N/A"},"Weekday Average",{"$f":"INDEX(Input_Details!$H$5:$H$24, MATCH($A3281, Input_Details!$J$5:$J$24, 0), 0)","v":{"$error":"#N/A"}},{"$f":"INDEX(Input_Details!$I$5:$I$24, MATCH($A3281, Input_Details!$J$5:$J$24, 0), 0)","v":{"$error":"#N/A"}},{"$f":"INDEX(Input_Details!$K$5:$K$24, MATCH($A3281, Input_Details!$J$5:$J$24, 0), 0)","v":{"$error":"#N/A"}},"WD Ave","03:15:00",{"$f":"IF(AND(H2609=\"\",H2705=\"\",H2801=\"\",H2897=\"\",H2993=\"\"), \"-\", IF(H2609+H2705+H2801+H2897+H2993=0,0,ROUND(AVERAGE(H2609,H2705,H2801,H2897,H2993), 0)))","v":0},0,0,0,0,0,0,0,0,0,0,0,0,0,0,0,0,0,0,0,0,0,0,0,0,0,0,0,0,0,0,0,{"$f":"IF(SUM(H3281:S3281)=0,\"-\",AVERAGEIF(G2596:G3075,$G3281,AN2596:AN3075))","v":"-"},{"$f":"IFERROR(IF(SUM(H3281:S3281)=0,\"-\",AVERAGEIF(G2596:G3075,G3281,AO2596:AO3075)), \"-\")","v":"-"},"-","-",{"$f":"INDEX(Input_Details!$L$5:$L$24, MATCH($A3281, Input_Details!$J$5:$J$24, 0), 0)","v":{"$error":"#N/A"}},"WD Ave","03:15:00",{"$f":"IF(AND(AU2609=\"\",AU2705=\"\",AU2801=\"\",AU2897=\"\",AU2993=\"\"), \"-\", IF(AU2609+AU2705+AU2801+AU2897+AU2993=0,0,ROUND(AVERAGE(AU2609,AU2705,AU2801,AU2897,AU2993), 0)))","v":0},0,0,0,0,0,0,0,0,0,0,0,0,0,0,0,0,0,0,0,0,0,0,0,0,0,0,0,0,0,0,0,{"$f":"IF(SUM(AU3281:BF3281)=0,\"-\",AVERAGEIF(AT2596:AT3075,$G3281,CA2596:CA3075))","v":"-"},{"$f":"IFERROR(IF(SUM(AU3281:BF3281)=0,\"-\",AVERAGEIF(AT2596:AT3075,AT3281,CB2596:CB3075)), \"-\")","v":"-"},"-","-",null,"WD Ave","03:15:00",{"$f":"IF(AND(CH2609=\"-\",CH2705=\"-\",CH2801=\"-\",CH2897=\"-\",CH2993=\"-\"), \"-\", ROUND(AVERAGE(CH2609,CH2705,CH2801,CH2897,CH2993), 0))","v":0},0,0,0,0,0,0,0,0,0,0,0,{"$f":"IF(AND(CT2609=\"-\",CT2705=\"-\",CT2801=\"-\",CT2897=\"-\",CT2993=\"-\"), \"-\", IF(SUM($CH3281:$CS3281)=0, 0, ROUND(AVERAGE(CT2609,CT2705,CT2801,CT2897,CT2993), 0)))","v":0},0,0,0,0,0,0,0,0,0,0,0,0,0,0,0,0,0,0,0,"-","-","-","-",0,0,0,0,0,0,0,0,0,0,0,0,0,0,0,0,0,0]
[{"$error":"#N/A"},"Weekday Average",{"$f":"INDEX(Input_Details!$H$5:$H$24, MATCH($A3288, Input_Details!$J$5:$J$24, 0), 0)","v":{"$error":"#N/A"}},{"$f":"INDEX(Input_Details!$I$5:$I$24, MATCH($A3288, Input_Details!$J$5:$J$24, 0), 0)","v":{"$error":"#N/A"}},{"$f":"INDEX(Input_Details!$K$5:$K$24, MATCH($A3288, Input_Details!$J$5:$J$24, 0), 0)","v":{"$error":"#N/A"}},"WD Ave","05:00:00",{"$f":"IF(AND(H2616=\"\",H2712=\"\",H2808=\"\",H2904=\"\",H3000=\"\"), \"-\", IF(H2616+H2712+H2808+H2904+H3000=0,0,ROUND(AVERAGE(H2616,H2712,H2808,H2904,H3000), 0)))","v":0},0,0,0,0,0,0,0,0,0,0,0,0,0,0,0,0,0,0,0,0,0,0,0,0,0,0,0,0,0,0,0,{"$f":"IF(SUM(H3288:S3288)=0,\"-\",AVERAGEIF(G2596:G3075,$G3288,AN2596:AN3075))","v":"-"},{"$f":"IFERROR(IF(SUM(H3288:S3288)=0,\"-\",AVERAGEIF(G2596:G3075,G3288,AO2596:AO3075)), \"-\")","v":"-"},"-","-",{"$f":"INDEX(Input_Details!$L$5:$L$24, MATCH($A3288, Input_Details!$J$5:$J$24, 0), 0)","v":{"$error":"#N/A"}},"WD Ave","05:00:00",{"$f":"IF(AND(AU2616=\"\",AU2712=\"\",AU2808=\"\",AU2904=\"\",AU3000=\"\"), \"-\", IF(AU2616+AU2712+AU2808+AU2904+AU3000=0,0,ROUND(AVERAGE(AU2616,AU2712,AU2808,AU2904,AU3000), 0)))","v":0},0,0,0,0,0,0,0,0,0,0,0,0,0,0,0,0,0,0,0,0,0,0,0,0,0,0,0,0,0,0,0,{"$f":"IF(SUM(AU3288:BF3288)=0,\"-\",AVERAGEIF(AT2596:AT3075,$G3288,CA2596:CA3075))","v":"-"},{"$f":"IFERROR(IF(SUM(AU3288:BF3288)=0,\"-\",AVERAGEIF(AT2596:AT3075,AT3288,CB2596:CB3075)), \"-\")","v":"-"},"-","-",null,"WD Ave","05:00:00",{"$f":"IF(AND(CH2616=\"-\",CH2712=\"-\",CH2808=\"-\",CH2904=\"-\",CH3000=\"-\"), \"-\", ROUND(AVERAGE(CH2616,CH2712,CH2808,CH2904,CH3000), 0))","v":0},0,0,0,0,0,0,0,0,0,0,0,{"$f":"IF(AND(CT2616=\"-\",CT2712=\"-\",CT2808=\"-\",CT2904=\"-\",CT3000=\"-\"), \"-\", IF(SUM($CH3288:$CS3288)=0, 0, ROUND(AVERAGE(CT2616,CT2712,CT2808,CT2904,CT3000), 0)))","v":0},0,0,0,0,0,0,0,0,0,0,0,0,0,0,0,0,0,0,0,"-","-","-","-",0,0,0,0,0,0,0,0,0,0,0,0,0,0,0,0,0,0]
[{"$error":"#N/A"},"Weekday Average",{"$f":"INDEX(Input_Details!$H$5:$H$24, MATCH($A3317, Input_Details!$J$5:$J$24, 0), 0)","v":{"$error":"#N/A"}},{"$f":"INDEX(Input_Details!$I$5:$I$24, MATCH($A3317, Input_Details!$J$5:$J$24, 0), 0)","v":{"$error":"#N/A"}},{"$f":"INDEX(Input_Details!$K$5:$K$24, MATCH($A3317, Input_Details!$J$5:$J$24, 0), 0)","v":{"$error":"#N/A"}},"WD Ave","12:15:00",{"$f":"IF(AND(H2645=\"\",H2741=\"\",H2837=\"\",H2933=\"\",H3029=\"\"), \"-\", IF(H2645+H2741+H2837+H2933+H3029=0,0,ROUND(AVERAGE(H2645,H2741,H2837,H2933,H3029), 0)))","v":0},2,0,0,0,0,0,0,0,0,0,0,0,0,0,0,0,0,0,0,0,0,0,0,0,0,0,0,0,0,0,0,{"$f":"IF(SUM(H3317:S3317)=0,\"-\",AVERAGEIF(G2596:G3075,$G3317,AN2596:AN3075))","v":{"$error":"#DIV/0!"}},{"$f":"IFERROR(IF(SUM(H3317:S3317)=0,\"-\",AVERAGEIF(G2596:G3075,G3317,AO2596:AO3075)), \"-\")","v":"-"},0,0,{"$f":"INDEX(Input_Details!$L$5:$L$24, MATCH($A3317, Input_Details!$J$5:$J$24, 0), 0)","v":{"$error":"#N/A"}},"WD Ave","12:15:00",{"$f":"IF(AND(AU2645=\"\",AU2741=\"\",AU2837=\"\",AU2933=\"\",AU3029=\"\"), \"-\", IF(AU2645+AU2741+AU2837+AU2933+AU3029=0,0,ROUND(AVERAGE(AU2645,AU2741,AU2837,AU2933,AU3029), 0)))","v":0},0,0,0,0,0,0,0,0,0,0,0,0,0,0,0,0,0,0,0,0,0,0,0,0,0,0,0,0,0,0,0,{"$f":"IF(SUM(AU3317:BF3317)=0,\"-\",AVERAGEIF(AT2596:AT3075,$G3317,CA2596:CA3075))","v":"-"},{"$f":"IFERROR(IF(SUM(AU3317:BF3317)=0,\"-\",AVERAGEIF(AT2596:AT3075,AT3317,CB2596:CB3075)), \"-\")","v":"-"},"-","-",null,"WD Ave","12:15:00",{"$f":"IF(AND(CH2645=\"-\",CH2741=\"-\",CH2837=\"-\",CH2933=\"-\",CH3029=\"-\"), \"-\", ROUND(AVERAGE(CH2645,CH2741,CH2837,CH2933,CH3029), 0))","v":0},2,0,0,0,0,0,0,0,0,0,0,{"$f":"IF(AND(CT2645=\"-\",CT2741=\"-\",CT2837=\"-\",CT2933=\"-\",CT3029=\"-\"), \"-\", IF(SUM($CH3317:$CS3317)=0, 0, ROUND(AVERAGE(CT2645,CT2741,CT2837,CT2933,CT3029), 0)))","v":0},0,0,0,0,0,0,0,0,0,0,0,0,0,0,0,0,0,0,0,{"$error":"#DIV/0!"},"-",0,0,0,2,0,0,0,2,0,0,0,0,0,0,0,2,0,0,0,2]
[{"$error":"#N/A"},"Weekday Average",{"$f":"INDEX(Input_Details!$H$5:$H$24, MATCH($A3351, Input_Details!$J$5:$J$24, 0), 0)","v":{"$error":"#N/A"}},{"$f":"INDEX(Input_Details!$I$5:$I$24, MATCH($A3351, Input_Details!$J$5:$J$24, 0), 0)","v":{"$error":"#N/A"}},{"$f":"INDEX(Input_Details!$K$5:$K$24, MATCH($A3351, Input_Details!$J$5:$J$24, 0), 0)","v":{"$error":"#N/A"}},"WD Ave","20:45:00",{"$f":"IF(AND(H2679=\"\",H2775=\"\",H2871=\"\",H2967=\"\",H3063=\"\"), \"-\", IF(H2679+H2775+H2871+H2967+H3063=0,0,ROUND(AVERAGE(H2679,H2775,H2871,H2967,H3063), 0)))","v":0},1,0,0,0,0,0,0,0,0,0,0,0,0,0,0,0,0,0,0,0,0,0,0,0,0,0,0,0,0,0,0,{"$f":"IF(SUM(H3351:S3351)=0,\"-\",AVERAGEIF(G2596:G3075,$G3351,AN2596:AN3075))","v":{"$error":"#DIV/0!"}},{"$f":"IFERROR(IF(SUM(H3351:S3351)=0,\"-\",AVERAGEIF(G2596:G3075,G3351,AO2596:AO3075)), \"-\")","v":"-"},0,0,{"$f":"INDEX(Input_Details!$L$5:$L$24, MATCH($A3351, Input_Details!$J$5:$J$24, 0), 0)","v":{"$error":"#N/A"}},"WD Ave","20:45:00",{"$f":"IF(AND(AU2679=\"\",AU2775=\"\",AU2871=\"\",AU2967=\"\",AU3063=\"\"), \"-\", IF(AU2679+AU2775+AU2871+AU2967+AU3063=0,0,ROUND(AVERAGE(AU2679,AU2775,AU2871,AU2967,AU3063), 0)))","v":0},0,0,0,0,0,0,0,0,0,0,0,0,0,0,0,0,0,0,0,0,0,0,0,0,0,0,0,0,0,0,0,{"$f":"IF(SUM(AU3351:BF3351)=0,\"-\",AVERAGEIF(AT2596:AT3075,$G3351,CA2596:CA3075))","v":"-"},{"$f":"IFERROR(IF(SUM(AU3351:BF3351)=0,\"-\",AVERAGEIF(AT2596:AT3075,AT3351,CB2596:CB3075)), \"-\")","v":"-"},"-","-",null,"WD Ave","20:45:00",{"$f":"IF(AND(CH2679=\"-\",CH2775=\"-\",CH2871=\"-\",CH2967=\"-\",CH3063=\"-\"), \"-\", ROUND(AVERAGE(CH2679,CH2775,CH2871,CH2967,CH3063), 0))","v":0},1,0,0,0,0,0,0,0,0,0,0,{"$f":"IF(AND(CT2679=\"-\",CT2775=\"-\",CT2871=\"-\",CT2967=\"-\",CT3063=\"-\"), \"-\", IF(SUM($CH3351:$CS3351)=0, 0, ROUND(AVERAGE(CT2679,CT2775,CT2871,CT2967,CT3063), 0)))","v":0},0,0,0,0,0,0,0,0,0,0,0,0,0,0,0,0,0,0,0,{"$error":"#DIV/0!"},"-",0,0,0,1,0,0,0,1,0,0,0,0,0,0,0,1,0,0,0,1]
[{"$error":"#N/A"},"7-Day Average",{"$f":"INDEX(Input_Details!$H$5:$H$24, MATCH($A3380, Input_Details!$J$5:$J$24, 0), 0)","v":{"$error":"#N/A"}},{"$f":"INDEX(Input_Details!$I$5:$I$24, MATCH($A3380, Input_Details!$J$5:$J$24, 0), 0)","v":{"$error":"#N/A"}},{"$f":"INDEX(Input_Details!$K$5:$K$24, MATCH($A3380, Input_Details!$J$5:$J$24, 0), 0)","v":{"$error":"#N/A"}},"7 Day Ave","04:00:00",{"$f":"IF(AND(H2612=\"\",H2708=\"\",H2804=\"\",H2900=\"\",H2996=\"\",H3092=\"\",H3188=\"\"), \"-\", IF(H2612+H2708+H2804+H2900+H2996+H3092+H3188=0,0,ROUND(AVERAGE(H2612,H2708,H2804,H2900,H2996,H3092,H3188),0)))","v":0},0,0,0,0,0,0,0,0,0,0,0,0,0,0,0,0,0,0,0,0,0,0,0,0,0,0,0,0,0,0,0,{"$f":"IF(SUM(H3380:S3380)=0,\"-\",AVERAGEIF(G2596:G3267,$G3380,AN2596:AN3267))","v":"-"},{"$f":"IFERROR(IF(SUM(H3380:S3380)=0,\"-\",AVERAGEIF(G2596:G3267,G3380,AO2596:AO3267)), \"-\")","v":"-"},"-","-",{"$f":"INDEX(Input_Details!$L$5:$L$24, MATCH($A3380, Input_Details!$J$5:$J$24, 0), 0)","v":{"$error":"#N/A"}},"7 Day Ave","04:00:00",{"$f":"IF(AND(AU2612=\"\",AU2708=\"\",AU2804=\"\",AU2900=\"\",AU2996=\"\",AU3092=\"\",AU3188=\"\"), \"-\", IF(AU2612+AU2708+AU2804+AU2900+AU2996+AU3092+AU3188=0,0,ROUND(AVERAGE(AU2612,AU2708,AU2804,AU2900,AU2996,AU3092,AU3188),0)))","v":0},0,0,0,0,0,0,0,0,0,0,0,0,0,0,0,0,0,0,0,0,0,0,0,0,0,0,0,0,0,0,0,{"$f":"IF(SUM(AU3380:BF3380)=0,\"-\",AVERAGEIF(AT2596:AT3267,$G3380,CA2596:CA3267))","v":"-"},{"$f":"IFERROR(IF(SUM(AU3380:BF3380)=0,\"-\",AVERAGEIF(AT2596:AT3267,AT3380,CB2596:CB3267)), \"-\")","v":"-"},"-","-",null,"7 Day Ave","04:00:00",{"$f":"IF(AND(CH2612=\"-\",CH2708=\"-\",CH2804=\"-\",CH2900=\"-\",CH2996=\"-\",CH3092=\"-\",CH3188=\"-\"), \"-\", ROUND(AVERAGE(CH2612,CH2708,CH2804,CH2900,CH2996,CH3092,CH3188),0))","v":0},0,0,0,0,0,0,0,0,0,0,0,{"$f":"IF(AND(CT2612=\"-\",CT2708=\"-\",CT2804=\"-\",CT2900=\"-\",CT2996=\"-\",CT3092=\"-\",CT3188=\"-\"), \"-\", IF(SUM($CH3380:$CS3380)=0, 0, ROUND(AVERAGE(CT2612,CT2708,CT2804,CT2900,CT2996,CT3092,CT3188),0)))","v":0},0,0,0,0,0,0,0,0,0,0,0,0,0,0,0,0,0,0,0,"-","-","-","-",0,0,0,0,0,0,0,0,0,0,0,0,0,0,0,0,0,0]
[{"$error":"#N/A"},"7-Day Average",{"$f":"INDEX(Input_Details!$H$5:$H$24, MATCH($A3414, Input_Details!$J$5:$J$24, 0), 0)","v":{"$error":"#N/A"}},{"$f":"INDEX(Input_Details!$I$5:$I$24, MATCH($A3414, Input_Details!$J$5:$J$24, 0), 0)","v":{"$error":"#N/A"}},{"$f":"INDEX(Input_Details!$K$5:$K$24, MATCH($A3414, Input_Details!$J$5:$J$24, 0), 0)","v":{"$error":"#N/A"}},"7 Day Ave","12:30:00",{"$f":"IF(AND(H2646=\"\",H2742=\"\",H2838=\"\",H2934=\"\",H3030=\"\",H3126=\"\",H3222=\"\"), \"-\", IF(H2646+H2742+H2838+H2934+H3030+H3126+H3222=0,0,ROUND(AVERAGE(H2646,H2742,H2838,H2934,H3030,H3126,H3222),0)))","v":0},4,0,0,0,0,0,0,0,0,0,0,0,0,0,0,0,0,0,0,0,0,0,0,0,0,0,0,0,0,0,0,{"$f":"IF(SUM(H3414:S3414)=0,\"-\",AVERAGEIF(G2596:G3267,$G3414,AN2596:AN3267))","v":{"$error":"#DIV/0!"}},{"$f":"IFERROR(IF(SUM(H3414:S3414)=0,\"-\",AVERAGEIF(G2596:G3267,G3414,AO2596:AO3267)), \"-\")","v":"-"},0,0,{"$f":"INDEX(Input_Details!$L$5:$L$24, MATCH($A3414, Input_Details!$J$5:$J$24, 0), 0)","v":{"$error":"#N/A"}},"7 Day Ave","12:30:00",{"$f":"IF(AND(AU2646=\"\",AU2742=\"\",AU2838=\"\",AU2934=\"\",AU3030=\"\",AU3126=\"\",AU3222=\"\"), \"-\", IF(AU2646+AU2742+AU2838+AU2934+AU3030+AU3126+AU3222=0,0,ROUND(AVERAGE(AU2646,AU2742,AU2838,AU2934,AU3030,AU3126,AU3222),0)))","v":0},0,0,0,0,0,0,0,0,0,0,0,0,0,0,0,0,0,0,0,0,0,0,0,0,0,0,0,0,0,0,0,{"$f":"IF(SUM(AU3414:BF3414)=0,\"-\",AVERAGEIF(AT2596:AT3267,$G3414,CA2596:CA3267))","v":"-"},{"$f":"IFERROR(IF(SUM(AU3414:BF3414)=0,\"-\",AVERAGEIF(AT2596:AT3267,AT3414,CB2596:CB3267)), \"-\")","v":"-"},"-","-",null,"7 Day Ave","12:30:00",{"$f":"IF(AND(CH2646=\"-\",CH2742=\"-\",CH2838=\"-\",CH2934=\"-\",CH3030=\"-\",CH3126=\"-\",CH3222=\"-\"), \"-\", ROUND(AVERAGE(CH2646,CH2742,CH2838,CH2934,CH3030,CH3126,CH3222),0))","v":0},4,0,0,0,0,0,0,0,0,0,0,{"$f":"IF(AND(CT2646=\"-\",CT2742=\"-\",CT2838=\"-\",CT2934=\"-\",CT3030=\"-\",CT3126=\"-\",CT3222=\"-\"), \"-\", IF(SUM($CH3414:$CS3414)=0, 0, ROUND(AVERAGE(CT2646,CT2742,CT2838,CT2934,CT3030,CT3126,CT3222),0)))","v":0},0,0,0,0,0,0,0,0,0,0,0,0,0,0,0,0,0,0,0,{"$error":"#DIV/0!"},"-",0,0,0,4,0,0,0,4,0,0,0,0,0,0,0,4,0,0,0,4]
[{"$error":"#N/A"},"7-Day Average",{"$f":"INDEX(Input_Details!$H$5:$H$24, MATCH($A3421, Input_Details!$J$5:$J$24, 0), 0)","v":{"$error":"#N/A"}},{"$f":"INDEX(Input_Details!$I$5:$I$24, MATCH($A3421, Input_Details!$J$5:$J$24, 0), 0)","v":{"$error":"#N/A"}},{"$f":"INDEX(Input_Details!$K$5:$K$24, MATCH($A3421, Input_Details!$J$5:$J$24, 0), 0)","v":{"$error":"#N/A"}},"7 Day Ave","14:15:00",{"$f":"IF(AND(H2653=\"\",H2749=\"\",H2845=\"\",H2941=\"\",H3037=\"\",H3133=\"\",H3229=\"\"), \"-\", IF(H2653+H2749+H2845+H2941+H3037+H3133+H3229=0,0,ROUND(AVERAGE(H2653,H2749,H2845,H2941,H3037,H3133,H3229),0)))","v":0},4,0,0,0,0,0,0,0,0,0,0,0,0,0,0,0,0,0,0,0,0,0,0,0,0,0,0,0,0,0,0,{"$f":"IF(SUM(H3421:S3421)=0,\"-\",AVERAGEIF(G2596:G3267,$G3421,AN2596:AN3267))","v":{"$error":"#DIV/0!"}},{"$f":"IFERROR(IF(SUM(H3421:S3421)=0,\"-\",AVERAGEIF(G2596:G3267,G3421,AO2596:AO3267)), \"-\")","v":"-"},0,0,{"$f":"INDEX(Input_Details!$L$5:$L$24, MATCH($A3421, Input_Details!$J$5:$J$24, 0), 0)","v":{"$error":"#N/A"}},"7 Day Ave","14:15:00",{"$f":"IF(AND(AU2653=\"\",AU2749=\"\",AU2845=\"\",AU2941=\"\",AU3037=\"\",AU3133=\"\",AU3229=\"\"), \"-\", IF(AU2653+AU2749+AU2845+AU2941+AU3037+AU3133+AU3229=0,0,ROUND(AVERAGE(AU2653,AU2749,AU2845,AU2941,AU3037,AU3133,AU3229),0)))","v":0},0,0,0,0,0,0,0,0,0,0,0,0,0,0,0,0,0,0,0,0,0,0,0,0,0,0,0,0,0,0,0,{"$f":"IF(SUM(AU3421:BF3421)=0,\"-\",AVERAGEIF(AT2596:AT3267,$G3421,CA2596:CA3267))","v":"-"},{"$f":"IFERROR(IF(SUM(AU3421:BF3421)=0,\"-\",AVERAGEIF(AT2596:AT3267,AT3421,CB2596:CB3267)), \"-\")","v":"-"},"-","-",null,"7 Day Ave","14:15:00",{"$f":"IF(AND(CH2653=\"-\",CH2749=\"-\",CH2845=\"-\",CH2941=\"-\",CH3037=\"-\",CH3133=\"-\",CH3229=\"-\"), \"-\", ROUND(AVERAGE(CH2653,CH2749,CH2845,CH2941,CH3037,CH3133,CH3229),0))","v":0},4,0,0,0,0,0,0,0,0,0,0,{"$f":"IF(AND(CT2653=\"-\",CT2749=\"-\",CT2845=\"-\",CT2941=\"-\",CT3037=\"-\",CT3133=\"-\",CT3229=\"-\"), \"-\", IF(SUM($CH3421:$CS3421)=0, 0, ROUND(AVERAGE(CT2653,CT2749,CT2845,CT2941,CT3037,CT3133,CT3229),0)))","v":0},0,0,0,0,0,0,0,0,0,0,0,0,0,0,0,0,0,0,0,{"$error":"#DIV/0!"},"-",0,0,0,4,0,0,0,4,0,0,0,0,0,0,0,4,0,0,0,4]
[{"$error":"#N/A"},{"$f":"OFFSET(Input_Details!$Q$4,MATCH($A3463, Input_Details!$J$5:$J$24, 0), 0)","v":{"$error":"#N/A"}},{"$f":"INDEX(Input_Details!$H$5:$H$24, MATCH($A3463, Input_Details!$J$5:$J$24, 0), 0)","v":{"$error":"#N/A"}},{"$f":"INDEX(Input_Details!$I$5:$I$24, MATCH($A3463, Input_Details!$J$5:$J$24, 0), 0)","v":{"$error":"#N/A"}},{"$f":"INDEX(Input_Details!$K$5:$K$24, MATCH($A3463, Input_Details!$J$5:$J$24, 0), 0)","v":{"$error":"#N/A"}},"Mon","00:45:00",0,0,0,0,0,0,0,0,0,0,0,0,0,0,0,0,0,0,0,0,0,0,0,0,0,0,0,0,0,0,0,0,"-","-","-","-",{"$f":"INDEX(Input_Details!$L$5:$L$24, MATCH($A3463, Input_Details!$J$5:$J$24, 0), 0)","v":{"$error":"#N/A"}},"Mon","00:45:00",0,0,0,0,0,0,0,0,0,0,0,0,0,0,0,0,0,0,0,0,0,0,0,0,0,0,0,0,0,0,0,0,"-","-","-","-",null,"Mon","00:45:00",0,0,0,0,0,0,0,0,0,0,0,0,0,0,0,0,0,0,0,0,0,0,0,0,0,0,0,0,0,0,0,0,"-","-","-","-",0,0,0,0,0,0,0,0,0,0,0,0,0,0,0,0,0,0,0,1,1,1,0,0,5,0,0,0,0,0,0,0,0,1,1,1,0,0,5]
[{"$error":"#N/A"},{"$f":"OFFSET(Input_Details!$Q$4,MATCH($A3484, Input_Details!$J$5:$J$24, 0), 0)","v":{"$error":"#N/A"}},{"$f":"INDEX(Input_Details!$H$5:$H$24, MATCH($A3484, Input_Details!$J$5:$J$24, 0), 0)","v":{"$error":"#N/A"}},{"$f":"INDEX(Input_Details!$I$5:$I$24, MATCH($A3484, Input_Details!$J$5:$J$24, 0), 0)","v":{"$error":"#N/A"}},{"$f":"INDEX(Input_Details!$K$5:$K$24, MATCH($A3484, Input_Details!$J$5:$J$24, 0), 0)","v":{"$error":"#N/A"}},"Mon","06:00:00",0,0,0,0,0,0,0,0,0,0,0,0,0,0,0,0,0,0,0,0,0,0,0,0,0,0,0,0,0,0,0,0,"-","-","-","-",{"$f":"INDEX(Input_Details!$L$5:$L$24, MATCH($A3484, Input_Details!$J$5:$J$24, 0), 0)","v":{"$error":"#N/A"}},"Mon","06:00:00",0,0,0,0,0,0,0,0,0,0,0,0,0,0,0,0,0,0,0,0,0,0,0,0,0,0,0,0,0,0,0,0,"-","-","-","-",null,"Mon","06:00:00",0,0,0,0,0,0,0,0,0,0,0,0,0,0,0,0,0,0,0,0,0,0,0,0,0,0,0,0,0,0,0,0,"-","-","-","-",0,0,0,0,0,0,0,0,0,0,0,0,0,0,0,0,0,0,0,0,0,1,1,1,1,0,0,0,0,0,0,0,0,0,0,1,1,1,1]
[{"$error":"#N/A"},{"$f":"OFFSET(Input_Details!$Q$4,MATCH($A3504, Input_Details!$J$5:$J$24, 0), 0)","v":{"$error":"#N/A"}},{"$f":"INDEX(Input_Details!$H$5:$H$24, MATCH($A3504, Input_Details!$J$5:$J$24, 0), 0)","v":{"$error":"#N/A"}},{"$f":"INDEX(Input_Details!$I$5:$I$24, MATCH($A3504, Input_Details!$J$5:$J$24, 0), 0)","v":{"$error":"#N/A"}},{"$f":"INDEX(Input_Details!$K$5:$K$24, MATCH($A3504, Input_Details!$J$5:$J$24, 0), 0)","v":{"$error":"#N/A"}},"Mon","11:00:00",2,7,0,0,0,0,0,0,0,0,0,0,0,0,0,0,0,0,0,0,0,0,0,0,0,0,0,0,0,0,0,0,"-","-","-","-",{"$f":"INDEX(Input_Details!$L$5:$L$24, MATCH($A3504, Input_Details!$J$5:$J$24, 0), 0)","v":{"$error":"#N/A"}},"Mon","11:00:00",0,0,0,0,0,0,0,0,0,0,0,0,0,0,0,0,0,0,0,0,0,0,0,0,0,0,0,0,0,0,0,0,"-","-","-","-",null,"Mon","11:00:00",2,7,0,0,0,0,0,0,0,0,0,0,0,0,0,0,0,0,0,0,0,0,0,0,0,0,0,0,0,0,0,0,"-","-",0,0,2,7,0,0,0,9,0,0,0,0,0,0,2,7,0,0,0,9,9,12,14,9,9,15,6,0,0,0,0,0,0,0,9,12,14,9,9,15,6]
[{"$error":"#N/A"},{"$f":"OFFSET(Input_Details!$Q$4,MATCH($A3547, Input_Details!$J$5:$J$24, 0), 0)","v":{"$error":"#N/A"}},{"$f":"INDEX(Input_Details!$H$5:$H$24, MATCH($A3547, Input_Details!$J$5:$J$24, 0), 0)","v":{"$error":"#N/A"}},{"$f":"INDEX(Input_Details!$I$5:$I$24, MATCH($A3547, Input_Details!$J$5:$J$24, 0), 0)","v":{"$error":"#N/A"}},{"$f":"INDEX(Input_Details!$K$5:$K$24, MATCH($A3547, Input_Details!$J$5:$J$24, 0), 0)","v":{"$error":"#N/A"}},"Mon","21:45:00",0,3,0,0,0,0,0,0,0,0,0,0,0,0,0,0,0,0,0,0,0,0,0,0,0,0,0,0,0,0,0,0,"-","-","-","-",{"$f":"INDEX(Input_Details!$L$5:$L$24, MATCH($A3547, Input_Details!$J$5:$J$24, 0), 0)","v":{"$error":"#N/A"}},"Mon","21:45:00",0,0,0,0,0,0,0,0,0,0,0,0,0,0,0,0,0,0,0,0,0,0,0,0,0,0,0,0,0,0,0,0,"-","-","-","-",null,"Mon","21:45:00",0,3,0,0,0,0,0,0,0,0,0,0,0,0,0,0,0,0,0,0,0,0,0,0,0,0,0,0,0,0,0,0,"-","-",0,0,0,3,0,0,0,3,0,0,0,0,0,0,0,3,0,0,0,3,3,1,6,1,2,6,0,0,0,0,0,0,0,0,3,1,6,1,2,6,0]
[{"$error":"#N/A"},{"$f":"OFFSET(Input_Details!$Q$4,MATCH($A3554, Input_Details!$J$5:$J$24, 0), 0)","v":{"$error":"#N/A"}},{"$f":"INDEX(Input_Details!$H$5:$H$24, MATCH($A3554, Input_Details!$J$5:$J$24, 0), 0)","v":{"$error":"#N/A"}},{"$f":"INDEX(Input_Details!$I$5:$I$24, MATCH($A3554, Input_Details!$J$5:$J$24, 0), 0)","v":{"$error":"#N/A"}},{"$f":"INDEX(Input_Details!$K$5:$K$24, MATCH($A3554, Input_Details!$J$5:$J$24, 0), 0)","v":{"$error":"#N/A"}},"Mon","23:30:00",1,0,0,0,0,0,0,0,0,0,0,0,0,0,0,0,0,0,0,0,0,0,0,0,0,0,0,0,0,0,0,0,"-","-","-","-",{"$f":"INDEX(Input_Details!$L$5:$L$24, MATCH($A3554, Input_Details!$J$5:$J$24, 0), 0)","v":{"$error":"#N/A"}},"Mon","23:30:00",0,0,0,0,0,0,0,0,0,0,0,0,0,0,0,0,0,0,0,0,0,0,0,0,0,0,0,0,0,0,0,0,"-","-","-","-",null,"Mon","23:30:00",1,0,0,0,0,0,0,0,0,0,0,0,0,0,0,0,0,0,0,0,0,0,0,0,0,0,0,0,0,0,0,0,"-","-",0,0,1,0,0,0,0,1,0,0,0,0,0,0,1,0,0,0,0,1,1,2,2,3,2,4,0,0,0,0,0,0,0,0,1,2,2,3,2,4,0]
[{"$error":"#N/A"},{"$f":"OFFSET(Input_Details!$Q$4,MATCH($A3582, Input_Details!$J$5:$J$24, 0), 1)","v":{"$error":"#N/A"}},{"$f":"INDEX(Input_Details!$H$5:$H$24, MATCH($A3582, Input_Details!$J$5:$J$24, 0), 0)","v":{"$error":"#N/A"}},{"$f":"INDEX(Input_Details!$I$5:$I$24, MATCH($A3582, Input_Details!$J$5:$J$24, 0), 0)","v":{"$error":"#N/A"}},{"$f":"INDEX(Input_Details!$K$5:$K$24, MATCH($A3582, Input_Details!$J$5:$J$24, 0), 0)","v":{"$error":"#N/A"}},"Tues","06:30:00",0,1,0,0,0,0,0,0,0,0,0,0,0,0,0,0,0,0,0,0,0,0,0,0,0,0,0,0,0,0,0,0,"-","-","-","-",{"$f":"INDEX(Input_Details!$L$5:$L$24, MATCH($A3582, Input_Details!$J$5:$J$24, 0), 0)","v":{"$error":"#N/A"}},"Tues","06:30:00",0,0,0,0,0,0,0,0,0,0,0,0,0,0,0,0,0,0,0,0,0,0,0,0,0,0,0,0,0,0,0,0,"-","-","-","-",null,"Tues","06:30:00",0,1,0,0,0,0,0,0,0,0,0,0,0,0,0,0,0,0,0,0,0,0,0,0,0,0,0,0,0,0,0,0,"-","-",0,0,0,1,0,0,0,1,0,0,0,0,0,0,0,1,0,0,0,1]
[{"$error":"#N/A"},{"$f":"OFFSET(Input_Details!$Q$4,MATCH($A3617, Input_Details!$J$5:$J$24, 0), 1)","v":{"$error":"#N/A"}},{"$f":"INDEX(Input_Details!$H$5:$H$24, MATCH($A3617, Input_Details!$J$5:$J$24, 0), 0)","v":{"$error":"#N/A"}},{"$f":"INDEX(Input_Details!$I$5:$I$24, MATCH($A3617, Input_Details!$J$5:$J$24, 0), 0)","v":{"$error":"#N/A"}},{"$f":"INDEX(Input_Details!$K$5:$K$24, MATCH($A3617, Input_Details!$J$5:$J$24, 0), 0)","v":{"$error":"#N/A"}},"Tues","15:15:00",1,17,0,0,0,0,0,0,0,0,0,0,0,0,0,0,0,0,0,0,0,0,0,0,0,0,0,0,0,0,0,0,"-","-","-","-",{"$f":"INDEX(Input_Details!$L$5:$L$24, MATCH($A3617, Input_Details!$J$5:$J$24, 0), 0)","v":{"$error":"#N/A"}},"Tues","15:15:00",0,0,0,0,0,0,0,0,0,0,0,0,0,0,0,0,0,0,0,0,0,0,0,0,0,0,0,0,0,0,0,0,"-","-","-","-",null,"Tues","15:15:00",1,17,0,0,0,0,0,0,0,0,0,0,0,0,0,0,0,0,0,0,0,0,0,0,0,0,0,0,0,0,0,0,"-","-",0,0,1,17,0,0,0,18,0,0,0,0,0,0,1,17,0,0,0,18]
[{"$error":"#N/A"},{"$f":"OFFSET(Input_Details!$Q$4,MATCH($A3650, Input_Details!$J$5:$J$24, 0), 1)","v":{"$error":"#N/A"}},{"$f":"INDEX(Input_Details!$H$5:$H$24, MATCH($A3650, Input_Details!$J$5:$J$24, 0), 0)","v":{"$error":"#N/A"}},{"$f":"INDEX(Input_Details!$I$5:$I$24, MATCH($A3650, Input_Details!$J$5:$J$24, 0), 0)","v":{"$error":"#N/A"}},{"$f":"INDEX(Input_Details!$K$5:$K$24, MATCH($A3650, Input_Details!$J$5:$J$24, 0), 0)","v":{"$error":"#N/A"}},"Tues","23:30:00",1,1,0,0,0,0,0,0,0,0,0,0,0,0,0,0,0,0,0,0,0,0,0,0,0,0,0,0,0,0,0,0,"-","-","-","-",{"$f":"INDEX(Input_Details!$L$5:$L$24, MATCH($A3650, Input_Details!$J$5:$J$24, 0), 0)","v":{"$error":"#N/A"}},"Tues","23:30:00",0,0,0,0,0,0,0,0,0,0,0,0,0,0,0,0,0,0,0,0,0,0,0,0,0,0,0,0,0,0,0,0,"-","-","-","-",null,"Tues","23:30:00",1,1,0,0,0,0,0,0,0,0,0,0,0,0,0,0,0,0,0,0,0,0,0,0,0,0,0,0,0,0,0,0,"-","-",0,0,1,1,0,0,0,2,0,0,0,0,0,0,1,1,0,0,0,2]
[{"$error":"#N/A"},{"$f":"OFFSET(Input_Details!$Q$4,MATCH($A3680, Input_Details!$J$5:$J$24, 0), 2)","v":{"$error":"#N/A"}},{"$f":"INDEX(Input_Details!$H$5:$H$24, MATCH($A3680, Input_Details!$J$5:$J$24, 0), 0)","v":{"$error":"#N/A"}},{"$f":"INDEX(Input_Details!$I$5:$I$24, MATCH($A3680, Input_Details!$J$5:$J$24, 0), 0)","v":{"$error":"#N/A"}},{"$f":"INDEX(Input_Details!$K$5:$K$24, MATCH($A3680, Input_Details!$J$5:$J$24, 0), 0)","v":{"$error":"#N/A"}},"Wed","07:00:00",1,4,0,0,0,0,0,0,0,0,0,0,0,0,0,0,0,0,0,0,0,0,0,0,0,0,0,0,0,0,0,0,"-","-","-","-",{"$f":"INDEX(Input_Details!$L$5:$L$24, MATCH($A3680, Input_Details!$J$5:$J$24, 0), 0)","v":{"$error":"#N/A"}},"Wed","07:00:00",0,0,0,0,0,0,0,0,0,0,0,0,0,0,0,0,0,0,0,0,0,0,0,0,0,0,0,0,0,0,0,0,"-","-","-","-",null,"Wed","07:00:00",1,4,0,0,0,0,0,0,0,0,0,0,0,0,0,0,0,0,0,0,0,0,0,0,0,0,0,0,0,0,0,0,"-","-",0,0,1,4,0,0,0,5,0,0,0,0,0,0,1,4,0,0,0,5]
[{"$error":"#N/A"},{"$f":"OFFSET(Input_Details!$Q$4,MATCH($A3687, Input_Details!$J$5:$J$24, 0), 2)","v":{"$error":"#N/A"}},{"$f":"INDEX(Input_Details!$H$5:$H$24, MATCH($A3687, Input_Details!$J$5:$J$24, 0), 0)","v":{"$error":"#N/A"}},{"$f":"INDEX(Input_Details!$I$5:$I$24, MATCH($A3687, Input_Details!$J$5:$J$24, 0), 0)","v":{"$error":"#N/A"}},{"$f":"INDEX(Input_Details!$K$5:$K$24, MATCH($A3687, Input_Details!$J$5:$J$24, 0), 0)","v":{"$error":"#N/A"}},"Wed","08:45:00",1,15,0,0,0,0,0,0,0,0,0,0,0,0,0,0,0,0,0,0,0,0,0,0,0,0,0,0,0,0,0,0,"-","-","-","-",{"$f":"INDEX(Input_Details!$L$5:$L$24, MATCH($A3687, Input_Details!$J$5:$J$24, 0), 0)","v":{"$error":"#N/A"}},"Wed","08:45:00",0,0,0,0,0,0,0,0,0,0,0,0,0,0,0,0,0,0,0,0,0,0,0,0,0,0,0,0,0,0,0,0,"-","-","-","-",null,"Wed","08:45:00",1,15,0,0,0,0,0,0,0,0,0,0,0,0,0,0,0,0,0,0,0,0,0,0,0,0,0,0,0,0,0,0,"-","-",0,0,1,15,0,0,0,16,0,0,0,0,0,0,1,15,0,0,0,16]
[{"$error":"#N/A"},{"$f":"OFFSET(Input_Details!$Q$4,MATCH($A3728, Input_Details!$J$5:$J$24, 0), 2)","v":{"$error":"#N/A"}},{"$f":"INDEX(Input_Details!$H$5:$H$24, MATCH($A3728, Input_Details!$J$5:$J$24, 0), 0)","v":{"$error":"#N/A"}},{"$f":"INDEX(Input_Details!$I$5:$I$24, MATCH($A3728, Input_Details!$J$5:$J$24, 0), 0)","v":{"$error":"#N/A"}},{"$f":"INDEX(Input_Details!$K$5:$K$24, MATCH($A3728, Input_Details!$J$5:$J$24, 0), 0)","v":{"$error":"#N/A"}},"Wed","19:00:00",4,10,0,0,0,0,0,0,0,0,0,0,0,0,0,0,0,0,0,0,0,0,0,0,0,0,0,0,0,0,0,0,"-","-","-","-",{"$f":"INDEX(Input_Details!$L$5:$L$24, MATCH($A3728, Input_Details!$J$5:$J$24, 0), 0)","v":{"$error":"#N/A"}},"Wed","19:00:00",0,0,0,0,0,0,0,0,0,0,0,0,0,0,0,0,0,0,0,0,0,0,0,0,0,0,0,0,0,0,0,0,"-","-","-","-",null,"Wed","19:00:00",4,10,0,0,0,0,0,0,0,0,0,0,0,0,0,0,0,0,0,0,0,0,0,0,0,0,0,0,0,0,0,0,"-","-",0,0,4,10,0,0,0,14,0,0,0,0,0,0,4,10,0,0,0,14]
[{"$error":"#N/A"},{"$f":"OFFSET(Input_Details!$Q$4,MATCH($A3750, Input_Details!$J$5:$J$24, 0), 3)","v":{"$error":"#N/A"}},{"$f":"INDEX(Input_Details!$H$5:$H$24, MATCH($A3750, Input_Details!$J$5:$J$24, 0), 0)","v":{"$error":"#N/A"}},{"$f":"INDEX(Input_Details!$I$5:$I$24, MATCH($A3750, Input_Details!$J$5:$J$24, 0), 0)","v":{"$error":"#N/A"}},{"$f":"INDEX(Input_Details!$K$5:$K$24, MATCH($A3750, Input_Details!$J$5:$J$24, 0), 0)","v":{"$error":"#N/A"}},"Thu","00:30:00",0,0,0,0,0,0,0,0,0,0,0,0,0,0,0,0,0,0,0,0,0,0,0,0,0,0,0,0,0,0,0,0,"-","-","-","-",{"$f":"INDEX(Input_Details!$L$5:$L$24, MATCH($A3750, Input_Details!$J$5:$J$24, 0), 0)","v":{"$error":"#N/A"}},"Thu","00:30:00",0,0,0,0,0,0,0,0,0,0,0,0,0,0,0,0,0,0,0,0,0,0,0,0,0,0,0,0,0,0,0,0,"-","-","-","-",null,"Thu","00:30:00",0,0,0,0,0,0,0,0,0,0,0,0,0,0,0,0,0,0,0,0,0,0,0,0,0,0,0,0,0,0,0,0,"-","-","-","-",0,0,0,0,0,0,0,0,0,0,0,0,0,0,0,0,0,0]
[{"$error":"#N/A"},{"$f":"OFFSET(Input_Details!$Q$4,MATCH($A3769, Input_Details!$J$5:$J$24, 0), 3)","v":{"$error":"#N/A"}},{"$f":"INDEX(Input_Details!$H$5:$H$24, MATCH($A3769, Input_Details!$J$5:$J$24, 0), 0)","v":{"$error":"#N/A"}},{"$f":"INDEX(Input_Details!$I$5:$I$24, MATCH($A3769, Input_Details!$J$5:$J$24, 0), 0)","v":{"$error":"#N/A"}},{"$f":"INDEX(Input_Details!$K$5:$K$24, MATCH($A3769, Input_Details!$J$5:$J$24, 0), 0)","v":{"$error":"#N/A"}},"Thu","05:15:00",0,1,0,0,0,0,0,0,0,0,0,0,0,0,0,0,0,0,0,0,0,0,0,0,0,0,0,0,0,0,0,0,"-","-","-","-",{"$f":"INDEX(Input_Details!$L$5:$L$24, MATCH($A3769, Input_Details!$J$5:$J$24, 0), 0)","v":{"$error":"#N/A"}},"Thu","05:15:00",0,0,0,0,0,0,0,0,0,0,0,0,0,0,0,0,0,0,0,0,0,0,0,0,0,0,0,0,0,0,0,0,"-","-","-","-",null,"Thu","05:15:00",0,1,0,0,0,0,0,0,0,0,0,0,0,0,0,0,0,0,0,0,0,0,0,0,0,0,0,0,0,0,0,0,"-","-",0,0,0,1,0,0,0,1,0,0,0,0,0,0,0,1,0,0,0,1]
[{"$error":"#N/A"},{"$f":"OFFSET(Input_Details!$Q$4,MATCH($A3813, Input_Details!$J$5:$J$24, 0), 3)","v":{"$error":"#N/A"}},{"$f":"INDEX(Input_Details!$H$5:$H$24, MATCH($A3813, Input_Details!$J$5:$J$24, 0), 0)","v":{"$error":"#N/A"}},{"$f":"INDEX(Input_Details!$I$5:$I$24, MATCH($A3813, Input_Details!$J$5:$J$24, 0), 0)","v":{"$error":"#N/A"}},{"$f":"INDEX(Input_Details!$K$5:$K$24, MATCH($A3813, Input_Details!$J$5:$J$24, 0), 0)","v":{"$error":"#N/A"}},"Thu","16:15:00",0,18,0,0,0,0,0,0,0,0,0,0,0,0,0,0,0,0,0,0,0,0,0,0,0,0,0,0,0,0,0,0,"-","-","-","-",{"$f":"INDEX(Input_Details!$L$5:$L$24, MATCH($A3813, Input_Details!$J$5:$J$24, 0), 0)","v":{"$error":"#N/A"}},"Thu","16:15:00",0,0,0,0,0,0,0,0,0,0,0,0,0,0,0,0,0,0,0,0,0,0,0,0,0,0,0,0,0,0,0,0,"-","-","-","-",null,"Thu","16:15:00",0,18,0,0,0,0,0,0,0,0,0,0,0,0,0,0,0,0,0,0,0,0,0,0,0,0,0,0,0,0,0,0,"-","-",0,0,0,18,0,0,{"$f":"IF(DR3813=\"-\", \"-\", SUM(M3813:S3813))","v":0},18,0,0,0,0,0,0,0,18,0,0,0,18]
[{"$error":"#N/A"},{"$f":"OFFSET(Input_Details!$Q$4,MATCH($A3832, Input_Details!$J$5:$J$24, 0), 3)","v":{"$error":"#N/A"}},{"$f":"INDEX(Input_Details!$H$5:$H$24, MATCH($A3832, Input_Details!$J$5:$J$24, 0), 0)","v":{"$error":"#N/A"}},{"$f":"INDEX(Input_Details!$I$5:$I$24, MATCH($A3832, Input_Details!$J$5:$J$24, 0), 0)","v":{"$error":"#N/A"}},{"$f":"INDEX(Input_Details!$K$5:$K$24, MATCH($A3832, Input_Details!$J$5:$J$24, 0), 0)","v":{"$error":"#N/A"}},"Thu","21:00:00",0,4,0,0,0,0,0,0,0,0,0,0,0,0,0,0,0,0,0,0,0,0,0,0,0,0,0,0,0,0,0,0,"-","-","-","-",{"$f":"INDEX(Input_Details!$L$5:$L$24, MATCH($A3832, Input_Details!$J$5:$J$24, 0), 0)","v":{"$error":"#N/A"}},"Thu","21:00:00",0,0,0,0,0,0,0,0,0,0,0,0,0,0,0,0,0,0,0,0,0,0,0,0,0,0,0,0,0,0,0,0,"-","-","-","-",null,"Thu","21:00:00",0,4,0,0,0,0,0,0,0,0,0,0,0,0,0,0,0,0,0,0,0,0,0,0,0,0,0,0,0,0,0,0,"-","-",0,0,0,4,0,0,0,4,0,0,0,0,0,0,0,4,0,0,0,4]
[{"$error":"#N/A"},{"$f":"OFFSET(Input_Details!$Q$4,MATCH($A3854, Input_Details!$J$5:$J$24, 0), 4)","v":{"$error":"#N/A"}},{"$f":"INDEX(Input_Details!$H$5:$H$24, MATCH($A3854, Input_Details!$J$5:$J$24, 0), 0)","v":{"$error":"#N/A"}},{"$f":"INDEX(Input_Details!$I$5:$I$24, MATCH($A3854, Input_Details!$J$5:$J$24, 0), 0)","v":{"$error":"#N/A"}},{"$f":"INDEX(Input_Details!$K$5:$K$24, MATCH($A3854, Input_Details!$J$5:$J$24, 0), 0)","v":{"$error":"#N/A"}},"Fri","02:30:00",0,0,0,0,0,0,0,0,0,0,0,0,0,0,0,0,0,0,0,0,0,0,0,0,0,0,0,0,0,0,0,0,"-","-","-","-",{"$f":"INDEX(Input_Details!$L$5:$L$24, MATCH($A3854, Input_Details!$J$5:$J$24, 0), 0)","v":{"$error":"#N/A"}},"Fri","02:30:00",0,0,0,0,0,0,0,0,0,0,0,0,0,0,0,0,0,0,0,0,0,0,0,0,0,0,0,0,0,0,0,0,"-","-","-","-",null,"Fri","02:30:00",0,0,0,0,0,0,0,0,0,0,0,0,0,0,0,0,0,0,0,0,0,0,0,0,0,0,0,0,0,0,0,0,"-","-","-","-",0,0,0,0,0,0,0,0,0,0,0,0,0,0,0,0,0,0]
[{"$error":"#N/A"},{"$f":"OFFSET(Input_Details!$Q$4,MATCH($A3883, Input_Details!$J$5:$J$24, 0), 4)","v":{"$error":"#N/A"}},{"$f":"INDEX(Input_Details!$H$5:$H$24, MATCH($A3883, Input_Details!$J$5:$J$24, 0), 0)","v":{"$error":"#N/A"}},{"$f":"INDEX(Input_Details!$I$5:$I$24, MATCH($A3883, Input_Details!$J$5:$J$24, 0), 0)","v":{"$error":"#N/A"}},{"$f":"INDEX(Input_Details!$K$5:$K$24, MATCH($A3883, Input_Details!$J$5:$J$24, 0), 0)","v":{"$error":"#N/A"}},"Fri","09:45:00",0,7,0,0,0,0,0,0,0,0,0,0,0,0,0,0,0,0,0,0,0,0,0,0,0,0,0,0,0,0,0,0,"-","-","-","-",{"$f":"INDEX(Input_Details!$L$5:$L$24, MATCH($A3883, Input_Details!$J$5:$J$24, 0), 0)","v":{"$error":"#N/A"}},"Fri","09:45:00",0,0,0,0,0,0,0,0,0,0,0,0,0,0,0,0,0,0,0,0,0,0,0,0,0,0,0,0,0,0,0,0,"-","-","-","-",null,"Fri","09:45:00",0,7,0,0,0,0,0,0,0,0,0,0,0,0,0,0,0,0,0,0,0,0,0,0,0,0,0,0,0,0,0,0,"-","-",0,0,0,7,0,0,0,7,0,0,0,0,0,0,0,7,0,0,0,7]
[{"$error":"#N/A"},{"$f":"OFFSET(Input_Details!$Q$4,MATCH($A3915, Input_Details!$J$5:$J$24, 0), 4)","v":{"$error":"#N/A"}},{"$f":"INDEX(Input_Details!$H$5:$H$24, MATCH($A3915, Input_Details!$J$5:$J$24, 0), 0)","v":{"$error":"#N/A"}},{"$f":"INDEX(Input_Details!$I$5:$I$24, MATCH($A3915, Input_Details!$J$5:$J$24, 0), 0)","v":{"$error":"#N/A"}},{"$f":"INDEX(Input_Details!$K$5:$K$24, MATCH($A3915, Input_Details!$J$5:$J$24, 0), 0)","v":{"$error":"#N/A"}},"Fri","17:45:00",2,10,0,0,0,0,0,0,0,0,0,0,0,0,0,0,0,0,0,0,0,0,0,0,0,0,0,0,0,0,0,0,"-","-","-","-",{"$f":"INDEX(Input_Details!$L$5:$L$24, MATCH($A3915, Input_Details!$J$5:$J$24, 0), 0)","v":{"$error":"#N/A"}},"Fri","17:45:00",0,0,0,0,0,0,0,0,0,0,0,0,0,0,0,0,0,0,0,0,0,0,0,0,0,0,0,0,0,0,0,0,"-","-","-","-",null,"Fri","17:45:00",2,10,0,0,0,0,0,0,0,0,0,0,0,0,0,0,0,0,0,0,0,0,0,0,0,0,0,0,0,0,0,0,"-","-",0,0,2,10,0,0,0,12,0,0,0,0,0,0,2,10,0,0,0,12]
[{"$error":"#N/A"},{"$f":"OFFSET(Input_Details!$Q$4,MATCH($A3946, Input_Details!$J$5:$J$24, 0), 5)","v":{"$error":"#N/A"}},{"$f":"INDEX(Input_Details!$H$5:$H$24, MATCH($A3946, Input_Details!$J$5:$J$24, 0), 0)","v":{"$error":"#N/A"}},{"$f":"INDEX(Input_Details!$I$5:$I$24, MATCH($A3946, Input_Details!$J$5:$J$24, 0), 0)","v":{"$error":"#N/A"}},{"$f":"INDEX(Input_Details!$K$5:$K$24, MATCH($A3946, Input_Details!$J$5:$J$24, 0), 0)","v":{"$error":"#N/A"}},"Sat","01:30:00",0,0,0,0,0,0,0,0,0,0,0,0,0,0,0,0,0,0,0,0,0,0,0,0,0,0,0,0,0,0,0,0,"-","-","-","-",{"$f":"INDEX(Input_Details!$L$5:$L$24, MATCH($A3946, Input_Details!$J$5:$J$24, 0), 0)","v":{"$error":"#N/A"}},"Sat","01:30:00",0,0,0,0,0,0,0,0,0,0,0,0,0,0,0,0,0,0,0,0,0,0,0,0,0,0,0,0,0,0,0,0,"-","-","-","-",null,"Sat","01:30:00",0,0,0,0,0,0,0,0,0,0,0,0,0,0,0,0,0,0,0,0,0,0,0,0,0,0,0,0,0,0,0,0,"-","-","-","-",0,0,0,0,0,0,0,0,0,0,0,0,0,0,0,0,0,0]
[{"$error":"#N/A"},{"$f":"OFFSET(Input_Details!$Q$4,MATCH($A3951, Input_Details!$J$5:$J$24, 0), 5)","v":{"$error":"#N/A"}},{"$f":"INDEX(Input_Details!$H$5:$H$24, MATCH($A3951, Input_Details!$J$5:$J$24, 0), 0)","v":{"$error":"#N/A"}},{"$f":"INDEX(Input_Details!$I$5:$I$24, MATCH($A3951, Input_Details!$J$5:$J$24, 0), 0)","v":{"$error":"#N/A"}},{"$f":"INDEX(Input_Details!$K$5:$K$24, MATCH($A3951, Input_Details!$J$5:$J$24, 0), 0)","v":{"$error":"#N/A"}},"Sat","02:45:00",0,0,0,0,0,0,0,0,0,0,0,0,0,0,0,0,0,0,0,0,0,0,0,0,0,0,0,0,0,0,0,0,"-","-","-","-",{"$f":"INDEX(Input_Details!$L$5:$L$24, MATCH($A3951, Input_Details!$J$5:$J$24, 0), 0)","v":{"$error":"#N/A"}},"Sat","02:45:00",0,0,0,0,0,0,0,0,0,0,0,0,0,0,0,0,0,0,0,0,0,0,0,0,0,0,0,0,0,0,0,0,"-","-","-","-",null,"Sat","02:45:00",0,0,0,0,0,0,0,0,0,0,0,0,0,0,0,0,0,0,0,0,0,0,0,0,0,0,0,0,0,0,0,0,"-","-","-","-",0,0,0,0,0,0,0,0,0,0,0,0,0,0,0,0,0,0]
[{"$error":"#N/A"},{"$f":"OFFSET(Input_Details!$Q$4,MATCH($A3987, Input_Details!$J$5:$J$24, 0), 5)","v":{"$error":"#N/A"}},{"$f":"INDEX(Input_Details!$H$5:$H$24, MATCH($A3987, Input_Details!$J$5:$J$24, 0), 0)","v":{"$error":"#N/A"}},{"$f":"INDEX(Input_Details!$I$5:$I$24, MATCH($A3987, Input_Details!$J$5:$J$24, 0), 0)","v":{"$error":"#N/A"}},{"$f":"INDEX(Input_Details!$K$5:$K$24, MATCH($A3987, Input_Details!$J$5:$J$24, 0), 0)","v":{"$error":"#N/A"}},"Sat","11:45:00",1,10,0,0,0,0,0,0,0,0,0,0,0,0,0,0,0,0,0,0,0,0,0,0,0,0,0,0,0,0,0,0,"-","-","-","-",{"$f":"INDEX(Input_Details!$L$5:$L$24, MATCH($A3987, Input_Details!$J$5:$J$24, 0), 0)","v":{"$error":"#N/A"}},"Sat","11:45:00",0,0,0,0,0,0,0,0,0,0,0,0,0,0,0,0,0,0,0,0,0,0,0,0,0,0,0,0,0,0,0,0,"-","-","-","-",null,"Sat","11:45:00",1,10,0,0,0,0,0,0,0,0,0,0,0,0,0,0,0,0,0,0,0,0,0,0,0,0,0,0,0,0,0,0,"-","-",0,0,1,10,0,0,0,11,0,0,0,0,0,0,1,10,0,0,0,11]
[{"$error":"#N/A"},{"$f":"OFFSET(Input_Details!$Q$4,MATCH($A4016, Input_Details!$J$5:$J$24, 0), 5)","v":{"$error":"#N/A"}},{"$f":"INDEX(Input_Details!$H$5:$H$24, MATCH($A4016, Input_Details!$J$5:$J$24, 0), 0)","v":{"$error":"#N/A"}},{"$f":"INDEX(Input_Details!$I$5:$I$24, MATCH($A4016, Input_Details!$J$5:$J$24, 0), 0)","v":{"$error":"#N/A"}},{"$f":"INDEX(Input_Details!$K$5:$K$24, MATCH($A4016, Input_Details!$J$5:$J$24, 0), 0)","v":{"$error":"#N/A"}},"Sat","19:00:00",0,8,0,0,0,0,0,0,0,0,0,0,0,0,0,0,0,0,0,0,0,0,0,0,0,0,0,0,0,0,0,0,"-","-","-","-",{"$f":"INDEX(Input_Details!$L$5:$L$24, MATCH($A4016, Input_Details!$J$5:$J$24, 0), 0)","v":{"$error":"#N/A"}},"Sat","19:00:00",0,0,0,0,0,0,0,0,0,0,0,0,0,0,0,0,0,0,0,0,0,0,0,0,0,0,0,0,0,0,0,0,"-","-","-","-",null,"Sat","19:00:00",0,8,0,0,0,0,0,0,0,0,0,0,0,0,0,0,0,0,0,0,0,0,0,0,0,0,0,0,0,0,0,0,"-","-",0,0,0,8,0,0,0,8,0,0,0,0,0,0,0,8,0,0,0,8]
[{"$error":"#N/A"},{"$f":"OFFSET(Input_Details!$Q$4,MATCH($A4034, Input_Details!$J$5:$J$24, 0), 5)","v":{"$error":"#N/A"}},{"$f":"INDEX(Input_Details!$H$5:$H$24, MATCH($A4034, Input_Details!$J$5:$J$24, 0), 0)","v":{"$error":"#N/A"}},{"$f":"INDEX(Input_Details!$I$5:$I$24, MATCH($A4034, Input_Details!$J$5:$J$24, 0), 0)","v":{"$error":"#N/A"}},{"$f":"INDEX(Input_Details!$K$5:$K$24, MATCH($A4034, Input_Details!$J$5:$J$24, 0), 0)","v":{"$error":"#N/A"}},"Sat","23:30:00",0,4,0,0,0,0,0,0,0,0,0,0,0,0,0,0,0,0,0,0,0,0,0,0,0,0,0,0,0,0,0,0,"-","-","-","-",{"$f":"INDEX(Input_Details!$L$5:$L$24, MATCH($A4034, Input_Details!$J$5:$J$24, 0), 0)","v":{"$error":"#N/A"}},"Sat","23:30:00",0,0,0,0,0,0,0,0,0,0,0,0,0,0,0,0,0,0,0,0,0,0,0,0,0,0,0,0,0,0,0,0,"-","-","-","-",null,"Sat","23:30:00",0,4,0,0,0,0,0,0,0,0,0,0,0,0,0,0,0,0,0,0,0,0,0,0,0,0,0,0,0,0,0,0,"-","-",0,0,0,4,0,0,0,4,0,0,0,0,0,0,0,4,0,0,0,4]
[{"$error":"#N/A"},{"$f":"OFFSET(Input_Details!$Q$4,MATCH($A4079, Input_Details!$J$5:$J$24, 0), 6)","v":{"$error":"#N/A"}},{"$f":"INDEX(Input_Details!$H$5:$H$24, MATCH($A4079, Input_Details!$J$5:$J$24, 0), 0)","v":{"$error":"#N/A"}},{"$f":"INDEX(Input_Details!$I$5:$I$24, MATCH($A4079, Input_Details!$J$5:$J$24, 0), 0)","v":{"$error":"#N/A"}},{"$f":"INDEX(Input_Details!$K$5:$K$24, MATCH($A4079, Input_Details!$J$5:$J$24, 0), 0)","v":{"$error":"#N/A"}},"Sun","10:45:00",4,9,0,0,0,0,0,0,0,0,0,0,0,0,0,0,0,0,0,0,0,0,0,0,0,0,0,0,0,0,0,0,"-","-","-","-",{"$f":"INDEX(Input_Details!$L$5:$L$24, MATCH($A4079, Input_Details!$J$5:$J$24, 0), 0)","v":{"$error":"#N/A"}},"Sun","10:45:00",0,0,0,0,0,0,0,0,0,0,0,0,0,0,0,0,0,0,0,0,0,0,0,0,0,0,0,0,0,0,0,0,"-","-","-","-",null,"Sun","10:45:00",4,9,0,0,0,0,0,0,0,0,0,0,0,0,0,0,0,0,0,0,0,0,0,0,0,0,0,0,0,0,0,0,"-","-",0,0,4,9,0,0,0,13,0,0,0,0,0,0,4,9,0,0,0,13]
[{"$error":"#N/A"},{"$f":"OFFSET(Input_Details!$Q$4,MATCH($A4097, Input_Details!$J$5:$J$24, 0), 6)","v":{"$error":"#N/A"}},{"$f":"INDEX(Input_Details!$H$5:$H$24, MATCH($A4097, Input_Details!$J$5:$J$24, 0), 0)","v":{"$error":"#N/A"}},{"$f":"INDEX(Input_Details!$I$5:$I$24, MATCH($A4097, Input_Details!$J$5:$J$24, 0), 0)","v":{"$error":"#N/A"}},{"$f":"INDEX(Input_Details!$K$5:$K$24, MATCH($A4097, Input_Details!$J$5:$J$24, 0), 0)","v":{"$error":"#N/A"}},"Sun","15:15:00",1,4,0,0,0,0,0,0,0,0,0,0,0,0,0,0,0,0,0,0,0,0,0,0,0,0,0,0,0,0,0,0,"-","-","-","-",{"$f":"INDEX(Input_Details!$L$5:$L$24, MATCH($A4097, Input_Details!$J$5:$J$24, 0), 0)","v":{"$error":"#N/A"}},"Sun","15:15:00",0,0,0,0,0,0,0,0,0,0,0,0,0,0,0,0,0,0,0,0,0,0,0,0,0,0,0,0,0,0,0,0,"-","-","-","-",null,"Sun","15:15:00",1,4,0,0,0,0,0,0,0,0,0,0,0,0,0,0,0,0,0,0,0,0,0,0,0,0,0,0,0,0,0,0,"-","-",0,0,1,4,0,0,0,5,0,0,0,0,0,0,1,4,0,0,0,5]
[{"$error":"#N/A"},{"$f":"OFFSET(Input_Details!$Q$4,MATCH($A4120, Input_Details!$J$5:$J$24, 0), 6)","v":{"$error":"#N/A"}},{"$f":"INDEX(Input_Details!$H$5:$H$24, MATCH($A4120, Input_Details!$J$5:$J$24, 0), 0)","v":{"$error":"#N/A"}},{"$f":"INDEX(Input_Details!$I$5:$I$24, MATCH($A4120, Input_Details!$J$5:$J$24, 0), 0)","v":{"$error":"#N/A"}},{"$f":"INDEX(Input_Details!$K$5:$K$24, MATCH($A4120, Input_Details!$J$5:$J$24, 0), 0)","v":{"$error":"#N/A"}},"Sun","21:00:00",0,2,0,0,0,0,0,0,0,0,0,0,0,0,0,0,0,0,0,0,0,0,0,0,0,0,0,0,0,0,0,0,"-","-","-","-",{"$f":"INDEX(Input_Details!$L$5:$L$24, MATCH($A4120, Input_Details!$J$5:$J$24, 0), 0)","v":{"$error":"#N/A"}},"Sun","21:00:00",0,0,0,0,0,0,0,0,0,0,0,0,0,0,0,0,0,0,0,0,0,0,0,0,0,0,0,0,0,0,0,0,"-","-","-","-",null,"Sun","21:00:00",0,2,0,0,0,0,0,0,0,0,0,0,0,0,0,0,0,0,0,0,0,0,0,0,0,0,0,0,0,0,0,0,"-","-",0,0,0,2,0,0,0,2,0,0,0,0,0,0,0,2,0,0,0,2]
[{"$error":"#N/A"},"Weekday Average",{"$f":"INDEX(Input_Details!$H$5:$H$24, MATCH($A4149, Input_Details!$J$5:$J$24, 0), 0)","v":{"$error":"#N/A"}},{"$f":"INDEX(Input_Details!$I$5:$I$24, MATCH($A4149, Input_Details!$J$5:$J$24, 0), 0)","v":{"$error":"#N/A"}},{"$f":"INDEX(Input_Details!$K$5:$K$24, MATCH($A4149, Input_Details!$J$5:$J$24, 0), 0)","v":{"$error":"#N/A"}},"WD Ave","04:15:00",{"$f":"IF(AND(H3477=\"\",H3573=\"\",H3669=\"\",H3765=\"\",H3861=\"\"), \"-\", IF(H3477+H3573+H3669+H3765+H3861=0,0,ROUND(AVERAGE(H3477,H3573,H3669,H3765,H3861), 0)))","v":0},0,0,0,0,0,0,0,0,0,0,0,0,0,0,0,0,0,0,0,0,0,0,0,0,0,0,0,0,0,0,0,{"$f":"IF(SUM(H4149:S4149)=0,\"-\",AVERAGEIF(G3460:G3939,$G4149,AN3460:AN3939))","v":"-"},{"$f":"IFERROR(IF(SUM(H4149:S4149)=0,\"-\",AVERAGEIF(G3460:G3939,G4149,AO3460:AO3939)), \"-\")","v":"-"},"-","-",{"$f":"INDEX(Input_Details!$L$5:$L$24, MATCH($A4149, Input_Details!$J$5:$J$24, 0), 0)","v":{"$error":"#N/A"}},"WD Ave","04:15:00",{"$f":"IF(AND(AU3477=\"\",AU3573=\"\",AU3669=\"\",AU3765=\"\",AU3861=\"\"), \"-\", IF(AU3477+AU3573+AU3669+AU3765+AU3861=0,0,ROUND(AVERAGE(AU3477,AU3573,AU3669,AU3765,AU3861), 0)))","v":0},0,0,0,0,0,0,0,0,0,0,0,0,0,0,0,0,0,0,0,0,0,0,0,0,0,0,0,0,0,0,0,{"$f":"IF(SUM(AU4149:BF4149)=0,\"-\",AVERAGEIF(AT3460:AT3939,$G4149,CA3460:CA3939))","v":"-"},{"$f":"IFERROR(IF(SUM(AU4149:BF4149)=0,\"-\",AVERAGEIF(AT3460:AT3939,AT4149,CB3460:CB3939)), \"-\")","v":"-"},"-","-",null,"WD Ave","04:15:00",{"$f":"IF(AND(CH3477=\"-\",CH3573=\"-\",CH3669=\"-\",CH3765=\"-\",CH3861=\"-\"), \"-\", ROUND(AVERAGE(CH3477,CH3573,CH3669,CH3765,CH3861), 0))","v":0},0,0,0,0,0,0,0,0,0,0,0,{"$f":"IF(AND(CT3477=\"-\",CT3573=\"-\",CT3669=\"-\",CT3765=\"-\",CT3861=\"-\"), \"-\", IF(SUM($CH4149:$CS4149)=0, 0, ROUND(AVERAGE(CT3477,CT3573,CT3669,CT3765,CT3861), 0)))","v":0},0,0,0,0,0,0,0,0,0,0,0,0,0,0,0,0,0,0,0,"-","-","-","-",0,0,0,0,0,0,0,0,0,0,0,0,0,0,0,0,0,0]
[{"$error":"#N/A"},"Weekday Average",{"$f":"INDEX(Input_Details!$H$5:$H$24, MATCH($A4180, Input_Details!$J$5:$J$24, 0), 0)","v":{"$error":"#N/A"}},{"$f":"INDEX(Input_Details!$I$5:$I$24, MATCH($A4180, Input_Details!$J$5:$J$24, 0), 0)","v":{"$error":"#N/A"}},{"$f":"INDEX(Input_Details!$K$5:$K$24, MATCH($A4180, Input_Details!$J$5:$J$24, 0), 0)","v":{"$error":"#N/A"}},"WD Ave","12:00:00",{"$f":"IF(AND(H3508=\"\",H3604=\"\",H3700=\"\",H3796=\"\",H3892=\"\"), \"-\", IF(H3508+H3604+H3700+H3796+H3892=0,0,ROUND(AVERAGE(H3508,H3604,H3700,H3796,H3892), 0)))","v":1},8,0,0,0,0,0,0,0,0,0,0,0,0,0,0,0,0,0,0,0,0,0,0,0,0,0,0,0,0,0,0,{"$f":"IF(SUM(H4180:S4180)=0,\"-\",AVERAGEIF(G3460:G3939,$G4180,AN3460:AN3939))","v":{"$error":"#DIV/0!"}},{"$f":"IFERROR(IF(SUM(H4180:S4180)=0,\"-\",AVERAGEIF(G3460:G3939,G4180,AO3460:AO3939)), \"-\")","v":"-"},0,0,{"$f":"INDEX(Input_Details!$L$5:$L$24, MATCH($A4180, Input_Details!$J$5:$J$24, 0), 0)","v":{"$error":"#N/A"}},"WD Ave","12:00:00",{"$f":"IF(AND(AU3508=\"\",AU3604=\"\",AU3700=\"\",AU3796=\"\",AU3892=\"\"), \"-\", IF(AU3508+AU3604+AU3700+AU3796+AU3892=0,0,ROUND(AVERAGE(AU3508,AU3604,AU3700,AU3796,AU3892), 0)))","v":0},0,0,0,0,0,0,0,0,0,0,0,0,0,0,0,0,0,0,0,0,0,0,0,0,0,0,0,0,0,0,0,{"$f":"IF(SUM(AU4180:BF4180)=0,\"-\",AVERAGEIF(AT3460:AT3939,$G4180,CA3460:CA3939))","v":"-"},{"$f":"IFERROR(IF(SUM(AU4180:BF4180)=0,\"-\",AVERAGEIF(AT3460:AT3939,AT4180,CB3460:CB3939)), \"-\")","v":"-"},"-","-",null,"WD Ave","12:00:00",{"$f":"IF(AND(CH3508=\"-\",CH3604=\"-\",CH3700=\"-\",CH3796=\"-\",CH3892=\"-\"), \"-\", ROUND(AVERAGE(CH3508,CH3604,CH3700,CH3796,CH3892), 0))","v":1},8,0,0,0,0,0,0,0,0,0,0,{"$f":"IF(AND(CT3508=\"-\",CT3604=\"-\",CT3700=\"-\",CT3796=\"-\",CT3892=\"-\"), \"-\", IF(SUM($CH4180:$CS4180)=0, 0, ROUND(AVERAGE(CT3508,CT3604,CT3700,CT3796,CT3892), 0)))","v":0},0,0,0,0,0,0,0,0,0,0,0,0,0,0,0,0,0,0,0,{"$error":"#DIV/0!"},"-",0,0,1,8,0,0,0,9,0,0,0,0,0,0,1,8,0,0,0,9]
[{"$error":"#N/A"},"Weekday Average",{"$f":"INDEX(Input_Details!$H$5:$H$24, MATCH($A4190, Input_Details!$J$5:$J$24, 0), 0)","v":{"$error":"#N/A"}},{"$f":"INDEX(Input_Details!$I$5:$I$24, MATCH($A4190, Input_Details!$J$5:$J$24, 0), 0)","v":{"$error":"#N/A"}},{"$f":"INDEX(Input_Details!$K$5:$K$24, MATCH($A4190, Input_Details!$J$5:$J$24, 0), 0)","v":{"$error":"#N/A"}},"WD Ave","14:30:00",{"$f":"IF(AND(H3518=\"\",H3614=\"\",H3710=\"\",H3806=\"\",H3902=\"\"), \"-\", IF(H3518+H3614+H3710+H3806+H3902=0,0,ROUND(AVERAGE(H3518,H3614,H3710,H3806,H3902), 0)))","v":0},9,0,0,0,0,0,0,0,0,0,0,0,0,0,0,0,0,0,0,0,0,0,0,0,0,0,0,0,0,0,0,{"$f":"IF(SUM(H4190:S4190)=0,\"-\",AVERAGEIF(G3460:G3939,$G4190,AN3460:AN3939))","v":{"$error":"#DIV/0!"}},{"$f":"IFERROR(IF(SUM(H4190:S4190)=0,\"-\",AVERAGEIF(G3460:G3939,G4190,AO3460:AO3939)), \"-\")","v":"-"},0,0,{"$f":"INDEX(Input_Details!$L$5:$L$24, MATCH($A4190, Input_Details!$J$5:$J$24, 0), 0)","v":{"$error":"#N/A"}},"WD Ave","14:30:00",{"$f":"IF(AND(AU3518=\"\",AU3614=\"\",AU3710=\"\",AU3806=\"\",AU3902=\"\"), \"-\", IF(AU3518+AU3614+AU3710+AU3806+AU3902=0,0,ROUND(AVERAGE(AU3518,AU3614,AU3710,AU3806,AU3902), 0)))","v":0},0,0,0,0,0,0,0,0,0,0,0,0,0,0,0,0,0,0,0,0,0,0,0,0,0,0,0,0,0,0,0,{"$f":"IF(SUM(AU4190:BF4190)=0,\"-\",AVERAGEIF(AT3460:AT3939,$G4190,CA3460:CA3939))","v":"-"},{"$f":"IFERROR(IF(SUM(AU4190:BF4190)=0,\"-\",AVERAGEIF(AT3460:AT3939,AT4190,CB3460:CB3939)), \"-\")","v":"-"},"-","-",null,"WD Ave","14:30:00",{"$f":"IF(AND(CH3518=\"-\",CH3614=\"-\",CH3710=\"-\",CH3806=\"-\",CH3902=\"-\"), \"-\", ROUND(AVERAGE(CH3518,CH3614,CH3710,CH3806,CH3902), 0))","v":0},9,0,0,0,0,0,0,0,0,0,0,{"$f":"IF(AND(CT3518=\"-\",CT3614=\"-\",CT3710=\"-\",CT3806=\"-\",CT3902=\"-\"), \"-\", IF(SUM($CH4190:$CS4190)=0, 0, ROUND(AVERAGE(CT3518,CT3614,CT3710,CT3806,CT3902), 0)))","v":0},0,0,0,0,0,0,0,0,0,0,0,0,0,0,0,0,0,0,0,{"$error":"#DIV/0!"},"-",0,0,0,9,0,0,0,9,0,0,0,0,0,0,0,9,0,0,0,9]
[{"$error":"#N/A"},"Weekday Average",{"$f":"INDEX(Input_Details!$H$5:$H$24, MATCH($A4216, Input_Details!$J$5:$J$24, 0), 0)","v":{"$error":"#N/A"}},{"$f":"INDEX(Input_Details!$I$5:$I$24, MATCH($A4216, Input_Details!$J$5:$J$24, 0), 0)","v":{"$error":"#N/A"}},{"$f":"INDEX(Input_Details!$K$5:$K$24, MATCH($A4216, Input_Details!$J$5:$J$24, 0), 0)","v":{"$error":"#N/A"}},"WD Ave","21:00:00",{"$f":"IF(AND(H3544=\"\",H3640=\"\",H3736=\"\",H3832=\"\",H3928=\"\"), \"-\", IF(H3544+H3640+H3736+H3832+H3928=0,0,ROUND(AVERAGE(H3544,H3640,H3736,H3832,H3928), 0)))","v":1},4,0,0,0,0,0,0,0,0,0,0,0,0,0,0,0,0,0,0,0,0,0,0,0,0,0,0,0,0,0,0,{"$f":"IF(SUM(H4216:S4216)=0,\"-\",AVERAGEIF(G3460:G3939,$G4216,AN3460:AN3939))","v":{"$error":"#DIV/0!"}},{"$f":"IFERROR(IF(SUM(H4216:S4216)=0,\"-\",AVERAGEIF(G3460:G3939,G4216,AO3460:AO3939)), \"-\")","v":"-"},0,0,{"$f":"INDEX(Input_Details!$L$5:$L$24, MATCH($A4216, Input_Details!$J$5:$J$24, 0), 0)","v":{"$error":"#N/A"}},"WD Ave","21:00:00",{"$f":"IF(AND(AU3544=\"\",AU3640=\"\",AU3736=\"\",AU3832=\"\",AU3928=\"\"), \"-\", IF(AU3544+AU3640+AU3736+AU3832+AU3928=0,0,ROUND(AVERAGE(AU3544,AU3640,AU3736,AU3832,AU3928), 0)))","v":0},0,0,0,0,0,0,0,0,0,0,0,0,0,0,0,0,0,0,0,0,0,0,0,0,0,0,0,0,0,0,0,{"$f":"IF(SUM(AU4216:BF4216)=0,\"-\",AVERAGEIF(AT3460:AT3939,$G4216,CA3460:CA3939))","v":"-"},{"$f":"IFERROR(IF(SUM(AU4216:BF4216)=0,\"-\",AVERAGEIF(AT3460:AT3939,AT4216,CB3460:CB3939)), \"-\")","v":"-"},"-","-",null,"WD Ave","21:00:00",{"$f":"IF(AND(CH3544=\"-\",CH3640=\"-\",CH3736=\"-\",CH3832=\"-\",CH3928=\"-\"), \"-\", ROUND(AVERAGE(CH3544,CH3640,CH3736,CH3832,CH3928), 0))","v":1},4,0,0,0,0,0,0,0,0,0,0,{"$f":"IF(AND(CT3544=\"-\",CT3640=\"-\",CT3736=\"-\",CT3832=\"-\",CT3928=\"-\"), \"-\", IF(SUM($CH4216:$CS4216)=0, 0, ROUND(AVERAGE(CT3544,CT3640,CT3736,CT3832,CT3928), 0)))","v":0},0,0,0,0,0,0,0,0,0,0,0,0,0,0,0,0,0,0,0,{"$error":"#DIV/0!"},"-",0,0,1,4,0,0,0,5,0,0,0,0,0,0,1,4,0,0,0,5]
[{"$error":"#N/A"},"7-Day Average",{"$f":"INDEX(Input_Details!$H$5:$H$24, MATCH($A4253, Input_Details!$J$5:$J$24, 0), 0)","v":{"$error":"#N/A"}},{"$f":"INDEX(Input_Details!$I$5:$I$24, MATCH($A4253, Input_Details!$J$5:$J$24, 0), 0)","v":{"$error":"#N/A"}},{"$f":"INDEX(Input_Details!$K$5:$K$24, MATCH($A4253, Input_Details!$J$5:$J$24, 0), 0)","v":{"$error":"#N/A"}},"7 Day Ave","06:15:00",{"$f":"IF(AND(H3485=\"\",H3581=\"\",H3677=\"\",H3773=\"\",H3869=\"\",H3965=\"\",H4061=\"\"), \"-\", IF(H3485+H3581+H3677+H3773+H3869+H3965+H4061=0,0,ROUND(AVERAGE(H3485,H3581,H3677,H3773,H3869,H3965,H4061),0)))","v":1},0,0,0,0,0,0,0,0,0,0,0,0,0,0,0,0,0,0,0,0,0,0,0,0,0,0,0,0,0,0,0,{"$f":"IF(SUM(H4253:S4253)=0,\"-\",AVERAGEIF(G3460:G4131,$G4253,AN3460:AN4131))","v":{"$error":"#DIV/0!"}},{"$f":"IFERROR(IF(SUM(H4253:S4253)=0,\"-\",AVERAGEIF(G3460:G4131,G4253,AO3460:AO4131)), \"-\")","v":"-"},0,0,{"$f":"INDEX(Input_Details!$L$5:$L$24, MATCH($A4253, Input_Details!$J$5:$J$24, 0), 0)","v":{"$error":"#N/A"}},"7 Day Ave","06:15:00",{"$f":"IF(AND(AU3485=\"\",AU3581=\"\",AU3677=\"\",AU3773=\"\",AU3869=\"\",AU3965=\"\",AU4061=\"\"), \"-\", IF(AU3485+AU3581+AU3677+AU3773+AU3869+AU3965+AU4061=0,0,ROUND(AVERAGE(AU3485,AU3581,AU3677,AU3773,AU3869,AU3965,AU4061),0)))","v":0},0,0,0,0,0,0,0,0,0,0,0,0,0,0,0,0,0,0,0,0,0,0,0,0,0,0,0,0,0,0,0,{"$f":"IF(SUM(AU4253:BF4253)=0,\"-\",AVERAGEIF(AT3460:AT4131,$G4253,CA3460:CA4131))","v":"-"},{"$f":"IFERROR(IF(SUM(AU4253:BF4253)=0,\"-\",AVERAGEIF(AT3460:AT4131,AT4253,CB3460:CB4131)), \"-\")","v":"-"},"-","-",null,"7 Day Ave","06:15:00",{"$f":"IF(AND(CH3485=\"-\",CH3581=\"-\",CH3677=\"-\",CH3773=\"-\",CH3869=\"-\",CH3965=\"-\",CH4061=\"-\"), \"-\", ROUND(AVERAGE(CH3485,CH3581,CH3677,CH3773,CH3869,CH3965,CH4061),0))","v":1},0,0,0,0,0,0,0,0,0,0,0,{"$f":"IF(AND(CT3485=\"-\",CT3581=\"-\",CT3677=\"-\",CT3773=\"-\",CT3869=\"-\",CT3965=\"-\",CT4061=\"-\"), \"-\", IF(SUM($CH4253:$CS4253)=0, 0, ROUND(AVERAGE(CT3485,CT3581,CT3677,CT3773,CT3869,CT3965,CT4061),0)))","v":0},0,0,0,0,0,0,0,0,0,0,0,0,0,0,0,0,0,0,0,{"$error":"#DIV/0!"},"-",0,0,1,0,0,0,0,1,0,0,0,0,0,0,1,0,0,0,0,1]
[{"$error":"#N/A"},"7-Day Average",{"$f":"INDEX(Input_Details!$H$5:$H$24, MATCH($A4279, Input_Details!$J$5:$J$24, 0), 0)","v":{"$error":"#N/A"}},{"$f":"INDEX(Input_Details!$I$5:$I$24, MATCH($A4279, Input_Details!$J$5:$J$24, 0), 0)","v":{"$error":"#N/A"}},{"$f":"INDEX(Input_Details!$K$5:$K$24, MATCH($A4279, Input_Details!$J$5:$J$24, 0), 0)","v":{"$error":"#N/A"}},"7 Day Ave","12:45:00",{"$f":"IF(AND(H3511=\"\",H3607=\"\",H3703=\"\",H3799=\"\",H3895=\"\",H3991=\"\",H4087=\"\"), \"-\", IF(H3511+H3607+H3703+H3799+H3895+H3991+H4087=0,0,ROUND(AVERAGE(H3511,H3607,H3703,H3799,H3895,H3991,H4087),0)))","v":1},10,0,0,0,0,0,0,0,0,0,0,0,0,0,0,0,0,0,0,0,0,0,0,0,0,0,0,0,0,0,0,{"$f":"IF(SUM(H4279:S4279)=0,\"-\",AVERAGEIF(G3460:G4131,$G4279,AN3460:AN4131))","v":{"$error":"#DIV/0!"}},{"$f":"IFERROR(IF(SUM(H4279:S4279)=0,\"-\",AVERAGEIF(G3460:G4131,G4279,AO3460:AO4131)), \"-\")","v":"-"},0,0,{"$f":"INDEX(Input_Details!$L$5:$L$24, MATCH($A4279, Input_Details!$J$5:$J$24, 0), 0)","v":{"$error":"#N/A"}},"7 Day Ave","12:45:00",{"$f":"IF(AND(AU3511=\"\",AU3607=\"\",AU3703=\"\",AU3799=\"\",AU3895=\"\",AU3991=\"\",AU4087=\"\"), \"-\", IF(AU3511+AU3607+AU3703+AU3799+AU3895+AU3991+AU4087=0,0,ROUND(AVERAGE(AU3511,AU3607,AU3703,AU3799,AU3895,AU3991,AU4087),0)))","v":0},0,0,0,0,0,0,0,0,0,0,0,0,0,0,0,0,0,0,0,0,0,0,0,0,0,0,0,0,0,0,0,{"$f":"IF(SUM(AU4279:BF4279)=0,\"-\",AVERAGEIF(AT3460:AT4131,$G4279,CA3460:CA4131))","v":"-"},{"$f":"IFERROR(IF(SUM(AU4279:BF4279)=0,\"-\",AVERAGEIF(AT3460:AT4131,AT4279,CB3460:CB4131)), \"-\")","v":"-"},"-","-",null,"7 Day Ave","12:45:00",{"$f":"IF(AND(CH3511=\"-\",CH3607=\"-\",CH3703=\"-\",CH3799=\"-\",CH3895=\"-\",CH3991=\"-\",CH4087=\"-\"), \"-\", ROUND(AVERAGE(CH3511,CH3607,CH3703,CH3799,CH3895,CH3991,CH4087),0))","v":1},10,0,0,0,0,0,0,0,0,0,0,{"$f":"IF(AND(CT3511=\"-\",CT3607=\"-\",CT3703=\"-\",CT3799=\"-\",CT3895=\"-\",CT3991=\"-\",CT4087=\"-\"), \"-\", IF(SUM($CH4279:$CS4279)=0, 0, ROUND(AVERAGE(CT3511,CT3607,CT3703,CT3799,CT3895,CT3991,CT4087),0)))","v":0},0,0,0,0,0,0,0,0,0,0,0,0,0,0,0,0,0,0,0,{"$error":"#DIV/0!"},"-",0,0,1,10,0,0,0,11,0,0,0,0,0,0,1,10,0,0,0,11]
[{"$error":"#N/A"},"7-Day Average",{"$f":"INDEX(Input_Details!$H$5:$H$24, MATCH($A4316, Input_Details!$J$5:$J$24, 0), 0)","v":{"$error":"#N/A"}},{"$f":"INDEX(Input_Details!$I$5:$I$24, MATCH($A4316, Input_Details!$J$5:$J$24, 0), 0)","v":{"$error":"#N/A"}},{"$f":"INDEX(Input_Details!$K$5:$K$24, MATCH($A4316, Input_Details!$J$5:$J$24, 0), 0)","v":{"$error":"#N/A"}},"7 Day Ave","22:00:00",{"$f":"IF(AND(H3548=\"\",H3644=\"\",H3740=\"\",H3836=\"\",H3932=\"\",H4028=\"\",H4124=\"\"), \"-\", IF(H3548+H3644+H3740+H3836+H3932+H4028+H4124=0,0,ROUND(AVERAGE(H3548,H3644,H3740,H3836,H3932,H4028,H4124),0)))","v":0},4,0,0,0,0,0,0,0,0,0,0,0,0,0,0,0,0,0,0,0,0,0,0,0,0,0,0,0,0,0,0,{"$f":"IF(SUM(H4316:S4316)=0,\"-\",AVERAGEIF(G3460:G4131,$G4316,AN3460:AN4131))","v":{"$error":"#DIV/0!"}},{"$f":"IFERROR(IF(SUM(H4316:S4316)=0,\"-\",AVERAGEIF(G3460:G4131,G4316,AO3460:AO4131)), \"-\")","v":"-"},0,0,{"$f":"INDEX(Input_Details!$L$5:$L$24, MATCH($A4316, Input_Details!$J$5:$J$24, 0), 0)","v":{"$error":"#N/A"}},"7 Day Ave","22:00:00",{"$f":"IF(AND(AU3548=\"\",AU3644=\"\",AU3740=\"\",AU3836=\"\",AU3932=\"\",AU4028=\"\",AU4124=\"\"), \"-\", IF(AU3548+AU3644+AU3740+AU3836+AU3932+AU4028+AU4124=0,0,ROUND(AVERAGE(AU3548,AU3644,AU3740,AU3836,AU3932,AU4028,AU4124),0)))","v":0},0,0,0,0,0,0,0,0,0,0,0,0,0,0,0,0,0,0,0,0,0,0,0,0,0,0,0,0,0,0,0,{"$f":"IF(SUM(AU4316:BF4316)=0,\"-\",AVERAGEIF(AT3460:AT4131,$G4316,CA3460:CA4131))","v":"-"},{"$f":"IFERROR(IF(SUM(AU4316:BF4316)=0,\"-\",AVERAGEIF(AT3460:AT4131,AT4316,CB3460:CB4131)), \"-\")","v":"-"},"-","-",null,"7 Day Ave","22:00:00",{"$f":"IF(AND(CH3548=\"-\",CH3644=\"-\",CH3740=\"-\",CH3836=\"-\",CH3932=\"-\",CH4028=\"-\",CH4124=\"-\"), \"-\", ROUND(AVERAGE(CH3548,CH3644,CH3740,CH3836,CH3932,CH4028,CH4124),0))","v":0},4,0,0,0,0,0,0,0,0,0,0,{"$f":"IF(AND(CT3548=\"-\",CT3644=\"-\",CT3740=\"-\",CT3836=\"-\",CT3932=\"-\",CT4028=\"-\",CT4124=\"-\"), \"-\", IF(SUM($CH4316:$CS4316)=0, 0, ROUND(AVERAGE(CT3548,CT3644,CT3740,CT3836,CT3932,CT4028,CT4124),0)))","v":0},0,0,0,0,0,0,0,0,0,0,0,0,0,0,0,0,0,0,0,{"$error":"#DIV/0!"},"-",0,0,0,4,0,0,0,4,0,0,0,0,0,0,0,4,0,0,0,4]
[{"$error":"#N/A"},"7-Day Average",{"$f":"INDEX(Input_Details!$H$5:$H$24, MATCH($A4323, Input_Details!$J$5:$J$24, 0), 0)","v":{"$error":"#N/A"}},{"$f":"INDEX(Input_Details!$I$5:$I$24, MATCH($A4323, Input_Details!$J$5:$J$24, 0), 0)","v":{"$error":"#N/A"}},{"$f":"INDEX(Input_Details!$K$5:$K$24, MATCH($A4323, Input_Details!$J$5:$J$24, 0), 0)","v":{"$error":"#N/A"}},"7 Day Ave","23:45:00",{"$f":"IF(AND(H3555=\"\",H3651=\"\",H3747=\"\",H3843=\"\",H3939=\"\",H4035=\"\",H4131=\"\"), \"-\", IF(H3555+H3651+H3747+H3843+H3939+H4035+H4131=0,0,ROUND(AVERAGE(H3555,H3651,H3747,H3843,H3939,H4035,H4131),0)))","v":0},1,0,0,0,0,0,0,0,0,0,0,0,0,0,0,0,0,0,0,0,0,0,0,0,0,0,0,0,0,0,0,{"$f":"IF(SUM(H4323:S4323)=0,\"-\",AVERAGEIF(G3460:G4131,$G4323,AN3460:AN4131))","v":{"$error":"#DIV/0!"}},{"$f":"IFERROR(IF(SUM(H4323:S4323)=0,\"-\",AVERAGEIF(G3460:G4131,G4323,AO3460:AO4131)), \"-\")","v":"-"},0,0,{"$f":"INDEX(Input_Details!$L$5:$L$24, MATCH($A4323, Input_Details!$J$5:$J$24, 0), 0)","v":{"$error":"#N/A"}},"7 Day Ave","23:45:00",{"$f":"IF(AND(AU3555=\"\",AU3651=\"\",AU3747=\"\",AU3843=\"\",AU3939=\"\",AU4035=\"\",AU4131=\"\"), \"-\", IF(AU3555+AU3651+AU3747+AU3843+AU3939+AU4035+AU4131=0,0,ROUND(AVERAGE(AU3555,AU3651,AU3747,AU3843,AU3939,AU4035,AU4131),0)))","v":0},0,0,0,0,0,0,0,0,0,0,0,0,0,0,0,0,0,0,0,0,0,0,0,0,0,0,0,0,0,0,0,{"$f":"IF(SUM(AU4323:BF4323)=0,\"-\",AVERAGEIF(AT3460:AT4131,$G4323,CA3460:CA4131))","v":"-"},{"$f":"IFERROR(IF(SUM(AU4323:BF4323)=0,\"-\",AVERAGEIF(AT3460:AT4131,AT4323,CB3460:CB4131)), \"-\")","v":"-"},"-","-",null,"7 Day Ave","23:45:00",{"$f":"IF(AND(CH3555=\"-\",CH3651=\"-\",CH3747=\"-\",CH3843=\"-\",CH3939=\"-\",CH4035=\"-\",CH4131=\"-\"), \"-\", ROUND(AVERAGE(CH3555,CH3651,CH3747,CH3843,CH3939,CH4035,CH4131),0))","v":0},1,0,0,0,0,0,0,0,0,0,0,{"$f":"IF(AND(CT3555=\"-\",CT3651=\"-\",CT3747=\"-\",CT3843=\"-\",CT3939=\"-\",CT4035=\"-\",CT4131=\"-\"), \"-\", IF(SUM($CH4323:$CS4323)=0, 0, ROUND(AVERAGE(CT3555,CT3651,CT3747,CT3843,CT3939,CT4035,CT4131),0)))","v":0},0,0,0,0,0,0,0,0,0,0,0,0,0,0,0,0,0,0,0,{"$error":"#DIV/0!"},"-",0,0,0,1,0,0,0,1,0,0,0,0,0,0,0,1,0,0,0,1]
[{"$error":"#N/A"},{"$f":"OFFSET(Input_Details!$Q$4,MATCH($A4362, Input_Details!$J$5:$J$24, 0), 0)","v":{"$error":"#N/A"}},{"$f":"INDEX(Input_Details!$H$5:$H$24, MATCH($A4362, Input_Details!$J$5:$J$24, 0), 0)","v":{"$error":"#N/A"}},{"$f":"INDEX(Input_Details!$I$5:$I$24, MATCH($A4362, Input_Details!$J$5:$J$24, 0), 0)","v":{"$error":"#N/A"}},{"$f":"INDEX(Input_Details!$K$5:$K$24, MATCH($A4362, Input_Details!$J$5:$J$24, 0), 0)","v":{"$error":"#N/A"}},"Mon","09:30:00",0,15,0,0,0,0,0,0,0,0,0,0,0,0,0,0,0,0,0,0,0,0,0,0,0,0,0,0,0,0,0,0,"-","-","-","-",{"$f":"INDEX(Input_Details!$L$5:$L$24, MATCH($A4362, Input_Details!$J$5:$J$24, 0), 0)","v":{"$error":"#N/A"}},"Mon","09:30:00",0,0,0,0,0,0,0,0,0,0,0,0,0,0,0,0,0,0,0,0,0,0,0,0,0,0,0,0,0,0,0,0,"-","-","-","-",null,"Mon","09:30:00",0,15,0,0,0,0,0,0,0,0,0,0,0,0,0,0,0,0,0,0,0,0,0,0,0,0,0,0,0,0,0,0,"-","-",0,0,0,15,0,0,0,15,0,0,0,0,0,0,0,15,0,0,0,15,15,24,17,11,9,17,15,0,0,0,0,0,0,0,15,24,17,11,9,17,15]
[{"$error":"#N/A"},{"$f":"OFFSET(Input_Details!$Q$4,MATCH($A4386, Input_Details!$J$5:$J$24, 0), 0)","v":{"$error":"#N/A"}},{"$f":"INDEX(Input_Details!$H$5:$H$24, MATCH($A4386, Input_Details!$J$5:$J$24, 0), 0)","v":{"$error":"#N/A"}},{"$f":"INDEX(Input_Details!$I$5:$I$24, MATCH($A4386, Input_Details!$J$5:$J$24, 0), 0)","v":{"$error":"#N/A"}},{"$f":"INDEX(Input_Details!$K$5:$K$24, MATCH($A4386, Input_Details!$J$5:$J$24, 0), 0)","v":{"$error":"#N/A"}},"Mon","15:30:00",1,28,0,0,0,0,0,0,0,0,0,0,0,0,0,0,0,0,0,0,0,0,0,0,0,0,0,0,0,0,0,0,"-","-","-","-",{"$f":"INDEX(Input_Details!$L$5:$L$24, MATCH($A4386, Input_Details!$J$5:$J$24, 0), 0)","v":{"$error":"#N/A"}},"Mon","15:30:00",0,0,0,0,0,0,0,0,0,0,0,0,0,0,0,0,0,0,0,0,0,0,0,0,0,0,0,0,0,0,0,0,"-","-","-","-",null,"Mon","15:30:00",1,28,0,0,0,0,0,0,0,0,0,0,0,0,0,0,0,0,0,0,0,0,0,0,0,0,0,0,0,0,0,0,"-","-",0,0,1,28,0,0,0,29,0,0,0,0,0,0,1,28,0,0,0,29,29,24,30,41,31,16,12,0,0,0,0,0,0,0,29,24,30,41,31,16,12]
[{"$error":"#N/A"},{"$f":"OFFSET(Input_Details!$Q$4,MATCH($A4403, Input_Details!$J$5:$J$24, 0), 0)","v":{"$error":"#N/A"}},{"$f":"INDEX(Input_Details!$H$5:$H$24, MATCH($A4403, Input_Details!$J$5:$J$24, 0), 0)","v":{"$error":"#N/A"}},{"$f":"INDEX(Input_Details!$I$5:$I$24, MATCH($A4403, Input_Details!$J$5:$J$24, 0), 0)","v":{"$error":"#N/A"}},{"$f":"INDEX(Input_Details!$K$5:$K$24, MATCH($A4403, Input_Details!$J$5:$J$24, 0), 0)","v":{"$error":"#N/A"}},"Mon","19:45:00",5,11,0,0,0,0,0,0,0,0,0,0,0,0,0,0,0,0,0,0,0,0,0,0,0,0,0,0,0,0,0,0,"-","-","-","-",{"$f":"INDEX(Input_Details!$L$5:$L$24, MATCH($A4403, Input_Details!$J$5:$J$24, 0), 0)","v":{"$error":"#N/A"}},"Mon","19:45:00",0,0,0,0,0,0,0,0,0,0,0,0,0,0,0,0,0,0,0,0,0,0,0,0,0,0,0,0,0,0,0,0,"-","-","-","-",null,"Mon","19:45:00",5,11,0,0,0,0,0,0,0,0,0,0,0,0,0,0,0,0,0,0,0,0,0,0,0,0,0,0,0,0,0,0,"-","-",0,0,5,11,0,0,0,16,0,0,0,0,0,0,5,11,0,0,0,16,16,17,18,12,13,21,12,0,0,0,0,0,0,0,16,17,18,12,13,21,12]
[{"$error":"#N/A"},{"$f":"OFFSET(Input_Details!$Q$4,MATCH($A4449, Input_Details!$J$5:$J$24, 0), 1)","v":{"$error":"#N/A"}},{"$f":"INDEX(Input_Details!$H$5:$H$24, MATCH($A4449, Input_Details!$J$5:$J$24, 0), 0)","v":{"$error":"#N/A"}},{"$f":"INDEX(Input_Details!$I$5:$I$24, MATCH($A4449, Input_Details!$J$5:$J$24, 0), 0)","v":{"$error":"#N/A"}},{"$f":"INDEX(Input_Details!$K$5:$K$24, MATCH($A4449, Input_Details!$J$5:$J$24, 0), 0)","v":{"$error":"#N/A"}},"Tues","07:15:00",4,9,0,0,0,0,0,0,0,0,0,0,0,0,0,0,0,0,0,0,0,0,0,0,0,0,0,0,0,0,0,0,"-","-","-","-",{"$f":"INDEX(Input_Details!$L$5:$L$24, MATCH($A4449, Input_Details!$J$5:$J$24, 0), 0)","v":{"$error":"#N/A"}},"Tues","07:15:00",0,0,0,0,0,0,0,0,0,0,0,0,0,0,0,0,0,0,0,0,0,0,0,0,0,0,0,0,0,0,0,0,"-","-","-","-",null,"Tues","07:15:00",4,9,0,0,0,0,0,0,0,0,0,0,0,0,0,0,0,0,0,0,0,0,0,0,0,0,0,0,0,0,0,0,"-","-",0,0,4,9,0,0,0,13,0,0,0,0,0,0,4,9,0,0,0,13]
[{"$error":"#N/A"},{"$f":"OFFSET(Input_Details!$Q$4,MATCH($A4456, Input_Details!$J$5:$J$24, 0), 1)","v":{"$error":"#N/A"}},{"$f":"INDEX(Input_Details!$H$5:$H$24, MATCH($A4456, Input_Details!$J$5:$J$24, 0), 0)","v":{"$error":"#N/A"}},{"$f":"INDEX(Input_Details!$I$5:$I$24, MATCH($A4456, Input_Details!$J$5:$J$24, 0), 0)","v":{"$error":"#N/A"}},{"$f":"INDEX(Input_Details!$K$5:$K$24, MATCH($A4456, Input_Details!$J$5:$J$24, 0), 0)","v":{"$error":"#N/A"}},"Tues","09:00:00",0,32,0,0,0,0,0,0,0,0,0,0,0,0,0,0,0,0,0,0,0,0,0,0,0,0,0,0,0,0,0,0,"-","-","-","-",{"$f":"INDEX(Input_Details!$L$5:$L$24, MATCH($A4456, Input_Details!$J$5:$J$24, 0), 0)","v":{"$error":"#N/A"}},"Tues","09:00:00",0,0,0,0,0,0,0,0,0,0,0,0,0,0,0,0,0,0,0,0,0,0,0,0,0,0,0,0,0,0,0,0,"-","-","-","-",null,"Tues","09:00:00",0,32,0,0,0,0,0,0,0,0,0,0,0,0,0,0,0,0,0,0,0,0,0,0,0,0,0,0,0,0,0,0,"-","-",0,0,0,32,0,0,0,32,0,0,0,0,0,0,0,32,0,0,0,32]
[{"$error":"#N/A"},{"$f":"OFFSET(Input_Details!$Q$4,MATCH($A4481, Input_Details!$J$5:$J$24, 0), 1)","v":{"$error":"#N/A"}},{"$f":"INDEX(Input_Details!$H$5:$H$24, MATCH($A4481, Input_Details!$J$5:$J$24, 0), 0)","v":{"$error":"#N/A"}},{"$f":"INDEX(Input_Details!$I$5:$I$24, MATCH($A4481, Input_Details!$J$5:$J$24, 0), 0)","v":{"$error":"#N/A"}},{"$f":"INDEX(Input_Details!$K$5:$K$24, MATCH($A4481, Input_Details!$J$5:$J$24, 0), 0)","v":{"$error":"#N/A"}},"Tues","15:15:00",5,33,0,0,0,0,0,0,0,0,0,0,0,0,0,0,0,0,0,0,0,0,0,0,0,0,0,0,0,0,0,0,"-","-","-","-",{"$f":"INDEX(Input_Details!$L$5:$L$24, MATCH($A4481, Input_Details!$J$5:$J$24, 0), 0)","v":{"$error":"#N/A"}},"Tues","15:15:00",0,0,0,0,0,0,0,0,0,0,0,0,0,0,0,0,0,0,0,0,0,0,0,0,0,0,0,0,0,0,0,0,"-","-","-","-",null,"Tues","15:15:00",5,33,0,0,0,0,0,0,0,0,0,0,0,0,0,0,0,0,0,0,0,0,0,0,0,0,0,0,0,0,0,0,"-","-",0,0,5,33,0,0,0,38,0,0,0,0,0,0,5,33,0,0,0,38]
[{"$error":"#N/A"},{"$f":"OFFSET(Input_Details!$Q$4,MATCH($A4519, Input_Details!$J$5:$J$24, 0), 2)","v":{"$error":"#N/A"}},{"$f":"INDEX(Input_Details!$H$5:$H$24, MATCH($A4519, Input_Details!$J$5:$J$24, 0), 0)","v":{"$error":"#N/A"}},{"$f":"INDEX(Input_Details!$I$5:$I$24, MATCH($A4519, Input_Details!$J$5:$J$24, 0), 0)","v":{"$error":"#N/A"}},{"$f":"INDEX(Input_Details!$K$5:$K$24, MATCH($A4519, Input_Details!$J$5:$J$24, 0), 0)","v":{"$error":"#N/A"}},"Wed","00:45:00",0,0,0,0,0,0,0,0,0,0,0,0,0,0,0,0,0,0,0,0,0,0,0,0,0,0,0,0,0,0,0,0,"-","-","-","-",{"$f":"INDEX(Input_Details!$L$5:$L$24, MATCH($A4519, Input_Details!$J$5:$J$24, 0), 0)","v":{"$error":"#N/A"}},"Wed","00:45:00",0,0,0,0,0,0,0,0,0,0,0,0,0,0,0,0,0,0,0,0,0,0,0,0,0,0,0,0,0,0,0,0,"-","-","-","-",null,"Wed","00:45:00",0,0,0,0,0,0,0,0,0,0,0,0,0,0,0,0,0,0,0,0,0,0,0,0,0,0,0,0,0,0,0,0,"-","-","-","-",0,0,0,0,0,0,0,0,0,0,0,0,0,0,0,0,0,0]
[{"$error":"#N/A"},{"$f":"OFFSET(Input_Details!$Q$4,MATCH($A4549, Input_Details!$J$5:$J$24, 0), 2)","v":{"$error":"#N/A"}},{"$f":"INDEX(Input_Details!$H$5:$H$24, MATCH($A4549, Input_Details!$J$5:$J$24, 0), 0)","v":{"$error":"#N/A"}},{"$f":"INDEX(Input_Details!$I$5:$I$24, MATCH($A4549, Input_Details!$J$5:$J$24, 0), 0)","v":{"$error":"#N/A"}},{"$f":"INDEX(Input_Details!$K$5:$K$24, MATCH($A4549, Input_Details!$J$5:$J$24, 0), 0)","v":{"$error":"#N/A"}},"Wed","08:15:00",5,46,0,0,0,0,0,0,0,0,0,0,0,0,0,0,0,0,0,0,0,0,0,0,0,0,0,0,0,0,0,0,"-","-","-","-",{"$f":"INDEX(Input_Details!$L$5:$L$24, MATCH($A4549, Input_Details!$J$5:$J$24, 0), 0)","v":{"$error":"#N/A"}},"Wed","08:15:00",0,0,0,0,0,0,0,0,0,0,0,0,0,0,0,0,0,0,0,0,0,0,0,0,0,0,0,0,0,0,0,0,"-","-","-","-",null,"Wed","08:15:00",5,46,0,0,0,0,0,0,0,0,0,0,0,0,0,0,0,0,0,0,0,0,0,0,0,0,0,0,0,0,0,0,"-","-",0,0,5,46,0,0,{"$f":"IF(DR4549=\"-\", \"-\", SUM(M4549:S4549))","v":0},51,0,0,0,{"$f":"IF(DX4549=\"-\", \"-\", AY4549)","v":0},0,0,5,46,0,0,0,51]
[{"$error":"#N/A"},{"$f":"OFFSET(Input_Details!$Q$4,MATCH($A4556, Input_Details!$J$5:$J$24, 0), 2)","v":{"$error":"#N/A"}},{"$f":"INDEX(Input_Details!$H$5:$H$24, MATCH($A4556, Input_Details!$J$5:$J$24, 0), 0)","v":{"$error":"#N/A"}},{"$f":"INDEX(Input_Details!$I$5:$I$24, MATCH($A4556, Input_Details!$J$5:$J$24, 0), 0)","v":{"$error":"#N/A"}},{"$f":"INDEX(Input_Details!$K$5:$K$24, MATCH($A4556, Input_Details!$J$5:$J$24, 0), 0)","v":{"$error":"#N/A"}},"Wed","10:00:00",1,26,0,0,0,0,0,0,0,0,0,0,0,0,0,0,0,0,0,0,0,0,0,0,0,0,0,0,0,0,0,0,"-","-","-","-",{"$f":"INDEX(Input_Details!$L$5:$L$24, MATCH($A4556, Input_Details!$J$5:$J$24, 0), 0)","v":{"$error":"#N/A"}},"Wed","10:00:00",0,0,0,0,0,0,0,0,0,0,0,0,0,0,0,0,0,0,0,0,0,0,0,0,0,0,0,0,0,0,0,0,"-","-","-","-",null,"Wed","10:00:00",1,26,0,0,0,0,0,0,0,0,0,0,0,0,0,0,0,0,0,0,0,0,0,0,0,0,0,0,0,0,0,0,"-","-",0,0,1,26,0,0,0,27,0,0,0,0,0,0,1,26,0,0,0,27]
[{"$error":"#N/A"},{"$f":"OFFSET(Input_Details!$Q$4,MATCH($A4589, Input_Details!$J$5:$J$24, 0), 2)","v":{"$error":"#N/A"}},{"$f":"INDEX(Input_Details!$H$5:$H$24, MATCH($A4589, Input_Details!$J$5:$J$24, 0), 0)","v":{"$error":"#N/A"}},{"$f":"INDEX(Input_Details!$I$5:$I$24, MATCH($A4589, Input_Details!$J$5:$J$24, 0), 0)","v":{"$error":"#N/A"}},{"$f":"INDEX(Input_Details!$K$5:$K$24, MATCH($A4589, Input_Details!$J$5:$J$24, 0), 0)","v":{"$error":"#N/A"}},"Wed","18:15:00",4,33,0,0,0,0,0,0,0,0,0,0,0,0,0,0,0,0,0,0,0,0,0,0,0,0,0,0,0,0,0,0,"-","-","-","-",{"$f":"INDEX(Input_Details!$L$5:$L$24, MATCH($A4589, Input_Details!$J$5:$J$24, 0), 0)","v":{"$error":"#N/A"}},"Wed","18:15:00",0,0,0,0,0,0,0,0,0,0,0,0,0,0,0,0,0,0,0,0,0,0,0,0,0,0,0,0,0,0,0,0,"-","-","-","-",null,"Wed","18:15:00",4,33,0,0,0,0,0,0,0,0,0,0,0,0,0,0,0,0,0,0,0,0,0,0,0,0,0,0,0,0,0,0,"-","-",0,0,4,33,0,0,0,37,0,0,0,0,0,0,4,33,0,0,0,37]
[{"$error":"#N/A"},{"$f":"OFFSET(Input_Details!$Q$4,MATCH($A4627, Input_Details!$J$5:$J$24, 0), 3)","v":{"$error":"#N/A"}},{"$f":"INDEX(Input_Details!$H$5:$H$24, MATCH($A4627, Input_Details!$J$5:$J$24, 0), 0)","v":{"$error":"#N/A"}},{"$f":"INDEX(Input_Details!$I$5:$I$24, MATCH($A4627, Input_Details!$J$5:$J$24, 0), 0)","v":{"$error":"#N/A"}},{"$f":"INDEX(Input_Details!$K$5:$K$24, MATCH($A4627, Input_Details!$J$5:$J$24, 0), 0)","v":{"$error":"#N/A"}},"Thu","03:45:00",0,0,0,0,0,0,0,0,0,0,0,0,0,0,0,0,0,0,0,0,0,0,0,0,0,0,0,0,0,0,0,0,"-","-","-","-",{"$f":"INDEX(Input_Details!$L$5:$L$24, MATCH($A4627, Input_Details!$J$5:$J$24, 0), 0)","v":{"$error":"#N/A"}},"Thu","03:45:00",0,0,0,0,0,0,0,0,0,0,0,0,0,0,0,0,0,0,0,0,0,0,0,0,0,0,0,0,0,0,0,0,"-","-","-","-",null,"Thu","03:45:00",0,0,0,0,0,0,0,0,0,0,0,0,0,0,0,0,0,0,0,0,0,0,0,0,0,0,0,0,0,0,0,0,"-","-","-","-",0,0,0,0,0,0,0,0,0,0,0,0,0,0,0,0,0,0]
[{"$error":"#N/A"},{"$f":"OFFSET(Input_Details!$Q$4,MATCH($A4652, Input_Details!$J$5:$J$24, 0), 3)","v":{"$error":"#N/A"}},{"$f":"INDEX(Input_Details!$H$5:$H$24, MATCH($A4652, Input_Details!$J$5:$J$24, 0), 0)","v":{"$error":"#N/A"}},{"$f":"INDEX(Input_Details!$I$5:$I$24, MATCH($A4652, Input_Details!$J$5:$J$24, 0), 0)","v":{"$error":"#N/A"}},{"$f":"INDEX(Input_Details!$K$5:$K$24, MATCH($A4652, Input_Details!$J$5:$J$24, 0), 0)","v":{"$error":"#N/A"}},"Thu","10:00:00",3,27,0,0,0,0,0,0,0,0,0,0,0,0,0,0,0,0,0,0,0,0,0,0,0,0,0,0,0,0,0,0,"-","-","-","-",{"$f":"INDEX(Input_Details!$L$5:$L$24, MATCH($A4652, Input_Details!$J$5:$J$24, 0), 0)","v":{"$error":"#N/A"}},"Thu","10:00:00",0,0,0,0,0,0,0,0,0,0,0,0,0,0,0,0,0,0,0,0,0,0,0,0,0,0,0,0,0,0,0,0,"-","-","-","-",null,"Thu","10:00:00",3,27,0,0,0,0,0,0,0,0,0,0,0,0,0,0,0,0,0,0,0,0,0,0,0,0,0,0,0,0,0,0,"-","-",0,0,3,27,0,0,0,30,0,0,0,0,0,0,3,27,0,0,0,30]
[{"$error":"#N/A"},{"$f":"OFFSET(Input_Details!$Q$4,MATCH($A4668, Input_Details!$J$5:$J$24, 0), 3)","v":{"$error":"#N/A"}},{"$f":"INDEX(Input_Details!$H$5:$H$24, MATCH($A4668, Input_Details!$J$5:$J$24, 0), 0)","v":{"$error":"#N/A"}},{"$f":"INDEX(Input_Details!$I$5:$I$24, MATCH($A4668, Input_Details!$J$5:$J$24, 0), 0)","v":{"$error":"#N/A"}},{"$f":"INDEX(Input_Details!$K$5:$K$24, MATCH($A4668, Input_Details!$J$5:$J$24, 0), 0)","v":{"$error":"#N/A"}},"Thu","14:00:00",2,20,0,0,0,0,0,0,0,0,0,0,0,0,0,0,0,0,0,0,0,0,0,0,0,0,0,0,0,0,0,0,"-","-","-","-",{"$f":"INDEX(Input_Details!$L$5:$L$24, MATCH($A4668, Input_Details!$J$5:$J$24, 0), 0)","v":{"$error":"#N/A"}},"Thu","14:00:00",0,0,0,0,0,0,0,0,0,0,0,0,0,0,0,0,0,0,0,0,0,0,0,0,0,0,0,0,0,0,0,0,"-","-","-","-",null,"Thu","14:00:00",2,20,0,0,0,0,0,0,0,0,0,0,0,0,0,0,0,0,0,0,0,0,0,0,0,0,0,0,0,0,0,0,"-","-",0,0,2,20,0,0,0,22,0,0,0,0,0,0,2,20,0,0,0,22]
[{"$error":"#N/A"},{"$f":"OFFSET(Input_Details!$Q$4,MATCH($A4689, Input_Details!$J$5:$J$24, 0), 3)","v":{"$error":"#N/A"}},{"$f":"INDEX(Input_Details!$H$5:$H$24, MATCH($A4689, Input_Details!$J$5:$J$24, 0), 0)","v":{"$error":"#N/A"}},{"$f":"INDEX(Input_Details!$I$5:$I$24, MATCH($A4689, Input_Details!$J$5:$J$24, 0), 0)","v":{"$error":"#N/A"}},{"$f":"INDEX(Input_Details!$K$5:$K$24, MATCH($A4689, Input_Details!$J$5:$J$24, 0), 0)","v":{"$error":"#N/A"}},"Thu","19:15:00",3,15,0,0,0,0,0,0,0,0,0,0,0,0,0,0,0,0,0,0,0,0,0,0,0,0,0,0,0,0,0,0,"-","-","-","-",{"$f":"INDEX(Input_Details!$L$5:$L$24, MATCH($A4689, Input_Details!$J$5:$J$24, 0), 0)","v":{"$error":"#N/A"}},"Thu","19:15:00",0,0,0,0,0,0,0,0,0,0,0,0,0,0,0,0,0,0,0,0,0,0,0,0,0,0,0,0,0,0,0,0,"-","-","-","-",null,"Thu","19:15:00",3,15,0,0,0,0,0,0,0,0,0,0,0,0,0,0,0,0,0,0,0,0,0,0,0,0,0,0,0,0,0,0,"-","-",0,0,3,15,0,0,0,18,0,0,0,0,0,0,3,15,0,0,0,18]
[{"$error":"#N/A"},{"$f":"OFFSET(Input_Details!$Q$4,MATCH($A4731, Input_Details!$J$5:$J$24, 0), 4)","v":{"$error":"#N/A"}},{"$f":"INDEX(Input_Details!$H$5:$H$24, MATCH($A4731, Input_Details!$J$5:$J$24, 0), 0)","v":{"$error":"#N/A"}},{"$f":"INDEX(Input_Details!$I$5:$I$24, MATCH($A4731, Input_Details!$J$5:$J$24, 0), 0)","v":{"$error":"#N/A"}},{"$f":"INDEX(Input_Details!$K$5:$K$24, MATCH($A4731, Input_Details!$J$5:$J$24, 0), 0)","v":{"$error":"#N/A"}},"Fri","05:45:00",0,2,0,0,0,0,0,0,0,0,0,0,0,0,0,0,0,0,0,0,0,0,0,0,0,0,0,0,0,0,0,0,"-","-","-","-",{"$f":"INDEX(Input_Details!$L$5:$L$24, MATCH($A4731, Input_Details!$J$5:$J$24, 0), 0)","v":{"$error":"#N/A"}},"Fri","05:45:00",0,0,0,0,0,0,0,0,0,0,0,0,0,0,0,0,0,0,0,0,0,0,0,0,0,0,0,0,0,0,0,0,"-","-","-","-",null,"Fri","05:45:00",0,2,0,0,0,0,0,0,0,0,0,0,0,0,0,0,0,0,0,0,0,0,0,0,0,0,0,0,0,0,0,0,"-","-",0,0,0,2,0,0,0,2,0,0,0,0,0,0,0,2,0,0,0,2]
[{"$error":"#N/A"},{"$f":"OFFSET(Input_Details!$Q$4,MATCH($A4756, Input_Details!$J$5:$J$24, 0), 4)","v":{"$error":"#N/A"}},{"$f":"INDEX(Input_Details!$H$5:$H$24, MATCH($A4756, Input_Details!$J$5:$J$24, 0), 0)","v":{"$error":"#N/A"}},{"$f":"INDEX(Input_Details!$I$5:$I$24, MATCH($A4756, Input_Details!$J$5:$J$24, 0), 0)","v":{"$error":"#N/A"}},{"$f":"INDEX(Input_Details!$K$5:$K$24, MATCH($A4756, Input_Details!$J$5:$J$24, 0), 0)","v":{"$error":"#N/A"}},"Fri","12:00:00",1,19,0,0,0,0,0,0,0,0,0,0,0,0,0,0,0,0,0,0,0,0,0,0,0,0,0,0,0,0,0,0,"-","-","-","-",{"$f":"INDEX(Input_Details!$L$5:$L$24, MATCH($A4756, Input_Details!$J$5:$J$24, 0), 0)","v":{"$error":"#N/A"}},"Fri","12:00:00",0,0,0,0,0,0,0,0,0,0,0,0,0,0,0,0,0,0,0,0,0,0,0,0,0,0,0,0,0,0,0,0,"-","-","-","-",null,"Fri","12:00:00",1,19,0,0,0,0,0,0,0,0,0,0,0,0,0,0,0,0,0,0,0,0,0,0,0,0,0,0,0,0,0,0,"-","-",0,0,1,19,0,0,0,20,0,0,0,0,0,0,1,19,0,0,0,20]
[{"$error":"#N/A"},{"$f":"OFFSET(Input_Details!$Q$4,MATCH($A4785, Input_Details!$J$5:$J$24, 0), 4)","v":{"$error":"#N/A"}},{"$f":"INDEX(Input_Details!$H$5:$H$24, MATCH($A4785, Input_Details!$J$5:$J$24, 0), 0)","v":{"$error":"#N/A"}},{"$f":"INDEX(Input_Details!$I$5:$I$24, MATCH($A4785, Input_Details!$J$5:$J$24, 0), 0)","v":{"$error":"#N/A"}},{"$f":"INDEX(Input_Details!$K$5:$K$24, MATCH($A4785, Input_Details!$J$5:$J$24, 0), 0)","v":{"$error":"#N/A"}},"Fri","19:15:00",4,19,0,0,0,0,0,0,0,0,0,0,0,0,0,0,0,0,0,0,0,0,0,0,0,0,0,0,0,0,0,0,"-","-","-","-",{"$f":"INDEX(Input_Details!$L$5:$L$24, MATCH($A4785, Input_Details!$J$5:$J$24, 0), 0)","v":{"$error":"#N/A"}},"Fri","19:15:00",0,0,0,0,0,0,0,0,0,0,0,0,0,0,0,0,0,0,0,0,0,0,0,0,0,0,0,0,0,0,0,0,"-","-","-","-",null,"Fri","19:15:00",4,19,0,0,0,0,0,0,0,0,0,0,0,0,0,0,0,0,0,0,0,0,0,0,0,0,0,0,0,0,0,0,"-","-",0,0,4,19,0,0,0,23,0,0,0,0,0,0,4,19,0,0,0,23]
[{"$error":"#N/A"},{"$f":"OFFSET(Input_Details!$Q$4,MATCH($A4814, Input_Details!$J$5:$J$24, 0), 5)","v":{"$error":"#N/A"}},{"$f":"INDEX(Input_Details!$H$5:$H$24, MATCH($A4814, Input_Details!$J$5:$J$24, 0), 0)","v":{"$error":"#N/A"}},{"$f":"INDEX(Input_Details!$I$5:$I$24, MATCH($A4814, Input_Details!$J$5:$J$24, 0), 0)","v":{"$error":"#N/A"}},{"$f":"INDEX(Input_Details!$K$5:$K$24, MATCH($A4814, Input_Details!$J$5:$J$24, 0), 0)","v":{"$error":"#N/A"}},"Sat","02:30:00",0,1,0,0,0,0,0,0,0,0,0,0,0,0,0,0,0,0,0,0,0,0,0,0,0,0,0,0,0,0,0,0,"-","-","-","-",{"$f":"INDEX(Input_Details!$L$5:$L$24, MATCH($A4814, Input_Details!$J$5:$J$24, 0), 0)","v":{"$error":"#N/A"}},"Sat","02:30:00",0,0,0,0,0,0,0,0,0,0,0,0,0,0,0,0,0,0,0,0,0,0,0,0,0,0,0,0,0,0,0,0,"-","-","-","-",null,"Sat","02:30:00",0,1,0,0,0,0,0,0,0,0,0,0,0,0,0,0,0,0,0,0,0,0,0,0,0,0,0,0,0,0,0,0,"-","-",0,0,0,1,0,0,0,1,0,0,0,0,0,0,0,1,0,0,0,1]
[{"$error":"#N/A"},{"$f":"OFFSET(Input_Details!$Q$4,MATCH($A4822, Input_Details!$J$5:$J$24, 0), 5)","v":{"$error":"#N/A"}},{"$f":"INDEX(Input_Details!$H$5:$H$24, MATCH($A4822, Input_Details!$J$5:$J$24, 0), 0)","v":{"$error":"#N/A"}},{"$f":"INDEX(Input_Details!$I$5:$I$24, MATCH($A4822, Input_Details!$J$5:$J$24, 0), 0)","v":{"$error":"#N/A"}},{"$f":"INDEX(Input_Details!$K$5:$K$24, MATCH($A4822, Input_Details!$J$5:$J$24, 0), 0)","v":{"$error":"#N/A"}},"Sat","04:30:00",0,0,0,0,0,0,0,0,0,0,0,0,0,0,0,0,0,0,0,0,0,0,0,0,0,0,0,0,0,0,0,0,"-","-","-","-",{"$f":"INDEX(Input_Details!$L$5:$L$24, MATCH($A4822, Input_Details!$J$5:$J$24, 0), 0)","v":{"$error":"#N/A"}},"Sat","04:30:00",0,0,0,0,0,0,0,0,0,0,0,0,0,0,0,0,0,0,0,0,0,0,0,0,0,0,0,0,0,0,0,0,"-","-","-","-",null,"Sat","04:30:00",0,0,0,0,0,0,0,0,0,0,0,0,0,0,0,0,0,0,0,0,0,0,0,0,0,0,0,0,0,0,0,0,"-","-","-","-",0,0,0,0,0,0,0,0,0,0,0,0,0,0,0,0,0,0]
[{"$error":"#N/A"},{"$f":"OFFSET(Input_Details!$Q$4,MATCH($A4850, Input_Details!$J$5:$J$24, 0), 5)","v":{"$error":"#N/A"}},{"$f":"INDEX(Input_Details!$H$5:$H$24, MATCH($A4850, Input_Details!$J$5:$J$24, 0), 0)","v":{"$error":"#N/A"}},{"$f":"INDEX(Input_Details!$I$5:$I$24, MATCH($A4850, Input_Details!$J$5:$J$24, 0), 0)","v":{"$error":"#N/A"}},{"$f":"INDEX(Input_Details!$K$5:$K$24, MATCH($A4850, Input_Details!$J$5:$J$24, 0), 0)","v":{"$error":"#N/A"}},"Sat","11:30:00",2,26,0,0,0,0,0,0,0,0,0,0,0,0,0,0,0,0,0,0,0,0,0,0,0,0,0,0,0,0,0,0,"-","-","-","-",{"$f":"INDEX(Input_Details!$L$5:$L$24, MATCH($A4850, Input_Details!$J$5:$J$24, 0), 0)","v":{"$error":"#N/A"}},"Sat","11:30:00",0,0,0,0,0,0,0,0,0,0,0,0,0,0,0,0,0,0,0,0,0,0,0,0,0,0,0,0,0,0,0,0,"-","-","-","-",null,"Sat","11:30:00",2,26,0,0,0,0,0,0,0,0,0,0,0,0,0,0,0,0,0,0,0,0,0,0,0,0,0,0,0,0,0,0,"-","-",0,0,2,26,0,0,0,28,0,0,0,0,0,0,2,26,0,0,0,28]
[{"$error":"#N/A"},{"$f":"OFFSET(Input_Details!$Q$4,MATCH($A4889, Input_Details!$J$5:$J$24, 0), 5)","v":{"$error":"#N/A"}},{"$f":"INDEX(Input_Details!$H$5:$H$24, MATCH($A4889, Input_Details!$J$5:$J$24, 0), 0)","v":{"$error":"#N/A"}},{"$f":"INDEX(Input_Details!$I$5:$I$24, MATCH($A4889, Input_Details!$J$5:$J$24, 0), 0)","v":{"$error":"#N/A"}},{"$f":"INDEX(Input_Details!$K$5:$K$24, MATCH($A4889, Input_Details!$J$5:$J$24, 0), 0)","v":{"$error":"#N/A"}},"Sat","21:15:00",2,8,0,0,0,0,0,0,0,0,0,0,0,0,0,0,0,0,0,0,0,0,0,0,0,0,0,0,0,0,0,0,"-","-","-","-",{"$f":"INDEX(Input_Details!$L$5:$L$24, MATCH($A4889, Input_Details!$J$5:$J$24, 0), 0)","v":{"$error":"#N/A"}},"Sat","21:15:00",0,0,0,0,0,0,0,0,0,0,0,0,0,0,0,0,0,0,0,0,0,0,0,0,0,0,0,0,0,0,0,0,"-","-","-","-",null,"Sat","21:15:00",2,8,0,0,0,0,0,0,0,0,0,0,0,0,0,0,0,0,0,0,0,0,0,0,0,0,0,0,0,0,0,0,"-","-",0,0,2,8,0,0,0,10,0,0,0,0,0,0,2,8,0,0,0,10]
[{"$error":"#N/A"},{"$f":"OFFSET(Input_Details!$Q$4,MATCH($A4918, Input_Details!$J$5:$J$24, 0), 6)","v":{"$error":"#N/A"}},{"$f":"INDEX(Input_Details!$H$5:$H$24, MATCH($A4918, Input_Details!$J$5:$J$24, 0), 0)","v":{"$error":"#N/A"}},{"$f":"INDEX(Input_Details!$I$5:$I$24, MATCH($A4918, Input_Details!$J$5:$J$24, 0), 0)","v":{"$error":"#N/A"}},{"$f":"INDEX(Input_Details!$K$5:$K$24, MATCH($A4918, Input_Details!$J$5:$J$24, 0), 0)","v":{"$error":"#N/A"}},"Sun","04:30:00",0,0,0,0,0,0,0,0,0,0,0,0,0,0,0,0,0,0,0,0,0,0,0,0,0,0,0,0,0,0,0,0,"-","-","-","-",{"$f":"INDEX(Input_Details!$L$5:$L$24, MATCH($A4918, Input_Details!$J$5:$J$24, 0), 0)","v":{"$error":"#N/A"}},"Sun","04:30:00",0,0,0,0,0,0,0,0,0,0,0,0,0,0,0,0,0,0,0,0,0,0,0,0,0,0,0,0,0,0,0,0,"-","-","-","-",null,"Sun","04:30:00",0,0,0,0,0,0,0,0,0,0,0,0,0,0,0,0,0,0,0,0,0,0,0,0,0,0,0,0,0,0,0,0,"-","-","-","-",0,0,0,0,0,0,0,0,0,0,0,0,0,0,0,0,0,0]
[{"$error":"#N/A"},{"$f":"OFFSET(Input_Details!$Q$4,MATCH($A4933, Input_Details!$J$5:$J$24, 0), 6)","v":{"$error":"#N/A"}},{"$f":"INDEX(Input_Details!$H$5:$H$24, MATCH($A4933, Input_Details!$J$5:$J$24, 0), 0)","v":{"$error":"#N/A"}},{"$f":"INDEX(Input_Details!$I$5:$I$24, MATCH($A4933, Input_Details!$J$5:$J$24, 0), 0)","v":{"$error":"#N/A"}},{"$f":"INDEX(Input_Details!$K$5:$K$24, MATCH($A4933, Input_Details!$J$5:$J$24, 0), 0)","v":{"$error":"#N/A"}},"Sun","08:15:00",1,6,0,0,0,0,0,0,0,0,0,0,0,0,0,0,0,0,0,0,0,0,0,0,0,0,0,0,0,0,0,0,"-","-","-","-",{"$f":"INDEX(Input_Details!$L$5:$L$24, MATCH($A4933, Input_Details!$J$5:$J$24, 0), 0)","v":{"$error":"#N/A"}},"Sun","08:15:00",0,0,0,0,0,0,0,0,0,0,0,0,0,0,0,0,0,0,0,0,0,0,0,0,0,0,0,0,0,0,0,0,"-","-","-","-",null,"Sun","08:15:00",1,6,0,0,0,0,0,0,0,0,0,0,0,0,0,0,0,0,0,0,0,0,0,0,0,0,0,0,0,0,0,0,"-","-",0,0,1,6,0,0,0,7,0,0,0,{"$f":"IF(DX4933=\"-\", \"-\", AY4933)","v":0},0,0,1,6,0,0,0,7]
[{"$error":"#N/A"},{"$f":"OFFSET(Input_Details!$Q$4,MATCH($A4959, Input_Details!$J$5:$J$24, 0), 6)","v":{"$error":"#N/A"}},{"$f":"INDEX(Input_Details!$H$5:$H$24, MATCH($A4959, Input_Details!$J$5:$J$24, 0), 0)","v":{"$error":"#N/A"}},{"$f":"INDEX(Input_Details!$I$5:$I$24, MATCH($A4959, Input_Details!$J$5:$J$24, 0), 0)","v":{"$error":"#N/A"}},{"$f":"INDEX(Input_Details!$K$5:$K$24, MATCH($A4959, Input_Details!$J$5:$J$24, 0), 0)","v":{"$error":"#N/A"}},"Sun","14:45:00",0,20,0,0,0,0,0,0,0,0,0,0,0,0,0,0,0,0,0,0,0,0,0,0,0,0,0,0,0,0,0,0,"-","-","-","-",{"$f":"INDEX(Input_Details!$L$5:$L$24, MATCH($A4959, Input_Details!$J$5:$J$24, 0), 0)","v":{"$error":"#N/A"}},"Sun","14:45:00",0,0,0,0,0,0,0,0,0,0,0,0,0,0,0,0,0,0,0,0,0,0,0,0,0,0,0,0,0,0,0,0,"-","-","-","-",null,"Sun","14:45:00",0,20,0,0,0,0,0,0,0,0,0,0,0,0,0,0,0,0,0,0,0,0,0,0,0,0,0,0,0,0,0,0,"-","-",0,0,0,20,0,0,0,20,0,0,0,0,0,0,0,20,0,0,0,20]
[{"$error":"#N/A"},"Weekday Average",{"$f":"INDEX(Input_Details!$H$5:$H$24, MATCH($A4996, Input_Details!$J$5:$J$24, 0), 0)","v":{"$error":"#N/A"}},{"$f":"INDEX(Input_Details!$I$5:$I$24, MATCH($A4996, Input_Details!$J$5:$J$24, 0), 0)","v":{"$error":"#N/A"}},{"$f":"INDEX(Input_Details!$K$5:$K$24, MATCH($A4996, Input_Details!$J$5:$J$24, 0), 0)","v":{"$error":"#N/A"}},"WD Ave","00:00:00",{"$f":"IF(AND(H4324=\"\",H4420=\"\",H4516=\"\",H4612=\"\",H4708=\"\"), \"-\", IF(H4324+H4420+H4516+H4612+H4708=0,0,ROUND(AVERAGE(H4324,H4420,H4516,H4612,H4708), 0)))","v":0},1,0,0,0,0,0,0,0,0,0,0,{"$f":"IF(AND(T4324=\"\",T4420=\"\",T4516=\"\",T4612=\"\",T4708=\"\"), \"-\", IF(SUM(H4996:S4996)=0, 0, IF(T4324+T4420+T4516+T4612+T4708=0,0,ROUNDDOWN(AVERAGE(T4324,T4420,T4516,T4612,T4708), 0))))","v":0},{"$f":"IF(AND(U4324=\"\",U4420=\"\",U4516=\"\",U4612=\"\",U4708=\"\"), \"-\", IF(SUM(H4996:S4996)=0, 0, IF(U4324+U4420+U4516+U4612+U4708=0,0,ROUNDDOWN(AVERAGE(U4324,U4420,U4516,U4612,U4708), 0))))","v":0},{"$f":"IF(AND(V4324=\"\",V4420=\"\",V4516=\"\",V4612=\"\",V4708=\"\"), \"-\", IF(SUM(H4996:S4996)=0, 0, IF(V4324+V4420+V4516+V4612+V4708=0,0,ROUNDDOWN(AVERAGE(V4324,V4420,V4516,V4612,V4708), 0))))","v":0},{"$f":"IF(AND(W4324=\"\",W4420=\"\",W4516=\"\",W4612=\"\",W4708=\"\"), \"-\", IF(SUM(H4996:S4996)=0, 0, IF(W4324+W4420+W4516+W4612+W4708=0,0,ROUNDDOWN(AVERAGE(W4324,W4420,W4516,W4612,W4708), 0))))","v":0},{"$f":"IF(AND(X4324=\"\",X4420=\"\",X4516=\"\",X4612=\"\",X4708=\"\"), \"-\", IF(SUM(H4996:S4996)=0, 0, IF(X4324+X4420+X4516+X4612+X4708=0,0,ROUNDDOWN(AVERAGE(X4324,X4420,X4516,X4612,X4708), 0))))","v":0},{"$f":"IF(AND(Y4324=\"\",Y4420=\"\",Y4516=\"\",Y4612=\"\",Y4708=\"\"), \"-\", IF(SUM(H4996:S4996)=0, 0, IF(Y4324+Y4420+Y4516+Y4612+Y4708=0,0,ROUNDDOWN(AVERAGE(Y4324,Y4420,Y4516,Y4612,Y4708), 0))))","v":0},{"$f":"IF(AND(Z4324=\"\",Z4420=\"\",Z4516=\"\",Z4612=\"\",Z4708=\"\"), \"-\", IF(SUM(H4996:S4996)=0, 0, IF(Z4324+Z4420+Z4516+Z4612+Z4708=0,0,ROUNDDOWN(AVERAGE(Z4324,Z4420,Z4516,Z4612,Z4708), 0))))","v":0},{"$f":"IF(AND(AA4324=\"\",AA4420=\"\",AA4516=\"\",AA4612=\"\",AA4708=\"\"), \"-\", IF(SUM(H4996:S4996)=0, 0, IF(AA4324+AA4420+AA4516+AA4612+AA4708=0,0,ROUNDDOWN(AVERAGE(AA4324,AA4420,AA4516,AA4612,AA4708), 0))))","v":0},{"$f":"IF(AND(AB4324=\"\",AB4420=\"\",AB4516=\"\",AB4612=\"\",AB4708=\"\"), \"-\", IF(SUM(H4996:S4996)=0, 0, IF(AB4324+AB4420+AB4516+AB4612+AB4708=0,0,ROUNDDOWN(AVERAGE(AB4324,AB4420,AB4516,AB4612,AB4708), 0))))","v":0},{"$f":"IF(AND(AC4324=\"\",AC4420=\"\",AC4516=\"\",AC4612=\"\",AC4708=\"\"), \"-\", IF(SUM(H4996:S4996)=0, 0, IF(AC4324+AC4420+AC4516+AC4612+AC4708=0,0,ROUNDDOWN(AVERAGE(AC4324,AC4420,AC4516,AC4612,AC4708), 0))))","v":0},{"$f":"IF(AND(AD4324=\"\",AD4420=\"\",AD4516=\"\",AD4612=\"\",AD4708=\"\"), \"-\", IF(SUM(H4996:S4996)=0, 0, IF(AD4324+AD4420+AD4516+AD4612+AD4708=0,0,ROUNDDOWN(AVERAGE(AD4324,AD4420,AD4516,AD4612,AD4708), 0))))","v":0},{"$f":"IF(AND(AE4324=\"\",AE4420=\"\",AE4516=\"\",AE4612=\"\",AE4708=\"\"), \"-\", IF(SUM(H4996:S4996)=0, 0, IF(AE4324+AE4420+AE4516+AE4612+AE4708=0,0,ROUNDDOWN(AVERAGE(AE4324,AE4420,AE4516,AE4612,AE4708), 0))))","v":0},{"$f":"IF(AND(AF4324=\"\",AF4420=\"\",AF4516=\"\",AF4612=\"\",AF4708=\"\"), \"-\", IF(SUM(H4996:S4996)=0, 0, IF(AF4324+AF4420+AF4516+AF4612+AF4708=0,0,ROUNDDOWN(AVERAGE(AF4324,AF4420,AF4516,AF4612,AF4708), 0))))","v":0},{"$f":"IF(AND(AG4324=\"\",AG4420=\"\",AG4516=\"\",AG4612=\"\",AG4708=\"\"), \"-\", IF(SUM(H4996:S4996)=0, 0, IF(AG4324+AG4420+AG4516+AG4612+AG4708=0,0,ROUNDDOWN(AVERAGE(AG4324,AG4420,AG4516,AG4612,AG4708), 0))))","v":0},{"$f":"IF(AND(AH4324=\"\",AH4420=\"\",AH4516=\"\",AH4612=\"\",AH4708=\"\"), \"-\", IF(SUM(H4996:S4996)=0, 0, IF(AH4324+AH4420+AH4516+AH4612+AH4708=0,0,ROUNDDOWN(AVERAGE(AH4324,AH4420,AH4516,AH4612,AH4708), 0))))","v":0},{"$f":"IF(AND(AI4324=\"\",AI4420=\"\",AI4516=\"\",AI4612=\"\",AI4708=\"\"), \"-\", IF(SUM(H4996:S4996)=0, 0, IF(AI4324+AI4420+AI4516+AI4612+AI4708=0,0,ROUNDDOWN(AVERAGE(AI4324,AI4420,AI4516,AI4612,AI4708), 0))))","v":0},{"$f":"IF(AND(AJ4324=\"\",AJ4420=\"\",AJ4516=\"\",AJ4612=\"\",AJ4708=\"\"), \"-\", IF(SUM(H4996:S4996)=0, 0, IF(AJ4324+AJ4420+AJ4516+AJ4612+AJ4708=0,0,ROUNDDOWN(AVERAGE(AJ4324,AJ4420,AJ4516,AJ4612,AJ4708), 0))))","v":0},{"$f":"IF(AND(AK4324=\"\",AK4420=\"\",AK4516=\"\",AK4612=\"\",AK4708=\"\"), \"-\", IF(SUM(H4996:S4996)=0, 0, IF(AK4324+AK4420+AK4516+AK4612+AK4708=0,0,ROUNDDOWN(AVERAGE(AK4324,AK4420,AK4516,AK4612,AK4708), 0))))","v":0},{"$f":"IF(AND(AL4324=\"\",AL4420=\"\",AL4516=\"\",AL4612=\"\",AL4708=\"\"), \"-\", IF(SUM(H4996:S4996)=0, 0, IF(AL4324+AL4420+AL4516+AL4612+AL4708=0,0,ROUNDDOWN(AVERAGE(AL4324,AL4420,AL4516,AL4612,AL4708), 0))))","v":0},{"$f":"IF(AND(AM4324=\"\",AM4420=\"\",AM4516=\"\",AM4612=\"\",AM4708=\"\"), \"-\", IF(SUM(H4996:S4996)=0, 0, IF(AM4324+AM4420+AM4516+AM4612+AM4708=0,0,ROUNDDOWN(AVERAGE(AM4324,AM4420,AM4516,AM4612,AM4708), 0))))","v":0},{"$f":"IF(SUM(H4996:S4996)=0,\"-\",AVERAGEIF(G4324:G4803,$G4996,AN4324:AN4803))","v":{"$error":"#DIV/0!"}},{"$f":"IFERROR(IF(SUM(H4996:S4996)=0,\"-\",AVERAGEIF(G4324:G4803,G4996,AO4324:AO4803)), \"-\")","v":"-"},{"$f":"IF(SUM(H4996:S4996)=0,\"-\",MIN(AP4324,AP4420,AP4516,AP4612,AP4708))","v":0},{"$f":"IF(SUM(H4996:S4996)=0,\"-\",MAX(AQ4324,AQ4420,AQ4516,AQ4612,AQ4708))","v":0},{"$f":"INDEX(Input_Details!$L$5:$L$24, MATCH($A4996, Input_Details!$J$5:$J$24, 0), 0)","v":{"$error":"#N/A"}},"WD Ave","00:00:00",{"$f":"IF(AND(AU4324=\"\",AU4420=\"\",AU4516=\"\",AU4612=\"\",AU4708=\"\"), \"-\", IF(AU4324+AU4420+AU4516+AU4612+AU4708=0,0,ROUND(AVERAGE(AU4324,AU4420,AU4516,AU4612,AU4708), 0)))","v":0},0,0,0,0,0,0,0,0,0,0,0,{"$f":"IF(AND(BG4324=\"\",BG4420=\"\",BG4516=\"\",BG4612=\"\",BG4708=\"\"), \"-\", IF(SUM(AU4996:BF4996)=0, 0, IF(BG4324+BG4420+BG4516+BG4612+BG4708=0,0,ROUNDDOWN(AVERAGE(BG4324,BG4420,BG4516,BG4612,BG4708), 0))))","v":0},{"$f":"IF(AND(BH4324=\"\",BH4420=\"\",BH4516=\"\",BH4612=\"\",BH4708=\"\"), \"-\", IF(SUM(AU4996:BF4996)=0, 0, IF(BH4324+BH4420+BH4516+BH4612+BH4708=0,0,ROUNDDOWN(AVERAGE(BH4324,BH4420,BH4516,BH4612,BH4708), 0))))","v":0},{"$f":"IF(AND(BI4324=\"\",BI4420=\"\",BI4516=\"\",BI4612=\"\",BI4708=\"\"), \"-\", IF(SUM(AU4996:BF4996)=0, 0, IF(BI4324+BI4420+BI4516+BI4612+BI4708=0,0,ROUNDDOWN(AVERAGE(BI4324,BI4420,BI4516,BI4612,BI4708), 0))))","v":0},{"$f":"IF(AND(BJ4324=\"\",BJ4420=\"\",BJ4516=\"\",BJ4612=\"\",BJ4708=\"\"), \"-\", IF(SUM(AU4996:BF4996)=0, 0, IF(BJ4324+BJ4420+BJ4516+BJ4612+BJ4708=0,0,ROUNDDOWN(AVERAGE(BJ4324,BJ4420,BJ4516,BJ4612,BJ4708), 0))))","v":0},{"$f":"IF(AND(BK4324=\"\",BK4420=\"\",BK4516=\"\",BK4612=\"\",BK4708=\"\"), \"-\", IF(SUM(AU4996:BF4996)=0, 0, IF(BK4324+BK4420+BK4516+BK4612+BK4708=0,0,ROUNDDOWN(AVERAGE(BK4324,BK4420,BK4516,BK4612,BK4708), 0))))","v":0},{"$f":"IF(AND(BL4324=\"\",BL4420=\"\",BL4516=\"\",BL4612=\"\",BL4708=\"\"), \"-\", IF(SUM(AU4996:BF4996)=0, 0, IF(BL4324+BL4420+BL4516+BL4612+BL4708=0,0,ROUNDDOWN(AVERAGE(BL4324,BL4420,BL4516,BL4612,BL4708), 0))))","v":0},{"$f":"IF(AND(BM4324=\"\",BM4420=\"\",BM4516=\"\",BM4612=\"\",BM4708=\"\"), \"-\", IF(SUM(AU4996:BF4996)=0, 0, IF(BM4324+BM4420+BM4516+BM4612+BM4708=0,0,ROUNDDOWN(AVERAGE(BM4324,BM4420,BM4516,BM4612,BM4708), 0))))","v":0},{"$f":"IF(AND(BN4324=\"\",BN4420=\"\",BN4516=\"\",BN4612=\"\",BN4708=\"\"), \"-\", IF(SUM(AU4996:BF4996)=0, 0, IF(BN4324+BN4420+BN4516+BN4612+BN4708=0,0,ROUNDDOWN(AVERAGE(BN4324,BN4420,BN4516,BN4612,BN4708), 0))))","v":0},{"$f":"IF(AND(BO4324=\"\",BO4420=\"\",BO4516=\"\",BO4612=\"\",BO4708=\"\"), \"-\", IF(SUM(AU4996:BF4996)=0, 0, IF(BO4324+BO4420+BO4516+BO4612+BO4708=0,0,ROUNDDOWN(AVERAGE(BO4324,BO4420,BO4516,BO4612,BO4708), 0))))","v":0},{"$f":"IF(AND(BP4324=\"\",BP4420=\"\",BP4516=\"\",BP4612=\"\",BP4708=\"\"), \"-\", IF(SUM(AU4996:BF4996)=0, 0, IF(BP4324+BP4420+BP4516+BP4612+BP4708=0,0,ROUNDDOWN(AVERAGE(BP4324,BP4420,BP4516,BP4612,BP4708), 0))))","v":0},{"$f":"IF(AND(BQ4324=\"\",BQ4420=\"\",BQ4516=\"\",BQ4612=\"\",BQ4708=\"\"), \"-\", IF(SUM(AU4996:BF4996)=0, 0, IF(BQ4324+BQ4420+BQ4516+BQ4612+BQ4708=0,0,ROUNDDOWN(AVERAGE(BQ4324,BQ4420,BQ4516,BQ4612,BQ4708), 0))))","v":0},{"$f":"IF(AND(BR4324=\"\",BR4420=\"\",BR4516=\"\",BR4612=\"\",BR4708=\"\"), \"-\", IF(SUM(AU4996:BF4996)=0, 0, IF(BR4324+BR4420+BR4516+BR4612+BR4708=0,0,ROUNDDOWN(AVERAGE(BR4324,BR4420,BR4516,BR4612,BR4708), 0))))","v":0},{"$f":"IF(AND(BS4324=\"\",BS4420=\"\",BS4516=\"\",BS4612=\"\",BS4708=\"\"), \"-\", IF(SUM(AU4996:BF4996)=0, 0, IF(BS4324+BS4420+BS4516+BS4612+BS4708=0,0,ROUNDDOWN(AVERAGE(BS4324,BS4420,BS4516,BS4612,BS4708), 0))))","v":0},{"$f":"IF(AND(BT4324=\"\",BT4420=\"\",BT4516=\"\",BT4612=\"\",BT4708=\"\"), \"-\", IF(SUM(AU4996:BF4996)=0, 0, IF(BT4324+BT4420+BT4516+BT4612+BT4708=0,0,ROUNDDOWN(AVERAGE(BT4324,BT4420,BT4516,BT4612,BT4708), 0))))","v":0},{"$f":"IF(AND(BU4324=\"\",BU4420=\"\",BU4516=\"\",BU4612=\"\",BU4708=\"\"), \"-\", IF(SUM(AU4996:BF4996)=0, 0, IF(BU4324+BU4420+BU4516+BU4612+BU4708=0,0,ROUNDDOWN(AVERAGE(BU4324,BU4420,BU4516,BU4612,BU4708), 0))))","v":0},{"$f":"IF(AND(BV4324=\"\",BV4420=\"\",BV4516=\"\",BV4612=\"\",BV4708=\"\"), \"-\", IF(SUM(AU4996:BF4996)=0, 0, IF(BV4324+BV4420+BV4516+BV4612+BV4708=0,0,ROUNDDOWN(AVERAGE(BV4324,BV4420,BV4516,BV4612,BV4708), 0))))","v":0},{"$f":"IF(AND(BW4324=\"\",BW4420=\"\",BW4516=\"\",BW4612=\"\",BW4708=\"\"), \"-\", IF(SUM(AU4996:BF4996)=0, 0, IF(BW4324+BW4420+BW4516+BW4612+BW4708=0,0,ROUNDDOWN(AVERAGE(BW4324,BW4420,BW4516,BW4612,BW4708), 0))))","v":0},{"$f":"IF(AND(BX4324=\"\",BX4420=\"\",BX4516=\"\",BX4612=\"\",BX4708=\"\"), \"-\", IF(SUM(AU4996:BF4996)=0, 0, IF(BX4324+BX4420+BX4516+BX4612+BX4708=0,0,ROUNDDOWN(AVERAGE(BX4324,BX4420,BX4516,BX4612,BX4708), 0))))","v":0},{"$f":"IF(AND(BY4324=\"\",BY4420=\"\",BY4516=\"\",BY4612=\"\",BY4708=\"\"), \"-\", IF(SUM(AU4996:BF4996)=0, 0, IF(BY4324+BY4420+BY4516+BY4612+BY4708=0,0,ROUNDDOWN(AVERAGE(BY4324,BY4420,BY4516,BY4612,BY4708), 0))))","v":0},{"$f":"IF(AND(BZ4324=\"\",BZ4420=\"\",BZ4516=\"\",BZ4612=\"\",BZ4708=\"\"), \"-\", IF(SUM(AU4996:BF4996)=0, 0, IF(BZ4324+BZ4420+BZ4516+BZ4612+BZ4708=0,0,ROUNDDOWN(AVERAGE(BZ4324,BZ4420,BZ4516,BZ4612,BZ4708), 0))))","v":0},{"$f":"IF(SUM(AU4996:BF4996)=0,\"-\",AVERAGEIF(AT4324:AT4803,$G4996,CA4324:CA4803))","v":"-"},{"$f":"IFERROR(IF(SUM(AU4996:BF4996)=0,\"-\",AVERAGEIF(AT4324:AT4803,AT4996,CB4324:CB4803)), \"-\")","v":"-"},{"$f":"IF(SUM(AU4996:BF4996)=0,\"-\",MIN(CC4324,CC4420,CC4516,CC4612,CC4708))","v":"-"},{"$f":"IF(SUM(AU4996:BF4996)=0,\"-\",MAX(CD4324,CD4420,CD4516,CD4612,CD4708))","v":"-"},null,"WD Ave","00:00:00",{"$f":"IF(AND(CH4324=\"-\",CH4420=\"-\",CH4516=\"-\",CH4612=\"-\",CH4708=\"-\"), \"-\", ROUND(AVERAGE(CH4324,CH4420,CH4516,CH4612,CH4708), 0))","v":0},1,0,0,0,0,0,0,0,0,0,0,{"$f":"IF(AND(CT4324=\"-\",CT4420=\"-\",CT4516=\"-\",CT4612=\"-\",CT4708=\"-\"), \"-\", IF(SUM($CH4996:$CS4996)=0, 0, ROUND(AVERAGE(CT4324,CT4420,CT4516,CT4612,CT4708), 0)))","v":0},{"$f":"IF(AND(CU4324=\"-\",CU4420=\"-\",CU4516=\"-\",CU4612=\"-\",CU4708=\"-\"), \"-\", IF(SUM($CH4996:$CS4996)=0, 0, ROUND(AVERAGE(CU4324,CU4420,CU4516,CU4612,CU4708), 0)))","v":0},0,0,0,0,0,0,0,0,0,0,0,0,0,0,0,0,0,0,{"$f":"IF(OR(DW4996=\"-\", EC4996=\"-\", EI4996=\"-\", EI4996=0),\"-\",IF(OR(DW4996=\"-\", DW4996=0),CA4996,IF(EC4996=0,AN4996,SUM((AN4996*DW4996),(CA4996*EC4996))/EI4996)))","v":{"$error":"#DIV/0!"}},"-",0,0,0,1,0,0,0,1,0,{"$f":"IF(DX4996=\"-\", \"-\", SUM(AV4996:AW4996))","v":0},0,0,0,0,0,{"$f":"IF(OR(DS4996=\"-\", DY4996=\"-\"), \"-\", SUM(DS4996,DY4996))","v":1},{"$f":"IF(OR(DT4996=\"-\", DZ4996=\"-\"), \"-\", SUM(DT4996,DZ4996))","v":0},{"$f":"IF(OR(DU4996=\"-\", EA4996=\"-\"), \"-\", SUM(DU4996,EA4996))","v":0},{"$f":"IF(OR(DV4996=\"-\", EB4996=\"-\"), \"-\", SUM(DV4996,EB4996))","v":0},{"$f":"IF(OR(DW4996=\"-\", EC4996=\"-\"), \"-\", SUM(DW4996,EC4996))","v":1}]
[{"$error":"#N/A"},"Weekday Average",{"$f":"INDEX(Input_Details!$H$5:$H$24, MATCH($A5022, Input_Details!$J$5:$J$24, 0), 0)","v":{"$error":"#N/A"}},{"$f":"INDEX(Input_Details!$I$5:$I$24, MATCH($A5022, Input_Details!$J$5:$J$24, 0), 0)","v":{"$error":"#N/A"}},{"$f":"INDEX(Input_Details!$K$5:$K$24, MATCH($A5022, Input_Details!$J$5:$J$24, 0), 0)","v":{"$error":"#N/A"}},"WD Ave","06:30:00",{"$f":"IF(AND(H4350=\"\",H4446=\"\",H4542=\"\",H4638=\"\",H4734=\"\"), \"-\", IF(H4350+H4446+H4542+H4638+H4734=0,0,ROUND(AVERAGE(H4350,H4446,H4542,H4638,H4734), 0)))","v":1},5,0,0,0,0,0,0,0,0,0,0,0,0,0,0,0,0,0,0,0,0,0,0,0,0,0,0,0,0,0,0,{"$f":"IF(SUM(H5022:S5022)=0,\"-\",AVERAGEIF(G4324:G4803,$G5022,AN4324:AN4803))","v":{"$error":"#DIV/0!"}},{"$f":"IFERROR(IF(SUM(H5022:S5022)=0,\"-\",AVERAGEIF(G4324:G4803,G5022,AO4324:AO4803)), \"-\")","v":"-"},0,0,{"$f":"INDEX(Input_Details!$L$5:$L$24, MATCH($A5022, Input_Details!$J$5:$J$24, 0), 0)","v":{"$error":"#N/A"}},"WD Ave","06:30:00",{"$f":"IF(AND(AU4350=\"\",AU4446=\"\",AU4542=\"\",AU4638=\"\",AU4734=\"\"), \"-\", IF(AU4350+AU4446+AU4542+AU4638+AU4734=0,0,ROUND(AVERAGE(AU4350,AU4446,AU4542,AU4638,AU4734), 0)))","v":0},0,0,0,0,0,0,0,0,0,0,0,0,0,0,0,0,0,0,0,0,0,0,0,0,0,0,0,0,0,0,0,{"$f":"IF(SUM(AU5022:BF5022)=0,\"-\",AVERAGEIF(AT4324:AT4803,$G5022,CA4324:CA4803))","v":"-"},{"$f":"IFERROR(IF(SUM(AU5022:BF5022)=0,\"-\",AVERAGEIF(AT4324:AT4803,AT5022,CB4324:CB4803)), \"-\")","v":"-"},"-","-",null,"WD Ave","06:30:00",{"$f":"IF(AND(CH4350=\"-\",CH4446=\"-\",CH4542=\"-\",CH4638=\"-\",CH4734=\"-\"), \"-\", ROUND(AVERAGE(CH4350,CH4446,CH4542,CH4638,CH4734), 0))","v":1},5,0,0,0,0,0,0,0,0,0,0,{"$f":"IF(AND(CT4350=\"-\",CT4446=\"-\",CT4542=\"-\",CT4638=\"-\",CT4734=\"-\"), \"-\", IF(SUM($CH5022:$CS5022)=0, 0, ROUND(AVERAGE(CT4350,CT4446,CT4542,CT4638,CT4734), 0)))","v":0},0,0,0,0,0,0,0,0,0,0,0,0,0,0,0,0,0,0,0,{"$error":"#DIV/0!"},"-",0,0,1,5,0,0,0,6,0,0,0,0,0,0,1,5,0,0,0,6]
[{"$error":"#N/A"},"Weekday Average",{"$f":"INDEX(Input_Details!$H$5:$H$24, MATCH($A5051, Input_Details!$J$5:$J$24, 0), 0)","v":{"$error":"#N/A"}},{"$f":"INDEX(Input_Details!$I$5:$I$24, MATCH($A5051, Input_Details!$J$5:$J$24, 0), 0)","v":{"$error":"#N/A"}},{"$f":"INDEX(Input_Details!$K$5:$K$24, MATCH($A5051, Input_Details!$J$5:$J$24, 0), 0)","v":{"$error":"#N/A"}},"WD Ave","13:45:00",{"$f":"IF(AND(H4379=\"\",H4475=\"\",H4571=\"\",H4667=\"\",H4763=\"\"), \"-\", IF(H4379+H4475+H4571+H4667+H4763=0,0,ROUND(AVERAGE(H4379,H4475,H4571,H4667,H4763), 0)))","v":0},19,0,0,0,0,0,0,0,0,0,0,0,0,0,0,0,0,0,0,0,0,0,0,0,0,0,0,0,0,0,0,{"$f":"IF(SUM(H5051:S5051)=0,\"-\",AVERAGEIF(G4324:G4803,$G5051,AN4324:AN4803))","v":{"$error":"#DIV/0!"}},{"$f":"IFERROR(IF(SUM(H5051:S5051)=0,\"-\",AVERAGEIF(G4324:G4803,G5051,AO4324:AO4803)), \"-\")","v":"-"},0,0,{"$f":"INDEX(Input_Details!$L$5:$L$24, MATCH($A5051, Input_Details!$J$5:$J$24, 0), 0)","v":{"$error":"#N/A"}},"WD Ave","13:45:00",{"$f":"IF(AND(AU4379=\"\",AU4475=\"\",AU4571=\"\",AU4667=\"\",AU4763=\"\"), \"-\", IF(AU4379+AU4475+AU4571+AU4667+AU4763=0,0,ROUND(AVERAGE(AU4379,AU4475,AU4571,AU4667,AU4763), 0)))","v":0},0,0,0,0,0,0,0,0,0,0,0,0,0,0,0,0,0,0,0,0,0,0,0,0,0,0,0,0,0,0,0,{"$f":"IF(SUM(AU5051:BF5051)=0,\"-\",AVERAGEIF(AT4324:AT4803,$G5051,CA4324:CA4803))","v":"-"},{"$f":"IFERROR(IF(SUM(AU5051:BF5051)=0,\"-\",AVERAGEIF(AT4324:AT4803,AT5051,CB4324:CB4803)), \"-\")","v":"-"},"-","-",null,"WD Ave","13:45:00",{"$f":"IF(AND(CH4379=\"-\",CH4475=\"-\",CH4571=\"-\",CH4667=\"-\",CH4763=\"-\"), \"-\", ROUND(AVERAGE(CH4379,CH4475,CH4571,CH4667,CH4763), 0))","v":0},19,0,0,0,0,0,0,0,0,0,0,{"$f":"IF(AND(CT4379=\"-\",CT4475=\"-\",CT4571=\"-\",CT4667=\"-\",CT4763=\"-\"), \"-\", IF(SUM($CH5051:$CS5051)=0, 0, ROUND(AVERAGE(CT4379,CT4475,CT4571,CT4667,CT4763), 0)))","v":0},0,0,0,0,0,0,0,0,0,0,0,0,0,0,0,0,0,0,0,{"$error":"#DIV/0!"},"-",0,0,0,19,0,0,0,19,0,0,0,0,0,0,0,19,0,0,0,19]
[{"$error":"#N/A"},"Weekday Average",{"$f":"INDEX(Input_Details!$H$5:$H$24, MATCH($A5079, Input_Details!$J$5:$J$24, 0), 0)","v":{"$error":"#N/A"}},{"$f":"INDEX(Input_Details!$I$5:$I$24, MATCH($A5079, Input_Details!$J$5:$J$24, 0), 0)","v":{"$error":"#N/A"}},{"$f":"INDEX(Input_Details!$K$5:$K$24, MATCH($A5079, Input_Details!$J$5:$J$24, 0), 0)","v":{"$error":"#N/A"}},"WD Ave","20:45:00",{"$f":"IF(AND(H4407=\"\",H4503=\"\",H4599=\"\",H4695=\"\",H4791=\"\"), \"-\", IF(H4407+H4503+H4599+H4695+H4791=0,0,ROUND(AVERAGE(H4407,H4503,H4599,H4695,H4791), 0)))","v":1},8,0,0,0,0,0,0,0,0,0,0,0,0,0,0,0,0,0,0,0,0,0,0,0,0,0,0,0,0,0,0,{"$f":"IF(SUM(H5079:S5079)=0,\"-\",AVERAGEIF(G4324:G4803,$G5079,AN4324:AN4803))","v":{"$error":"#DIV/0!"}},{"$f":"IFERROR(IF(SUM(H5079:S5079)=0,\"-\",AVERAGEIF(G4324:G4803,G5079,AO4324:AO4803)), \"-\")","v":"-"},0,0,{"$f":"INDEX(Input_Details!$L$5:$L$24, MATCH($A5079, Input_Details!$J$5:$J$24, 0), 0)","v":{"$error":"#N/A"}},"WD Ave","20:45:00",{"$f":"IF(AND(AU4407=\"\",AU4503=\"\",AU4599=\"\",AU4695=\"\",AU4791=\"\"), \"-\", IF(AU4407+AU4503+AU4599+AU4695+AU4791=0,0,ROUND(AVERAGE(AU4407,AU4503,AU4599,AU4695,AU4791), 0)))","v":0},0,0,0,0,0,0,0,0,0,0,0,0,0,0,0,0,0,0,0,0,0,0,0,0,0,0,0,0,0,0,0,{"$f":"IF(SUM(AU5079:BF5079)=0,\"-\",AVERAGEIF(AT4324:AT4803,$G5079,CA4324:CA4803))","v":"-"},{"$f":"IFERROR(IF(SUM(AU5079:BF5079)=0,\"-\",AVERAGEIF(AT4324:AT4803,AT5079,CB4324:CB4803)), \"-\")","v":"-"},"-","-",null,"WD Ave","20:45:00",{"$f":"IF(AND(CH4407=\"-\",CH4503=\"-\",CH4599=\"-\",CH4695=\"-\",CH4791=\"-\"), \"-\", ROUND(AVERAGE(CH4407,CH4503,CH4599,CH4695,CH4791), 0))","v":1},8,0,0,0,0,0,0,0,0,0,0,{"$f":"IF(AND(CT4407=\"-\",CT4503=\"-\",CT4599=\"-\",CT4695=\"-\",CT4791=\"-\"), \"-\", IF(SUM($CH5079:$CS5079)=0, 0, ROUND(AVERAGE(CT4407,CT4503,CT4599,CT4695,CT4791), 0)))","v":0},0,0,0,0,0,0,0,0,0,0,0,0,0,0,0,0,0,0,0,{"$error":"#DIV/0!"},"-",0,0,1,8,0,0,0,9,0,0,0,0,0,0,1,8,0,0,0,9]
[{"$error":"#N/A"},"7-Day Average",{"$f":"INDEX(Input_Details!$H$5:$H$24, MATCH($A5092, Input_Details!$J$5:$J$24, 0), 0)","v":{"$error":"#N/A"}},{"$f":"INDEX(Input_Details!$I$5:$I$24, MATCH($A5092, Input_Details!$J$5:$J$24, 0), 0)","v":{"$error":"#N/A"}},{"$f":"INDEX(Input_Details!$K$5:$K$24, MATCH($A5092, Input_Details!$J$5:$J$24, 0), 0)","v":{"$error":"#N/A"}},"7 Day Ave","00:00:00",{"$f":"IF(AND(H4324=\"\",H4420=\"\",H4516=\"\",H4612=\"\",H4708=\"\",H4804=\"\",H4900=\"\"), \"-\", IF(H4324+H4420+H4516+H4612+H4708+H4804+H4900=0,0,ROUND(AVERAGE(H4324,H4420,H4516,H4612,H4708,H4804,H4900),0)))","v":0},2,0,0,0,0,0,0,0,0,0,0,{"$f":"IF(AND(T4324=\"\",T4420=\"\",T4516=\"\",T4612=\"\",T4708=\"\",T4804=\"\",T4900=\"\"), \"-\", IF(SUM(H5092:S5092)=0, 0, IF(T4324+T4420+T4516+T4612+T4708+T4804+T4900=0,0,ROUNDDOWN(AVERAGE(T4324,T4420,T4516,T4612,T4708,T4804,T4900),0))))","v":0},{"$f":"IF(AND(U4324=\"\",U4420=\"\",U4516=\"\",U4612=\"\",U4708=\"\",U4804=\"\",U4900=\"\"), \"-\", IF(SUM(H5092:S5092)=0, 0, IF(U4324+U4420+U4516+U4612+U4708+U4804+U4900=0,0,ROUNDDOWN(AVERAGE(U4324,U4420,U4516,U4612,U4708,U4804,U4900),0))))","v":0},{"$f":"IF(AND(V4324=\"\",V4420=\"\",V4516=\"\",V4612=\"\",V4708=\"\",V4804=\"\",V4900=\"\"), \"-\", IF(SUM(H5092:S5092)=0, 0, IF(V4324+V4420+V4516+V4612+V4708+V4804+V4900=0,0,ROUNDDOWN(AVERAGE(V4324,V4420,V4516,V4612,V4708,V4804,V4900),0))))","v":0},{"$f":"IF(AND(W4324=\"\",W4420=\"\",W4516=\"\",W4612=\"\",W4708=\"\",W4804=\"\",W4900=\"\"), \"-\", IF(SUM(H5092:S5092)=0, 0, IF(W4324+W4420+W4516+W4612+W4708+W4804+W4900=0,0,ROUNDDOWN(AVERAGE(W4324,W4420,W4516,W4612,W4708,W4804,W4900),0))))","v":0},{"$f":"IF(AND(X4324=\"\",X4420=\"\",X4516=\"\",X4612=\"\",X4708=\"\",X4804=\"\",X4900=\"\"), \"-\", IF(SUM(H5092:S5092)=0, 0, IF(X4324+X4420+X4516+X4612+X4708+X4804+X4900=0,0,ROUNDDOWN(AVERAGE(X4324,X4420,X4516,X4612,X4708,X4804,X4900),0))))","v":0},{"$f":"IF(AND(Y4324=\"\",Y4420=\"\",Y4516=\"\",Y4612=\"\",Y4708=\"\",Y4804=\"\",Y4900=\"\"), \"-\", IF(SUM(H5092:S5092)=0, 0, IF(Y4324+Y4420+Y4516+Y4612+Y4708+Y4804+Y4900=0,0,ROUNDDOWN(AVERAGE(Y4324,Y4420,Y4516,Y4612,Y4708,Y4804,Y4900),0))))","v":0},{"$f":"IF(AND(Z4324=\"\",Z4420=\"\",Z4516=\"\",Z4612=\"\",Z4708=\"\",Z4804=\"\",Z4900=\"\"), \"-\", IF(SUM(H5092:S5092)=0, 0, IF(Z4324+Z4420+Z4516+Z4612+Z4708+Z4804+Z4900=0,0,ROUNDDOWN(AVERAGE(Z4324,Z4420,Z4516,Z4612,Z4708,Z4804,Z4900),0))))","v":0},{"$f":"IF(AND(AA4324=\"\",AA4420=\"\",AA4516=\"\",AA4612=\"\",AA4708=\"\",AA4804=\"\",AA4900=\"\"), \"-\", IF(SUM(H5092:S5092)=0, 0, IF(AA4324+AA4420+AA4516+AA4612+AA4708+AA4804+AA4900=0,0,ROUNDDOWN(AVERAGE(AA4324,AA4420,AA4516,AA4612,AA4708,AA4804,AA4900),0))))","v":0},{"$f":"IF(AND(AB4324=\"\",AB4420=\"\",AB4516=\"\",AB4612=\"\",AB4708=\"\",AB4804=\"\",AB4900=\"\"), \"-\", IF(SUM(H5092:S5092)=0, 0, IF(AB4324+AB4420+AB4516+AB4612+AB4708+AB4804+AB4900=0,0,ROUNDDOWN(AVERAGE(AB4324,AB4420,AB4516,AB4612,AB4708,AB4804,AB4900),0))))","v":0},{"$f":"IF(AND(AC4324=\"\",AC4420=\"\",AC4516=\"\",AC4612=\"\",AC4708=\"\",AC4804=\"\",AC4900=\"\"), \"-\", IF(SUM(H5092:S5092)=0, 0, IF(AC4324+AC4420+AC4516+AC4612+AC4708+AC4804+AC4900=0,0,ROUNDDOWN(AVERAGE(AC4324,AC4420,AC4516,AC4612,AC4708,AC4804,AC4900),0))))","v":0},{"$f":"IF(AND(AD4324=\"\",AD4420=\"\",AD4516=\"\",AD4612=\"\",AD4708=\"\",AD4804=\"\",AD4900=\"\"), \"-\", IF(SUM(H5092:S5092)=0, 0, IF(AD4324+AD4420+AD4516+AD4612+AD4708+AD4804+AD4900=0,0,ROUNDDOWN(AVERAGE(AD4324,AD4420,AD4516,AD4612,AD4708,AD4804,AD4900),0))))","v":0},{"$f":"IF(AND(AE4324=\"\",AE4420=\"\",AE4516=\"\",AE4612=\"\",AE4708=\"\",AE4804=\"\",AE4900=\"\"), \"-\", IF(SUM(H5092:S5092)=0, 0, IF(AE4324+AE4420+AE4516+AE4612+AE4708+AE4804+AE4900=0,0,ROUNDDOWN(AVERAGE(AE4324,AE4420,AE4516,AE4612,AE4708,AE4804,AE4900),0))))","v":0},{"$f":"IF(AND(AF4324=\"\",AF4420=\"\",AF4516=\"\",AF4612=\"\",AF4708=\"\",AF4804=\"\",AF4900=\"\"), \"-\", IF(SUM(H5092:S5092)=0, 0, IF(AF4324+AF4420+AF4516+AF4612+AF4708+AF4804+AF4900=0,0,ROUNDDOWN(AVERAGE(AF4324,AF4420,AF4516,AF4612,AF4708,AF4804,AF4900),0))))","v":0},{"$f":"IF(AND(AG4324=\"\",AG4420=\"\",AG4516=\"\",AG4612=\"\",AG4708=\"\",AG4804=\"\",AG4900=\"\"), \"-\", IF(SUM(H5092:S5092)=0, 0, IF(AG4324+AG4420+AG4516+AG4612+AG4708+AG4804+AG4900=0,0,ROUNDDOWN(AVERAGE(AG4324,AG4420,AG4516,AG4612,AG4708,AG4804,AG4900),0))))","v":0},{"$f":"IF(AND(AH4324=\"\",AH4420=\"\",AH4516=\"\",AH4612=\"\",AH4708=\"\",AH4804=\"\",AH4900=\"\"), \"-\", IF(SUM(H5092:S5092)=0, 0, IF(AH4324+AH4420+AH4516+AH4612+AH4708+AH4804+AH4900=0,0,ROUNDDOWN(AVERAGE(AH4324,AH4420,AH4516,AH4612,AH4708,AH4804,AH4900),0))))","v":0},{"$f":"IF(AND(AI4324=\"\",AI4420=\"\",AI4516=\"\",AI4612=\"\",AI4708=\"\",AI4804=\"\",AI4900=\"\"), \"-\", IF(SUM(H5092:S5092)=0, 0, IF(AI4324+AI4420+AI4516+AI4612+AI4708+AI4804+AI4900=0,0,ROUNDDOWN(AVERAGE(AI4324,AI4420,AI4516,AI4612,AI4708,AI4804,AI4900),0))))","v":0},{"$f":"IF(AND(AJ4324=\"\",AJ4420=\"\",AJ4516=\"\",AJ4612=\"\",AJ4708=\"\",AJ4804=\"\",AJ4900=\"\"), \"-\", IF(SUM(H5092:S5092)=0, 0, IF(AJ4324+AJ4420+AJ4516+AJ4612+AJ4708+AJ4804+AJ4900=0,0,ROUNDDOWN(AVERAGE(AJ4324,AJ4420,AJ4516,AJ4612,AJ4708,AJ4804,AJ4900),0))))","v":0},{"$f":"IF(AND(AK4324=\"\",AK4420=\"\",AK4516=\"\",AK4612=\"\",AK4708=\"\",AK4804=\"\",AK4900=\"\"), \"-\", IF(SUM(H5092:S5092)=0, 0, IF(AK4324+AK4420+AK4516+AK4612+AK4708+AK4804+AK4900=0,0,ROUNDDOWN(AVERAGE(AK4324,AK4420,AK4516,AK4612,AK4708,AK4804,AK4900),0))))","v":0},{"$f":"IF(AND(AL4324=\"\",AL4420=\"\",AL4516=\"\",AL4612=\"\",AL4708=\"\",AL4804=\"\",AL4900=\"\"), \"-\", IF(SUM(H5092:S5092)=0, 0, IF(AL4324+AL4420+AL4516+AL4612+AL4708+AL4804+AL4900=0,0,ROUNDDOWN(AVERAGE(AL4324,AL4420,AL4516,AL4612,AL4708,AL4804,AL4900),0))))","v":0},{"$f":"IF(AND(AM4324=\"\",AM4420=\"\",AM4516=\"\",AM4612=\"\",AM4708=\"\",AM4804=\"\",AM4900=\"\"), \"-\", IF(SUM(H5092:S5092)=0, 0, IF(AM4324+AM4420+AM4516+AM4612+AM4708+AM4804+AM4900=0,0,ROUNDDOWN(AVERAGE(AM4324,AM4420,AM4516,AM4612,AM4708,AM4804,AM4900),0))))","v":0},{"$f":"IF(SUM(H5092:S5092)=0,\"-\",AVERAGEIF(G4324:G4995,$G5092,AN4324:AN4995))","v":{"$error":"#DIV/0!"}},{"$f":"IFERROR(IF(SUM(H5092:S5092)=0,\"-\",AVERAGEIF(G4324:G4995,G5092,AO4324:AO4995)), \"-\")","v":"-"},{"$f":"IF(SUM(H5092:S5092)=0,\"-\",MIN(AP4324,AP4420,AP4516,AP4612,AP4708,AP4804,AP4900))","v":0},{"$f":"IF(SUM(H5092:S5092)=0,\"-\",MAX(AQ4324,AQ4420,AQ4516,AQ4612,AQ4708,AQ4804,AQ4900))","v":0},{"$f":"INDEX(Input_Details!$L$5:$L$24, MATCH($A5092, Input_Details!$J$5:$J$24, 0), 0)","v":{"$error":"#N/A"}},"7 Day Ave","00:00:00",{"$f":"IF(AND(AU4324=\"\",AU4420=\"\",AU4516=\"\",AU4612=\"\",AU4708=\"\",AU4804=\"\",AU4900=\"\"), \"-\", IF(AU4324+AU4420+AU4516+AU4612+AU4708+AU4804+AU4900=0,0,ROUND(AVERAGE(AU4324,AU4420,AU4516,AU4612,AU4708,AU4804,AU4900),0)))","v":0},0,0,0,0,0,0,0,0,0,0,0,{"$f":"IF(AND(BG4324=\"\",BG4420=\"\",BG4516=\"\",BG4612=\"\",BG4708=\"\",BG4804=\"\",BG4900=\"\"), \"-\", IF(SUM(AU5092:BF5092)=0, 0, IF(BG4324+BG4420+BG4516+BG4612+BG4708+BG4804+BG4900=0,0,ROUNDDOWN(AVERAGE(BG4324,BG4420,BG4516,BG4612,BG4708,BG4804,BG4900),0))))","v":0},{"$f":"IF(AND(BH4324=\"\",BH4420=\"\",BH4516=\"\",BH4612=\"\",BH4708=\"\",BH4804=\"\",BH4900=\"\"), \"-\", IF(SUM(AU5092:BF5092)=0, 0, IF(BH4324+BH4420+BH4516+BH4612+BH4708+BH4804+BH4900=0,0,ROUNDDOWN(AVERAGE(BH4324,BH4420,BH4516,BH4612,BH4708,BH4804,BH4900),0))))","v":0},{"$f":"IF(AND(BI4324=\"\",BI4420=\"\",BI4516=\"\",BI4612=\"\",BI4708=\"\",BI4804=\"\",BI4900=\"\"), \"-\", IF(SUM(AU5092:BF5092)=0, 0, IF(BI4324+BI4420+BI4516+BI4612+BI4708+BI4804+BI4900=0,0,ROUNDDOWN(AVERAGE(BI4324,BI4420,BI4516,BI4612,BI4708,BI4804,BI4900),0))))","v":0},{"$f":"IF(AND(BJ4324=\"\",BJ4420=\"\",BJ4516=\"\",BJ4612=\"\",BJ4708=\"\",BJ4804=\"\",BJ4900=\"\"), \"-\", IF(SUM(AU5092:BF5092)=0, 0, IF(BJ4324+BJ4420+BJ4516+BJ4612+BJ4708+BJ4804+BJ4900=0,0,ROUNDDOWN(AVERAGE(BJ4324,BJ4420,BJ4516,BJ4612,BJ4708,BJ4804,BJ4900),0))))","v":0},{"$f":"IF(AND(BK4324=\"\",BK4420=\"\",BK4516=\"\",BK4612=\"\",BK4708=\"\",BK4804=\"\",BK4900=\"\"), \"-\", IF(SUM(AU5092:BF5092)=0, 0, IF(BK4324+BK4420+BK4516+BK4612+BK4708+BK4804+BK4900=0,0,ROUNDDOWN(AVERAGE(BK4324,BK4420,BK4516,BK4612,BK4708,BK4804,BK4900),0))))","v":0},{"$f":"IF(AND(BL4324=\"\",BL4420=\"\",BL4516=\"\",BL4612=\"\",BL4708=\"\",BL4804=\"\",BL4900=\"\"), \"-\", IF(SUM(AU5092:BF5092)=0, 0, IF(BL4324+BL4420+BL4516+BL4612+BL4708+BL4804+BL4900=0,0,ROUNDDOWN(AVERAGE(BL4324,BL4420,BL4516,BL4612,BL4708,BL4804,BL4900),0))))","v":0},{"$f":"IF(AND(BM4324=\"\",BM4420=\"\",BM4516=\"\",BM4612=\"\",BM4708=\"\",BM4804=\"\",BM4900=\"\"), \"-\", IF(SUM(AU5092:BF5092)=0, 0, IF(BM4324+BM4420+BM4516+BM4612+BM4708+BM4804+BM4900=0,0,ROUNDDOWN(AVERAGE(BM4324,BM4420,BM4516,BM4612,BM4708,BM4804,BM4900),0))))","v":0},{"$f":"IF(AND(BN4324=\"\",BN4420=\"\",BN4516=\"\",BN4612=\"\",BN4708=\"\",BN4804=\"\",BN4900=\"\"), \"-\", IF(SUM(AU5092:BF5092)=0, 0, IF(BN4324+BN4420+BN4516+BN4612+BN4708+BN4804+BN4900=0,0,ROUNDDOWN(AVERAGE(BN4324,BN4420,BN4516,BN4612,BN4708,BN4804,BN4900),0))))","v":0},{"$f":"IF(AND(BO4324=\"\",BO4420=\"\",BO4516=\"\",BO4612=\"\",BO4708=\"\",BO4804=\"\",BO4900=\"\"), \"-\", IF(SUM(AU5092:BF5092)=0, 0, IF(BO4324+BO4420+BO4516+BO4612+BO4708+BO4804+BO4900=0,0,ROUNDDOWN(AVERAGE(BO4324,BO4420,BO4516,BO4612,BO4708,BO4804,BO4900),0))))","v":0},{"$f":"IF(AND(BP4324=\"\",BP4420=\"\",BP4516=\"\",BP4612=\"\",BP4708=\"\",BP4804=\"\",BP4900=\"\"), \"-\", IF(SUM(AU5092:BF5092)=0, 0, IF(BP4324+BP4420+BP4516+BP4612+BP4708+BP4804+BP4900=0,0,ROUNDDOWN(AVERAGE(BP4324,BP4420,BP4516,BP4612,BP4708,BP4804,BP4900),0))))","v":0},{"$f":"IF(AND(BQ4324=\"\",BQ4420=\"\",BQ4516=\"\",BQ4612=\"\",BQ4708=\"\",BQ4804=\"\",BQ4900=\"\"), \"-\", IF(SUM(AU5092:BF5092)=0, 0, IF(BQ4324+BQ4420+BQ4516+BQ4612+BQ4708+BQ4804+BQ4900=0,0,ROUNDDOWN(AVERAGE(BQ4324,BQ4420,BQ4516,BQ4612,BQ4708,BQ4804,BQ4900),0))))","v":0},{"$f":"IF(AND(BR4324=\"\",BR4420=\"\",BR4516=\"\",BR4612=\"\",BR4708=\"\",BR4804=\"\",BR4900=\"\"), \"-\", IF(SUM(AU5092:BF5092)=0, 0, IF(BR4324+BR4420+BR4516+BR4612+BR4708+BR4804+BR4900=0,0,ROUNDDOWN(AVERAGE(BR4324,BR4420,BR4516,BR4612,BR4708,BR4804,BR4900),0))))","v":0},{"$f":"IF(AND(BS4324=\"\",BS4420=\"\",BS4516=\"\",BS4612=\"\",BS4708=\"\",BS4804=\"\",BS4900=\"\"), \"-\", IF(SUM(AU5092:BF5092)=0, 0, IF(BS4324+BS4420+BS4516+BS4612+BS4708+BS4804+BS4900=0,0,ROUNDDOWN(AVERAGE(BS4324,BS4420,BS4516,BS4612,BS4708,BS4804,BS4900),0))))","v":0},{"$f":"IF(AND(BT4324=\"\",BT4420=\"\",BT4516=\"\",BT4612=\"\",BT4708=\"\",BT4804=\"\",BT4900=\"\"), \"-\", IF(SUM(AU5092:BF5092)=0, 0, IF(BT4324+BT4420+BT4516+BT4612+BT4708+BT4804+BT4900=0,0,ROUNDDOWN(AVERAGE(BT4324,BT4420,BT4516,BT4612,BT4708,BT4804,BT4900),0))))","v":0},{"$f":"IF(AND(BU4324=\"\",BU4420=\"\",BU4516=\"\",BU4612=\"\",BU4708=\"\",BU4804=\"\",BU4900=\"\"), \"-\", IF(SUM(AU5092:BF5092)=0, 0, IF(BU4324+BU4420+BU4516+BU4612+BU4708+BU4804+BU4900=0,0,ROUNDDOWN(AVERAGE(BU4324,BU4420,BU4516,BU4612,BU4708,BU4804,BU4900),0))))","v":0},{"$f":"IF(AND(BV4324=\"\",BV4420=\"\",BV4516=\"\",BV4612=\"\",BV4708=\"\",BV4804=\"\",BV4900=\"\"), \"-\", IF(SUM(AU5092:BF5092)=0, 0, IF(BV4324+BV4420+BV4516+BV4612+BV4708+BV4804+BV4900=0,0,ROUNDDOWN(AVERAGE(BV4324,BV4420,BV4516,BV4612,BV4708,BV4804,BV4900),0))))","v":0},{"$f":"IF(AND(BW4324=\"\",BW4420=\"\",BW4516=\"\",BW4612=\"\",BW4708=\"\",BW4804=\"\",BW4900=\"\"), \"-\", IF(SUM(AU5092:BF5092)=0, 0, IF(BW4324+BW4420+BW4516+BW4612+BW4708+BW4804+BW4900=0,0,ROUNDDOWN(AVERAGE(BW4324,BW4420,BW4516,BW4612,BW4708,BW4804,BW4900),0))))","v":0},{"$f":"IF(AND(BX4324=\"\",BX4420=\"\",BX4516=\"\",BX4612=\"\",BX4708=\"\",BX4804=\"\",BX4900=\"\"), \"-\", IF(SUM(AU5092:BF5092)=0, 0, IF(BX4324+BX4420+BX4516+BX4612+BX4708+BX4804+BX4900=0,0,ROUNDDOWN(AVERAGE(BX4324,BX4420,BX4516,BX4612,BX4708,BX4804,BX4900),0))))","v":0},{"$f":"IF(AND(BY4324=\"\",BY4420=\"\",BY4516=\"\",BY4612=\"\",BY4708=\"\",BY4804=\"\",BY4900=\"\"), \"-\", IF(SUM(AU5092:BF5092)=0, 0, IF(BY4324+BY4420+BY4516+BY4612+BY4708+BY4804+BY4900=0,0,ROUNDDOWN(AVERAGE(BY4324,BY4420,BY4516,BY4612,BY4708,BY4804,BY4900),0))))","v":0},{"$f":"IF(AND(BZ4324=\"\",BZ4420=\"\",BZ4516=\"\",BZ4612=\"\",BZ4708=\"\",BZ4804=\"\",BZ4900=\"\"), \"-\", IF(SUM(AU5092:BF5092)=0, 0, IF(BZ4324+BZ4420+BZ4516+BZ4612+BZ4708+BZ4804+BZ4900=0,0,ROUNDDOWN(AVERAGE(BZ4324,BZ4420,BZ4516,BZ4612,BZ4708,BZ4804,BZ4900),0))))","v":0},{"$f":"IF(SUM(AU5092:BF5092)=0,\"-\",AVERAGEIF(AT4324:AT4995,$G5092,CA4324:CA4995))","v":"-"},{"$f":"IFERROR(IF(SUM(AU5092:BF5092)=0,\"-\",AVERAGEIF(AT4324:AT4995,AT5092,CB4324:CB4995)), \"-\")","v":"-"},{"$f":"IF(SUM(AU5092:BF5092)=0,\"-\",MIN(CC4324,CC4420,CC4516,CC4612,CC4708,CC4804,CC4900))","v":"-"},{"$f":"IF(SUM(AU5092:BF5092)=0,\"-\",MAX(CD4324,CD4420,CD4516,CD4612,CD4708,CD4804,CD4900))","v":"-"},null,"7 Day Ave","00:00:00",{"$f":"IF(AND(CH4324=\"-\",CH4420=\"-\",CH4516=\"-\",CH4612=\"-\",CH4708=\"-\",CH4804=\"-\",CH4900=\"-\"), \"-\", ROUND(AVERAGE(CH4324,CH4420,CH4516,CH4612,CH4708,CH4804,CH4900),0))","v":0},2,0,0,0,0,0,0,0,0,0,0,{"$f":"IF(AND(CT4324=\"-\",CT4420=\"-\",CT4516=\"-\",CT4612=\"-\",CT4708=\"-\",CT4804=\"-\",CT4900=\"-\"), \"-\", IF(SUM($CH5092:$CS5092)=0, 0, ROUND(AVERAGE(CT4324,CT4420,CT4516,CT4612,CT4708,CT4804,CT4900),0)))","v":0},{"$f":"IF(AND(CU4324=\"-\",CU4420=\"-\",CU4516=\"-\",CU4612=\"-\",CU4708=\"-\",CU4804=\"-\",CU4900=\"-\"), \"-\", IF(SUM($CH5092:$CS5092)=0, 0, ROUND(AVERAGE(CU4324,CU4420,CU4516,CU4612,CU4708,CU4804,CU4900),0)))","v":0},0,0,0,0,0,0,0,0,0,0,0,0,0,0,0,0,0,0,{"$error":"#DIV/0!"},"-",0,0,{"$f":"IF(H5092=\"\", \"-\", H5092)","v":0},2,{"$f":"IF(DR5092=\"-\", \"-\", K5092)","v":0},0,0,2,0,0,0,0,0,0,0,2,0,0,0,2]
[{"$error":"#N/A"},"7-Day Average",{"$f":"INDEX(Input_Details!$H$5:$H$24, MATCH($A5115, Input_Details!$J$5:$J$24, 0), 0)","v":{"$error":"#N/A"}},{"$f":"INDEX(Input_Details!$I$5:$I$24, MATCH($A5115, Input_Details!$J$5:$J$24, 0), 0)","v":{"$error":"#N/A"}},{"$f":"INDEX(Input_Details!$K$5:$K$24, MATCH($A5115, Input_Details!$J$5:$J$24, 0), 0)","v":{"$error":"#N/A"}},"7 Day Ave","05:45:00",{"$f":"IF(AND(H4347=\"\",H4443=\"\",H4539=\"\",H4635=\"\",H4731=\"\",H4827=\"\",H4923=\"\"), \"-\", IF(H4347+H4443+H4539+H4635+H4731+H4827+H4923=0,0,ROUND(AVERAGE(H4347,H4443,H4539,H4635,H4731,H4827,H4923),0)))","v":0},1,0,0,0,0,0,0,0,0,0,0,0,0,0,0,0,0,0,0,0,0,0,0,0,0,0,0,0,0,0,0,{"$f":"IF(SUM(H5115:S5115)=0,\"-\",AVERAGEIF(G4324:G4995,$G5115,AN4324:AN4995))","v":{"$error":"#DIV/0!"}},{"$f":"IFERROR(IF(SUM(H5115:S5115)=0,\"-\",AVERAGEIF(G4324:G4995,G5115,AO4324:AO4995)), \"-\")","v":"-"},0,0,{"$f":"INDEX(Input_Details!$L$5:$L$24, MATCH($A5115, Input_Details!$J$5:$J$24, 0), 0)","v":{"$error":"#N/A"}},"7 Day Ave","05:45:00",{"$f":"IF(AND(AU4347=\"\",AU4443=\"\",AU4539=\"\",AU4635=\"\",AU4731=\"\",AU4827=\"\",AU4923=\"\"), \"-\", IF(AU4347+AU4443+AU4539+AU4635+AU4731+AU4827+AU4923=0,0,ROUND(AVERAGE(AU4347,AU4443,AU4539,AU4635,AU4731,AU4827,AU4923),0)))","v":0},0,0,0,0,0,0,0,0,0,0,0,0,0,0,0,0,0,0,0,0,0,0,0,0,0,0,0,0,0,0,0,{"$f":"IF(SUM(AU5115:BF5115)=0,\"-\",AVERAGEIF(AT4324:AT4995,$G5115,CA4324:CA4995))","v":"-"},{"$f":"IFERROR(IF(SUM(AU5115:BF5115)=0,\"-\",AVERAGEIF(AT4324:AT4995,AT5115,CB4324:CB4995)), \"-\")","v":"-"},"-","-",null,"7 Day Ave","05:45:00",{"$f":"IF(AND(CH4347=\"-\",CH4443=\"-\",CH4539=\"-\",CH4635=\"-\",CH4731=\"-\",CH4827=\"-\",CH4923=\"-\"), \"-\", ROUND(AVERAGE(CH4347,CH4443,CH4539,CH4635,CH4731,CH4827,CH4923),0))","v":0},1,0,0,0,0,0,0,0,0,0,0,{"$f":"IF(AND(CT4347=\"-\",CT4443=\"-\",CT4539=\"-\",CT4635=\"-\",CT4731=\"-\",CT4827=\"-\",CT4923=\"-\"), \"-\", IF(SUM($CH5115:$CS5115)=0, 0, ROUND(AVERAGE(CT4347,CT4443,CT4539,CT4635,CT4731,CT4827,CT4923),0)))","v":0},0,0,0,0,0,0,0,0,0,0,0,0,0,0,0,0,0,0,0,{"$error":"#DIV/0!"},"-",0,0,0,1,0,0,0,1,0,0,0,0,0,0,0,1,0,0,0,1]
[{"$error":"#N/A"},"7-Day Average",{"$f":"INDEX(Input_Details!$H$5:$H$24, MATCH($A5155, Input_Details!$J$5:$J$24, 0), 0)","v":{"$error":"#N/A"}},{"$f":"INDEX(Input_Details!$I$5:$I$24, MATCH($A5155, Input_Details!$J$5:$J$24, 0), 0)","v":{"$error":"#N/A"}},{"$f":"INDEX(Input_Details!$K$5:$K$24, MATCH($A5155, Input_Details!$J$5:$J$24, 0), 0)","v":{"$error":"#N/A"}},"7 Day Ave","15:45:00",{"$f":"IF(AND(H4387=\"\",H4483=\"\",H4579=\"\",H4675=\"\",H4771=\"\",H4867=\"\",H4963=\"\"), \"-\", IF(H4387+H4483+H4579+H4675+H4771+H4867+H4963=0,0,ROUND(AVERAGE(H4387,H4483,H4579,H4675,H4771,H4867,H4963),0)))","v":3},24,0,0,0,0,0,0,0,0,0,0,0,0,0,0,0,0,0,0,0,0,0,0,0,0,0,0,0,0,0,0,{"$f":"IF(SUM(H5155:S5155)=0,\"-\",AVERAGEIF(G4324:G4995,$G5155,AN4324:AN4995))","v":{"$error":"#DIV/0!"}},{"$f":"IFERROR(IF(SUM(H5155:S5155)=0,\"-\",AVERAGEIF(G4324:G4995,G5155,AO4324:AO4995)), \"-\")","v":"-"},0,0,{"$f":"INDEX(Input_Details!$L$5:$L$24, MATCH($A5155, Input_Details!$J$5:$J$24, 0), 0)","v":{"$error":"#N/A"}},"7 Day Ave","15:45:00",{"$f":"IF(AND(AU4387=\"\",AU4483=\"\",AU4579=\"\",AU4675=\"\",AU4771=\"\",AU4867=\"\",AU4963=\"\"), \"-\", IF(AU4387+AU4483+AU4579+AU4675+AU4771+AU4867+AU4963=0,0,ROUND(AVERAGE(AU4387,AU4483,AU4579,AU4675,AU4771,AU4867,AU4963),0)))","v":0},0,0,0,0,0,0,0,0,0,0,0,0,0,0,0,0,0,0,0,0,0,0,0,0,0,0,0,0,0,0,0,{"$f":"IF(SUM(AU5155:BF5155)=0,\"-\",AVERAGEIF(AT4324:AT4995,$G5155,CA4324:CA4995))","v":"-"},{"$f":"IFERROR(IF(SUM(AU5155:BF5155)=0,\"-\",AVERAGEIF(AT4324:AT4995,AT5155,CB4324:CB4995)), \"-\")","v":"-"},"-","-",null,"7 Day Ave","15:45:00",{"$f":"IF(AND(CH4387=\"-\",CH4483=\"-\",CH4579=\"-\",CH4675=\"-\",CH4771=\"-\",CH4867=\"-\",CH4963=\"-\"), \"-\", ROUND(AVERAGE(CH4387,CH4483,CH4579,CH4675,CH4771,CH4867,CH4963),0))","v":3},24,0,0,0,0,0,0,0,0,0,0,{"$f":"IF(AND(CT4387=\"-\",CT4483=\"-\",CT4579=\"-\",CT4675=\"-\",CT4771=\"-\",CT4867=\"-\",CT4963=\"-\"), \"-\", IF(SUM($CH5155:$CS5155)=0, 0, ROUND(AVERAGE(CT4387,CT4483,CT4579,CT4675,CT4771,CT4867,CT4963),0)))","v":0},0,0,0,0,0,0,0,0,0,0,0,0,0,0,0,0,0,0,0,{"$error":"#DIV/0!"},"-",0,0,3,24,0,0,0,27,0,0,0,0,0,0,3,24,0,0,0,27]
[{"$error":"#N/A"},"7-Day Average",{"$f":"INDEX(Input_Details!$H$5:$H$24, MATCH($A5178, Input_Details!$J$5:$J$24, 0), 0)","v":{"$error":"#N/A"}},{"$f":"INDEX(Input_Details!$I$5:$I$24, MATCH($A5178, Input_Details!$J$5:$J$24, 0), 0)","v":{"$error":"#N/A"}},{"$f":"INDEX(Input_Details!$K$5:$K$24, MATCH($A5178, Input_Details!$J$5:$J$24, 0), 0)","v":{"$error":"#N/A"}},"7 Day Ave","21:30:00",{"$f":"IF(AND(H4410=\"\",H4506=\"\",H4602=\"\",H4698=\"\",H4794=\"\",H4890=\"\",H4986=\"\"), \"-\", IF(H4410+H4506+H4602+H4698+H4794+H4890+H4986=0,0,ROUND(AVERAGE(H4410,H4506,H4602,H4698,H4794,H4890,H4986),0)))","v":1},6,0,0,0,0,0,0,0,0,0,0,0,0,0,0,0,0,0,0,0,0,0,0,0,0,0,0,0,0,0,0,{"$f":"IF(SUM(H5178:S5178)=0,\"-\",AVERAGEIF(G4324:G4995,$G5178,AN4324:AN4995))","v":{"$error":"#DIV/0!"}},{"$f":"IFERROR(IF(SUM(H5178:S5178)=0,\"-\",AVERAGEIF(G4324:G4995,G5178,AO4324:AO4995)), \"-\")","v":"-"},0,0,{"$f":"INDEX(Input_Details!$L$5:$L$24, MATCH($A5178, Input_Details!$J$5:$J$24, 0), 0)","v":{"$error":"#N/A"}},"7 Day Ave","21:30:00",{"$f":"IF(AND(AU4410=\"\",AU4506=\"\",AU4602=\"\",AU4698=\"\",AU4794=\"\",AU4890=\"\",AU4986=\"\"), \"-\", IF(AU4410+AU4506+AU4602+AU4698+AU4794+AU4890+AU4986=0,0,ROUND(AVERAGE(AU4410,AU4506,AU4602,AU4698,AU4794,AU4890,AU4986),0)))","v":0},0,0,0,0,0,0,0,0,0,0,0,0,0,0,0,0,0,0,0,0,0,0,0,0,0,0,0,0,0,0,0,{"$f":"IF(SUM(AU5178:BF5178)=0,\"-\",AVERAGEIF(AT4324:AT4995,$G5178,CA4324:CA4995))","v":"-"},{"$f":"IFERROR(IF(SUM(AU5178:BF5178)=0,\"-\",AVERAGEIF(AT4324:AT4995,AT5178,CB4324:CB4995)), \"-\")","v":"-"},"-","-",null,"7 Day Ave","21:30:00",{"$f":"IF(AND(CH4410=\"-\",CH4506=\"-\",CH4602=\"-\",CH4698=\"-\",CH4794=\"-\",CH4890=\"-\",CH4986=\"-\"), \"-\", ROUND(AVERAGE(CH4410,CH4506,CH4602,CH4698,CH4794,CH4890,CH4986),0))","v":1},6,0,0,0,0,0,0,0,0,0,0,{"$f":"IF(AND(CT4410=\"-\",CT4506=\"-\",CT4602=\"-\",CT4698=\"-\",CT4794=\"-\",CT4890=\"-\",CT4986=\"-\"), \"-\", IF(SUM($CH5178:$CS5178)=0, 0, ROUND(AVERAGE(CT4410,CT4506,CT4602,CT4698,CT4794,CT4890,CT4986),0)))","v":0},0,0,0,0,0,0,0,0,0,0,0,0,0,0,0,0,0,0,0,{"$error":"#DIV/0!"},"-",0,0,1,6,0,0,0,7,0,0,0,0,0,0,1,6,0,0,0,7]
[{"$error":"#N/A"},{"$f":"OFFSET(Input_Details!$Q$4,MATCH($A5192, Input_Details!$J$5:$J$24, 0), 0)","v":{"$error":"#N/A"}},{"$f":"INDEX(Input_Details!$H$5:$H$24, MATCH($A5192, Input_Details!$J$5:$J$24, 0), 0)","v":{"$error":"#N/A"}},{"$f":"INDEX(Input_Details!$I$5:$I$24, MATCH($A5192, Input_Details!$J$5:$J$24, 0), 0)","v":{"$error":"#N/A"}},{"$f":"INDEX(Input_Details!$K$5:$K$24, MATCH($A5192, Input_Details!$J$5:$J$24, 0), 0)","v":{"$error":"#N/A"}},"Mon","01:00:00",1,11,0,0,0,0,0,0,0,0,0,0,0,0,0,0,0,0,0,0,0,0,0,0,0,0,0,0,0,0,0,0,"-","-","-","-",{"$f":"INDEX(Input_Details!$L$5:$L$24, MATCH($A5192, Input_Details!$J$5:$J$24, 0), 0)","v":{"$error":"#N/A"}},"Mon","01:00:00",0,0,0,0,0,0,0,0,0,0,0,0,0,0,0,0,0,0,0,0,0,0,0,0,0,0,0,0,0,0,0,0,"-","-","-","-",null,"Mon","01:00:00",1,11,0,0,0,0,0,0,0,0,0,0,0,0,0,0,0,0,0,0,0,0,0,0,0,0,0,0,0,0,0,0,"-","-",0,0,1,11,0,0,0,12,0,0,0,0,0,0,1,11,0,0,0,12,12,12,16,19,21,19,31,0,0,0,0,0,0,0,12,12,16,19,21,19,31]
[{"$error":"#N/A"},{"$f":"OFFSET(Input_Details!$Q$4,MATCH($A5225, Input_Details!$J$5:$J$24, 0), 0)","v":{"$error":"#N/A"}},{"$f":"INDEX(Input_Details!$H$5:$H$24, MATCH($A5225, Input_Details!$J$5:$J$24, 0), 0)","v":{"$error":"#N/A"}},{"$f":"INDEX(Input_Details!$I$5:$I$24, MATCH($A5225, Input_Details!$J$5:$J$24, 0), 0)","v":{"$error":"#N/A"}},{"$f":"INDEX(Input_Details!$K$5:$K$24, MATCH($A5225, Input_Details!$J$5:$J$24, 0), 0)","v":{"$error":"#N/A"}},"Mon","09:15:00",2,33,0,0,0,0,0,0,0,0,0,0,0,0,0,0,0,0,0,0,0,0,0,0,0,0,0,0,0,0,0,0,"-","-","-","-",{"$f":"INDEX(Input_Details!$L$5:$L$24, MATCH($A5225, Input_Details!$J$5:$J$24, 0), 0)","v":{"$error":"#N/A"}},"Mon","09:15:00",0,0,0,0,0,0,0,0,0,0,0,0,0,0,0,0,0,0,0,0,0,0,0,0,0,0,0,0,0,0,0,0,"-","-","-","-",null,"Mon","09:15:00",2,33,0,0,0,0,0,0,0,0,0,0,0,0,0,0,0,0,0,0,0,0,0,0,0,0,0,0,0,0,0,0,"-","-",0,0,2,33,0,0,0,35,0,0,0,0,0,0,2,33,0,0,0,35,35,25,37,27,37,28,15,0,0,0,0,0,0,0,35,25,37,27,37,28,15]
[{"$error":"#N/A"},{"$f":"OFFSET(Input_Details!$Q$4,MATCH($A5261, Input_Details!$J$5:$J$24, 0), 0)","v":{"$error":"#N/A"}},{"$f":"INDEX(Input_Details!$H$5:$H$24, MATCH($A5261, Input_Details!$J$5:$J$24, 0), 0)","v":{"$error":"#N/A"}},{"$f":"INDEX(Input_Details!$I$5:$I$24, MATCH($A5261, Input_Details!$J$5:$J$24, 0), 0)","v":{"$error":"#N/A"}},{"$f":"INDEX(Input_Details!$K$5:$K$24, MATCH($A5261, Input_Details!$J$5:$J$24, 0), 0)","v":{"$error":"#N/A"}},"Mon","18:15:00",27,43,0,0,0,0,0,0,0,0,0,0,0,0,0,0,0,0,0,0,0,0,0,0,0,0,0,0,0,0,0,0,"-","-","-","-",{"$f":"INDEX(Input_Details!$L$5:$L$24, MATCH($A5261, Input_Details!$J$5:$J$24, 0), 0)","v":{"$error":"#N/A"}},"Mon","18:15:00",0,0,0,0,0,0,0,0,0,0,0,0,0,0,0,0,0,0,0,0,0,0,0,0,0,0,0,0,0,0,0,0,"-","-","-","-",null,"Mon","18:15:00",27,43,0,0,0,0,0,0,0,0,0,0,0,0,0,0,0,0,0,0,0,0,0,0,0,0,0,0,0,0,0,0,"-","-",0,0,27,43,0,0,0,70,0,0,0,0,0,0,27,43,0,0,0,70,70,74,92,79,78,60,58,0,0,0,0,0,0,0,70,74,92,79,78,60,58]
[{"$error":"#N/A"},{"$f":"OFFSET(Input_Details!$Q$4,MATCH($A5288, Input_Details!$J$5:$J$24, 0), 1)","v":{"$error":"#N/A"}},{"$f":"INDEX(Input_Details!$H$5:$H$24, MATCH($A5288, Input_Details!$J$5:$J$24, 0), 0)","v":{"$error":"#N/A"}},{"$f":"INDEX(Input_Details!$I$5:$I$24, MATCH($A5288, Input_Details!$J$5:$J$24, 0), 0)","v":{"$error":"#N/A"}},{"$f":"INDEX(Input_Details!$K$5:$K$24, MATCH($A5288, Input_Details!$J$5:$J$24, 0), 0)","v":{"$error":"#N/A"}},"Tues","01:00:00",1,11,0,0,0,0,0,0,0,0,0,0,0,0,0,0,0,0,0,0,0,0,0,0,0,0,0,0,0,0,0,0,"-","-","-","-",{"$f":"INDEX(Input_Details!$L$5:$L$24, MATCH($A5288, Input_Details!$J$5:$J$24, 0), 0)","v":{"$error":"#N/A"}},"Tues","01:00:00",0,0,0,0,0,0,0,0,0,0,0,0,0,0,0,0,0,0,0,0,0,0,0,0,0,0,0,0,0,0,0,0,"-","-","-","-",null,"Tues","01:00:00",1,11,0,0,0,0,0,0,0,0,0,0,0,0,0,0,0,0,0,0,0,0,0,0,0,0,0,0,0,0,0,0,"-","-",0,0,1,11,0,0,0,12,0,0,0,0,0,0,1,11,0,0,0,12]
[{"$error":"#N/A"},{"$f":"OFFSET(Input_Details!$Q$4,MATCH($A5302, Input_Details!$J$5:$J$24, 0), 1)","v":{"$error":"#N/A"}},{"$f":"INDEX(Input_Details!$H$5:$H$24, MATCH($A5302, Input_Details!$J$5:$J$24, 0), 0)","v":{"$error":"#N/A"}},{"$f":"INDEX(Input_Details!$I$5:$I$24, MATCH($A5302, Input_Details!$J$5:$J$24, 0), 0)","v":{"$error":"#N/A"}},{"$f":"INDEX(Input_Details!$K$5:$K$24, MATCH($A5302, Input_Details!$J$5:$J$24, 0), 0)","v":{"$error":"#N/A"}},"Tues","04:30:00",0,9,0,0,0,0,0,0,0,0,0,0,0,0,0,0,0,0,0,0,0,0,0,0,0,0,0,0,0,0,0,0,"-","-","-","-",{"$f":"INDEX(Input_Details!$L$5:$L$24, MATCH($A5302, Input_Details!$J$5:$J$24, 0), 0)","v":{"$error":"#N/A"}},"Tues","04:30:00",0,0,0,0,0,0,0,0,0,0,0,0,0,0,0,0,0,0,0,0,0,0,0,0,0,0,0,0,0,0,0,0,"-","-","-","-",null,"Tues","04:30:00",0,9,0,0,0,0,0,0,0,0,0,0,0,0,0,0,0,0,0,0,0,0,0,0,0,0,0,0,0,0,0,0,"-","-",0,0,0,9,0,0,0,9,0,0,0,0,0,0,0,9,0,0,0,9]
[{"$error":"#N/A"},{"$f":"OFFSET(Input_Details!$Q$4,MATCH($A5325, Input_Details!$J$5:$J$24, 0), 1)","v":{"$error":"#N/A"}},{"$f":"INDEX(Input_Details!$H$5:$H$24, MATCH($A5325, Input_Details!$J$5:$J$24, 0), 0)","v":{"$error":"#N/A"}},{"$f":"INDEX(Input_Details!$I$5:$I$24, MATCH($A5325, Input_Details!$J$5:$J$24, 0), 0)","v":{"$error":"#N/A"}},{"$f":"INDEX(Input_Details!$K$5:$K$24, MATCH($A5325, Input_Details!$J$5:$J$24, 0), 0)","v":{"$error":"#N/A"}},"Tues","10:15:00",2,29,0,0,0,0,0,0,0,0,0,0,0,0,0,0,0,0,0,0,0,0,0,0,0,0,0,0,0,0,0,0,"-","-","-","-",{"$f":"INDEX(Input_Details!$L$5:$L$24, MATCH($A5325, Input_Details!$J$5:$J$24, 0), 0)","v":{"$error":"#N/A"}},"Tues","10:15:00",0,0,0,0,0,0,0,0,0,0,0,0,0,0,0,0,0,0,0,0,0,0,0,0,0,0,0,0,0,0,0,0,"-","-","-","-",null,"Tues","10:15:00",2,29,0,0,0,0,0,0,0,0,0,0,0,0,0,0,0,0,0,0,0,0,0,0,0,0,0,0,0,0,0,0,"-","-",0,0,2,29,0,0,0,31,0,0,0,0,0,0,2,29,0,0,0,31]
[{"$error":"#N/A"},{"$f":"OFFSET(Input_Details!$Q$4,MATCH($A5358, Input_Details!$J$5:$J$24, 0), 1)","v":{"$error":"#N/A"}},{"$f":"INDEX(Input_Details!$H$5:$H$24, MATCH($A5358, Input_Details!$J$5:$J$24, 0), 0)","v":{"$error":"#N/A"}},{"$f":"INDEX(Input_Details!$I$5:$I$24, MATCH($A5358, Input_Details!$J$5:$J$24, 0), 0)","v":{"$error":"#N/A"}},{"$f":"INDEX(Input_Details!$K$5:$K$24, MATCH($A5358, Input_Details!$J$5:$J$24, 0), 0)","v":{"$error":"#N/A"}},"Tues","18:30:00",34,63,0,0,0,0,0,0,0,0,0,0,0,0,0,0,0,0,0,0,0,0,0,0,0,0,0,0,0,0,0,0,"-","-","-","-",{"$f":"INDEX(Input_Details!$L$5:$L$24, MATCH($A5358, Input_Details!$J$5:$J$24, 0), 0)","v":{"$error":"#N/A"}},"Tues","18:30:00",0,0,0,0,0,0,0,0,0,0,0,0,0,0,0,0,0,0,0,0,0,0,0,0,0,0,0,0,0,0,0,0,"-","-","-","-",null,"Tues","18:30:00",34,63,0,0,0,0,0,0,0,0,0,0,0,0,0,0,0,0,0,0,0,0,0,0,0,0,0,0,0,0,0,0,"-","-",0,0,34,63,0,0,0,97,0,0,0,0,0,0,34,63,0,0,0,97]
[{"$error":"#N/A"},{"$f":"OFFSET(Input_Details!$Q$4,MATCH($A5380, Input_Details!$J$5:$J$24, 0), 2)","v":{"$error":"#N/A"}},{"$f":"INDEX(Input_Details!$H$5:$H$24, MATCH($A5380, Input_Details!$J$5:$J$24, 0), 0)","v":{"$error":"#N/A"}},{"$f":"INDEX(Input_Details!$I$5:$I$24, MATCH($A5380, Input_Details!$J$5:$J$24, 0), 0)","v":{"$error":"#N/A"}},{"$f":"INDEX(Input_Details!$K$5:$K$24, MATCH($A5380, Input_Details!$J$5:$J$24, 0), 0)","v":{"$error":"#N/A"}},"Wed","00:00:00",5,22,0,0,0,0,0,0,0,0,0,0,0,0,0,0,0,0,0,0,0,0,0,0,0,0,0,0,0,0,0,0,"-","-","-","-",{"$f":"INDEX(Input_Details!$L$5:$L$24, MATCH($A5380, Input_Details!$J$5:$J$24, 0), 0)","v":{"$error":"#N/A"}},"Wed","00:00:00",0,0,0,0,0,0,0,0,0,0,0,0,0,0,0,0,0,0,0,0,0,0,0,0,0,0,0,0,0,0,0,0,"-","-","-","-",null,"Wed","00:00:00",5,{"$f":"IF(OR(I5380=\"\", AV5380=\"\"), \"-\",SUM(I5380+AV5380))","v":22},{"$f":"IF(OR(J5380=\"\", AW5380=\"\"), \"-\",SUM(J5380+AW5380))","v":0},{"$f":"IF(OR(K5380=\"\", AX5380=\"\"), \"-\",SUM(K5380+AX5380))","v":0},{"$f":"IF(OR(L5380=\"\", AY5380=\"\"), \"-\",SUM(L5380+AY5380))","v":0},{"$f":"IF(OR(M5380=\"\", AZ5380=\"\"), \"-\",SUM(M5380+AZ5380))","v":0},{"$f":"IF(OR(N5380=\"\", BA5380=\"\"), \"-\",SUM(N5380+BA5380))","v":0},{"$f":"IF(OR(O5380=\"\", BB5380=\"\"), \"-\",SUM(O5380+BB5380))","v":0},{"$f":"IF(OR(P5380=\"\", BC5380=\"\"), \"-\",SUM(P5380+BC5380))","v":0},{"$f":"IF(OR(Q5380=\"\", BD5380=\"\"), \"-\",SUM(Q5380+BD5380))","v":0},{"$f":"IF(OR(R5380=\"\", BE5380=\"\"), \"-\",SUM(R5380+BE5380))","v":0},{"$f":"IF(OR(S5380=\"\", BF5380=\"\"), \"-\",SUM(S5380+BF5380))","v":0},{"$f":"IF(OR(T5380=\"\", BG5380=\"\"), \"-\",SUM(T5380+BG5380))","v":0},{"$f":"IF(OR(U5380=\"\", BH5380=\"\"), \"-\",SUM(U5380+BH5380))","v":0},{"$f":"IF(OR(V5380=\"\", BI5380=\"\"), \"-\",SUM(V5380+BI5380))","v":0},{"$f":"IF(OR(W5380=\"\", BJ5380=\"\"), \"-\",SUM(W5380+BJ5380))","v":0},{"$f":"IF(OR(X5380=\"\", BK5380=\"\"), \"-\",SUM(X5380+BK5380))","v":0},{"$f":"IF(OR(Y5380=\"\", BL5380=\"\"), \"-\",SUM(Y5380+BL5380))","v":0},{"$f":"IF(OR(Z5380=\"\", BM5380=\"\"), \"-\",SUM(Z5380+BM5380))","v":0},{"$f":"IF(OR(AA5380=\"\", BN5380=\"\"), \"-\",SUM(AA5380+BN5380))","v":0},{"$f":"IF(OR(AB5380=\"\", BO5380=\"\"), \"-\",SUM(AB5380+BO5380))","v":0},{"$f":"IF(OR(AC5380=\"\", BP5380=\"\"), \"-\",SUM(AC5380+BP5380))","v":0},{"$f":"IF(OR(AD5380=\"\", BQ5380=\"\"), \"-\",SUM(AD5380+BQ5380))","v":0},{"$f":"IF(OR(AE5380=\"\", BR5380=\"\"), \"-\",SUM(AE5380+BR5380))","v":0},{"$f":"IF(OR(AF5380=\"\", BS5380=\"\"), \"-\",SUM(AF5380+BS5380))","v":0},{"$f":"IF(OR(AG5380=\"\", BT5380=\"\"), \"-\",SUM(AG5380+BT5380))","v":0},{"$f":"IF(OR(AH5380=\"\", BU5380=\"\"), \"-\",SUM(AH5380+BU5380))","v":0},{"$f":"IF(OR(AI5380=\"\", BV5380=\"\"), \"-\",SUM(AI5380+BV5380))","v":0},{"$f":"IF(OR(AJ5380=\"\", BW5380=\"\"), \"-\",SUM(AJ5380+BW5380))","v":0},{"$f":"IF(OR(AK5380=\"\", BX5380=\"\"), \"-\",SUM(AK5380+BX5380))","v":0},{"$f":"IF(OR(AL5380=\"\", BY5380=\"\"), \"-\",SUM(AL5380+BY5380))","v":0},{"$f":"IF(OR(AM5380=\"\", BZ5380=\"\"), \"-\",SUM(AM5380+BZ5380))","v":0},"-","-",0,0,5,{"$f":"IF(DR5380=\"-\", \"-\", SUM(I5380:J5380))","v":22},0,0,0,{"$f":"IF(DR5380=\"-\", \"-\", SUM(H5380:S5380))","v":27},0,0,0,0,0,0,5,{"$f":"IF(OR(DS5380=\"-\", DY5380=\"-\"), \"-\", SUM(DS5380,DY5380))","v":22},{"$f":"IF(OR(DT5380=\"-\", DZ5380=\"-\"), \"-\", SUM(DT5380,DZ5380))","v":0},{"$f":"IF(OR(DU5380=\"-\", EA5380=\"-\"), \"-\", SUM(DU5380,EA5380))","v":0},{"$f":"IF(OR(DV5380=\"-\", EB5380=\"-\"), \"-\", SUM(DV5380,EB5380))","v":0},{"$f":"IF(OR(DW5380=\"-\", EC5380=\"-\"), \"-\", SUM(DW5380,EC5380))","v":27}]
[{"$error":"#N/A"},{"$f":"OFFSET(Input_Details!$Q$4,MATCH($A5421, Input_Details!$J$5:$J$24, 0), 2)","v":{"$error":"#N/A"}},{"$f":"INDEX(Input_Details!$H$5:$H$24, MATCH($A5421, Input_Details!$J$5:$J$24, 0), 0)","v":{"$error":"#N/A"}},{"$f":"INDEX(Input_Details!$I$5:$I$24, MATCH($A5421, Input_Details!$J$5:$J$24, 0), 0)","v":{"$error":"#N/A"}},{"$f":"INDEX(Input_Details!$K$5:$K$24, MATCH($A5421, Input_Details!$J$5:$J$24, 0), 0)","v":{"$error":"#N/A"}},"Wed","10:15:00",5,42,0,0,0,0,0,0,0,0,0,0,0,0,0,0,0,0,0,0,0,0,0,0,0,0,0,0,0,0,0,0,"-","-","-","-",{"$f":"INDEX(Input_Details!$L$5:$L$24, MATCH($A5421, Input_Details!$J$5:$J$24, 0), 0)","v":{"$error":"#N/A"}},"Wed","10:15:00",0,0,0,0,0,0,0,0,0,0,0,0,0,0,0,0,0,0,0,0,0,0,0,0,0,0,0,0,0,0,0,0,"-","-","-","-",null,"Wed","10:15:00",5,42,0,0,0,0,0,0,0,0,0,0,0,0,0,0,0,0,0,0,0,0,0,0,0,0,0,0,0,0,0,0,"-","-",0,0,5,42,0,0,0,47,0,0,0,0,0,0,5,42,0,0,0,47]
[{"$error":"#N/A"},{"$f":"OFFSET(Input_Details!$Q$4,MATCH($A5448, Input_Details!$J$5:$J$24, 0), 2)","v":{"$error":"#N/A"}},{"$f":"INDEX(Input_Details!$H$5:$H$24, MATCH($A5448, Input_Details!$J$5:$J$24, 0), 0)","v":{"$error":"#N/A"}},{"$f":"INDEX(Input_Details!$I$5:$I$24, MATCH($A5448, Input_Details!$J$5:$J$24, 0), 0)","v":{"$error":"#N/A"}},{"$f":"INDEX(Input_Details!$K$5:$K$24, MATCH($A5448, Input_Details!$J$5:$J$24, 0), 0)","v":{"$error":"#N/A"}},"Wed","17:00:00",22,58,0,0,0,0,0,0,0,0,0,0,0,0,0,0,0,0,0,0,0,0,0,0,0,0,0,0,0,0,0,0,"-","-","-","-",{"$f":"INDEX(Input_Details!$L$5:$L$24, MATCH($A5448, Input_Details!$J$5:$J$24, 0), 0)","v":{"$error":"#N/A"}},"Wed","17:00:00",0,0,0,0,0,0,0,0,0,0,0,0,0,0,0,0,0,0,0,0,0,0,0,0,0,0,0,0,0,0,0,0,"-","-","-","-",null,"Wed","17:00:00",22,58,0,0,0,0,0,0,0,0,0,0,0,0,0,0,0,0,0,0,0,0,0,0,0,0,0,0,0,0,0,0,"-","-",0,0,22,58,0,0,0,80,0,0,0,0,0,0,22,58,0,0,0,80]
[{"$error":"#N/A"},{"$f":"OFFSET(Input_Details!$Q$4,MATCH($A5458, Input_Details!$J$5:$J$24, 0), 2)","v":{"$error":"#N/A"}},{"$f":"INDEX(Input_Details!$H$5:$H$24, MATCH($A5458, Input_Details!$J$5:$J$24, 0), 0)","v":{"$error":"#N/A"}},{"$f":"INDEX(Input_Details!$I$5:$I$24, MATCH($A5458, Input_Details!$J$5:$J$24, 0), 0)","v":{"$error":"#N/A"}},{"$f":"INDEX(Input_Details!$K$5:$K$24, MATCH($A5458, Input_Details!$J$5:$J$24, 0), 0)","v":{"$error":"#N/A"}},"Wed","19:30:00",10,56,0,0,0,0,0,0,0,0,0,0,0,0,0,0,0,0,0,0,0,0,0,0,0,0,0,0,0,0,0,0,"-","-","-","-",{"$f":"INDEX(Input_Details!$L$5:$L$24, MATCH($A5458, Input_Details!$J$5:$J$24, 0), 0)","v":{"$error":"#N/A"}},"Wed","19:30:00",0,0,0,0,0,0,0,0,0,0,0,0,0,0,0,0,0,0,0,0,0,0,0,0,0,0,0,0,0,0,0,0,"-","-","-","-",null,"Wed","19:30:00",10,56,0,0,0,0,0,0,0,0,0,0,0,0,0,0,0,0,0,0,0,0,0,0,0,0,0,0,0,0,0,0,"-","-",0,0,10,56,0,0,0,66,0,0,0,0,0,0,10,56,0,0,0,66]
[{"$error":"#N/A"},{"$f":"OFFSET(Input_Details!$Q$4,MATCH($A5491, Input_Details!$J$5:$J$24, 0), 3)","v":{"$error":"#N/A"}},{"$f":"INDEX(Input_Details!$H$5:$H$24, MATCH($A5491, Input_Details!$J$5:$J$24, 0), 0)","v":{"$error":"#N/A"}},{"$f":"INDEX(Input_Details!$I$5:$I$24, MATCH($A5491, Input_Details!$J$5:$J$24, 0), 0)","v":{"$error":"#N/A"}},{"$f":"INDEX(Input_Details!$K$5:$K$24, MATCH($A5491, Input_Details!$J$5:$J$24, 0), 0)","v":{"$error":"#N/A"}},"Thu","03:45:00",0,6,0,0,0,0,0,0,0,0,0,0,0,0,0,0,0,0,0,0,0,0,0,0,0,0,0,0,0,0,0,0,"-","-","-","-",{"$f":"INDEX(Input_Details!$L$5:$L$24, MATCH($A5491, Input_Details!$J$5:$J$24, 0), 0)","v":{"$error":"#N/A"}},"Thu","03:45:00",0,0,0,0,0,0,0,0,0,0,0,0,0,0,0,0,0,0,0,0,0,0,0,0,0,0,0,0,0,0,0,0,"-","-","-","-",null,"Thu","03:45:00",0,6,0,0,0,0,0,0,0,0,0,0,0,0,0,0,0,0,0,0,0,0,0,0,0,0,0,0,0,0,0,0,"-","-",0,0,0,6,0,0,0,6,0,0,0,0,0,0,0,6,0,0,0,6]
[{"$error":"#N/A"},{"$f":"OFFSET(Input_Details!$Q$4,MATCH($A5526, Input_Details!$J$5:$J$24, 0), 3)","v":{"$error":"#N/A"}},{"$f":"INDEX(Input_Details!$H$5:$H$24, MATCH($A5526, Input_Details!$J$5:$J$24, 0), 0)","v":{"$error":"#N/A"}},{"$f":"INDEX(Input_Details!$I$5:$I$24, MATCH($A5526, Input_Details!$J$5:$J$24, 0), 0)","v":{"$error":"#N/A"}},{"$f":"INDEX(Input_Details!$K$5:$K$24, MATCH($A5526, Input_Details!$J$5:$J$24, 0), 0)","v":{"$error":"#N/A"}},"Thu","12:30:00",6,29,0,0,0,0,0,0,0,0,0,0,0,0,0,0,0,0,0,0,0,0,0,0,0,0,0,0,0,0,0,0,"-","-","-","-",{"$f":"INDEX(Input_Details!$L$5:$L$24, MATCH($A5526, Input_Details!$J$5:$J$24, 0), 0)","v":{"$error":"#N/A"}},"Thu","12:30:00",0,0,0,0,0,0,0,0,0,0,0,0,0,0,0,0,0,0,0,0,0,0,0,0,0,0,0,0,0,0,0,0,"-","-","-","-",null,"Thu","12:30:00",6,29,0,0,0,0,0,0,0,0,0,0,0,0,0,0,0,0,0,0,0,0,0,0,0,0,0,0,0,0,0,0,"-","-",0,0,6,29,0,0,0,35,0,0,0,0,0,0,6,29,0,0,0,35]
[{"$error":"#N/A"},{"$f":"OFFSET(Input_Details!$Q$4,MATCH($A5554, Input_Details!$J$5:$J$24, 0), 3)","v":{"$error":"#N/A"}},{"$f":"INDEX(Input_Details!$H$5:$H$24, MATCH($A5554, Input_Details!$J$5:$J$24, 0), 0)","v":{"$error":"#N/A"}},{"$f":"INDEX(Input_Details!$I$5:$I$24, MATCH($A5554, Input_Details!$J$5:$J$24, 0), 0)","v":{"$error":"#N/A"}},{"$f":"INDEX(Input_Details!$K$5:$K$24, MATCH($A5554, Input_Details!$J$5:$J$24, 0), 0)","v":{"$error":"#N/A"}},"Thu","19:30:00",13,57,0,0,0,0,0,0,0,0,0,0,0,0,0,0,0,0,0,0,0,0,0,0,0,0,0,0,0,0,0,0,"-","-","-","-",{"$f":"INDEX(Input_Details!$L$5:$L$24, MATCH($A5554, Input_Details!$J$5:$J$24, 0), 0)","v":{"$error":"#N/A"}},"Thu","19:30:00",0,0,0,0,0,0,0,0,0,0,0,0,0,0,0,0,0,0,0,0,0,0,0,0,0,0,0,0,0,0,0,0,"-","-","-","-",null,"Thu","19:30:00",13,57,0,0,0,0,0,0,0,0,0,0,0,0,0,0,0,0,0,0,0,0,0,0,0,0,0,0,0,0,0,0,"-","-",0,0,13,57,0,0,0,70,0,0,0,0,0,0,13,57,0,0,0,70]
[{"$error":"#N/A"},{"$f":"OFFSET(Input_Details!$Q$4,MATCH($A5567, Input_Details!$J$5:$J$24, 0), 3)","v":{"$error":"#N/A"}},{"$f":"INDEX(Input_Details!$H$5:$H$24, MATCH($A5567, Input_Details!$J$5:$J$24, 0), 0)","v":{"$error":"#N/A"}},{"$f":"INDEX(Input_Details!$I$5:$I$24, MATCH($A5567, Input_Details!$J$5:$J$24, 0), 0)","v":{"$error":"#N/A"}},{"$f":"INDEX(Input_Details!$K$5:$K$24, MATCH($A5567, Input_Details!$J$5:$J$24, 0), 0)","v":{"$error":"#N/A"}},"Thu","22:45:00",3,41,0,0,0,0,0,0,0,0,0,0,0,0,0,0,0,0,0,0,0,0,0,0,0,0,0,0,0,0,0,0,"-","-","-","-",{"$f":"INDEX(Input_Details!$L$5:$L$24, MATCH($A5567, Input_Details!$J$5:$J$24, 0), 0)","v":{"$error":"#N/A"}},"Thu","22:45:00",0,0,0,0,0,0,0,0,0,0,0,0,0,0,0,0,0,0,0,0,0,0,0,0,0,0,0,0,0,0,0,0,"-","-","-","-",null,"Thu","22:45:00",3,41,0,0,0,0,0,0,0,0,0,0,0,0,0,0,0,0,0,0,0,0,0,0,0,0,0,0,0,0,0,0,"-","-",0,0,3,41,0,0,0,44,0,0,0,0,0,0,3,41,0,0,0,44]
[{"$error":"#N/A"},{"$f":"OFFSET(Input_Details!$Q$4,MATCH($A5591, Input_Details!$J$5:$J$24, 0), 4)","v":{"$error":"#N/A"}},{"$f":"INDEX(Input_Details!$H$5:$H$24, MATCH($A5591, Input_Details!$J$5:$J$24, 0), 0)","v":{"$error":"#N/A"}},{"$f":"INDEX(Input_Details!$I$5:$I$24, MATCH($A5591, Input_Details!$J$5:$J$24, 0), 0)","v":{"$error":"#N/A"}},{"$f":"INDEX(Input_Details!$K$5:$K$24, MATCH($A5591, Input_Details!$J$5:$J$24, 0), 0)","v":{"$error":"#N/A"}},"Fri","04:45:00",0,3,0,0,0,0,0,0,0,0,0,0,0,0,0,0,0,0,0,0,0,0,0,0,0,0,0,0,0,0,0,0,"-","-","-","-",{"$f":"INDEX(Input_Details!$L$5:$L$24, MATCH($A5591, Input_Details!$J$5:$J$24, 0), 0)","v":{"$error":"#N/A"}},"Fri","04:45:00",0,0,0,0,0,0,0,0,0,0,0,0,0,0,0,0,0,0,0,0,0,0,0,0,0,0,0,0,0,0,0,0,"-","-","-","-",null,"Fri","04:45:00",0,3,0,0,0,0,0,0,0,0,0,0,0,0,0,0,0,0,0,0,0,0,0,0,0,0,0,0,0,0,0,0,"-","-",0,0,0,3,0,0,0,3,0,0,0,0,0,0,0,3,0,0,0,3]
[{"$error":"#N/A"},{"$f":"OFFSET(Input_Details!$Q$4,MATCH($A5630, Input_Details!$J$5:$J$24, 0), 4)","v":{"$error":"#N/A"}},{"$f":"INDEX(Input_Details!$H$5:$H$24, MATCH($A5630, Input_Details!$J$5:$J$24, 0), 0)","v":{"$error":"#N/A"}},{"$f":"INDEX(Input_Details!$I$5:$I$24, MATCH($A5630, Input_Details!$J$5:$J$24, 0), 0)","v":{"$error":"#N/A"}},{"$f":"INDEX(Input_Details!$K$5:$K$24, MATCH($A5630, Input_Details!$J$5:$J$24, 0), 0)","v":{"$error":"#N/A"}},"Fri","14:30:00",11,40,0,0,0,0,0,0,0,0,0,0,0,0,0,0,0,0,0,0,0,0,0,0,0,0,0,0,0,0,0,0,"-","-","-","-",{"$f":"INDEX(Input_Details!$L$5:$L$24, MATCH($A5630, Input_Details!$J$5:$J$24, 0), 0)","v":{"$error":"#N/A"}},"Fri","14:30:00",0,0,0,0,0,0,0,0,0,0,0,0,0,0,0,0,0,0,0,0,0,0,0,0,0,0,0,0,0,0,0,0,"-","-","-","-",null,"Fri","14:30:00",11,40,0,0,0,0,0,0,0,0,0,0,0,0,0,0,0,0,0,0,0,0,0,0,0,0,0,0,0,0,0,0,"-","-",0,0,11,40,0,0,0,51,0,0,0,0,0,0,11,40,0,0,0,51]
[{"$error":"#N/A"},{"$f":"OFFSET(Input_Details!$Q$4,MATCH($A5658, Input_Details!$J$5:$J$24, 0), 4)","v":{"$error":"#N/A"}},{"$f":"INDEX(Input_Details!$H$5:$H$24, MATCH($A5658, Input_Details!$J$5:$J$24, 0), 0)","v":{"$error":"#N/A"}},{"$f":"INDEX(Input_Details!$I$5:$I$24, MATCH($A5658, Input_Details!$J$5:$J$24, 0), 0)","v":{"$error":"#N/A"}},{"$f":"INDEX(Input_Details!$K$5:$K$24, MATCH($A5658, Input_Details!$J$5:$J$24, 0), 0)","v":{"$error":"#N/A"}},"Fri","21:30:00",5,40,0,0,0,0,0,0,0,0,0,0,0,0,0,0,0,0,0,0,0,0,0,0,0,0,0,0,0,0,0,0,"-","-","-","-",{"$f":"INDEX(Input_Details!$L$5:$L$24, MATCH($A5658, Input_Details!$J$5:$J$24, 0), 0)","v":{"$error":"#N/A"}},"Fri","21:30:00",0,0,0,0,0,0,0,0,0,0,0,0,0,0,0,0,0,0,0,0,0,0,0,0,0,0,0,0,0,0,0,0,"-","-","-","-",null,"Fri","21:30:00",5,40,0,0,0,0,0,0,0,0,0,0,0,0,0,0,0,0,0,0,0,0,0,0,0,0,0,0,0,0,0,0,"-","-",0,0,5,40,0,0,0,45,0,0,0,0,0,0,5,40,0,0,0,45]
[{"$error":"#N/A"},{"$f":"OFFSET(Input_Details!$Q$4,MATCH($A5687, Input_Details!$J$5:$J$24, 0), 5)","v":{"$error":"#N/A"}},{"$f":"INDEX(Input_Details!$H$5:$H$24, MATCH($A5687, Input_Details!$J$5:$J$24, 0), 0)","v":{"$error":"#N/A"}},{"$f":"INDEX(Input_Details!$I$5:$I$24, MATCH($A5687, Input_Details!$J$5:$J$24, 0), 0)","v":{"$error":"#N/A"}},{"$f":"INDEX(Input_Details!$K$5:$K$24, MATCH($A5687, Input_Details!$J$5:$J$24, 0), 0)","v":{"$error":"#N/A"}},"Sat","04:45:00",2,10,0,0,0,0,0,0,0,0,0,0,0,0,0,0,0,0,0,0,0,0,0,0,0,0,0,0,0,0,0,0,"-","-","-","-",{"$f":"INDEX(Input_Details!$L$5:$L$24, MATCH($A5687, Input_Details!$J$5:$J$24, 0), 0)","v":{"$error":"#N/A"}},"Sat","04:45:00",0,0,0,0,0,0,0,0,0,0,0,0,0,0,0,0,0,0,0,0,0,0,0,0,0,0,0,0,0,0,0,0,"-","-","-","-",null,"Sat","04:45:00",2,10,0,0,0,0,0,0,0,0,0,0,0,0,0,0,0,0,0,0,0,0,0,0,0,0,0,0,0,0,0,0,"-","-",0,0,2,10,0,0,0,12,0,0,0,0,0,0,2,10,0,0,0,12]
[{"$error":"#N/A"},{"$f":"OFFSET(Input_Details!$Q$4,MATCH($A5713, Input_Details!$J$5:$J$24, 0), 5)","v":{"$error":"#N/A"}},{"$f":"INDEX(Input_Details!$H$5:$H$24, MATCH($A5713, Input_Details!$J$5:$J$24, 0), 0)","v":{"$error":"#N/A"}},{"$f":"INDEX(Input_Details!$I$5:$I$24, MATCH($A5713, Input_Details!$J$5:$J$24, 0), 0)","v":{"$error":"#N/A"}},{"$f":"INDEX(Input_Details!$K$5:$K$24, MATCH($A5713, Input_Details!$J$5:$J$24, 0), 0)","v":{"$error":"#N/A"}},"Sat","11:15:00",1,43,0,0,0,0,0,0,0,0,0,0,0,0,0,0,0,0,0,0,0,0,0,0,0,0,0,0,0,0,0,0,"-","-","-","-",{"$f":"INDEX(Input_Details!$L$5:$L$24, MATCH($A5713, Input_Details!$J$5:$J$24, 0), 0)","v":{"$error":"#N/A"}},"Sat","11:15:00",0,0,0,0,0,0,0,0,0,0,0,0,0,0,0,0,0,0,0,0,0,0,0,0,0,0,0,0,0,0,0,0,"-","-","-","-",null,"Sat","11:15:00",1,43,0,0,0,0,0,0,0,0,0,0,0,0,0,0,0,0,0,0,0,0,0,0,0,0,0,0,0,0,0,0,"-","-",0,0,1,43,0,0,0,44,0,0,0,0,0,0,1,43,0,0,0,44]
[{"$error":"#N/A"},{"$f":"OFFSET(Input_Details!$Q$4,MATCH($A5724, Input_Details!$J$5:$J$24, 0), 5)","v":{"$error":"#N/A"}},{"$f":"INDEX(Input_Details!$H$5:$H$24, MATCH($A5724, Input_Details!$J$5:$J$24, 0), 0)","v":{"$error":"#N/A"}},{"$f":"INDEX(Input_Details!$I$5:$I$24, MATCH($A5724, Input_Details!$J$5:$J$24, 0), 0)","v":{"$error":"#N/A"}},{"$f":"INDEX(Input_Details!$K$5:$K$24, MATCH($A5724, Input_Details!$J$5:$J$24, 0), 0)","v":{"$error":"#N/A"}},"Sat","14:00:00",5,61,0,0,0,0,0,0,0,0,0,0,0,0,0,0,0,0,0,0,0,0,0,0,0,0,0,0,0,0,0,0,"-","-","-","-",{"$f":"INDEX(Input_Details!$L$5:$L$24, MATCH($A5724, Input_Details!$J$5:$J$24, 0), 0)","v":{"$error":"#N/A"}},"Sat","14:00:00",0,0,0,0,0,0,0,0,0,0,0,0,0,0,0,0,0,0,0,0,0,0,0,0,0,0,0,0,0,0,0,0,"-","-","-","-",null,"Sat","14:00:00",5,61,0,0,0,0,0,0,0,0,0,0,0,0,0,0,0,0,0,0,0,0,0,0,0,0,0,0,0,0,0,0,"-","-",0,0,5,61,0,0,0,66,0,0,0,0,0,0,5,61,0,0,0,66]
[{"$error":"#N/A"},{"$f":"OFFSET(Input_Details!$Q$4,MATCH($A5749, Input_Details!$J$5:$J$24, 0), 5)","v":{"$error":"#N/A"}},{"$f":"INDEX(Input_Details!$H$5:$H$24, MATCH($A5749, Input_Details!$J$5:$J$24, 0), 0)","v":{"$error":"#N/A"}},{"$f":"INDEX(Input_Details!$I$5:$I$24, MATCH($A5749, Input_Details!$J$5:$J$24, 0), 0)","v":{"$error":"#N/A"}},{"$f":"INDEX(Input_Details!$K$5:$K$24, MATCH($A5749, Input_Details!$J$5:$J$24, 0), 0)","v":{"$error":"#N/A"}},"Sat","20:15:00",5,50,0,0,0,0,0,0,0,0,0,0,0,0,0,0,0,0,0,0,0,0,0,0,0,0,0,0,0,0,0,0,"-","-","-","-",{"$f":"INDEX(Input_Details!$L$5:$L$24, MATCH($A5749, Input_Details!$J$5:$J$24, 0), 0)","v":{"$error":"#N/A"}},"Sat","20:15:00",0,0,0,0,0,0,0,0,0,0,0,0,0,0,0,0,0,0,0,0,0,0,0,0,0,0,0,0,0,0,0,0,"-","-","-","-",null,"Sat","20:15:00",5,50,0,0,0,0,0,0,0,0,0,0,0,0,0,0,0,0,0,0,0,0,0,0,0,0,0,0,0,0,0,0,"-","-",0,0,5,50,0,0,0,55,0,0,0,0,0,0,5,50,0,0,0,55]
[{"$error":"#N/A"},{"$f":"OFFSET(Input_Details!$Q$4,MATCH($A5791, Input_Details!$J$5:$J$24, 0), 6)","v":{"$error":"#N/A"}},{"$f":"INDEX(Input_Details!$H$5:$H$24, MATCH($A5791, Input_Details!$J$5:$J$24, 0), 0)","v":{"$error":"#N/A"}},{"$f":"INDEX(Input_Details!$I$5:$I$24, MATCH($A5791, Input_Details!$J$5:$J$24, 0), 0)","v":{"$error":"#N/A"}},{"$f":"INDEX(Input_Details!$K$5:$K$24, MATCH($A5791, Input_Details!$J$5:$J$24, 0), 0)","v":{"$error":"#N/A"}},"Sun","06:45:00",1,17,0,0,0,0,0,0,0,0,0,0,0,0,0,0,0,0,0,0,0,0,0,0,0,0,0,0,0,0,0,0,"-","-","-","-",{"$f":"INDEX(Input_Details!$L$5:$L$24, MATCH($A5791, Input_Details!$J$5:$J$24, 0), 0)","v":{"$error":"#N/A"}},"Sun","06:45:00",0,0,0,0,0,0,0,0,0,0,0,0,0,0,0,0,0,0,0,0,0,0,0,0,0,0,0,0,0,0,0,0,"-","-","-","-",null,"Sun","06:45:00",1,17,0,0,0,0,0,0,0,0,0,0,0,0,0,0,0,0,0,0,0,0,0,0,0,0,0,0,0,0,0,0,"-","-",0,0,1,17,0,0,0,18,0,0,0,0,0,0,1,17,0,0,0,18]
[{"$error":"#N/A"},{"$f":"OFFSET(Input_Details!$Q$4,MATCH($A5820, Input_Details!$J$5:$J$24, 0), 6)","v":{"$error":"#N/A"}},{"$f":"INDEX(Input_Details!$H$5:$H$24, MATCH($A5820, Input_Details!$J$5:$J$24, 0), 0)","v":{"$error":"#N/A"}},{"$f":"INDEX(Input_Details!$I$5:$I$24, MATCH($A5820, Input_Details!$J$5:$J$24, 0), 0)","v":{"$error":"#N/A"}},{"$f":"INDEX(Input_Details!$K$5:$K$24, MATCH($A5820, Input_Details!$J$5:$J$24, 0), 0)","v":{"$error":"#N/A"}},"Sun","14:00:00",3,33,0,0,0,0,0,0,0,0,0,0,0,0,0,0,0,0,0,0,0,0,0,0,0,0,0,0,0,0,0,0,"-","-","-","-",{"$f":"INDEX(Input_Details!$L$5:$L$24, MATCH($A5820, Input_Details!$J$5:$J$24, 0), 0)","v":{"$error":"#N/A"}},"Sun","14:00:00",0,0,0,0,0,0,0,0,0,0,0,0,0,0,0,0,0,0,0,0,0,0,0,0,0,0,0,0,0,0,0,0,"-","-","-","-",null,"Sun","14:00:00",3,33,0,0,0,0,0,0,0,0,0,0,0,0,0,0,0,0,0,0,0,0,0,0,0,0,0,0,0,0,0,0,"-","-",0,0,3,33,0,0,0,36,0,0,0,0,0,0,3,33,0,0,0,36]
[{"$error":"#N/A"},{"$f":"OFFSET(Input_Details!$Q$4,MATCH($A5832, Input_Details!$J$5:$J$24, 0), 6)","v":{"$error":"#N/A"}},{"$f":"INDEX(Input_Details!$H$5:$H$24, MATCH($A5832, Input_Details!$J$5:$J$24, 0), 0)","v":{"$error":"#N/A"}},{"$f":"INDEX(Input_Details!$I$5:$I$24, MATCH($A5832, Input_Details!$J$5:$J$24, 0), 0)","v":{"$error":"#N/A"}},{"$f":"INDEX(Input_Details!$K$5:$K$24, MATCH($A5832, Input_Details!$J$5:$J$24, 0), 0)","v":{"$error":"#N/A"}},"Sun","17:00:00",1,44,0,0,0,0,0,0,0,0,0,0,0,0,0,0,0,0,0,0,0,0,0,0,0,0,0,0,0,0,0,0,"-","-","-","-",{"$f":"INDEX(Input_Details!$L$5:$L$24, MATCH($A5832, Input_Details!$J$5:$J$24, 0), 0)","v":{"$error":"#N/A"}},"Sun","17:00:00",0,0,0,0,0,0,0,0,0,0,0,0,0,0,0,0,0,0,0,0,0,0,0,0,0,0,0,0,0,0,0,0,"-","-","-","-",null,"Sun","17:00:00",1,44,0,0,0,0,0,0,0,0,0,0,0,0,0,0,0,0,0,0,0,0,0,0,0,0,0,0,0,0,0,0,"-","-",0,0,1,44,0,0,0,45,0,0,0,0,0,0,1,44,0,0,0,45]
[{"$error":"#N/A"},"Weekday Average",{"$f":"INDEX(Input_Details!$H$5:$H$24, MATCH($A5861, Input_Details!$J$5:$J$24, 0), 0)","v":{"$error":"#N/A"}},{"$f":"INDEX(Input_Details!$I$5:$I$24, MATCH($A5861, Input_Details!$J$5:$J$24, 0), 0)","v":{"$error":"#N/A"}},{"$f":"INDEX(Input_Details!$K$5:$K$24, MATCH($A5861, Input_Details!$J$5:$J$24, 0), 0)","v":{"$error":"#N/A"}},"WD Ave","00:15:00",{"$f":"IF(AND(H5189=\"\",H5285=\"\",H5381=\"\",H5477=\"\",H5573=\"\"), \"-\", IF(H5189+H5285+H5381+H5477+H5573=0,0,ROUND(AVERAGE(H5189,H5285,H5381,H5477,H5573), 0)))","v":2},18,0,0,0,0,0,0,0,0,0,0,0,0,0,0,0,0,0,0,0,0,0,0,0,0,0,0,0,0,0,0,{"$f":"IF(SUM(H5861:S5861)=0,\"-\",AVERAGEIF(G5188:G5667,$G5861,AN5188:AN5667))","v":{"$error":"#DIV/0!"}},{"$f":"IFERROR(IF(SUM(H5861:S5861)=0,\"-\",AVERAGEIF(G5188:G5667,G5861,AO5188:AO5667)), \"-\")","v":"-"},{"$f":"IF(SUM(H5861:S5861)=0,\"-\",MIN(AP5189,AP5285,AP5381,AP5477,AP5573))","v":0},{"$f":"IF(SUM(H5861:S5861)=0,\"-\",MAX(AQ5189,AQ5285,AQ5381,AQ5477,AQ5573))","v":0},{"$f":"INDEX(Input_Details!$L$5:$L$24, MATCH($A5861, Input_Details!$J$5:$J$24, 0), 0)","v":{"$error":"#N/A"}},"WD Ave","00:15:00",{"$f":"IF(AND(AU5189=\"\",AU5285=\"\",AU5381=\"\",AU5477=\"\",AU5573=\"\"), \"-\", IF(AU5189+AU5285+AU5381+AU5477+AU5573=0,0,ROUND(AVERAGE(AU5189,AU5285,AU5381,AU5477,AU5573), 0)))","v":0},0,0,0,0,0,0,0,0,0,0,0,0,0,0,0,0,0,0,0,0,0,0,0,0,0,0,0,0,0,0,0,{"$f":"IF(SUM(AU5861:BF5861)=0,\"-\",AVERAGEIF(AT5188:AT5667,$G5861,CA5188:CA5667))","v":"-"},{"$f":"IFERROR(IF(SUM(AU5861:BF5861)=0,\"-\",AVERAGEIF(AT5188:AT5667,AT5861,CB5188:CB5667)), \"-\")","v":"-"},{"$f":"IF(SUM(AU5861:BF5861)=0,\"-\",MIN(CC5189,CC5285,CC5381,CC5477,CC5573))","v":"-"},{"$f":"IF(SUM(AU5861:BF5861)=0,\"-\",MAX(CD5189,CD5285,CD5381,CD5477,CD5573))","v":"-"},null,"WD Ave","00:15:00",{"$f":"IF(AND(CH5189=\"-\",CH5285=\"-\",CH5381=\"-\",CH5477=\"-\",CH5573=\"-\"), \"-\", ROUND(AVERAGE(CH5189,CH5285,CH5381,CH5477,CH5573), 0))","v":2},18,0,0,0,0,0,0,0,0,0,0,{"$f":"IF(AND(CT5189=\"-\",CT5285=\"-\",CT5381=\"-\",CT5477=\"-\",CT5573=\"-\"), \"-\", IF(SUM($CH5861:$CS5861)=0, 0, ROUND(AVERAGE(CT5189,CT5285,CT5381,CT5477,CT5573), 0)))","v":0},0,0,0,0,0,0,0,0,0,0,0,0,0,0,0,0,0,0,0,{"$f":"IF(OR(DW5861=\"-\", EC5861=\"-\", EI5861=\"-\", EI5861=0),\"-\",IF(OR(DW5861=\"-\", DW5861=0),CA5861,IF(EC5861=0,AN5861,SUM((AN5861*DW5861),(CA5861*EC5861))/EI5861)))","v":{"$error":"#DIV/0!"}},"-",0,0,2,18,0,0,0,{"$f":"IF(DR5861=\"-\", \"-\", SUM(H5861:S5861))","v":20},0,0,0,0,{"$f":"IF(DX5861=\"-\", \"-\", SUM(AZ5861:BF5861))","v":0},0,2,18,0,0,0,20]
[{"$error":"#N/A"},"Weekday Average",{"$f":"INDEX(Input_Details!$H$5:$H$24, MATCH($A5895, Input_Details!$J$5:$J$24, 0), 0)","v":{"$error":"#N/A"}},{"$f":"INDEX(Input_Details!$I$5:$I$24, MATCH($A5895, Input_Details!$J$5:$J$24, 0), 0)","v":{"$error":"#N/A"}},{"$f":"INDEX(Input_Details!$K$5:$K$24, MATCH($A5895, Input_Details!$J$5:$J$24, 0), 0)","v":{"$error":"#N/A"}},"WD Ave","08:45:00",{"$f":"IF(AND(H5223=\"\",H5319=\"\",H5415=\"\",H5511=\"\",H5607=\"\"), \"-\", IF(H5223+H5319+H5415+H5511+H5607=0,0,ROUND(AVERAGE(H5223,H5319,H5415,H5511,H5607), 0)))","v":3},33,0,0,0,0,0,0,0,0,0,0,0,0,0,0,0,0,0,0,0,0,0,0,0,0,0,0,0,0,0,0,{"$f":"IF(SUM(H5895:S5895)=0,\"-\",AVERAGEIF(G5188:G5667,$G5895,AN5188:AN5667))","v":{"$error":"#DIV/0!"}},{"$f":"IFERROR(IF(SUM(H5895:S5895)=0,\"-\",AVERAGEIF(G5188:G5667,G5895,AO5188:AO5667)), \"-\")","v":"-"},0,0,{"$f":"INDEX(Input_Details!$L$5:$L$24, MATCH($A5895, Input_Details!$J$5:$J$24, 0), 0)","v":{"$error":"#N/A"}},"WD Ave","08:45:00",{"$f":"IF(AND(AU5223=\"\",AU5319=\"\",AU5415=\"\",AU5511=\"\",AU5607=\"\"), \"-\", IF(AU5223+AU5319+AU5415+AU5511+AU5607=0,0,ROUND(AVERAGE(AU5223,AU5319,AU5415,AU5511,AU5607), 0)))","v":0},0,0,0,0,0,0,0,0,0,0,0,0,0,0,0,0,0,0,0,0,0,0,0,0,0,0,0,0,0,0,0,{"$f":"IF(SUM(AU5895:BF5895)=0,\"-\",AVERAGEIF(AT5188:AT5667,$G5895,CA5188:CA5667))","v":"-"},{"$f":"IFERROR(IF(SUM(AU5895:BF5895)=0,\"-\",AVERAGEIF(AT5188:AT5667,AT5895,CB5188:CB5667)), \"-\")","v":"-"},"-","-",null,"WD Ave","08:45:00",{"$f":"IF(AND(CH5223=\"-\",CH5319=\"-\",CH5415=\"-\",CH5511=\"-\",CH5607=\"-\"), \"-\", ROUND(AVERAGE(CH5223,CH5319,CH5415,CH5511,CH5607), 0))","v":3},33,0,0,0,0,0,0,0,0,0,0,{"$f":"IF(AND(CT5223=\"-\",CT5319=\"-\",CT5415=\"-\",CT5511=\"-\",CT5607=\"-\"), \"-\", IF(SUM($CH5895:$CS5895)=0, 0, ROUND(AVERAGE(CT5223,CT5319,CT5415,CT5511,CT5607), 0)))","v":0},0,0,0,0,0,0,0,0,0,0,0,0,0,0,0,0,0,0,0,{"$error":"#DIV/0!"},"-",0,0,3,33,0,0,0,36,0,0,0,0,0,0,3,33,0,0,0,36]
[{"$error":"#N/A"},"Weekday Average",{"$f":"INDEX(Input_Details!$H$5:$H$24, MATCH($A5924, Input_Details!$J$5:$J$24, 0), 0)","v":{"$error":"#N/A"}},{"$f":"INDEX(Input_Details!$I$5:$I$24, MATCH($A5924, Input_Details!$J$5:$J$24, 0), 0)","v":{"$error":"#N/A"}},{"$f":"INDEX(Input_Details!$K$5:$K$24, MATCH($A5924, Input_Details!$J$5:$J$24, 0), 0)","v":{"$error":"#N/A"}},"WD Ave","16:00:00",{"$f":"IF(AND(H5252=\"\",H5348=\"\",H5444=\"\",H5540=\"\",H5636=\"\"), \"-\", IF(H5252+H5348+H5444+H5540+H5636=0,0,ROUND(AVERAGE(H5252,H5348,H5444,H5540,H5636), 0)))","v":14},54,0,0,0,0,0,0,0,0,0,0,{"$f":"IF(AND(T5252=\"\",T5348=\"\",T5444=\"\",T5540=\"\",T5636=\"\"), \"-\", IF(SUM(H5924:S5924)=0, 0, IF(T5252+T5348+T5444+T5540+T5636=0,0,ROUNDDOWN(AVERAGE(T5252,T5348,T5444,T5540,T5636), 0))))","v":0},{"$f":"IF(AND(U5252=\"\",U5348=\"\",U5444=\"\",U5540=\"\",U5636=\"\"), \"-\", IF(SUM(H5924:S5924)=0, 0, IF(U5252+U5348+U5444+U5540+U5636=0,0,ROUNDDOWN(AVERAGE(U5252,U5348,U5444,U5540,U5636), 0))))","v":0},{"$f":"IF(AND(V5252=\"\",V5348=\"\",V5444=\"\",V5540=\"\",V5636=\"\"), \"-\", IF(SUM(H5924:S5924)=0, 0, IF(V5252+V5348+V5444+V5540+V5636=0,0,ROUNDDOWN(AVERAGE(V5252,V5348,V5444,V5540,V5636), 0))))","v":0},{"$f":"IF(AND(W5252=\"\",W5348=\"\",W5444=\"\",W5540=\"\",W5636=\"\"), \"-\", IF(SUM(H5924:S5924)=0, 0, IF(W5252+W5348+W5444+W5540+W5636=0,0,ROUNDDOWN(AVERAGE(W5252,W5348,W5444,W5540,W5636), 0))))","v":0},{"$f":"IF(AND(X5252=\"\",X5348=\"\",X5444=\"\",X5540=\"\",X5636=\"\"), \"-\", IF(SUM(H5924:S5924)=0, 0, IF(X5252+X5348+X5444+X5540+X5636=0,0,ROUNDDOWN(AVERAGE(X5252,X5348,X5444,X5540,X5636), 0))))","v":0},{"$f":"IF(AND(Y5252=\"\",Y5348=\"\",Y5444=\"\",Y5540=\"\",Y5636=\"\"), \"-\", IF(SUM(H5924:S5924)=0, 0, IF(Y5252+Y5348+Y5444+Y5540+Y5636=0,0,ROUNDDOWN(AVERAGE(Y5252,Y5348,Y5444,Y5540,Y5636), 0))))","v":0},{"$f":"IF(AND(Z5252=\"\",Z5348=\"\",Z5444=\"\",Z5540=\"\",Z5636=\"\"), \"-\", IF(SUM(H5924:S5924)=0, 0, IF(Z5252+Z5348+Z5444+Z5540+Z5636=0,0,ROUNDDOWN(AVERAGE(Z5252,Z5348,Z5444,Z5540,Z5636), 0))))","v":0},{"$f":"IF(AND(AA5252=\"\",AA5348=\"\",AA5444=\"\",AA5540=\"\",AA5636=\"\"), \"-\", IF(SUM(H5924:S5924)=0, 0, IF(AA5252+AA5348+AA5444+AA5540+AA5636=0,0,ROUNDDOWN(AVERAGE(AA5252,AA5348,AA5444,AA5540,AA5636), 0))))","v":0},{"$f":"IF(AND(AB5252=\"\",AB5348=\"\",AB5444=\"\",AB5540=\"\",AB5636=\"\"), \"-\", IF(SUM(H5924:S5924)=0, 0, IF(AB5252+AB5348+AB5444+AB5540+AB5636=0,0,ROUNDDOWN(AVERAGE(AB5252,AB5348,AB5444,AB5540,AB5636), 0))))","v":0},{"$f":"IF(AND(AC5252=\"\",AC5348=\"\",AC5444=\"\",AC5540=\"\",AC5636=\"\"), \"-\", IF(SUM(H5924:S5924)=0, 0, IF(AC5252+AC5348+AC5444+AC5540+AC5636=0,0,ROUNDDOWN(AVERAGE(AC5252,AC5348,AC5444,AC5540,AC5636), 0))))","v":0},{"$f":"IF(AND(AD5252=\"\",AD5348=\"\",AD5444=\"\",AD5540=\"\",AD5636=\"\"), \"-\", IF(SUM(H5924:S5924)=0, 0, IF(AD5252+AD5348+AD5444+AD5540+AD5636=0,0,ROUNDDOWN(AVERAGE(AD5252,AD5348,AD5444,AD5540,AD5636), 0))))","v":0},{"$f":"IF(AND(AE5252=\"\",AE5348=\"\",AE5444=\"\",AE5540=\"\",AE5636=\"\"), \"-\", IF(SUM(H5924:S5924)=0, 0, IF(AE5252+AE5348+AE5444+AE5540+AE5636=0,0,ROUNDDOWN(AVERAGE(AE5252,AE5348,AE5444,AE5540,AE5636), 0))))","v":0},{"$f":"IF(AND(AF5252=\"\",AF5348=\"\",AF5444=\"\",AF5540=\"\",AF5636=\"\"), \"-\", IF(SUM(H5924:S5924)=0, 0, IF(AF5252+AF5348+AF5444+AF5540+AF5636=0,0,ROUNDDOWN(AVERAGE(AF5252,AF5348,AF5444,AF5540,AF5636), 0))))","v":0},{"$f":"IF(AND(AG5252=\"\",AG5348=\"\",AG5444=\"\",AG5540=\"\",AG5636=\"\"), \"-\", IF(SUM(H5924:S5924)=0, 0, IF(AG5252+AG5348+AG5444+AG5540+AG5636=0,0,ROUNDDOWN(AVERAGE(AG5252,AG5348,AG5444,AG5540,AG5636), 0))))","v":0},{"$f":"IF(AND(AH5252=\"\",AH5348=\"\",AH5444=\"\",AH5540=\"\",AH5636=\"\"), \"-\", IF(SUM(H5924:S5924)=0, 0, IF(AH5252+AH5348+AH5444+AH5540+AH5636=0,0,ROUNDDOWN(AVERAGE(AH5252,AH5348,AH5444,AH5540,AH5636), 0))))","v":0},{"$f":"IF(AND(AI5252=\"\",AI5348=\"\",AI5444=\"\",AI5540=\"\",AI5636=\"\"), \"-\", IF(SUM(H5924:S5924)=0, 0, IF(AI5252+AI5348+AI5444+AI5540+AI5636=0,0,ROUNDDOWN(AVERAGE(AI5252,AI5348,AI5444,AI5540,AI5636), 0))))","v":0},{"$f":"IF(AND(AJ5252=\"\",AJ5348=\"\",AJ5444=\"\",AJ5540=\"\",AJ5636=\"\"), \"-\", IF(SUM(H5924:S5924)=0, 0, IF(AJ5252+AJ5348+AJ5444+AJ5540+AJ5636=0,0,ROUNDDOWN(AVERAGE(AJ5252,AJ5348,AJ5444,AJ5540,AJ5636), 0))))","v":0},{"$f":"IF(AND(AK5252=\"\",AK5348=\"\",AK5444=\"\",AK5540=\"\",AK5636=\"\"), \"-\", IF(SUM(H5924:S5924)=0, 0, IF(AK5252+AK5348+AK5444+AK5540+AK5636=0,0,ROUNDDOWN(AVERAGE(AK5252,AK5348,AK5444,AK5540,AK5636), 0))))","v":0},{"$f":"IF(AND(AL5252=\"\",AL5348=\"\",AL5444=\"\",AL5540=\"\",AL5636=\"\"), \"-\", IF(SUM(H5924:S5924)=0, 0, IF(AL5252+AL5348+AL5444+AL5540+AL5636=0,0,ROUNDDOWN(AVERAGE(AL5252,AL5348,AL5444,AL5540,AL5636), 0))))","v":0},{"$f":"IF(AND(AM5252=\"\",AM5348=\"\",AM5444=\"\",AM5540=\"\",AM5636=\"\"), \"-\", IF(SUM(H5924:S5924)=0, 0, IF(AM5252+AM5348+AM5444+AM5540+AM5636=0,0,ROUNDDOWN(AVERAGE(AM5252,AM5348,AM5444,AM5540,AM5636), 0))))","v":0},{"$f":"IF(SUM(H5924:S5924)=0,\"-\",AVERAGEIF(G5188:G5667,$G5924,AN5188:AN5667))","v":{"$error":"#DIV/0!"}},{"$f":"IFERROR(IF(SUM(H5924:S5924)=0,\"-\",AVERAGEIF(G5188:G5667,G5924,AO5188:AO5667)), \"-\")","v":"-"},0,0,{"$f":"INDEX(Input_Details!$L$5:$L$24, MATCH($A5924, Input_Details!$J$5:$J$24, 0), 0)","v":{"$error":"#N/A"}},"WD Ave","16:00:00",{"$f":"IF(AND(AU5252=\"\",AU5348=\"\",AU5444=\"\",AU5540=\"\",AU5636=\"\"), \"-\", IF(AU5252+AU5348+AU5444+AU5540+AU5636=0,0,ROUND(AVERAGE(AU5252,AU5348,AU5444,AU5540,AU5636), 0)))","v":0},0,0,0,0,0,0,0,0,0,0,0,{"$f":"IF(AND(BG5252=\"\",BG5348=\"\",BG5444=\"\",BG5540=\"\",BG5636=\"\"), \"-\", IF(SUM(AU5924:BF5924)=0, 0, IF(BG5252+BG5348+BG5444+BG5540+BG5636=0,0,ROUNDDOWN(AVERAGE(BG5252,BG5348,BG5444,BG5540,BG5636), 0))))","v":0},{"$f":"IF(AND(BH5252=\"\",BH5348=\"\",BH5444=\"\",BH5540=\"\",BH5636=\"\"), \"-\", IF(SUM(AU5924:BF5924)=0, 0, IF(BH5252+BH5348+BH5444+BH5540+BH5636=0,0,ROUNDDOWN(AVERAGE(BH5252,BH5348,BH5444,BH5540,BH5636), 0))))","v":0},{"$f":"IF(AND(BI5252=\"\",BI5348=\"\",BI5444=\"\",BI5540=\"\",BI5636=\"\"), \"-\", IF(SUM(AU5924:BF5924)=0, 0, IF(BI5252+BI5348+BI5444+BI5540+BI5636=0,0,ROUNDDOWN(AVERAGE(BI5252,BI5348,BI5444,BI5540,BI5636), 0))))","v":0},{"$f":"IF(AND(BJ5252=\"\",BJ5348=\"\",BJ5444=\"\",BJ5540=\"\",BJ5636=\"\"), \"-\", IF(SUM(AU5924:BF5924)=0, 0, IF(BJ5252+BJ5348+BJ5444+BJ5540+BJ5636=0,0,ROUNDDOWN(AVERAGE(BJ5252,BJ5348,BJ5444,BJ5540,BJ5636), 0))))","v":0},{"$f":"IF(AND(BK5252=\"\",BK5348=\"\",BK5444=\"\",BK5540=\"\",BK5636=\"\"), \"-\", IF(SUM(AU5924:BF5924)=0, 0, IF(BK5252+BK5348+BK5444+BK5540+BK5636=0,0,ROUNDDOWN(AVERAGE(BK5252,BK5348,BK5444,BK5540,BK5636), 0))))","v":0},{"$f":"IF(AND(BL5252=\"\",BL5348=\"\",BL5444=\"\",BL5540=\"\",BL5636=\"\"), \"-\", IF(SUM(AU5924:BF5924)=0, 0, IF(BL5252+BL5348+BL5444+BL5540+BL5636=0,0,ROUNDDOWN(AVERAGE(BL5252,BL5348,BL5444,BL5540,BL5636), 0))))","v":0},{"$f":"IF(AND(BM5252=\"\",BM5348=\"\",BM5444=\"\",BM5540=\"\",BM5636=\"\"), \"-\", IF(SUM(AU5924:BF5924)=0, 0, IF(BM5252+BM5348+BM5444+BM5540+BM5636=0,0,ROUNDDOWN(AVERAGE(BM5252,BM5348,BM5444,BM5540,BM5636), 0))))","v":0},{"$f":"IF(AND(BN5252=\"\",BN5348=\"\",BN5444=\"\",BN5540=\"\",BN5636=\"\"), \"-\", IF(SUM(AU5924:BF5924)=0, 0, IF(BN5252+BN5348+BN5444+BN5540+BN5636=0,0,ROUNDDOWN(AVERAGE(BN5252,BN5348,BN5444,BN5540,BN5636), 0))))","v":0},{"$f":"IF(AND(BO5252=\"\",BO5348=\"\",BO5444=\"\",BO5540=\"\",BO5636=\"\"), \"-\", IF(SUM(AU5924:BF5924)=0, 0, IF(BO5252+BO5348+BO5444+BO5540+BO5636=0,0,ROUNDDOWN(AVERAGE(BO5252,BO5348,BO5444,BO5540,BO5636), 0))))","v":0},{"$f":"IF(AND(BP5252=\"\",BP5348=\"\",BP5444=\"\",BP5540=\"\",BP5636=\"\"), \"-\", IF(SUM(AU5924:BF5924)=0, 0, IF(BP5252+BP5348+BP5444+BP5540+BP5636=0,0,ROUNDDOWN(AVERAGE(BP5252,BP5348,BP5444,BP5540,BP5636), 0))))","v":0},{"$f":"IF(AND(BQ5252=\"\",BQ5348=\"\",BQ5444=\"\",BQ5540=\"\",BQ5636=\"\"), \"-\", IF(SUM(AU5924:BF5924)=0, 0, IF(BQ5252+BQ5348+BQ5444+BQ5540+BQ5636=0,0,ROUNDDOWN(AVERAGE(BQ5252,BQ5348,BQ5444,BQ5540,BQ5636), 0))))","v":0},{"$f":"IF(AND(BR5252=\"\",BR5348=\"\",BR5444=\"\",BR5540=\"\",BR5636=\"\"), \"-\", IF(SUM(AU5924:BF5924)=0, 0, IF(BR5252+BR5348+BR5444+BR5540+BR5636=0,0,ROUNDDOWN(AVERAGE(BR5252,BR5348,BR5444,BR5540,BR5636), 0))))","v":0},{"$f":"IF(AND(BS5252=\"\",BS5348=\"\",BS5444=\"\",BS5540=\"\",BS5636=\"\"), \"-\", IF(SUM(AU5924:BF5924)=0, 0, IF(BS5252+BS5348+BS5444+BS5540+BS5636=0,0,ROUNDDOWN(AVERAGE(BS5252,BS5348,BS5444,BS5540,BS5636), 0))))","v":0},{"$f":"IF(AND(BT5252=\"\",BT5348=\"\",BT5444=\"\",BT5540=\"\",BT5636=\"\"), \"-\", IF(SUM(AU5924:BF5924)=0, 0, IF(BT5252+BT5348+BT5444+BT5540+BT5636=0,0,ROUNDDOWN(AVERAGE(BT5252,BT5348,BT5444,BT5540,BT5636), 0))))","v":0},{"$f":"IF(AND(BU5252=\"\",BU5348=\"\",BU5444=\"\",BU5540=\"\",BU5636=\"\"), \"-\", IF(SUM(AU5924:BF5924)=0, 0, IF(BU5252+BU5348+BU5444+BU5540+BU5636=0,0,ROUNDDOWN(AVERAGE(BU5252,BU5348,BU5444,BU5540,BU5636), 0))))","v":0},{"$f":"IF(AND(BV5252=\"\",BV5348=\"\",BV5444=\"\",BV5540=\"\",BV5636=\"\"), \"-\", IF(SUM(AU5924:BF5924)=0, 0, IF(BV5252+BV5348+BV5444+BV5540+BV5636=0,0,ROUNDDOWN(AVERAGE(BV5252,BV5348,BV5444,BV5540,BV5636), 0))))","v":0},{"$f":"IF(AND(BW5252=\"\",BW5348=\"\",BW5444=\"\",BW5540=\"\",BW5636=\"\"), \"-\", IF(SUM(AU5924:BF5924)=0, 0, IF(BW5252+BW5348+BW5444+BW5540+BW5636=0,0,ROUNDDOWN(AVERAGE(BW5252,BW5348,BW5444,BW5540,BW5636), 0))))","v":0},{"$f":"IF(AND(BX5252=\"\",BX5348=\"\",BX5444=\"\",BX5540=\"\",BX5636=\"\"), \"-\", IF(SUM(AU5924:BF5924)=0, 0, IF(BX5252+BX5348+BX5444+BX5540+BX5636=0,0,ROUNDDOWN(AVERAGE(BX5252,BX5348,BX5444,BX5540,BX5636), 0))))","v":0},{"$f":"IF(AND(BY5252=\"\",BY5348=\"\",BY5444=\"\",BY5540=\"\",BY5636=\"\"), \"-\", IF(SUM(AU5924:BF5924)=0, 0, IF(BY5252+BY5348+BY5444+BY5540+BY5636=0,0,ROUNDDOWN(AVERAGE(BY5252,BY5348,BY5444,BY5540,BY5636), 0))))","v":0},{"$f":"IF(AND(BZ5252=\"\",BZ5348=\"\",BZ5444=\"\",BZ5540=\"\",BZ5636=\"\"), \"-\", IF(SUM(AU5924:BF5924)=0, 0, IF(BZ5252+BZ5348+BZ5444+BZ5540+BZ5636=0,0,ROUNDDOWN(AVERAGE(BZ5252,BZ5348,BZ5444,BZ5540,BZ5636), 0))))","v":0},{"$f":"IF(SUM(AU5924:BF5924)=0,\"-\",AVERAGEIF(AT5188:AT5667,$G5924,CA5188:CA5667))","v":"-"},{"$f":"IFERROR(IF(SUM(AU5924:BF5924)=0,\"-\",AVERAGEIF(AT5188:AT5667,AT5924,CB5188:CB5667)), \"-\")","v":"-"},"-","-",null,"WD Ave","16:00:00",{"$f":"IF(AND(CH5252=\"-\",CH5348=\"-\",CH5444=\"-\",CH5540=\"-\",CH5636=\"-\"), \"-\", ROUND(AVERAGE(CH5252,CH5348,CH5444,CH5540,CH5636), 0))","v":14},54,0,0,0,0,0,0,0,0,0,0,{"$f":"IF(AND(CT5252=\"-\",CT5348=\"-\",CT5444=\"-\",CT5540=\"-\",CT5636=\"-\"), \"-\", IF(SUM($CH5924:$CS5924)=0, 0, ROUND(AVERAGE(CT5252,CT5348,CT5444,CT5540,CT5636), 0)))","v":0},0,0,0,0,0,0,0,0,0,0,0,0,0,0,0,0,0,0,0,{"$error":"#DIV/0!"},"-",0,0,{"$f":"IF(H5924=\"\", \"-\", H5924)","v":14},54,{"$f":"IF(DR5924=\"-\", \"-\", K5924)","v":0},0,0,68,0,{"$f":"IF(DX5924=\"-\", \"-\", SUM(AV5924:AW5924))","v":0},0,0,0,0,14,54,0,0,0,68]
[{"$error":"#N/A"},"Weekday Average",{"$f":"INDEX(Input_Details!$H$5:$H$24, MATCH($A5953, Input_Details!$J$5:$J$24, 0), 0)","v":{"$error":"#N/A"}},{"$f":"INDEX(Input_Details!$I$5:$I$24, MATCH($A5953, Input_Details!$J$5:$J$24, 0), 0)","v":{"$error":"#N/A"}},{"$f":"INDEX(Input_Details!$K$5:$K$24, MATCH($A5953, Input_Details!$J$5:$J$24, 0), 0)","v":{"$error":"#N/A"}},"WD Ave","23:15:00",{"$f":"IF(AND(H5281=\"\",H5377=\"\",H5473=\"\",H5569=\"\",H5665=\"\"), \"-\", IF(H5281+H5377+H5473+H5569+H5665=0,0,ROUND(AVERAGE(H5281,H5377,H5473,H5569,H5665), 0)))","v":5},32,0,0,0,0,0,0,0,0,0,0,0,0,0,0,0,0,0,0,0,0,0,0,0,0,0,0,0,0,0,0,{"$f":"IF(SUM(H5953:S5953)=0,\"-\",AVERAGEIF(G5188:G5667,$G5953,AN5188:AN5667))","v":{"$error":"#DIV/0!"}},{"$f":"IFERROR(IF(SUM(H5953:S5953)=0,\"-\",AVERAGEIF(G5188:G5667,G5953,AO5188:AO5667)), \"-\")","v":"-"},0,0,{"$f":"INDEX(Input_Details!$L$5:$L$24, MATCH($A5953, Input_Details!$J$5:$J$24, 0), 0)","v":{"$error":"#N/A"}},"WD Ave","23:15:00",{"$f":"IF(AND(AU5281=\"\",AU5377=\"\",AU5473=\"\",AU5569=\"\",AU5665=\"\"), \"-\", IF(AU5281+AU5377+AU5473+AU5569+AU5665=0,0,ROUND(AVERAGE(AU5281,AU5377,AU5473,AU5569,AU5665), 0)))","v":0},0,0,0,0,0,0,0,0,0,0,0,0,0,0,0,0,0,0,0,0,0,0,0,0,0,0,0,0,0,0,0,{"$f":"IF(SUM(AU5953:BF5953)=0,\"-\",AVERAGEIF(AT5188:AT5667,$G5953,CA5188:CA5667))","v":"-"},{"$f":"IFERROR(IF(SUM(AU5953:BF5953)=0,\"-\",AVERAGEIF(AT5188:AT5667,AT5953,CB5188:CB5667)), \"-\")","v":"-"},"-","-",null,"WD Ave","23:15:00",{"$f":"IF(AND(CH5281=\"-\",CH5377=\"-\",CH5473=\"-\",CH5569=\"-\",CH5665=\"-\"), \"-\", ROUND(AVERAGE(CH5281,CH5377,CH5473,CH5569,CH5665), 0))","v":5},32,0,0,0,0,0,0,0,0,0,0,{"$f":"IF(AND(CT5281=\"-\",CT5377=\"-\",CT5473=\"-\",CT5569=\"-\",CT5665=\"-\"), \"-\", IF(SUM($CH5953:$CS5953)=0, 0, ROUND(AVERAGE(CT5281,CT5377,CT5473,CT5569,CT5665), 0)))","v":0},0,0,0,0,0,0,0,0,0,0,0,0,0,0,0,0,0,0,0,{"$error":"#DIV/0!"},"-",0,0,5,32,0,0,0,37,0,0,0,0,0,0,5,32,0,0,0,37]
[{"$error":"#N/A"},"7-Day Average",{"$f":"INDEX(Input_Details!$H$5:$H$24, MATCH($A5978, Input_Details!$J$5:$J$24, 0), 0)","v":{"$error":"#N/A"}},{"$f":"INDEX(Input_Details!$I$5:$I$24, MATCH($A5978, Input_Details!$J$5:$J$24, 0), 0)","v":{"$error":"#N/A"}},{"$f":"INDEX(Input_Details!$K$5:$K$24, MATCH($A5978, Input_Details!$J$5:$J$24, 0), 0)","v":{"$error":"#N/A"}},"7 Day Ave","05:30:00",{"$f":"IF(AND(H5210=\"\",H5306=\"\",H5402=\"\",H5498=\"\",H5594=\"\",H5690=\"\",H5786=\"\"), \"-\", IF(H5210+H5306+H5402+H5498+H5594+H5690+H5786=0,0,ROUND(AVERAGE(H5210,H5306,H5402,H5498,H5594,H5690,H5786),0)))","v":0},9,0,0,0,0,0,0,0,0,0,0,0,0,0,0,0,0,0,0,0,0,0,0,0,0,0,0,0,0,0,0,{"$f":"IF(SUM(H5978:S5978)=0,\"-\",AVERAGEIF(G5188:G5859,$G5978,AN5188:AN5859))","v":{"$error":"#DIV/0!"}},{"$f":"IFERROR(IF(SUM(H5978:S5978)=0,\"-\",AVERAGEIF(G5188:G5859,G5978,AO5188:AO5859)), \"-\")","v":"-"},0,0,{"$f":"INDEX(Input_Details!$L$5:$L$24, MATCH($A5978, Input_Details!$J$5:$J$24, 0), 0)","v":{"$error":"#N/A"}},"7 Day Ave","05:30:00",{"$f":"IF(AND(AU5210=\"\",AU5306=\"\",AU5402=\"\",AU5498=\"\",AU5594=\"\",AU5690=\"\",AU5786=\"\"), \"-\", IF(AU5210+AU5306+AU5402+AU5498+AU5594+AU5690+AU5786=0,0,ROUND(AVERAGE(AU5210,AU5306,AU5402,AU5498,AU5594,AU5690,AU5786),0)))","v":0},0,0,0,0,0,0,0,0,0,0,0,0,0,0,0,0,0,0,0,0,0,0,0,0,0,0,0,0,0,0,0,{"$f":"IF(SUM(AU5978:BF5978)=0,\"-\",AVERAGEIF(AT5188:AT5859,$G5978,CA5188:CA5859))","v":"-"},{"$f":"IFERROR(IF(SUM(AU5978:BF5978)=0,\"-\",AVERAGEIF(AT5188:AT5859,AT5978,CB5188:CB5859)), \"-\")","v":"-"},"-","-",null,"7 Day Ave","05:30:00",{"$f":"IF(AND(CH5210=\"-\",CH5306=\"-\",CH5402=\"-\",CH5498=\"-\",CH5594=\"-\",CH5690=\"-\",CH5786=\"-\"), \"-\", ROUND(AVERAGE(CH5210,CH5306,CH5402,CH5498,CH5594,CH5690,CH5786),0))","v":0},9,0,0,0,0,0,0,0,0,0,0,{"$f":"IF(AND(CT5210=\"-\",CT5306=\"-\",CT5402=\"-\",CT5498=\"-\",CT5594=\"-\",CT5690=\"-\",CT5786=\"-\"), \"-\", IF(SUM($CH5978:$CS5978)=0, 0, ROUND(AVERAGE(CT5210,CT5306,CT5402,CT5498,CT5594,CT5690,CT5786),0)))","v":0},0,0,0,0,0,0,0,0,0,0,0,0,0,0,0,0,0,0,0,{"$error":"#DIV/0!"},"-",0,0,0,9,0,0,0,9,0,0,0,0,0,0,0,9,0,0,0,9]
[{"$error":"#N/A"},"7-Day Average",{"$f":"INDEX(Input_Details!$H$5:$H$24, MATCH($A5994, Input_Details!$J$5:$J$24, 0), 0)","v":{"$error":"#N/A"}},{"$f":"INDEX(Input_Details!$I$5:$I$24, MATCH($A5994, Input_Details!$J$5:$J$24, 0), 0)","v":{"$error":"#N/A"}},{"$f":"INDEX(Input_Details!$K$5:$K$24, MATCH($A5994, Input_Details!$J$5:$J$24, 0), 0)","v":{"$error":"#N/A"}},"7 Day Ave","09:30:00",{"$f":"IF(AND(H5226=\"\",H5322=\"\",H5418=\"\",H5514=\"\",H5610=\"\",H5706=\"\",H5802=\"\"), \"-\", IF(H5226+H5322+H5418+H5514+H5610+H5706+H5802=0,0,ROUND(AVERAGE(H5226,H5322,H5418,H5514,H5610,H5706,H5802),0)))","v":2},30,0,0,0,0,0,0,0,0,0,0,0,0,0,0,0,0,0,0,0,0,0,0,0,0,0,0,0,0,0,0,{"$f":"IF(SUM(H5994:S5994)=0,\"-\",AVERAGEIF(G5188:G5859,$G5994,AN5188:AN5859))","v":{"$error":"#DIV/0!"}},{"$f":"IFERROR(IF(SUM(H5994:S5994)=0,\"-\",AVERAGEIF(G5188:G5859,G5994,AO5188:AO5859)), \"-\")","v":"-"},0,0,{"$f":"INDEX(Input_Details!$L$5:$L$24, MATCH($A5994, Input_Details!$J$5:$J$24, 0), 0)","v":{"$error":"#N/A"}},"7 Day Ave","09:30:00",{"$f":"IF(AND(AU5226=\"\",AU5322=\"\",AU5418=\"\",AU5514=\"\",AU5610=\"\",AU5706=\"\",AU5802=\"\"), \"-\", IF(AU5226+AU5322+AU5418+AU5514+AU5610+AU5706+AU5802=0,0,ROUND(AVERAGE(AU5226,AU5322,AU5418,AU5514,AU5610,AU5706,AU5802),0)))","v":0},0,0,0,0,0,0,0,0,0,0,0,0,0,0,0,0,0,0,0,0,0,0,0,0,0,0,0,0,0,0,0,{"$f":"IF(SUM(AU5994:BF5994)=0,\"-\",AVERAGEIF(AT5188:AT5859,$G5994,CA5188:CA5859))","v":"-"},{"$f":"IFERROR(IF(SUM(AU5994:BF5994)=0,\"-\",AVERAGEIF(AT5188:AT5859,AT5994,CB5188:CB5859)), \"-\")","v":"-"},"-","-",null,"7 Day Ave","09:30:00",{"$f":"IF(AND(CH5226=\"-\",CH5322=\"-\",CH5418=\"-\",CH5514=\"-\",CH5610=\"-\",CH5706=\"-\",CH5802=\"-\"), \"-\", ROUND(AVERAGE(CH5226,CH5322,CH5418,CH5514,CH5610,CH5706,CH5802),0))","v":2},30,0,0,0,0,0,0,0,0,0,0,{"$f":"IF(AND(CT5226=\"-\",CT5322=\"-\",CT5418=\"-\",CT5514=\"-\",CT5610=\"-\",CT5706=\"-\",CT5802=\"-\"), \"-\", IF(SUM($CH5994:$CS5994)=0, 0, ROUND(AVERAGE(CT5226,CT5322,CT5418,CT5514,CT5610,CT5706,CT5802),0)))","v":0},0,0,0,0,0,0,0,0,0,0,0,0,0,0,0,0,0,0,0,{"$error":"#DIV/0!"},"-",0,0,2,30,0,0,0,32,0,0,0,0,0,0,2,30,0,0,0,32]
[{"$error":"#N/A"},"7-Day Average",{"$f":"INDEX(Input_Details!$H$5:$H$24, MATCH($A6014, Input_Details!$J$5:$J$24, 0), 0)","v":{"$error":"#N/A"}},{"$f":"INDEX(Input_Details!$I$5:$I$24, MATCH($A6014, Input_Details!$J$5:$J$24, 0), 0)","v":{"$error":"#N/A"}},{"$f":"INDEX(Input_Details!$K$5:$K$24, MATCH($A6014, Input_Details!$J$5:$J$24, 0), 0)","v":{"$error":"#N/A"}},"7 Day Ave","14:30:00",{"$f":"IF(AND(H5246=\"\",H5342=\"\",H5438=\"\",H5534=\"\",H5630=\"\",H5726=\"\",H5822=\"\"), \"-\", IF(H5246+H5342+H5438+H5534+H5630+H5726+H5822=0,0,ROUND(AVERAGE(H5246,H5342,H5438,H5534,H5630,H5726,H5822),0)))","v":5},46,0,0,0,0,0,0,0,0,0,0,0,0,0,0,0,0,0,0,0,0,0,0,0,0,0,0,0,0,0,0,{"$f":"IF(SUM(H6014:S6014)=0,\"-\",AVERAGEIF(G5188:G5859,$G6014,AN5188:AN5859))","v":{"$error":"#DIV/0!"}},{"$f":"IFERROR(IF(SUM(H6014:S6014)=0,\"-\",AVERAGEIF(G5188:G5859,G6014,AO5188:AO5859)), \"-\")","v":"-"},0,0,{"$f":"INDEX(Input_Details!$L$5:$L$24, MATCH($A6014, Input_Details!$J$5:$J$24, 0), 0)","v":{"$error":"#N/A"}},"7 Day Ave","14:30:00",{"$f":"IF(AND(AU5246=\"\",AU5342=\"\",AU5438=\"\",AU5534=\"\",AU5630=\"\",AU5726=\"\",AU5822=\"\"), \"-\", IF(AU5246+AU5342+AU5438+AU5534+AU5630+AU5726+AU5822=0,0,ROUND(AVERAGE(AU5246,AU5342,AU5438,AU5534,AU5630,AU5726,AU5822),0)))","v":0},0,0,0,0,0,0,0,0,0,0,0,0,0,0,0,0,0,0,0,0,0,0,0,0,0,0,0,0,0,0,0,{"$f":"IF(SUM(AU6014:BF6014)=0,\"-\",AVERAGEIF(AT5188:AT5859,$G6014,CA5188:CA5859))","v":"-"},{"$f":"IFERROR(IF(SUM(AU6014:BF6014)=0,\"-\",AVERAGEIF(AT5188:AT5859,AT6014,CB5188:CB5859)), \"-\")","v":"-"},"-","-",null,"7 Day Ave","14:30:00",{"$f":"IF(AND(CH5246=\"-\",CH5342=\"-\",CH5438=\"-\",CH5534=\"-\",CH5630=\"-\",CH5726=\"-\",CH5822=\"-\"), \"-\", ROUND(AVERAGE(CH5246,CH5342,CH5438,CH5534,CH5630,CH5726,CH5822),0))","v":5},46,0,0,0,0,0,0,0,0,0,0,{"$f":"IF(AND(CT5246=\"-\",CT5342=\"-\",CT5438=\"-\",CT5534=\"-\",CT5630=\"-\",CT5726=\"-\",CT5822=\"-\"), \"-\", IF(SUM($CH6014:$CS6014)=0, 0, ROUND(AVERAGE(CT5246,CT5342,CT5438,CT5534,CT5630,CT5726,CT5822),0)))","v":0},0,0,0,0,0,0,0,0,0,0,0,0,0,0,0,0,0,0,0,{"$error":"#DIV/0!"},"-",0,0,5,46,0,0,0,51,0,0,0,{"$f":"IF(DX6014=\"-\", \"-\", AY6014)","v":0},0,0,5,46,0,0,0,51]
[{"$error":"#N/A"},{"$f":"OFFSET(Input_Details!$Q$4,MATCH($A6057, Input_Details!$J$5:$J$24, 0), 0)","v":{"$error":"#N/A"}},{"$f":"INDEX(Input_Details!$H$5:$H$24, MATCH($A6057, Input_Details!$J$5:$J$24, 0), 0)","v":{"$error":"#N/A"}},{"$f":"INDEX(Input_Details!$I$5:$I$24, MATCH($A6057, Input_Details!$J$5:$J$24, 0), 0)","v":{"$error":"#N/A"}},{"$f":"INDEX(Input_Details!$K$5:$K$24, MATCH($A6057, Input_Details!$J$5:$J$24, 0), 0)","v":{"$error":"#N/A"}},"Mon","01:15:00",0,7,0,0,0,0,0,0,0,0,0,0,0,0,0,0,0,0,0,0,0,0,0,0,0,0,0,0,0,0,0,0,"-","-","-","-",{"$f":"INDEX(Input_Details!$L$5:$L$24, MATCH($A6057, Input_Details!$J$5:$J$24, 0), 0)","v":{"$error":"#N/A"}},"Mon","01:15:00",0,0,0,0,0,0,0,0,0,0,0,0,0,0,0,0,0,0,0,0,0,0,0,0,0,0,0,0,0,0,0,0,"-","-","-","-",null,"Mon","01:15:00",0,7,0,0,0,0,0,0,0,0,0,0,0,0,0,0,0,0,0,0,0,0,0,0,0,0,0,0,0,0,0,0,"-","-",0,0,0,7,0,0,0,7,0,0,0,0,0,0,0,7,0,0,0,7,7,11,16,12,12,24,31,0,0,0,0,0,0,0,7,11,16,12,12,24,31]
[{"$error":"#N/A"},{"$f":"OFFSET(Input_Details!$Q$4,MATCH($A6077, Input_Details!$J$5:$J$24, 0), 0)","v":{"$error":"#N/A"}},{"$f":"INDEX(Input_Details!$H$5:$H$24, MATCH($A6077, Input_Details!$J$5:$J$24, 0), 0)","v":{"$error":"#N/A"}},{"$f":"INDEX(Input_Details!$I$5:$I$24, MATCH($A6077, Input_Details!$J$5:$J$24, 0), 0)","v":{"$error":"#N/A"}},{"$f":"INDEX(Input_Details!$K$5:$K$24, MATCH($A6077, Input_Details!$J$5:$J$24, 0), 0)","v":{"$error":"#N/A"}},"Mon","06:15:00",0,17,0,0,0,0,0,0,0,0,0,0,0,0,0,0,0,0,0,0,0,0,0,0,0,0,0,0,0,0,0,0,"-","-","-","-",{"$f":"INDEX(Input_Details!$L$5:$L$24, MATCH($A6077, Input_Details!$J$5:$J$24, 0), 0)","v":{"$error":"#N/A"}},"Mon","06:15:00",0,0,0,0,0,0,0,0,0,0,0,0,0,0,0,0,0,0,0,0,0,0,0,0,0,0,0,0,0,0,0,0,"-","-","-","-",null,"Mon","06:15:00",0,17,0,0,0,0,0,0,0,0,0,0,0,0,0,0,0,0,0,0,0,0,0,0,0,0,0,0,0,0,0,0,"-","-",0,0,0,17,0,0,0,17,0,0,0,0,0,0,0,17,0,0,0,17,17,19,20,20,27,18,16,0,0,0,0,0,0,0,17,19,20,20,27,18,16]
[{"$error":"#N/A"},{"$f":"OFFSET(Input_Details!$Q$4,MATCH($A6094, Input_Details!$J$5:$J$24, 0), 0)","v":{"$error":"#N/A"}},{"$f":"INDEX(Input_Details!$H$5:$H$24, MATCH($A6094, Input_Details!$J$5:$J$24, 0), 0)","v":{"$error":"#N/A"}},{"$f":"INDEX(Input_Details!$I$5:$I$24, MATCH($A6094, Input_Details!$J$5:$J$24, 0), 0)","v":{"$error":"#N/A"}},{"$f":"INDEX(Input_Details!$K$5:$K$24, MATCH($A6094, Input_Details!$J$5:$J$24, 0), 0)","v":{"$error":"#N/A"}},"Mon","10:30:00",5,19,0,0,0,0,0,0,0,0,0,0,0,0,0,0,0,0,0,0,0,0,0,0,0,0,0,0,0,0,0,0,"-","-","-","-",{"$f":"INDEX(Input_Details!$L$5:$L$24, MATCH($A6094, Input_Details!$J$5:$J$24, 0), 0)","v":{"$error":"#N/A"}},"Mon","10:30:00",0,0,0,0,0,0,0,0,0,0,0,0,0,0,0,0,0,0,0,0,0,0,0,0,0,0,0,0,0,0,0,0,"-","-","-","-",null,"Mon","10:30:00",5,19,0,0,0,0,0,0,0,0,0,0,0,0,0,0,0,0,0,0,0,0,0,0,0,0,0,0,0,0,0,0,"-","-",0,0,5,19,0,0,0,24,0,0,0,0,0,0,5,19,0,0,0,24,24,34,31,35,33,31,31,0,0,0,0,0,0,0,24,34,31,35,33,31,31]
[{"$error":"#N/A"},{"$f":"OFFSET(Input_Details!$Q$4,MATCH($A6127, Input_Details!$J$5:$J$24, 0), 0)","v":{"$error":"#N/A"}},{"$f":"INDEX(Input_Details!$H$5:$H$24, MATCH($A6127, Input_Details!$J$5:$J$24, 0), 0)","v":{"$error":"#N/A"}},{"$f":"INDEX(Input_Details!$I$5:$I$24, MATCH($A6127, Input_Details!$J$5:$J$24, 0), 0)","v":{"$error":"#N/A"}},{"$f":"INDEX(Input_Details!$K$5:$K$24, MATCH($A6127, Input_Details!$J$5:$J$24, 0), 0)","v":{"$error":"#N/A"}},"Mon","18:45:00",20,60,0,0,0,0,0,0,0,0,0,0,0,0,0,0,0,0,0,0,0,0,0,0,0,0,0,0,0,0,0,0,"-","-","-","-",{"$f":"INDEX(Input_Details!$L$5:$L$24, MATCH($A6127, Input_Details!$J$5:$J$24, 0), 0)","v":{"$error":"#N/A"}},"Mon","18:45:00",0,0,0,0,0,0,0,0,0,0,0,0,0,0,0,0,0,0,0,0,0,0,0,0,0,0,0,0,0,0,0,0,"-","-","-","-",null,"Mon","18:45:00",20,60,0,0,0,0,0,0,0,0,0,0,0,0,0,0,0,0,0,0,0,0,0,0,0,0,0,0,0,0,0,0,"-","-",0,0,20,60,0,0,0,80,0,0,0,0,0,0,20,60,0,0,0,80,80,70,80,79,91,58,47,0,0,0,0,0,0,0,80,70,80,79,91,58,47]
[{"$error":"#N/A"},{"$f":"OFFSET(Input_Details!$Q$4,MATCH($A6160, Input_Details!$J$5:$J$24, 0), 1)","v":{"$error":"#N/A"}},{"$f":"INDEX(Input_Details!$H$5:$H$24, MATCH($A6160, Input_Details!$J$5:$J$24, 0), 0)","v":{"$error":"#N/A"}},{"$f":"INDEX(Input_Details!$I$5:$I$24, MATCH($A6160, Input_Details!$J$5:$J$24, 0), 0)","v":{"$error":"#N/A"}},{"$f":"INDEX(Input_Details!$K$5:$K$24, MATCH($A6160, Input_Details!$J$5:$J$24, 0), 0)","v":{"$error":"#N/A"}},"Tues","03:00:00",0,3,0,0,0,0,0,0,0,0,0,0,0,0,0,0,0,0,0,0,0,0,0,0,0,0,0,0,0,0,0,0,"-","-","-","-",{"$f":"INDEX(Input_Details!$L$5:$L$24, MATCH($A6160, Input_Details!$J$5:$J$24, 0), 0)","v":{"$error":"#N/A"}},"Tues","03:00:00",0,0,0,0,0,0,0,0,0,0,0,0,0,0,0,0,0,0,0,0,0,0,0,0,0,0,0,0,0,0,0,0,"-","-","-","-",null,"Tues","03:00:00",0,3,0,0,0,0,0,0,0,0,0,0,0,0,0,0,0,0,0,0,0,0,0,0,0,0,0,0,0,0,0,0,"-","-",0,0,0,3,0,0,0,3,0,0,0,0,0,0,0,3,0,0,0,3]
[{"$error":"#N/A"},{"$f":"OFFSET(Input_Details!$Q$4,MATCH($A6190, Input_Details!$J$5:$J$24, 0), 1)","v":{"$error":"#N/A"}},{"$f":"INDEX(Input_Details!$H$5:$H$24, MATCH($A6190, Input_Details!$J$5:$J$24, 0), 0)","v":{"$error":"#N/A"}},{"$f":"INDEX(Input_Details!$I$5:$I$24, MATCH($A6190, Input_Details!$J$5:$J$24, 0), 0)","v":{"$error":"#N/A"}},{"$f":"INDEX(Input_Details!$K$5:$K$24, MATCH($A6190, Input_Details!$J$5:$J$24, 0), 0)","v":{"$error":"#N/A"}},"Tues","10:30:00",1,33,0,0,0,0,0,0,0,0,0,0,0,0,0,0,0,0,0,0,0,0,0,0,0,0,0,0,0,0,0,0,"-","-","-","-",{"$f":"INDEX(Input_Details!$L$5:$L$24, MATCH($A6190, Input_Details!$J$5:$J$24, 0), 0)","v":{"$error":"#N/A"}},"Tues","10:30:00",0,0,0,0,0,0,0,0,0,0,0,0,0,0,0,0,0,0,0,0,0,0,0,0,0,0,0,0,0,0,0,0,"-","-","-","-",null,"Tues","10:30:00",1,33,0,0,0,0,0,0,0,0,0,0,0,0,0,0,0,0,0,0,0,0,0,0,0,0,0,0,0,0,0,0,"-","-",0,0,1,33,0,0,0,34,0,0,0,0,0,0,1,33,0,0,0,34]
[{"$error":"#N/A"},{"$f":"OFFSET(Input_Details!$Q$4,MATCH($A6201, Input_Details!$J$5:$J$24, 0), 1)","v":{"$error":"#N/A"}},{"$f":"INDEX(Input_Details!$H$5:$H$24, MATCH($A6201, Input_Details!$J$5:$J$24, 0), 0)","v":{"$error":"#N/A"}},{"$f":"INDEX(Input_Details!$I$5:$I$24, MATCH($A6201, Input_Details!$J$5:$J$24, 0), 0)","v":{"$error":"#N/A"}},{"$f":"INDEX(Input_Details!$K$5:$K$24, MATCH($A6201, Input_Details!$J$5:$J$24, 0), 0)","v":{"$error":"#N/A"}},"Tues","13:15:00",11,28,0,0,0,0,0,0,0,0,0,0,0,0,0,0,0,0,0,0,0,0,0,0,0,0,0,0,0,0,0,0,"-","-","-","-",{"$f":"INDEX(Input_Details!$L$5:$L$24, MATCH($A6201, Input_Details!$J$5:$J$24, 0), 0)","v":{"$error":"#N/A"}},"Tues","13:15:00",0,0,0,0,0,0,0,0,0,0,0,0,0,0,0,0,0,0,0,0,0,0,0,0,0,0,0,0,0,0,0,0,"-","-","-","-",null,"Tues","13:15:00",11,28,0,0,0,0,0,0,0,0,0,0,0,0,0,0,0,0,0,0,0,0,0,0,0,0,0,0,0,0,0,0,"-","-",0,0,11,28,0,0,0,39,0,0,0,0,0,0,11,28,0,0,0,39]
[{"$error":"#N/A"},{"$f":"OFFSET(Input_Details!$Q$4,MATCH($A6227, Input_Details!$J$5:$J$24, 0), 1)","v":{"$error":"#N/A"}},{"$f":"INDEX(Input_Details!$H$5:$H$24, MATCH($A6227, Input_Details!$J$5:$J$24, 0), 0)","v":{"$error":"#N/A"}},{"$f":"INDEX(Input_Details!$I$5:$I$24, MATCH($A6227, Input_Details!$J$5:$J$24, 0), 0)","v":{"$error":"#N/A"}},{"$f":"INDEX(Input_Details!$K$5:$K$24, MATCH($A6227, Input_Details!$J$5:$J$24, 0), 0)","v":{"$error":"#N/A"}},"Tues","19:45:00",11,59,0,0,0,0,0,0,0,0,0,0,0,0,0,0,0,0,0,0,0,0,0,0,0,0,0,0,0,0,0,0,"-","-","-","-",{"$f":"INDEX(Input_Details!$L$5:$L$24, MATCH($A6227, Input_Details!$J$5:$J$24, 0), 0)","v":{"$error":"#N/A"}},"Tues","19:45:00",0,0,0,0,0,0,0,0,0,0,0,0,0,0,0,0,0,0,0,0,0,0,0,0,0,0,0,0,0,0,0,0,"-","-","-","-",null,"Tues","19:45:00",11,59,0,0,0,0,0,0,0,0,0,0,0,0,0,0,0,0,0,0,0,0,0,0,0,0,0,0,0,0,0,0,"-","-",0,0,11,59,0,0,0,70,0,0,0,0,0,0,11,59,0,0,0,70]
[{"$error":"#N/A"},{"$f":"OFFSET(Input_Details!$Q$4,MATCH($A6260, Input_Details!$J$5:$J$24, 0), 2)","v":{"$error":"#N/A"}},{"$f":"INDEX(Input_Details!$H$5:$H$24, MATCH($A6260, Input_Details!$J$5:$J$24, 0), 0)","v":{"$error":"#N/A"}},{"$f":"INDEX(Input_Details!$I$5:$I$24, MATCH($A6260, Input_Details!$J$5:$J$24, 0), 0)","v":{"$error":"#N/A"}},{"$f":"INDEX(Input_Details!$K$5:$K$24, MATCH($A6260, Input_Details!$J$5:$J$24, 0), 0)","v":{"$error":"#N/A"}},"Wed","04:00:00",1,9,0,0,0,0,0,0,0,0,0,0,0,0,0,0,0,0,0,0,0,0,0,0,0,0,0,0,0,0,0,0,"-","-","-","-",{"$f":"INDEX(Input_Details!$L$5:$L$24, MATCH($A6260, Input_Details!$J$5:$J$24, 0), 0)","v":{"$error":"#N/A"}},"Wed","04:00:00",0,0,0,0,0,0,0,0,0,0,0,0,0,0,0,0,0,0,0,0,0,0,0,0,0,0,0,0,0,0,0,0,"-","-","-","-",null,"Wed","04:00:00",1,9,0,0,0,0,0,0,0,0,0,0,0,0,0,0,0,0,0,0,0,0,0,0,0,0,0,0,0,0,0,0,"-","-",0,0,1,9,0,0,0,10,0,0,0,0,0,0,1,9,0,0,0,10]
[{"$error":"#N/A"},{"$f":"OFFSET(Input_Details!$Q$4,MATCH($A6279, Input_Details!$J$5:$J$24, 0), 2)","v":{"$error":"#N/A"}},{"$f":"INDEX(Input_Details!$H$5:$H$24, MATCH($A6279, Input_Details!$J$5:$J$24, 0), 0)","v":{"$error":"#N/A"}},{"$f":"INDEX(Input_Details!$I$5:$I$24, MATCH($A6279, Input_Details!$J$5:$J$24, 0), 0)","v":{"$error":"#N/A"}},{"$f":"INDEX(Input_Details!$K$5:$K$24, MATCH($A6279, Input_Details!$J$5:$J$24, 0), 0)","v":{"$error":"#N/A"}},"Wed","08:45:00",9,18,0,0,0,0,0,0,0,0,0,0,0,0,0,0,0,0,0,0,0,0,0,0,0,0,0,0,0,0,0,0,"-","-","-","-",{"$f":"INDEX(Input_Details!$L$5:$L$24, MATCH($A6279, Input_Details!$J$5:$J$24, 0), 0)","v":{"$error":"#N/A"}},"Wed","08:45:00",0,0,0,0,0,0,0,0,0,0,0,0,0,0,0,0,0,0,0,0,0,0,0,0,0,0,0,0,0,0,0,0,"-","-","-","-",null,"Wed","08:45:00",9,18,0,0,0,0,0,0,0,0,0,0,0,0,0,0,0,0,0,0,0,0,0,0,0,0,0,0,0,0,0,0,"-","-",0,0,9,18,0,0,0,27,0,0,0,0,0,0,9,18,0,0,0,27]
[{"$error":"#N/A"},{"$f":"OFFSET(Input_Details!$Q$4,MATCH($A6323, Input_Details!$J$5:$J$24, 0), 2)","v":{"$error":"#N/A"}},{"$f":"INDEX(Input_Details!$H$5:$H$24, MATCH($A6323, Input_Details!$J$5:$J$24, 0), 0)","v":{"$error":"#N/A"}},{"$f":"INDEX(Input_Details!$I$5:$I$24, MATCH($A6323, Input_Details!$J$5:$J$24, 0), 0)","v":{"$error":"#N/A"}},{"$f":"INDEX(Input_Details!$K$5:$K$24, MATCH($A6323, Input_Details!$J$5:$J$24, 0), 0)","v":{"$error":"#N/A"}},"Wed","19:45:00",7,58,0,0,0,0,0,0,0,0,0,0,0,0,0,0,0,0,0,0,0,0,0,0,0,0,0,0,0,0,0,0,"-","-","-","-",{"$f":"INDEX(Input_Details!$L$5:$L$24, MATCH($A6323, Input_Details!$J$5:$J$24, 0), 0)","v":{"$error":"#N/A"}},"Wed","19:45:00",0,0,0,0,0,0,0,0,0,0,0,0,0,0,0,0,0,0,0,0,0,0,0,0,0,0,0,0,0,0,0,0,"-","-","-","-",null,"Wed","19:45:00",7,58,0,0,0,0,0,0,0,0,0,0,0,0,0,0,0,0,0,0,0,0,0,0,0,0,0,0,0,0,0,0,"-","-",0,0,7,58,0,0,0,65,0,0,0,0,0,0,7,58,0,0,0,65]
[{"$error":"#N/A"},{"$f":"OFFSET(Input_Details!$Q$4,MATCH($A6347, Input_Details!$J$5:$J$24, 0), 3)","v":{"$error":"#N/A"}},{"$f":"INDEX(Input_Details!$H$5:$H$24, MATCH($A6347, Input_Details!$J$5:$J$24, 0), 0)","v":{"$error":"#N/A"}},{"$f":"INDEX(Input_Details!$I$5:$I$24, MATCH($A6347, Input_Details!$J$5:$J$24, 0), 0)","v":{"$error":"#N/A"}},{"$f":"INDEX(Input_Details!$K$5:$K$24, MATCH($A6347, Input_Details!$J$5:$J$24, 0), 0)","v":{"$error":"#N/A"}},"Thu","01:45:00",0,13,0,0,0,0,0,0,0,0,0,0,0,0,0,0,0,0,0,0,0,0,0,0,0,0,0,0,0,0,0,0,"-","-","-","-",{"$f":"INDEX(Input_Details!$L$5:$L$24, MATCH($A6347, Input_Details!$J$5:$J$24, 0), 0)","v":{"$error":"#N/A"}},"Thu","01:45:00",0,0,0,0,0,0,0,0,0,0,0,0,0,0,0,0,0,0,0,0,0,0,0,0,0,0,0,0,0,0,0,0,"-","-","-","-",null,"Thu","01:45:00",0,13,0,0,0,0,0,0,0,0,0,0,0,0,0,0,0,0,0,0,0,0,0,0,0,0,0,0,0,0,0,0,"-","-",0,0,0,13,0,{"$f":"IF(DR6347=\"-\", \"-\", L6347)","v":0},0,13,0,0,0,0,0,0,0,13,0,0,0,13]
[{"$error":"#N/A"},{"$f":"OFFSET(Input_Details!$Q$4,MATCH($A6360, Input_Details!$J$5:$J$24, 0), 3)","v":{"$error":"#N/A"}},{"$f":"INDEX(Input_Details!$H$5:$H$24, MATCH($A6360, Input_Details!$J$5:$J$24, 0), 0)","v":{"$error":"#N/A"}},{"$f":"INDEX(Input_Details!$I$5:$I$24, MATCH($A6360, Input_Details!$J$5:$J$24, 0), 0)","v":{"$error":"#N/A"}},{"$f":"INDEX(Input_Details!$K$5:$K$24, MATCH($A6360, Input_Details!$J$5:$J$24, 0), 0)","v":{"$error":"#N/A"}},"Thu","05:00:00",4,10,0,0,0,0,0,0,0,0,0,0,0,0,0,0,0,0,0,0,0,0,0,0,0,0,0,0,0,0,0,0,"-","-","-","-",{"$f":"INDEX(Input_Details!$L$5:$L$24, MATCH($A6360, Input_Details!$J$5:$J$24, 0), 0)","v":{"$error":"#N/A"}},"Thu","05:00:00",0,0,0,0,0,0,0,0,0,0,0,0,0,0,0,0,0,0,0,0,0,0,0,0,0,0,0,0,0,0,0,0,"-","-","-","-",null,"Thu","05:00:00",4,10,0,0,0,0,0,0,0,0,0,0,0,0,0,0,0,0,0,0,0,0,0,0,0,0,0,0,0,0,0,0,"-","-",0,0,4,10,0,0,0,14,0,0,0,0,0,0,4,10,0,0,0,14]
[{"$error":"#N/A"},{"$f":"OFFSET(Input_Details!$Q$4,MATCH($A6393, Input_Details!$J$5:$J$24, 0), 3)","v":{"$error":"#N/A"}},{"$f":"INDEX(Input_Details!$H$5:$H$24, MATCH($A6393, Input_Details!$J$5:$J$24, 0), 0)","v":{"$error":"#N/A"}},{"$f":"INDEX(Input_Details!$I$5:$I$24, MATCH($A6393, Input_Details!$J$5:$J$24, 0), 0)","v":{"$error":"#N/A"}},{"$f":"INDEX(Input_Details!$K$5:$K$24, MATCH($A6393, Input_Details!$J$5:$J$24, 0), 0)","v":{"$error":"#N/A"}},"Thu","13:15:00",4,50,0,0,0,0,0,0,0,0,0,0,0,0,0,0,0,0,0,0,0,0,0,0,0,0,0,0,0,0,0,0,"-","-","-","-",{"$f":"INDEX(Input_Details!$L$5:$L$24, MATCH($A6393, Input_Details!$J$5:$J$24, 0), 0)","v":{"$error":"#N/A"}},"Thu","13:15:00",0,0,0,0,0,0,0,0,0,0,0,0,0,0,0,0,0,0,0,0,0,0,0,0,0,0,0,0,0,0,0,0,"-","-","-","-",null,"Thu","13:15:00",4,50,0,0,0,0,0,0,0,0,0,0,0,0,0,0,0,0,0,0,0,0,0,0,0,0,0,0,0,0,0,0,"-","-",0,0,4,50,0,0,0,54,0,0,0,0,0,0,4,50,0,0,0,54]
[{"$error":"#N/A"},{"$f":"OFFSET(Input_Details!$Q$4,MATCH($A6430, Input_Details!$J$5:$J$24, 0), 3)","v":{"$error":"#N/A"}},{"$f":"INDEX(Input_Details!$H$5:$H$24, MATCH($A6430, Input_Details!$J$5:$J$24, 0), 0)","v":{"$error":"#N/A"}},{"$f":"INDEX(Input_Details!$I$5:$I$24, MATCH($A6430, Input_Details!$J$5:$J$24, 0), 0)","v":{"$error":"#N/A"}},{"$f":"INDEX(Input_Details!$K$5:$K$24, MATCH($A6430, Input_Details!$J$5:$J$24, 0), 0)","v":{"$error":"#N/A"}},"Thu","22:30:00",7,35,0,0,0,0,0,0,0,0,0,0,0,0,0,0,0,0,0,0,0,0,0,0,0,0,0,0,0,0,0,0,"-","-","-","-",{"$f":"INDEX(Input_Details!$L$5:$L$24, MATCH($A6430, Input_Details!$J$5:$J$24, 0), 0)","v":{"$error":"#N/A"}},"Thu","22:30:00",0,0,0,0,0,0,0,0,0,0,0,0,0,0,0,0,0,0,0,0,0,0,0,0,0,0,0,0,0,0,0,0,"-","-","-","-",null,"Thu","22:30:00",7,35,0,0,0,0,0,0,0,0,0,0,0,0,0,0,0,0,0,0,0,0,0,0,0,0,0,0,0,0,0,0,"-","-",0,0,7,35,0,0,0,42,0,0,0,0,0,0,7,35,0,0,0,42]
[{"$error":"#N/A"},{"$f":"OFFSET(Input_Details!$Q$4,MATCH($A6456, Input_Details!$J$5:$J$24, 0), 4)","v":{"$error":"#N/A"}},{"$f":"INDEX(Input_Details!$H$5:$H$24, MATCH($A6456, Input_Details!$J$5:$J$24, 0), 0)","v":{"$error":"#N/A"}},{"$f":"INDEX(Input_Details!$I$5:$I$24, MATCH($A6456, Input_Details!$J$5:$J$24, 0), 0)","v":{"$error":"#N/A"}},{"$f":"INDEX(Input_Details!$K$5:$K$24, MATCH($A6456, Input_Details!$J$5:$J$24, 0), 0)","v":{"$error":"#N/A"}},"Fri","05:00:00",1,6,0,0,0,0,0,0,0,0,0,0,0,0,0,0,0,0,0,0,0,0,0,0,0,0,0,0,0,0,0,0,"-","-","-","-",{"$f":"INDEX(Input_Details!$L$5:$L$24, MATCH($A6456, Input_Details!$J$5:$J$24, 0), 0)","v":{"$error":"#N/A"}},"Fri","05:00:00",0,0,0,0,0,0,0,0,0,0,0,0,0,0,0,0,0,0,0,0,0,0,0,0,0,0,0,0,0,0,0,0,"-","-","-","-",null,"Fri","05:00:00",1,6,0,0,0,0,0,0,0,0,0,0,0,0,0,0,0,0,0,0,0,0,0,0,0,0,0,0,0,0,0,0,"-","-",0,0,1,6,0,0,0,7,0,0,0,0,0,0,1,6,0,0,0,7]
[{"$error":"#N/A"},{"$f":"OFFSET(Input_Details!$Q$4,MATCH($A6466, Input_Details!$J$5:$J$24, 0), 4)","v":{"$error":"#N/A"}},{"$f":"INDEX(Input_Details!$H$5:$H$24, MATCH($A6466, Input_Details!$J$5:$J$24, 0), 0)","v":{"$error":"#N/A"}},{"$f":"INDEX(Input_Details!$I$5:$I$24, MATCH($A6466, Input_Details!$J$5:$J$24, 0), 0)","v":{"$error":"#N/A"}},{"$f":"INDEX(Input_Details!$K$5:$K$24, MATCH($A6466, Input_Details!$J$5:$J$24, 0), 0)","v":{"$error":"#N/A"}},"Fri","07:30:00",3,30,0,0,0,0,0,0,0,0,0,0,0,0,0,0,0,0,0,0,0,0,0,0,0,0,0,0,0,0,0,0,"-","-","-","-",{"$f":"INDEX(Input_Details!$L$5:$L$24, MATCH($A6466, Input_Details!$J$5:$J$24, 0), 0)","v":{"$error":"#N/A"}},"Fri","07:30:00",0,0,0,0,0,0,0,0,0,0,0,0,0,0,0,0,0,0,0,0,0,0,0,0,0,0,0,0,0,0,0,0,"-","-","-","-",null,"Fri","07:30:00",3,30,0,0,0,0,0,0,0,0,0,0,0,0,0,0,0,0,0,0,0,0,0,0,0,0,0,0,0,0,0,0,"-","-",0,0,3,30,0,0,0,33,0,0,0,0,0,0,3,30,0,0,0,33]
[{"$error":"#N/A"},{"$f":"OFFSET(Input_Details!$Q$4,MATCH($A6493, Input_Details!$J$5:$J$24, 0), 4)","v":{"$error":"#N/A"}},{"$f":"INDEX(Input_Details!$H$5:$H$24, MATCH($A6493, Input_Details!$J$5:$J$24, 0), 0)","v":{"$error":"#N/A"}},{"$f":"INDEX(Input_Details!$I$5:$I$24, MATCH($A6493, Input_Details!$J$5:$J$24, 0), 0)","v":{"$error":"#N/A"}},{"$f":"INDEX(Input_Details!$K$5:$K$24, MATCH($A6493, Input_Details!$J$5:$J$24, 0), 0)","v":{"$error":"#N/A"}},"Fri","14:15:00",8,19,0,0,0,0,0,0,0,0,0,0,0,0,0,0,0,0,0,0,0,0,0,0,0,0,0,0,0,0,0,0,"-","-","-","-",{"$f":"INDEX(Input_Details!$L$5:$L$24, MATCH($A6493, Input_Details!$J$5:$J$24, 0), 0)","v":{"$error":"#N/A"}},"Fri","14:15:00",0,0,0,0,0,0,0,0,0,0,0,0,0,0,0,0,0,0,0,0,0,0,0,0,0,0,0,0,0,0,0,0,"-","-","-","-",null,"Fri","14:15:00",8,19,0,0,0,0,0,0,0,0,0,0,0,0,0,0,0,0,0,0,0,0,0,0,0,0,0,0,0,0,0,0,"-","-",0,0,8,19,0,0,0,27,0,0,0,0,0,0,8,19,0,0,0,27]
[{"$error":"#N/A"},{"$f":"OFFSET(Input_Details!$Q$4,MATCH($A6529, Input_Details!$J$5:$J$24, 0), 4)","v":{"$error":"#N/A"}},{"$f":"INDEX(Input_Details!$H$5:$H$24, MATCH($A6529, Input_Details!$J$5:$J$24, 0), 0)","v":{"$error":"#N/A"}},{"$f":"INDEX(Input_Details!$I$5:$I$24, MATCH($A6529, Input_Details!$J$5:$J$24, 0), 0)","v":{"$error":"#N/A"}},{"$f":"INDEX(Input_Details!$K$5:$K$24, MATCH($A6529, Input_Details!$J$5:$J$24, 0), 0)","v":{"$error":"#N/A"}},"Fri","23:15:00",4,38,0,0,0,0,0,0,0,0,0,0,0,0,0,0,0,0,0,0,0,0,0,0,0,0,0,0,0,0,0,0,"-","-","-","-",{"$f":"INDEX(Input_Details!$L$5:$L$24, MATCH($A6529, Input_Details!$J$5:$J$24, 0), 0)","v":{"$error":"#N/A"}},"Fri","23:15:00",0,0,0,0,0,0,0,0,0,0,0,0,0,0,0,0,0,0,0,0,0,0,0,0,0,0,0,0,0,0,0,0,"-","-","-","-",null,"Fri","23:15:00",4,38,0,0,0,0,0,0,0,0,0,0,0,0,0,0,0,0,0,0,0,0,0,0,0,0,0,0,0,0,0,0,"-","-",0,0,4,38,0,0,0,42,0,0,0,0,0,0,4,38,0,0,0,42]
[{"$error":"#N/A"},{"$f":"OFFSET(Input_Details!$Q$4,MATCH($A6560, Input_Details!$J$5:$J$24, 0), 5)","v":{"$error":"#N/A"}},{"$f":"INDEX(Input_Details!$H$5:$H$24, MATCH($A6560, Input_Details!$J$5:$J$24, 0), 0)","v":{"$error":"#N/A"}},{"$f":"INDEX(Input_Details!$I$5:$I$24, MATCH($A6560, Input_Details!$J$5:$J$24, 0), 0)","v":{"$error":"#N/A"}},{"$f":"INDEX(Input_Details!$K$5:$K$24, MATCH($A6560, Input_Details!$J$5:$J$24, 0), 0)","v":{"$error":"#N/A"}},"Sat","07:00:00",1,21,0,0,0,0,0,0,0,0,0,0,0,0,0,0,0,0,0,0,0,0,0,0,0,0,0,0,0,0,0,0,"-","-","-","-",{"$f":"INDEX(Input_Details!$L$5:$L$24, MATCH($A6560, Input_Details!$J$5:$J$24, 0), 0)","v":{"$error":"#N/A"}},"Sat","07:00:00",0,0,0,0,0,0,0,0,0,0,0,0,0,0,0,0,0,0,0,0,0,0,0,0,0,0,0,0,0,0,0,0,"-","-","-","-",null,"Sat","07:00:00",1,21,0,0,0,0,0,0,0,0,0,0,0,0,0,0,0,0,0,0,0,0,0,0,0,0,0,0,0,0,0,0,"-","-",0,0,1,21,0,0,0,22,0,0,0,0,0,0,1,21,0,0,0,22]
[{"$error":"#N/A"},{"$f":"OFFSET(Input_Details!$Q$4,MATCH($A6563, Input_Details!$J$5:$J$24, 0), 5)","v":{"$error":"#N/A"}},{"$f":"INDEX(Input_Details!$H$5:$H$24, MATCH($A6563, Input_Details!$J$5:$J$24, 0), 0)","v":{"$error":"#N/A"}},{"$f":"INDEX(Input_Details!$I$5:$I$24, MATCH($A6563, Input_Details!$J$5:$J$24, 0), 0)","v":{"$error":"#N/A"}},{"$f":"INDEX(Input_Details!$K$5:$K$24, MATCH($A6563, Input_Details!$J$5:$J$24, 0), 0)","v":{"$error":"#N/A"}},"Sat","07:45:00",1,17,0,0,0,0,0,0,0,0,0,0,0,0,0,0,0,0,0,0,0,0,0,0,0,0,0,0,0,0,0,0,"-","-","-","-",{"$f":"INDEX(Input_Details!$L$5:$L$24, MATCH($A6563, Input_Details!$J$5:$J$24, 0), 0)","v":{"$error":"#N/A"}},"Sat","07:45:00",0,0,0,0,0,0,0,0,0,0,0,0,0,0,0,0,0,0,0,0,0,0,0,0,0,0,0,0,0,0,0,0,"-","-","-","-",null,"Sat","07:45:00",1,17,0,0,0,0,0,0,0,0,0,0,0,0,0,0,0,0,0,0,0,0,0,0,0,0,0,0,0,0,0,0,"-","-",0,0,1,17,0,0,0,18,0,0,0,0,0,0,1,17,0,0,0,18]
[{"$error":"#N/A"},{"$f":"OFFSET(Input_Details!$Q$4,MATCH($A6612, Input_Details!$J$5:$J$24, 0), 5)","v":{"$error":"#N/A"}},{"$f":"INDEX(Input_Details!$H$5:$H$24, MATCH($A6612, Input_Details!$J$5:$J$24, 0), 0)","v":{"$error":"#N/A"}},{"$f":"INDEX(Input_Details!$I$5:$I$24, MATCH($A6612, Input_Details!$J$5:$J$24, 0), 0)","v":{"$error":"#N/A"}},{"$f":"INDEX(Input_Details!$K$5:$K$24, MATCH($A6612, Input_Details!$J$5:$J$24, 0), 0)","v":{"$error":"#N/A"}},"Sat","20:00:00",5,51,0,0,0,0,0,0,0,0,0,0,0,0,0,0,0,0,0,0,0,0,0,0,0,0,0,0,0,0,0,0,"-","-","-","-",{"$f":"INDEX(Input_Details!$L$5:$L$24, MATCH($A6612, Input_Details!$J$5:$J$24, 0), 0)","v":{"$error":"#N/A"}},"Sat","20:00:00",0,0,0,0,0,0,0,0,0,0,0,0,0,0,0,0,0,0,0,0,0,0,0,0,0,0,0,0,0,0,0,0,"-","-","-","-",null,"Sat","20:00:00",5,51,0,0,0,0,0,0,0,0,0,0,0,0,0,0,0,0,0,0,0,0,0,0,0,0,0,0,0,0,0,0,"-","-",0,0,5,51,0,0,0,56,0,0,0,0,0,0,5,51,0,0,0,56]
[{"$error":"#N/A"},{"$f":"OFFSET(Input_Details!$Q$4,MATCH($A6626, Input_Details!$J$5:$J$24, 0), 5)","v":{"$error":"#N/A"}},{"$f":"INDEX(Input_Details!$H$5:$H$24, MATCH($A6626, Input_Details!$J$5:$J$24, 0), 0)","v":{"$error":"#N/A"}},{"$f":"INDEX(Input_Details!$I$5:$I$24, MATCH($A6626, Input_Details!$J$5:$J$24, 0), 0)","v":{"$error":"#N/A"}},{"$f":"INDEX(Input_Details!$K$5:$K$24, MATCH($A6626, Input_Details!$J$5:$J$24, 0), 0)","v":{"$error":"#N/A"}},"Sat","23:30:00",3,42,0,0,0,0,0,0,0,0,0,0,0,0,0,0,0,0,0,0,0,0,0,0,0,0,0,0,0,0,0,0,"-","-","-","-",{"$f":"INDEX(Input_Details!$L$5:$L$24, MATCH($A6626, Input_Details!$J$5:$J$24, 0), 0)","v":{"$error":"#N/A"}},"Sat","23:30:00",0,0,0,0,0,0,0,0,0,0,0,0,0,0,0,0,0,0,0,0,0,0,0,0,0,0,0,0,0,0,0,0,"-","-","-","-",null,"Sat","23:30:00",3,42,0,0,0,0,0,0,0,0,0,0,0,0,0,0,0,0,0,0,0,0,0,0,0,0,0,0,0,0,0,0,"-","-",0,0,3,42,0,0,0,45,0,0,0,0,0,0,3,42,0,0,0,45]
[{"$error":"#N/A"},{"$f":"OFFSET(Input_Details!$Q$4,MATCH($A6648, Input_Details!$J$5:$J$24, 0), 6)","v":{"$error":"#N/A"}},{"$f":"INDEX(Input_Details!$H$5:$H$24, MATCH($A6648, Input_Details!$J$5:$J$24, 0), 0)","v":{"$error":"#N/A"}},{"$f":"INDEX(Input_Details!$I$5:$I$24, MATCH($A6648, Input_Details!$J$5:$J$24, 0), 0)","v":{"$error":"#N/A"}},{"$f":"INDEX(Input_Details!$K$5:$K$24, MATCH($A6648, Input_Details!$J$5:$J$24, 0), 0)","v":{"$error":"#N/A"}},"Sun","05:00:00",1,11,0,0,0,0,0,0,0,0,0,0,0,0,0,0,0,0,0,0,0,0,0,0,0,0,0,0,0,0,0,0,"-","-","-","-",{"$f":"INDEX(Input_Details!$L$5:$L$24, MATCH($A6648, Input_Details!$J$5:$J$24, 0), 0)","v":{"$error":"#N/A"}},"Sun","05:00:00",0,0,0,0,0,0,0,0,0,0,0,0,0,0,0,0,0,0,0,0,0,0,0,0,0,0,0,0,0,0,0,0,"-","-","-","-",null,"Sun","05:00:00",1,11,0,0,0,0,0,0,0,0,0,0,0,0,0,0,0,0,0,0,0,0,0,0,0,0,0,0,0,0,0,0,"-","-",0,0,1,11,0,0,0,12,0,0,0,0,0,0,1,11,0,0,0,12]
[{"$error":"#N/A"},{"$f":"OFFSET(Input_Details!$Q$4,MATCH($A6693, Input_Details!$J$5:$J$24, 0), 6)","v":{"$error":"#N/A"}},{"$f":"INDEX(Input_Details!$H$5:$H$24, MATCH($A6693, Input_Details!$J$5:$J$24, 0), 0)","v":{"$error":"#N/A"}},{"$f":"INDEX(Input_Details!$I$5:$I$24, MATCH($A6693, Input_Details!$J$5:$J$24, 0), 0)","v":{"$error":"#N/A"}},{"$f":"INDEX(Input_Details!$K$5:$K$24, MATCH($A6693, Input_Details!$J$5:$J$24, 0), 0)","v":{"$error":"#N/A"}},"Sun","16:15:00",6,38,0,0,0,0,0,0,0,0,0,0,0,0,0,0,0,0,0,0,0,0,0,0,0,0,0,0,0,0,0,0,"-","-","-","-",{"$f":"INDEX(Input_Details!$L$5:$L$24, MATCH($A6693, Input_Details!$J$5:$J$24, 0), 0)","v":{"$error":"#N/A"}},"Sun","16:15:00",0,0,0,0,0,0,0,0,0,0,0,0,0,0,0,0,0,0,0,0,0,0,0,0,0,0,0,0,0,0,0,0,"-","-","-","-",null,"Sun","16:15:00",{"$f":"IF(OR(H6693=\"\", AU6693=\"\"), \"-\",SUM(H6693+AU6693))","v":6},38,0,0,0,0,0,0,0,0,0,0,0,0,0,0,0,0,0,0,0,0,0,0,0,0,0,0,0,0,0,0,{"$f":"IF(OR(DW6693=\"-\", EC6693=\"-\", EI6693=\"-\", EI6693=0),\"-\",IF(OR(DW6693=\"-\", DW6693=0),CA6693,IF(EC6693=0,AN6693,SUM((AN6693*DW6693),(CA6693*EC6693))/EI6693)))","v":"-"},{"$f":"IFERROR(IF(OR(DW6693=\"-\", EC6693=\"-\", EI6693=\"-\", EI6693=0), \"-\", IF(AO6693=\"-\", CB6693, AVERAGE(AO6693,CB6693))), \"-\")","v":"-"},{"$f":"IF(OR(DW6693=\"-\", EC6693=\"-\",EI6693=\"-\", EI6693=0),\"-\",MIN(AP6693,CC6693))","v":0},{"$f":"IF(OR(DW6693=\"-\", EC6693=\"-\",EI6693=\"-\", EI6693=0),\"-\",MAX(AQ6693,CD6693))","v":0},6,38,0,0,0,44,{"$f":"IF(AU6693=\"\", \"-\", AU6693)","v":0},{"$f":"IF(DX6693=\"-\", \"-\", SUM(AV6693:AW6693))","v":0},{"$f":"IF(DX6693=\"-\", \"-\", AX6693)","v":0},0,0,{"$f":"IF(DX6693=\"-\", \"-\", SUM(AU6693:BF6693))","v":0},{"$f":"IF(OR(DR6693=\"-\", DX6693=\"-\"), \"-\", SUM(DR6693,DX6693))","v":6},38,0,0,0,44]
[{"$error":"#N/A"},{"$f":"OFFSET(Input_Details!$Q$4,MATCH($A6696, Input_Details!$J$5:$J$24, 0), 6)","v":{"$error":"#N/A"}},{"$f":"INDEX(Input_Details!$H$5:$H$24, MATCH($A6696, Input_Details!$J$5:$J$24, 0), 0)","v":{"$error":"#N/A"}},{"$f":"INDEX(Input_Details!$I$5:$I$24, MATCH($A6696, Input_Details!$J$5:$J$24, 0), 0)","v":{"$error":"#N/A"}},{"$f":"INDEX(Input_Details!$K$5:$K$24, MATCH($A6696, Input_Details!$J$5:$J$24, 0), 0)","v":{"$error":"#N/A"}},"Sun","17:00:00",4,44,0,0,0,0,0,0,0,0,0,0,0,0,0,0,0,0,0,0,0,0,0,0,0,0,0,0,0,0,0,0,"-","-","-","-",{"$f":"INDEX(Input_Details!$L$5:$L$24, MATCH($A6696, Input_Details!$J$5:$J$24, 0), 0)","v":{"$error":"#N/A"}},"Sun","17:00:00",0,0,0,0,0,0,0,0,0,0,0,0,0,0,0,0,0,0,0,0,0,0,0,0,0,0,0,0,0,0,0,0,"-","-","-","-",null,"Sun","17:00:00",4,44,0,0,0,0,0,0,0,0,0,0,0,0,0,0,0,0,0,0,0,0,0,0,0,0,0,0,0,0,0,0,"-","-",0,0,4,44,0,0,0,48,0,0,0,0,0,0,4,44,0,0,0,48]
[{"$error":"#N/A"},"Weekday Average",{"$f":"INDEX(Input_Details!$H$5:$H$24, MATCH($A6731, Input_Details!$J$5:$J$24, 0), 0)","v":{"$error":"#N/A"}},{"$f":"INDEX(Input_Details!$I$5:$I$24, MATCH($A6731, Input_Details!$J$5:$J$24, 0), 0)","v":{"$error":"#N/A"}},{"$f":"INDEX(Input_Details!$K$5:$K$24, MATCH($A6731, Input_Details!$J$5:$J$24, 0), 0)","v":{"$error":"#N/A"}},"WD Ave","01:45:00",{"$f":"IF(AND(H6059=\"\",H6155=\"\",H6251=\"\",H6347=\"\",H6443=\"\"), \"-\", IF(H6059+H6155+H6251+H6347+H6443=0,0,ROUND(AVERAGE(H6059,H6155,H6251,H6347,H6443), 0)))","v":0},11,0,0,0,0,0,0,0,0,0,0,0,0,0,0,0,0,0,0,0,0,0,0,0,0,0,0,0,0,0,0,{"$f":"IF(SUM(H6731:S6731)=0,\"-\",AVERAGEIF(G6052:G6531,$G6731,AN6052:AN6531))","v":{"$error":"#DIV/0!"}},{"$f":"IFERROR(IF(SUM(H6731:S6731)=0,\"-\",AVERAGEIF(G6052:G6531,G6731,AO6052:AO6531)), \"-\")","v":"-"},0,0,{"$f":"INDEX(Input_Details!$L$5:$L$24, MATCH($A6731, Input_Details!$J$5:$J$24, 0), 0)","v":{"$error":"#N/A"}},"WD Ave","01:45:00",{"$f":"IF(AND(AU6059=\"\",AU6155=\"\",AU6251=\"\",AU6347=\"\",AU6443=\"\"), \"-\", IF(AU6059+AU6155+AU6251+AU6347+AU6443=0,0,ROUND(AVERAGE(AU6059,AU6155,AU6251,AU6347,AU6443), 0)))","v":0},0,0,0,0,0,0,0,0,0,0,0,0,0,0,0,0,0,0,0,0,0,0,0,0,0,0,0,0,0,0,0,{"$f":"IF(SUM(AU6731:BF6731)=0,\"-\",AVERAGEIF(AT6052:AT6531,$G6731,CA6052:CA6531))","v":"-"},{"$f":"IFERROR(IF(SUM(AU6731:BF6731)=0,\"-\",AVERAGEIF(AT6052:AT6531,AT6731,CB6052:CB6531)), \"-\")","v":"-"},"-","-",null,"WD Ave","01:45:00",{"$f":"IF(AND(CH6059=\"-\",CH6155=\"-\",CH6251=\"-\",CH6347=\"-\",CH6443=\"-\"), \"-\", ROUND(AVERAGE(CH6059,CH6155,CH6251,CH6347,CH6443), 0))","v":0},11,0,0,0,0,0,0,0,0,0,0,{"$f":"IF(AND(CT6059=\"-\",CT6155=\"-\",CT6251=\"-\",CT6347=\"-\",CT6443=\"-\"), \"-\", IF(SUM($CH6731:$CS6731)=0, 0, ROUND(AVERAGE(CT6059,CT6155,CT6251,CT6347,CT6443), 0)))","v":0},0,0,0,0,0,0,0,0,0,0,0,0,0,0,0,0,0,0,0,{"$error":"#DIV/0!"},"-",0,0,0,11,0,{"$f":"IF(DR6731=\"-\", \"-\", L6731)","v":0},0,11,0,0,0,0,0,0,0,11,0,0,0,11]
[{"$error":"#N/A"},"Weekday Average",{"$f":"INDEX(Input_Details!$H$5:$H$24, MATCH($A6763, Input_Details!$J$5:$J$24, 0), 0)","v":{"$error":"#N/A"}},{"$f":"INDEX(Input_Details!$I$5:$I$24, MATCH($A6763, Input_Details!$J$5:$J$24, 0), 0)","v":{"$error":"#N/A"}},{"$f":"INDEX(Input_Details!$K$5:$K$24, MATCH($A6763, Input_Details!$J$5:$J$24, 0), 0)","v":{"$error":"#N/A"}},"WD Ave","09:45:00",{"$f":"IF(AND(H6091=\"\",H6187=\"\",H6283=\"\",H6379=\"\",H6475=\"\"), \"-\", IF(H6091+H6187+H6283+H6379+H6475=0,0,ROUND(AVERAGE(H6091,H6187,H6283,H6379,H6475), 0)))","v":4},25,0,0,0,0,0,0,0,0,0,0,0,0,0,0,0,0,0,0,0,0,0,0,0,0,0,0,0,0,0,0,{"$f":"IF(SUM(H6763:S6763)=0,\"-\",AVERAGEIF(G6052:G6531,$G6763,AN6052:AN6531))","v":{"$error":"#DIV/0!"}},{"$f":"IFERROR(IF(SUM(H6763:S6763)=0,\"-\",AVERAGEIF(G6052:G6531,G6763,AO6052:AO6531)), \"-\")","v":"-"},0,0,{"$f":"INDEX(Input_Details!$L$5:$L$24, MATCH($A6763, Input_Details!$J$5:$J$24, 0), 0)","v":{"$error":"#N/A"}},"WD Ave","09:45:00",{"$f":"IF(AND(AU6091=\"\",AU6187=\"\",AU6283=\"\",AU6379=\"\",AU6475=\"\"), \"-\", IF(AU6091+AU6187+AU6283+AU6379+AU6475=0,0,ROUND(AVERAGE(AU6091,AU6187,AU6283,AU6379,AU6475), 0)))","v":0},0,0,0,0,0,0,0,0,0,0,0,0,0,0,0,0,0,0,0,0,0,0,0,0,0,0,0,0,0,0,0,{"$f":"IF(SUM(AU6763:BF6763)=0,\"-\",AVERAGEIF(AT6052:AT6531,$G6763,CA6052:CA6531))","v":"-"},{"$f":"IFERROR(IF(SUM(AU6763:BF6763)=0,\"-\",AVERAGEIF(AT6052:AT6531,AT6763,CB6052:CB6531)), \"-\")","v":"-"},"-","-",null,"WD Ave","09:45:00",{"$f":"IF(AND(CH6091=\"-\",CH6187=\"-\",CH6283=\"-\",CH6379=\"-\",CH6475=\"-\"), \"-\", ROUND(AVERAGE(CH6091,CH6187,CH6283,CH6379,CH6475), 0))","v":4},25,0,0,0,0,0,0,0,0,0,0,{"$f":"IF(AND(CT6091=\"-\",CT6187=\"-\",CT6283=\"-\",CT6379=\"-\",CT6475=\"-\"), \"-\", IF(SUM($CH6763:$CS6763)=0, 0, ROUND(AVERAGE(CT6091,CT6187,CT6283,CT6379,CT6475), 0)))","v":0},0,0,0,0,0,0,0,0,0,0,0,0,0,0,0,0,0,0,0,{"$error":"#DIV/0!"},"-",0,0,4,25,0,0,0,29,0,0,0,0,0,0,4,25,0,0,0,29]
[{"$error":"#N/A"},"Weekday Average",{"$f":"INDEX(Input_Details!$H$5:$H$24, MATCH($A6794, Input_Details!$J$5:$J$24, 0), 0)","v":{"$error":"#N/A"}},{"$f":"INDEX(Input_Details!$I$5:$I$24, MATCH($A6794, Input_Details!$J$5:$J$24, 0), 0)","v":{"$error":"#N/A"}},{"$f":"INDEX(Input_Details!$K$5:$K$24, MATCH($A6794, Input_Details!$J$5:$J$24, 0), 0)","v":{"$error":"#N/A"}},"WD Ave","17:30:00",{"$f":"IF(AND(H6122=\"\",H6218=\"\",H6314=\"\",H6410=\"\",H6506=\"\"), \"-\", IF(H6122+H6218+H6314+H6410+H6506=0,0,ROUND(AVERAGE(H6122,H6218,H6314,H6410,H6506), 0)))","v":24},51,0,0,0,0,0,0,0,0,0,0,0,0,0,0,0,0,0,0,0,0,0,0,0,0,0,0,0,0,0,0,{"$f":"IF(SUM(H6794:S6794)=0,\"-\",AVERAGEIF(G6052:G6531,$G6794,AN6052:AN6531))","v":{"$error":"#DIV/0!"}},{"$f":"IFERROR(IF(SUM(H6794:S6794)=0,\"-\",AVERAGEIF(G6052:G6531,G6794,AO6052:AO6531)), \"-\")","v":"-"},0,0,{"$f":"INDEX(Input_Details!$L$5:$L$24, MATCH($A6794, Input_Details!$J$5:$J$24, 0), 0)","v":{"$error":"#N/A"}},"WD Ave","17:30:00",{"$f":"IF(AND(AU6122=\"\",AU6218=\"\",AU6314=\"\",AU6410=\"\",AU6506=\"\"), \"-\", IF(AU6122+AU6218+AU6314+AU6410+AU6506=0,0,ROUND(AVERAGE(AU6122,AU6218,AU6314,AU6410,AU6506), 0)))","v":0},0,0,0,0,0,0,0,0,0,0,0,0,0,0,0,0,0,0,0,0,0,0,0,0,0,0,0,0,0,0,0,{"$f":"IF(SUM(AU6794:BF6794)=0,\"-\",AVERAGEIF(AT6052:AT6531,$G6794,CA6052:CA6531))","v":"-"},{"$f":"IFERROR(IF(SUM(AU6794:BF6794)=0,\"-\",AVERAGEIF(AT6052:AT6531,AT6794,CB6052:CB6531)), \"-\")","v":"-"},"-","-",null,"WD Ave","17:30:00",{"$f":"IF(AND(CH6122=\"-\",CH6218=\"-\",CH6314=\"-\",CH6410=\"-\",CH6506=\"-\"), \"-\", ROUND(AVERAGE(CH6122,CH6218,CH6314,CH6410,CH6506), 0))","v":24},51,0,0,0,0,0,0,0,0,0,0,{"$f":"IF(AND(CT6122=\"-\",CT6218=\"-\",CT6314=\"-\",CT6410=\"-\",CT6506=\"-\"), \"-\", IF(SUM($CH6794:$CS6794)=0, 0, ROUND(AVERAGE(CT6122,CT6218,CT6314,CT6410,CT6506), 0)))","v":0},0,0,0,0,0,0,0,0,0,0,0,0,0,0,0,0,0,0,0,{"$error":"#DIV/0!"},"-",0,0,24,51,0,0,0,75,0,0,0,0,0,0,24,51,0,0,0,75]
[{"$error":"#N/A"},"7-Day Average",{"$f":"INDEX(Input_Details!$H$5:$H$24, MATCH($A6826, Input_Details!$J$5:$J$24, 0), 0)","v":{"$error":"#N/A"}},{"$f":"INDEX(Input_Details!$I$5:$I$24, MATCH($A6826, Input_Details!$J$5:$J$24, 0), 0)","v":{"$error":"#N/A"}},{"$f":"INDEX(Input_Details!$K$5:$K$24, MATCH($A6826, Input_Details!$J$5:$J$24, 0), 0)","v":{"$error":"#N/A"}},"7 Day Ave","01:30:00",{"$f":"IF(AND(H6058=\"\",H6154=\"\",H6250=\"\",H6346=\"\",H6442=\"\",H6538=\"\",H6634=\"\"), \"-\", IF(H6058+H6154+H6250+H6346+H6442+H6538+H6634=0,0,ROUND(AVERAGE(H6058,H6154,H6250,H6346,H6442,H6538,H6634),0)))","v":2},15,0,0,0,0,0,0,0,0,0,0,0,0,0,0,0,0,0,0,0,0,0,0,0,0,0,0,0,0,0,0,{"$f":"IF(SUM(H6826:S6826)=0,\"-\",AVERAGEIF(G6052:G6723,$G6826,AN6052:AN6723))","v":{"$error":"#DIV/0!"}},{"$f":"IFERROR(IF(SUM(H6826:S6826)=0,\"-\",AVERAGEIF(G6052:G6723,G6826,AO6052:AO6723)), \"-\")","v":"-"},0,0,{"$f":"INDEX(Input_Details!$L$5:$L$24, MATCH($A6826, Input_Details!$J$5:$J$24, 0), 0)","v":{"$error":"#N/A"}},"7 Day Ave","01:30:00",{"$f":"IF(AND(AU6058=\"\",AU6154=\"\",AU6250=\"\",AU6346=\"\",AU6442=\"\",AU6538=\"\",AU6634=\"\"), \"-\", IF(AU6058+AU6154+AU6250+AU6346+AU6442+AU6538+AU6634=0,0,ROUND(AVERAGE(AU6058,AU6154,AU6250,AU6346,AU6442,AU6538,AU6634),0)))","v":0},0,0,0,0,0,0,0,0,0,0,0,0,0,0,0,0,0,0,0,0,0,0,0,0,0,0,0,0,0,0,0,{"$f":"IF(SUM(AU6826:BF6826)=0,\"-\",AVERAGEIF(AT6052:AT6723,$G6826,CA6052:CA6723))","v":"-"},{"$f":"IFERROR(IF(SUM(AU6826:BF6826)=0,\"-\",AVERAGEIF(AT6052:AT6723,AT6826,CB6052:CB6723)), \"-\")","v":"-"},"-","-",null,"7 Day Ave","01:30:00",{"$f":"IF(AND(CH6058=\"-\",CH6154=\"-\",CH6250=\"-\",CH6346=\"-\",CH6442=\"-\",CH6538=\"-\",CH6634=\"-\"), \"-\", ROUND(AVERAGE(CH6058,CH6154,CH6250,CH6346,CH6442,CH6538,CH6634),0))","v":2},15,0,0,0,0,0,0,0,0,0,0,{"$f":"IF(AND(CT6058=\"-\",CT6154=\"-\",CT6250=\"-\",CT6346=\"-\",CT6442=\"-\",CT6538=\"-\",CT6634=\"-\"), \"-\", IF(SUM($CH6826:$CS6826)=0, 0, ROUND(AVERAGE(CT6058,CT6154,CT6250,CT6346,CT6442,CT6538,CT6634),0)))","v":0},0,0,0,0,0,0,0,0,0,0,0,0,0,0,0,0,0,0,0,{"$error":"#DIV/0!"},"-",0,0,2,15,0,0,0,17,0,0,0,0,0,0,2,15,0,0,0,17]
[{"$error":"#N/A"},"7-Day Average",{"$f":"INDEX(Input_Details!$H$5:$H$24, MATCH($A6830, Input_Details!$J$5:$J$24, 0), 0)","v":{"$error":"#N/A"}},{"$f":"INDEX(Input_Details!$I$5:$I$24, MATCH($A6830, Input_Details!$J$5:$J$24, 0), 0)","v":{"$error":"#N/A"}},{"$f":"INDEX(Input_Details!$K$5:$K$24, MATCH($A6830, Input_Details!$J$5:$J$24, 0), 0)","v":{"$error":"#N/A"}},"7 Day Ave","02:30:00",{"$f":"IF(AND(H6062=\"\",H6158=\"\",H6254=\"\",H6350=\"\",H6446=\"\",H6542=\"\",H6638=\"\"), \"-\", IF(H6062+H6158+H6254+H6350+H6446+H6542+H6638=0,0,ROUND(AVERAGE(H6062,H6158,H6254,H6350,H6446,H6542,H6638),0)))","v":1},10,0,0,0,0,0,0,0,0,0,0,0,0,0,0,0,0,0,0,0,0,0,0,0,0,0,0,0,0,0,0,{"$f":"IF(SUM(H6830:S6830)=0,\"-\",AVERAGEIF(G6052:G6723,$G6830,AN6052:AN6723))","v":{"$error":"#DIV/0!"}},{"$f":"IFERROR(IF(SUM(H6830:S6830)=0,\"-\",AVERAGEIF(G6052:G6723,G6830,AO6052:AO6723)), \"-\")","v":"-"},0,0,{"$f":"INDEX(Input_Details!$L$5:$L$24, MATCH($A6830, Input_Details!$J$5:$J$24, 0), 0)","v":{"$error":"#N/A"}},"7 Day Ave","02:30:00",{"$f":"IF(AND(AU6062=\"\",AU6158=\"\",AU6254=\"\",AU6350=\"\",AU6446=\"\",AU6542=\"\",AU6638=\"\"), \"-\", IF(AU6062+AU6158+AU6254+AU6350+AU6446+AU6542+AU6638=0,0,ROUND(AVERAGE(AU6062,AU6158,AU6254,AU6350,AU6446,AU6542,AU6638),0)))","v":0},0,0,0,0,0,0,0,0,0,0,0,0,0,0,0,0,0,0,0,0,0,0,0,0,0,0,0,0,0,0,0,{"$f":"IF(SUM(AU6830:BF6830)=0,\"-\",AVERAGEIF(AT6052:AT6723,$G6830,CA6052:CA6723))","v":"-"},{"$f":"IFERROR(IF(SUM(AU6830:BF6830)=0,\"-\",AVERAGEIF(AT6052:AT6723,AT6830,CB6052:CB6723)), \"-\")","v":"-"},"-","-",null,"7 Day Ave","02:30:00",{"$f":"IF(AND(CH6062=\"-\",CH6158=\"-\",CH6254=\"-\",CH6350=\"-\",CH6446=\"-\",CH6542=\"-\",CH6638=\"-\"), \"-\", ROUND(AVERAGE(CH6062,CH6158,CH6254,CH6350,CH6446,CH6542,CH6638),0))","v":1},10,0,0,0,0,0,0,0,0,0,0,{"$f":"IF(AND(CT6062=\"-\",CT6158=\"-\",CT6254=\"-\",CT6350=\"-\",CT6446=\"-\",CT6542=\"-\",CT6638=\"-\"), \"-\", IF(SUM($CH6830:$CS6830)=0, 0, ROUND(AVERAGE(CT6062,CT6158,CT6254,CT6350,CT6446,CT6542,CT6638),0)))","v":0},0,0,0,0,0,0,0,0,0,0,0,0,0,0,0,0,0,0,0,{"$error":"#DIV/0!"},"-",0,0,1,10,0,0,0,11,0,0,0,0,0,0,1,10,0,0,0,11]
[{"$error":"#N/A"},"7-Day Average",{"$f":"INDEX(Input_Details!$H$5:$H$24, MATCH($A6854, Input_Details!$J$5:$J$24, 0), 0)","v":{"$error":"#N/A"}},{"$f":"INDEX(Input_Details!$I$5:$I$24, MATCH($A6854, Input_Details!$J$5:$J$24, 0), 0)","v":{"$error":"#N/A"}},{"$f":"INDEX(Input_Details!$K$5:$K$24, MATCH($A6854, Input_Details!$J$5:$J$24, 0), 0)","v":{"$error":"#N/A"}},"7 Day Ave","08:30:00",{"$f":"IF(AND(H6086=\"\",H6182=\"\",H6278=\"\",H6374=\"\",H6470=\"\",H6566=\"\",H6662=\"\"), \"-\", IF(H6086+H6182+H6278+H6374+H6470+H6566+H6662=0,0,ROUND(AVERAGE(H6086,H6182,H6278,H6374,H6470,H6566,H6662),0)))","v":5},21,0,0,0,0,0,0,0,0,0,0,0,0,0,0,0,0,0,0,0,0,0,0,0,0,0,0,0,0,0,0,{"$f":"IF(SUM(H6854:S6854)=0,\"-\",AVERAGEIF(G6052:G6723,$G6854,AN6052:AN6723))","v":{"$error":"#DIV/0!"}},{"$f":"IFERROR(IF(SUM(H6854:S6854)=0,\"-\",AVERAGEIF(G6052:G6723,G6854,AO6052:AO6723)), \"-\")","v":"-"},0,0,{"$f":"INDEX(Input_Details!$L$5:$L$24, MATCH($A6854, Input_Details!$J$5:$J$24, 0), 0)","v":{"$error":"#N/A"}},"7 Day Ave","08:30:00",{"$f":"IF(AND(AU6086=\"\",AU6182=\"\",AU6278=\"\",AU6374=\"\",AU6470=\"\",AU6566=\"\",AU6662=\"\"), \"-\", IF(AU6086+AU6182+AU6278+AU6374+AU6470+AU6566+AU6662=0,0,ROUND(AVERAGE(AU6086,AU6182,AU6278,AU6374,AU6470,AU6566,AU6662),0)))","v":0},0,0,0,0,0,0,0,0,0,0,0,0,0,0,0,0,0,0,0,0,0,0,0,0,0,0,0,0,0,0,0,{"$f":"IF(SUM(AU6854:BF6854)=0,\"-\",AVERAGEIF(AT6052:AT6723,$G6854,CA6052:CA6723))","v":"-"},{"$f":"IFERROR(IF(SUM(AU6854:BF6854)=0,\"-\",AVERAGEIF(AT6052:AT6723,AT6854,CB6052:CB6723)), \"-\")","v":"-"},"-","-",null,"7 Day Ave","08:30:00",{"$f":"IF(AND(CH6086=\"-\",CH6182=\"-\",CH6278=\"-\",CH6374=\"-\",CH6470=\"-\",CH6566=\"-\",CH6662=\"-\"), \"-\", ROUND(AVERAGE(CH6086,CH6182,CH6278,CH6374,CH6470,CH6566,CH6662),0))","v":5},21,0,0,0,0,0,0,0,0,0,0,{"$f":"IF(AND(CT6086=\"-\",CT6182=\"-\",CT6278=\"-\",CT6374=\"-\",CT6470=\"-\",CT6566=\"-\",CT6662=\"-\"), \"-\", IF(SUM($CH6854:$CS6854)=0, 0, ROUND(AVERAGE(CT6086,CT6182,CT6278,CT6374,CT6470,CT6566,CT6662),0)))","v":0},0,0,0,0,0,0,0,0,0,0,0,0,0,0,0,0,0,0,0,{"$error":"#DIV/0!"},"-",0,0,5,21,0,0,0,26,0,0,0,0,0,0,5,21,0,0,0,26]
[{"$error":"#N/A"},"7-Day Average",{"$f":"INDEX(Input_Details!$H$5:$H$24, MATCH($A6855, Input_Details!$J$5:$J$24, 0), 0)","v":{"$error":"#N/A"}},{"$f":"INDEX(Input_Details!$I$5:$I$24, MATCH($A6855, Input_Details!$J$5:$J$24, 0), 0)","v":{"$error":"#N/A"}},{"$f":"INDEX(Input_Details!$K$5:$K$24, MATCH($A6855, Input_Details!$J$5:$J$24, 0), 0)","v":{"$error":"#N/A"}},"7 Day Ave","08:45:00",{"$f":"IF(AND(H6087=\"\",H6183=\"\",H6279=\"\",H6375=\"\",H6471=\"\",H6567=\"\",H6663=\"\"), \"-\", IF(H6087+H6183+H6279+H6375+H6471+H6567+H6663=0,0,ROUND(AVERAGE(H6087,H6183,H6279,H6375,H6471,H6567,H6663),0)))","v":4},19,0,0,0,0,0,0,0,0,0,0,0,0,0,0,0,0,0,0,0,0,0,0,0,0,0,0,0,0,0,0,{"$f":"IF(SUM(H6855:S6855)=0,\"-\",AVERAGEIF(G6052:G6723,$G6855,AN6052:AN6723))","v":{"$error":"#DIV/0!"}},{"$f":"IFERROR(IF(SUM(H6855:S6855)=0,\"-\",AVERAGEIF(G6052:G6723,G6855,AO6052:AO6723)), \"-\")","v":"-"},0,0,{"$f":"INDEX(Input_Details!$L$5:$L$24, MATCH($A6855, Input_Details!$J$5:$J$24, 0), 0)","v":{"$error":"#N/A"}},"7 Day Ave","08:45:00",{"$f":"IF(AND(AU6087=\"\",AU6183=\"\",AU6279=\"\",AU6375=\"\",AU6471=\"\",AU6567=\"\",AU6663=\"\"), \"-\", IF(AU6087+AU6183+AU6279+AU6375+AU6471+AU6567+AU6663=0,0,ROUND(AVERAGE(AU6087,AU6183,AU6279,AU6375,AU6471,AU6567,AU6663),0)))","v":0},0,0,0,0,0,0,0,0,0,0,0,0,0,0,0,0,0,0,0,0,0,0,0,0,0,0,0,0,0,0,0,{"$f":"IF(SUM(AU6855:BF6855)=0,\"-\",AVERAGEIF(AT6052:AT6723,$G6855,CA6052:CA6723))","v":"-"},{"$f":"IFERROR(IF(SUM(AU6855:BF6855)=0,\"-\",AVERAGEIF(AT6052:AT6723,AT6855,CB6052:CB6723)), \"-\")","v":"-"},"-","-",null,"7 Day Ave","08:45:00",{"$f":"IF(AND(CH6087=\"-\",CH6183=\"-\",CH6279=\"-\",CH6375=\"-\",CH6471=\"-\",CH6567=\"-\",CH6663=\"-\"), \"-\", ROUND(AVERAGE(CH6087,CH6183,CH6279,CH6375,CH6471,CH6567,CH6663),0))","v":4},19,0,0,0,0,0,0,0,0,0,0,{"$f":"IF(AND(CT6087=\"-\",CT6183=\"-\",CT6279=\"-\",CT6375=\"-\",CT6471=\"-\",CT6567=\"-\",CT6663=\"-\"), \"-\", IF(SUM($CH6855:$CS6855)=0, 0, ROUND(AVERAGE(CT6087,CT6183,CT6279,CT6375,CT6471,CT6567,CT6663),0)))","v":0},0,0,0,0,0,0,0,0,0,0,0,0,0,0,0,0,0,0,0,{"$error":"#DIV/0!"},"-",0,0,4,19,0,0,0,23,0,0,0,0,0,0,4,19,0,0,0,23]
[{"$error":"#N/A"},"7-Day Average",{"$f":"INDEX(Input_Details!$H$5:$H$24, MATCH($A6856, Input_Details!$J$5:$J$24, 0), 0)","v":{"$error":"#N/A"}},{"$f":"INDEX(Input_Details!$I$5:$I$24, MATCH($A6856, Input_Details!$J$5:$J$24, 0), 0)","v":{"$error":"#N/A"}},{"$f":"INDEX(Input_Details!$K$5:$K$24, MATCH($A6856, Input_Details!$J$5:$J$24, 0), 0)","v":{"$error":"#N/A"}},"7 Day Ave","09:00:00",{"$f":"IF(AND(H6088=\"\",H6184=\"\",H6280=\"\",H6376=\"\",H6472=\"\",H6568=\"\",H6664=\"\"), \"-\", IF(H6088+H6184+H6280+H6376+H6472+H6568+H6664=0,0,ROUND(AVERAGE(H6088,H6184,H6280,H6376,H6472,H6568,H6664),0)))","v":4},27,0,0,0,0,0,0,0,0,0,0,0,0,0,0,0,0,0,0,0,0,0,0,0,0,0,0,0,0,0,0,{"$f":"IF(SUM(H6856:S6856)=0,\"-\",AVERAGEIF(G6052:G6723,$G6856,AN6052:AN6723))","v":{"$error":"#DIV/0!"}},{"$f":"IFERROR(IF(SUM(H6856:S6856)=0,\"-\",AVERAGEIF(G6052:G6723,G6856,AO6052:AO6723)), \"-\")","v":"-"},0,0,{"$f":"INDEX(Input_Details!$L$5:$L$24, MATCH($A6856, Input_Details!$J$5:$J$24, 0), 0)","v":{"$error":"#N/A"}},"7 Day Ave","09:00:00",{"$f":"IF(AND(AU6088=\"\",AU6184=\"\",AU6280=\"\",AU6376=\"\",AU6472=\"\",AU6568=\"\",AU6664=\"\"), \"-\", IF(AU6088+AU6184+AU6280+AU6376+AU6472+AU6568+AU6664=0,0,ROUND(AVERAGE(AU6088,AU6184,AU6280,AU6376,AU6472,AU6568,AU6664),0)))","v":0},0,0,0,0,0,0,0,0,0,0,0,0,0,0,0,0,0,0,0,0,0,0,0,0,0,0,0,0,0,0,0,{"$f":"IF(SUM(AU6856:BF6856)=0,\"-\",AVERAGEIF(AT6052:AT6723,$G6856,CA6052:CA6723))","v":"-"},{"$f":"IFERROR(IF(SUM(AU6856:BF6856)=0,\"-\",AVERAGEIF(AT6052:AT6723,AT6856,CB6052:CB6723)), \"-\")","v":"-"},"-","-",null,"7 Day Ave","09:00:00",{"$f":"IF(AND(CH6088=\"-\",CH6184=\"-\",CH6280=\"-\",CH6376=\"-\",CH6472=\"-\",CH6568=\"-\",CH6664=\"-\"), \"-\", ROUND(AVERAGE(CH6088,CH6184,CH6280,CH6376,CH6472,CH6568,CH6664),0))","v":4},27,0,0,0,0,0,0,0,0,0,0,{"$f":"IF(AND(CT6088=\"-\",CT6184=\"-\",CT6280=\"-\",CT6376=\"-\",CT6472=\"-\",CT6568=\"-\",CT6664=\"-\"), \"-\", IF(SUM($CH6856:$CS6856)=0, 0, ROUND(AVERAGE(CT6088,CT6184,CT6280,CT6376,CT6472,CT6568,CT6664),0)))","v":0},0,0,0,0,0,0,0,0,0,0,0,0,0,0,0,0,0,0,0,{"$error":"#DIV/0!"},"-",0,0,4,27,0,0,0,31,0,0,0,0,0,0,4,27,0,0,0,31]
[{"$error":"#N/A"},"7-Day Average",{"$f":"INDEX(Input_Details!$H$5:$H$24, MATCH($A6857, Input_Details!$J$5:$J$24, 0), 0)","v":{"$error":"#N/A"}},{"$f":"INDEX(Input_Details!$I$5:$I$24, MATCH($A6857, Input_Details!$J$5:$J$24, 0), 0)","v":{"$error":"#N/A"}},{"$f":"INDEX(Input_Details!$K$5:$K$24, MATCH($A6857, Input_Details!$J$5:$J$24, 0), 0)","v":{"$error":"#N/A"}},"7 Day Ave","09:15:00",{"$f":"IF(AND(H6089=\"\",H6185=\"\",H6281=\"\",H6377=\"\",H6473=\"\",H6569=\"\",H6665=\"\"), \"-\", IF(H6089+H6185+H6281+H6377+H6473+H6569+H6665=0,0,ROUND(AVERAGE(H6089,H6185,H6281,H6377,H6473,H6569,H6665),0)))","v":3},25,0,0,0,0,0,0,0,0,0,0,0,0,0,0,0,0,0,0,0,0,0,0,0,0,0,0,0,0,0,0,{"$f":"IF(SUM(H6857:S6857)=0,\"-\",AVERAGEIF(G6052:G6723,$G6857,AN6052:AN6723))","v":{"$error":"#DIV/0!"}},{"$f":"IFERROR(IF(SUM(H6857:S6857)=0,\"-\",AVERAGEIF(G6052:G6723,G6857,AO6052:AO6723)), \"-\")","v":"-"},0,0,{"$f":"INDEX(Input_Details!$L$5:$L$24, MATCH($A6857, Input_Details!$J$5:$J$24, 0), 0)","v":{"$error":"#N/A"}},"7 Day Ave","09:15:00",{"$f":"IF(AND(AU6089=\"\",AU6185=\"\",AU6281=\"\",AU6377=\"\",AU6473=\"\",AU6569=\"\",AU6665=\"\"), \"-\", IF(AU6089+AU6185+AU6281+AU6377+AU6473+AU6569+AU6665=0,0,ROUND(AVERAGE(AU6089,AU6185,AU6281,AU6377,AU6473,AU6569,AU6665),0)))","v":0},0,0,0,0,0,0,0,0,0,0,0,0,0,0,0,0,0,0,0,0,0,0,0,0,0,0,0,0,0,0,0,{"$f":"IF(SUM(AU6857:BF6857)=0,\"-\",AVERAGEIF(AT6052:AT6723,$G6857,CA6052:CA6723))","v":"-"},{"$f":"IFERROR(IF(SUM(AU6857:BF6857)=0,\"-\",AVERAGEIF(AT6052:AT6723,AT6857,CB6052:CB6723)), \"-\")","v":"-"},"-","-",null,"7 Day Ave","09:15:00",{"$f":"IF(AND(CH6089=\"-\",CH6185=\"-\",CH6281=\"-\",CH6377=\"-\",CH6473=\"-\",CH6569=\"-\",CH6665=\"-\"), \"-\", ROUND(AVERAGE(CH6089,CH6185,CH6281,CH6377,CH6473,CH6569,CH6665),0))","v":3},25,0,0,0,0,0,0,0,0,0,0,{"$f":"IF(AND(CT6089=\"-\",CT6185=\"-\",CT6281=\"-\",CT6377=\"-\",CT6473=\"-\",CT6569=\"-\",CT6665=\"-\"), \"-\", IF(SUM($CH6857:$CS6857)=0, 0, ROUND(AVERAGE(CT6089,CT6185,CT6281,CT6377,CT6473,CT6569,CT6665),0)))","v":0},0,0,0,0,0,0,0,0,0,0,0,0,0,0,0,0,0,0,0,{"$error":"#DIV/0!"},"-",0,0,3,25,0,0,0,28,0,0,0,0,0,0,3,25,0,0,0,28]
[{"$error":"#N/A"},"7-Day Average",{"$f":"INDEX(Input_Details!$H$5:$H$24, MATCH($A6858, Input_Details!$J$5:$J$24, 0), 0)","v":{"$error":"#N/A"}},{"$f":"INDEX(Input_Details!$I$5:$I$24, MATCH($A6858, Input_Details!$J$5:$J$24, 0), 0)","v":{"$error":"#N/A"}},{"$f":"INDEX(Input_Details!$K$5:$K$24, MATCH($A6858, Input_Details!$J$5:$J$24, 0), 0)","v":{"$error":"#N/A"}},"7 Day Ave","09:30:00",{"$f":"IF(AND(H6090=\"\",H6186=\"\",H6282=\"\",H6378=\"\",H6474=\"\",H6570=\"\",H6666=\"\"), \"-\", IF(H6090+H6186+H6282+H6378+H6474+H6570+H6666=0,0,ROUND(AVERAGE(H6090,H6186,H6282,H6378,H6474,H6570,H6666),0)))","v":2},24,0,0,0,0,0,0,0,0,0,0,0,0,0,0,0,0,0,0,0,0,0,0,0,0,0,0,0,0,0,0,{"$f":"IF(SUM(H6858:S6858)=0,\"-\",AVERAGEIF(G6052:G6723,$G6858,AN6052:AN6723))","v":{"$error":"#DIV/0!"}},{"$f":"IFERROR(IF(SUM(H6858:S6858)=0,\"-\",AVERAGEIF(G6052:G6723,G6858,AO6052:AO6723)), \"-\")","v":"-"},0,0,{"$f":"INDEX(Input_Details!$L$5:$L$24, MATCH($A6858, Input_Details!$J$5:$J$24, 0), 0)","v":{"$error":"#N/A"}},"7 Day Ave","09:30:00",{"$f":"IF(AND(AU6090=\"\",AU6186=\"\",AU6282=\"\",AU6378=\"\",AU6474=\"\",AU6570=\"\",AU6666=\"\"), \"-\", IF(AU6090+AU6186+AU6282+AU6378+AU6474+AU6570+AU6666=0,0,ROUND(AVERAGE(AU6090,AU6186,AU6282,AU6378,AU6474,AU6570,AU6666),0)))","v":0},0,0,0,0,0,0,0,0,0,0,0,0,0,0,0,0,0,0,0,0,0,0,0,0,0,0,0,0,0,0,0,{"$f":"IF(SUM(AU6858:BF6858)=0,\"-\",AVERAGEIF(AT6052:AT6723,$G6858,CA6052:CA6723))","v":"-"},{"$f":"IFERROR(IF(SUM(AU6858:BF6858)=0,\"-\",AVERAGEIF(AT6052:AT6723,AT6858,CB6052:CB6723)), \"-\")","v":"-"},"-","-",null,"7 Day Ave","09:30:00",{"$f":"IF(AND(CH6090=\"-\",CH6186=\"-\",CH6282=\"-\",CH6378=\"-\",CH6474=\"-\",CH6570=\"-\",CH6666=\"-\"), \"-\", ROUND(AVERAGE(CH6090,CH6186,CH6282,CH6378,CH6474,CH6570,CH6666),0))","v":2},24,0,0,0,0,0,0,0,0,0,0,{"$f":"IF(AND(CT6090=\"-\",CT6186=\"-\",CT6282=\"-\",CT6378=\"-\",CT6474=\"-\",CT6570=\"-\",CT6666=\"-\"), \"-\", IF(SUM($CH6858:$CS6858)=0, 0, ROUND(AVERAGE(CT6090,CT6186,CT6282,CT6378,CT6474,CT6570,CT6666),0)))","v":0},0,0,0,0,0,0,0,0,0,0,0,0,0,0,0,0,0,0,0,{"$error":"#DIV/0!"},"-",0,0,2,24,0,0,0,26,0,0,0,0,0,0,2,24,0,0,0,26]
[{"$error":"#N/A"},"7-Day Average",{"$f":"INDEX(Input_Details!$H$5:$H$24, MATCH($A6859, Input_Details!$J$5:$J$24, 0), 0)","v":{"$error":"#N/A"}},{"$f":"INDEX(Input_Details!$I$5:$I$24, MATCH($A6859, Input_Details!$J$5:$J$24, 0), 0)","v":{"$error":"#N/A"}},{"$f":"INDEX(Input_Details!$K$5:$K$24, MATCH($A6859, Input_Details!$J$5:$J$24, 0), 0)","v":{"$error":"#N/A"}},"7 Day Ave","09:45:00",{"$f":"IF(AND(H6091=\"\",H6187=\"\",H6283=\"\",H6379=\"\",H6475=\"\",H6571=\"\",H6667=\"\"), \"-\", IF(H6091+H6187+H6283+H6379+H6475+H6571+H6667=0,0,ROUND(AVERAGE(H6091,H6187,H6283,H6379,H6475,H6571,H6667),0)))","v":4},25,0,0,0,0,0,0,0,0,0,0,0,0,0,0,0,0,0,0,0,0,0,0,0,0,0,0,0,0,0,0,{"$f":"IF(SUM(H6859:S6859)=0,\"-\",AVERAGEIF(G6052:G6723,$G6859,AN6052:AN6723))","v":{"$error":"#DIV/0!"}},{"$f":"IFERROR(IF(SUM(H6859:S6859)=0,\"-\",AVERAGEIF(G6052:G6723,G6859,AO6052:AO6723)), \"-\")","v":"-"},0,0,{"$f":"INDEX(Input_Details!$L$5:$L$24, MATCH($A6859, Input_Details!$J$5:$J$24, 0), 0)","v":{"$error":"#N/A"}},"7 Day Ave","09:45:00",{"$f":"IF(AND(AU6091=\"\",AU6187=\"\",AU6283=\"\",AU6379=\"\",AU6475=\"\",AU6571=\"\",AU6667=\"\"), \"-\", IF(AU6091+AU6187+AU6283+AU6379+AU6475+AU6571+AU6667=0,0,ROUND(AVERAGE(AU6091,AU6187,AU6283,AU6379,AU6475,AU6571,AU6667),0)))","v":0},0,0,0,0,0,0,0,0,0,0,0,0,0,0,0,0,0,0,0,0,0,0,0,0,0,0,0,0,0,0,0,{"$f":"IF(SUM(AU6859:BF6859)=0,\"-\",AVERAGEIF(AT6052:AT6723,$G6859,CA6052:CA6723))","v":"-"},{"$f":"IFERROR(IF(SUM(AU6859:BF6859)=0,\"-\",AVERAGEIF(AT6052:AT6723,AT6859,CB6052:CB6723)), \"-\")","v":"-"},"-","-",null,"7 Day Ave","09:45:00",{"$f":"IF(AND(CH6091=\"-\",CH6187=\"-\",CH6283=\"-\",CH6379=\"-\",CH6475=\"-\",CH6571=\"-\",CH6667=\"-\"), \"-\", ROUND(AVERAGE(CH6091,CH6187,CH6283,CH6379,CH6475,CH6571,CH6667),0))","v":4},25,0,0,0,0,0,0,0,0,0,0,{"$f":"IF(AND(CT6091=\"-\",CT6187=\"-\",CT6283=\"-\",CT6379=\"-\",CT6475=\"-\",CT6571=\"-\",CT6667=\"-\"), \"-\", IF(SUM($CH6859:$CS6859)=0, 0, ROUND(AVERAGE(CT6091,CT6187,CT6283,CT6379,CT6475,CT6571,CT6667),0)))","v":0},0,0,0,0,0,0,0,0,0,0,0,0,0,0,0,0,0,0,0,{"$error":"#DIV/0!"},"-",0,0,4,25,0,0,0,29,0,0,0,0,0,0,4,25,0,0,0,29]
[{"$error":"#N/A"},"7-Day Average",{"$f":"INDEX(Input_Details!$H$5:$H$24, MATCH($A6860, Input_Details!$J$5:$J$24, 0), 0)","v":{"$error":"#N/A"}},{"$f":"INDEX(Input_Details!$I$5:$I$24, MATCH($A6860, Input_Details!$J$5:$J$24, 0), 0)","v":{"$error":"#N/A"}},{"$f":"INDEX(Input_Details!$K$5:$K$24, MATCH($A6860, Input_Details!$J$5:$J$24, 0), 0)","v":{"$error":"#N/A"}},"7 Day Ave","10:00:00",{"$f":"IF(AND(H6092=\"\",H6188=\"\",H6284=\"\",H6380=\"\",H6476=\"\",H6572=\"\",H6668=\"\"), \"-\", IF(H6092+H6188+H6284+H6380+H6476+H6572+H6668=0,0,ROUND(AVERAGE(H6092,H6188,H6284,H6380,H6476,H6572,H6668),0)))","v":2},28,0,0,0,0,0,0,0,0,0,0,0,0,0,0,0,0,0,0,0,0,0,0,0,0,0,0,0,0,0,0,{"$f":"IF(SUM(H6860:S6860)=0,\"-\",AVERAGEIF(G6052:G6723,$G6860,AN6052:AN6723))","v":{"$error":"#DIV/0!"}},{"$f":"IFERROR(IF(SUM(H6860:S6860)=0,\"-\",AVERAGEIF(G6052:G6723,G6860,AO6052:AO6723)), \"-\")","v":"-"},0,0,{"$f":"INDEX(Input_Details!$L$5:$L$24, MATCH($A6860, Input_Details!$J$5:$J$24, 0), 0)","v":{"$error":"#N/A"}},"7 Day Ave","10:00:00",{"$f":"IF(AND(AU6092=\"\",AU6188=\"\",AU6284=\"\",AU6380=\"\",AU6476=\"\",AU6572=\"\",AU6668=\"\"), \"-\", IF(AU6092+AU6188+AU6284+AU6380+AU6476+AU6572+AU6668=0,0,ROUND(AVERAGE(AU6092,AU6188,AU6284,AU6380,AU6476,AU6572,AU6668),0)))","v":0},0,0,0,0,0,0,0,0,0,0,0,0,0,0,0,0,0,0,0,0,0,0,0,0,0,0,0,0,0,0,0,{"$f":"IF(SUM(AU6860:BF6860)=0,\"-\",AVERAGEIF(AT6052:AT6723,$G6860,CA6052:CA6723))","v":"-"},{"$f":"IFERROR(IF(SUM(AU6860:BF6860)=0,\"-\",AVERAGEIF(AT6052:AT6723,AT6860,CB6052:CB6723)), \"-\")","v":"-"},"-","-",null,"7 Day Ave","10:00:00",{"$f":"IF(AND(CH6092=\"-\",CH6188=\"-\",CH6284=\"-\",CH6380=\"-\",CH6476=\"-\",CH6572=\"-\",CH6668=\"-\"), \"-\", ROUND(AVERAGE(CH6092,CH6188,CH6284,CH6380,CH6476,CH6572,CH6668),0))","v":2},28,0,0,0,0,0,0,0,0,0,0,{"$f":"IF(AND(CT6092=\"-\",CT6188=\"-\",CT6284=\"-\",CT6380=\"-\",CT6476=\"-\",CT6572=\"-\",CT6668=\"-\"), \"-\", IF(SUM($CH6860:$CS6860)=0, 0, ROUND(AVERAGE(CT6092,CT6188,CT6284,CT6380,CT6476,CT6572,CT6668),0)))","v":0},0,0,0,0,0,0,0,0,0,0,0,0,0,0,0,0,0,0,0,{"$error":"#DIV/0!"},"-",0,0,2,28,0,{"$f":"IF(DR6860=\"-\", \"-\", L6860)","v":0},0,30,0,0,0,0,0,0,2,28,0,0,0,30]
[{"$error":"#N/A"},"7-Day Average",{"$f":"INDEX(Input_Details!$H$5:$H$24, MATCH($A6861, Input_Details!$J$5:$J$24, 0), 0)","v":{"$error":"#N/A"}},{"$f":"INDEX(Input_Details!$I$5:$I$24, MATCH($A6861, Input_Details!$J$5:$J$24, 0), 0)","v":{"$error":"#N/A"}},{"$f":"INDEX(Input_Details!$K$5:$K$24, MATCH($A6861, Input_Details!$J$5:$J$24, 0), 0)","v":{"$error":"#N/A"}},"7 Day Ave","10:15:00",{"$f":"IF(AND(H6093=\"\",H6189=\"\",H6285=\"\",H6381=\"\",H6477=\"\",H6573=\"\",H6669=\"\"), \"-\", IF(H6093+H6189+H6285+H6381+H6477+H6573+H6669=0,0,ROUND(AVERAGE(H6093,H6189,H6285,H6381,H6477,H6573,H6669),0)))","v":2},29,0,0,0,0,0,0,0,0,0,0,0,0,0,0,0,0,0,0,0,0,0,0,0,0,0,0,0,0,0,0,{"$f":"IF(SUM(H6861:S6861)=0,\"-\",AVERAGEIF(G6052:G6723,$G6861,AN6052:AN6723))","v":{"$error":"#DIV/0!"}},{"$f":"IFERROR(IF(SUM(H6861:S6861)=0,\"-\",AVERAGEIF(G6052:G6723,G6861,AO6052:AO6723)), \"-\")","v":"-"},0,0,{"$f":"INDEX(Input_Details!$L$5:$L$24, MATCH($A6861, Input_Details!$J$5:$J$24, 0), 0)","v":{"$error":"#N/A"}},"7 Day Ave","10:15:00",{"$f":"IF(AND(AU6093=\"\",AU6189=\"\",AU6285=\"\",AU6381=\"\",AU6477=\"\",AU6573=\"\",AU6669=\"\"), \"-\", IF(AU6093+AU6189+AU6285+AU6381+AU6477+AU6573+AU6669=0,0,ROUND(AVERAGE(AU6093,AU6189,AU6285,AU6381,AU6477,AU6573,AU6669),0)))","v":0},0,0,0,0,0,0,0,0,0,0,0,0,0,0,0,0,0,0,0,0,0,0,0,0,0,0,0,0,0,0,0,{"$f":"IF(SUM(AU6861:BF6861)=0,\"-\",AVERAGEIF(AT6052:AT6723,$G6861,CA6052:CA6723))","v":"-"},{"$f":"IFERROR(IF(SUM(AU6861:BF6861)=0,\"-\",AVERAGEIF(AT6052:AT6723,AT6861,CB6052:CB6723)), \"-\")","v":"-"},"-","-",null,"7 Day Ave","10:15:00",{"$f":"IF(AND(CH6093=\"-\",CH6189=\"-\",CH6285=\"-\",CH6381=\"-\",CH6477=\"-\",CH6573=\"-\",CH6669=\"-\"), \"-\", ROUND(AVERAGE(CH6093,CH6189,CH6285,CH6381,CH6477,CH6573,CH6669),0))","v":2},29,0,0,0,0,0,0,0,0,0,0,{"$f":"IF(AND(CT6093=\"-\",CT6189=\"-\",CT6285=\"-\",CT6381=\"-\",CT6477=\"-\",CT6573=\"-\",CT6669=\"-\"), \"-\", IF(SUM($CH6861:$CS6861)=0, 0, ROUND(AVERAGE(CT6093,CT6189,CT6285,CT6381,CT6477,CT6573,CT6669),0)))","v":0},0,0,0,0,0,0,0,0,0,0,0,0,0,0,0,0,0,0,0,{"$error":"#DIV/0!"},"-",0,0,2,29,0,0,0,31,0,0,0,0,0,0,2,29,0,0,0,31]
[{"$error":"#N/A"},"7-Day Average",{"$f":"INDEX(Input_Details!$H$5:$H$24, MATCH($A6862, Input_Details!$J$5:$J$24, 0), 0)","v":{"$error":"#N/A"}},{"$f":"INDEX(Input_Details!$I$5:$I$24, MATCH($A6862, Input_Details!$J$5:$J$24, 0), 0)","v":{"$error":"#N/A"}},{"$f":"INDEX(Input_Details!$K$5:$K$24, MATCH($A6862, Input_Details!$J$5:$J$24, 0), 0)","v":{"$error":"#N/A"}},"7 Day Ave","10:30:00",{"$f":"IF(AND(H6094=\"\",H6190=\"\",H6286=\"\",H6382=\"\",H6478=\"\",H6574=\"\",H6670=\"\"), \"-\", IF(H6094+H6190+H6286+H6382+H6478+H6574+H6670=0,0,ROUND(AVERAGE(H6094,H6190,H6286,H6382,H6478,H6574,H6670),0)))","v":2},29,0,0,0,0,0,0,0,0,0,0,0,0,0,0,0,0,0,0,0,0,0,0,0,0,0,0,0,0,0,0,{"$f":"IF(SUM(H6862:S6862)=0,\"-\",AVERAGEIF(G6052:G6723,$G6862,AN6052:AN6723))","v":{"$error":"#DIV/0!"}},{"$f":"IFERROR(IF(SUM(H6862:S6862)=0,\"-\",AVERAGEIF(G6052:G6723,G6862,AO6052:AO6723)), \"-\")","v":"-"},0,0,{"$f":"INDEX(Input_Details!$L$5:$L$24, MATCH($A6862, Input_Details!$J$5:$J$24, 0), 0)","v":{"$error":"#N/A"}},"7 Day Ave","10:30:00",{"$f":"IF(AND(AU6094=\"\",AU6190=\"\",AU6286=\"\",AU6382=\"\",AU6478=\"\",AU6574=\"\",AU6670=\"\"), \"-\", IF(AU6094+AU6190+AU6286+AU6382+AU6478+AU6574+AU6670=0,0,ROUND(AVERAGE(AU6094,AU6190,AU6286,AU6382,AU6478,AU6574,AU6670),0)))","v":0},0,0,0,0,0,0,0,0,0,0,0,0,0,0,0,0,0,0,0,0,0,0,0,0,0,0,0,0,0,0,0,{"$f":"IF(SUM(AU6862:BF6862)=0,\"-\",AVERAGEIF(AT6052:AT6723,$G6862,CA6052:CA6723))","v":"-"},{"$f":"IFERROR(IF(SUM(AU6862:BF6862)=0,\"-\",AVERAGEIF(AT6052:AT6723,AT6862,CB6052:CB6723)), \"-\")","v":"-"},"-","-",null,"7 Day Ave","10:30:00",{"$f":"IF(AND(CH6094=\"-\",CH6190=\"-\",CH6286=\"-\",CH6382=\"-\",CH6478=\"-\",CH6574=\"-\",CH6670=\"-\"), \"-\", ROUND(AVERAGE(CH6094,CH6190,CH6286,CH6382,CH6478,CH6574,CH6670),0))","v":2},29,0,0,0,0,0,0,0,0,0,0,{"$f":"IF(AND(CT6094=\"-\",CT6190=\"-\",CT6286=\"-\",CT6382=\"-\",CT6478=\"-\",CT6574=\"-\",CT6670=\"-\"), \"-\", IF(SUM($CH6862:$CS6862)=0, 0, ROUND(AVERAGE(CT6094,CT6190,CT6286,CT6382,CT6478,CT6574,CT6670),0)))","v":0},0,0,0,0,0,0,0,0,0,0,0,0,0,0,0,0,0,0,0,{"$error":"#DIV/0!"},"-",0,0,2,29,0,0,0,31,0,0,0,0,0,0,2,29,0,0,0,31]
[{"$error":"#N/A"},"7-Day Average",{"$f":"INDEX(Input_Details!$H$5:$H$24, MATCH($A6863, Input_Details!$J$5:$J$24, 0), 0)","v":{"$error":"#N/A"}},{"$f":"INDEX(Input_Details!$I$5:$I$24, MATCH($A6863, Input_Details!$J$5:$J$24, 0), 0)","v":{"$error":"#N/A"}},{"$f":"INDEX(Input_Details!$K$5:$K$24, MATCH($A6863, Input_Details!$J$5:$J$24, 0), 0)","v":{"$error":"#N/A"}},"7 Day Ave","10:45:00",{"$f":"IF(AND(H6095=\"\",H6191=\"\",H6287=\"\",H6383=\"\",H6479=\"\",H6575=\"\",H6671=\"\"), \"-\", IF(H6095+H6191+H6287+H6383+H6479+H6575+H6671=0,0,ROUND(AVERAGE(H6095,H6191,H6287,H6383,H6479,H6575,H6671),0)))","v":4},33,0,0,0,0,0,0,0,0,0,0,0,0,0,0,0,0,0,0,0,0,0,0,0,0,0,0,0,0,0,0,{"$f":"IF(SUM(H6863:S6863)=0,\"-\",AVERAGEIF(G6052:G6723,$G6863,AN6052:AN6723))","v":{"$error":"#DIV/0!"}},{"$f":"IFERROR(IF(SUM(H6863:S6863)=0,\"-\",AVERAGEIF(G6052:G6723,G6863,AO6052:AO6723)), \"-\")","v":"-"},0,0,{"$f":"INDEX(Input_Details!$L$5:$L$24, MATCH($A6863, Input_Details!$J$5:$J$24, 0), 0)","v":{"$error":"#N/A"}},"7 Day Ave","10:45:00",{"$f":"IF(AND(AU6095=\"\",AU6191=\"\",AU6287=\"\",AU6383=\"\",AU6479=\"\",AU6575=\"\",AU6671=\"\"), \"-\", IF(AU6095+AU6191+AU6287+AU6383+AU6479+AU6575+AU6671=0,0,ROUND(AVERAGE(AU6095,AU6191,AU6287,AU6383,AU6479,AU6575,AU6671),0)))","v":0},0,0,0,0,0,0,0,0,0,0,0,0,0,0,0,0,0,0,0,0,0,0,0,0,0,0,0,0,0,0,0,{"$f":"IF(SUM(AU6863:BF6863)=0,\"-\",AVERAGEIF(AT6052:AT6723,$G6863,CA6052:CA6723))","v":"-"},{"$f":"IFERROR(IF(SUM(AU6863:BF6863)=0,\"-\",AVERAGEIF(AT6052:AT6723,AT6863,CB6052:CB6723)), \"-\")","v":"-"},"-","-",null,"7 Day Ave","10:45:00",{"$f":"IF(AND(CH6095=\"-\",CH6191=\"-\",CH6287=\"-\",CH6383=\"-\",CH6479=\"-\",CH6575=\"-\",CH6671=\"-\"), \"-\", ROUND(AVERAGE(CH6095,CH6191,CH6287,CH6383,CH6479,CH6575,CH6671),0))","v":4},33,0,0,0,0,0,0,0,0,0,0,{"$f":"IF(AND(CT6095=\"-\",CT6191=\"-\",CT6287=\"-\",CT6383=\"-\",CT6479=\"-\",CT6575=\"-\",CT6671=\"-\"), \"-\", IF(SUM($CH6863:$CS6863)=0, 0, ROUND(AVERAGE(CT6095,CT6191,CT6287,CT6383,CT6479,CT6575,CT6671),0)))","v":0},0,0,0,0,0,0,0,0,0,0,0,0,0,0,0,0,0,0,0,{"$error":"#DIV/0!"},"-",0,0,4,33,0,0,0,37,0,0,0,0,0,0,4,33,0,0,0,37]
[{"$error":"#N/A"},"7-Day Average",{"$f":"INDEX(Input_Details!$H$5:$H$24, MATCH($A6864, Input_Details!$J$5:$J$24, 0), 0)","v":{"$error":"#N/A"}},{"$f":"INDEX(Input_Details!$I$5:$I$24, MATCH($A6864, Input_Details!$J$5:$J$24, 0), 0)","v":{"$error":"#N/A"}},{"$f":"INDEX(Input_Details!$K$5:$K$24, MATCH($A6864, Input_Details!$J$5:$J$24, 0), 0)","v":{"$error":"#N/A"}},"7 Day Ave","11:00:00",{"$f":"IF(AND(H6096=\"\",H6192=\"\",H6288=\"\",H6384=\"\",H6480=\"\",H6576=\"\",H6672=\"\"), \"-\", IF(H6096+H6192+H6288+H6384+H6480+H6576+H6672=0,0,ROUND(AVERAGE(H6096,H6192,H6288,H6384,H6480,H6576,H6672),0)))","v":3},30,0,0,0,0,0,0,0,0,0,0,0,0,0,0,0,0,0,0,0,0,0,0,0,0,0,0,0,0,0,0,{"$f":"IF(SUM(H6864:S6864)=0,\"-\",AVERAGEIF(G6052:G6723,$G6864,AN6052:AN6723))","v":{"$error":"#DIV/0!"}},{"$f":"IFERROR(IF(SUM(H6864:S6864)=0,\"-\",AVERAGEIF(G6052:G6723,G6864,AO6052:AO6723)), \"-\")","v":"-"},0,0,{"$f":"INDEX(Input_Details!$L$5:$L$24, MATCH($A6864, Input_Details!$J$5:$J$24, 0), 0)","v":{"$error":"#N/A"}},"7 Day Ave","11:00:00",{"$f":"IF(AND(AU6096=\"\",AU6192=\"\",AU6288=\"\",AU6384=\"\",AU6480=\"\",AU6576=\"\",AU6672=\"\"), \"-\", IF(AU6096+AU6192+AU6288+AU6384+AU6480+AU6576+AU6672=0,0,ROUND(AVERAGE(AU6096,AU6192,AU6288,AU6384,AU6480,AU6576,AU6672),0)))","v":0},0,0,0,0,0,0,0,0,0,0,0,0,0,0,0,0,0,0,0,0,0,0,0,0,0,0,0,0,0,0,0,{"$f":"IF(SUM(AU6864:BF6864)=0,\"-\",AVERAGEIF(AT6052:AT6723,$G6864,CA6052:CA6723))","v":"-"},{"$f":"IFERROR(IF(SUM(AU6864:BF6864)=0,\"-\",AVERAGEIF(AT6052:AT6723,AT6864,CB6052:CB6723)), \"-\")","v":"-"},"-","-",null,"7 Day Ave","11:00:00",{"$f":"IF(AND(CH6096=\"-\",CH6192=\"-\",CH6288=\"-\",CH6384=\"-\",CH6480=\"-\",CH6576=\"-\",CH6672=\"-\"), \"-\", ROUND(AVERAGE(CH6096,CH6192,CH6288,CH6384,CH6480,CH6576,CH6672),0))","v":3},30,0,0,0,0,0,0,0,0,0,0,{"$f":"IF(AND(CT6096=\"-\",CT6192=\"-\",CT6288=\"-\",CT6384=\"-\",CT6480=\"-\",CT6576=\"-\",CT6672=\"-\"), \"-\", IF(SUM($CH6864:$CS6864)=0, 0, ROUND(AVERAGE(CT6096,CT6192,CT6288,CT6384,CT6480,CT6576,CT6672),0)))","v":0},0,0,0,0,0,0,0,0,0,0,0,0,0,0,0,0,0,0,0,{"$error":"#DIV/0!"},"-",0,0,3,30,0,0,0,33,0,0,0,0,0,0,3,30,0,0,0,33]
[{"$error":"#N/A"},"7-Day Average",{"$f":"INDEX(Input_Details!$H$5:$H$24, MATCH($A6865, Input_Details!$J$5:$J$24, 0), 0)","v":{"$error":"#N/A"}},{"$f":"INDEX(Input_Details!$I$5:$I$24, MATCH($A6865, Input_Details!$J$5:$J$24, 0), 0)","v":{"$error":"#N/A"}},{"$f":"INDEX(Input_Details!$K$5:$K$24, MATCH($A6865, Input_Details!$J$5:$J$24, 0), 0)","v":{"$error":"#N/A"}},"7 Day Ave","11:15:00",{"$f":"IF(AND(H6097=\"\",H6193=\"\",H6289=\"\",H6385=\"\",H6481=\"\",H6577=\"\",H6673=\"\"), \"-\", IF(H6097+H6193+H6289+H6385+H6481+H6577+H6673=0,0,ROUND(AVERAGE(H6097,H6193,H6289,H6385,H6481,H6577,H6673),0)))","v":4},26,0,0,0,0,0,0,0,0,0,0,0,0,0,0,0,0,0,0,0,0,0,0,0,0,0,0,0,0,0,0,{"$f":"IF(SUM(H6865:S6865)=0,\"-\",AVERAGEIF(G6052:G6723,$G6865,AN6052:AN6723))","v":{"$error":"#DIV/0!"}},{"$f":"IFERROR(IF(SUM(H6865:S6865)=0,\"-\",AVERAGEIF(G6052:G6723,G6865,AO6052:AO6723)), \"-\")","v":"-"},0,0,{"$f":"INDEX(Input_Details!$L$5:$L$24, MATCH($A6865, Input_Details!$J$5:$J$24, 0), 0)","v":{"$error":"#N/A"}},"7 Day Ave","11:15:00",{"$f":"IF(AND(AU6097=\"\",AU6193=\"\",AU6289=\"\",AU6385=\"\",AU6481=\"\",AU6577=\"\",AU6673=\"\"), \"-\", IF(AU6097+AU6193+AU6289+AU6385+AU6481+AU6577+AU6673=0,0,ROUND(AVERAGE(AU6097,AU6193,AU6289,AU6385,AU6481,AU6577,AU6673),0)))","v":0},0,0,0,0,0,0,0,0,0,0,0,0,0,0,0,0,0,0,0,0,0,0,0,0,0,0,0,0,0,0,0,{"$f":"IF(SUM(AU6865:BF6865)=0,\"-\",AVERAGEIF(AT6052:AT6723,$G6865,CA6052:CA6723))","v":"-"},{"$f":"IFERROR(IF(SUM(AU6865:BF6865)=0,\"-\",AVERAGEIF(AT6052:AT6723,AT6865,CB6052:CB6723)), \"-\")","v":"-"},"-","-",null,"7 Day Ave","11:15:00",{"$f":"IF(AND(CH6097=\"-\",CH6193=\"-\",CH6289=\"-\",CH6385=\"-\",CH6481=\"-\",CH6577=\"-\",CH6673=\"-\"), \"-\", ROUND(AVERAGE(CH6097,CH6193,CH6289,CH6385,CH6481,CH6577,CH6673),0))","v":4},26,0,0,0,0,0,0,0,0,0,0,{"$f":"IF(AND(CT6097=\"-\",CT6193=\"-\",CT6289=\"-\",CT6385=\"-\",CT6481=\"-\",CT6577=\"-\",CT6673=\"-\"), \"-\", IF(SUM($CH6865:$CS6865)=0, 0, ROUND(AVERAGE(CT6097,CT6193,CT6289,CT6385,CT6481,CT6577,CT6673),0)))","v":0},0,0,0,0,0,0,0,0,0,0,0,0,0,0,0,0,0,0,0,{"$error":"#DIV/0!"},"-",0,0,4,26,0,0,0,30,0,0,0,0,0,0,4,26,0,0,0,30]
[{"$error":"#N/A"},"7-Day Average",{"$f":"INDEX(Input_Details!$H$5:$H$24, MATCH($A6866, Input_Details!$J$5:$J$24, 0), 0)","v":{"$error":"#N/A"}},{"$f":"INDEX(Input_Details!$I$5:$I$24, MATCH($A6866, Input_Details!$J$5:$J$24, 0), 0)","v":{"$error":"#N/A"}},{"$f":"INDEX(Input_Details!$K$5:$K$24, MATCH($A6866, Input_Details!$J$5:$J$24, 0), 0)","v":{"$error":"#N/A"}},"7 Day Ave","11:30:00",{"$f":"IF(AND(H6098=\"\",H6194=\"\",H6290=\"\",H6386=\"\",H6482=\"\",H6578=\"\",H6674=\"\"), \"-\", IF(H6098+H6194+H6290+H6386+H6482+H6578+H6674=0,0,ROUND(AVERAGE(H6098,H6194,H6290,H6386,H6482,H6578,H6674),0)))","v":4},28,0,0,0,0,0,0,0,0,0,0,0,0,0,0,0,0,0,0,0,0,0,0,0,0,0,0,0,0,0,0,{"$f":"IF(SUM(H6866:S6866)=0,\"-\",AVERAGEIF(G6052:G6723,$G6866,AN6052:AN6723))","v":{"$error":"#DIV/0!"}},{"$f":"IFERROR(IF(SUM(H6866:S6866)=0,\"-\",AVERAGEIF(G6052:G6723,G6866,AO6052:AO6723)), \"-\")","v":"-"},0,0,{"$f":"INDEX(Input_Details!$L$5:$L$24, MATCH($A6866, Input_Details!$J$5:$J$24, 0), 0)","v":{"$error":"#N/A"}},"7 Day Ave","11:30:00",{"$f":"IF(AND(AU6098=\"\",AU6194=\"\",AU6290=\"\",AU6386=\"\",AU6482=\"\",AU6578=\"\",AU6674=\"\"), \"-\", IF(AU6098+AU6194+AU6290+AU6386+AU6482+AU6578+AU6674=0,0,ROUND(AVERAGE(AU6098,AU6194,AU6290,AU6386,AU6482,AU6578,AU6674),0)))","v":0},0,0,0,0,0,0,0,0,0,0,0,0,0,0,0,0,0,0,0,0,0,0,0,0,0,0,0,0,0,0,0,{"$f":"IF(SUM(AU6866:BF6866)=0,\"-\",AVERAGEIF(AT6052:AT6723,$G6866,CA6052:CA6723))","v":"-"},{"$f":"IFERROR(IF(SUM(AU6866:BF6866)=0,\"-\",AVERAGEIF(AT6052:AT6723,AT6866,CB6052:CB6723)), \"-\")","v":"-"},"-","-",null,"7 Day Ave","11:30:00",{"$f":"IF(AND(CH6098=\"-\",CH6194=\"-\",CH6290=\"-\",CH6386=\"-\",CH6482=\"-\",CH6578=\"-\",CH6674=\"-\"), \"-\", ROUND(AVERAGE(CH6098,CH6194,CH6290,CH6386,CH6482,CH6578,CH6674),0))","v":4},28,0,0,0,0,0,0,0,0,0,0,{"$f":"IF(AND(CT6098=\"-\",CT6194=\"-\",CT6290=\"-\",CT6386=\"-\",CT6482=\"-\",CT6578=\"-\",CT6674=\"-\"), \"-\", IF(SUM($CH6866:$CS6866)=0, 0, ROUND(AVERAGE(CT6098,CT6194,CT6290,CT6386,CT6482,CT6578,CT6674),0)))","v":0},0,0,0,0,0,0,0,0,0,0,0,0,0,0,0,0,0,0,0,{"$error":"#DIV/0!"},"-",0,0,4,28,0,0,0,32,0,0,0,0,0,0,4,28,0,0,0,32]
[{"$error":"#N/A"},"7-Day Average",{"$f":"INDEX(Input_Details!$H$5:$H$24, MATCH($A6867, Input_Details!$J$5:$J$24, 0), 0)","v":{"$error":"#N/A"}},{"$f":"INDEX(Input_Details!$I$5:$I$24, MATCH($A6867, Input_Details!$J$5:$J$24, 0), 0)","v":{"$error":"#N/A"}},{"$f":"INDEX(Input_Details!$K$5:$K$24, MATCH($A6867, Input_Details!$J$5:$J$24, 0), 0)","v":{"$error":"#N/A"}},"7 Day Ave","11:45:00",{"$f":"IF(AND(H6099=\"\",H6195=\"\",H6291=\"\",H6387=\"\",H6483=\"\",H6579=\"\",H6675=\"\"), \"-\", IF(H6099+H6195+H6291+H6387+H6483+H6579+H6675=0,0,ROUND(AVERAGE(H6099,H6195,H6291,H6387,H6483,H6579,H6675),0)))","v":3},30,0,0,0,0,0,0,0,0,0,0,0,0,0,0,0,0,0,0,0,0,0,0,0,0,0,0,0,0,0,0,{"$f":"IF(SUM(H6867:S6867)=0,\"-\",AVERAGEIF(G6052:G6723,$G6867,AN6052:AN6723))","v":{"$error":"#DIV/0!"}},{"$f":"IFERROR(IF(SUM(H6867:S6867)=0,\"-\",AVERAGEIF(G6052:G6723,G6867,AO6052:AO6723)), \"-\")","v":"-"},0,0,{"$f":"INDEX(Input_Details!$L$5:$L$24, MATCH($A6867, Input_Details!$J$5:$J$24, 0), 0)","v":{"$error":"#N/A"}},"7 Day Ave","11:45:00",{"$f":"IF(AND(AU6099=\"\",AU6195=\"\",AU6291=\"\",AU6387=\"\",AU6483=\"\",AU6579=\"\",AU6675=\"\"), \"-\", IF(AU6099+AU6195+AU6291+AU6387+AU6483+AU6579+AU6675=0,0,ROUND(AVERAGE(AU6099,AU6195,AU6291,AU6387,AU6483,AU6579,AU6675),0)))","v":0},0,0,0,0,0,0,0,0,0,0,0,0,0,0,0,0,0,0,0,0,0,0,0,0,0,0,0,0,0,0,0,{"$f":"IF(SUM(AU6867:BF6867)=0,\"-\",AVERAGEIF(AT6052:AT6723,$G6867,CA6052:CA6723))","v":"-"},{"$f":"IFERROR(IF(SUM(AU6867:BF6867)=0,\"-\",AVERAGEIF(AT6052:AT6723,AT6867,CB6052:CB6723)), \"-\")","v":"-"},"-","-",null,"7 Day Ave","11:45:00",{"$f":"IF(AND(CH6099=\"-\",CH6195=\"-\",CH6291=\"-\",CH6387=\"-\",CH6483=\"-\",CH6579=\"-\",CH6675=\"-\"), \"-\", ROUND(AVERAGE(CH6099,CH6195,CH6291,CH6387,CH6483,CH6579,CH6675),0))","v":3},30,0,0,0,0,0,0,0,0,0,0,{"$f":"IF(AND(CT6099=\"-\",CT6195=\"-\",CT6291=\"-\",CT6387=\"-\",CT6483=\"-\",CT6579=\"-\",CT6675=\"-\"), \"-\", IF(SUM($CH6867:$CS6867)=0, 0, ROUND(AVERAGE(CT6099,CT6195,CT6291,CT6387,CT6483,CT6579,CT6675),0)))","v":0},0,0,0,0,0,0,0,0,0,0,0,0,0,0,0,0,0,0,0,{"$error":"#DIV/0!"},"-",0,0,3,30,0,0,0,33,0,0,0,0,0,0,3,30,0,0,0,33]
[{"$error":"#N/A"},"7-Day Average",{"$f":"INDEX(Input_Details!$H$5:$H$24, MATCH($A6868, Input_Details!$J$5:$J$24, 0), 0)","v":{"$error":"#N/A"}},{"$f":"INDEX(Input_Details!$I$5:$I$24, MATCH($A6868, Input_Details!$J$5:$J$24, 0), 0)","v":{"$error":"#N/A"}},{"$f":"INDEX(Input_Details!$K$5:$K$24, MATCH($A6868, Input_Details!$J$5:$J$24, 0), 0)","v":{"$error":"#N/A"}},"7 Day Ave","12:00:00",{"$f":"IF(AND(H6100=\"\",H6196=\"\",H6292=\"\",H6388=\"\",H6484=\"\",H6580=\"\",H6676=\"\"), \"-\", IF(H6100+H6196+H6292+H6388+H6484+H6580+H6676=0,0,ROUND(AVERAGE(H6100,H6196,H6292,H6388,H6484,H6580,H6676),0)))","v":3},30,0,0,0,0,0,0,0,0,0,0,0,0,0,0,0,0,0,0,0,0,0,0,0,0,0,0,0,0,0,0,{"$f":"IF(SUM(H6868:S6868)=0,\"-\",AVERAGEIF(G6052:G6723,$G6868,AN6052:AN6723))","v":{"$error":"#DIV/0!"}},{"$f":"IFERROR(IF(SUM(H6868:S6868)=0,\"-\",AVERAGEIF(G6052:G6723,G6868,AO6052:AO6723)), \"-\")","v":"-"},0,0,{"$f":"INDEX(Input_Details!$L$5:$L$24, MATCH($A6868, Input_Details!$J$5:$J$24, 0), 0)","v":{"$error":"#N/A"}},"7 Day Ave","12:00:00",{"$f":"IF(AND(AU6100=\"\",AU6196=\"\",AU6292=\"\",AU6388=\"\",AU6484=\"\",AU6580=\"\",AU6676=\"\"), \"-\", IF(AU6100+AU6196+AU6292+AU6388+AU6484+AU6580+AU6676=0,0,ROUND(AVERAGE(AU6100,AU6196,AU6292,AU6388,AU6484,AU6580,AU6676),0)))","v":0},0,0,0,0,0,0,0,0,0,0,0,0,0,0,0,0,0,0,0,0,0,0,0,0,0,0,0,0,0,0,0,{"$f":"IF(SUM(AU6868:BF6868)=0,\"-\",AVERAGEIF(AT6052:AT6723,$G6868,CA6052:CA6723))","v":"-"},{"$f":"IFERROR(IF(SUM(AU6868:BF6868)=0,\"-\",AVERAGEIF(AT6052:AT6723,AT6868,CB6052:CB6723)), \"-\")","v":"-"},"-","-",null,"7 Day Ave","12:00:00",{"$f":"IF(AND(CH6100=\"-\",CH6196=\"-\",CH6292=\"-\",CH6388=\"-\",CH6484=\"-\",CH6580=\"-\",CH6676=\"-\"), \"-\", ROUND(AVERAGE(CH6100,CH6196,CH6292,CH6388,CH6484,CH6580,CH6676),0))","v":3},30,0,0,0,0,0,0,0,0,0,0,{"$f":"IF(AND(CT6100=\"-\",CT6196=\"-\",CT6292=\"-\",CT6388=\"-\",CT6484=\"-\",CT6580=\"-\",CT6676=\"-\"), \"-\", IF(SUM($CH6868:$CS6868)=0, 0, ROUND(AVERAGE(CT6100,CT6196,CT6292,CT6388,CT6484,CT6580,CT6676),0)))","v":0},0,0,0,0,0,0,0,0,0,0,0,0,0,0,0,0,0,0,0,{"$error":"#DIV/0!"},"-",0,0,3,30,0,0,0,33,0,0,0,0,0,0,3,30,0,0,0,33]
[{"$error":"#N/A"},"7-Day Average",{"$f":"INDEX(Input_Details!$H$5:$H$24, MATCH($A6869, Input_Details!$J$5:$J$24, 0), 0)","v":{"$error":"#N/A"}},{"$f":"INDEX(Input_Details!$I$5:$I$24, MATCH($A6869, Input_Details!$J$5:$J$24, 0), 0)","v":{"$error":"#N/A"}},{"$f":"INDEX(Input_Details!$K$5:$K$24, MATCH($A6869, Input_Details!$J$5:$J$24, 0), 0)","v":{"$error":"#N/A"}},"7 Day Ave","12:15:00",{"$f":"IF(AND(H6101=\"\",H6197=\"\",H6293=\"\",H6389=\"\",H6485=\"\",H6581=\"\",H6677=\"\"), \"-\", IF(H6101+H6197+H6293+H6389+H6485+H6581+H6677=0,0,ROUND(AVERAGE(H6101,H6197,H6293,H6389,H6485,H6581,H6677),0)))","v":7},33,0,0,0,0,0,0,0,0,0,0,0,0,0,0,0,0,0,0,0,0,0,0,0,0,0,0,0,0,0,0,{"$f":"IF(SUM(H6869:S6869)=0,\"-\",AVERAGEIF(G6052:G6723,$G6869,AN6052:AN6723))","v":{"$error":"#DIV/0!"}},{"$f":"IFERROR(IF(SUM(H6869:S6869)=0,\"-\",AVERAGEIF(G6052:G6723,G6869,AO6052:AO6723)), \"-\")","v":"-"},0,0,{"$f":"INDEX(Input_Details!$L$5:$L$24, MATCH($A6869, Input_Details!$J$5:$J$24, 0), 0)","v":{"$error":"#N/A"}},"7 Day Ave","12:15:00",{"$f":"IF(AND(AU6101=\"\",AU6197=\"\",AU6293=\"\",AU6389=\"\",AU6485=\"\",AU6581=\"\",AU6677=\"\"), \"-\", IF(AU6101+AU6197+AU6293+AU6389+AU6485+AU6581+AU6677=0,0,ROUND(AVERAGE(AU6101,AU6197,AU6293,AU6389,AU6485,AU6581,AU6677),0)))","v":0},0,0,0,0,0,0,0,0,0,0,0,0,0,0,0,0,0,0,0,0,0,0,0,0,0,0,0,0,0,0,0,{"$f":"IF(SUM(AU6869:BF6869)=0,\"-\",AVERAGEIF(AT6052:AT6723,$G6869,CA6052:CA6723))","v":"-"},{"$f":"IFERROR(IF(SUM(AU6869:BF6869)=0,\"-\",AVERAGEIF(AT6052:AT6723,AT6869,CB6052:CB6723)), \"-\")","v":"-"},"-","-",null,"7 Day Ave","12:15:00",{"$f":"IF(AND(CH6101=\"-\",CH6197=\"-\",CH6293=\"-\",CH6389=\"-\",CH6485=\"-\",CH6581=\"-\",CH6677=\"-\"), \"-\", ROUND(AVERAGE(CH6101,CH6197,CH6293,CH6389,CH6485,CH6581,CH6677),0))","v":7},33,0,0,0,0,0,0,0,0,0,0,{"$f":"IF(AND(CT6101=\"-\",CT6197=\"-\",CT6293=\"-\",CT6389=\"-\",CT6485=\"-\",CT6581=\"-\",CT6677=\"-\"), \"-\", IF(SUM($CH6869:$CS6869)=0, 0, ROUND(AVERAGE(CT6101,CT6197,CT6293,CT6389,CT6485,CT6581,CT6677),0)))","v":0},0,0,0,0,0,0,0,0,0,0,0,0,0,0,0,0,0,0,0,{"$error":"#DIV/0!"},"-",0,0,7,33,0,0,0,40,0,0,0,0,0,0,7,33,0,0,0,40]
[{"$error":"#N/A"},"7-Day Average",{"$f":"INDEX(Input_Details!$H$5:$H$24, MATCH($A6870, Input_Details!$J$5:$J$24, 0), 0)","v":{"$error":"#N/A"}},{"$f":"INDEX(Input_Details!$I$5:$I$24, MATCH($A6870, Input_Details!$J$5:$J$24, 0), 0)","v":{"$error":"#N/A"}},{"$f":"INDEX(Input_Details!$K$5:$K$24, MATCH($A6870, Input_Details!$J$5:$J$24, 0), 0)","v":{"$error":"#N/A"}},"7 Day Ave","12:30:00",{"$f":"IF(AND(H6102=\"\",H6198=\"\",H6294=\"\",H6390=\"\",H6486=\"\",H6582=\"\",H6678=\"\"), \"-\", IF(H6102+H6198+H6294+H6390+H6486+H6582+H6678=0,0,ROUND(AVERAGE(H6102,H6198,H6294,H6390,H6486,H6582,H6678),0)))","v":5},33,0,0,0,0,0,0,0,0,0,0,0,0,0,0,0,0,0,0,0,0,0,0,0,0,0,0,0,0,0,0,{"$f":"IF(SUM(H6870:S6870)=0,\"-\",AVERAGEIF(G6052:G6723,$G6870,AN6052:AN6723))","v":{"$error":"#DIV/0!"}},{"$f":"IFERROR(IF(SUM(H6870:S6870)=0,\"-\",AVERAGEIF(G6052:G6723,G6870,AO6052:AO6723)), \"-\")","v":"-"},0,0,{"$f":"INDEX(Input_Details!$L$5:$L$24, MATCH($A6870, Input_Details!$J$5:$J$24, 0), 0)","v":{"$error":"#N/A"}},"7 Day Ave","12:30:00",{"$f":"IF(AND(AU6102=\"\",AU6198=\"\",AU6294=\"\",AU6390=\"\",AU6486=\"\",AU6582=\"\",AU6678=\"\"), \"-\", IF(AU6102+AU6198+AU6294+AU6390+AU6486+AU6582+AU6678=0,0,ROUND(AVERAGE(AU6102,AU6198,AU6294,AU6390,AU6486,AU6582,AU6678),0)))","v":0},0,0,0,0,0,0,0,0,0,0,0,0,0,0,0,0,0,0,0,0,0,0,0,0,0,0,0,0,0,0,0,{"$f":"IF(SUM(AU6870:BF6870)=0,\"-\",AVERAGEIF(AT6052:AT6723,$G6870,CA6052:CA6723))","v":"-"},{"$f":"IFERROR(IF(SUM(AU6870:BF6870)=0,\"-\",AVERAGEIF(AT6052:AT6723,AT6870,CB6052:CB6723)), \"-\")","v":"-"},"-","-",null,"7 Day Ave","12:30:00",{"$f":"IF(AND(CH6102=\"-\",CH6198=\"-\",CH6294=\"-\",CH6390=\"-\",CH6486=\"-\",CH6582=\"-\",CH6678=\"-\"), \"-\", ROUND(AVERAGE(CH6102,CH6198,CH6294,CH6390,CH6486,CH6582,CH6678),0))","v":5},33,0,0,0,0,0,0,0,0,0,0,{"$f":"IF(AND(CT6102=\"-\",CT6198=\"-\",CT6294=\"-\",CT6390=\"-\",CT6486=\"-\",CT6582=\"-\",CT6678=\"-\"), \"-\", IF(SUM($CH6870:$CS6870)=0, 0, ROUND(AVERAGE(CT6102,CT6198,CT6294,CT6390,CT6486,CT6582,CT6678),0)))","v":0},0,0,0,0,0,0,0,0,0,0,0,0,0,0,0,0,0,0,0,{"$error":"#DIV/0!"},"-",0,0,5,33,0,0,0,38,0,0,0,0,0,0,5,33,0,0,0,38]
[{"$error":"#N/A"},"7-Day Average",{"$f":"INDEX(Input_Details!$H$5:$H$24, MATCH($A6871, Input_Details!$J$5:$J$24, 0), 0)","v":{"$error":"#N/A"}},{"$f":"INDEX(Input_Details!$I$5:$I$24, MATCH($A6871, Input_Details!$J$5:$J$24, 0), 0)","v":{"$error":"#N/A"}},{"$f":"INDEX(Input_Details!$K$5:$K$24, MATCH($A6871, Input_Details!$J$5:$J$24, 0), 0)","v":{"$error":"#N/A"}},"7 Day Ave","12:45:00",{"$f":"IF(AND(H6103=\"\",H6199=\"\",H6295=\"\",H6391=\"\",H6487=\"\",H6583=\"\",H6679=\"\"), \"-\", IF(H6103+H6199+H6295+H6391+H6487+H6583+H6679=0,0,ROUND(AVERAGE(H6103,H6199,H6295,H6391,H6487,H6583,H6679),0)))","v":4},37,0,0,0,0,0,0,0,0,0,0,0,0,0,0,0,0,0,0,0,0,0,0,0,0,0,0,0,0,0,0,{"$f":"IF(SUM(H6871:S6871)=0,\"-\",AVERAGEIF(G6052:G6723,$G6871,AN6052:AN6723))","v":{"$error":"#DIV/0!"}},{"$f":"IFERROR(IF(SUM(H6871:S6871)=0,\"-\",AVERAGEIF(G6052:G6723,G6871,AO6052:AO6723)), \"-\")","v":"-"},0,0,{"$f":"INDEX(Input_Details!$L$5:$L$24, MATCH($A6871, Input_Details!$J$5:$J$24, 0), 0)","v":{"$error":"#N/A"}},"7 Day Ave","12:45:00",{"$f":"IF(AND(AU6103=\"\",AU6199=\"\",AU6295=\"\",AU6391=\"\",AU6487=\"\",AU6583=\"\",AU6679=\"\"), \"-\", IF(AU6103+AU6199+AU6295+AU6391+AU6487+AU6583+AU6679=0,0,ROUND(AVERAGE(AU6103,AU6199,AU6295,AU6391,AU6487,AU6583,AU6679),0)))","v":0},0,0,0,0,0,0,0,0,0,0,0,0,0,0,0,0,0,0,0,0,0,0,0,0,0,0,0,0,0,0,0,{"$f":"IF(SUM(AU6871:BF6871)=0,\"-\",AVERAGEIF(AT6052:AT6723,$G6871,CA6052:CA6723))","v":"-"},{"$f":"IFERROR(IF(SUM(AU6871:BF6871)=0,\"-\",AVERAGEIF(AT6052:AT6723,AT6871,CB6052:CB6723)), \"-\")","v":"-"},"-","-",null,"7 Day Ave","12:45:00",{"$f":"IF(AND(CH6103=\"-\",CH6199=\"-\",CH6295=\"-\",CH6391=\"-\",CH6487=\"-\",CH6583=\"-\",CH6679=\"-\"), \"-\", ROUND(AVERAGE(CH6103,CH6199,CH6295,CH6391,CH6487,CH6583,CH6679),0))","v":4},37,0,0,0,0,0,0,0,0,0,0,{"$f":"IF(AND(CT6103=\"-\",CT6199=\"-\",CT6295=\"-\",CT6391=\"-\",CT6487=\"-\",CT6583=\"-\",CT6679=\"-\"), \"-\", IF(SUM($CH6871:$CS6871)=0, 0, ROUND(AVERAGE(CT6103,CT6199,CT6295,CT6391,CT6487,CT6583,CT6679),0)))","v":0},0,0,0,0,0,0,0,0,0,0,0,0,0,0,0,0,0,0,0,{"$error":"#DIV/0!"},"-",0,0,4,37,0,0,0,41,0,0,0,0,0,0,4,37,0,0,0,41]
[{"$error":"#N/A"},"7-Day Average",{"$f":"INDEX(Input_Details!$H$5:$H$24, MATCH($A6872, Input_Details!$J$5:$J$24, 0), 0)","v":{"$error":"#N/A"}},{"$f":"INDEX(Input_Details!$I$5:$I$24, MATCH($A6872, Input_Details!$J$5:$J$24, 0), 0)","v":{"$error":"#N/A"}},{"$f":"INDEX(Input_Details!$K$5:$K$24, MATCH($A6872, Input_Details!$J$5:$J$24, 0), 0)","v":{"$error":"#N/A"}},"7 Day Ave","13:00:00",{"$f":"IF(AND(H6104=\"\",H6200=\"\",H6296=\"\",H6392=\"\",H6488=\"\",H6584=\"\",H6680=\"\"), \"-\", IF(H6104+H6200+H6296+H6392+H6488+H6584+H6680=0,0,ROUND(AVERAGE(H6104,H6200,H6296,H6392,H6488,H6584,H6680),0)))","v":6},39,0,0,0,0,0,0,0,0,0,0,0,0,0,0,0,0,0,0,0,0,0,0,0,0,0,0,0,0,0,0,{"$f":"IF(SUM(H6872:S6872)=0,\"-\",AVERAGEIF(G6052:G6723,$G6872,AN6052:AN6723))","v":{"$error":"#DIV/0!"}},{"$f":"IFERROR(IF(SUM(H6872:S6872)=0,\"-\",AVERAGEIF(G6052:G6723,G6872,AO6052:AO6723)), \"-\")","v":"-"},0,0,{"$f":"INDEX(Input_Details!$L$5:$L$24, MATCH($A6872, Input_Details!$J$5:$J$24, 0), 0)","v":{"$error":"#N/A"}},"7 Day Ave","13:00:00",{"$f":"IF(AND(AU6104=\"\",AU6200=\"\",AU6296=\"\",AU6392=\"\",AU6488=\"\",AU6584=\"\",AU6680=\"\"), \"-\", IF(AU6104+AU6200+AU6296+AU6392+AU6488+AU6584+AU6680=0,0,ROUND(AVERAGE(AU6104,AU6200,AU6296,AU6392,AU6488,AU6584,AU6680),0)))","v":0},0,0,0,0,0,0,0,0,0,0,0,0,0,0,0,0,0,0,0,0,0,0,0,0,0,0,0,0,0,0,0,{"$f":"IF(SUM(AU6872:BF6872)=0,\"-\",AVERAGEIF(AT6052:AT6723,$G6872,CA6052:CA6723))","v":"-"},{"$f":"IFERROR(IF(SUM(AU6872:BF6872)=0,\"-\",AVERAGEIF(AT6052:AT6723,AT6872,CB6052:CB6723)), \"-\")","v":"-"},"-","-",null,"7 Day Ave","13:00:00",{"$f":"IF(AND(CH6104=\"-\",CH6200=\"-\",CH6296=\"-\",CH6392=\"-\",CH6488=\"-\",CH6584=\"-\",CH6680=\"-\"), \"-\", ROUND(AVERAGE(CH6104,CH6200,CH6296,CH6392,CH6488,CH6584,CH6680),0))","v":6},39,0,0,0,0,0,0,0,0,0,0,{"$f":"IF(AND(CT6104=\"-\",CT6200=\"-\",CT6296=\"-\",CT6392=\"-\",CT6488=\"-\",CT6584=\"-\",CT6680=\"-\"), \"-\", IF(SUM($CH6872:$CS6872)=0, 0, ROUND(AVERAGE(CT6104,CT6200,CT6296,CT6392,CT6488,CT6584,CT6680),0)))","v":0},0,0,0,0,0,0,0,0,0,0,0,0,0,0,0,0,0,0,0,{"$error":"#DIV/0!"},"-",0,0,6,39,0,0,0,45,0,0,0,0,0,0,6,39,0,0,0,45]
[{"$error":"#N/A"},"7-Day Average",{"$f":"INDEX(Input_Details!$H$5:$H$24, MATCH($A6873, Input_Details!$J$5:$J$24, 0), 0)","v":{"$error":"#N/A"}},{"$f":"INDEX(Input_Details!$I$5:$I$24, MATCH($A6873, Input_Details!$J$5:$J$24, 0), 0)","v":{"$error":"#N/A"}},{"$f":"INDEX(Input_Details!$K$5:$K$24, MATCH($A6873, Input_Details!$J$5:$J$24, 0), 0)","v":{"$error":"#N/A"}},"7 Day Ave","13:15:00",{"$f":"IF(AND(H6105=\"\",H6201=\"\",H6297=\"\",H6393=\"\",H6489=\"\",H6585=\"\",H6681=\"\"), \"-\", IF(H6105+H6201+H6297+H6393+H6489+H6585+H6681=0,0,ROUND(AVERAGE(H6105,H6201,H6297,H6393,H6489,H6585,H6681),0)))","v":7},39,0,0,0,0,0,0,0,0,0,0,0,0,0,0,0,0,0,0,0,0,0,0,0,0,0,0,0,0,0,0,{"$f":"IF(SUM(H6873:S6873)=0,\"-\",AVERAGEIF(G6052:G6723,$G6873,AN6052:AN6723))","v":{"$error":"#DIV/0!"}},{"$f":"IFERROR(IF(SUM(H6873:S6873)=0,\"-\",AVERAGEIF(G6052:G6723,G6873,AO6052:AO6723)), \"-\")","v":"-"},0,0,{"$f":"INDEX(Input_Details!$L$5:$L$24, MATCH($A6873, Input_Details!$J$5:$J$24, 0), 0)","v":{"$error":"#N/A"}},"7 Day Ave","13:15:00",{"$f":"IF(AND(AU6105=\"\",AU6201=\"\",AU6297=\"\",AU6393=\"\",AU6489=\"\",AU6585=\"\",AU6681=\"\"), \"-\", IF(AU6105+AU6201+AU6297+AU6393+AU6489+AU6585+AU6681=0,0,ROUND(AVERAGE(AU6105,AU6201,AU6297,AU6393,AU6489,AU6585,AU6681),0)))","v":0},0,0,0,0,0,0,0,0,0,0,0,0,0,0,0,0,0,0,0,0,0,0,0,0,0,0,0,0,0,0,0,{"$f":"IF(SUM(AU6873:BF6873)=0,\"-\",AVERAGEIF(AT6052:AT6723,$G6873,CA6052:CA6723))","v":"-"},{"$f":"IFERROR(IF(SUM(AU6873:BF6873)=0,\"-\",AVERAGEIF(AT6052:AT6723,AT6873,CB6052:CB6723)), \"-\")","v":"-"},"-","-",null,"7 Day Ave","13:15:00",{"$f":"IF(AND(CH6105=\"-\",CH6201=\"-\",CH6297=\"-\",CH6393=\"-\",CH6489=\"-\",CH6585=\"-\",CH6681=\"-\"), \"-\", ROUND(AVERAGE(CH6105,CH6201,CH6297,CH6393,CH6489,CH6585,CH6681),0))","v":7},39,0,0,0,0,0,0,0,0,0,0,{"$f":"IF(AND(CT6105=\"-\",CT6201=\"-\",CT6297=\"-\",CT6393=\"-\",CT6489=\"-\",CT6585=\"-\",CT6681=\"-\"), \"-\", IF(SUM($CH6873:$CS6873)=0, 0, ROUND(AVERAGE(CT6105,CT6201,CT6297,CT6393,CT6489,CT6585,CT6681),0)))","v":0},0,0,0,0,0,0,0,0,0,0,0,0,0,0,0,0,0,0,0,{"$error":"#DIV/0!"},"-",0,0,7,39,0,0,0,46,0,0,0,0,0,0,7,39,0,0,0,46]
[{"$error":"#N/A"},"7-Day Average",{"$f":"INDEX(Input_Details!$H$5:$H$24, MATCH($A6874, Input_Details!$J$5:$J$24, 0), 0)","v":{"$error":"#N/A"}},{"$f":"INDEX(Input_Details!$I$5:$I$24, MATCH($A6874, Input_Details!$J$5:$J$24, 0), 0)","v":{"$error":"#N/A"}},{"$f":"INDEX(Input_Details!$K$5:$K$24, MATCH($A6874, Input_Details!$J$5:$J$24, 0), 0)","v":{"$error":"#N/A"}},"7 Day Ave","13:30:00",{"$f":"IF(AND(H6106=\"\",H6202=\"\",H6298=\"\",H6394=\"\",H6490=\"\",H6586=\"\",H6682=\"\"), \"-\", IF(H6106+H6202+H6298+H6394+H6490+H6586+H6682=0,0,ROUND(AVERAGE(H6106,H6202,H6298,H6394,H6490,H6586,H6682),0)))","v":7},38,0,0,0,0,0,0,0,0,0,0,0,0,0,0,0,0,0,0,0,0,0,0,0,0,0,0,0,0,0,0,{"$f":"IF(SUM(H6874:S6874)=0,\"-\",AVERAGEIF(G6052:G6723,$G6874,AN6052:AN6723))","v":{"$error":"#DIV/0!"}},{"$f":"IFERROR(IF(SUM(H6874:S6874)=0,\"-\",AVERAGEIF(G6052:G6723,G6874,AO6052:AO6723)), \"-\")","v":"-"},0,0,{"$f":"INDEX(Input_Details!$L$5:$L$24, MATCH($A6874, Input_Details!$J$5:$J$24, 0), 0)","v":{"$error":"#N/A"}},"7 Day Ave","13:30:00",{"$f":"IF(AND(AU6106=\"\",AU6202=\"\",AU6298=\"\",AU6394=\"\",AU6490=\"\",AU6586=\"\",AU6682=\"\"), \"-\", IF(AU6106+AU6202+AU6298+AU6394+AU6490+AU6586+AU6682=0,0,ROUND(AVERAGE(AU6106,AU6202,AU6298,AU6394,AU6490,AU6586,AU6682),0)))","v":0},0,0,0,0,0,0,0,0,0,0,0,0,0,0,0,0,0,0,0,0,0,0,0,0,0,0,0,0,0,0,0,{"$f":"IF(SUM(AU6874:BF6874)=0,\"-\",AVERAGEIF(AT6052:AT6723,$G6874,CA6052:CA6723))","v":"-"},{"$f":"IFERROR(IF(SUM(AU6874:BF6874)=0,\"-\",AVERAGEIF(AT6052:AT6723,AT6874,CB6052:CB6723)), \"-\")","v":"-"},"-","-",null,"7 Day Ave","13:30:00",{"$f":"IF(AND(CH6106=\"-\",CH6202=\"-\",CH6298=\"-\",CH6394=\"-\",CH6490=\"-\",CH6586=\"-\",CH6682=\"-\"), \"-\", ROUND(AVERAGE(CH6106,CH6202,CH6298,CH6394,CH6490,CH6586,CH6682),0))","v":7},38,0,0,0,0,0,0,0,0,0,0,{"$f":"IF(AND(CT6106=\"-\",CT6202=\"-\",CT6298=\"-\",CT6394=\"-\",CT6490=\"-\",CT6586=\"-\",CT6682=\"-\"), \"-\", IF(SUM($CH6874:$CS6874)=0, 0, ROUND(AVERAGE(CT6106,CT6202,CT6298,CT6394,CT6490,CT6586,CT6682),0)))","v":0},0,0,0,0,0,0,0,0,0,0,0,0,0,0,0,0,0,0,0,{"$error":"#DIV/0!"},"-",0,0,7,38,0,0,0,45,0,0,0,0,0,0,7,38,0,0,0,45]
[{"$error":"#N/A"},"7-Day Average",{"$f":"INDEX(Input_Details!$H$5:$H$24, MATCH($A6875, Input_Details!$J$5:$J$24, 0), 0)","v":{"$error":"#N/A"}},{"$f":"INDEX(Input_Details!$I$5:$I$24, MATCH($A6875, Input_Details!$J$5:$J$24, 0), 0)","v":{"$error":"#N/A"}},{"$f":"INDEX(Input_Details!$K$5:$K$24, MATCH($A6875, Input_Details!$J$5:$J$24, 0), 0)","v":{"$error":"#N/A"}},"7 Day Ave","13:45:00",{"$f":"IF(AND(H6107=\"\",H6203=\"\",H6299=\"\",H6395=\"\",H6491=\"\",H6587=\"\",H6683=\"\"), \"-\", IF(H6107+H6203+H6299+H6395+H6491+H6587+H6683=0,0,ROUND(AVERAGE(H6107,H6203,H6299,H6395,H6491,H6587,H6683),0)))","v":5},37,0,0,0,0,0,0,0,0,0,0,0,0,0,0,0,0,0,0,0,0,0,0,0,0,0,0,0,0,0,0,{"$f":"IF(SUM(H6875:S6875)=0,\"-\",AVERAGEIF(G6052:G6723,$G6875,AN6052:AN6723))","v":{"$error":"#DIV/0!"}},{"$f":"IFERROR(IF(SUM(H6875:S6875)=0,\"-\",AVERAGEIF(G6052:G6723,G6875,AO6052:AO6723)), \"-\")","v":"-"},0,0,{"$f":"INDEX(Input_Details!$L$5:$L$24, MATCH($A6875, Input_Details!$J$5:$J$24, 0), 0)","v":{"$error":"#N/A"}},"7 Day Ave","13:45:00",{"$f":"IF(AND(AU6107=\"\",AU6203=\"\",AU6299=\"\",AU6395=\"\",AU6491=\"\",AU6587=\"\",AU6683=\"\"), \"-\", IF(AU6107+AU6203+AU6299+AU6395+AU6491+AU6587+AU6683=0,0,ROUND(AVERAGE(AU6107,AU6203,AU6299,AU6395,AU6491,AU6587,AU6683),0)))","v":0},0,0,0,0,0,0,0,0,0,0,0,0,0,0,0,0,0,0,0,0,0,0,0,0,0,0,0,0,0,0,0,{"$f":"IF(SUM(AU6875:BF6875)=0,\"-\",AVERAGEIF(AT6052:AT6723,$G6875,CA6052:CA6723))","v":"-"},{"$f":"IFERROR(IF(SUM(AU6875:BF6875)=0,\"-\",AVERAGEIF(AT6052:AT6723,AT6875,CB6052:CB6723)), \"-\")","v":"-"},"-","-",null,"7 Day Ave","13:45:00",{"$f":"IF(AND(CH6107=\"-\",CH6203=\"-\",CH6299=\"-\",CH6395=\"-\",CH6491=\"-\",CH6587=\"-\",CH6683=\"-\"), \"-\", ROUND(AVERAGE(CH6107,CH6203,CH6299,CH6395,CH6491,CH6587,CH6683),0))","v":5},37,0,0,0,0,0,0,0,0,0,0,{"$f":"IF(AND(CT6107=\"-\",CT6203=\"-\",CT6299=\"-\",CT6395=\"-\",CT6491=\"-\",CT6587=\"-\",CT6683=\"-\"), \"-\", IF(SUM($CH6875:$CS6875)=0, 0, ROUND(AVERAGE(CT6107,CT6203,CT6299,CT6395,CT6491,CT6587,CT6683),0)))","v":0},0,0,0,0,0,0,0,0,0,0,0,0,0,0,0,0,0,0,0,{"$error":"#DIV/0!"},"-",0,0,5,37,0,0,0,42,0,0,0,0,0,0,5,37,0,0,0,42]
[{"$error":"#N/A"},"7-Day Average",{"$f":"INDEX(Input_Details!$H$5:$H$24, MATCH($A6876, Input_Details!$J$5:$J$24, 0), 0)","v":{"$error":"#N/A"}},{"$f":"INDEX(Input_Details!$I$5:$I$24, MATCH($A6876, Input_Details!$J$5:$J$24, 0), 0)","v":{"$error":"#N/A"}},{"$f":"INDEX(Input_Details!$K$5:$K$24, MATCH($A6876, Input_Details!$J$5:$J$24, 0), 0)","v":{"$error":"#N/A"}},"7 Day Ave","14:00:00",{"$f":"IF(AND(H6108=\"\",H6204=\"\",H6300=\"\",H6396=\"\",H6492=\"\",H6588=\"\",H6684=\"\"), \"-\", IF(H6108+H6204+H6300+H6396+H6492+H6588+H6684=0,0,ROUND(AVERAGE(H6108,H6204,H6300,H6396,H6492,H6588,H6684),0)))","v":5},43,0,0,0,0,0,0,0,0,0,0,0,0,0,0,0,0,0,0,0,0,0,0,0,0,0,0,0,0,0,0,{"$f":"IF(SUM(H6876:S6876)=0,\"-\",AVERAGEIF(G6052:G6723,$G6876,AN6052:AN6723))","v":{"$error":"#DIV/0!"}},{"$f":"IFERROR(IF(SUM(H6876:S6876)=0,\"-\",AVERAGEIF(G6052:G6723,G6876,AO6052:AO6723)), \"-\")","v":"-"},0,0,{"$f":"INDEX(Input_Details!$L$5:$L$24, MATCH($A6876, Input_Details!$J$5:$J$24, 0), 0)","v":{"$error":"#N/A"}},"7 Day Ave","14:00:00",{"$f":"IF(AND(AU6108=\"\",AU6204=\"\",AU6300=\"\",AU6396=\"\",AU6492=\"\",AU6588=\"\",AU6684=\"\"), \"-\", IF(AU6108+AU6204+AU6300+AU6396+AU6492+AU6588+AU6684=0,0,ROUND(AVERAGE(AU6108,AU6204,AU6300,AU6396,AU6492,AU6588,AU6684),0)))","v":0},0,0,0,0,0,0,0,0,0,0,0,0,0,0,0,0,0,0,0,0,0,0,0,0,0,0,0,0,0,0,0,{"$f":"IF(SUM(AU6876:BF6876)=0,\"-\",AVERAGEIF(AT6052:AT6723,$G6876,CA6052:CA6723))","v":"-"},{"$f":"IFERROR(IF(SUM(AU6876:BF6876)=0,\"-\",AVERAGEIF(AT6052:AT6723,AT6876,CB6052:CB6723)), \"-\")","v":"-"},"-","-",null,"7 Day Ave","14:00:00",{"$f":"IF(AND(CH6108=\"-\",CH6204=\"-\",CH6300=\"-\",CH6396=\"-\",CH6492=\"-\",CH6588=\"-\",CH6684=\"-\"), \"-\", ROUND(AVERAGE(CH6108,CH6204,CH6300,CH6396,CH6492,CH6588,CH6684),0))","v":5},43,0,0,0,0,0,0,0,0,0,0,{"$f":"IF(AND(CT6108=\"-\",CT6204=\"-\",CT6300=\"-\",CT6396=\"-\",CT6492=\"-\",CT6588=\"-\",CT6684=\"-\"), \"-\", IF(SUM($CH6876:$CS6876)=0, 0, ROUND(AVERAGE(CT6108,CT6204,CT6300,CT6396,CT6492,CT6588,CT6684),0)))","v":0},0,0,0,0,0,0,0,0,0,0,0,0,0,0,0,0,0,0,0,{"$error":"#DIV/0!"},"-",0,0,5,43,0,0,0,48,0,0,0,0,0,0,5,43,0,0,0,48]
[{"$error":"#N/A"},"7-Day Average",{"$f":"INDEX(Input_Details!$H$5:$H$24, MATCH($A6877, Input_Details!$J$5:$J$24, 0), 0)","v":{"$error":"#N/A"}},{"$f":"INDEX(Input_Details!$I$5:$I$24, MATCH($A6877, Input_Details!$J$5:$J$24, 0), 0)","v":{"$error":"#N/A"}},{"$f":"INDEX(Input_Details!$K$5:$K$24, MATCH($A6877, Input_Details!$J$5:$J$24, 0), 0)","v":{"$error":"#N/A"}},"7 Day Ave","14:15:00",{"$f":"IF(AND(H6109=\"\",H6205=\"\",H6301=\"\",H6397=\"\",H6493=\"\",H6589=\"\",H6685=\"\"), \"-\", IF(H6109+H6205+H6301+H6397+H6493+H6589+H6685=0,0,ROUND(AVERAGE(H6109,H6205,H6301,H6397,H6493,H6589,H6685),0)))","v":6},35,0,0,0,0,0,0,0,0,0,0,0,0,0,0,0,0,0,0,0,0,0,0,0,0,0,0,0,0,0,0,{"$f":"IF(SUM(H6877:S6877)=0,\"-\",AVERAGEIF(G6052:G6723,$G6877,AN6052:AN6723))","v":{"$error":"#DIV/0!"}},{"$f":"IFERROR(IF(SUM(H6877:S6877)=0,\"-\",AVERAGEIF(G6052:G6723,G6877,AO6052:AO6723)), \"-\")","v":"-"},0,0,{"$f":"INDEX(Input_Details!$L$5:$L$24, MATCH($A6877, Input_Details!$J$5:$J$24, 0), 0)","v":{"$error":"#N/A"}},"7 Day Ave","14:15:00",{"$f":"IF(AND(AU6109=\"\",AU6205=\"\",AU6301=\"\",AU6397=\"\",AU6493=\"\",AU6589=\"\",AU6685=\"\"), \"-\", IF(AU6109+AU6205+AU6301+AU6397+AU6493+AU6589+AU6685=0,0,ROUND(AVERAGE(AU6109,AU6205,AU6301,AU6397,AU6493,AU6589,AU6685),0)))","v":0},0,0,0,0,0,0,0,0,0,0,0,0,0,0,0,0,0,0,0,0,0,0,0,0,0,0,0,0,0,0,0,{"$f":"IF(SUM(AU6877:BF6877)=0,\"-\",AVERAGEIF(AT6052:AT6723,$G6877,CA6052:CA6723))","v":"-"},{"$f":"IFERROR(IF(SUM(AU6877:BF6877)=0,\"-\",AVERAGEIF(AT6052:AT6723,AT6877,CB6052:CB6723)), \"-\")","v":"-"},"-","-",null,"7 Day Ave","14:15:00",{"$f":"IF(AND(CH6109=\"-\",CH6205=\"-\",CH6301=\"-\",CH6397=\"-\",CH6493=\"-\",CH6589=\"-\",CH6685=\"-\"), \"-\", ROUND(AVERAGE(CH6109,CH6205,CH6301,CH6397,CH6493,CH6589,CH6685),0))","v":6},35,0,0,0,0,0,0,0,0,0,0,{"$f":"IF(AND(CT6109=\"-\",CT6205=\"-\",CT6301=\"-\",CT6397=\"-\",CT6493=\"-\",CT6589=\"-\",CT6685=\"-\"), \"-\", IF(SUM($CH6877:$CS6877)=0, 0, ROUND(AVERAGE(CT6109,CT6205,CT6301,CT6397,CT6493,CT6589,CT6685),0)))","v":0},0,0,0,0,0,0,0,0,0,0,0,0,0,0,0,0,0,0,0,{"$error":"#DIV/0!"},"-",0,0,6,35,0,0,0,41,0,0,0,0,0,0,6,35,0,0,0,41]
[{"$error":"#N/A"},"7-Day Average",{"$f":"INDEX(Input_Details!$H$5:$H$24, MATCH($A6878, Input_Details!$J$5:$J$24, 0), 0)","v":{"$error":"#N/A"}},{"$f":"INDEX(Input_Details!$I$5:$I$24, MATCH($A6878, Input_Details!$J$5:$J$24, 0), 0)","v":{"$error":"#N/A"}},{"$f":"INDEX(Input_Details!$K$5:$K$24, MATCH($A6878, Input_Details!$J$5:$J$24, 0), 0)","v":{"$error":"#N/A"}},"7 Day Ave","14:30:00",{"$f":"IF(AND(H6110=\"\",H6206=\"\",H6302=\"\",H6398=\"\",H6494=\"\",H6590=\"\",H6686=\"\"), \"-\", IF(H6110+H6206+H6302+H6398+H6494+H6590+H6686=0,0,ROUND(AVERAGE(H6110,H6206,H6302,H6398,H6494,H6590,H6686),0)))","v":6},40,0,0,0,0,0,0,0,0,0,0,0,0,0,0,0,0,0,0,0,0,0,0,0,0,0,0,0,0,0,0,{"$f":"IF(SUM(H6878:S6878)=0,\"-\",AVERAGEIF(G6052:G6723,$G6878,AN6052:AN6723))","v":{"$error":"#DIV/0!"}},{"$f":"IFERROR(IF(SUM(H6878:S6878)=0,\"-\",AVERAGEIF(G6052:G6723,G6878,AO6052:AO6723)), \"-\")","v":"-"},0,0,{"$f":"INDEX(Input_Details!$L$5:$L$24, MATCH($A6878, Input_Details!$J$5:$J$24, 0), 0)","v":{"$error":"#N/A"}},"7 Day Ave","14:30:00",{"$f":"IF(AND(AU6110=\"\",AU6206=\"\",AU6302=\"\",AU6398=\"\",AU6494=\"\",AU6590=\"\",AU6686=\"\"), \"-\", IF(AU6110+AU6206+AU6302+AU6398+AU6494+AU6590+AU6686=0,0,ROUND(AVERAGE(AU6110,AU6206,AU6302,AU6398,AU6494,AU6590,AU6686),0)))","v":0},0,0,0,0,0,0,0,0,0,0,0,0,0,0,0,0,0,0,0,0,0,0,0,0,0,0,0,0,0,0,0,{"$f":"IF(SUM(AU6878:BF6878)=0,\"-\",AVERAGEIF(AT6052:AT6723,$G6878,CA6052:CA6723))","v":"-"},{"$f":"IFERROR(IF(SUM(AU6878:BF6878)=0,\"-\",AVERAGEIF(AT6052:AT6723,AT6878,CB6052:CB6723)), \"-\")","v":"-"},"-","-",null,"7 Day Ave","14:30:00",{"$f":"IF(AND(CH6110=\"-\",CH6206=\"-\",CH6302=\"-\",CH6398=\"-\",CH6494=\"-\",CH6590=\"-\",CH6686=\"-\"), \"-\", ROUND(AVERAGE(CH6110,CH6206,CH6302,CH6398,CH6494,CH6590,CH6686),0))","v":6},40,0,0,0,0,0,0,0,0,0,0,{"$f":"IF(AND(CT6110=\"-\",CT6206=\"-\",CT6302=\"-\",CT6398=\"-\",CT6494=\"-\",CT6590=\"-\",CT6686=\"-\"), \"-\", IF(SUM($CH6878:$CS6878)=0, 0, ROUND(AVERAGE(CT6110,CT6206,CT6302,CT6398,CT6494,CT6590,CT6686),0)))","v":0},0,0,0,0,0,0,0,0,0,0,0,0,0,0,0,0,0,0,0,{"$error":"#DIV/0!"},"-",0,0,6,40,0,0,0,46,0,0,0,0,0,0,6,40,0,0,0,46]
[{"$error":"#N/A"},"7-Day Average",{"$f":"INDEX(Input_Details!$H$5:$H$24, MATCH($A6879, Input_Details!$J$5:$J$24, 0), 0)","v":{"$error":"#N/A"}},{"$f":"INDEX(Input_Details!$I$5:$I$24, MATCH($A6879, Input_Details!$J$5:$J$24, 0), 0)","v":{"$error":"#N/A"}},{"$f":"INDEX(Input_Details!$K$5:$K$24, MATCH($A6879, Input_Details!$J$5:$J$24, 0), 0)","v":{"$error":"#N/A"}},"7 Day Ave","14:45:00",{"$f":"IF(AND(H6111=\"\",H6207=\"\",H6303=\"\",H6399=\"\",H6495=\"\",H6591=\"\",H6687=\"\"), \"-\", IF(H6111+H6207+H6303+H6399+H6495+H6591+H6687=0,0,ROUND(AVERAGE(H6111,H6207,H6303,H6399,H6495,H6591,H6687),0)))","v":6},41,0,0,0,0,0,0,0,0,0,0,0,0,0,0,0,0,0,0,0,0,0,0,0,0,0,0,0,0,0,0,{"$f":"IF(SUM(H6879:S6879)=0,\"-\",AVERAGEIF(G6052:G6723,$G6879,AN6052:AN6723))","v":{"$error":"#DIV/0!"}},{"$f":"IFERROR(IF(SUM(H6879:S6879)=0,\"-\",AVERAGEIF(G6052:G6723,G6879,AO6052:AO6723)), \"-\")","v":"-"},0,0,{"$f":"INDEX(Input_Details!$L$5:$L$24, MATCH($A6879, Input_Details!$J$5:$J$24, 0), 0)","v":{"$error":"#N/A"}},"7 Day Ave","14:45:00",{"$f":"IF(AND(AU6111=\"\",AU6207=\"\",AU6303=\"\",AU6399=\"\",AU6495=\"\",AU6591=\"\",AU6687=\"\"), \"-\", IF(AU6111+AU6207+AU6303+AU6399+AU6495+AU6591+AU6687=0,0,ROUND(AVERAGE(AU6111,AU6207,AU6303,AU6399,AU6495,AU6591,AU6687),0)))","v":0},0,0,0,0,0,0,0,0,0,0,0,0,0,0,0,0,0,0,0,0,0,0,0,0,0,0,0,0,0,0,0,{"$f":"IF(SUM(AU6879:BF6879)=0,\"-\",AVERAGEIF(AT6052:AT6723,$G6879,CA6052:CA6723))","v":"-"},{"$f":"IFERROR(IF(SUM(AU6879:BF6879)=0,\"-\",AVERAGEIF(AT6052:AT6723,AT6879,CB6052:CB6723)), \"-\")","v":"-"},"-","-",null,"7 Day Ave","14:45:00",{"$f":"IF(AND(CH6111=\"-\",CH6207=\"-\",CH6303=\"-\",CH6399=\"-\",CH6495=\"-\",CH6591=\"-\",CH6687=\"-\"), \"-\", ROUND(AVERAGE(CH6111,CH6207,CH6303,CH6399,CH6495,CH6591,CH6687),0))","v":6},41,0,0,0,0,0,0,0,0,0,0,{"$f":"IF(AND(CT6111=\"-\",CT6207=\"-\",CT6303=\"-\",CT6399=\"-\",CT6495=\"-\",CT6591=\"-\",CT6687=\"-\"), \"-\", IF(SUM($CH6879:$CS6879)=0, 0, ROUND(AVERAGE(CT6111,CT6207,CT6303,CT6399,CT6495,CT6591,CT6687),0)))","v":0},0,0,0,0,0,0,0,0,0,0,0,0,0,0,0,0,0,0,0,{"$error":"#DIV/0!"},"-",0,0,6,41,0,0,0,47,0,0,0,0,0,0,6,41,0,0,0,47]
[{"$error":"#N/A"},"7-Day Average",{"$f":"INDEX(Input_Details!$H$5:$H$24, MATCH($A6880, Input_Details!$J$5:$J$24, 0), 0)","v":{"$error":"#N/A"}},{"$f":"INDEX(Input_Details!$I$5:$I$24, MATCH($A6880, Input_Details!$J$5:$J$24, 0), 0)","v":{"$error":"#N/A"}},{"$f":"INDEX(Input_Details!$K$5:$K$24, MATCH($A6880, Input_Details!$J$5:$J$24, 0), 0)","v":{"$error":"#N/A"}},"7 Day Ave","15:00:00",{"$f":"IF(AND(H6112=\"\",H6208=\"\",H6304=\"\",H6400=\"\",H6496=\"\",H6592=\"\",H6688=\"\"), \"-\", IF(H6112+H6208+H6304+H6400+H6496+H6592+H6688=0,0,ROUND(AVERAGE(H6112,H6208,H6304,H6400,H6496,H6592,H6688),0)))","v":9},37,0,0,0,0,0,0,0,0,0,0,0,0,0,0,0,0,0,0,0,0,0,0,0,0,0,0,0,0,0,0,{"$f":"IF(SUM(H6880:S6880)=0,\"-\",AVERAGEIF(G6052:G6723,$G6880,AN6052:AN6723))","v":{"$error":"#DIV/0!"}},{"$f":"IFERROR(IF(SUM(H6880:S6880)=0,\"-\",AVERAGEIF(G6052:G6723,G6880,AO6052:AO6723)), \"-\")","v":"-"},0,0,{"$f":"INDEX(Input_Details!$L$5:$L$24, MATCH($A6880, Input_Details!$J$5:$J$24, 0), 0)","v":{"$error":"#N/A"}},"7 Day Ave","15:00:00",{"$f":"IF(AND(AU6112=\"\",AU6208=\"\",AU6304=\"\",AU6400=\"\",AU6496=\"\",AU6592=\"\",AU6688=\"\"), \"-\", IF(AU6112+AU6208+AU6304+AU6400+AU6496+AU6592+AU6688=0,0,ROUND(AVERAGE(AU6112,AU6208,AU6304,AU6400,AU6496,AU6592,AU6688),0)))","v":0},0,0,0,0,0,0,0,0,0,0,0,0,0,0,0,0,0,0,0,0,0,0,0,0,0,0,0,0,0,0,0,{"$f":"IF(SUM(AU6880:BF6880)=0,\"-\",AVERAGEIF(AT6052:AT6723,$G6880,CA6052:CA6723))","v":"-"},{"$f":"IFERROR(IF(SUM(AU6880:BF6880)=0,\"-\",AVERAGEIF(AT6052:AT6723,AT6880,CB6052:CB6723)), \"-\")","v":"-"},"-","-",null,"7 Day Ave","15:00:00",{"$f":"IF(AND(CH6112=\"-\",CH6208=\"-\",CH6304=\"-\",CH6400=\"-\",CH6496=\"-\",CH6592=\"-\",CH6688=\"-\"), \"-\", ROUND(AVERAGE(CH6112,CH6208,CH6304,CH6400,CH6496,CH6592,CH6688),0))","v":9},37,0,0,0,0,0,0,0,0,0,0,{"$f":"IF(AND(CT6112=\"-\",CT6208=\"-\",CT6304=\"-\",CT6400=\"-\",CT6496=\"-\",CT6592=\"-\",CT6688=\"-\"), \"-\", IF(SUM($CH6880:$CS6880)=0, 0, ROUND(AVERAGE(CT6112,CT6208,CT6304,CT6400,CT6496,CT6592,CT6688),0)))","v":0},0,0,0,0,0,0,0,0,0,0,0,0,0,0,0,0,0,0,0,{"$error":"#DIV/0!"},"-",0,0,9,37,0,0,0,46,0,0,0,0,0,0,9,37,0,0,0,46]
[{"$error":"#N/A"},"7-Day Average",{"$f":"INDEX(Input_Details!$H$5:$H$24, MATCH($A6881, Input_Details!$J$5:$J$24, 0), 0)","v":{"$error":"#N/A"}},{"$f":"INDEX(Input_Details!$I$5:$I$24, MATCH($A6881, Input_Details!$J$5:$J$24, 0), 0)","v":{"$error":"#N/A"}},{"$f":"INDEX(Input_Details!$K$5:$K$24, MATCH($A6881, Input_Details!$J$5:$J$24, 0), 0)","v":{"$error":"#N/A"}},"7 Day Ave","15:15:00",{"$f":"IF(AND(H6113=\"\",H6209=\"\",H6305=\"\",H6401=\"\",H6497=\"\",H6593=\"\",H6689=\"\"), \"-\", IF(H6113+H6209+H6305+H6401+H6497+H6593+H6689=0,0,ROUND(AVERAGE(H6113,H6209,H6305,H6401,H6497,H6593,H6689),0)))","v":8},40,0,0,0,0,0,0,0,0,0,0,0,0,0,0,0,0,0,0,0,0,0,0,0,0,0,0,0,0,0,0,{"$f":"IF(SUM(H6881:S6881)=0,\"-\",AVERAGEIF(G6052:G6723,$G6881,AN6052:AN6723))","v":{"$error":"#DIV/0!"}},{"$f":"IFERROR(IF(SUM(H6881:S6881)=0,\"-\",AVERAGEIF(G6052:G6723,G6881,AO6052:AO6723)), \"-\")","v":"-"},0,0,{"$f":"INDEX(Input_Details!$L$5:$L$24, MATCH($A6881, Input_Details!$J$5:$J$24, 0), 0)","v":{"$error":"#N/A"}},"7 Day Ave","15:15:00",{"$f":"IF(AND(AU6113=\"\",AU6209=\"\",AU6305=\"\",AU6401=\"\",AU6497=\"\",AU6593=\"\",AU6689=\"\"), \"-\", IF(AU6113+AU6209+AU6305+AU6401+AU6497+AU6593+AU6689=0,0,ROUND(AVERAGE(AU6113,AU6209,AU6305,AU6401,AU6497,AU6593,AU6689),0)))","v":0},0,0,0,0,0,0,0,0,0,0,0,0,0,0,0,0,0,0,0,0,0,0,0,0,0,0,0,0,0,0,0,{"$f":"IF(SUM(AU6881:BF6881)=0,\"-\",AVERAGEIF(AT6052:AT6723,$G6881,CA6052:CA6723))","v":"-"},{"$f":"IFERROR(IF(SUM(AU6881:BF6881)=0,\"-\",AVERAGEIF(AT6052:AT6723,AT6881,CB6052:CB6723)), \"-\")","v":"-"},"-","-",null,"7 Day Ave","15:15:00",{"$f":"IF(AND(CH6113=\"-\",CH6209=\"-\",CH6305=\"-\",CH6401=\"-\",CH6497=\"-\",CH6593=\"-\",CH6689=\"-\"), \"-\", ROUND(AVERAGE(CH6113,CH6209,CH6305,CH6401,CH6497,CH6593,CH6689),0))","v":8},40,0,0,0,0,0,0,0,0,0,0,{"$f":"IF(AND(CT6113=\"-\",CT6209=\"-\",CT6305=\"-\",CT6401=\"-\",CT6497=\"-\",CT6593=\"-\",CT6689=\"-\"), \"-\", IF(SUM($CH6881:$CS6881)=0, 0, ROUND(AVERAGE(CT6113,CT6209,CT6305,CT6401,CT6497,CT6593,CT6689),0)))","v":0},0,0,0,0,0,0,0,0,0,0,0,0,0,0,0,0,0,0,0,{"$error":"#DIV/0!"},"-",0,0,8,40,0,0,0,48,0,0,0,0,0,0,8,40,0,0,0,48]
[{"$error":"#N/A"},"7-Day Average",{"$f":"INDEX(Input_Details!$H$5:$H$24, MATCH($A6882, Input_Details!$J$5:$J$24, 0), 0)","v":{"$error":"#N/A"}},{"$f":"INDEX(Input_Details!$I$5:$I$24, MATCH($A6882, Input_Details!$J$5:$J$24, 0), 0)","v":{"$error":"#N/A"}},{"$f":"INDEX(Input_Details!$K$5:$K$24, MATCH($A6882, Input_Details!$J$5:$J$24, 0), 0)","v":{"$error":"#N/A"}},"7 Day Ave","15:30:00",{"$f":"IF(AND(H6114=\"\",H6210=\"\",H6306=\"\",H6402=\"\",H6498=\"\",H6594=\"\",H6690=\"\"), \"-\", IF(H6114+H6210+H6306+H6402+H6498+H6594+H6690=0,0,ROUND(AVERAGE(H6114,H6210,H6306,H6402,H6498,H6594,H6690),0)))","v":7},41,0,0,0,0,0,0,0,0,0,0,0,0,0,0,0,0,0,0,0,0,0,0,0,0,0,0,0,0,0,0,{"$f":"IF(SUM(H6882:S6882)=0,\"-\",AVERAGEIF(G6052:G6723,$G6882,AN6052:AN6723))","v":{"$error":"#DIV/0!"}},{"$f":"IFERROR(IF(SUM(H6882:S6882)=0,\"-\",AVERAGEIF(G6052:G6723,G6882,AO6052:AO6723)), \"-\")","v":"-"},0,0,{"$f":"INDEX(Input_Details!$L$5:$L$24, MATCH($A6882, Input_Details!$J$5:$J$24, 0), 0)","v":{"$error":"#N/A"}},"7 Day Ave","15:30:00",{"$f":"IF(AND(AU6114=\"\",AU6210=\"\",AU6306=\"\",AU6402=\"\",AU6498=\"\",AU6594=\"\",AU6690=\"\"), \"-\", IF(AU6114+AU6210+AU6306+AU6402+AU6498+AU6594+AU6690=0,0,ROUND(AVERAGE(AU6114,AU6210,AU6306,AU6402,AU6498,AU6594,AU6690),0)))","v":0},0,0,0,0,0,0,0,0,0,0,0,0,0,0,0,0,0,0,0,0,0,0,0,0,0,0,0,0,0,0,0,{"$f":"IF(SUM(AU6882:BF6882)=0,\"-\",AVERAGEIF(AT6052:AT6723,$G6882,CA6052:CA6723))","v":"-"},{"$f":"IFERROR(IF(SUM(AU6882:BF6882)=0,\"-\",AVERAGEIF(AT6052:AT6723,AT6882,CB6052:CB6723)), \"-\")","v":"-"},"-","-",null,"7 Day Ave","15:30:00",{"$f":"IF(AND(CH6114=\"-\",CH6210=\"-\",CH6306=\"-\",CH6402=\"-\",CH6498=\"-\",CH6594=\"-\",CH6690=\"-\"), \"-\", ROUND(AVERAGE(CH6114,CH6210,CH6306,CH6402,CH6498,CH6594,CH6690),0))","v":7},41,0,0,0,0,0,0,0,0,0,0,{"$f":"IF(AND(CT6114=\"-\",CT6210=\"-\",CT6306=\"-\",CT6402=\"-\",CT6498=\"-\",CT6594=\"-\",CT6690=\"-\"), \"-\", IF(SUM($CH6882:$CS6882)=0, 0, ROUND(AVERAGE(CT6114,CT6210,CT6306,CT6402,CT6498,CT6594,CT6690),0)))","v":0},0,0,0,0,0,0,0,0,0,0,0,0,0,0,0,0,0,0,0,{"$error":"#DIV/0!"},"-",0,0,7,41,0,0,0,48,0,0,0,0,0,0,7,41,0,0,0,48]
[{"$error":"#N/A"},"7-Day Average",{"$f":"INDEX(Input_Details!$H$5:$H$24, MATCH($A6883, Input_Details!$J$5:$J$24, 0), 0)","v":{"$error":"#N/A"}},{"$f":"INDEX(Input_Details!$I$5:$I$24, MATCH($A6883, Input_Details!$J$5:$J$24, 0), 0)","v":{"$error":"#N/A"}},{"$f":"INDEX(Input_Details!$K$5:$K$24, MATCH($A6883, Input_Details!$J$5:$J$24, 0), 0)","v":{"$error":"#N/A"}},"7 Day Ave","15:45:00",{"$f":"IF(AND(H6115=\"\",H6211=\"\",H6307=\"\",H6403=\"\",H6499=\"\",H6595=\"\",H6691=\"\"), \"-\", IF(H6115+H6211+H6307+H6403+H6499+H6595+H6691=0,0,ROUND(AVERAGE(H6115,H6211,H6307,H6403,H6499,H6595,H6691),0)))","v":12},44,0,0,0,0,0,0,0,0,0,0,0,0,0,0,0,0,0,0,0,0,0,0,0,0,0,0,0,0,0,0,{"$f":"IF(SUM(H6883:S6883)=0,\"-\",AVERAGEIF(G6052:G6723,$G6883,AN6052:AN6723))","v":{"$error":"#DIV/0!"}},{"$f":"IFERROR(IF(SUM(H6883:S6883)=0,\"-\",AVERAGEIF(G6052:G6723,G6883,AO6052:AO6723)), \"-\")","v":"-"},0,0,{"$f":"INDEX(Input_Details!$L$5:$L$24, MATCH($A6883, Input_Details!$J$5:$J$24, 0), 0)","v":{"$error":"#N/A"}},"7 Day Ave","15:45:00",{"$f":"IF(AND(AU6115=\"\",AU6211=\"\",AU6307=\"\",AU6403=\"\",AU6499=\"\",AU6595=\"\",AU6691=\"\"), \"-\", IF(AU6115+AU6211+AU6307+AU6403+AU6499+AU6595+AU6691=0,0,ROUND(AVERAGE(AU6115,AU6211,AU6307,AU6403,AU6499,AU6595,AU6691),0)))","v":0},0,0,0,0,0,0,0,0,0,0,0,0,0,0,0,0,0,0,0,0,0,0,0,0,0,0,0,0,0,0,0,{"$f":"IF(SUM(AU6883:BF6883)=0,\"-\",AVERAGEIF(AT6052:AT6723,$G6883,CA6052:CA6723))","v":"-"},{"$f":"IFERROR(IF(SUM(AU6883:BF6883)=0,\"-\",AVERAGEIF(AT6052:AT6723,AT6883,CB6052:CB6723)), \"-\")","v":"-"},"-","-",null,"7 Day Ave","15:45:00",{"$f":"IF(AND(CH6115=\"-\",CH6211=\"-\",CH6307=\"-\",CH6403=\"-\",CH6499=\"-\",CH6595=\"-\",CH6691=\"-\"), \"-\", ROUND(AVERAGE(CH6115,CH6211,CH6307,CH6403,CH6499,CH6595,CH6691),0))","v":12},44,0,0,0,0,0,0,0,0,0,0,{"$f":"IF(AND(CT6115=\"-\",CT6211=\"-\",CT6307=\"-\",CT6403=\"-\",CT6499=\"-\",CT6595=\"-\",CT6691=\"-\"), \"-\", IF(SUM($CH6883:$CS6883)=0, 0, ROUND(AVERAGE(CT6115,CT6211,CT6307,CT6403,CT6499,CT6595,CT6691),0)))","v":0},0,0,0,0,0,0,0,0,0,0,0,0,0,0,0,0,0,0,0,{"$error":"#DIV/0!"},"-",0,0,12,44,0,0,0,56,0,0,0,0,0,0,12,44,0,0,0,56]
[{"$error":"#N/A"},"7-Day Average",{"$f":"INDEX(Input_Details!$H$5:$H$24, MATCH($A6884, Input_Details!$J$5:$J$24, 0), 0)","v":{"$error":"#N/A"}},{"$f":"INDEX(Input_Details!$I$5:$I$24, MATCH($A6884, Input_Details!$J$5:$J$24, 0), 0)","v":{"$error":"#N/A"}},{"$f":"INDEX(Input_Details!$K$5:$K$24, MATCH($A6884, Input_Details!$J$5:$J$24, 0), 0)","v":{"$error":"#N/A"}},"7 Day Ave","16:00:00",{"$f":"IF(AND(H6116=\"\",H6212=\"\",H6308=\"\",H6404=\"\",H6500=\"\",H6596=\"\",H6692=\"\"), \"-\", IF(H6116+H6212+H6308+H6404+H6500+H6596+H6692=0,0,ROUND(AVERAGE(H6116,H6212,H6308,H6404,H6500,H6596,H6692),0)))","v":13},44,0,0,0,0,0,0,0,0,0,0,{"$f":"IF(AND(T6116=\"\",T6212=\"\",T6308=\"\",T6404=\"\",T6500=\"\",T6596=\"\",T6692=\"\"), \"-\", IF(SUM(H6884:S6884)=0, 0, IF(T6116+T6212+T6308+T6404+T6500+T6596+T6692=0,0,ROUNDDOWN(AVERAGE(T6116,T6212,T6308,T6404,T6500,T6596,T6692),0))))","v":0},{"$f":"IF(AND(U6116=\"\",U6212=\"\",U6308=\"\",U6404=\"\",U6500=\"\",U6596=\"\",U6692=\"\"), \"-\", IF(SUM(H6884:S6884)=0, 0, IF(U6116+U6212+U6308+U6404+U6500+U6596+U6692=0,0,ROUNDDOWN(AVERAGE(U6116,U6212,U6308,U6404,U6500,U6596,U6692),0))))","v":0},{"$f":"IF(AND(V6116=\"\",V6212=\"\",V6308=\"\",V6404=\"\",V6500=\"\",V6596=\"\",V6692=\"\"), \"-\", IF(SUM(H6884:S6884)=0, 0, IF(V6116+V6212+V6308+V6404+V6500+V6596+V6692=0,0,ROUNDDOWN(AVERAGE(V6116,V6212,V6308,V6404,V6500,V6596,V6692),0))))","v":0},{"$f":"IF(AND(W6116=\"\",W6212=\"\",W6308=\"\",W6404=\"\",W6500=\"\",W6596=\"\",W6692=\"\"), \"-\", IF(SUM(H6884:S6884)=0, 0, IF(W6116+W6212+W6308+W6404+W6500+W6596+W6692=0,0,ROUNDDOWN(AVERAGE(W6116,W6212,W6308,W6404,W6500,W6596,W6692),0))))","v":0},{"$f":"IF(AND(X6116=\"\",X6212=\"\",X6308=\"\",X6404=\"\",X6500=\"\",X6596=\"\",X6692=\"\"), \"-\", IF(SUM(H6884:S6884)=0, 0, IF(X6116+X6212+X6308+X6404+X6500+X6596+X6692=0,0,ROUNDDOWN(AVERAGE(X6116,X6212,X6308,X6404,X6500,X6596,X6692),0))))","v":0},{"$f":"IF(AND(Y6116=\"\",Y6212=\"\",Y6308=\"\",Y6404=\"\",Y6500=\"\",Y6596=\"\",Y6692=\"\"), \"-\", IF(SUM(H6884:S6884)=0, 0, IF(Y6116+Y6212+Y6308+Y6404+Y6500+Y6596+Y6692=0,0,ROUNDDOWN(AVERAGE(Y6116,Y6212,Y6308,Y6404,Y6500,Y6596,Y6692),0))))","v":0},{"$f":"IF(AND(Z6116=\"\",Z6212=\"\",Z6308=\"\",Z6404=\"\",Z6500=\"\",Z6596=\"\",Z6692=\"\"), \"-\", IF(SUM(H6884:S6884)=0, 0, IF(Z6116+Z6212+Z6308+Z6404+Z6500+Z6596+Z6692=0,0,ROUNDDOWN(AVERAGE(Z6116,Z6212,Z6308,Z6404,Z6500,Z6596,Z6692),0))))","v":0},{"$f":"IF(AND(AA6116=\"\",AA6212=\"\",AA6308=\"\",AA6404=\"\",AA6500=\"\",AA6596=\"\",AA6692=\"\"), \"-\", IF(SUM(H6884:S6884)=0, 0, IF(AA6116+AA6212+AA6308+AA6404+AA6500+AA6596+AA6692=0,0,ROUNDDOWN(AVERAGE(AA6116,AA6212,AA6308,AA6404,AA6500,AA6596,AA6692),0))))","v":0},{"$f":"IF(AND(AB6116=\"\",AB6212=\"\",AB6308=\"\",AB6404=\"\",AB6500=\"\",AB6596=\"\",AB6692=\"\"), \"-\", IF(SUM(H6884:S6884)=0, 0, IF(AB6116+AB6212+AB6308+AB6404+AB6500+AB6596+AB6692=0,0,ROUNDDOWN(AVERAGE(AB6116,AB6212,AB6308,AB6404,AB6500,AB6596,AB6692),0))))","v":0},{"$f":"IF(AND(AC6116=\"\",AC6212=\"\",AC6308=\"\",AC6404=\"\",AC6500=\"\",AC6596=\"\",AC6692=\"\"), \"-\", IF(SUM(H6884:S6884)=0, 0, IF(AC6116+AC6212+AC6308+AC6404+AC6500+AC6596+AC6692=0,0,ROUNDDOWN(AVERAGE(AC6116,AC6212,AC6308,AC6404,AC6500,AC6596,AC6692),0))))","v":0},{"$f":"IF(AND(AD6116=\"\",AD6212=\"\",AD6308=\"\",AD6404=\"\",AD6500=\"\",AD6596=\"\",AD6692=\"\"), \"-\", IF(SUM(H6884:S6884)=0, 0, IF(AD6116+AD6212+AD6308+AD6404+AD6500+AD6596+AD6692=0,0,ROUNDDOWN(AVERAGE(AD6116,AD6212,AD6308,AD6404,AD6500,AD6596,AD6692),0))))","v":0},{"$f":"IF(AND(AE6116=\"\",AE6212=\"\",AE6308=\"\",AE6404=\"\",AE6500=\"\",AE6596=\"\",AE6692=\"\"), \"-\", IF(SUM(H6884:S6884)=0, 0, IF(AE6116+AE6212+AE6308+AE6404+AE6500+AE6596+AE6692=0,0,ROUNDDOWN(AVERAGE(AE6116,AE6212,AE6308,AE6404,AE6500,AE6596,AE6692),0))))","v":0},{"$f":"IF(AND(AF6116=\"\",AF6212=\"\",AF6308=\"\",AF6404=\"\",AF6500=\"\",AF6596=\"\",AF6692=\"\"), \"-\", IF(SUM(H6884:S6884)=0, 0, IF(AF6116+AF6212+AF6308+AF6404+AF6500+AF6596+AF6692=0,0,ROUNDDOWN(AVERAGE(AF6116,AF6212,AF6308,AF6404,AF6500,AF6596,AF6692),0))))","v":0},{"$f":"IF(AND(AG6116=\"\",AG6212=\"\",AG6308=\"\",AG6404=\"\",AG6500=\"\",AG6596=\"\",AG6692=\"\"), \"-\", IF(SUM(H6884:S6884)=0, 0, IF(AG6116+AG6212+AG6308+AG6404+AG6500+AG6596+AG6692=0,0,ROUNDDOWN(AVERAGE(AG6116,AG6212,AG6308,AG6404,AG6500,AG6596,AG6692),0))))","v":0},{"$f":"IF(AND(AH6116=\"\",AH6212=\"\",AH6308=\"\",AH6404=\"\",AH6500=\"\",AH6596=\"\",AH6692=\"\"), \"-\", IF(SUM(H6884:S6884)=0, 0, IF(AH6116+AH6212+AH6308+AH6404+AH6500+AH6596+AH6692=0,0,ROUNDDOWN(AVERAGE(AH6116,AH6212,AH6308,AH6404,AH6500,AH6596,AH6692),0))))","v":0},{"$f":"IF(AND(AI6116=\"\",AI6212=\"\",AI6308=\"\",AI6404=\"\",AI6500=\"\",AI6596=\"\",AI6692=\"\"), \"-\", IF(SUM(H6884:S6884)=0, 0, IF(AI6116+AI6212+AI6308+AI6404+AI6500+AI6596+AI6692=0,0,ROUNDDOWN(AVERAGE(AI6116,AI6212,AI6308,AI6404,AI6500,AI6596,AI6692),0))))","v":0},{"$f":"IF(AND(AJ6116=\"\",AJ6212=\"\",AJ6308=\"\",AJ6404=\"\",AJ6500=\"\",AJ6596=\"\",AJ6692=\"\"), \"-\", IF(SUM(H6884:S6884)=0, 0, IF(AJ6116+AJ6212+AJ6308+AJ6404+AJ6500+AJ6596+AJ6692=0,0,ROUNDDOWN(AVERAGE(AJ6116,AJ6212,AJ6308,AJ6404,AJ6500,AJ6596,AJ6692),0))))","v":0},{"$f":"IF(AND(AK6116=\"\",AK6212=\"\",AK6308=\"\",AK6404=\"\",AK6500=\"\",AK6596=\"\",AK6692=\"\"), \"-\", IF(SUM(H6884:S6884)=0, 0, IF(AK6116+AK6212+AK6308+AK6404+AK6500+AK6596+AK6692=0,0,ROUNDDOWN(AVERAGE(AK6116,AK6212,AK6308,AK6404,AK6500,AK6596,AK6692),0))))","v":0},{"$f":"IF(AND(AL6116=\"\",AL6212=\"\",AL6308=\"\",AL6404=\"\",AL6500=\"\",AL6596=\"\",AL6692=\"\"), \"-\", IF(SUM(H6884:S6884)=0, 0, IF(AL6116+AL6212+AL6308+AL6404+AL6500+AL6596+AL6692=0,0,ROUNDDOWN(AVERAGE(AL6116,AL6212,AL6308,AL6404,AL6500,AL6596,AL6692),0))))","v":0},{"$f":"IF(AND(AM6116=\"\",AM6212=\"\",AM6308=\"\",AM6404=\"\",AM6500=\"\",AM6596=\"\",AM6692=\"\"), \"-\", IF(SUM(H6884:S6884)=0, 0, IF(AM6116+AM6212+AM6308+AM6404+AM6500+AM6596+AM6692=0,0,ROUNDDOWN(AVERAGE(AM6116,AM6212,AM6308,AM6404,AM6500,AM6596,AM6692),0))))","v":0},{"$f":"IF(SUM(H6884:S6884)=0,\"-\",AVERAGEIF(G6052:G6723,$G6884,AN6052:AN6723))","v":{"$error":"#DIV/0!"}},{"$f":"IFERROR(IF(SUM(H6884:S6884)=0,\"-\",AVERAGEIF(G6052:G6723,G6884,AO6052:AO6723)), \"-\")","v":"-"},{"$f":"IF(SUM(H6884:S6884)=0,\"-\",MIN(AP6116,AP6212,AP6308,AP6404,AP6500,AP6596,AP6692))","v":0},{"$f":"IF(SUM(H6884:S6884)=0,\"-\",MAX(AQ6116,AQ6212,AQ6308,AQ6404,AQ6500,AQ6596,AQ6692))","v":0},{"$f":"INDEX(Input_Details!$L$5:$L$24, MATCH($A6884, Input_Details!$J$5:$J$24, 0), 0)","v":{"$error":"#N/A"}},"7 Day Ave","16:00:00",{"$f":"IF(AND(AU6116=\"\",AU6212=\"\",AU6308=\"\",AU6404=\"\",AU6500=\"\",AU6596=\"\",AU6692=\"\"), \"-\", IF(AU6116+AU6212+AU6308+AU6404+AU6500+AU6596+AU6692=0,0,ROUND(AVERAGE(AU6116,AU6212,AU6308,AU6404,AU6500,AU6596,AU6692),0)))","v":0},0,0,0,0,0,0,0,0,0,0,0,{"$f":"IF(AND(BG6116=\"\",BG6212=\"\",BG6308=\"\",BG6404=\"\",BG6500=\"\",BG6596=\"\",BG6692=\"\"), \"-\", IF(SUM(AU6884:BF6884)=0, 0, IF(BG6116+BG6212+BG6308+BG6404+BG6500+BG6596+BG6692=0,0,ROUNDDOWN(AVERAGE(BG6116,BG6212,BG6308,BG6404,BG6500,BG6596,BG6692),0))))","v":0},{"$f":"IF(AND(BH6116=\"\",BH6212=\"\",BH6308=\"\",BH6404=\"\",BH6500=\"\",BH6596=\"\",BH6692=\"\"), \"-\", IF(SUM(AU6884:BF6884)=0, 0, IF(BH6116+BH6212+BH6308+BH6404+BH6500+BH6596+BH6692=0,0,ROUNDDOWN(AVERAGE(BH6116,BH6212,BH6308,BH6404,BH6500,BH6596,BH6692),0))))","v":0},{"$f":"IF(AND(BI6116=\"\",BI6212=\"\",BI6308=\"\",BI6404=\"\",BI6500=\"\",BI6596=\"\",BI6692=\"\"), \"-\", IF(SUM(AU6884:BF6884)=0, 0, IF(BI6116+BI6212+BI6308+BI6404+BI6500+BI6596+BI6692=0,0,ROUNDDOWN(AVERAGE(BI6116,BI6212,BI6308,BI6404,BI6500,BI6596,BI6692),0))))","v":0},{"$f":"IF(AND(BJ6116=\"\",BJ6212=\"\",BJ6308=\"\",BJ6404=\"\",BJ6500=\"\",BJ6596=\"\",BJ6692=\"\"), \"-\", IF(SUM(AU6884:BF6884)=0, 0, IF(BJ6116+BJ6212+BJ6308+BJ6404+BJ6500+BJ6596+BJ6692=0,0,ROUNDDOWN(AVERAGE(BJ6116,BJ6212,BJ6308,BJ6404,BJ6500,BJ6596,BJ6692),0))))","v":0},{"$f":"IF(AND(BK6116=\"\",BK6212=\"\",BK6308=\"\",BK6404=\"\",BK6500=\"\",BK6596=\"\",BK6692=\"\"), \"-\", IF(SUM(AU6884:BF6884)=0, 0, IF(BK6116+BK6212+BK6308+BK6404+BK6500+BK6596+BK6692=0,0,ROUNDDOWN(AVERAGE(BK6116,BK6212,BK6308,BK6404,BK6500,BK6596,BK6692),0))))","v":0},{"$f":"IF(AND(BL6116=\"\",BL6212=\"\",BL6308=\"\",BL6404=\"\",BL6500=\"\",BL6596=\"\",BL6692=\"\"), \"-\", IF(SUM(AU6884:BF6884)=0, 0, IF(BL6116+BL6212+BL6308+BL6404+BL6500+BL6596+BL6692=0,0,ROUNDDOWN(AVERAGE(BL6116,BL6212,BL6308,BL6404,BL6500,BL6596,BL6692),0))))","v":0},{"$f":"IF(AND(BM6116=\"\",BM6212=\"\",BM6308=\"\",BM6404=\"\",BM6500=\"\",BM6596=\"\",BM6692=\"\"), \"-\", IF(SUM(AU6884:BF6884)=0, 0, IF(BM6116+BM6212+BM6308+BM6404+BM6500+BM6596+BM6692=0,0,ROUNDDOWN(AVERAGE(BM6116,BM6212,BM6308,BM6404,BM6500,BM6596,BM6692),0))))","v":0},{"$f":"IF(AND(BN6116=\"\",BN6212=\"\",BN6308=\"\",BN6404=\"\",BN6500=\"\",BN6596=\"\",BN6692=\"\"), \"-\", IF(SUM(AU6884:BF6884)=0, 0, IF(BN6116+BN6212+BN6308+BN6404+BN6500+BN6596+BN6692=0,0,ROUNDDOWN(AVERAGE(BN6116,BN6212,BN6308,BN6404,BN6500,BN6596,BN6692),0))))","v":0},{"$f":"IF(AND(BO6116=\"\",BO6212=\"\",BO6308=\"\",BO6404=\"\",BO6500=\"\",BO6596=\"\",BO6692=\"\"), \"-\", IF(SUM(AU6884:BF6884)=0, 0, IF(BO6116+BO6212+BO6308+BO6404+BO6500+BO6596+BO6692=0,0,ROUNDDOWN(AVERAGE(BO6116,BO6212,BO6308,BO6404,BO6500,BO6596,BO6692),0))))","v":0},{"$f":"IF(AND(BP6116=\"\",BP6212=\"\",BP6308=\"\",BP6404=\"\",BP6500=\"\",BP6596=\"\",BP6692=\"\"), \"-\", IF(SUM(AU6884:BF6884)=0, 0, IF(BP6116+BP6212+BP6308+BP6404+BP6500+BP6596+BP6692=0,0,ROUNDDOWN(AVERAGE(BP6116,BP6212,BP6308,BP6404,BP6500,BP6596,BP6692),0))))","v":0},{"$f":"IF(AND(BQ6116=\"\",BQ6212=\"\",BQ6308=\"\",BQ6404=\"\",BQ6500=\"\",BQ6596=\"\",BQ6692=\"\"), \"-\", IF(SUM(AU6884:BF6884)=0, 0, IF(BQ6116+BQ6212+BQ6308+BQ6404+BQ6500+BQ6596+BQ6692=0,0,ROUNDDOWN(AVERAGE(BQ6116,BQ6212,BQ6308,BQ6404,BQ6500,BQ6596,BQ6692),0))))","v":0},{"$f":"IF(AND(BR6116=\"\",BR6212=\"\",BR6308=\"\",BR6404=\"\",BR6500=\"\",BR6596=\"\",BR6692=\"\"), \"-\", IF(SUM(AU6884:BF6884)=0, 0, IF(BR6116+BR6212+BR6308+BR6404+BR6500+BR6596+BR6692=0,0,ROUNDDOWN(AVERAGE(BR6116,BR6212,BR6308,BR6404,BR6500,BR6596,BR6692),0))))","v":0},{"$f":"IF(AND(BS6116=\"\",BS6212=\"\",BS6308=\"\",BS6404=\"\",BS6500=\"\",BS6596=\"\",BS6692=\"\"), \"-\", IF(SUM(AU6884:BF6884)=0, 0, IF(BS6116+BS6212+BS6308+BS6404+BS6500+BS6596+BS6692=0,0,ROUNDDOWN(AVERAGE(BS6116,BS6212,BS6308,BS6404,BS6500,BS6596,BS6692),0))))","v":0},{"$f":"IF(AND(BT6116=\"\",BT6212=\"\",BT6308=\"\",BT6404=\"\",BT6500=\"\",BT6596=\"\",BT6692=\"\"), \"-\", IF(SUM(AU6884:BF6884)=0, 0, IF(BT6116+BT6212+BT6308+BT6404+BT6500+BT6596+BT6692=0,0,ROUNDDOWN(AVERAGE(BT6116,BT6212,BT6308,BT6404,BT6500,BT6596,BT6692),0))))","v":0},{"$f":"IF(AND(BU6116=\"\",BU6212=\"\",BU6308=\"\",BU6404=\"\",BU6500=\"\",BU6596=\"\",BU6692=\"\"), \"-\", IF(SUM(AU6884:BF6884)=0, 0, IF(BU6116+BU6212+BU6308+BU6404+BU6500+BU6596+BU6692=0,0,ROUNDDOWN(AVERAGE(BU6116,BU6212,BU6308,BU6404,BU6500,BU6596,BU6692),0))))","v":0},{"$f":"IF(AND(BV6116=\"\",BV6212=\"\",BV6308=\"\",BV6404=\"\",BV6500=\"\",BV6596=\"\",BV6692=\"\"), \"-\", IF(SUM(AU6884:BF6884)=0, 0, IF(BV6116+BV6212+BV6308+BV6404+BV6500+BV6596+BV6692=0,0,ROUNDDOWN(AVERAGE(BV6116,BV6212,BV6308,BV6404,BV6500,BV6596,BV6692),0))))","v":0},{"$f":"IF(AND(BW6116=\"\",BW6212=\"\",BW6308=\"\",BW6404=\"\",BW6500=\"\",BW6596=\"\",BW6692=\"\"), \"-\", IF(SUM(AU6884:BF6884)=0, 0, IF(BW6116+BW6212+BW6308+BW6404+BW6500+BW6596+BW6692=0,0,ROUNDDOWN(AVERAGE(BW6116,BW6212,BW6308,BW6404,BW6500,BW6596,BW6692),0))))","v":0},{"$f":"IF(AND(BX6116=\"\",BX6212=\"\",BX6308=\"\",BX6404=\"\",BX6500=\"\",BX6596=\"\",BX6692=\"\"), \"-\", IF(SUM(AU6884:BF6884)=0, 0, IF(BX6116+BX6212+BX6308+BX6404+BX6500+BX6596+BX6692=0,0,ROUNDDOWN(AVERAGE(BX6116,BX6212,BX6308,BX6404,BX6500,BX6596,BX6692),0))))","v":0},{"$f":"IF(AND(BY6116=\"\",BY6212=\"\",BY6308=\"\",BY6404=\"\",BY6500=\"\",BY6596=\"\",BY6692=\"\"), \"-\", IF(SUM(AU6884:BF6884)=0, 0, IF(BY6116+BY6212+BY6308+BY6404+BY6500+BY6596+BY6692=0,0,ROUNDDOWN(AVERAGE(BY6116,BY6212,BY6308,BY6404,BY6500,BY6596,BY6692),0))))","v":0},{"$f":"IF(AND(BZ6116=\"\",BZ6212=\"\",BZ6308=\"\",BZ6404=\"\",BZ6500=\"\",BZ6596=\"\",BZ6692=\"\"), \"-\", IF(SUM(AU6884:BF6884)=0, 0, IF(BZ6116+BZ6212+BZ6308+BZ6404+BZ6500+BZ6596+BZ6692=0,0,ROUNDDOWN(AVERAGE(BZ6116,BZ6212,BZ6308,BZ6404,BZ6500,BZ6596,BZ6692),0))))","v":0},{"$f":"IF(SUM(AU6884:BF6884)=0,\"-\",AVERAGEIF(AT6052:AT6723,$G6884,CA6052:CA6723))","v":"-"},{"$f":"IFERROR(IF(SUM(AU6884:BF6884)=0,\"-\",AVERAGEIF(AT6052:AT6723,AT6884,CB6052:CB6723)), \"-\")","v":"-"},{"$f":"IF(SUM(AU6884:BF6884)=0,\"-\",MIN(CC6116,CC6212,CC6308,CC6404,CC6500,CC6596,CC6692))","v":"-"},{"$f":"IF(SUM(AU6884:BF6884)=0,\"-\",MAX(CD6116,CD6212,CD6308,CD6404,CD6500,CD6596,CD6692))","v":"-"},null,"7 Day Ave","16:00:00",{"$f":"IF(AND(CH6116=\"-\",CH6212=\"-\",CH6308=\"-\",CH6404=\"-\",CH6500=\"-\",CH6596=\"-\",CH6692=\"-\"), \"-\", ROUND(AVERAGE(CH6116,CH6212,CH6308,CH6404,CH6500,CH6596,CH6692),0))","v":13},44,0,0,0,0,0,0,0,0,0,0,{"$f":"IF(AND(CT6116=\"-\",CT6212=\"-\",CT6308=\"-\",CT6404=\"-\",CT6500=\"-\",CT6596=\"-\",CT6692=\"-\"), \"-\", IF(SUM($CH6884:$CS6884)=0, 0, ROUND(AVERAGE(CT6116,CT6212,CT6308,CT6404,CT6500,CT6596,CT6692),0)))","v":0},0,0,0,0,0,0,0,0,0,0,0,0,0,0,0,0,0,0,0,{"$error":"#DIV/0!"},"-",0,0,{"$f":"IF(H6884=\"\", \"-\", H6884)","v":13},44,{"$f":"IF(DR6884=\"-\", \"-\", K6884)","v":0},0,0,57,0,0,0,0,0,0,13,44,0,0,0,57]
[{"$error":"#N/A"},"7-Day Average",{"$f":"INDEX(Input_Details!$H$5:$H$24, MATCH($A6885, Input_Details!$J$5:$J$24, 0), 0)","v":{"$error":"#N/A"}},{"$f":"INDEX(Input_Details!$I$5:$I$24, MATCH($A6885, Input_Details!$J$5:$J$24, 0), 0)","v":{"$error":"#N/A"}},{"$f":"INDEX(Input_Details!$K$5:$K$24, MATCH($A6885, Input_Details!$J$5:$J$24, 0), 0)","v":{"$error":"#N/A"}},"7 Day Ave","16:15:00",{"$f":"IF(AND(H6117=\"\",H6213=\"\",H6309=\"\",H6405=\"\",H6501=\"\",H6597=\"\",H6693=\"\"), \"-\", IF(H6117+H6213+H6309+H6405+H6501+H6597+H6693=0,0,ROUND(AVERAGE(H6117,H6213,H6309,H6405,H6501,H6597,H6693),0)))","v":13},43,0,0,0,0,0,0,0,0,0,0,0,0,0,0,0,0,0,0,0,0,0,0,0,0,0,0,0,0,0,0,{"$f":"IF(SUM(H6885:S6885)=0,\"-\",AVERAGEIF(G6052:G6723,$G6885,AN6052:AN6723))","v":{"$error":"#DIV/0!"}},{"$f":"IFERROR(IF(SUM(H6885:S6885)=0,\"-\",AVERAGEIF(G6052:G6723,G6885,AO6052:AO6723)), \"-\")","v":"-"},0,0,{"$f":"INDEX(Input_Details!$L$5:$L$24, MATCH($A6885, Input_Details!$J$5:$J$24, 0), 0)","v":{"$error":"#N/A"}},"7 Day Ave","16:15:00",{"$f":"IF(AND(AU6117=\"\",AU6213=\"\",AU6309=\"\",AU6405=\"\",AU6501=\"\",AU6597=\"\",AU6693=\"\"), \"-\", IF(AU6117+AU6213+AU6309+AU6405+AU6501+AU6597+AU6693=0,0,ROUND(AVERAGE(AU6117,AU6213,AU6309,AU6405,AU6501,AU6597,AU6693),0)))","v":0},0,0,0,0,0,0,0,0,0,0,0,0,0,0,0,0,0,0,0,0,0,0,0,0,0,0,0,0,0,0,0,{"$f":"IF(SUM(AU6885:BF6885)=0,\"-\",AVERAGEIF(AT6052:AT6723,$G6885,CA6052:CA6723))","v":"-"},{"$f":"IFERROR(IF(SUM(AU6885:BF6885)=0,\"-\",AVERAGEIF(AT6052:AT6723,AT6885,CB6052:CB6723)), \"-\")","v":"-"},"-","-",null,"7 Day Ave","16:15:00",{"$f":"IF(AND(CH6117=\"-\",CH6213=\"-\",CH6309=\"-\",CH6405=\"-\",CH6501=\"-\",CH6597=\"-\",CH6693=\"-\"), \"-\", ROUND(AVERAGE(CH6117,CH6213,CH6309,CH6405,CH6501,CH6597,CH6693),0))","v":13},43,0,0,0,0,0,0,0,0,0,0,{"$f":"IF(AND(CT6117=\"-\",CT6213=\"-\",CT6309=\"-\",CT6405=\"-\",CT6501=\"-\",CT6597=\"-\",CT6693=\"-\"), \"-\", IF(SUM($CH6885:$CS6885)=0, 0, ROUND(AVERAGE(CT6117,CT6213,CT6309,CT6405,CT6501,CT6597,CT6693),0)))","v":0},0,0,0,0,0,0,0,0,0,0,0,0,0,0,0,0,0,0,0,{"$error":"#DIV/0!"},{"$f":"IFERROR(IF(OR(DW6885=\"-\", EC6885=\"-\", EI6885=\"-\", EI6885=0), \"-\", IF(AO6885=\"-\", CB6885, AVERAGE(AO6885,CB6885))), \"-\")","v":"-"},{"$f":"IF(OR(DW6885=\"-\", EC6885=\"-\",EI6885=\"-\", EI6885=0),\"-\",MIN(AP6885,CC6885))","v":0},{"$f":"IF(OR(DW6885=\"-\", EC6885=\"-\",EI6885=\"-\", EI6885=0),\"-\",MAX(AQ6885,CD6885))","v":0},13,{"$f":"IF(DR6885=\"-\", \"-\", SUM(I6885:J6885))","v":43},0,0,{"$f":"IF(DR6885=\"-\", \"-\", SUM(M6885:S6885))","v":0},56,{"$f":"IF(AU6885=\"\", \"-\", AU6885)","v":0},0,{"$f":"IF(DX6885=\"-\", \"-\", AX6885)","v":0},0,0,{"$f":"IF(DX6885=\"-\", \"-\", SUM(AU6885:BF6885))","v":0},{"$f":"IF(OR(DR6885=\"-\", DX6885=\"-\"), \"-\", SUM(DR6885,DX6885))","v":13},43,0,0,0,56]
[{"$f":"A6885","v":{"$error":"#N/A"}},"7-Day Average",{"$f":"INDEX(Input_Details!$H$5:$H$24, MATCH($A6886, Input_Details!$J$5:$J$24, 0), 0)","v":{"$error":"#N/A"}},{"$f":"INDEX(Input_Details!$I$5:$I$24, MATCH($A6886, Input_Details!$J$5:$J$24, 0), 0)","v":{"$error":"#N/A"}},{"$f":"INDEX(Input_Details!$K$5:$K$24, MATCH($A6886, Input_Details!$J$5:$J$24, 0), 0)","v":{"$error":"#N/A"}},"7 Day Ave","16:30:00",{"$f":"IF(AND(H6118=\"\",H6214=\"\",H6310=\"\",H6406=\"\",H6502=\"\",H6598=\"\",H6694=\"\"), \"-\", IF(H6118+H6214+H6310+H6406+H6502+H6598+H6694=0,0,ROUND(AVERAGE(H6118,H6214,H6310,H6406,H6502,H6598,H6694),0)))","v":13},47,0,0,0,0,0,0,0,0,0,0,0,0,0,0,0,0,0,0,0,0,0,0,0,0,0,0,0,0,0,0,{"$f":"IF(SUM(H6886:S6886)=0,\"-\",AVERAGEIF(G6052:G6723,$G6886,AN6052:AN6723))","v":{"$error":"#DIV/0!"}},{"$f":"IFERROR(IF(SUM(H6886:S6886)=0,\"-\",AVERAGEIF(G6052:G6723,G6886,AO6052:AO6723)), \"-\")","v":"-"},0,0,{"$f":"INDEX(Input_Details!$L$5:$L$24, MATCH($A6886, Input_Details!$J$5:$J$24, 0), 0)","v":{"$error":"#N/A"}},"7 Day Ave","16:30:00",{"$f":"IF(AND(AU6118=\"\",AU6214=\"\",AU6310=\"\",AU6406=\"\",AU6502=\"\",AU6598=\"\",AU6694=\"\"), \"-\", IF(AU6118+AU6214+AU6310+AU6406+AU6502+AU6598+AU6694=0,0,ROUND(AVERAGE(AU6118,AU6214,AU6310,AU6406,AU6502,AU6598,AU6694),0)))","v":0},0,0,0,0,0,0,0,0,0,0,0,0,0,0,0,0,0,0,0,0,0,0,0,0,0,0,0,0,0,0,0,{"$f":"IF(SUM(AU6886:BF6886)=0,\"-\",AVERAGEIF(AT6052:AT6723,$G6886,CA6052:CA6723))","v":"-"},{"$f":"IFERROR(IF(SUM(AU6886:BF6886)=0,\"-\",AVERAGEIF(AT6052:AT6723,AT6886,CB6052:CB6723)), \"-\")","v":"-"},"-","-",null,"7 Day Ave","16:30:00",{"$f":"IF(AND(CH6118=\"-\",CH6214=\"-\",CH6310=\"-\",CH6406=\"-\",CH6502=\"-\",CH6598=\"-\",CH6694=\"-\"), \"-\", ROUND(AVERAGE(CH6118,CH6214,CH6310,CH6406,CH6502,CH6598,CH6694),0))","v":13},47,0,0,0,0,0,0,0,0,0,0,{"$f":"IF(AND(CT6118=\"-\",CT6214=\"-\",CT6310=\"-\",CT6406=\"-\",CT6502=\"-\",CT6598=\"-\",CT6694=\"-\"), \"-\", IF(SUM($CH6886:$CS6886)=0, 0, ROUND(AVERAGE(CT6118,CT6214,CT6310,CT6406,CT6502,CT6598,CT6694),0)))","v":0},0,0,0,0,0,0,0,0,0,0,0,0,0,0,0,0,0,0,0,{"$error":"#DIV/0!"},"-",0,0,13,47,0,0,0,60,0,0,0,0,0,0,13,47,0,0,0,60]
[{"$error":"#N/A"},"7-Day Average",{"$f":"INDEX(Input_Details!$H$5:$H$24, MATCH($A6887, Input_Details!$J$5:$J$24, 0), 0)","v":{"$error":"#N/A"}},{"$f":"INDEX(Input_Details!$I$5:$I$24, MATCH($A6887, Input_Details!$J$5:$J$24, 0), 0)","v":{"$error":"#N/A"}},{"$f":"INDEX(Input_Details!$K$5:$K$24, MATCH($A6887, Input_Details!$J$5:$J$24, 0), 0)","v":{"$error":"#N/A"}},"7 Day Ave","16:45:00",{"$f":"IF(AND(H6119=\"\",H6215=\"\",H6311=\"\",H6407=\"\",H6503=\"\",H6599=\"\",H6695=\"\"), \"-\", IF(H6119+H6215+H6311+H6407+H6503+H6599+H6695=0,0,ROUND(AVERAGE(H6119,H6215,H6311,H6407,H6503,H6599,H6695),0)))","v":15},45,0,0,0,0,0,0,0,0,0,0,0,0,0,0,0,0,0,0,0,0,0,0,0,0,0,0,0,0,0,0,{"$f":"IF(SUM(H6887:S6887)=0,\"-\",AVERAGEIF(G6052:G6723,$G6887,AN6052:AN6723))","v":{"$error":"#DIV/0!"}},{"$f":"IFERROR(IF(SUM(H6887:S6887)=0,\"-\",AVERAGEIF(G6052:G6723,G6887,AO6052:AO6723)), \"-\")","v":"-"},0,0,{"$f":"INDEX(Input_Details!$L$5:$L$24, MATCH($A6887, Input_Details!$J$5:$J$24, 0), 0)","v":{"$error":"#N/A"}},"7 Day Ave","16:45:00",{"$f":"IF(AND(AU6119=\"\",AU6215=\"\",AU6311=\"\",AU6407=\"\",AU6503=\"\",AU6599=\"\",AU6695=\"\"), \"-\", IF(AU6119+AU6215+AU6311+AU6407+AU6503+AU6599+AU6695=0,0,ROUND(AVERAGE(AU6119,AU6215,AU6311,AU6407,AU6503,AU6599,AU6695),0)))","v":0},0,0,0,0,0,0,0,0,0,0,0,0,0,0,0,0,0,0,0,0,0,0,0,0,0,0,0,0,0,0,0,{"$f":"IF(SUM(AU6887:BF6887)=0,\"-\",AVERAGEIF(AT6052:AT6723,$G6887,CA6052:CA6723))","v":"-"},{"$f":"IFERROR(IF(SUM(AU6887:BF6887)=0,\"-\",AVERAGEIF(AT6052:AT6723,AT6887,CB6052:CB6723)), \"-\")","v":"-"},"-","-",null,"7 Day Ave","16:45:00",{"$f":"IF(AND(CH6119=\"-\",CH6215=\"-\",CH6311=\"-\",CH6407=\"-\",CH6503=\"-\",CH6599=\"-\",CH6695=\"-\"), \"-\", ROUND(AVERAGE(CH6119,CH6215,CH6311,CH6407,CH6503,CH6599,CH6695),0))","v":15},45,0,0,0,0,0,0,0,0,0,0,{"$f":"IF(AND(CT6119=\"-\",CT6215=\"-\",CT6311=\"-\",CT6407=\"-\",CT6503=\"-\",CT6599=\"-\",CT6695=\"-\"), \"-\", IF(SUM($CH6887:$CS6887)=0, 0, ROUND(AVERAGE(CT6119,CT6215,CT6311,CT6407,CT6503,CT6599,CT6695),0)))","v":0},0,0,0,0,0,0,0,0,0,0,0,0,0,0,0,0,0,0,0,{"$error":"#DIV/0!"},"-",0,0,15,45,0,0,0,60,0,0,0,0,0,0,15,45,0,0,0,60]
[{"$error":"#N/A"},"7-Day Average",{"$f":"INDEX(Input_Details!$H$5:$H$24, MATCH($A6888, Input_Details!$J$5:$J$24, 0), 0)","v":{"$error":"#N/A"}},{"$f":"INDEX(Input_Details!$I$5:$I$24, MATCH($A6888, Input_Details!$J$5:$J$24, 0), 0)","v":{"$error":"#N/A"}},{"$f":"INDEX(Input_Details!$K$5:$K$24, MATCH($A6888, Input_Details!$J$5:$J$24, 0), 0)","v":{"$error":"#N/A"}},"7 Day Ave","17:00:00",{"$f":"IF(AND(H6120=\"\",H6216=\"\",H6312=\"\",H6408=\"\",H6504=\"\",H6600=\"\",H6696=\"\"), \"-\", IF(H6120+H6216+H6312+H6408+H6504+H6600+H6696=0,0,ROUND(AVERAGE(H6120,H6216,H6312,H6408,H6504,H6600,H6696),0)))","v":14},47,0,0,0,0,0,0,0,0,0,0,0,0,0,0,0,0,0,0,0,0,0,0,0,0,0,0,0,0,0,0,{"$f":"IF(SUM(H6888:S6888)=0,\"-\",AVERAGEIF(G6052:G6723,$G6888,AN6052:AN6723))","v":{"$error":"#DIV/0!"}},{"$f":"IFERROR(IF(SUM(H6888:S6888)=0,\"-\",AVERAGEIF(G6052:G6723,G6888,AO6052:AO6723)), \"-\")","v":"-"},0,0,{"$f":"INDEX(Input_Details!$L$5:$L$24, MATCH($A6888, Input_Details!$J$5:$J$24, 0), 0)","v":{"$error":"#N/A"}},"7 Day Ave","17:00:00",{"$f":"IF(AND(AU6120=\"\",AU6216=\"\",AU6312=\"\",AU6408=\"\",AU6504=\"\",AU6600=\"\",AU6696=\"\"), \"-\", IF(AU6120+AU6216+AU6312+AU6408+AU6504+AU6600+AU6696=0,0,ROUND(AVERAGE(AU6120,AU6216,AU6312,AU6408,AU6504,AU6600,AU6696),0)))","v":0},0,0,0,0,0,0,0,0,0,0,0,0,0,0,0,0,0,0,0,0,0,0,0,0,0,0,0,0,0,0,0,{"$f":"IF(SUM(AU6888:BF6888)=0,\"-\",AVERAGEIF(AT6052:AT6723,$G6888,CA6052:CA6723))","v":"-"},{"$f":"IFERROR(IF(SUM(AU6888:BF6888)=0,\"-\",AVERAGEIF(AT6052:AT6723,AT6888,CB6052:CB6723)), \"-\")","v":"-"},"-","-",null,"7 Day Ave","17:00:00",{"$f":"IF(AND(CH6120=\"-\",CH6216=\"-\",CH6312=\"-\",CH6408=\"-\",CH6504=\"-\",CH6600=\"-\",CH6696=\"-\"), \"-\", ROUND(AVERAGE(CH6120,CH6216,CH6312,CH6408,CH6504,CH6600,CH6696),0))","v":14},47,0,0,0,0,0,0,0,0,0,0,{"$f":"IF(AND(CT6120=\"-\",CT6216=\"-\",CT6312=\"-\",CT6408=\"-\",CT6504=\"-\",CT6600=\"-\",CT6696=\"-\"), \"-\", IF(SUM($CH6888:$CS6888)=0, 0, ROUND(AVERAGE(CT6120,CT6216,CT6312,CT6408,CT6504,CT6600,CT6696),0)))","v":0},0,0,0,0,0,0,0,0,0,0,0,0,0,0,0,0,0,0,0,{"$error":"#DIV/0!"},"-",0,0,14,47,0,0,0,61,0,0,0,0,0,0,14,47,0,0,0,61]
[{"$error":"#N/A"},"7-Day Average",{"$f":"INDEX(Input_Details!$H$5:$H$24, MATCH($A6889, Input_Details!$J$5:$J$24, 0), 0)","v":{"$error":"#N/A"}},{"$f":"INDEX(Input_Details!$I$5:$I$24, MATCH($A6889, Input_Details!$J$5:$J$24, 0), 0)","v":{"$error":"#N/A"}},{"$f":"INDEX(Input_Details!$K$5:$K$24, MATCH($A6889, Input_Details!$J$5:$J$24, 0), 0)","v":{"$error":"#N/A"}},"7 Day Ave","17:15:00",{"$f":"IF(AND(H6121=\"\",H6217=\"\",H6313=\"\",H6409=\"\",H6505=\"\",H6601=\"\",H6697=\"\"), \"-\", IF(H6121+H6217+H6313+H6409+H6505+H6601+H6697=0,0,ROUND(AVERAGE(H6121,H6217,H6313,H6409,H6505,H6601,H6697),0)))","v":20},52,0,0,0,0,0,0,0,0,0,0,0,0,0,0,0,0,0,0,0,0,0,0,0,0,0,0,0,0,0,0,{"$f":"IF(SUM(H6889:S6889)=0,\"-\",AVERAGEIF(G6052:G6723,$G6889,AN6052:AN6723))","v":{"$error":"#DIV/0!"}},{"$f":"IFERROR(IF(SUM(H6889:S6889)=0,\"-\",AVERAGEIF(G6052:G6723,G6889,AO6052:AO6723)), \"-\")","v":"-"},0,0,{"$f":"INDEX(Input_Details!$L$5:$L$24, MATCH($A6889, Input_Details!$J$5:$J$24, 0), 0)","v":{"$error":"#N/A"}},"7 Day Ave","17:15:00",{"$f":"IF(AND(AU6121=\"\",AU6217=\"\",AU6313=\"\",AU6409=\"\",AU6505=\"\",AU6601=\"\",AU6697=\"\"), \"-\", IF(AU6121+AU6217+AU6313+AU6409+AU6505+AU6601+AU6697=0,0,ROUND(AVERAGE(AU6121,AU6217,AU6313,AU6409,AU6505,AU6601,AU6697),0)))","v":0},0,0,0,0,0,0,0,0,0,0,0,0,0,0,0,0,0,0,0,0,0,0,0,0,0,0,0,0,0,0,0,{"$f":"IF(SUM(AU6889:BF6889)=0,\"-\",AVERAGEIF(AT6052:AT6723,$G6889,CA6052:CA6723))","v":"-"},{"$f":"IFERROR(IF(SUM(AU6889:BF6889)=0,\"-\",AVERAGEIF(AT6052:AT6723,AT6889,CB6052:CB6723)), \"-\")","v":"-"},"-","-",null,"7 Day Ave","17:15:00",{"$f":"IF(AND(CH6121=\"-\",CH6217=\"-\",CH6313=\"-\",CH6409=\"-\",CH6505=\"-\",CH6601=\"-\",CH6697=\"-\"), \"-\", ROUND(AVERAGE(CH6121,CH6217,CH6313,CH6409,CH6505,CH6601,CH6697),0))","v":20},52,0,0,0,0,0,0,0,0,0,0,{"$f":"IF(AND(CT6121=\"-\",CT6217=\"-\",CT6313=\"-\",CT6409=\"-\",CT6505=\"-\",CT6601=\"-\",CT6697=\"-\"), \"-\", IF(SUM($CH6889:$CS6889)=0, 0, ROUND(AVERAGE(CT6121,CT6217,CT6313,CT6409,CT6505,CT6601,CT6697),0)))","v":0},0,0,0,0,0,0,0,0,0,0,0,0,0,0,0,0,0,0,0,{"$error":"#DIV/0!"},"-",0,0,20,52,0,0,0,72,0,0,0,0,0,0,20,52,0,0,0,72]
[{"$error":"#N/A"},"7-Day Average",{"$f":"INDEX(Input_Details!$H$5:$H$24, MATCH($A6890, Input_Details!$J$5:$J$24, 0), 0)","v":{"$error":"#N/A"}},{"$f":"INDEX(Input_Details!$I$5:$I$24, MATCH($A6890, Input_Details!$J$5:$J$24, 0), 0)","v":{"$error":"#N/A"}},{"$f":"INDEX(Input_Details!$K$5:$K$24, MATCH($A6890, Input_Details!$J$5:$J$24, 0), 0)","v":{"$error":"#N/A"}},"7 Day Ave","17:30:00",{"$f":"IF(AND(H6122=\"\",H6218=\"\",H6314=\"\",H6410=\"\",H6506=\"\",H6602=\"\",H6698=\"\"), \"-\", IF(H6122+H6218+H6314+H6410+H6506+H6602+H6698=0,0,ROUND(AVERAGE(H6122,H6218,H6314,H6410,H6506,H6602,H6698),0)))","v":18},47,0,0,0,0,0,0,0,0,0,0,0,0,0,0,0,0,0,0,0,0,0,0,0,0,0,0,0,0,0,0,{"$f":"IF(SUM(H6890:S6890)=0,\"-\",AVERAGEIF(G6052:G6723,$G6890,AN6052:AN6723))","v":{"$error":"#DIV/0!"}},{"$f":"IFERROR(IF(SUM(H6890:S6890)=0,\"-\",AVERAGEIF(G6052:G6723,G6890,AO6052:AO6723)), \"-\")","v":"-"},0,0,{"$f":"INDEX(Input_Details!$L$5:$L$24, MATCH($A6890, Input_Details!$J$5:$J$24, 0), 0)","v":{"$error":"#N/A"}},"7 Day Ave","17:30:00",{"$f":"IF(AND(AU6122=\"\",AU6218=\"\",AU6314=\"\",AU6410=\"\",AU6506=\"\",AU6602=\"\",AU6698=\"\"), \"-\", IF(AU6122+AU6218+AU6314+AU6410+AU6506+AU6602+AU6698=0,0,ROUND(AVERAGE(AU6122,AU6218,AU6314,AU6410,AU6506,AU6602,AU6698),0)))","v":0},0,0,0,0,0,0,0,0,0,0,0,0,0,0,0,0,0,0,0,0,0,0,0,0,0,0,0,0,0,0,0,{"$f":"IF(SUM(AU6890:BF6890)=0,\"-\",AVERAGEIF(AT6052:AT6723,$G6890,CA6052:CA6723))","v":"-"},{"$f":"IFERROR(IF(SUM(AU6890:BF6890)=0,\"-\",AVERAGEIF(AT6052:AT6723,AT6890,CB6052:CB6723)), \"-\")","v":"-"},"-","-",null,"7 Day Ave","17:30:00",{"$f":"IF(AND(CH6122=\"-\",CH6218=\"-\",CH6314=\"-\",CH6410=\"-\",CH6506=\"-\",CH6602=\"-\",CH6698=\"-\"), \"-\", ROUND(AVERAGE(CH6122,CH6218,CH6314,CH6410,CH6506,CH6602,CH6698),0))","v":18},47,0,0,0,0,0,0,0,0,0,0,{"$f":"IF(AND(CT6122=\"-\",CT6218=\"-\",CT6314=\"-\",CT6410=\"-\",CT6506=\"-\",CT6602=\"-\",CT6698=\"-\"), \"-\", IF(SUM($CH6890:$CS6890)=0, 0, ROUND(AVERAGE(CT6122,CT6218,CT6314,CT6410,CT6506,CT6602,CT6698),0)))","v":0},0,0,0,0,0,0,0,0,0,0,0,0,0,0,0,0,0,0,0,{"$error":"#DIV/0!"},"-",0,0,18,47,0,0,0,65,0,0,0,0,0,0,18,47,0,0,0,65]
[{"$error":"#N/A"},"7-Day Average",{"$f":"INDEX(Input_Details!$H$5:$H$24, MATCH($A6891, Input_Details!$J$5:$J$24, 0), 0)","v":{"$error":"#N/A"}},{"$f":"INDEX(Input_Details!$I$5:$I$24, MATCH($A6891, Input_Details!$J$5:$J$24, 0), 0)","v":{"$error":"#N/A"}},{"$f":"INDEX(Input_Details!$K$5:$K$24, MATCH($A6891, Input_Details!$J$5:$J$24, 0), 0)","v":{"$error":"#N/A"}},"7 Day Ave","17:45:00",{"$f":"IF(AND(H6123=\"\",H6219=\"\",H6315=\"\",H6411=\"\",H6507=\"\",H6603=\"\",H6699=\"\"), \"-\", IF(H6123+H6219+H6315+H6411+H6507+H6603+H6699=0,0,ROUND(AVERAGE(H6123,H6219,H6315,H6411,H6507,H6603,H6699),0)))","v":21},47,0,0,0,0,0,0,0,0,0,0,0,0,0,0,0,0,0,0,0,0,0,0,0,0,0,0,0,0,0,0,{"$f":"IF(SUM(H6891:S6891)=0,\"-\",AVERAGEIF(G6052:G6723,$G6891,AN6052:AN6723))","v":{"$error":"#DIV/0!"}},{"$f":"IFERROR(IF(SUM(H6891:S6891)=0,\"-\",AVERAGEIF(G6052:G6723,G6891,AO6052:AO6723)), \"-\")","v":"-"},0,0,{"$f":"INDEX(Input_Details!$L$5:$L$24, MATCH($A6891, Input_Details!$J$5:$J$24, 0), 0)","v":{"$error":"#N/A"}},"7 Day Ave","17:45:00",{"$f":"IF(AND(AU6123=\"\",AU6219=\"\",AU6315=\"\",AU6411=\"\",AU6507=\"\",AU6603=\"\",AU6699=\"\"), \"-\", IF(AU6123+AU6219+AU6315+AU6411+AU6507+AU6603+AU6699=0,0,ROUND(AVERAGE(AU6123,AU6219,AU6315,AU6411,AU6507,AU6603,AU6699),0)))","v":0},0,0,0,0,0,0,0,0,0,0,0,0,0,0,0,0,0,0,0,0,0,0,0,0,0,0,0,0,0,0,0,{"$f":"IF(SUM(AU6891:BF6891)=0,\"-\",AVERAGEIF(AT6052:AT6723,$G6891,CA6052:CA6723))","v":"-"},{"$f":"IFERROR(IF(SUM(AU6891:BF6891)=0,\"-\",AVERAGEIF(AT6052:AT6723,AT6891,CB6052:CB6723)), \"-\")","v":"-"},"-","-",null,"7 Day Ave","17:45:00",{"$f":"IF(AND(CH6123=\"-\",CH6219=\"-\",CH6315=\"-\",CH6411=\"-\",CH6507=\"-\",CH6603=\"-\",CH6699=\"-\"), \"-\", ROUND(AVERAGE(CH6123,CH6219,CH6315,CH6411,CH6507,CH6603,CH6699),0))","v":21},47,0,0,0,0,0,0,0,0,0,0,{"$f":"IF(AND(CT6123=\"-\",CT6219=\"-\",CT6315=\"-\",CT6411=\"-\",CT6507=\"-\",CT6603=\"-\",CT6699=\"-\"), \"-\", IF(SUM($CH6891:$CS6891)=0, 0, ROUND(AVERAGE(CT6123,CT6219,CT6315,CT6411,CT6507,CT6603,CT6699),0)))","v":0},0,0,0,0,0,0,0,0,0,0,0,0,0,0,0,0,0,0,0,{"$error":"#DIV/0!"},"-",0,0,21,47,0,0,0,68,0,0,0,0,0,0,21,47,0,0,0,68]
[{"$error":"#N/A"},"7-Day Average",{"$f":"INDEX(Input_Details!$H$5:$H$24, MATCH($A6892, Input_Details!$J$5:$J$24, 0), 0)","v":{"$error":"#N/A"}},{"$f":"INDEX(Input_Details!$I$5:$I$24, MATCH($A6892, Input_Details!$J$5:$J$24, 0), 0)","v":{"$error":"#N/A"}},{"$f":"INDEX(Input_Details!$K$5:$K$24, MATCH($A6892, Input_Details!$J$5:$J$24, 0), 0)","v":{"$error":"#N/A"}},"7 Day Ave","18:00:00",{"$f":"IF(AND(H6124=\"\",H6220=\"\",H6316=\"\",H6412=\"\",H6508=\"\",H6604=\"\",H6700=\"\"), \"-\", IF(H6124+H6220+H6316+H6412+H6508+H6604+H6700=0,0,ROUND(AVERAGE(H6124,H6220,H6316,H6412,H6508,H6604,H6700),0)))","v":21},48,0,0,0,0,0,0,0,0,0,0,0,0,0,0,0,0,0,0,0,0,0,0,0,0,0,0,0,0,0,0,{"$f":"IF(SUM(H6892:S6892)=0,\"-\",AVERAGEIF(G6052:G6723,$G6892,AN6052:AN6723))","v":{"$error":"#DIV/0!"}},{"$f":"IFERROR(IF(SUM(H6892:S6892)=0,\"-\",AVERAGEIF(G6052:G6723,G6892,AO6052:AO6723)), \"-\")","v":"-"},0,0,{"$f":"INDEX(Input_Details!$L$5:$L$24, MATCH($A6892, Input_Details!$J$5:$J$24, 0), 0)","v":{"$error":"#N/A"}},"7 Day Ave","18:00:00",{"$f":"IF(AND(AU6124=\"\",AU6220=\"\",AU6316=\"\",AU6412=\"\",AU6508=\"\",AU6604=\"\",AU6700=\"\"), \"-\", IF(AU6124+AU6220+AU6316+AU6412+AU6508+AU6604+AU6700=0,0,ROUND(AVERAGE(AU6124,AU6220,AU6316,AU6412,AU6508,AU6604,AU6700),0)))","v":0},0,0,0,0,0,0,0,0,0,0,0,0,0,0,0,0,0,0,0,0,0,0,0,0,0,0,0,0,0,0,0,{"$f":"IF(SUM(AU6892:BF6892)=0,\"-\",AVERAGEIF(AT6052:AT6723,$G6892,CA6052:CA6723))","v":"-"},{"$f":"IFERROR(IF(SUM(AU6892:BF6892)=0,\"-\",AVERAGEIF(AT6052:AT6723,AT6892,CB6052:CB6723)), \"-\")","v":"-"},"-","-",null,"7 Day Ave","18:00:00",{"$f":"IF(AND(CH6124=\"-\",CH6220=\"-\",CH6316=\"-\",CH6412=\"-\",CH6508=\"-\",CH6604=\"-\",CH6700=\"-\"), \"-\", ROUND(AVERAGE(CH6124,CH6220,CH6316,CH6412,CH6508,CH6604,CH6700),0))","v":21},48,0,0,0,0,0,0,0,0,0,0,{"$f":"IF(AND(CT6124=\"-\",CT6220=\"-\",CT6316=\"-\",CT6412=\"-\",CT6508=\"-\",CT6604=\"-\",CT6700=\"-\"), \"-\", IF(SUM($CH6892:$CS6892)=0, 0, ROUND(AVERAGE(CT6124,CT6220,CT6316,CT6412,CT6508,CT6604,CT6700),0)))","v":0},0,0,0,0,0,0,0,0,0,0,0,0,0,0,0,0,0,0,0,{"$error":"#DIV/0!"},"-",0,0,21,48,0,0,0,69,0,0,0,0,0,0,21,48,0,0,0,69]
[{"$error":"#N/A"},"7-Day Average",{"$f":"INDEX(Input_Details!$H$5:$H$24, MATCH($A6893, Input_Details!$J$5:$J$24, 0), 0)","v":{"$error":"#N/A"}},{"$f":"INDEX(Input_Details!$I$5:$I$24, MATCH($A6893, Input_Details!$J$5:$J$24, 0), 0)","v":{"$error":"#N/A"}},{"$f":"INDEX(Input_Details!$K$5:$K$24, MATCH($A6893, Input_Details!$J$5:$J$24, 0), 0)","v":{"$error":"#N/A"}},"7 Day Ave","18:15:00",{"$f":"IF(AND(H6125=\"\",H6221=\"\",H6317=\"\",H6413=\"\",H6509=\"\",H6605=\"\",H6701=\"\"), \"-\", IF(H6125+H6221+H6317+H6413+H6509+H6605+H6701=0,0,ROUND(AVERAGE(H6125,H6221,H6317,H6413,H6509,H6605,H6701),0)))","v":18},50,0,0,0,0,0,0,0,0,0,0,0,0,0,0,0,0,0,0,0,0,0,0,0,0,0,0,0,0,0,0,{"$f":"IF(SUM(H6893:S6893)=0,\"-\",AVERAGEIF(G6052:G6723,$G6893,AN6052:AN6723))","v":{"$error":"#DIV/0!"}},{"$f":"IFERROR(IF(SUM(H6893:S6893)=0,\"-\",AVERAGEIF(G6052:G6723,G6893,AO6052:AO6723)), \"-\")","v":"-"},0,0,{"$f":"INDEX(Input_Details!$L$5:$L$24, MATCH($A6893, Input_Details!$J$5:$J$24, 0), 0)","v":{"$error":"#N/A"}},"7 Day Ave","18:15:00",{"$f":"IF(AND(AU6125=\"\",AU6221=\"\",AU6317=\"\",AU6413=\"\",AU6509=\"\",AU6605=\"\",AU6701=\"\"), \"-\", IF(AU6125+AU6221+AU6317+AU6413+AU6509+AU6605+AU6701=0,0,ROUND(AVERAGE(AU6125,AU6221,AU6317,AU6413,AU6509,AU6605,AU6701),0)))","v":0},0,0,0,0,0,0,0,0,0,0,0,0,0,0,0,0,0,0,0,0,0,0,0,0,0,0,0,0,0,0,0,{"$f":"IF(SUM(AU6893:BF6893)=0,\"-\",AVERAGEIF(AT6052:AT6723,$G6893,CA6052:CA6723))","v":"-"},{"$f":"IFERROR(IF(SUM(AU6893:BF6893)=0,\"-\",AVERAGEIF(AT6052:AT6723,AT6893,CB6052:CB6723)), \"-\")","v":"-"},"-","-",null,"7 Day Ave","18:15:00",{"$f":"IF(AND(CH6125=\"-\",CH6221=\"-\",CH6317=\"-\",CH6413=\"-\",CH6509=\"-\",CH6605=\"-\",CH6701=\"-\"), \"-\", ROUND(AVERAGE(CH6125,CH6221,CH6317,CH6413,CH6509,CH6605,CH6701),0))","v":18},50,0,0,0,0,0,0,0,0,0,0,{"$f":"IF(AND(CT6125=\"-\",CT6221=\"-\",CT6317=\"-\",CT6413=\"-\",CT6509=\"-\",CT6605=\"-\",CT6701=\"-\"), \"-\", IF(SUM($CH6893:$CS6893)=0, 0, ROUND(AVERAGE(CT6125,CT6221,CT6317,CT6413,CT6509,CT6605,CT6701),0)))","v":0},0,0,0,0,0,0,0,0,0,0,0,0,0,0,0,0,0,0,0,{"$error":"#DIV/0!"},"-",0,0,18,50,0,0,0,68,0,0,0,0,0,0,18,50,0,0,0,68]
[{"$error":"#N/A"},"7-Day Average",{"$f":"INDEX(Input_Details!$H$5:$H$24, MATCH($A6894, Input_Details!$J$5:$J$24, 0), 0)","v":{"$error":"#N/A"}},{"$f":"INDEX(Input_Details!$I$5:$I$24, MATCH($A6894, Input_Details!$J$5:$J$24, 0), 0)","v":{"$error":"#N/A"}},{"$f":"INDEX(Input_Details!$K$5:$K$24, MATCH($A6894, Input_Details!$J$5:$J$24, 0), 0)","v":{"$error":"#N/A"}},"7 Day Ave","18:30:00",{"$f":"IF(AND(H6126=\"\",H6222=\"\",H6318=\"\",H6414=\"\",H6510=\"\",H6606=\"\",H6702=\"\"), \"-\", IF(H6126+H6222+H6318+H6414+H6510+H6606+H6702=0,0,ROUND(AVERAGE(H6126,H6222,H6318,H6414,H6510,H6606,H6702),0)))","v":20},54,0,0,0,0,0,0,0,0,0,0,0,0,0,0,0,0,0,0,0,0,0,0,0,0,0,0,0,0,0,0,{"$f":"IF(SUM(H6894:S6894)=0,\"-\",AVERAGEIF(G6052:G6723,$G6894,AN6052:AN6723))","v":{"$error":"#DIV/0!"}},{"$f":"IFERROR(IF(SUM(H6894:S6894)=0,\"-\",AVERAGEIF(G6052:G6723,G6894,AO6052:AO6723)), \"-\")","v":"-"},0,0,{"$f":"INDEX(Input_Details!$L$5:$L$24, MATCH($A6894, Input_Details!$J$5:$J$24, 0), 0)","v":{"$error":"#N/A"}},"7 Day Ave","18:30:00",{"$f":"IF(AND(AU6126=\"\",AU6222=\"\",AU6318=\"\",AU6414=\"\",AU6510=\"\",AU6606=\"\",AU6702=\"\"), \"-\", IF(AU6126+AU6222+AU6318+AU6414+AU6510+AU6606+AU6702=0,0,ROUND(AVERAGE(AU6126,AU6222,AU6318,AU6414,AU6510,AU6606,AU6702),0)))","v":0},0,0,0,0,0,0,0,0,0,0,0,0,0,0,0,0,0,0,0,0,0,0,0,0,0,0,0,0,0,0,0,{"$f":"IF(SUM(AU6894:BF6894)=0,\"-\",AVERAGEIF(AT6052:AT6723,$G6894,CA6052:CA6723))","v":"-"},{"$f":"IFERROR(IF(SUM(AU6894:BF6894)=0,\"-\",AVERAGEIF(AT6052:AT6723,AT6894,CB6052:CB6723)), \"-\")","v":"-"},"-","-",null,"7 Day Ave","18:30:00",{"$f":"IF(AND(CH6126=\"-\",CH6222=\"-\",CH6318=\"-\",CH6414=\"-\",CH6510=\"-\",CH6606=\"-\",CH6702=\"-\"), \"-\", ROUND(AVERAGE(CH6126,CH6222,CH6318,CH6414,CH6510,CH6606,CH6702),0))","v":20},54,0,0,0,0,0,0,0,0,0,0,{"$f":"IF(AND(CT6126=\"-\",CT6222=\"-\",CT6318=\"-\",CT6414=\"-\",CT6510=\"-\",CT6606=\"-\",CT6702=\"-\"), \"-\", IF(SUM($CH6894:$CS6894)=0, 0, ROUND(AVERAGE(CT6126,CT6222,CT6318,CT6414,CT6510,CT6606,CT6702),0)))","v":0},0,0,0,0,0,0,0,0,0,0,0,0,0,0,0,0,0,0,0,{"$error":"#DIV/0!"},"-",0,0,20,54,0,0,0,74,0,0,0,0,0,0,20,54,0,0,0,74]
[{"$error":"#N/A"},"7-Day Average",{"$f":"INDEX(Input_Details!$H$5:$H$24, MATCH($A6895, Input_Details!$J$5:$J$24, 0), 0)","v":{"$error":"#N/A"}},{"$f":"INDEX(Input_Details!$I$5:$I$24, MATCH($A6895, Input_Details!$J$5:$J$24, 0), 0)","v":{"$error":"#N/A"}},{"$f":"INDEX(Input_Details!$K$5:$K$24, MATCH($A6895, Input_Details!$J$5:$J$24, 0), 0)","v":{"$error":"#N/A"}},"7 Day Ave","18:45:00",{"$f":"IF(AND(H6127=\"\",H6223=\"\",H6319=\"\",H6415=\"\",H6511=\"\",H6607=\"\",H6703=\"\"), \"-\", IF(H6127+H6223+H6319+H6415+H6511+H6607+H6703=0,0,ROUND(AVERAGE(H6127,H6223,H6319,H6415,H6511,H6607,H6703),0)))","v":17},55,0,0,0,0,0,0,0,0,0,0,0,0,0,0,0,0,0,0,0,0,0,0,0,0,0,0,0,0,0,0,{"$f":"IF(SUM(H6895:S6895)=0,\"-\",AVERAGEIF(G6052:G6723,$G6895,AN6052:AN6723))","v":{"$error":"#DIV/0!"}},{"$f":"IFERROR(IF(SUM(H6895:S6895)=0,\"-\",AVERAGEIF(G6052:G6723,G6895,AO6052:AO6723)), \"-\")","v":"-"},0,0,{"$f":"INDEX(Input_Details!$L$5:$L$24, MATCH($A6895, Input_Details!$J$5:$J$24, 0), 0)","v":{"$error":"#N/A"}},"7 Day Ave","18:45:00",{"$f":"IF(AND(AU6127=\"\",AU6223=\"\",AU6319=\"\",AU6415=\"\",AU6511=\"\",AU6607=\"\",AU6703=\"\"), \"-\", IF(AU6127+AU6223+AU6319+AU6415+AU6511+AU6607+AU6703=0,0,ROUND(AVERAGE(AU6127,AU6223,AU6319,AU6415,AU6511,AU6607,AU6703),0)))","v":0},0,0,0,0,0,0,0,0,0,0,0,0,0,0,0,0,0,0,0,0,0,0,0,0,0,0,0,0,0,0,0,{"$f":"IF(SUM(AU6895:BF6895)=0,\"-\",AVERAGEIF(AT6052:AT6723,$G6895,CA6052:CA6723))","v":"-"},{"$f":"IFERROR(IF(SUM(AU6895:BF6895)=0,\"-\",AVERAGEIF(AT6052:AT6723,AT6895,CB6052:CB6723)), \"-\")","v":"-"},"-","-",null,"7 Day Ave","18:45:00",{"$f":"IF(AND(CH6127=\"-\",CH6223=\"-\",CH6319=\"-\",CH6415=\"-\",CH6511=\"-\",CH6607=\"-\",CH6703=\"-\"), \"-\", ROUND(AVERAGE(CH6127,CH6223,CH6319,CH6415,CH6511,CH6607,CH6703),0))","v":17},55,0,0,0,0,0,0,0,0,0,0,{"$f":"IF(AND(CT6127=\"-\",CT6223=\"-\",CT6319=\"-\",CT6415=\"-\",CT6511=\"-\",CT6607=\"-\",CT6703=\"-\"), \"-\", IF(SUM($CH6895:$CS6895)=0, 0, ROUND(AVERAGE(CT6127,CT6223,CT6319,CT6415,CT6511,CT6607,CT6703),0)))","v":0},0,0,0,0,0,0,0,0,0,0,0,0,0,0,0,0,0,0,0,{"$error":"#DIV/0!"},"-",0,0,17,55,0,0,0,72,0,0,0,0,0,0,17,55,0,0,0,72]
[{"$error":"#N/A"},"7-Day Average",{"$f":"INDEX(Input_Details!$H$5:$H$24, MATCH($A6896, Input_Details!$J$5:$J$24, 0), 0)","v":{"$error":"#N/A"}},{"$f":"INDEX(Input_Details!$I$5:$I$24, MATCH($A6896, Input_Details!$J$5:$J$24, 0), 0)","v":{"$error":"#N/A"}},{"$f":"INDEX(Input_Details!$K$5:$K$24, MATCH($A6896, Input_Details!$J$5:$J$24, 0), 0)","v":{"$error":"#N/A"}},"7 Day Ave","19:00:00",{"$f":"IF(AND(H6128=\"\",H6224=\"\",H6320=\"\",H6416=\"\",H6512=\"\",H6608=\"\",H6704=\"\"), \"-\", IF(H6128+H6224+H6320+H6416+H6512+H6608+H6704=0,0,ROUND(AVERAGE(H6128,H6224,H6320,H6416,H6512,H6608,H6704),0)))","v":14},51,0,0,0,0,0,0,0,0,0,0,0,0,0,0,0,0,0,0,0,0,0,0,0,0,0,0,0,0,0,0,{"$f":"IF(SUM(H6896:S6896)=0,\"-\",AVERAGEIF(G6052:G6723,$G6896,AN6052:AN6723))","v":{"$error":"#DIV/0!"}},{"$f":"IFERROR(IF(SUM(H6896:S6896)=0,\"-\",AVERAGEIF(G6052:G6723,G6896,AO6052:AO6723)), \"-\")","v":"-"},0,0,{"$f":"INDEX(Input_Details!$L$5:$L$24, MATCH($A6896, Input_Details!$J$5:$J$24, 0), 0)","v":{"$error":"#N/A"}},"7 Day Ave","19:00:00",{"$f":"IF(AND(AU6128=\"\",AU6224=\"\",AU6320=\"\",AU6416=\"\",AU6512=\"\",AU6608=\"\",AU6704=\"\"), \"-\", IF(AU6128+AU6224+AU6320+AU6416+AU6512+AU6608+AU6704=0,0,ROUND(AVERAGE(AU6128,AU6224,AU6320,AU6416,AU6512,AU6608,AU6704),0)))","v":0},0,0,0,0,0,0,0,0,0,0,0,0,0,0,0,0,0,0,0,0,0,0,0,0,0,0,0,0,0,0,0,{"$f":"IF(SUM(AU6896:BF6896)=0,\"-\",AVERAGEIF(AT6052:AT6723,$G6896,CA6052:CA6723))","v":"-"},{"$f":"IFERROR(IF(SUM(AU6896:BF6896)=0,\"-\",AVERAGEIF(AT6052:AT6723,AT6896,CB6052:CB6723)), \"-\")","v":"-"},"-","-",null,"7 Day Ave","19:00:00",{"$f":"IF(AND(CH6128=\"-\",CH6224=\"-\",CH6320=\"-\",CH6416=\"-\",CH6512=\"-\",CH6608=\"-\",CH6704=\"-\"), \"-\", ROUND(AVERAGE(CH6128,CH6224,CH6320,CH6416,CH6512,CH6608,CH6704),0))","v":14},51,0,0,0,0,0,0,0,0,0,0,{"$f":"IF(AND(CT6128=\"-\",CT6224=\"-\",CT6320=\"-\",CT6416=\"-\",CT6512=\"-\",CT6608=\"-\",CT6704=\"-\"), \"-\", IF(SUM($CH6896:$CS6896)=0, 0, ROUND(AVERAGE(CT6128,CT6224,CT6320,CT6416,CT6512,CT6608,CT6704),0)))","v":0},0,0,0,0,0,0,0,0,0,0,0,0,0,0,0,0,0,0,0,{"$error":"#DIV/0!"},"-",0,0,14,51,0,0,0,65,0,0,0,0,0,0,14,51,0,0,0,65]
[{"$error":"#N/A"},"7-Day Average",{"$f":"INDEX(Input_Details!$H$5:$H$24, MATCH($A6897, Input_Details!$J$5:$J$24, 0), 0)","v":{"$error":"#N/A"}},{"$f":"INDEX(Input_Details!$I$5:$I$24, MATCH($A6897, Input_Details!$J$5:$J$24, 0), 0)","v":{"$error":"#N/A"}},{"$f":"INDEX(Input_Details!$K$5:$K$24, MATCH($A6897, Input_Details!$J$5:$J$24, 0), 0)","v":{"$error":"#N/A"}},"7 Day Ave","19:15:00",{"$f":"IF(AND(H6129=\"\",H6225=\"\",H6321=\"\",H6417=\"\",H6513=\"\",H6609=\"\",H6705=\"\"), \"-\", IF(H6129+H6225+H6321+H6417+H6513+H6609+H6705=0,0,ROUND(AVERAGE(H6129,H6225,H6321,H6417,H6513,H6609,H6705),0)))","v":12},49,0,0,0,0,0,0,0,0,0,0,0,0,0,0,0,0,0,0,0,0,0,0,0,0,0,0,0,0,0,0,{"$f":"IF(SUM(H6897:S6897)=0,\"-\",AVERAGEIF(G6052:G6723,$G6897,AN6052:AN6723))","v":{"$error":"#DIV/0!"}},{"$f":"IFERROR(IF(SUM(H6897:S6897)=0,\"-\",AVERAGEIF(G6052:G6723,G6897,AO6052:AO6723)), \"-\")","v":"-"},0,0,{"$f":"INDEX(Input_Details!$L$5:$L$24, MATCH($A6897, Input_Details!$J$5:$J$24, 0), 0)","v":{"$error":"#N/A"}},"7 Day Ave","19:15:00",{"$f":"IF(AND(AU6129=\"\",AU6225=\"\",AU6321=\"\",AU6417=\"\",AU6513=\"\",AU6609=\"\",AU6705=\"\"), \"-\", IF(AU6129+AU6225+AU6321+AU6417+AU6513+AU6609+AU6705=0,0,ROUND(AVERAGE(AU6129,AU6225,AU6321,AU6417,AU6513,AU6609,AU6705),0)))","v":0},0,0,0,0,0,0,0,0,0,0,0,0,0,0,0,0,0,0,0,0,0,0,0,0,0,0,0,0,0,0,0,{"$f":"IF(SUM(AU6897:BF6897)=0,\"-\",AVERAGEIF(AT6052:AT6723,$G6897,CA6052:CA6723))","v":"-"},{"$f":"IFERROR(IF(SUM(AU6897:BF6897)=0,\"-\",AVERAGEIF(AT6052:AT6723,AT6897,CB6052:CB6723)), \"-\")","v":"-"},"-","-",null,"7 Day Ave","19:15:00",{"$f":"IF(AND(CH6129=\"-\",CH6225=\"-\",CH6321=\"-\",CH6417=\"-\",CH6513=\"-\",CH6609=\"-\",CH6705=\"-\"), \"-\", ROUND(AVERAGE(CH6129,CH6225,CH6321,CH6417,CH6513,CH6609,CH6705),0))","v":12},49,0,0,0,0,0,0,0,0,0,0,{"$f":"IF(AND(CT6129=\"-\",CT6225=\"-\",CT6321=\"-\",CT6417=\"-\",CT6513=\"-\",CT6609=\"-\",CT6705=\"-\"), \"-\", IF(SUM($CH6897:$CS6897)=0, 0, ROUND(AVERAGE(CT6129,CT6225,CT6321,CT6417,CT6513,CT6609,CT6705),0)))","v":0},0,0,0,0,0,0,0,0,0,0,0,0,0,0,0,0,0,0,0,{"$error":"#DIV/0!"},"-",0,0,12,49,0,0,0,61,0,0,0,0,0,0,12,49,0,0,0,61]
[{"$error":"#N/A"},"7-Day Average",{"$f":"INDEX(Input_Details!$H$5:$H$24, MATCH($A6898, Input_Details!$J$5:$J$24, 0), 0)","v":{"$error":"#N/A"}},{"$f":"INDEX(Input_Details!$I$5:$I$24, MATCH($A6898, Input_Details!$J$5:$J$24, 0), 0)","v":{"$error":"#N/A"}},{"$f":"INDEX(Input_Details!$K$5:$K$24, MATCH($A6898, Input_Details!$J$5:$J$24, 0), 0)","v":{"$error":"#N/A"}},"7 Day Ave","19:30:00",{"$f":"IF(AND(H6130=\"\",H6226=\"\",H6322=\"\",H6418=\"\",H6514=\"\",H6610=\"\",H6706=\"\"), \"-\", IF(H6130+H6226+H6322+H6418+H6514+H6610+H6706=0,0,ROUND(AVERAGE(H6130,H6226,H6322,H6418,H6514,H6610,H6706),0)))","v":12},49,0,0,0,0,0,0,0,0,0,0,0,0,0,0,0,0,0,0,0,0,0,0,0,0,0,0,0,0,0,0,{"$f":"IF(SUM(H6898:S6898)=0,\"-\",AVERAGEIF(G6052:G6723,$G6898,AN6052:AN6723))","v":{"$error":"#DIV/0!"}},{"$f":"IFERROR(IF(SUM(H6898:S6898)=0,\"-\",AVERAGEIF(G6052:G6723,G6898,AO6052:AO6723)), \"-\")","v":"-"},0,0,{"$f":"INDEX(Input_Details!$L$5:$L$24, MATCH($A6898, Input_Details!$J$5:$J$24, 0), 0)","v":{"$error":"#N/A"}},"7 Day Ave","19:30:00",{"$f":"IF(AND(AU6130=\"\",AU6226=\"\",AU6322=\"\",AU6418=\"\",AU6514=\"\",AU6610=\"\",AU6706=\"\"), \"-\", IF(AU6130+AU6226+AU6322+AU6418+AU6514+AU6610+AU6706=0,0,ROUND(AVERAGE(AU6130,AU6226,AU6322,AU6418,AU6514,AU6610,AU6706),0)))","v":0},0,0,0,0,0,0,0,0,0,0,0,0,0,0,0,0,0,0,0,0,0,0,0,0,0,0,0,0,0,0,0,{"$f":"IF(SUM(AU6898:BF6898)=0,\"-\",AVERAGEIF(AT6052:AT6723,$G6898,CA6052:CA6723))","v":"-"},{"$f":"IFERROR(IF(SUM(AU6898:BF6898)=0,\"-\",AVERAGEIF(AT6052:AT6723,AT6898,CB6052:CB6723)), \"-\")","v":"-"},"-","-",null,"7 Day Ave","19:30:00",{"$f":"IF(AND(CH6130=\"-\",CH6226=\"-\",CH6322=\"-\",CH6418=\"-\",CH6514=\"-\",CH6610=\"-\",CH6706=\"-\"), \"-\", ROUND(AVERAGE(CH6130,CH6226,CH6322,CH6418,CH6514,CH6610,CH6706),0))","v":12},49,0,0,0,0,0,0,0,0,0,0,{"$f":"IF(AND(CT6130=\"-\",CT6226=\"-\",CT6322=\"-\",CT6418=\"-\",CT6514=\"-\",CT6610=\"-\",CT6706=\"-\"), \"-\", IF(SUM($CH6898:$CS6898)=0, 0, ROUND(AVERAGE(CT6130,CT6226,CT6322,CT6418,CT6514,CT6610,CT6706),0)))","v":0},0,0,0,0,0,0,0,0,0,0,0,0,0,0,0,0,0,0,0,{"$error":"#DIV/0!"},"-",0,0,12,49,0,0,0,61,0,0,0,0,0,0,12,49,0,0,0,61]
[{"$error":"#N/A"},"7-Day Average",{"$f":"INDEX(Input_Details!$H$5:$H$24, MATCH($A6899, Input_Details!$J$5:$J$24, 0), 0)","v":{"$error":"#N/A"}},{"$f":"INDEX(Input_Details!$I$5:$I$24, MATCH($A6899, Input_Details!$J$5:$J$24, 0), 0)","v":{"$error":"#N/A"}},{"$f":"INDEX(Input_Details!$K$5:$K$24, MATCH($A6899, Input_Details!$J$5:$J$24, 0), 0)","v":{"$error":"#N/A"}},"7 Day Ave","19:45:00",{"$f":"IF(AND(H6131=\"\",H6227=\"\",H6323=\"\",H6419=\"\",H6515=\"\",H6611=\"\",H6707=\"\"), \"-\", IF(H6131+H6227+H6323+H6419+H6515+H6611+H6707=0,0,ROUND(AVERAGE(H6131,H6227,H6323,H6419,H6515,H6611,H6707),0)))","v":9},52,0,0,0,0,0,0,0,0,0,0,0,0,0,0,0,0,0,0,0,0,0,0,0,0,0,0,0,0,0,0,{"$f":"IF(SUM(H6899:S6899)=0,\"-\",AVERAGEIF(G6052:G6723,$G6899,AN6052:AN6723))","v":{"$error":"#DIV/0!"}},{"$f":"IFERROR(IF(SUM(H6899:S6899)=0,\"-\",AVERAGEIF(G6052:G6723,G6899,AO6052:AO6723)), \"-\")","v":"-"},0,0,{"$f":"INDEX(Input_Details!$L$5:$L$24, MATCH($A6899, Input_Details!$J$5:$J$24, 0), 0)","v":{"$error":"#N/A"}},"7 Day Ave","19:45:00",{"$f":"IF(AND(AU6131=\"\",AU6227=\"\",AU6323=\"\",AU6419=\"\",AU6515=\"\",AU6611=\"\",AU6707=\"\"), \"-\", IF(AU6131+AU6227+AU6323+AU6419+AU6515+AU6611+AU6707=0,0,ROUND(AVERAGE(AU6131,AU6227,AU6323,AU6419,AU6515,AU6611,AU6707),0)))","v":0},0,0,0,0,0,0,0,0,0,0,0,0,0,0,0,0,0,0,0,0,0,0,0,0,0,0,0,0,0,0,0,{"$f":"IF(SUM(AU6899:BF6899)=0,\"-\",AVERAGEIF(AT6052:AT6723,$G6899,CA6052:CA6723))","v":"-"},{"$f":"IFERROR(IF(SUM(AU6899:BF6899)=0,\"-\",AVERAGEIF(AT6052:AT6723,AT6899,CB6052:CB6723)), \"-\")","v":"-"},"-","-",null,"7 Day Ave","19:45:00",{"$f":"IF(AND(CH6131=\"-\",CH6227=\"-\",CH6323=\"-\",CH6419=\"-\",CH6515=\"-\",CH6611=\"-\",CH6707=\"-\"), \"-\", ROUND(AVERAGE(CH6131,CH6227,CH6323,CH6419,CH6515,CH6611,CH6707),0))","v":9},52,0,0,0,0,0,0,0,0,0,0,{"$f":"IF(AND(CT6131=\"-\",CT6227=\"-\",CT6323=\"-\",CT6419=\"-\",CT6515=\"-\",CT6611=\"-\",CT6707=\"-\"), \"-\", IF(SUM($CH6899:$CS6899)=0, 0, ROUND(AVERAGE(CT6131,CT6227,CT6323,CT6419,CT6515,CT6611,CT6707),0)))","v":0},0,0,0,0,0,0,0,0,0,0,0,0,0,0,0,0,0,0,0,{"$error":"#DIV/0!"},"-",0,0,9,52,0,0,0,61,0,0,0,0,0,0,9,52,0,0,0,61]
[{"$error":"#N/A"},"7-Day Average",{"$f":"INDEX(Input_Details!$H$5:$H$24, MATCH($A6900, Input_Details!$J$5:$J$24, 0), 0)","v":{"$error":"#N/A"}},{"$f":"INDEX(Input_Details!$I$5:$I$24, MATCH($A6900, Input_Details!$J$5:$J$24, 0), 0)","v":{"$error":"#N/A"}},{"$f":"INDEX(Input_Details!$K$5:$K$24, MATCH($A6900, Input_Details!$J$5:$J$24, 0), 0)","v":{"$error":"#N/A"}},"7 Day Ave","20:00:00",{"$f":"IF(AND(H6132=\"\",H6228=\"\",H6324=\"\",H6420=\"\",H6516=\"\",H6612=\"\",H6708=\"\"), \"-\", IF(H6132+H6228+H6324+H6420+H6516+H6612+H6708=0,0,ROUND(AVERAGE(H6132,H6228,H6324,H6420,H6516,H6612,H6708),0)))","v":8},55,0,0,0,0,0,0,0,0,0,0,0,0,0,0,0,0,0,0,0,0,0,0,0,0,0,0,0,0,0,0,{"$f":"IF(SUM(H6900:S6900)=0,\"-\",AVERAGEIF(G6052:G6723,$G6900,AN6052:AN6723))","v":{"$error":"#DIV/0!"}},{"$f":"IFERROR(IF(SUM(H6900:S6900)=0,\"-\",AVERAGEIF(G6052:G6723,G6900,AO6052:AO6723)), \"-\")","v":"-"},0,0,{"$f":"INDEX(Input_Details!$L$5:$L$24, MATCH($A6900, Input_Details!$J$5:$J$24, 0), 0)","v":{"$error":"#N/A"}},"7 Day Ave","20:00:00",{"$f":"IF(AND(AU6132=\"\",AU6228=\"\",AU6324=\"\",AU6420=\"\",AU6516=\"\",AU6612=\"\",AU6708=\"\"), \"-\", IF(AU6132+AU6228+AU6324+AU6420+AU6516+AU6612+AU6708=0,0,ROUND(AVERAGE(AU6132,AU6228,AU6324,AU6420,AU6516,AU6612,AU6708),0)))","v":0},0,0,0,0,0,0,0,0,0,0,0,0,0,0,0,0,0,0,0,0,0,0,0,0,0,0,0,0,0,0,0,{"$f":"IF(SUM(AU6900:BF6900)=0,\"-\",AVERAGEIF(AT6052:AT6723,$G6900,CA6052:CA6723))","v":"-"},{"$f":"IFERROR(IF(SUM(AU6900:BF6900)=0,\"-\",AVERAGEIF(AT6052:AT6723,AT6900,CB6052:CB6723)), \"-\")","v":"-"},"-","-",null,"7 Day Ave","20:00:00",{"$f":"IF(AND(CH6132=\"-\",CH6228=\"-\",CH6324=\"-\",CH6420=\"-\",CH6516=\"-\",CH6612=\"-\",CH6708=\"-\"), \"-\", ROUND(AVERAGE(CH6132,CH6228,CH6324,CH6420,CH6516,CH6612,CH6708),0))","v":8},55,0,0,0,0,0,0,0,0,0,0,{"$f":"IF(AND(CT6132=\"-\",CT6228=\"-\",CT6324=\"-\",CT6420=\"-\",CT6516=\"-\",CT6612=\"-\",CT6708=\"-\"), \"-\", IF(SUM($CH6900:$CS6900)=0, 0, ROUND(AVERAGE(CT6132,CT6228,CT6324,CT6420,CT6516,CT6612,CT6708),0)))","v":0},0,0,0,0,0,0,0,0,0,0,0,0,0,0,0,0,0,0,0,{"$error":"#DIV/0!"},"-",0,0,8,55,0,0,0,63,0,0,0,0,0,0,8,55,0,0,0,63]
[{"$error":"#N/A"},"7-Day Average",{"$f":"INDEX(Input_Details!$H$5:$H$24, MATCH($A6901, Input_Details!$J$5:$J$24, 0), 0)","v":{"$error":"#N/A"}},{"$f":"INDEX(Input_Details!$I$5:$I$24, MATCH($A6901, Input_Details!$J$5:$J$24, 0), 0)","v":{"$error":"#N/A"}},{"$f":"INDEX(Input_Details!$K$5:$K$24, MATCH($A6901, Input_Details!$J$5:$J$24, 0), 0)","v":{"$error":"#N/A"}},"7 Day Ave","20:15:00",{"$f":"IF(AND(H6133=\"\",H6229=\"\",H6325=\"\",H6421=\"\",H6517=\"\",H6613=\"\",H6709=\"\"), \"-\", IF(H6133+H6229+H6325+H6421+H6517+H6613+H6709=0,0,ROUND(AVERAGE(H6133,H6229,H6325,H6421,H6517,H6613,H6709),0)))","v":7},47,0,0,0,0,0,0,0,0,0,0,0,0,0,0,0,0,0,0,0,0,0,0,0,0,0,0,0,0,0,0,{"$f":"IF(SUM(H6901:S6901)=0,\"-\",AVERAGEIF(G6052:G6723,$G6901,AN6052:AN6723))","v":{"$error":"#DIV/0!"}},{"$f":"IFERROR(IF(SUM(H6901:S6901)=0,\"-\",AVERAGEIF(G6052:G6723,G6901,AO6052:AO6723)), \"-\")","v":"-"},0,0,{"$f":"INDEX(Input_Details!$L$5:$L$24, MATCH($A6901, Input_Details!$J$5:$J$24, 0), 0)","v":{"$error":"#N/A"}},"7 Day Ave","20:15:00",{"$f":"IF(AND(AU6133=\"\",AU6229=\"\",AU6325=\"\",AU6421=\"\",AU6517=\"\",AU6613=\"\",AU6709=\"\"), \"-\", IF(AU6133+AU6229+AU6325+AU6421+AU6517+AU6613+AU6709=0,0,ROUND(AVERAGE(AU6133,AU6229,AU6325,AU6421,AU6517,AU6613,AU6709),0)))","v":0},0,0,0,0,0,0,0,0,0,0,0,0,0,0,0,0,0,0,0,0,0,0,0,0,0,0,0,0,0,0,0,{"$f":"IF(SUM(AU6901:BF6901)=0,\"-\",AVERAGEIF(AT6052:AT6723,$G6901,CA6052:CA6723))","v":"-"},{"$f":"IFERROR(IF(SUM(AU6901:BF6901)=0,\"-\",AVERAGEIF(AT6052:AT6723,AT6901,CB6052:CB6723)), \"-\")","v":"-"},"-","-",null,"7 Day Ave","20:15:00",{"$f":"IF(AND(CH6133=\"-\",CH6229=\"-\",CH6325=\"-\",CH6421=\"-\",CH6517=\"-\",CH6613=\"-\",CH6709=\"-\"), \"-\", ROUND(AVERAGE(CH6133,CH6229,CH6325,CH6421,CH6517,CH6613,CH6709),0))","v":7},47,0,0,0,0,0,0,0,0,0,0,{"$f":"IF(AND(CT6133=\"-\",CT6229=\"-\",CT6325=\"-\",CT6421=\"-\",CT6517=\"-\",CT6613=\"-\",CT6709=\"-\"), \"-\", IF(SUM($CH6901:$CS6901)=0, 0, ROUND(AVERAGE(CT6133,CT6229,CT6325,CT6421,CT6517,CT6613,CT6709),0)))","v":0},0,0,0,0,0,0,0,0,0,0,0,0,0,0,0,0,0,0,0,{"$error":"#DIV/0!"},"-",0,0,7,47,0,0,0,54,0,0,0,0,0,0,7,47,0,0,0,54]
[{"$error":"#N/A"},"7-Day Average",{"$f":"INDEX(Input_Details!$H$5:$H$24, MATCH($A6902, Input_Details!$J$5:$J$24, 0), 0)","v":{"$error":"#N/A"}},{"$f":"INDEX(Input_Details!$I$5:$I$24, MATCH($A6902, Input_Details!$J$5:$J$24, 0), 0)","v":{"$error":"#N/A"}},{"$f":"INDEX(Input_Details!$K$5:$K$24, MATCH($A6902, Input_Details!$J$5:$J$24, 0), 0)","v":{"$error":"#N/A"}},"7 Day Ave","20:30:00",{"$f":"IF(AND(H6134=\"\",H6230=\"\",H6326=\"\",H6422=\"\",H6518=\"\",H6614=\"\",H6710=\"\"), \"-\", IF(H6134+H6230+H6326+H6422+H6518+H6614+H6710=0,0,ROUND(AVERAGE(H6134,H6230,H6326,H6422,H6518,H6614,H6710),0)))","v":7},42,0,0,0,0,0,0,0,0,0,0,0,0,0,0,0,0,0,0,0,0,0,0,0,0,0,0,0,0,0,0,{"$f":"IF(SUM(H6902:S6902)=0,\"-\",AVERAGEIF(G6052:G6723,$G6902,AN6052:AN6723))","v":{"$error":"#DIV/0!"}},{"$f":"IFERROR(IF(SUM(H6902:S6902)=0,\"-\",AVERAGEIF(G6052:G6723,G6902,AO6052:AO6723)), \"-\")","v":"-"},0,0,{"$f":"INDEX(Input_Details!$L$5:$L$24, MATCH($A6902, Input_Details!$J$5:$J$24, 0), 0)","v":{"$error":"#N/A"}},"7 Day Ave","20:30:00",{"$f":"IF(AND(AU6134=\"\",AU6230=\"\",AU6326=\"\",AU6422=\"\",AU6518=\"\",AU6614=\"\",AU6710=\"\"), \"-\", IF(AU6134+AU6230+AU6326+AU6422+AU6518+AU6614+AU6710=0,0,ROUND(AVERAGE(AU6134,AU6230,AU6326,AU6422,AU6518,AU6614,AU6710),0)))","v":0},0,0,0,0,0,0,0,0,0,0,0,0,0,0,0,0,0,0,0,0,0,0,0,0,0,0,0,0,0,0,0,{"$f":"IF(SUM(AU6902:BF6902)=0,\"-\",AVERAGEIF(AT6052:AT6723,$G6902,CA6052:CA6723))","v":"-"},{"$f":"IFERROR(IF(SUM(AU6902:BF6902)=0,\"-\",AVERAGEIF(AT6052:AT6723,AT6902,CB6052:CB6723)), \"-\")","v":"-"},"-","-",null,"7 Day Ave","20:30:00",{"$f":"IF(AND(CH6134=\"-\",CH6230=\"-\",CH6326=\"-\",CH6422=\"-\",CH6518=\"-\",CH6614=\"-\",CH6710=\"-\"), \"-\", ROUND(AVERAGE(CH6134,CH6230,CH6326,CH6422,CH6518,CH6614,CH6710),0))","v":7},42,0,0,0,0,0,0,0,0,0,0,{"$f":"IF(AND(CT6134=\"-\",CT6230=\"-\",CT6326=\"-\",CT6422=\"-\",CT6518=\"-\",CT6614=\"-\",CT6710=\"-\"), \"-\", IF(SUM($CH6902:$CS6902)=0, 0, ROUND(AVERAGE(CT6134,CT6230,CT6326,CT6422,CT6518,CT6614,CT6710),0)))","v":0},0,0,0,0,0,0,0,0,0,0,0,0,0,0,0,0,0,0,0,{"$error":"#DIV/0!"},"-",0,0,7,42,0,0,0,49,0,0,0,0,0,0,7,42,0,0,0,49]
[{"$error":"#N/A"},"7-Day Average",{"$f":"INDEX(Input_Details!$H$5:$H$24, MATCH($A6903, Input_Details!$J$5:$J$24, 0), 0)","v":{"$error":"#N/A"}},{"$f":"INDEX(Input_Details!$I$5:$I$24, MATCH($A6903, Input_Details!$J$5:$J$24, 0), 0)","v":{"$error":"#N/A"}},{"$f":"INDEX(Input_Details!$K$5:$K$24, MATCH($A6903, Input_Details!$J$5:$J$24, 0), 0)","v":{"$error":"#N/A"}},"7 Day Ave","20:45:00",{"$f":"IF(AND(H6135=\"\",H6231=\"\",H6327=\"\",H6423=\"\",H6519=\"\",H6615=\"\",H6711=\"\"), \"-\", IF(H6135+H6231+H6327+H6423+H6519+H6615+H6711=0,0,ROUND(AVERAGE(H6135,H6231,H6327,H6423,H6519,H6615,H6711),0)))","v":7},34,0,0,0,0,0,0,0,0,0,0,0,0,0,0,0,0,0,0,0,0,0,0,0,0,0,0,0,0,0,0,{"$f":"IF(SUM(H6903:S6903)=0,\"-\",AVERAGEIF(G6052:G6723,$G6903,AN6052:AN6723))","v":{"$error":"#DIV/0!"}},{"$f":"IFERROR(IF(SUM(H6903:S6903)=0,\"-\",AVERAGEIF(G6052:G6723,G6903,AO6052:AO6723)), \"-\")","v":"-"},0,0,{"$f":"INDEX(Input_Details!$L$5:$L$24, MATCH($A6903, Input_Details!$J$5:$J$24, 0), 0)","v":{"$error":"#N/A"}},"7 Day Ave","20:45:00",{"$f":"IF(AND(AU6135=\"\",AU6231=\"\",AU6327=\"\",AU6423=\"\",AU6519=\"\",AU6615=\"\",AU6711=\"\"), \"-\", IF(AU6135+AU6231+AU6327+AU6423+AU6519+AU6615+AU6711=0,0,ROUND(AVERAGE(AU6135,AU6231,AU6327,AU6423,AU6519,AU6615,AU6711),0)))","v":0},0,0,0,0,0,0,0,0,0,0,0,0,0,0,0,0,0,0,0,0,0,0,0,0,0,0,0,0,0,0,0,{"$f":"IF(SUM(AU6903:BF6903)=0,\"-\",AVERAGEIF(AT6052:AT6723,$G6903,CA6052:CA6723))","v":"-"},{"$f":"IFERROR(IF(SUM(AU6903:BF6903)=0,\"-\",AVERAGEIF(AT6052:AT6723,AT6903,CB6052:CB6723)), \"-\")","v":"-"},"-","-",null,"7 Day Ave","20:45:00",{"$f":"IF(AND(CH6135=\"-\",CH6231=\"-\",CH6327=\"-\",CH6423=\"-\",CH6519=\"-\",CH6615=\"-\",CH6711=\"-\"), \"-\", ROUND(AVERAGE(CH6135,CH6231,CH6327,CH6423,CH6519,CH6615,CH6711),0))","v":7},34,0,0,0,0,0,0,0,0,0,0,{"$f":"IF(AND(CT6135=\"-\",CT6231=\"-\",CT6327=\"-\",CT6423=\"-\",CT6519=\"-\",CT6615=\"-\",CT6711=\"-\"), \"-\", IF(SUM($CH6903:$CS6903)=0, 0, ROUND(AVERAGE(CT6135,CT6231,CT6327,CT6423,CT6519,CT6615,CT6711),0)))","v":0},0,0,0,0,0,0,0,0,0,0,0,0,0,0,0,0,0,0,0,{"$error":"#DIV/0!"},"-",0,0,7,34,0,0,0,41,0,0,0,0,0,0,7,34,0,0,0,41]
[{"$error":"#N/A"},"7-Day Average",{"$f":"INDEX(Input_Details!$H$5:$H$24, MATCH($A6904, Input_Details!$J$5:$J$24, 0), 0)","v":{"$error":"#N/A"}},{"$f":"INDEX(Input_Details!$I$5:$I$24, MATCH($A6904, Input_Details!$J$5:$J$24, 0), 0)","v":{"$error":"#N/A"}},{"$f":"INDEX(Input_Details!$K$5:$K$24, MATCH($A6904, Input_Details!$J$5:$J$24, 0), 0)","v":{"$error":"#N/A"}},"7 Day Ave","21:00:00",{"$f":"IF(AND(H6136=\"\",H6232=\"\",H6328=\"\",H6424=\"\",H6520=\"\",H6616=\"\",H6712=\"\"), \"-\", IF(H6136+H6232+H6328+H6424+H6520+H6616+H6712=0,0,ROUND(AVERAGE(H6136,H6232,H6328,H6424,H6520,H6616,H6712),0)))","v":6},32,0,0,0,0,0,0,0,0,0,0,0,0,0,0,0,0,0,0,0,0,0,0,0,0,0,0,0,0,0,0,{"$f":"IF(SUM(H6904:S6904)=0,\"-\",AVERAGEIF(G6052:G6723,$G6904,AN6052:AN6723))","v":{"$error":"#DIV/0!"}},{"$f":"IFERROR(IF(SUM(H6904:S6904)=0,\"-\",AVERAGEIF(G6052:G6723,G6904,AO6052:AO6723)), \"-\")","v":"-"},0,0,{"$f":"INDEX(Input_Details!$L$5:$L$24, MATCH($A6904, Input_Details!$J$5:$J$24, 0), 0)","v":{"$error":"#N/A"}},"7 Day Ave","21:00:00",{"$f":"IF(AND(AU6136=\"\",AU6232=\"\",AU6328=\"\",AU6424=\"\",AU6520=\"\",AU6616=\"\",AU6712=\"\"), \"-\", IF(AU6136+AU6232+AU6328+AU6424+AU6520+AU6616+AU6712=0,0,ROUND(AVERAGE(AU6136,AU6232,AU6328,AU6424,AU6520,AU6616,AU6712),0)))","v":0},0,0,0,0,0,0,0,0,0,0,0,0,0,0,0,0,0,0,0,0,0,0,0,0,0,0,0,0,0,0,0,{"$f":"IF(SUM(AU6904:BF6904)=0,\"-\",AVERAGEIF(AT6052:AT6723,$G6904,CA6052:CA6723))","v":"-"},{"$f":"IFERROR(IF(SUM(AU6904:BF6904)=0,\"-\",AVERAGEIF(AT6052:AT6723,AT6904,CB6052:CB6723)), \"-\")","v":"-"},"-","-",null,"7 Day Ave","21:00:00",{"$f":"IF(AND(CH6136=\"-\",CH6232=\"-\",CH6328=\"-\",CH6424=\"-\",CH6520=\"-\",CH6616=\"-\",CH6712=\"-\"), \"-\", ROUND(AVERAGE(CH6136,CH6232,CH6328,CH6424,CH6520,CH6616,CH6712),0))","v":6},32,0,0,0,0,0,0,0,0,0,0,{"$f":"IF(AND(CT6136=\"-\",CT6232=\"-\",CT6328=\"-\",CT6424=\"-\",CT6520=\"-\",CT6616=\"-\",CT6712=\"-\"), \"-\", IF(SUM($CH6904:$CS6904)=0, 0, ROUND(AVERAGE(CT6136,CT6232,CT6328,CT6424,CT6520,CT6616,CT6712),0)))","v":0},0,0,0,0,0,0,0,0,0,0,0,0,0,0,0,0,0,0,0,{"$error":"#DIV/0!"},"-",0,0,6,32,0,0,0,38,0,0,0,0,0,0,6,32,0,0,0,38]
[{"$error":"#N/A"},"7-Day Average",{"$f":"INDEX(Input_Details!$H$5:$H$24, MATCH($A6905, Input_Details!$J$5:$J$24, 0), 0)","v":{"$error":"#N/A"}},{"$f":"INDEX(Input_Details!$I$5:$I$24, MATCH($A6905, Input_Details!$J$5:$J$24, 0), 0)","v":{"$error":"#N/A"}},{"$f":"INDEX(Input_Details!$K$5:$K$24, MATCH($A6905, Input_Details!$J$5:$J$24, 0), 0)","v":{"$error":"#N/A"}},"7 Day Ave","21:15:00",{"$f":"IF(AND(H6137=\"\",H6233=\"\",H6329=\"\",H6425=\"\",H6521=\"\",H6617=\"\",H6713=\"\"), \"-\", IF(H6137+H6233+H6329+H6425+H6521+H6617+H6713=0,0,ROUND(AVERAGE(H6137,H6233,H6329,H6425,H6521,H6617,H6713),0)))","v":8},33,0,0,0,0,0,0,0,0,0,0,0,0,0,0,0,0,0,0,0,0,0,0,0,0,0,0,0,0,0,0,{"$f":"IF(SUM(H6905:S6905)=0,\"-\",AVERAGEIF(G6052:G6723,$G6905,AN6052:AN6723))","v":{"$error":"#DIV/0!"}},{"$f":"IFERROR(IF(SUM(H6905:S6905)=0,\"-\",AVERAGEIF(G6052:G6723,G6905,AO6052:AO6723)), \"-\")","v":"-"},0,0,{"$f":"INDEX(Input_Details!$L$5:$L$24, MATCH($A6905, Input_Details!$J$5:$J$24, 0), 0)","v":{"$error":"#N/A"}},"7 Day Ave","21:15:00",{"$f":"IF(AND(AU6137=\"\",AU6233=\"\",AU6329=\"\",AU6425=\"\",AU6521=\"\",AU6617=\"\",AU6713=\"\"), \"-\", IF(AU6137+AU6233+AU6329+AU6425+AU6521+AU6617+AU6713=0,0,ROUND(AVERAGE(AU6137,AU6233,AU6329,AU6425,AU6521,AU6617,AU6713),0)))","v":0},0,0,0,0,0,0,0,0,0,0,0,0,0,0,0,0,0,0,0,0,0,0,0,0,0,0,0,0,0,0,0,{"$f":"IF(SUM(AU6905:BF6905)=0,\"-\",AVERAGEIF(AT6052:AT6723,$G6905,CA6052:CA6723))","v":"-"},{"$f":"IFERROR(IF(SUM(AU6905:BF6905)=0,\"-\",AVERAGEIF(AT6052:AT6723,AT6905,CB6052:CB6723)), \"-\")","v":"-"},"-","-",null,"7 Day Ave","21:15:00",{"$f":"IF(AND(CH6137=\"-\",CH6233=\"-\",CH6329=\"-\",CH6425=\"-\",CH6521=\"-\",CH6617=\"-\",CH6713=\"-\"), \"-\", ROUND(AVERAGE(CH6137,CH6233,CH6329,CH6425,CH6521,CH6617,CH6713),0))","v":8},33,0,0,0,0,0,0,0,0,0,0,{"$f":"IF(AND(CT6137=\"-\",CT6233=\"-\",CT6329=\"-\",CT6425=\"-\",CT6521=\"-\",CT6617=\"-\",CT6713=\"-\"), \"-\", IF(SUM($CH6905:$CS6905)=0, 0, ROUND(AVERAGE(CT6137,CT6233,CT6329,CT6425,CT6521,CT6617,CT6713),0)))","v":0},0,0,0,0,0,0,0,0,0,0,0,0,0,0,0,0,0,0,0,{"$error":"#DIV/0!"},"-",0,0,8,33,0,0,0,41,0,0,0,0,0,0,8,33,0,0,0,41]
[{"$error":"#N/A"},"7-Day Average",{"$f":"INDEX(Input_Details!$H$5:$H$24, MATCH($A6906, Input_Details!$J$5:$J$24, 0), 0)","v":{"$error":"#N/A"}},{"$f":"INDEX(Input_Details!$I$5:$I$24, MATCH($A6906, Input_Details!$J$5:$J$24, 0), 0)","v":{"$error":"#N/A"}},{"$f":"INDEX(Input_Details!$K$5:$K$24, MATCH($A6906, Input_Details!$J$5:$J$24, 0), 0)","v":{"$error":"#N/A"}},"7 Day Ave","21:30:00",{"$f":"IF(AND(H6138=\"\",H6234=\"\",H6330=\"\",H6426=\"\",H6522=\"\",H6618=\"\",H6714=\"\"), \"-\", IF(H6138+H6234+H6330+H6426+H6522+H6618+H6714=0,0,ROUND(AVERAGE(H6138,H6234,H6330,H6426,H6522,H6618,H6714),0)))","v":5},42,0,0,0,0,0,0,0,0,0,0,0,0,0,0,0,0,0,0,0,0,0,0,0,0,0,0,0,0,0,0,{"$f":"IF(SUM(H6906:S6906)=0,\"-\",AVERAGEIF(G6052:G6723,$G6906,AN6052:AN6723))","v":{"$error":"#DIV/0!"}},{"$f":"IFERROR(IF(SUM(H6906:S6906)=0,\"-\",AVERAGEIF(G6052:G6723,G6906,AO6052:AO6723)), \"-\")","v":"-"},0,0,{"$f":"INDEX(Input_Details!$L$5:$L$24, MATCH($A6906, Input_Details!$J$5:$J$24, 0), 0)","v":{"$error":"#N/A"}},"7 Day Ave","21:30:00",{"$f":"IF(AND(AU6138=\"\",AU6234=\"\",AU6330=\"\",AU6426=\"\",AU6522=\"\",AU6618=\"\",AU6714=\"\"), \"-\", IF(AU6138+AU6234+AU6330+AU6426+AU6522+AU6618+AU6714=0,0,ROUND(AVERAGE(AU6138,AU6234,AU6330,AU6426,AU6522,AU6618,AU6714),0)))","v":0},0,0,0,0,0,0,0,0,0,0,0,0,0,0,0,0,0,0,0,0,0,0,0,0,0,0,0,0,0,0,0,{"$f":"IF(SUM(AU6906:BF6906)=0,\"-\",AVERAGEIF(AT6052:AT6723,$G6906,CA6052:CA6723))","v":"-"},{"$f":"IFERROR(IF(SUM(AU6906:BF6906)=0,\"-\",AVERAGEIF(AT6052:AT6723,AT6906,CB6052:CB6723)), \"-\")","v":"-"},"-","-",null,"7 Day Ave","21:30:00",{"$f":"IF(AND(CH6138=\"-\",CH6234=\"-\",CH6330=\"-\",CH6426=\"-\",CH6522=\"-\",CH6618=\"-\",CH6714=\"-\"), \"-\", ROUND(AVERAGE(CH6138,CH6234,CH6330,CH6426,CH6522,CH6618,CH6714),0))","v":5},42,0,0,0,0,0,0,0,0,0,0,{"$f":"IF(AND(CT6138=\"-\",CT6234=\"-\",CT6330=\"-\",CT6426=\"-\",CT6522=\"-\",CT6618=\"-\",CT6714=\"-\"), \"-\", IF(SUM($CH6906:$CS6906)=0, 0, ROUND(AVERAGE(CT6138,CT6234,CT6330,CT6426,CT6522,CT6618,CT6714),0)))","v":0},0,0,0,0,0,0,0,0,0,0,0,0,0,0,0,0,0,0,0,{"$error":"#DIV/0!"},"-",0,0,5,42,0,0,0,47,0,0,0,0,0,0,5,42,0,0,0,47]
[{"$error":"#N/A"},"7-Day Average",{"$f":"INDEX(Input_Details!$H$5:$H$24, MATCH($A6907, Input_Details!$J$5:$J$24, 0), 0)","v":{"$error":"#N/A"}},{"$f":"INDEX(Input_Details!$I$5:$I$24, MATCH($A6907, Input_Details!$J$5:$J$24, 0), 0)","v":{"$error":"#N/A"}},{"$f":"INDEX(Input_Details!$K$5:$K$24, MATCH($A6907, Input_Details!$J$5:$J$24, 0), 0)","v":{"$error":"#N/A"}},"7 Day Ave","21:45:00",{"$f":"IF(AND(H6139=\"\",H6235=\"\",H6331=\"\",H6427=\"\",H6523=\"\",H6619=\"\",H6715=\"\"), \"-\", IF(H6139+H6235+H6331+H6427+H6523+H6619+H6715=0,0,ROUND(AVERAGE(H6139,H6235,H6331,H6427,H6523,H6619,H6715),0)))","v":8},37,0,0,0,0,0,0,0,0,0,0,0,0,0,0,0,0,0,0,0,0,0,0,0,0,0,0,0,0,0,0,{"$f":"IF(SUM(H6907:S6907)=0,\"-\",AVERAGEIF(G6052:G6723,$G6907,AN6052:AN6723))","v":{"$error":"#DIV/0!"}},{"$f":"IFERROR(IF(SUM(H6907:S6907)=0,\"-\",AVERAGEIF(G6052:G6723,G6907,AO6052:AO6723)), \"-\")","v":"-"},0,0,{"$f":"INDEX(Input_Details!$L$5:$L$24, MATCH($A6907, Input_Details!$J$5:$J$24, 0), 0)","v":{"$error":"#N/A"}},"7 Day Ave","21:45:00",{"$f":"IF(AND(AU6139=\"\",AU6235=\"\",AU6331=\"\",AU6427=\"\",AU6523=\"\",AU6619=\"\",AU6715=\"\"), \"-\", IF(AU6139+AU6235+AU6331+AU6427+AU6523+AU6619+AU6715=0,0,ROUND(AVERAGE(AU6139,AU6235,AU6331,AU6427,AU6523,AU6619,AU6715),0)))","v":0},0,0,0,0,0,0,0,0,0,0,0,0,0,0,0,0,0,0,0,0,0,0,0,0,0,0,0,0,0,0,0,{"$f":"IF(SUM(AU6907:BF6907)=0,\"-\",AVERAGEIF(AT6052:AT6723,$G6907,CA6052:CA6723))","v":"-"},{"$f":"IFERROR(IF(SUM(AU6907:BF6907)=0,\"-\",AVERAGEIF(AT6052:AT6723,AT6907,CB6052:CB6723)), \"-\")","v":"-"},"-","-",null,"7 Day Ave","21:45:00",{"$f":"IF(AND(CH6139=\"-\",CH6235=\"-\",CH6331=\"-\",CH6427=\"-\",CH6523=\"-\",CH6619=\"-\",CH6715=\"-\"), \"-\", ROUND(AVERAGE(CH6139,CH6235,CH6331,CH6427,CH6523,CH6619,CH6715),0))","v":8},37,0,0,0,0,0,0,0,0,0,0,{"$f":"IF(AND(CT6139=\"-\",CT6235=\"-\",CT6331=\"-\",CT6427=\"-\",CT6523=\"-\",CT6619=\"-\",CT6715=\"-\"), \"-\", IF(SUM($CH6907:$CS6907)=0, 0, ROUND(AVERAGE(CT6139,CT6235,CT6331,CT6427,CT6523,CT6619,CT6715),0)))","v":0},0,0,0,0,0,0,0,0,0,0,0,0,0,0,0,0,0,0,0,{"$error":"#DIV/0!"},"-",0,0,8,37,0,0,0,45,0,0,0,0,0,0,8,37,0,0,0,45]
[{"$error":"#N/A"},"7-Day Average",{"$f":"INDEX(Input_Details!$H$5:$H$24, MATCH($A6908, Input_Details!$J$5:$J$24, 0), 0)","v":{"$error":"#N/A"}},{"$f":"INDEX(Input_Details!$I$5:$I$24, MATCH($A6908, Input_Details!$J$5:$J$24, 0), 0)","v":{"$error":"#N/A"}},{"$f":"INDEX(Input_Details!$K$5:$K$24, MATCH($A6908, Input_Details!$J$5:$J$24, 0), 0)","v":{"$error":"#N/A"}},"7 Day Ave","22:00:00",{"$f":"IF(AND(H6140=\"\",H6236=\"\",H6332=\"\",H6428=\"\",H6524=\"\",H6620=\"\",H6716=\"\"), \"-\", IF(H6140+H6236+H6332+H6428+H6524+H6620+H6716=0,0,ROUND(AVERAGE(H6140,H6236,H6332,H6428,H6524,H6620,H6716),0)))","v":5},33,0,0,0,0,0,0,0,0,0,0,0,0,0,0,0,0,0,0,0,0,0,0,0,0,0,0,0,0,0,0,{"$f":"IF(SUM(H6908:S6908)=0,\"-\",AVERAGEIF(G6052:G6723,$G6908,AN6052:AN6723))","v":{"$error":"#DIV/0!"}},{"$f":"IFERROR(IF(SUM(H6908:S6908)=0,\"-\",AVERAGEIF(G6052:G6723,G6908,AO6052:AO6723)), \"-\")","v":"-"},0,0,{"$f":"INDEX(Input_Details!$L$5:$L$24, MATCH($A6908, Input_Details!$J$5:$J$24, 0), 0)","v":{"$error":"#N/A"}},"7 Day Ave","22:00:00",{"$f":"IF(AND(AU6140=\"\",AU6236=\"\",AU6332=\"\",AU6428=\"\",AU6524=\"\",AU6620=\"\",AU6716=\"\"), \"-\", IF(AU6140+AU6236+AU6332+AU6428+AU6524+AU6620+AU6716=0,0,ROUND(AVERAGE(AU6140,AU6236,AU6332,AU6428,AU6524,AU6620,AU6716),0)))","v":0},0,0,0,0,0,0,0,0,0,0,0,0,0,0,0,0,0,0,0,0,0,0,0,0,0,0,0,0,0,0,0,{"$f":"IF(SUM(AU6908:BF6908)=0,\"-\",AVERAGEIF(AT6052:AT6723,$G6908,CA6052:CA6723))","v":"-"},{"$f":"IFERROR(IF(SUM(AU6908:BF6908)=0,\"-\",AVERAGEIF(AT6052:AT6723,AT6908,CB6052:CB6723)), \"-\")","v":"-"},"-","-",null,"7 Day Ave","22:00:00",{"$f":"IF(AND(CH6140=\"-\",CH6236=\"-\",CH6332=\"-\",CH6428=\"-\",CH6524=\"-\",CH6620=\"-\",CH6716=\"-\"), \"-\", ROUND(AVERAGE(CH6140,CH6236,CH6332,CH6428,CH6524,CH6620,CH6716),0))","v":5},33,0,0,0,0,0,0,0,0,0,0,{"$f":"IF(AND(CT6140=\"-\",CT6236=\"-\",CT6332=\"-\",CT6428=\"-\",CT6524=\"-\",CT6620=\"-\",CT6716=\"-\"), \"-\", IF(SUM($CH6908:$CS6908)=0, 0, ROUND(AVERAGE(CT6140,CT6236,CT6332,CT6428,CT6524,CT6620,CT6716),0)))","v":0},0,0,0,0,0,0,0,0,0,0,0,0,0,0,0,0,0,0,0,{"$error":"#DIV/0!"},"-",0,0,5,33,0,0,0,38,0,0,0,0,0,0,5,33,0,0,0,38]
[{"$error":"#N/A"},"7-Day Average",{"$f":"INDEX(Input_Details!$H$5:$H$24, MATCH($A6909, Input_Details!$J$5:$J$24, 0), 0)","v":{"$error":"#N/A"}},{"$f":"INDEX(Input_Details!$I$5:$I$24, MATCH($A6909, Input_Details!$J$5:$J$24, 0), 0)","v":{"$error":"#N/A"}},{"$f":"INDEX(Input_Details!$K$5:$K$24, MATCH($A6909, Input_Details!$J$5:$J$24, 0), 0)","v":{"$error":"#N/A"}},"7 Day Ave","22:15:00",{"$f":"IF(AND(H6141=\"\",H6237=\"\",H6333=\"\",H6429=\"\",H6525=\"\",H6621=\"\",H6717=\"\"), \"-\", IF(H6141+H6237+H6333+H6429+H6525+H6621+H6717=0,0,ROUND(AVERAGE(H6141,H6237,H6333,H6429,H6525,H6621,H6717),0)))","v":7},32,0,0,0,0,0,0,0,0,0,0,0,0,0,0,0,0,0,0,0,0,0,0,0,0,0,0,0,0,0,0,{"$f":"IF(SUM(H6909:S6909)=0,\"-\",AVERAGEIF(G6052:G6723,$G6909,AN6052:AN6723))","v":{"$error":"#DIV/0!"}},{"$f":"IFERROR(IF(SUM(H6909:S6909)=0,\"-\",AVERAGEIF(G6052:G6723,G6909,AO6052:AO6723)), \"-\")","v":"-"},0,0,{"$f":"INDEX(Input_Details!$L$5:$L$24, MATCH($A6909, Input_Details!$J$5:$J$24, 0), 0)","v":{"$error":"#N/A"}},"7 Day Ave","22:15:00",{"$f":"IF(AND(AU6141=\"\",AU6237=\"\",AU6333=\"\",AU6429=\"\",AU6525=\"\",AU6621=\"\",AU6717=\"\"), \"-\", IF(AU6141+AU6237+AU6333+AU6429+AU6525+AU6621+AU6717=0,0,ROUND(AVERAGE(AU6141,AU6237,AU6333,AU6429,AU6525,AU6621,AU6717),0)))","v":0},0,0,0,0,0,0,0,0,0,0,0,0,0,0,0,0,0,0,0,0,0,0,0,0,0,0,0,0,0,0,0,{"$f":"IF(SUM(AU6909:BF6909)=0,\"-\",AVERAGEIF(AT6052:AT6723,$G6909,CA6052:CA6723))","v":"-"},{"$f":"IFERROR(IF(SUM(AU6909:BF6909)=0,\"-\",AVERAGEIF(AT6052:AT6723,AT6909,CB6052:CB6723)), \"-\")","v":"-"},"-","-",null,"7 Day Ave","22:15:00",{"$f":"IF(AND(CH6141=\"-\",CH6237=\"-\",CH6333=\"-\",CH6429=\"-\",CH6525=\"-\",CH6621=\"-\",CH6717=\"-\"), \"-\", ROUND(AVERAGE(CH6141,CH6237,CH6333,CH6429,CH6525,CH6621,CH6717),0))","v":7},32,0,0,0,0,0,0,0,0,0,0,{"$f":"IF(AND(CT6141=\"-\",CT6237=\"-\",CT6333=\"-\",CT6429=\"-\",CT6525=\"-\",CT6621=\"-\",CT6717=\"-\"), \"-\", IF(SUM($CH6909:$CS6909)=0, 0, ROUND(AVERAGE(CT6141,CT6237,CT6333,CT6429,CT6525,CT6621,CT6717),0)))","v":0},0,0,0,0,0,0,0,0,0,0,0,0,0,0,0,0,0,0,0,{"$error":"#DIV/0!"},"-",0,0,7,32,0,0,0,39,0,0,0,0,0,0,7,32,0,0,0,39]
[{"$error":"#N/A"},"7-Day Average",{"$f":"INDEX(Input_Details!$H$5:$H$24, MATCH($A6910, Input_Details!$J$5:$J$24, 0), 0)","v":{"$error":"#N/A"}},{"$f":"INDEX(Input_Details!$I$5:$I$24, MATCH($A6910, Input_Details!$J$5:$J$24, 0), 0)","v":{"$error":"#N/A"}},{"$f":"INDEX(Input_Details!$K$5:$K$24, MATCH($A6910, Input_Details!$J$5:$J$24, 0), 0)","v":{"$error":"#N/A"}},"7 Day Ave","22:30:00",{"$f":"IF(AND(H6142=\"\",H6238=\"\",H6334=\"\",H6430=\"\",H6526=\"\",H6622=\"\",H6718=\"\"), \"-\", IF(H6142+H6238+H6334+H6430+H6526+H6622+H6718=0,0,ROUND(AVERAGE(H6142,H6238,H6334,H6430,H6526,H6622,H6718),0)))","v":7},37,0,0,0,0,0,0,0,0,0,0,0,0,0,0,0,0,0,0,0,0,0,0,0,0,0,0,0,0,0,0,{"$f":"IF(SUM(H6910:S6910)=0,\"-\",AVERAGEIF(G6052:G6723,$G6910,AN6052:AN6723))","v":{"$error":"#DIV/0!"}},{"$f":"IFERROR(IF(SUM(H6910:S6910)=0,\"-\",AVERAGEIF(G6052:G6723,G6910,AO6052:AO6723)), \"-\")","v":"-"},0,0,{"$f":"INDEX(Input_Details!$L$5:$L$24, MATCH($A6910, Input_Details!$J$5:$J$24, 0), 0)","v":{"$error":"#N/A"}},"7 Day Ave","22:30:00",{"$f":"IF(AND(AU6142=\"\",AU6238=\"\",AU6334=\"\",AU6430=\"\",AU6526=\"\",AU6622=\"\",AU6718=\"\"), \"-\", IF(AU6142+AU6238+AU6334+AU6430+AU6526+AU6622+AU6718=0,0,ROUND(AVERAGE(AU6142,AU6238,AU6334,AU6430,AU6526,AU6622,AU6718),0)))","v":0},0,0,0,0,0,0,0,0,0,0,0,0,0,0,0,0,0,0,0,0,0,0,0,0,0,0,0,0,0,0,0,{"$f":"IF(SUM(AU6910:BF6910)=0,\"-\",AVERAGEIF(AT6052:AT6723,$G6910,CA6052:CA6723))","v":"-"},{"$f":"IFERROR(IF(SUM(AU6910:BF6910)=0,\"-\",AVERAGEIF(AT6052:AT6723,AT6910,CB6052:CB6723)), \"-\")","v":"-"},"-","-",null,"7 Day Ave","22:30:00",{"$f":"IF(AND(CH6142=\"-\",CH6238=\"-\",CH6334=\"-\",CH6430=\"-\",CH6526=\"-\",CH6622=\"-\",CH6718=\"-\"), \"-\", ROUND(AVERAGE(CH6142,CH6238,CH6334,CH6430,CH6526,CH6622,CH6718),0))","v":7},37,0,0,0,0,0,0,0,0,0,0,{"$f":"IF(AND(CT6142=\"-\",CT6238=\"-\",CT6334=\"-\",CT6430=\"-\",CT6526=\"-\",CT6622=\"-\",CT6718=\"-\"), \"-\", IF(SUM($CH6910:$CS6910)=0, 0, ROUND(AVERAGE(CT6142,CT6238,CT6334,CT6430,CT6526,CT6622,CT6718),0)))","v":0},0,0,0,0,0,0,0,0,0,0,0,0,0,0,0,0,0,0,0,{"$error":"#DIV/0!"},"-",0,0,7,37,0,0,0,44,0,0,0,0,0,0,7,37,0,0,0,44]
[{"$error":"#N/A"},"7-Day Average",{"$f":"INDEX(Input_Details!$H$5:$H$24, MATCH($A6911, Input_Details!$J$5:$J$24, 0), 0)","v":{"$error":"#N/A"}},{"$f":"INDEX(Input_Details!$I$5:$I$24, MATCH($A6911, Input_Details!$J$5:$J$24, 0), 0)","v":{"$error":"#N/A"}},{"$f":"INDEX(Input_Details!$K$5:$K$24, MATCH($A6911, Input_Details!$J$5:$J$24, 0), 0)","v":{"$error":"#N/A"}},"7 Day Ave","22:45:00",{"$f":"IF(AND(H6143=\"\",H6239=\"\",H6335=\"\",H6431=\"\",H6527=\"\",H6623=\"\",H6719=\"\"), \"-\", IF(H6143+H6239+H6335+H6431+H6527+H6623+H6719=0,0,ROUND(AVERAGE(H6143,H6239,H6335,H6431,H6527,H6623,H6719),0)))","v":5},38,0,0,0,0,0,0,0,0,0,0,0,0,0,0,0,0,0,0,0,0,0,0,0,0,0,0,0,0,0,0,{"$f":"IF(SUM(H6911:S6911)=0,\"-\",AVERAGEIF(G6052:G6723,$G6911,AN6052:AN6723))","v":{"$error":"#DIV/0!"}},{"$f":"IFERROR(IF(SUM(H6911:S6911)=0,\"-\",AVERAGEIF(G6052:G6723,G6911,AO6052:AO6723)), \"-\")","v":"-"},0,0,{"$f":"INDEX(Input_Details!$L$5:$L$24, MATCH($A6911, Input_Details!$J$5:$J$24, 0), 0)","v":{"$error":"#N/A"}},"7 Day Ave","22:45:00",{"$f":"IF(AND(AU6143=\"\",AU6239=\"\",AU6335=\"\",AU6431=\"\",AU6527=\"\",AU6623=\"\",AU6719=\"\"), \"-\", IF(AU6143+AU6239+AU6335+AU6431+AU6527+AU6623+AU6719=0,0,ROUND(AVERAGE(AU6143,AU6239,AU6335,AU6431,AU6527,AU6623,AU6719),0)))","v":0},0,0,0,0,0,0,0,0,0,0,0,0,0,0,0,0,0,0,0,0,0,0,0,0,0,0,0,0,0,0,0,{"$f":"IF(SUM(AU6911:BF6911)=0,\"-\",AVERAGEIF(AT6052:AT6723,$G6911,CA6052:CA6723))","v":"-"},{"$f":"IFERROR(IF(SUM(AU6911:BF6911)=0,\"-\",AVERAGEIF(AT6052:AT6723,AT6911,CB6052:CB6723)), \"-\")","v":"-"},"-","-",null,"7 Day Ave","22:45:00",{"$f":"IF(AND(CH6143=\"-\",CH6239=\"-\",CH6335=\"-\",CH6431=\"-\",CH6527=\"-\",CH6623=\"-\",CH6719=\"-\"), \"-\", ROUND(AVERAGE(CH6143,CH6239,CH6335,CH6431,CH6527,CH6623,CH6719),0))","v":5},38,0,0,0,0,0,0,0,0,0,0,{"$f":"IF(AND(CT6143=\"-\",CT6239=\"-\",CT6335=\"-\",CT6431=\"-\",CT6527=\"-\",CT6623=\"-\",CT6719=\"-\"), \"-\", IF(SUM($CH6911:$CS6911)=0, 0, ROUND(AVERAGE(CT6143,CT6239,CT6335,CT6431,CT6527,CT6623,CT6719),0)))","v":0},0,0,0,0,0,0,0,0,0,0,0,0,0,0,0,0,0,0,0,{"$error":"#DIV/0!"},"-",0,0,5,38,0,0,0,43,0,0,0,{"$f":"IF(DX6911=\"-\", \"-\", AY6911)","v":0},0,0,5,38,0,0,0,43]
[{"$error":"#N/A"},"7-Day Average",{"$f":"INDEX(Input_Details!$H$5:$H$24, MATCH($A6912, Input_Details!$J$5:$J$24, 0), 0)","v":{"$error":"#N/A"}},{"$f":"INDEX(Input_Details!$I$5:$I$24, MATCH($A6912, Input_Details!$J$5:$J$24, 0), 0)","v":{"$error":"#N/A"}},{"$f":"INDEX(Input_Details!$K$5:$K$24, MATCH($A6912, Input_Details!$J$5:$J$24, 0), 0)","v":{"$error":"#N/A"}},"7 Day Ave","23:00:00",{"$f":"IF(AND(H6144=\"\",H6240=\"\",H6336=\"\",H6432=\"\",H6528=\"\",H6624=\"\",H6720=\"\"), \"-\", IF(H6144+H6240+H6336+H6432+H6528+H6624+H6720=0,0,ROUND(AVERAGE(H6144,H6240,H6336,H6432,H6528,H6624,H6720),0)))","v":6},33,0,0,0,0,0,0,0,0,0,0,0,0,0,0,0,0,0,0,0,0,0,0,0,0,0,0,0,0,0,0,{"$f":"IF(SUM(H6912:S6912)=0,\"-\",AVERAGEIF(G6052:G6723,$G6912,AN6052:AN6723))","v":{"$error":"#DIV/0!"}},{"$f":"IFERROR(IF(SUM(H6912:S6912)=0,\"-\",AVERAGEIF(G6052:G6723,G6912,AO6052:AO6723)), \"-\")","v":"-"},0,0,{"$f":"INDEX(Input_Details!$L$5:$L$24, MATCH($A6912, Input_Details!$J$5:$J$24, 0), 0)","v":{"$error":"#N/A"}},"7 Day Ave","23:00:00",{"$f":"IF(AND(AU6144=\"\",AU6240=\"\",AU6336=\"\",AU6432=\"\",AU6528=\"\",AU6624=\"\",AU6720=\"\"), \"-\", IF(AU6144+AU6240+AU6336+AU6432+AU6528+AU6624+AU6720=0,0,ROUND(AVERAGE(AU6144,AU6240,AU6336,AU6432,AU6528,AU6624,AU6720),0)))","v":0},0,0,0,0,0,0,0,0,0,0,0,0,0,0,0,0,0,0,0,0,0,0,0,0,0,0,0,0,0,0,0,{"$f":"IF(SUM(AU6912:BF6912)=0,\"-\",AVERAGEIF(AT6052:AT6723,$G6912,CA6052:CA6723))","v":"-"},{"$f":"IFERROR(IF(SUM(AU6912:BF6912)=0,\"-\",AVERAGEIF(AT6052:AT6723,AT6912,CB6052:CB6723)), \"-\")","v":"-"},"-","-",null,"7 Day Ave","23:00:00",{"$f":"IF(AND(CH6144=\"-\",CH6240=\"-\",CH6336=\"-\",CH6432=\"-\",CH6528=\"-\",CH6624=\"-\",CH6720=\"-\"), \"-\", ROUND(AVERAGE(CH6144,CH6240,CH6336,CH6432,CH6528,CH6624,CH6720),0))","v":6},33,0,0,0,0,0,0,0,0,0,0,{"$f":"IF(AND(CT6144=\"-\",CT6240=\"-\",CT6336=\"-\",CT6432=\"-\",CT6528=\"-\",CT6624=\"-\",CT6720=\"-\"), \"-\", IF(SUM($CH6912:$CS6912)=0, 0, ROUND(AVERAGE(CT6144,CT6240,CT6336,CT6432,CT6528,CT6624,CT6720),0)))","v":0},0,0,0,0,0,0,0,0,0,0,0,0,0,0,0,0,0,0,0,{"$error":"#DIV/0!"},"-",0,0,6,33,0,0,0,39,0,0,0,0,0,0,6,33,0,0,0,39]
[{"$error":"#N/A"},"7-Day Average",{"$f":"INDEX(Input_Details!$H$5:$H$24, MATCH($A6913, Input_Details!$J$5:$J$24, 0), 0)","v":{"$error":"#N/A"}},{"$f":"INDEX(Input_Details!$I$5:$I$24, MATCH($A6913, Input_Details!$J$5:$J$24, 0), 0)","v":{"$error":"#N/A"}},{"$f":"INDEX(Input_Details!$K$5:$K$24, MATCH($A6913, Input_Details!$J$5:$J$24, 0), 0)","v":{"$error":"#N/A"}},"7 Day Ave","23:15:00",{"$f":"IF(AND(H6145=\"\",H6241=\"\",H6337=\"\",H6433=\"\",H6529=\"\",H6625=\"\",H6721=\"\"), \"-\", IF(H6145+H6241+H6337+H6433+H6529+H6625+H6721=0,0,ROUND(AVERAGE(H6145,H6241,H6337,H6433,H6529,H6625,H6721),0)))","v":4},32,0,0,0,0,0,0,0,0,0,0,0,0,0,0,0,0,0,0,0,0,0,0,0,0,0,0,0,0,0,0,{"$f":"IF(SUM(H6913:S6913)=0,\"-\",AVERAGEIF(G6052:G6723,$G6913,AN6052:AN6723))","v":{"$error":"#DIV/0!"}},{"$f":"IFERROR(IF(SUM(H6913:S6913)=0,\"-\",AVERAGEIF(G6052:G6723,G6913,AO6052:AO6723)), \"-\")","v":"-"},0,0,{"$f":"INDEX(Input_Details!$L$5:$L$24, MATCH($A6913, Input_Details!$J$5:$J$24, 0), 0)","v":{"$error":"#N/A"}},"7 Day Ave","23:15:00",{"$f":"IF(AND(AU6145=\"\",AU6241=\"\",AU6337=\"\",AU6433=\"\",AU6529=\"\",AU6625=\"\",AU6721=\"\"), \"-\", IF(AU6145+AU6241+AU6337+AU6433+AU6529+AU6625+AU6721=0,0,ROUND(AVERAGE(AU6145,AU6241,AU6337,AU6433,AU6529,AU6625,AU6721),0)))","v":0},0,0,0,0,0,0,0,0,0,0,0,0,0,0,0,0,0,0,0,0,0,0,0,0,0,0,0,0,0,0,0,{"$f":"IF(SUM(AU6913:BF6913)=0,\"-\",AVERAGEIF(AT6052:AT6723,$G6913,CA6052:CA6723))","v":"-"},{"$f":"IFERROR(IF(SUM(AU6913:BF6913)=0,\"-\",AVERAGEIF(AT6052:AT6723,AT6913,CB6052:CB6723)), \"-\")","v":"-"},"-","-",null,"7 Day Ave","23:15:00",{"$f":"IF(AND(CH6145=\"-\",CH6241=\"-\",CH6337=\"-\",CH6433=\"-\",CH6529=\"-\",CH6625=\"-\",CH6721=\"-\"), \"-\", ROUND(AVERAGE(CH6145,CH6241,CH6337,CH6433,CH6529,CH6625,CH6721),0))","v":4},32,0,0,0,0,0,0,0,0,0,0,{"$f":"IF(AND(CT6145=\"-\",CT6241=\"-\",CT6337=\"-\",CT6433=\"-\",CT6529=\"-\",CT6625=\"-\",CT6721=\"-\"), \"-\", IF(SUM($CH6913:$CS6913)=0, 0, ROUND(AVERAGE(CT6145,CT6241,CT6337,CT6433,CT6529,CT6625,CT6721),0)))","v":0},0,0,0,0,0,0,0,0,0,0,0,0,0,0,0,0,0,0,0,{"$error":"#DIV/0!"},"-",0,0,4,32,0,0,0,36,0,0,0,0,0,0,4,32,0,0,0,36]
[{"$error":"#N/A"},"7-Day Average",{"$f":"INDEX(Input_Details!$H$5:$H$24, MATCH($A6914, Input_Details!$J$5:$J$24, 0), 0)","v":{"$error":"#N/A"}},{"$f":"INDEX(Input_Details!$I$5:$I$24, MATCH($A6914, Input_Details!$J$5:$J$24, 0), 0)","v":{"$error":"#N/A"}},{"$f":"INDEX(Input_Details!$K$5:$K$24, MATCH($A6914, Input_Details!$J$5:$J$24, 0), 0)","v":{"$error":"#N/A"}},"7 Day Ave","23:30:00",{"$f":"IF(AND(H6146=\"\",H6242=\"\",H6338=\"\",H6434=\"\",H6530=\"\",H6626=\"\",H6722=\"\"), \"-\", IF(H6146+H6242+H6338+H6434+H6530+H6626+H6722=0,0,ROUND(AVERAGE(H6146,H6242,H6338,H6434,H6530,H6626,H6722),0)))","v":4},33,0,0,0,0,0,0,0,0,0,0,0,0,0,0,0,0,0,0,0,0,0,0,0,0,0,0,0,0,0,0,{"$f":"IF(SUM(H6914:S6914)=0,\"-\",AVERAGEIF(G6052:G6723,$G6914,AN6052:AN6723))","v":{"$error":"#DIV/0!"}},{"$f":"IFERROR(IF(SUM(H6914:S6914)=0,\"-\",AVERAGEIF(G6052:G6723,G6914,AO6052:AO6723)), \"-\")","v":"-"},0,0,{"$f":"INDEX(Input_Details!$L$5:$L$24, MATCH($A6914, Input_Details!$J$5:$J$24, 0), 0)","v":{"$error":"#N/A"}},"7 Day Ave","23:30:00",{"$f":"IF(AND(AU6146=\"\",AU6242=\"\",AU6338=\"\",AU6434=\"\",AU6530=\"\",AU6626=\"\",AU6722=\"\"), \"-\", IF(AU6146+AU6242+AU6338+AU6434+AU6530+AU6626+AU6722=0,0,ROUND(AVERAGE(AU6146,AU6242,AU6338,AU6434,AU6530,AU6626,AU6722),0)))","v":0},0,0,0,0,0,0,0,0,0,0,0,0,0,0,0,0,0,0,0,0,0,0,0,0,0,0,0,0,0,0,0,{"$f":"IF(SUM(AU6914:BF6914)=0,\"-\",AVERAGEIF(AT6052:AT6723,$G6914,CA6052:CA6723))","v":"-"},{"$f":"IFERROR(IF(SUM(AU6914:BF6914)=0,\"-\",AVERAGEIF(AT6052:AT6723,AT6914,CB6052:CB6723)), \"-\")","v":"-"},"-","-",null,"7 Day Ave","23:30:00",{"$f":"IF(AND(CH6146=\"-\",CH6242=\"-\",CH6338=\"-\",CH6434=\"-\",CH6530=\"-\",CH6626=\"-\",CH6722=\"-\"), \"-\", ROUND(AVERAGE(CH6146,CH6242,CH6338,CH6434,CH6530,CH6626,CH6722),0))","v":4},33,0,0,0,0,0,0,0,0,0,0,{"$f":"IF(AND(CT6146=\"-\",CT6242=\"-\",CT6338=\"-\",CT6434=\"-\",CT6530=\"-\",CT6626=\"-\",CT6722=\"-\"), \"-\", IF(SUM($CH6914:$CS6914)=0, 0, ROUND(AVERAGE(CT6146,CT6242,CT6338,CT6434,CT6530,CT6626,CT6722),0)))","v":0},0,0,0,0,0,0,0,0,0,0,0,0,0,0,0,0,0,0,0,{"$error":"#DIV/0!"},"-",0,0,4,33,0,0,0,37,0,0,0,0,0,0,4,33,0,0,0,37]
[{"$error":"#N/A"},"7-Day Average",{"$f":"INDEX(Input_Details!$H$5:$H$24, MATCH($A6915, Input_Details!$J$5:$J$24, 0), 0)","v":{"$error":"#N/A"}},{"$f":"INDEX(Input_Details!$I$5:$I$24, MATCH($A6915, Input_Details!$J$5:$J$24, 0), 0)","v":{"$error":"#N/A"}},{"$f":"INDEX(Input_Details!$K$5:$K$24, MATCH($A6915, Input_Details!$J$5:$J$24, 0), 0)","v":{"$error":"#N/A"}},"7 Day Ave","23:45:00",{"$f":"IF(AND(H6147=\"\",H6243=\"\",H6339=\"\",H6435=\"\",H6531=\"\",H6627=\"\",H6723=\"\"), \"-\", IF(H6147+H6243+H6339+H6435+H6531+H6627+H6723=0,0,ROUND(AVERAGE(H6147,H6243,H6339,H6435,H6531,H6627,H6723),0)))","v":4},29,0,0,0,0,0,0,0,0,0,0,0,0,0,0,0,0,0,0,0,0,0,0,0,0,0,0,0,0,0,0,{"$f":"IF(SUM(H6915:S6915)=0,\"-\",AVERAGEIF(G6052:G6723,$G6915,AN6052:AN6723))","v":{"$error":"#DIV/0!"}},{"$f":"IFERROR(IF(SUM(H6915:S6915)=0,\"-\",AVERAGEIF(G6052:G6723,G6915,AO6052:AO6723)), \"-\")","v":"-"},0,0,{"$f":"INDEX(Input_Details!$L$5:$L$24, MATCH($A6915, Input_Details!$J$5:$J$24, 0), 0)","v":{"$error":"#N/A"}},"7 Day Ave","23:45:00",{"$f":"IF(AND(AU6147=\"\",AU6243=\"\",AU6339=\"\",AU6435=\"\",AU6531=\"\",AU6627=\"\",AU6723=\"\"), \"-\", IF(AU6147+AU6243+AU6339+AU6435+AU6531+AU6627+AU6723=0,0,ROUND(AVERAGE(AU6147,AU6243,AU6339,AU6435,AU6531,AU6627,AU6723),0)))","v":0},0,0,0,0,0,0,0,0,0,0,0,0,0,0,0,0,0,0,0,0,0,0,0,0,0,0,0,0,0,0,0,{"$f":"IF(SUM(AU6915:BF6915)=0,\"-\",AVERAGEIF(AT6052:AT6723,$G6915,CA6052:CA6723))","v":"-"},{"$f":"IFERROR(IF(SUM(AU6915:BF6915)=0,\"-\",AVERAGEIF(AT6052:AT6723,AT6915,CB6052:CB6723)), \"-\")","v":"-"},"-","-",null,"7 Day Ave","23:45:00",{"$f":"IF(AND(CH6147=\"-\",CH6243=\"-\",CH6339=\"-\",CH6435=\"-\",CH6531=\"-\",CH6627=\"-\",CH6723=\"-\"), \"-\", ROUND(AVERAGE(CH6147,CH6243,CH6339,CH6435,CH6531,CH6627,CH6723),0))","v":4},29,0,0,0,0,0,0,0,0,0,0,{"$f":"IF(AND(CT6147=\"-\",CT6243=\"-\",CT6339=\"-\",CT6435=\"-\",CT6531=\"-\",CT6627=\"-\",CT6723=\"-\"), \"-\", IF(SUM($CH6915:$CS6915)=0, 0, ROUND(AVERAGE(CT6147,CT6243,CT6339,CT6435,CT6531,CT6627,CT6723),0)))","v":0},0,0,0,0,0,0,0,0,0,0,0,0,0,0,0,0,0,0,0,{"$error":"#DIV/0!"},"-",0,0,4,29,0,0,0,33,0,0,0,0,0,0,4,29,0,0,0,33]

{"sheet":"Dashboard Overview","index":3,"n_rows":42,"n_cols":21,"rows_kept":42,"cut":false,"hidden":false,"merged":[[41,1,41,20],[23,18,24,18],[20,13,21,14],[22,13,24,14],[35,7,35,8],[34,10,34,11],[35,10,35,11],[33,7,33,8],[33,10,33,11],[34,7,34,8],[37,1,37,11],[33,4,33,5],[34,4,34,5],[35,4,35,5],[11,20,12,20],[11,18,12,18],[14,18,15,18],[17,18,18,18],[20,18,21,18],[6,1,7,8],[11,13,12,14],[14,13,15,14],[16,13,18,14],[9,13,10,14]]}
[]
[]
[null,null,null,null,null,null,null,null,null,null,null,null,null,null,null,null,null,null,null,null,{"$f":"Input_Details!$I$1&\" - \"&Input_Details!$H$1","v":"3585-LON - Harper Road"}]
[null,null,null,null,null,null,null,null,null,null,null,null,null,null,null,null,null,null,null,null,{"$f":"\"prepared for \"&Input_Details!$J$1","v":"prepared for LB of Southwark"}]
[null,null,null,null,null,null,null,null,null,null,null,null,null,null,null,null,null,null,null,null,{"$f":"TEXT(MIN('Volume Summary-15min'!$C$14:$I$14), \"dd mmm yyyy\")&\" - \"&TEXT(MAX('Volume Summary-15min'!$C$14:$I$14), \"dd mmm yyyy\")","v":"20 Apr 2017 - 26 Apr 2017"}]
[]
[null,"Dashboard Summary"]
[]
[]
[null,null,null,null,null,null,null,null,null,null,null,null,null,"Weekday Average Total Traffic"]
[]
[null,null,null,null,null,null,null,null,null,null,null,null,null,{"$f":"'Volume Summary-15min'!$K$9","v":5215},null,null,null,null,{"$f":"Input_Details!BO7","v":0.13481434647660651}]
[]
[]
[null,null,null,null,null,null,null,null,null,null,null,null,null,"7-Day Average Total Traffic",null,null,null,null,{"$f":"Input_Details!BP7","v":0.74117714679848257}]
[]
[null,null,null,null,null,null,null,null,null,null,null,null,null,{"$f":"'Volume Summary-15min'!$K$10","v":4894}]
[null,null,null,null,null,null,null,null,null,null,null,null,null,null,null,null,null,null,{"$f":"Input_Details!BQ7","v":8.4377514656857111E-2}]
[]
[]
[null,null,null,null,null,null,null,null,null,null,null,null,null,"Weekly Traffic Total",null,null,null,null,{"$f":"Input_Details!BR7","v":2.6813426830670194E-2}]
[]
[null,null,null,null,null,null,null,null,null,null,null,null,null,{"$f":"Input_Details!$BT$6","v":34796}]
[null,null,null,null,null,null,null,null,null,null,null,null,null,null,null,null,null,null,{"$f":"Input_Details!BS7","v":1.2817565237383607E-2}]
[]
[]
[]
[null,null,null,null,null,null,null,null,null,null,null,null,null,{"$f":"\"http://maps.google.com/maps?q=\"&Input_Details!$I$3&\"&\"&Input_Details!$I$3&\"&z=17\"","v":"http://maps.google.com/maps?q=51.49617, -0.09302&51.49617, -0.09302&z=17"}]
[]
[]
[]
[]
[]
[null,null,null,null,"7-Day Average Speed",null,null,"7-Day 85th %ile Speed",null,null,"On a 7-day average"]
[null,null,null,null,{"$f":"IF(Input_Details!$B$4=1, Input_Details!AW14, IF(Input_Details!$B$4=2, Input_Details!AW15, Input_Details!AW16))","v":18.744612830431734},null,null,{"$f":"IF(Input_Details!$B$4=1, Input_Details!AX14, IF(Input_Details!$B$4=2, Input_Details!AX15, Input_Details!AX16))","v":21.303072916666654},null,null,{"$f":"IF(Input_Details!$B$4=1, Input_Details!AY14/Input_Details!AZ14, IF(Input_Details!$B$4=2, Input_Details!AY15/Input_Details!AZ15, Input_Details!AY16/Input_Details!AZ16))","v":0.34262626262626261}]
[null,null,null,null,"mph",null,null,"mph",null,null,"of vehicles are speeding"]
[]
[]
[]
[]
[]
[null,"Contact: Traffic and Data Services Division, 5 Lysander Mews Lysander Grove, London, United Kingdom, N19 3QP"]

{"sheet":"Volume Summary-15min","index":4,"n_rows":118,"n_cols":22,"rows_kept":118,"cut":false,"hidden":false,"merged":[[11,2,11,8],[5,8,5,9],[0,8,0,9],[1,8,1,10],[2,8,2,10],[3,8,3,10],[6,8,6,9],[6,10,6,11],[11,9,13,9],[11,10,13,10],[7,1,9,6]]}
[]
[]
[]
[null,null,null,null,null,null,null,null,null,null,null,null,null,null,null,null,null,null,null,null,null,{"$f":"Input_Details!$I$1&\" - \"&Input_Details!$H$1","v":"3585-LON - Harper Road"}]
[null,null,null,null,null,null,null,null,null,null,null,null,null,null,null,null,null,null,null,null,null,{"$f":"\"prepared for \"&Input_Details!$J$1","v":"prepared for LB of Southwark"}]
[null,null,null,null,null,null,null,null,null,null,null,null,null,null,null,null,null,null,null,null,null,{"$f":"TEXT(MIN(C14:I14), \"dd mmm yyyy\")&\" - \"&TEXT(MAX(C14:I14), \"dd mmm yyyy\")","v":"20 Apr 2017 - 26 Apr 2017"}]
[]
[null,"15-min Volume Summary"]
[null,null,null,null,null,null,null,null,"Avg W'kday Total",null,{"$f":"+J113","v":5215}]
[null,null,null,null,null,null,null,null,"7 Day Avg Total",null,{"$f":"+K113","v":4894}]
[]
[null,null,"Day of Week",null,null,null,null,null,null,"W'kday Avg","7 Day Avg"]
[null,null,"Mon","Tue","Wed","Thu","Fri","Sat","Sun"]
[null,"Time",{"$f":"+Input_Details!Q3","v":"2017-04-24"},{"$f":"+Input_Details!R3","v":"2017-04-25"},{"$f":"+Input_Details!S3","v":"2017-04-26"},{"$f":"+Input_Details!T3","v":"2017-04-20"},{"$f":"+Input_Details!U3","v":"2017-04-21"},{"$f":"+Input_Details!V3","v":"2017-04-22"},{"$f":"+Input_Details!W3","v":"2017-04-23"}]
[null,"AM Peak",{"$f":"MAX(C45:C56)","v":78},{"$f":"MAX(D45:D56)","v":75},70,72,74,{"$f":"MAX(H45:H56)","v":52},34,{"$f":"MAX(J45:J56)","v":69},59]
[null,"PM Peak",{"$f":"MAX(C81:C92)","v":116},{"$f":"MAX(D81:D92)","v":124},124,117,116,95,72,{"$f":"MAX(J81:J92)","v":114},99]
[null,"00:00:00",{"$f":"OFFSET('Raw Data'!EJ4,Input_Details!$B$12,Input_Details!$B$11)","v":30},{"$f":"OFFSET('Raw Data'!EK4,Input_Details!$B$12,Input_Details!$B$11)","v":28},{"$f":"OFFSET('Raw Data'!EL4,Input_Details!$B$12,Input_Details!$B$11)","v":34},{"$f":"OFFSET('Raw Data'!EM4,Input_Details!$B$12,Input_Details!$B$11)","v":42},{"$f":"OFFSET('Raw Data'!EN4,Input_Details!$B$12,Input_Details!$B$11)","v":41},{"$f":"OFFSET('Raw Data'!EO4,Input_Details!$B$12,Input_Details!$B$11)","v":42},{"$f":"OFFSET('Raw Data'!EP4,Input_Details!$B$12,Input_Details!$B$11)","v":57},{"$f":"OFFSET('Raw Data'!DW676,Input_Details!$C$12,Input_Details!$C$11)","v":34},{"$f":"OFFSET('Raw Data'!DW772,Input_Details!$C$12,Input_Details!$C$11)","v":37}]
[null,"00:15:00",{"$f":"OFFSET('Raw Data'!EJ5,Input_Details!$B$12,Input_Details!$B$11)","v":24},{"$f":"OFFSET('Raw Data'!EK5,Input_Details!$B$12,Input_Details!$B$11)","v":26},{"$f":"OFFSET('Raw Data'!EL5,Input_Details!$B$12,Input_Details!$B$11)","v":36},{"$f":"OFFSET('Raw Data'!EM5,Input_Details!$B$12,Input_Details!$B$11)","v":32},{"$f":"OFFSET('Raw Data'!EN5,Input_Details!$B$12,Input_Details!$B$11)","v":23},{"$f":"OFFSET('Raw Data'!EO5,Input_Details!$B$12,Input_Details!$B$11)","v":45},{"$f":"OFFSET('Raw Data'!EP5,Input_Details!$B$12,Input_Details!$B$11)","v":35},{"$f":"OFFSET('Raw Data'!DW677,Input_Details!$C$12,Input_Details!$C$11)","v":27},{"$f":"OFFSET('Raw Data'!DW773,Input_Details!$C$12,Input_Details!$C$11)","v":31}]
[null,"00:30:00",{"$f":"OFFSET('Raw Data'!EJ6,Input_Details!$B$12,Input_Details!$B$11)","v":22},{"$f":"OFFSET('Raw Data'!EK6,Input_Details!$B$12,Input_Details!$B$11)","v":17},{"$f":"OFFSET('Raw Data'!EL6,Input_Details!$B$12,Input_Details!$B$11)","v":38},{"$f":"OFFSET('Raw Data'!EM6,Input_Details!$B$12,Input_Details!$B$11)","v":20},{"$f":"OFFSET('Raw Data'!EN6,Input_Details!$B$12,Input_Details!$B$11)","v":31},{"$f":"OFFSET('Raw Data'!EO6,Input_Details!$B$12,Input_Details!$B$11)","v":41},{"$f":"OFFSET('Raw Data'!EP6,Input_Details!$B$12,Input_Details!$B$11)","v":49},{"$f":"OFFSET('Raw Data'!DW678,Input_Details!$C$12,Input_Details!$C$11)","v":24},{"$f":"OFFSET('Raw Data'!DW774,Input_Details!$C$12,Input_Details!$C$11)","v":31}]
[null,"00:45:00",{"$f":"OFFSET('Raw Data'!EJ7,Input_Details!$B$12,Input_Details!$B$11)","v":19},{"$f":"OFFSET('Raw Data'!EK7,Input_Details!$B$12,Input_Details!$B$11)","v":24},{"$f":"OFFSET('Raw Data'!EL7,Input_Details!$B$12,Input_Details!$B$11)","v":23},{"$f":"OFFSET('Raw Data'!EM7,Input_Details!$B$12,Input_Details!$B$11)","v":28},{"$f":"OFFSET('Raw Data'!EN7,Input_Details!$B$12,Input_Details!$B$11)","v":35},{"$f":"OFFSET('Raw Data'!EO7,Input_Details!$B$12,Input_Details!$B$11)","v":44},{"$f":"OFFSET('Raw Data'!EP7,Input_Details!$B$12,Input_Details!$B$11)","v":49},{"$f":"OFFSET('Raw Data'!DW679,Input_Details!$C$12,Input_Details!$C$11)","v":26},{"$f":"OFFSET('Raw Data'!DW775,Input_Details!$C$12,Input_Details!$C$11)","v":32}]
[null,"01:00:00",{"$f":"OFFSET('Raw Data'!EJ8,Input_Details!$B$12,Input_Details!$B$11)","v":17},{"$f":"OFFSET('Raw Data'!EK8,Input_Details!$B$12,Input_Details!$B$11)","v":14},{"$f":"OFFSET('Raw Data'!EL8,Input_Details!$B$12,Input_Details!$B$11)","v":21},{"$f":"OFFSET('Raw Data'!EM8,Input_Details!$B$12,Input_Details!$B$11)","v":20},{"$f":"OFFSET('Raw Data'!EN8,Input_Details!$B$12,Input_Details!$B$11)","v":25},{"$f":"OFFSET('Raw Data'!EO8,Input_Details!$B$12,Input_Details!$B$11)","v":27},{"$f":"OFFSET('Raw Data'!EP8,Input_Details!$B$12,Input_Details!$B$11)","v":35},{"$f":"OFFSET('Raw Data'!DW680,Input_Details!$C$12,Input_Details!$C$11)","v":18},{"$f":"OFFSET('Raw Data'!DW776,Input_Details!$C$12,Input_Details!$C$11)","v":23}]
[null,"01:15:00",{"$f":"OFFSET('Raw Data'!EJ9,Input_Details!$B$12,Input_Details!$B$11)","v":10},{"$f":"OFFSET('Raw Data'!EK9,Input_Details!$B$12,Input_Details!$B$11)","v":16},{"$f":"OFFSET('Raw Data'!EL9,Input_Details!$B$12,Input_Details!$B$11)","v":28},{"$f":"OFFSET('Raw Data'!EM9,Input_Details!$B$12,Input_Details!$B$11)","v":18},{"$f":"OFFSET('Raw Data'!EN9,Input_Details!$B$12,Input_Details!$B$11)","v":15},{"$f":"OFFSET('Raw Data'!EO9,Input_Details!$B$12,Input_Details!$B$11)","v":31},{"$f":"OFFSET('Raw Data'!EP9,Input_Details!$B$12,Input_Details!$B$11)","v":39},{"$f":"OFFSET('Raw Data'!DW681,Input_Details!$C$12,Input_Details!$C$11)","v":17},{"$f":"OFFSET('Raw Data'!DW777,Input_Details!$C$12,Input_Details!$C$11)","v":22}]
[null,"01:30:00",{"$f":"OFFSET('Raw Data'!EJ10,Input_Details!$B$12,Input_Details!$B$11)","v":17},{"$f":"OFFSET('Raw Data'!EK10,Input_Details!$B$12,Input_Details!$B$11)","v":18},{"$f":"OFFSET('Raw Data'!EL10,Input_Details!$B$12,Input_Details!$B$11)","v":19},{"$f":"OFFSET('Raw Data'!EM10,Input_Details!$B$12,Input_Details!$B$11)","v":17},{"$f":"OFFSET('Raw Data'!EN10,Input_Details!$B$12,Input_Details!$B$11)","v":23},{"$f":"OFFSET('Raw Data'!EO10,Input_Details!$B$12,Input_Details!$B$11)","v":26},{"$f":"OFFSET('Raw Data'!EP10,Input_Details!$B$12,Input_Details!$B$11)","v":30},{"$f":"OFFSET('Raw Data'!DW682,Input_Details!$C$12,Input_Details!$C$11)","v":18},{"$f":"OFFSET('Raw Data'!DW778,Input_Details!$C$12,Input_Details!$C$11)","v":20}]
[null,"01:45:00",{"$f":"OFFSET('Raw Data'!EJ11,Input_Details!$B$12,Input_Details!$B$11)","v":12},{"$f":"OFFSET('Raw Data'!EK11,Input_Details!$B$12,Input_Details!$B$11)","v":15},{"$f":"OFFSET('Raw Data'!EL11,Input_Details!$B$12,Input_Details!$B$11)","v":13},{"$f":"OFFSET('Raw Data'!EM11,Input_Details!$B$12,Input_Details!$B$11)","v":12},{"$f":"OFFSET('Raw Data'!EN11,Input_Details!$B$12,Input_Details!$B$11)","v":17},{"$f":"OFFSET('Raw Data'!EO11,Input_Details!$B$12,Input_Details!$B$11)","v":24},{"$f":"OFFSET('Raw Data'!EP11,Input_Details!$B$12,Input_Details!$B$11)","v":26},{"$f":"OFFSET('Raw Data'!DW683,Input_Details!$C$12,Input_Details!$C$11)","v":12},{"$f":"OFFSET('Raw Data'!DW779,Input_Details!$C$12,Input_Details!$C$11)","v":15}]
[null,"02:00:00",{"$f":"OFFSET('Raw Data'!EJ12,Input_Details!$B$12,Input_Details!$B$11)","v":7},{"$f":"OFFSET('Raw Data'!EK12,Input_Details!$B$12,Input_Details!$B$11)","v":7},{"$f":"OFFSET('Raw Data'!EL12,Input_Details!$B$12,Input_Details!$B$11)","v":14},{"$f":"OFFSET('Raw Data'!EM12,Input_Details!$B$12,Input_Details!$B$11)","v":14},{"$f":"OFFSET('Raw Data'!EN12,Input_Details!$B$12,Input_Details!$B$11)","v":14},{"$f":"OFFSET('Raw Data'!EO12,Input_Details!$B$12,Input_Details!$B$11)","v":25},{"$f":"OFFSET('Raw Data'!EP12,Input_Details!$B$12,Input_Details!$B$11)","v":38},{"$f":"OFFSET('Raw Data'!DW684,Input_Details!$C$12,Input_Details!$C$11)","v":10},{"$f":"OFFSET('Raw Data'!DW780,Input_Details!$C$12,Input_Details!$C$11)","v":16}]
[null,"02:15:00",{"$f":"OFFSET('Raw Data'!EJ13,Input_Details!$B$12,Input_Details!$B$11)","v":11},{"$f":"OFFSET('Raw Data'!EK13,Input_Details!$B$12,Input_Details!$B$11)","v":9},{"$f":"OFFSET('Raw Data'!EL13,Input_Details!$B$12,Input_Details!$B$11)","v":12},{"$f":"OFFSET('Raw Data'!EM13,Input_Details!$B$12,Input_Details!$B$11)","v":16},{"$f":"OFFSET('Raw Data'!EN13,Input_Details!$B$12,Input_Details!$B$11)","v":12},{"$f":"OFFSET('Raw Data'!EO13,Input_Details!$B$12,Input_Details!$B$11)","v":26},{"$f":"OFFSET('Raw Data'!EP13,Input_Details!$B$12,Input_Details!$B$11)","v":34},{"$f":"OFFSET('Raw Data'!DW685,Input_Details!$C$12,Input_Details!$C$11)","v":12},{"$f":"OFFSET('Raw Data'!DW781,Input_Details!$C$12,Input_Details!$C$11)","v":17}]
[null,"02:30:00",{"$f":"OFFSET('Raw Data'!EJ14,Input_Details!$B$12,Input_Details!$B$11)","v":4},{"$f":"OFFSET('Raw Data'!EK14,Input_Details!$B$12,Input_Details!$B$11)","v":5},{"$f":"OFFSET('Raw Data'!EL14,Input_Details!$B$12,Input_Details!$B$11)","v":9},{"$f":"OFFSET('Raw Data'!EM14,Input_Details!$B$12,Input_Details!$B$11)","v":11},{"$f":"OFFSET('Raw Data'!EN14,Input_Details!$B$12,Input_Details!$B$11)","v":14},{"$f":"OFFSET('Raw Data'!EO14,Input_Details!$B$12,Input_Details!$B$11)","v":23},{"$f":"OFFSET('Raw Data'!EP14,Input_Details!$B$12,Input_Details!$B$11)","v":32},{"$f":"OFFSET('Raw Data'!DW686,Input_Details!$C$12,Input_Details!$C$11)","v":8},{"$f":"OFFSET('Raw Data'!DW782,Input_Details!$C$12,Input_Details!$C$11)","v":13}]
[null,"02:45:00",{"$f":"OFFSET('Raw Data'!EJ15,Input_Details!$B$12,Input_Details!$B$11)","v":4},{"$f":"OFFSET('Raw Data'!EK15,Input_Details!$B$12,Input_Details!$B$11)","v":5},{"$f":"OFFSET('Raw Data'!EL15,Input_Details!$B$12,Input_Details!$B$11)","v":10},{"$f":"OFFSET('Raw Data'!EM15,Input_Details!$B$12,Input_Details!$B$11)","v":6},{"$f":"OFFSET('Raw Data'!EN15,Input_Details!$B$12,Input_Details!$B$11)","v":13},{"$f":"OFFSET('Raw Data'!EO15,Input_Details!$B$12,Input_Details!$B$11)","v":13},{"$f":"OFFSET('Raw Data'!EP15,Input_Details!$B$12,Input_Details!$B$11)","v":26},{"$f":"OFFSET('Raw Data'!DW687,Input_Details!$C$12,Input_Details!$C$11)","v":8},{"$f":"OFFSET('Raw Data'!DW783,Input_Details!$C$12,Input_Details!$C$11)","v":12}]
[null,"03:00:00",{"$f":"OFFSET('Raw Data'!EJ16,Input_Details!$B$12,Input_Details!$B$11)","v":10},{"$f":"OFFSET('Raw Data'!EK16,Input_Details!$B$12,Input_Details!$B$11)","v":5},{"$f":"OFFSET('Raw Data'!EL16,Input_Details!$B$12,Input_Details!$B$11)","v":16},{"$f":"OFFSET('Raw Data'!EM16,Input_Details!$B$12,Input_Details!$B$11)","v":8},{"$f":"OFFSET('Raw Data'!EN16,Input_Details!$B$12,Input_Details!$B$11)","v":6},{"$f":"OFFSET('Raw Data'!EO16,Input_Details!$B$12,Input_Details!$B$11)","v":19},{"$f":"OFFSET('Raw Data'!EP16,Input_Details!$B$12,Input_Details!$B$11)","v":25},{"$f":"OFFSET('Raw Data'!DW688,Input_Details!$C$12,Input_Details!$C$11)","v":9},{"$f":"OFFSET('Raw Data'!DW784,Input_Details!$C$12,Input_Details!$C$11)","v":12}]
[null,"03:15:00",{"$f":"OFFSET('Raw Data'!EJ17,Input_Details!$B$12,Input_Details!$B$11)","v":9},{"$f":"OFFSET('Raw Data'!EK17,Input_Details!$B$12,Input_Details!$B$11)","v":12},{"$f":"OFFSET('Raw Data'!EL17,Input_Details!$B$12,Input_Details!$B$11)","v":12},{"$f":"OFFSET('Raw Data'!EM17,Input_Details!$B$12,Input_Details!$B$11)","v":6},{"$f":"OFFSET('Raw Data'!EN17,Input_Details!$B$12,Input_Details!$B$11)","v":15},{"$f":"OFFSET('Raw Data'!EO17,Input_Details!$B$12,Input_Details!$B$11)","v":14},{"$f":"OFFSET('Raw Data'!EP17,Input_Details!$B$12,Input_Details!$B$11)","v":21},{"$f":"OFFSET('Raw Data'!DW689,Input_Details!$C$12,Input_Details!$C$11)","v":10},{"$f":"OFFSET('Raw Data'!DW785,Input_Details!$C$12,Input_Details!$C$11)","v":12}]
[null,"03:30:00",{"$f":"OFFSET('Raw Data'!EJ18,Input_Details!$B$12,Input_Details!$B$11)","v":7},{"$f":"OFFSET('Raw Data'!EK18,Input_Details!$B$12,Input_Details!$B$11)","v":5},{"$f":"OFFSET('Raw Data'!EL18,Input_Details!$B$12,Input_Details!$B$11)","v":6},{"$f":"OFFSET('Raw Data'!EM18,Input_Details!$B$12,Input_Details!$B$11)","v":9},{"$f":"OFFSET('Raw Data'!EN18,Input_Details!$B$12,Input_Details!$B$11)","v":18},{"$f":"OFFSET('Raw Data'!EO18,Input_Details!$B$12,Input_Details!$B$11)","v":21},{"$f":"OFFSET('Raw Data'!EP18,Input_Details!$B$12,Input_Details!$B$11)","v":20},{"$f":"OFFSET('Raw Data'!DW690,Input_Details!$C$12,Input_Details!$C$11)","v":9},{"$f":"OFFSET('Raw Data'!DW786,Input_Details!$C$12,Input_Details!$C$11)","v":11}]
[null,"03:45:00",{"$f":"OFFSET('Raw Data'!EJ19,Input_Details!$B$12,Input_Details!$B$11)","v":6},{"$f":"OFFSET('Raw Data'!EK19,Input_Details!$B$12,Input_Details!$B$11)","v":11},{"$f":"OFFSET('Raw Data'!EL19,Input_Details!$B$12,Input_Details!$B$11)","v":12},{"$f":"OFFSET('Raw Data'!EM19,Input_Details!$B$12,Input_Details!$B$11)","v":8},{"$f":"OFFSET('Raw Data'!EN19,Input_Details!$B$12,Input_Details!$B$11)","v":11},{"$f":"OFFSET('Raw Data'!EO19,Input_Details!$B$12,Input_Details!$B$11)","v":12},{"$f":"OFFSET('Raw Data'!EP19,Input_Details!$B$12,Input_Details!$B$11)","v":21},{"$f":"OFFSET('Raw Data'!DW691,Input_Details!$C$12,Input_Details!$C$11)","v":10},{"$f":"OFFSET('Raw Data'!DW787,Input_Details!$C$12,Input_Details!$C$11)","v":11}]
[null,"04:00:00",{"$f":"OFFSET('Raw Data'!EJ20,Input_Details!$B$12,Input_Details!$B$11)","v":7},{"$f":"OFFSET('Raw Data'!EK20,Input_Details!$B$12,Input_Details!$B$11)","v":6},{"$f":"OFFSET('Raw Data'!EL20,Input_Details!$B$12,Input_Details!$B$11)","v":7},{"$f":"OFFSET('Raw Data'!EM20,Input_Details!$B$12,Input_Details!$B$11)","v":12},{"$f":"OFFSET('Raw Data'!EN20,Input_Details!$B$12,Input_Details!$B$11)","v":11},{"$f":"OFFSET('Raw Data'!EO20,Input_Details!$B$12,Input_Details!$B$11)","v":13},{"$f":"OFFSET('Raw Data'!EP20,Input_Details!$B$12,Input_Details!$B$11)","v":10},{"$f":"OFFSET('Raw Data'!DW692,Input_Details!$C$12,Input_Details!$C$11)","v":9},{"$f":"OFFSET('Raw Data'!DW788,Input_Details!$C$12,Input_Details!$C$11)","v":9}]
[null,"04:15:00",{"$f":"OFFSET('Raw Data'!EJ21,Input_Details!$B$12,Input_Details!$B$11)","v":6},{"$f":"OFFSET('Raw Data'!EK21,Input_Details!$B$12,Input_Details!$B$11)","v":10},{"$f":"OFFSET('Raw Data'!EL21,Input_Details!$B$12,Input_Details!$B$11)","v":13},{"$f":"OFFSET('Raw Data'!EM21,Input_Details!$B$12,Input_Details!$B$11)","v":8},{"$f":"OFFSET('Raw Data'!EN21,Input_Details!$B$12,Input_Details!$B$11)","v":8},{"$f":"OFFSET('Raw Data'!EO21,Input_Details!$B$12,Input_Details!$B$11)","v":9},{"$f":"OFFSET('Raw Data'!EP21,Input_Details!$B$12,Input_Details!$B$11)","v":18},{"$f":"OFFSET('Raw Data'!DW693,Input_Details!$C$12,Input_Details!$C$11)","v":8},{"$f":"OFFSET('Raw Data'!DW789,Input_Details!$C$12,Input_Details!$C$11)","v":10}]
[null,"04:30:00",{"$f":"OFFSET('Raw Data'!EJ22,Input_Details!$B$12,Input_Details!$B$11)","v":5},{"$f":"OFFSET('Raw Data'!EK22,Input_Details!$B$12,Input_Details!$B$11)","v":11},{"$f":"OFFSET('Raw Data'!EL22,Input_Details!$B$12,Input_Details!$B$11)","v":8},{"$f":"OFFSET('Raw Data'!EM22,Input_Details!$B$12,Input_Details!$B$11)","v":8},{"$f":"OFFSET('Raw Data'!EN22,Input_Details!$B$12,Input_Details!$B$11)","v":9},{"$f":"OFFSET('Raw Data'!EO22,Input_Details!$B$12,Input_Details!$B$11)","v":15},{"$f":"OFFSET('Raw Data'!EP22,Input_Details!$B$12,Input_Details!$B$11)","v":15},{"$f":"OFFSET('Raw Data'!DW694,Input_Details!$C$12,Input_Details!$C$11)","v":7},{"$f":"OFFSET('Raw Data'!DW790,Input_Details!$C$12,Input_Details!$C$11)","v":9}]
[null,"04:45:00",{"$f":"OFFSET('Raw Data'!EJ23,Input_Details!$B$12,Input_Details!$B$11)","v":10},{"$f":"OFFSET('Raw Data'!EK23,Input_Details!$B$12,Input_Details!$B$11)","v":14},{"$f":"OFFSET('Raw Data'!EL23,Input_Details!$B$12,Input_Details!$B$11)","v":13},{"$f":"OFFSET('Raw Data'!EM23,Input_Details!$B$12,Input_Details!$B$11)","v":12},{"$f":"OFFSET('Raw Data'!EN23,Input_Details!$B$12,Input_Details!$B$11)","v":10},{"$f":"OFFSET('Raw Data'!EO23,Input_Details!$B$12,Input_Details!$B$11)","v":16},{"$f":"OFFSET('Raw Data'!EP23,Input_Details!$B$12,Input_Details!$B$11)","v":10},{"$f":"OFFSET('Raw Data'!DW695,Input_Details!$C$12,Input_Details!$C$11)","v":11},{"$f":"OFFSET('Raw Data'!DW791,Input_Details!$C$12,Input_Details!$C$11)","v":13}]
[null,"05:00:00",{"$f":"OFFSET('Raw Data'!EJ24,Input_Details!$B$12,Input_Details!$B$11)","v":15},{"$f":"OFFSET('Raw Data'!EK24,Input_Details!$B$12,Input_Details!$B$11)","v":14},{"$f":"OFFSET('Raw Data'!EL24,Input_Details!$B$12,Input_Details!$B$11)","v":16},{"$f":"OFFSET('Raw Data'!EM24,Input_Details!$B$12,Input_Details!$B$11)","v":13},{"$f":"OFFSET('Raw Data'!EN24,Input_Details!$B$12,Input_Details!$B$11)","v":15},{"$f":"OFFSET('Raw Data'!EO24,Input_Details!$B$12,Input_Details!$B$11)","v":19},{"$f":"OFFSET('Raw Data'!EP24,Input_Details!$B$12,Input_Details!$B$11)","v":17},{"$f":"OFFSET('Raw Data'!DW696,Input_Details!$C$12,Input_Details!$C$11)","v":15},{"$f":"OFFSET('Raw Data'!DW792,Input_Details!$C$12,Input_Details!$C$11)","v":15}]
[null,"05:15:00",{"$f":"OFFSET('Raw Data'!EJ25,Input_Details!$B$12,Input_Details!$B$11)","v":12},{"$f":"OFFSET('Raw Data'!EK25,Input_Details!$B$12,Input_Details!$B$11)","v":12},{"$f":"OFFSET('Raw Data'!EL25,Input_Details!$B$12,Input_Details!$B$11)","v":7},{"$f":"OFFSET('Raw Data'!EM25,Input_Details!$B$12,Input_Details!$B$11)","v":13},{"$f":"OFFSET('Raw Data'!EN25,Input_Details!$B$12,Input_Details!$B$11)","v":19},{"$f":"OFFSET('Raw Data'!EO25,Input_Details!$B$12,Input_Details!$B$11)","v":26},{"$f":"OFFSET('Raw Data'!EP25,Input_Details!$B$12,Input_Details!$B$11)","v":18},{"$f":"OFFSET('Raw Data'!DW697,Input_Details!$C$12,Input_Details!$C$11)","v":13},{"$f":"OFFSET('Raw Data'!DW793,Input_Details!$C$12,Input_Details!$C$11)","v":16}]
[null,"05:30:00",{"$f":"OFFSET('Raw Data'!EJ26,Input_Details!$B$12,Input_Details!$B$11)","v":11},{"$f":"OFFSET('Raw Data'!EK26,Input_Details!$B$12,Input_Details!$B$11)","v":18},{"$f":"OFFSET('Raw Data'!EL26,Input_Details!$B$12,Input_Details!$B$11)","v":13},{"$f":"OFFSET('Raw Data'!EM26,Input_Details!$B$12,Input_Details!$B$11)","v":17},{"$f":"OFFSET('Raw Data'!EN26,Input_Details!$B$12,Input_Details!$B$11)","v":14},{"$f":"OFFSET('Raw Data'!EO26,Input_Details!$B$12,Input_Details!$B$11)","v":13},{"$f":"OFFSET('Raw Data'!EP26,Input_Details!$B$12,Input_Details!$B$11)","v":19},{"$f":"OFFSET('Raw Data'!DW698,Input_Details!$C$12,Input_Details!$C$11)","v":14},{"$f":"OFFSET('Raw Data'!DW794,Input_Details!$C$12,Input_Details!$C$11)","v":14}]
[null,"05:45:00",{"$f":"OFFSET('Raw Data'!EJ27,Input_Details!$B$12,Input_Details!$B$11)","v":19},{"$f":"OFFSET('Raw Data'!EK27,Input_Details!$B$12,Input_Details!$B$11)","v":28},{"$f":"OFFSET('Raw Data'!EL27,Input_Details!$B$12,Input_Details!$B$11)","v":31},{"$f":"OFFSET('Raw Data'!EM27,Input_Details!$B$12,Input_Details!$B$11)","v":17},{"$f":"OFFSET('Raw Data'!EN27,Input_Details!$B$12,Input_Details!$B$11)","v":23},{"$f":"OFFSET('Raw Data'!EO27,Input_Details!$B$12,Input_Details!$B$11)","v":13},{"$f":"OFFSET('Raw Data'!EP27,Input_Details!$B$12,Input_Details!$B$11)","v":17},{"$f":"OFFSET('Raw Data'!DW699,Input_Details!$C$12,Input_Details!$C$11)","v":24},{"$f":"OFFSET('Raw Data'!DW795,Input_Details!$C$12,Input_Details!$C$11)","v":21}]
[null,"06:00:00",{"$f":"OFFSET('Raw Data'!EJ28,Input_Details!$B$12,Input_Details!$B$11)","v":22},{"$f":"OFFSET('Raw Data'!EK28,Input_Details!$B$12,Input_Details!$B$11)","v":32},{"$f":"OFFSET('Raw Data'!EL28,Input_Details!$B$12,Input_Details!$B$11)","v":26},{"$f":"OFFSET('Raw Data'!EM28,Input_Details!$B$12,Input_Details!$B$11)","v":26},{"$f":"OFFSET('Raw Data'!EN28,Input_Details!$B$12,Input_Details!$B$11)","v":21},{"$f":"OFFSET('Raw Data'!EO28,Input_Details!$B$12,Input_Details!$B$11)","v":15},{"$f":"OFFSET('Raw Data'!EP28,Input_Details!$B$12,Input_Details!$B$11)","v":16},{"$f":"OFFSET('Raw Data'!DW700,Input_Details!$C$12,Input_Details!$C$11)","v":25},{"$f":"OFFSET('Raw Data'!DW796,Input_Details!$C$12,Input_Details!$C$11)","v":23}]
[null,"06:15:00",{"$f":"OFFSET('Raw Data'!EJ29,Input_Details!$B$12,Input_Details!$B$11)","v":35},{"$f":"OFFSET('Raw Data'!EK29,Input_Details!$B$12,Input_Details!$B$11)","v":43},{"$f":"OFFSET('Raw Data'!EL29,Input_Details!$B$12,Input_Details!$B$11)","v":42},{"$f":"OFFSET('Raw Data'!EM29,Input_Details!$B$12,Input_Details!$B$11)","v":34},{"$f":"OFFSET('Raw Data'!EN29,Input_Details!$B$12,Input_Details!$B$11)","v":37},{"$f":"OFFSET('Raw Data'!EO29,Input_Details!$B$12,Input_Details!$B$11)","v":21},{"$f":"OFFSET('Raw Data'!EP29,Input_Details!$B$12,Input_Details!$B$11)","v":22},{"$f":"OFFSET('Raw Data'!DW701,Input_Details!$C$12,Input_Details!$C$11)","v":38},{"$f":"OFFSET('Raw Data'!DW797,Input_Details!$C$12,Input_Details!$C$11)","v":32}]
[null,"06:30:00",{"$f":"OFFSET('Raw Data'!EJ30,Input_Details!$B$12,Input_Details!$B$11)","v":40},{"$f":"OFFSET('Raw Data'!EK30,Input_Details!$B$12,Input_Details!$B$11)","v":51},{"$f":"OFFSET('Raw Data'!EL30,Input_Details!$B$12,Input_Details!$B$11)","v":61},{"$f":"OFFSET('Raw Data'!EM30,Input_Details!$B$12,Input_Details!$B$11)","v":43},{"$f":"OFFSET('Raw Data'!EN30,Input_Details!$B$12,Input_Details!$B$11)","v":42},{"$f":"OFFSET('Raw Data'!EO30,Input_Details!$B$12,Input_Details!$B$11)","v":21},{"$f":"OFFSET('Raw Data'!EP30,Input_Details!$B$12,Input_Details!$B$11)","v":24},{"$f":"OFFSET('Raw Data'!DW702,Input_Details!$C$12,Input_Details!$C$11)","v":46},{"$f":"OFFSET('Raw Data'!DW798,Input_Details!$C$12,Input_Details!$C$11)","v":39}]
[null,"06:45:00",{"$f":"OFFSET('Raw Data'!EJ31,Input_Details!$B$12,Input_Details!$B$11)","v":52},{"$f":"OFFSET('Raw Data'!EK31,Input_Details!$B$12,Input_Details!$B$11)","v":56},{"$f":"OFFSET('Raw Data'!EL31,Input_Details!$B$12,Input_Details!$B$11)","v":50},{"$f":"OFFSET('Raw Data'!EM31,Input_Details!$B$12,Input_Details!$B$11)","v":43},{"$f":"OFFSET('Raw Data'!EN31,Input_Details!$B$12,Input_Details!$B$11)","v":51},{"$f":"OFFSET('Raw Data'!EO31,Input_Details!$B$12,Input_Details!$B$11)","v":20},{"$f":"OFFSET('Raw Data'!EP31,Input_Details!$B$12,Input_Details!$B$11)","v":24},{"$f":"OFFSET('Raw Data'!DW703,Input_Details!$C$12,Input_Details!$C$11)","v":51},{"$f":"OFFSET('Raw Data'!DW799,Input_Details!$C$12,Input_Details!$C$11)","v":42}]
[null,"07:00:00",{"$f":"OFFSET('Raw Data'!EJ32,Input_Details!$B$12,Input_Details!$B$11)","v":35},{"$f":"OFFSET('Raw Data'!EK32,Input_Details!$B$12,Input_Details!$B$11)","v":31},{"$f":"OFFSET('Raw Data'!EL32,Input_Details!$B$12,Input_Details!$B$11)","v":47},{"$f":"OFFSET('Raw Data'!EM32,Input_Details!$B$12,Input_Details!$B$11)","v":36},{"$f":"OFFSET('Raw Data'!EN32,Input_Details!$B$12,Input_Details!$B$11)","v":38},{"$f":"OFFSET('Raw Data'!EO32,Input_Details!$B$12,Input_Details!$B$11)","v":21},{"$f":"OFFSET('Raw Data'!EP32,Input_Details!$B$12,Input_Details!$B$11)","v":17},{"$f":"OFFSET('Raw Data'!DW704,Input_Details!$C$12,Input_Details!$C$11)","v":37},{"$f":"OFFSET('Raw Data'!DW800,Input_Details!$C$12,Input_Details!$C$11)","v":32}]
[null,"07:15:00",{"$f":"OFFSET('Raw Data'!EJ33,Input_Details!$B$12,Input_Details!$B$11)","v":35},{"$f":"OFFSET('Raw Data'!EK33,Input_Details!$B$12,Input_Details!$B$11)","v":40},{"$f":"OFFSET('Raw Data'!EL33,Input_Details!$B$12,Input_Details!$B$11)","v":57},{"$f":"OFFSET('Raw Data'!EM33,Input_Details!$B$12,Input_Details!$B$11)","v":51},{"$f":"OFFSET('Raw Data'!EN33,Input_Details!$B$12,Input_Details!$B$11)","v":40},{"$f":"OFFSET('Raw Data'!EO33,Input_Details!$B$12,Input_Details!$B$11)","v":22},{"$f":"OFFSET('Raw Data'!EP33,Input_Details!$B$12,Input_Details!$B$11)","v":21},{"$f":"OFFSET('Raw Data'!DW705,Input_Details!$C$12,Input_Details!$C$11)","v":44},{"$f":"OFFSET('Raw Data'!DW801,Input_Details!$C$12,Input_Details!$C$11)","v":38}]
[null,"07:30:00",{"$f":"OFFSET('Raw Data'!EJ34,Input_Details!$B$12,Input_Details!$B$11)","v":52},{"$f":"OFFSET('Raw Data'!EK34,Input_Details!$B$12,Input_Details!$B$11)","v":59},{"$f":"OFFSET('Raw Data'!EL34,Input_Details!$B$12,Input_Details!$B$11)","v":61},{"$f":"OFFSET('Raw Data'!EM34,Input_Details!$B$12,Input_Details!$B$11)","v":57},{"$f":"OFFSET('Raw Data'!EN34,Input_Details!$B$12,Input_Details!$B$11)","v":62},{"$f":"OFFSET('Raw Data'!EO34,Input_Details!$B$12,Input_Details!$B$11)","v":24},{"$f":"OFFSET('Raw Data'!EP34,Input_Details!$B$12,Input_Details!$B$11)","v":13},{"$f":"OFFSET('Raw Data'!DW706,Input_Details!$C$12,Input_Details!$C$11)","v":58},{"$f":"OFFSET('Raw Data'!DW802,Input_Details!$C$12,Input_Details!$C$11)","v":47}]
[null,"07:45:00",{"$f":"OFFSET('Raw Data'!EJ35,Input_Details!$B$12,Input_Details!$B$11)","v":55},{"$f":"OFFSET('Raw Data'!EK35,Input_Details!$B$12,Input_Details!$B$11)","v":67},{"$f":"OFFSET('Raw Data'!EL35,Input_Details!$B$12,Input_Details!$B$11)","v":66},{"$f":"OFFSET('Raw Data'!EM35,Input_Details!$B$12,Input_Details!$B$11)","v":49},{"$f":"OFFSET('Raw Data'!EN35,Input_Details!$B$12,Input_Details!$B$11)","v":51},{"$f":"OFFSET('Raw Data'!EO35,Input_Details!$B$12,Input_Details!$B$11)","v":34},{"$f":"OFFSET('Raw Data'!EP35,Input_Details!$B$12,Input_Details!$B$11)","v":22},{"$f":"OFFSET('Raw Data'!DW707,Input_Details!$C$12,Input_Details!$C$11)","v":57},{"$f":"OFFSET('Raw Data'!DW803,Input_Details!$C$12,Input_Details!$C$11)","v":47}]
[null,"08:00:00",{"$f":"OFFSET('Raw Data'!EJ36,Input_Details!$B$12,Input_Details!$B$11)","v":54},{"$f":"OFFSET('Raw Data'!EK36,Input_Details!$B$12,Input_Details!$B$11)","v":62},{"$f":"OFFSET('Raw Data'!EL36,Input_Details!$B$12,Input_Details!$B$11)","v":55},{"$f":"OFFSET('Raw Data'!EM36,Input_Details!$B$12,Input_Details!$B$11)","v":50},{"$f":"OFFSET('Raw Data'!EN36,Input_Details!$B$12,Input_Details!$B$11)","v":57},{"$f":"OFFSET('Raw Data'!EO36,Input_Details!$B$12,Input_Details!$B$11)","v":28},{"$f":"OFFSET('Raw Data'!EP36,Input_Details!$B$12,Input_Details!$B$11)","v":13},{"$f":"OFFSET('Raw Data'!DW708,Input_Details!$C$12,Input_Details!$C$11)","v":55},{"$f":"OFFSET('Raw Data'!DW804,Input_Details!$C$12,Input_Details!$C$11)","v":44}]
[null,"08:15:00",{"$f":"OFFSET('Raw Data'!EJ37,Input_Details!$B$12,Input_Details!$B$11)","v":78},{"$f":"OFFSET('Raw Data'!EK37,Input_Details!$B$12,Input_Details!$B$11)","v":72},{"$f":"OFFSET('Raw Data'!EL37,Input_Details!$B$12,Input_Details!$B$11)","v":67},{"$f":"OFFSET('Raw Data'!EM37,Input_Details!$B$12,Input_Details!$B$11)","v":72},{"$f":"OFFSET('Raw Data'!EN37,Input_Details!$B$12,Input_Details!$B$11)","v":67},{"$f":"OFFSET('Raw Data'!EO37,Input_Details!$B$12,Input_Details!$B$11)","v":36},{"$f":"OFFSET('Raw Data'!EP37,Input_Details!$B$12,Input_Details!$B$11)","v":26},{"$f":"OFFSET('Raw Data'!DW709,Input_Details!$C$12,Input_Details!$C$11)","v":69},{"$f":"OFFSET('Raw Data'!DW805,Input_Details!$C$12,Input_Details!$C$11)","v":59}]
[null,"08:30:00",{"$f":"OFFSET('Raw Data'!EJ38,Input_Details!$B$12,Input_Details!$B$11)","v":64},{"$f":"OFFSET('Raw Data'!EK38,Input_Details!$B$12,Input_Details!$B$11)","v":64},{"$f":"OFFSET('Raw Data'!EL38,Input_Details!$B$12,Input_Details!$B$11)","v":67},{"$f":"OFFSET('Raw Data'!EM38,Input_Details!$B$12,Input_Details!$B$11)","v":69},{"$f":"OFFSET('Raw Data'!EN38,Input_Details!$B$12,Input_Details!$B$11)","v":57},{"$f":"OFFSET('Raw Data'!EO38,Input_Details!$B$12,Input_Details!$B$11)","v":35},{"$f":"OFFSET('Raw Data'!EP38,Input_Details!$B$12,Input_Details!$B$11)","v":17},{"$f":"OFFSET('Raw Data'!DW710,Input_Details!$C$12,Input_Details!$C$11)","v":63},{"$f":"OFFSET('Raw Data'!DW806,Input_Details!$C$12,Input_Details!$C$11)","v":52}]
[null,"08:45:00",{"$f":"OFFSET('Raw Data'!EJ39,Input_Details!$B$12,Input_Details!$B$11)","v":58},{"$f":"OFFSET('Raw Data'!EK39,Input_Details!$B$12,Input_Details!$B$11)","v":72},{"$f":"OFFSET('Raw Data'!EL39,Input_Details!$B$12,Input_Details!$B$11)","v":60},{"$f":"OFFSET('Raw Data'!EM39,Input_Details!$B$12,Input_Details!$B$11)","v":66},{"$f":"OFFSET('Raw Data'!EN39,Input_Details!$B$12,Input_Details!$B$11)","v":74},{"$f":"OFFSET('Raw Data'!EO39,Input_Details!$B$12,Input_Details!$B$11)","v":26},{"$f":"OFFSET('Raw Data'!EP39,Input_Details!$B$12,Input_Details!$B$11)","v":17},{"$f":"OFFSET('Raw Data'!DW711,Input_Details!$C$12,Input_Details!$C$11)","v":64},{"$f":"OFFSET('Raw Data'!DW807,Input_Details!$C$12,Input_Details!$C$11)","v":52}]
[null,"09:00:00",{"$f":"OFFSET('Raw Data'!EJ40,Input_Details!$B$12,Input_Details!$B$11)","v":73},{"$f":"OFFSET('Raw Data'!EK40,Input_Details!$B$12,Input_Details!$B$11)","v":75},{"$f":"OFFSET('Raw Data'!EL40,Input_Details!$B$12,Input_Details!$B$11)","v":70},{"$f":"OFFSET('Raw Data'!EM40,Input_Details!$B$12,Input_Details!$B$11)","v":61},{"$f":"OFFSET('Raw Data'!EN40,Input_Details!$B$12,Input_Details!$B$11)","v":65},{"$f":"OFFSET('Raw Data'!EO40,Input_Details!$B$12,Input_Details!$B$11)","v":39},{"$f":"OFFSET('Raw Data'!EP40,Input_Details!$B$12,Input_Details!$B$11)","v":20},{"$f":"OFFSET('Raw Data'!DW712,Input_Details!$C$12,Input_Details!$C$11)","v":68},{"$f":"OFFSET('Raw Data'!DW808,Input_Details!$C$12,Input_Details!$C$11)","v":56}]
[null,"09:15:00",{"$f":"OFFSET('Raw Data'!EJ41,Input_Details!$B$12,Input_Details!$B$11)","v":56},{"$f":"OFFSET('Raw Data'!EK41,Input_Details!$B$12,Input_Details!$B$11)","v":45},{"$f":"OFFSET('Raw Data'!EL41,Input_Details!$B$12,Input_Details!$B$11)","v":65},{"$f":"OFFSET('Raw Data'!EM41,Input_Details!$B$12,Input_Details!$B$11)","v":46},{"$f":"OFFSET('Raw Data'!EN41,Input_Details!$B$12,Input_Details!$B$11)","v":61},{"$f":"OFFSET('Raw Data'!EO41,Input_Details!$B$12,Input_Details!$B$11)","v":46},{"$f":"OFFSET('Raw Data'!EP41,Input_Details!$B$12,Input_Details!$B$11)","v":18},{"$f":"OFFSET('Raw Data'!DW713,Input_Details!$C$12,Input_Details!$C$11)","v":53},{"$f":"OFFSET('Raw Data'!DW809,Input_Details!$C$12,Input_Details!$C$11)","v":46}]
[null,"09:30:00",{"$f":"OFFSET('Raw Data'!EJ42,Input_Details!$B$12,Input_Details!$B$11)","v":48},{"$f":"OFFSET('Raw Data'!EK42,Input_Details!$B$12,Input_Details!$B$11)","v":59},{"$f":"OFFSET('Raw Data'!EL42,Input_Details!$B$12,Input_Details!$B$11)","v":47},{"$f":"OFFSET('Raw Data'!EM42,Input_Details!$B$12,Input_Details!$B$11)","v":54},{"$f":"OFFSET('Raw Data'!EN42,Input_Details!$B$12,Input_Details!$B$11)","v":59},{"$f":"OFFSET('Raw Data'!EO42,Input_Details!$B$12,Input_Details!$B$11)","v":41},{"$f":"OFFSET('Raw Data'!EP42,Input_Details!$B$12,Input_Details!$B$11)","v":34},{"$f":"OFFSET('Raw Data'!DW714,Input_Details!$C$12,Input_Details!$C$11)","v":50},{"$f":"OFFSET('Raw Data'!DW810,Input_Details!$C$12,Input_Details!$C$11)","v":47}]
[null,"09:45:00",{"$f":"OFFSET('Raw Data'!EJ43,Input_Details!$B$12,Input_Details!$B$11)","v":45},{"$f":"OFFSET('Raw Data'!EK43,Input_Details!$B$12,Input_Details!$B$11)","v":65},{"$f":"OFFSET('Raw Data'!EL43,Input_Details!$B$12,Input_Details!$B$11)","v":52},{"$f":"OFFSET('Raw Data'!EM43,Input_Details!$B$12,Input_Details!$B$11)","v":43},{"$f":"OFFSET('Raw Data'!EN43,Input_Details!$B$12,Input_Details!$B$11)","v":65},{"$f":"OFFSET('Raw Data'!EO43,Input_Details!$B$12,Input_Details!$B$11)","v":52},{"$f":"OFFSET('Raw Data'!EP43,Input_Details!$B$12,Input_Details!$B$11)","v":29},{"$f":"OFFSET('Raw Data'!DW715,Input_Details!$C$12,Input_Details!$C$11)","v":53},{"$f":"OFFSET('Raw Data'!DW811,Input_Details!$C$12,Input_Details!$C$11)","v":49}]
[null,"10:00:00",{"$f":"OFFSET('Raw Data'!EJ44,Input_Details!$B$12,Input_Details!$B$11)","v":57},{"$f":"OFFSET('Raw Data'!EK44,Input_Details!$B$12,Input_Details!$B$11)","v":53},{"$f":"OFFSET('Raw Data'!EL44,Input_Details!$B$12,Input_Details!$B$11)","v":63},{"$f":"OFFSET('Raw Data'!EM44,Input_Details!$B$12,Input_Details!$B$11)","v":51},{"$f":"OFFSET('Raw Data'!EN44,Input_Details!$B$12,Input_Details!$B$11)","v":41},{"$f":"OFFSET('Raw Data'!EO44,Input_Details!$B$12,Input_Details!$B$11)","v":48},{"$f":"OFFSET('Raw Data'!EP44,Input_Details!$B$12,Input_Details!$B$11)","v":24},{"$f":"OFFSET('Raw Data'!DW716,Input_Details!$C$12,Input_Details!$C$11)","v":51},{"$f":"OFFSET('Raw Data'!DW812,Input_Details!$C$12,Input_Details!$C$11)","v":47}]
[null,"10:15:00",{"$f":"OFFSET('Raw Data'!EJ45,Input_Details!$B$12,Input_Details!$B$11)","v":59},{"$f":"OFFSET('Raw Data'!EK45,Input_Details!$B$12,Input_Details!$B$11)","v":50},{"$f":"OFFSET('Raw Data'!EL45,Input_Details!$B$12,Input_Details!$B$11)","v":78},{"$f":"OFFSET('Raw Data'!EM45,Input_Details!$B$12,Input_Details!$B$11)","v":66},{"$f":"OFFSET('Raw Data'!EN45,Input_Details!$B$12,Input_Details!$B$11)","v":55},{"$f":"OFFSET('Raw Data'!EO45,Input_Details!$B$12,Input_Details!$B$11)","v":54},{"$f":"OFFSET('Raw Data'!EP45,Input_Details!$B$12,Input_Details!$B$11)","v":27},{"$f":"OFFSET('Raw Data'!DW717,Input_Details!$C$12,Input_Details!$C$11)","v":61},{"$f":"OFFSET('Raw Data'!DW813,Input_Details!$C$12,Input_Details!$C$11)","v":55}]
[null,"10:30:00",{"$f":"OFFSET('Raw Data'!EJ46,Input_Details!$B$12,Input_Details!$B$11)","v":52},{"$f":"OFFSET('Raw Data'!EK46,Input_Details!$B$12,Input_Details!$B$11)","v":65},{"$f":"OFFSET('Raw Data'!EL46,Input_Details!$B$12,Input_Details!$B$11)","v":69},{"$f":"OFFSET('Raw Data'!EM46,Input_Details!$B$12,Input_Details!$B$11)","v":67},{"$f":"OFFSET('Raw Data'!EN46,Input_Details!$B$12,Input_Details!$B$11)","v":62},{"$f":"OFFSET('Raw Data'!EO46,Input_Details!$B$12,Input_Details!$B$11)","v":47},{"$f":"OFFSET('Raw Data'!EP46,Input_Details!$B$12,Input_Details!$B$11)","v":30},{"$f":"OFFSET('Raw Data'!DW718,Input_Details!$C$12,Input_Details!$C$11)","v":64},{"$f":"OFFSET('Raw Data'!DW814,Input_Details!$C$12,Input_Details!$C$11)","v":56}]
[null,"10:45:00",{"$f":"OFFSET('Raw Data'!EJ47,Input_Details!$B$12,Input_Details!$B$11)","v":71},{"$f":"OFFSET('Raw Data'!EK47,Input_Details!$B$12,Input_Details!$B$11)","v":87},{"$f":"OFFSET('Raw Data'!EL47,Input_Details!$B$12,Input_Details!$B$11)","v":56},{"$f":"OFFSET('Raw Data'!EM47,Input_Details!$B$12,Input_Details!$B$11)","v":63},{"$f":"OFFSET('Raw Data'!EN47,Input_Details!$B$12,Input_Details!$B$11)","v":56},{"$f":"OFFSET('Raw Data'!EO47,Input_Details!$B$12,Input_Details!$B$11)","v":47},{"$f":"OFFSET('Raw Data'!EP47,Input_Details!$B$12,Input_Details!$B$11)","v":43},{"$f":"OFFSET('Raw Data'!DW719,Input_Details!$C$12,Input_Details!$C$11)","v":66},{"$f":"OFFSET('Raw Data'!DW815,Input_Details!$C$12,Input_Details!$C$11)","v":60}]
[null,"11:00:00",{"$f":"OFFSET('Raw Data'!EJ48,Input_Details!$B$12,Input_Details!$B$11)","v":65},{"$f":"OFFSET('Raw Data'!EK48,Input_Details!$B$12,Input_Details!$B$11)","v":61},{"$f":"OFFSET('Raw Data'!EL48,Input_Details!$B$12,Input_Details!$B$11)","v":56},{"$f":"OFFSET('Raw Data'!EM48,Input_Details!$B$12,Input_Details!$B$11)","v":72},{"$f":"OFFSET('Raw Data'!EN48,Input_Details!$B$12,Input_Details!$B$11)","v":61},{"$f":"OFFSET('Raw Data'!EO48,Input_Details!$B$12,Input_Details!$B$11)","v":46},{"$f":"OFFSET('Raw Data'!EP48,Input_Details!$B$12,Input_Details!$B$11)","v":40},{"$f":"OFFSET('Raw Data'!DW720,Input_Details!$C$12,Input_Details!$C$11)","v":63},{"$f":"OFFSET('Raw Data'!DW816,Input_Details!$C$12,Input_Details!$C$11)","v":57}]
[null,"11:15:00",{"$f":"OFFSET('Raw Data'!EJ49,Input_Details!$B$12,Input_Details!$B$11)","v":54},{"$f":"OFFSET('Raw Data'!EK49,Input_Details!$B$12,Input_Details!$B$11)","v":52},{"$f":"OFFSET('Raw Data'!EL49,Input_Details!$B$12,Input_Details!$B$11)","v":63},{"$f":"OFFSET('Raw Data'!EM49,Input_Details!$B$12,Input_Details!$B$11)","v":66},{"$f":"OFFSET('Raw Data'!EN49,Input_Details!$B$12,Input_Details!$B$11)","v":59},{"$f":"OFFSET('Raw Data'!EO49,Input_Details!$B$12,Input_Details!$B$11)","v":62},{"$f":"OFFSET('Raw Data'!EP49,Input_Details!$B$12,Input_Details!$B$11)","v":34},{"$f":"OFFSET('Raw Data'!DW721,Input_Details!$C$12,Input_Details!$C$11)","v":59},{"$f":"OFFSET('Raw Data'!DW817,Input_Details!$C$12,Input_Details!$C$11)","v":55}]
[null,"11:30:00",{"$f":"OFFSET('Raw Data'!EJ50,Input_Details!$B$12,Input_Details!$B$11)","v":38},{"$f":"OFFSET('Raw Data'!EK50,Input_Details!$B$12,Input_Details!$B$11)","v":57},{"$f":"OFFSET('Raw Data'!EL50,Input_Details!$B$12,Input_Details!$B$11)","v":66},{"$f":"OFFSET('Raw Data'!EM50,Input_Details!$B$12,Input_Details!$B$11)","v":60},{"$f":"OFFSET('Raw Data'!EN50,Input_Details!$B$12,Input_Details!$B$11)","v":61},{"$f":"OFFSET('Raw Data'!EO50,Input_Details!$B$12,Input_Details!$B$11)","v":54},{"$f":"OFFSET('Raw Data'!EP50,Input_Details!$B$12,Input_Details!$B$11)","v":41},{"$f":"OFFSET('Raw Data'!DW722,Input_Details!$C$12,Input_Details!$C$11)","v":54},{"$f":"OFFSET('Raw Data'!DW818,Input_Details!$C$12,Input_Details!$C$11)","v":53}]
[null,"11:45:00",{"$f":"OFFSET('Raw Data'!EJ51,Input_Details!$B$12,Input_Details!$B$11)","v":49},{"$f":"OFFSET('Raw Data'!EK51,Input_Details!$B$12,Input_Details!$B$11)","v":64},{"$f":"OFFSET('Raw Data'!EL51,Input_Details!$B$12,Input_Details!$B$11)","v":70},{"$f":"OFFSET('Raw Data'!EM51,Input_Details!$B$12,Input_Details!$B$11)","v":69},{"$f":"OFFSET('Raw Data'!EN51,Input_Details!$B$12,Input_Details!$B$11)","v":59},{"$f":"OFFSET('Raw Data'!EO51,Input_Details!$B$12,Input_Details!$B$11)","v":55},{"$f":"OFFSET('Raw Data'!EP51,Input_Details!$B$12,Input_Details!$B$11)","v":33},{"$f":"OFFSET('Raw Data'!DW723,Input_Details!$C$12,Input_Details!$C$11)","v":62},{"$f":"OFFSET('Raw Data'!DW819,Input_Details!$C$12,Input_Details!$C$11)","v":56}]
[null,"12:00:00",{"$f":"OFFSET('Raw Data'!EJ52,Input_Details!$B$12,Input_Details!$B$11)","v":55},{"$f":"OFFSET('Raw Data'!EK52,Input_Details!$B$12,Input_Details!$B$11)","v":65},{"$f":"OFFSET('Raw Data'!EL52,Input_Details!$B$12,Input_Details!$B$11)","v":56},{"$f":"OFFSET('Raw Data'!EM52,Input_Details!$B$12,Input_Details!$B$11)","v":56},{"$f":"OFFSET('Raw Data'!EN52,Input_Details!$B$12,Input_Details!$B$11)","v":71},{"$f":"OFFSET('Raw Data'!EO52,Input_Details!$B$12,Input_Details!$B$11)","v":51},{"$f":"OFFSET('Raw Data'!EP52,Input_Details!$B$12,Input_Details!$B$11)","v":32},{"$f":"OFFSET('Raw Data'!DW724,Input_Details!$C$12,Input_Details!$C$11)","v":60},{"$f":"OFFSET('Raw Data'!DW820,Input_Details!$C$12,Input_Details!$C$11)","v":54}]
[null,"12:15:00",{"$f":"OFFSET('Raw Data'!EJ53,Input_Details!$B$12,Input_Details!$B$11)","v":60},{"$f":"OFFSET('Raw Data'!EK53,Input_Details!$B$12,Input_Details!$B$11)","v":71},{"$f":"OFFSET('Raw Data'!EL53,Input_Details!$B$12,Input_Details!$B$11)","v":64},{"$f":"OFFSET('Raw Data'!EM53,Input_Details!$B$12,Input_Details!$B$11)","v":66},{"$f":"OFFSET('Raw Data'!EN53,Input_Details!$B$12,Input_Details!$B$11)","v":75},{"$f":"OFFSET('Raw Data'!EO53,Input_Details!$B$12,Input_Details!$B$11)","v":54},{"$f":"OFFSET('Raw Data'!EP53,Input_Details!$B$12,Input_Details!$B$11)","v":39},{"$f":"OFFSET('Raw Data'!DW725,Input_Details!$C$12,Input_Details!$C$11)","v":67},{"$f":"OFFSET('Raw Data'!DW821,Input_Details!$C$12,Input_Details!$C$11)","v":61}]
[null,"12:30:00",{"$f":"OFFSET('Raw Data'!EJ54,Input_Details!$B$12,Input_Details!$B$11)","v":57},{"$f":"OFFSET('Raw Data'!EK54,Input_Details!$B$12,Input_Details!$B$11)","v":59},{"$f":"OFFSET('Raw Data'!EL54,Input_Details!$B$12,Input_Details!$B$11)","v":73},{"$f":"OFFSET('Raw Data'!EM54,Input_Details!$B$12,Input_Details!$B$11)","v":58},{"$f":"OFFSET('Raw Data'!EN54,Input_Details!$B$12,Input_Details!$B$11)","v":80},{"$f":"OFFSET('Raw Data'!EO54,Input_Details!$B$12,Input_Details!$B$11)","v":66},{"$f":"OFFSET('Raw Data'!EP54,Input_Details!$B$12,Input_Details!$B$11)","v":49},{"$f":"OFFSET('Raw Data'!DW726,Input_Details!$C$12,Input_Details!$C$11)","v":64},{"$f":"OFFSET('Raw Data'!DW822,Input_Details!$C$12,Input_Details!$C$11)","v":61}]
[null,"12:45:00",{"$f":"OFFSET('Raw Data'!EJ55,Input_Details!$B$12,Input_Details!$B$11)","v":54},{"$f":"OFFSET('Raw Data'!EK55,Input_Details!$B$12,Input_Details!$B$11)","v":65},{"$f":"OFFSET('Raw Data'!EL55,Input_Details!$B$12,Input_Details!$B$11)","v":61},{"$f":"OFFSET('Raw Data'!EM55,Input_Details!$B$12,Input_Details!$B$11)","v":58},{"$f":"OFFSET('Raw Data'!EN55,Input_Details!$B$12,Input_Details!$B$11)","v":70},{"$f":"OFFSET('Raw Data'!EO55,Input_Details!$B$12,Input_Details!$B$11)","v":66},{"$f":"OFFSET('Raw Data'!EP55,Input_Details!$B$12,Input_Details!$B$11)","v":50},{"$f":"OFFSET('Raw Data'!DW727,Input_Details!$C$12,Input_Details!$C$11)","v":60},{"$f":"OFFSET('Raw Data'!DW823,Input_Details!$C$12,Input_Details!$C$11)","v":59}]
[null,"13:00:00",{"$f":"OFFSET('Raw Data'!EJ56,Input_Details!$B$12,Input_Details!$B$11)","v":65},{"$f":"OFFSET('Raw Data'!EK56,Input_Details!$B$12,Input_Details!$B$11)","v":75},{"$f":"OFFSET('Raw Data'!EL56,Input_Details!$B$12,Input_Details!$B$11)","v":68},{"$f":"OFFSET('Raw Data'!EM56,Input_Details!$B$12,Input_Details!$B$11)","v":73},{"$f":"OFFSET('Raw Data'!EN56,Input_Details!$B$12,Input_Details!$B$11)","v":70},{"$f":"OFFSET('Raw Data'!EO56,Input_Details!$B$12,Input_Details!$B$11)","v":84},{"$f":"OFFSET('Raw Data'!EP56,Input_Details!$B$12,Input_Details!$B$11)","v":35},{"$f":"OFFSET('Raw Data'!DW728,Input_Details!$C$12,Input_Details!$C$11)","v":69},{"$f":"OFFSET('Raw Data'!DW824,Input_Details!$C$12,Input_Details!$C$11)","v":66}]
[null,"13:15:00",{"$f":"OFFSET('Raw Data'!EJ57,Input_Details!$B$12,Input_Details!$B$11)","v":72},{"$f":"OFFSET('Raw Data'!EK57,Input_Details!$B$12,Input_Details!$B$11)","v":60},{"$f":"OFFSET('Raw Data'!EL57,Input_Details!$B$12,Input_Details!$B$11)","v":73},{"$f":"OFFSET('Raw Data'!EM57,Input_Details!$B$12,Input_Details!$B$11)","v":77},{"$f":"OFFSET('Raw Data'!EN57,Input_Details!$B$12,Input_Details!$B$11)","v":69},{"$f":"OFFSET('Raw Data'!EO57,Input_Details!$B$12,Input_Details!$B$11)","v":85},{"$f":"OFFSET('Raw Data'!EP57,Input_Details!$B$12,Input_Details!$B$11)","v":56},{"$f":"OFFSET('Raw Data'!DW729,Input_Details!$C$12,Input_Details!$C$11)","v":69},{"$f":"OFFSET('Raw Data'!DW825,Input_Details!$C$12,Input_Details!$C$11)","v":69}]
[null,"13:30:00",{"$f":"OFFSET('Raw Data'!EJ58,Input_Details!$B$12,Input_Details!$B$11)","v":67},{"$f":"OFFSET('Raw Data'!EK58,Input_Details!$B$12,Input_Details!$B$11)","v":68},{"$f":"OFFSET('Raw Data'!EL58,Input_Details!$B$12,Input_Details!$B$11)","v":87},{"$f":"OFFSET('Raw Data'!EM58,Input_Details!$B$12,Input_Details!$B$11)","v":65},{"$f":"OFFSET('Raw Data'!EN58,Input_Details!$B$12,Input_Details!$B$11)","v":65},{"$f":"OFFSET('Raw Data'!EO58,Input_Details!$B$12,Input_Details!$B$11)","v":79},{"$f":"OFFSET('Raw Data'!EP58,Input_Details!$B$12,Input_Details!$B$11)","v":43},{"$f":"OFFSET('Raw Data'!DW730,Input_Details!$C$12,Input_Details!$C$11)","v":69},{"$f":"OFFSET('Raw Data'!DW826,Input_Details!$C$12,Input_Details!$C$11)","v":66}]
[null,"13:45:00",{"$f":"OFFSET('Raw Data'!EJ59,Input_Details!$B$12,Input_Details!$B$11)","v":64},{"$f":"OFFSET('Raw Data'!EK59,Input_Details!$B$12,Input_Details!$B$11)","v":78},{"$f":"OFFSET('Raw Data'!EL59,Input_Details!$B$12,Input_Details!$B$11)","v":72},{"$f":"OFFSET('Raw Data'!EM59,Input_Details!$B$12,Input_Details!$B$11)","v":83},{"$f":"OFFSET('Raw Data'!EN59,Input_Details!$B$12,Input_Details!$B$11)","v":105},{"$f":"OFFSET('Raw Data'!EO59,Input_Details!$B$12,Input_Details!$B$11)","v":81},{"$f":"OFFSET('Raw Data'!EP59,Input_Details!$B$12,Input_Details!$B$11)","v":51},{"$f":"OFFSET('Raw Data'!DW731,Input_Details!$C$12,Input_Details!$C$11)","v":80},{"$f":"OFFSET('Raw Data'!DW827,Input_Details!$C$12,Input_Details!$C$11)","v":76}]
[null,"14:00:00",{"$f":"OFFSET('Raw Data'!EJ60,Input_Details!$B$12,Input_Details!$B$11)","v":67},{"$f":"OFFSET('Raw Data'!EK60,Input_Details!$B$12,Input_Details!$B$11)","v":73},{"$f":"OFFSET('Raw Data'!EL60,Input_Details!$B$12,Input_Details!$B$11)","v":87},{"$f":"OFFSET('Raw Data'!EM60,Input_Details!$B$12,Input_Details!$B$11)","v":72},{"$f":"OFFSET('Raw Data'!EN60,Input_Details!$B$12,Input_Details!$B$11)","v":86},{"$f":"OFFSET('Raw Data'!EO60,Input_Details!$B$12,Input_Details!$B$11)","v":84},{"$f":"OFFSET('Raw Data'!EP60,Input_Details!$B$12,Input_Details!$B$11)","v":44},{"$f":"OFFSET('Raw Data'!DW732,Input_Details!$C$12,Input_Details!$C$11)","v":76},{"$f":"OFFSET('Raw Data'!DW828,Input_Details!$C$12,Input_Details!$C$11)","v":73}]
[null,"14:15:00",{"$f":"OFFSET('Raw Data'!EJ61,Input_Details!$B$12,Input_Details!$B$11)","v":76},{"$f":"OFFSET('Raw Data'!EK61,Input_Details!$B$12,Input_Details!$B$11)","v":78},{"$f":"OFFSET('Raw Data'!EL61,Input_Details!$B$12,Input_Details!$B$11)","v":77},{"$f":"OFFSET('Raw Data'!EM61,Input_Details!$B$12,Input_Details!$B$11)","v":77},{"$f":"OFFSET('Raw Data'!EN61,Input_Details!$B$12,Input_Details!$B$11)","v":71},{"$f":"OFFSET('Raw Data'!EO61,Input_Details!$B$12,Input_Details!$B$11)","v":57},{"$f":"OFFSET('Raw Data'!EP61,Input_Details!$B$12,Input_Details!$B$11)","v":57},{"$f":"OFFSET('Raw Data'!DW733,Input_Details!$C$12,Input_Details!$C$11)","v":74},{"$f":"OFFSET('Raw Data'!DW829,Input_Details!$C$12,Input_Details!$C$11)","v":69}]
[null,"14:30:00",{"$f":"OFFSET('Raw Data'!EJ62,Input_Details!$B$12,Input_Details!$B$11)","v":70},{"$f":"OFFSET('Raw Data'!EK62,Input_Details!$B$12,Input_Details!$B$11)","v":83},{"$f":"OFFSET('Raw Data'!EL62,Input_Details!$B$12,Input_Details!$B$11)","v":93},{"$f":"OFFSET('Raw Data'!EM62,Input_Details!$B$12,Input_Details!$B$11)","v":58},{"$f":"OFFSET('Raw Data'!EN62,Input_Details!$B$12,Input_Details!$B$11)","v":71},{"$f":"OFFSET('Raw Data'!EO62,Input_Details!$B$12,Input_Details!$B$11)","v":69},{"$f":"OFFSET('Raw Data'!EP62,Input_Details!$B$12,Input_Details!$B$11)","v":50},{"$f":"OFFSET('Raw Data'!DW734,Input_Details!$C$12,Input_Details!$C$11)","v":74},{"$f":"OFFSET('Raw Data'!DW830,Input_Details!$C$12,Input_Details!$C$11)","v":71}]
[null,"14:45:00",{"$f":"OFFSET('Raw Data'!EJ63,Input_Details!$B$12,Input_Details!$B$11)","v":77},{"$f":"OFFSET('Raw Data'!EK63,Input_Details!$B$12,Input_Details!$B$11)","v":96},{"$f":"OFFSET('Raw Data'!EL63,Input_Details!$B$12,Input_Details!$B$11)","v":74},{"$f":"OFFSET('Raw Data'!EM63,Input_Details!$B$12,Input_Details!$B$11)","v":93},{"$f":"OFFSET('Raw Data'!EN63,Input_Details!$B$12,Input_Details!$B$11)","v":78},{"$f":"OFFSET('Raw Data'!EO63,Input_Details!$B$12,Input_Details!$B$11)","v":81},{"$f":"OFFSET('Raw Data'!EP63,Input_Details!$B$12,Input_Details!$B$11)","v":43},{"$f":"OFFSET('Raw Data'!DW735,Input_Details!$C$12,Input_Details!$C$11)","v":83},{"$f":"OFFSET('Raw Data'!DW831,Input_Details!$C$12,Input_Details!$C$11)","v":76}]
[null,"15:00:00",{"$f":"OFFSET('Raw Data'!EJ64,Input_Details!$B$12,Input_Details!$B$11)","v":78},{"$f":"OFFSET('Raw Data'!EK64,Input_Details!$B$12,Input_Details!$B$11)","v":85},{"$f":"OFFSET('Raw Data'!EL64,Input_Details!$B$12,Input_Details!$B$11)","v":99},{"$f":"OFFSET('Raw Data'!EM64,Input_Details!$B$12,Input_Details!$B$11)","v":74},{"$f":"OFFSET('Raw Data'!EN64,Input_Details!$B$12,Input_Details!$B$11)","v":79},{"$f":"OFFSET('Raw Data'!EO64,Input_Details!$B$12,Input_Details!$B$11)","v":66},{"$f":"OFFSET('Raw Data'!EP64,Input_Details!$B$12,Input_Details!$B$11)","v":43},{"$f":"OFFSET('Raw Data'!DW736,Input_Details!$C$12,Input_Details!$C$11)","v":82},{"$f":"OFFSET('Raw Data'!DW832,Input_Details!$C$12,Input_Details!$C$11)","v":75}]
[null,"15:15:00",{"$f":"OFFSET('Raw Data'!EJ65,Input_Details!$B$12,Input_Details!$B$11)","v":61},{"$f":"OFFSET('Raw Data'!EK65,Input_Details!$B$12,Input_Details!$B$11)","v":76},{"$f":"OFFSET('Raw Data'!EL65,Input_Details!$B$12,Input_Details!$B$11)","v":71},{"$f":"OFFSET('Raw Data'!EM65,Input_Details!$B$12,Input_Details!$B$11)","v":105},{"$f":"OFFSET('Raw Data'!EN65,Input_Details!$B$12,Input_Details!$B$11)","v":79},{"$f":"OFFSET('Raw Data'!EO65,Input_Details!$B$12,Input_Details!$B$11)","v":71},{"$f":"OFFSET('Raw Data'!EP65,Input_Details!$B$12,Input_Details!$B$11)","v":46},{"$f":"OFFSET('Raw Data'!DW737,Input_Details!$C$12,Input_Details!$C$11)","v":77},{"$f":"OFFSET('Raw Data'!DW833,Input_Details!$C$12,Input_Details!$C$11)","v":72}]
[null,"15:30:00",{"$f":"OFFSET('Raw Data'!EJ66,Input_Details!$B$12,Input_Details!$B$11)","v":87},{"$f":"OFFSET('Raw Data'!EK66,Input_Details!$B$12,Input_Details!$B$11)","v":94},{"$f":"OFFSET('Raw Data'!EL66,Input_Details!$B$12,Input_Details!$B$11)","v":75},{"$f":"OFFSET('Raw Data'!EM66,Input_Details!$B$12,Input_Details!$B$11)","v":80},{"$f":"OFFSET('Raw Data'!EN66,Input_Details!$B$12,Input_Details!$B$11)","v":78},{"$f":"OFFSET('Raw Data'!EO66,Input_Details!$B$12,Input_Details!$B$11)","v":57},{"$f":"OFFSET('Raw Data'!EP66,Input_Details!$B$12,Input_Details!$B$11)","v":53},{"$f":"OFFSET('Raw Data'!DW738,Input_Details!$C$12,Input_Details!$C$11)","v":82},{"$f":"OFFSET('Raw Data'!DW834,Input_Details!$C$12,Input_Details!$C$11)","v":75}]
[null,"15:45:00",{"$f":"OFFSET('Raw Data'!EJ67,Input_Details!$B$12,Input_Details!$B$11)","v":71},{"$f":"OFFSET('Raw Data'!EK67,Input_Details!$B$12,Input_Details!$B$11)","v":91},{"$f":"OFFSET('Raw Data'!EL67,Input_Details!$B$12,Input_Details!$B$11)","v":104},{"$f":"OFFSET('Raw Data'!EM67,Input_Details!$B$12,Input_Details!$B$11)","v":94},{"$f":"OFFSET('Raw Data'!EN67,Input_Details!$B$12,Input_Details!$B$11)","v":91},{"$f":"OFFSET('Raw Data'!EO67,Input_Details!$B$12,Input_Details!$B$11)","v":59},{"$f":"OFFSET('Raw Data'!EP67,Input_Details!$B$12,Input_Details!$B$11)","v":58},{"$f":"OFFSET('Raw Data'!DW739,Input_Details!$C$12,Input_Details!$C$11)","v":89},{"$f":"OFFSET('Raw Data'!DW835,Input_Details!$C$12,Input_Details!$C$11)","v":80}]
[null,"16:00:00",{"$f":"OFFSET('Raw Data'!EJ68,Input_Details!$B$12,Input_Details!$B$11)","v":83},{"$f":"OFFSET('Raw Data'!EK68,Input_Details!$B$12,Input_Details!$B$11)","v":88},{"$f":"OFFSET('Raw Data'!EL68,Input_Details!$B$12,Input_Details!$B$11)","v":95},{"$f":"OFFSET('Raw Data'!EM68,Input_Details!$B$12,Input_Details!$B$11)","v":91},{"$f":"OFFSET('Raw Data'!EN68,Input_Details!$B$12,Input_Details!$B$11)","v":102},{"$f":"OFFSET('Raw Data'!EO68,Input_Details!$B$12,Input_Details!$B$11)","v":78},{"$f":"OFFSET('Raw Data'!EP68,Input_Details!$B$12,Input_Details!$B$11)","v":36},{"$f":"OFFSET('Raw Data'!DW740,Input_Details!$C$12,Input_Details!$C$11)","v":92},{"$f":"OFFSET('Raw Data'!DW836,Input_Details!$C$12,Input_Details!$C$11)","v":81}]
[null,"16:15:00",{"$f":"OFFSET('Raw Data'!EJ69,Input_Details!$B$12,Input_Details!$B$11)","v":75},{"$f":"OFFSET('Raw Data'!EK69,Input_Details!$B$12,Input_Details!$B$11)","v":69},{"$f":"OFFSET('Raw Data'!EL69,Input_Details!$B$12,Input_Details!$B$11)","v":97},{"$f":"OFFSET('Raw Data'!EM69,Input_Details!$B$12,Input_Details!$B$11)","v":90},{"$f":"OFFSET('Raw Data'!EN69,Input_Details!$B$12,Input_Details!$B$11)","v":82},{"$f":"OFFSET('Raw Data'!EO69,Input_Details!$B$12,Input_Details!$B$11)","v":73},{"$f":"OFFSET('Raw Data'!EP69,Input_Details!$B$12,Input_Details!$B$11)","v":52},{"$f":"OFFSET('Raw Data'!DW741,Input_Details!$C$12,Input_Details!$C$11)","v":82},{"$f":"OFFSET('Raw Data'!DW837,Input_Details!$C$12,Input_Details!$C$11)","v":77}]
[null,"16:30:00",{"$f":"OFFSET('Raw Data'!EJ70,Input_Details!$B$12,Input_Details!$B$11)","v":97},{"$f":"OFFSET('Raw Data'!EK70,Input_Details!$B$12,Input_Details!$B$11)","v":85},{"$f":"OFFSET('Raw Data'!EL70,Input_Details!$B$12,Input_Details!$B$11)","v":104},{"$f":"OFFSET('Raw Data'!EM70,Input_Details!$B$12,Input_Details!$B$11)","v":95},{"$f":"OFFSET('Raw Data'!EN70,Input_Details!$B$12,Input_Details!$B$11)","v":89},{"$f":"OFFSET('Raw Data'!EO70,Input_Details!$B$12,Input_Details!$B$11)","v":59},{"$f":"OFFSET('Raw Data'!EP70,Input_Details!$B$12,Input_Details!$B$11)","v":56},{"$f":"OFFSET('Raw Data'!DW742,Input_Details!$C$12,Input_Details!$C$11)","v":92},{"$f":"OFFSET('Raw Data'!DW838,Input_Details!$C$12,Input_Details!$C$11)","v":84}]
[null,"16:45:00",{"$f":"OFFSET('Raw Data'!EJ71,Input_Details!$B$12,Input_Details!$B$11)","v":105},{"$f":"OFFSET('Raw Data'!EK71,Input_Details!$B$12,Input_Details!$B$11)","v":100},{"$f":"OFFSET('Raw Data'!EL71,Input_Details!$B$12,Input_Details!$B$11)","v":124},{"$f":"OFFSET('Raw Data'!EM71,Input_Details!$B$12,Input_Details!$B$11)","v":103},{"$f":"OFFSET('Raw Data'!EN71,Input_Details!$B$12,Input_Details!$B$11)","v":85},{"$f":"OFFSET('Raw Data'!EO71,Input_Details!$B$12,Input_Details!$B$11)","v":69},{"$f":"OFFSET('Raw Data'!EP71,Input_Details!$B$12,Input_Details!$B$11)","v":43},{"$f":"OFFSET('Raw Data'!DW743,Input_Details!$C$12,Input_Details!$C$11)","v":102},{"$f":"OFFSET('Raw Data'!DW839,Input_Details!$C$12,Input_Details!$C$11)","v":88}]
[null,"17:00:00",{"$f":"OFFSET('Raw Data'!EJ72,Input_Details!$B$12,Input_Details!$B$11)","v":78},{"$f":"OFFSET('Raw Data'!EK72,Input_Details!$B$12,Input_Details!$B$11)","v":81},{"$f":"OFFSET('Raw Data'!EL72,Input_Details!$B$12,Input_Details!$B$11)","v":106},{"$f":"OFFSET('Raw Data'!EM72,Input_Details!$B$12,Input_Details!$B$11)","v":85},{"$f":"OFFSET('Raw Data'!EN72,Input_Details!$B$12,Input_Details!$B$11)","v":91},{"$f":"OFFSET('Raw Data'!EO72,Input_Details!$B$12,Input_Details!$B$11)","v":65},{"$f":"OFFSET('Raw Data'!EP72,Input_Details!$B$12,Input_Details!$B$11)","v":56},{"$f":"OFFSET('Raw Data'!DW744,Input_Details!$C$12,Input_Details!$C$11)","v":87},{"$f":"OFFSET('Raw Data'!DW840,Input_Details!$C$12,Input_Details!$C$11)","v":78}]
[null,"17:15:00",{"$f":"OFFSET('Raw Data'!EJ73,Input_Details!$B$12,Input_Details!$B$11)","v":97},{"$f":"OFFSET('Raw Data'!EK73,Input_Details!$B$12,Input_Details!$B$11)","v":115},{"$f":"OFFSET('Raw Data'!EL73,Input_Details!$B$12,Input_Details!$B$11)","v":105},{"$f":"OFFSET('Raw Data'!EM73,Input_Details!$B$12,Input_Details!$B$11)","v":87},{"$f":"OFFSET('Raw Data'!EN73,Input_Details!$B$12,Input_Details!$B$11)","v":116},{"$f":"OFFSET('Raw Data'!EO73,Input_Details!$B$12,Input_Details!$B$11)","v":75},{"$f":"OFFSET('Raw Data'!EP73,Input_Details!$B$12,Input_Details!$B$11)","v":70},{"$f":"OFFSET('Raw Data'!DW745,Input_Details!$C$12,Input_Details!$C$11)","v":102},{"$f":"OFFSET('Raw Data'!DW841,Input_Details!$C$12,Input_Details!$C$11)","v":93}]
[null,"17:30:00",{"$f":"OFFSET('Raw Data'!EJ74,Input_Details!$B$12,Input_Details!$B$11)","v":96},{"$f":"OFFSET('Raw Data'!EK74,Input_Details!$B$12,Input_Details!$B$11)","v":104},{"$f":"OFFSET('Raw Data'!EL74,Input_Details!$B$12,Input_Details!$B$11)","v":90},{"$f":"OFFSET('Raw Data'!EM74,Input_Details!$B$12,Input_Details!$B$11)","v":107},{"$f":"OFFSET('Raw Data'!EN74,Input_Details!$B$12,Input_Details!$B$11)","v":91},{"$f":"OFFSET('Raw Data'!EO74,Input_Details!$B$12,Input_Details!$B$11)","v":48},{"$f":"OFFSET('Raw Data'!EP74,Input_Details!$B$12,Input_Details!$B$11)","v":63},{"$f":"OFFSET('Raw Data'!DW746,Input_Details!$C$12,Input_Details!$C$11)","v":96},{"$f":"OFFSET('Raw Data'!DW842,Input_Details!$C$12,Input_Details!$C$11)","v":84}]
[null,"17:45:00",{"$f":"OFFSET('Raw Data'!EJ75,Input_Details!$B$12,Input_Details!$B$11)","v":97},{"$f":"OFFSET('Raw Data'!EK75,Input_Details!$B$12,Input_Details!$B$11)","v":124},{"$f":"OFFSET('Raw Data'!EL75,Input_Details!$B$12,Input_Details!$B$11)","v":99},{"$f":"OFFSET('Raw Data'!EM75,Input_Details!$B$12,Input_Details!$B$11)","v":99},{"$f":"OFFSET('Raw Data'!EN75,Input_Details!$B$12,Input_Details!$B$11)","v":109},{"$f":"OFFSET('Raw Data'!EO75,Input_Details!$B$12,Input_Details!$B$11)","v":60},{"$f":"OFFSET('Raw Data'!EP75,Input_Details!$B$12,Input_Details!$B$11)","v":70},{"$f":"OFFSET('Raw Data'!DW747,Input_Details!$C$12,Input_Details!$C$11)","v":105},{"$f":"OFFSET('Raw Data'!DW843,Input_Details!$C$12,Input_Details!$C$11)","v":93}]
[null,"18:00:00",{"$f":"OFFSET('Raw Data'!EJ76,Input_Details!$B$12,Input_Details!$B$11)","v":116},{"$f":"OFFSET('Raw Data'!EK76,Input_Details!$B$12,Input_Details!$B$11)","v":120},{"$f":"OFFSET('Raw Data'!EL76,Input_Details!$B$12,Input_Details!$B$11)","v":120},{"$f":"OFFSET('Raw Data'!EM76,Input_Details!$B$12,Input_Details!$B$11)","v":117},{"$f":"OFFSET('Raw Data'!EN76,Input_Details!$B$12,Input_Details!$B$11)","v":96},{"$f":"OFFSET('Raw Data'!EO76,Input_Details!$B$12,Input_Details!$B$11)","v":71},{"$f":"OFFSET('Raw Data'!EP76,Input_Details!$B$12,Input_Details!$B$11)","v":60},{"$f":"OFFSET('Raw Data'!DW748,Input_Details!$C$12,Input_Details!$C$11)","v":114},{"$f":"OFFSET('Raw Data'!DW844,Input_Details!$C$12,Input_Details!$C$11)","v":99}]
[null,"18:15:00",{"$f":"OFFSET('Raw Data'!EJ77,Input_Details!$B$12,Input_Details!$B$11)","v":92},{"$f":"OFFSET('Raw Data'!EK77,Input_Details!$B$12,Input_Details!$B$11)","v":104},{"$f":"OFFSET('Raw Data'!EL77,Input_Details!$B$12,Input_Details!$B$11)","v":122},{"$f":"OFFSET('Raw Data'!EM77,Input_Details!$B$12,Input_Details!$B$11)","v":106},{"$f":"OFFSET('Raw Data'!EN77,Input_Details!$B$12,Input_Details!$B$11)","v":105},{"$f":"OFFSET('Raw Data'!EO77,Input_Details!$B$12,Input_Details!$B$11)","v":70},{"$f":"OFFSET('Raw Data'!EP77,Input_Details!$B$12,Input_Details!$B$11)","v":72},{"$f":"OFFSET('Raw Data'!DW749,Input_Details!$C$12,Input_Details!$C$11)","v":105},{"$f":"OFFSET('Raw Data'!DW845,Input_Details!$C$12,Input_Details!$C$11)","v":96}]
[null,"18:30:00",{"$f":"OFFSET('Raw Data'!EJ78,Input_Details!$B$12,Input_Details!$B$11)","v":98},{"$f":"OFFSET('Raw Data'!EK78,Input_Details!$B$12,Input_Details!$B$11)","v":123},{"$f":"OFFSET('Raw Data'!EL78,Input_Details!$B$12,Input_Details!$B$11)","v":113},{"$f":"OFFSET('Raw Data'!EM78,Input_Details!$B$12,Input_Details!$B$11)","v":96},{"$f":"OFFSET('Raw Data'!EN78,Input_Details!$B$12,Input_Details!$B$11)","v":104},{"$f":"OFFSET('Raw Data'!EO78,Input_Details!$B$12,Input_Details!$B$11)","v":95},{"$f":"OFFSET('Raw Data'!EP78,Input_Details!$B$12,Input_Details!$B$11)","v":69},{"$f":"OFFSET('Raw Data'!DW750,Input_Details!$C$12,Input_Details!$C$11)","v":106},{"$f":"OFFSET('Raw Data'!DW846,Input_Details!$C$12,Input_Details!$C$11)","v":97}]
[null,"18:45:00",{"$f":"OFFSET('Raw Data'!EJ79,Input_Details!$B$12,Input_Details!$B$11)","v":90},{"$f":"OFFSET('Raw Data'!EK79,Input_Details!$B$12,Input_Details!$B$11)","v":107},{"$f":"OFFSET('Raw Data'!EL79,Input_Details!$B$12,Input_Details!$B$11)","v":105},{"$f":"OFFSET('Raw Data'!EM79,Input_Details!$B$12,Input_Details!$B$11)","v":89},{"$f":"OFFSET('Raw Data'!EN79,Input_Details!$B$12,Input_Details!$B$11)","v":105},{"$f":"OFFSET('Raw Data'!EO79,Input_Details!$B$12,Input_Details!$B$11)","v":75},{"$f":"OFFSET('Raw Data'!EP79,Input_Details!$B$12,Input_Details!$B$11)","v":68},{"$f":"OFFSET('Raw Data'!DW751,Input_Details!$C$12,Input_Details!$C$11)","v":98},{"$f":"OFFSET('Raw Data'!DW847,Input_Details!$C$12,Input_Details!$C$11)","v":90}]
[null,"19:00:00",{"$f":"OFFSET('Raw Data'!EJ80,Input_Details!$B$12,Input_Details!$B$11)","v":99},{"$f":"OFFSET('Raw Data'!EK80,Input_Details!$B$12,Input_Details!$B$11)","v":83},{"$f":"OFFSET('Raw Data'!EL80,Input_Details!$B$12,Input_Details!$B$11)","v":113},{"$f":"OFFSET('Raw Data'!EM80,Input_Details!$B$12,Input_Details!$B$11)","v":94},{"$f":"OFFSET('Raw Data'!EN80,Input_Details!$B$12,Input_Details!$B$11)","v":111},{"$f":"OFFSET('Raw Data'!EO80,Input_Details!$B$12,Input_Details!$B$11)","v":79},{"$f":"OFFSET('Raw Data'!EP80,Input_Details!$B$12,Input_Details!$B$11)","v":66},{"$f":"OFFSET('Raw Data'!DW752,Input_Details!$C$12,Input_Details!$C$11)","v":102},{"$f":"OFFSET('Raw Data'!DW848,Input_Details!$C$12,Input_Details!$C$11)","v":92}]
[null,"19:15:00",{"$f":"OFFSET('Raw Data'!EJ81,Input_Details!$B$12,Input_Details!$B$11)","v":76},{"$f":"OFFSET('Raw Data'!EK81,Input_Details!$B$12,Input_Details!$B$11)","v":84},{"$f":"OFFSET('Raw Data'!EL81,Input_Details!$B$12,Input_Details!$B$11)","v":111},{"$f":"OFFSET('Raw Data'!EM81,Input_Details!$B$12,Input_Details!$B$11)","v":83},{"$f":"OFFSET('Raw Data'!EN81,Input_Details!$B$12,Input_Details!$B$11)","v":73},{"$f":"OFFSET('Raw Data'!EO81,Input_Details!$B$12,Input_Details!$B$11)","v":66},{"$f":"OFFSET('Raw Data'!EP81,Input_Details!$B$12,Input_Details!$B$11)","v":72},{"$f":"OFFSET('Raw Data'!DW753,Input_Details!$C$12,Input_Details!$C$11)","v":86},{"$f":"OFFSET('Raw Data'!DW849,Input_Details!$C$12,Input_Details!$C$11)","v":80}]
[null,"19:30:00",{"$f":"OFFSET('Raw Data'!EJ82,Input_Details!$B$12,Input_Details!$B$11)","v":69},{"$f":"OFFSET('Raw Data'!EK82,Input_Details!$B$12,Input_Details!$B$11)","v":91},{"$f":"OFFSET('Raw Data'!EL82,Input_Details!$B$12,Input_Details!$B$11)","v":89},{"$f":"OFFSET('Raw Data'!EM82,Input_Details!$B$12,Input_Details!$B$11)","v":84},{"$f":"OFFSET('Raw Data'!EN82,Input_Details!$B$12,Input_Details!$B$11)","v":75},{"$f":"OFFSET('Raw Data'!EO82,Input_Details!$B$12,Input_Details!$B$11)","v":77},{"$f":"OFFSET('Raw Data'!EP82,Input_Details!$B$12,Input_Details!$B$11)","v":64},{"$f":"OFFSET('Raw Data'!DW754,Input_Details!$C$12,Input_Details!$C$11)","v":80},{"$f":"OFFSET('Raw Data'!DW850,Input_Details!$C$12,Input_Details!$C$11)","v":80}]
[null,"19:45:00",{"$f":"OFFSET('Raw Data'!EJ83,Input_Details!$B$12,Input_Details!$B$11)","v":63},{"$f":"OFFSET('Raw Data'!EK83,Input_Details!$B$12,Input_Details!$B$11)","v":72},{"$f":"OFFSET('Raw Data'!EL83,Input_Details!$B$12,Input_Details!$B$11)","v":85},{"$f":"OFFSET('Raw Data'!EM83,Input_Details!$B$12,Input_Details!$B$11)","v":74},{"$f":"OFFSET('Raw Data'!EN83,Input_Details!$B$12,Input_Details!$B$11)","v":89},{"$f":"OFFSET('Raw Data'!EO83,Input_Details!$B$12,Input_Details!$B$11)","v":51},{"$f":"OFFSET('Raw Data'!EP83,Input_Details!$B$12,Input_Details!$B$11)","v":59},{"$f":"OFFSET('Raw Data'!DW755,Input_Details!$C$12,Input_Details!$C$11)","v":75},{"$f":"OFFSET('Raw Data'!DW851,Input_Details!$C$12,Input_Details!$C$11)","v":71}]
[null,"20:00:00",{"$f":"OFFSET('Raw Data'!EJ84,Input_Details!$B$12,Input_Details!$B$11)","v":59},{"$f":"OFFSET('Raw Data'!EK84,Input_Details!$B$12,Input_Details!$B$11)","v":65},{"$f":"OFFSET('Raw Data'!EL84,Input_Details!$B$12,Input_Details!$B$11)","v":73},{"$f":"OFFSET('Raw Data'!EM84,Input_Details!$B$12,Input_Details!$B$11)","v":74},{"$f":"OFFSET('Raw Data'!EN84,Input_Details!$B$12,Input_Details!$B$11)","v":68},{"$f":"OFFSET('Raw Data'!EO84,Input_Details!$B$12,Input_Details!$B$11)","v":56},{"$f":"OFFSET('Raw Data'!EP84,Input_Details!$B$12,Input_Details!$B$11)","v":58},{"$f":"OFFSET('Raw Data'!DW756,Input_Details!$C$12,Input_Details!$C$11)","v":67},{"$f":"OFFSET('Raw Data'!DW852,Input_Details!$C$12,Input_Details!$C$11)","v":64}]
[null,"20:15:00",{"$f":"OFFSET('Raw Data'!EJ85,Input_Details!$B$12,Input_Details!$B$11)","v":60},{"$f":"OFFSET('Raw Data'!EK85,Input_Details!$B$12,Input_Details!$B$11)","v":61},{"$f":"OFFSET('Raw Data'!EL85,Input_Details!$B$12,Input_Details!$B$11)","v":75},{"$f":"OFFSET('Raw Data'!EM85,Input_Details!$B$12,Input_Details!$B$11)","v":68},{"$f":"OFFSET('Raw Data'!EN85,Input_Details!$B$12,Input_Details!$B$11)","v":55},{"$f":"OFFSET('Raw Data'!EO85,Input_Details!$B$12,Input_Details!$B$11)","v":67},{"$f":"OFFSET('Raw Data'!EP85,Input_Details!$B$12,Input_Details!$B$11)","v":52},{"$f":"OFFSET('Raw Data'!DW757,Input_Details!$C$12,Input_Details!$C$11)","v":63},{"$f":"OFFSET('Raw Data'!DW853,Input_Details!$C$12,Input_Details!$C$11)","v":60}]
[null,"20:30:00",{"$f":"OFFSET('Raw Data'!EJ86,Input_Details!$B$12,Input_Details!$B$11)","v":61},{"$f":"OFFSET('Raw Data'!EK86,Input_Details!$B$12,Input_Details!$B$11)","v":76},{"$f":"OFFSET('Raw Data'!EL86,Input_Details!$B$12,Input_Details!$B$11)","v":78},{"$f":"OFFSET('Raw Data'!EM86,Input_Details!$B$12,Input_Details!$B$11)","v":60},{"$f":"OFFSET('Raw Data'!EN86,Input_Details!$B$12,Input_Details!$B$11)","v":87},{"$f":"OFFSET('Raw Data'!EO86,Input_Details!$B$12,Input_Details!$B$11)","v":64},{"$f":"OFFSET('Raw Data'!EP86,Input_Details!$B$12,Input_Details!$B$11)","v":53},{"$f":"OFFSET('Raw Data'!DW758,Input_Details!$C$12,Input_Details!$C$11)","v":71},{"$f":"OFFSET('Raw Data'!DW854,Input_Details!$C$12,Input_Details!$C$11)","v":68}]
[null,"20:45:00",{"$f":"OFFSET('Raw Data'!EJ87,Input_Details!$B$12,Input_Details!$B$11)","v":53},{"$f":"OFFSET('Raw Data'!EK87,Input_Details!$B$12,Input_Details!$B$11)","v":60},{"$f":"OFFSET('Raw Data'!EL87,Input_Details!$B$12,Input_Details!$B$11)","v":67},{"$f":"OFFSET('Raw Data'!EM87,Input_Details!$B$12,Input_Details!$B$11)","v":59},{"$f":"OFFSET('Raw Data'!EN87,Input_Details!$B$12,Input_Details!$B$11)","v":67},{"$f":"OFFSET('Raw Data'!EO87,Input_Details!$B$12,Input_Details!$B$11)","v":67},{"$f":"OFFSET('Raw Data'!EP87,Input_Details!$B$12,Input_Details!$B$11)","v":58},{"$f":"OFFSET('Raw Data'!DW759,Input_Details!$C$12,Input_Details!$C$11)","v":60},{"$f":"OFFSET('Raw Data'!DW855,Input_Details!$C$12,Input_Details!$C$11)","v":61}]
[null,"21:00:00",{"$f":"OFFSET('Raw Data'!EJ88,Input_Details!$B$12,Input_Details!$B$11)","v":48},{"$f":"OFFSET('Raw Data'!EK88,Input_Details!$B$12,Input_Details!$B$11)","v":56},{"$f":"OFFSET('Raw Data'!EL88,Input_Details!$B$12,Input_Details!$B$11)","v":65},{"$f":"OFFSET('Raw Data'!EM88,Input_Details!$B$12,Input_Details!$B$11)","v":53},{"$f":"OFFSET('Raw Data'!EN88,Input_Details!$B$12,Input_Details!$B$11)","v":52},{"$f":"OFFSET('Raw Data'!EO88,Input_Details!$B$12,Input_Details!$B$11)","v":62},{"$f":"OFFSET('Raw Data'!EP88,Input_Details!$B$12,Input_Details!$B$11)","v":58},{"$f":"OFFSET('Raw Data'!DW760,Input_Details!$C$12,Input_Details!$C$11)","v":54},{"$f":"OFFSET('Raw Data'!DW856,Input_Details!$C$12,Input_Details!$C$11)","v":56}]
[null,"21:15:00",{"$f":"OFFSET('Raw Data'!EJ89,Input_Details!$B$12,Input_Details!$B$11)","v":45},{"$f":"OFFSET('Raw Data'!EK89,Input_Details!$B$12,Input_Details!$B$11)","v":46},{"$f":"OFFSET('Raw Data'!EL89,Input_Details!$B$12,Input_Details!$B$11)","v":32},{"$f":"OFFSET('Raw Data'!EM89,Input_Details!$B$12,Input_Details!$B$11)","v":61},{"$f":"OFFSET('Raw Data'!EN89,Input_Details!$B$12,Input_Details!$B$11)","v":56},{"$f":"OFFSET('Raw Data'!EO89,Input_Details!$B$12,Input_Details!$B$11)","v":56},{"$f":"OFFSET('Raw Data'!EP89,Input_Details!$B$12,Input_Details!$B$11)","v":38},{"$f":"OFFSET('Raw Data'!DW761,Input_Details!$C$12,Input_Details!$C$11)","v":47},{"$f":"OFFSET('Raw Data'!DW857,Input_Details!$C$12,Input_Details!$C$11)","v":47}]
[null,"21:30:00",{"$f":"OFFSET('Raw Data'!EJ90,Input_Details!$B$12,Input_Details!$B$11)","v":59},{"$f":"OFFSET('Raw Data'!EK90,Input_Details!$B$12,Input_Details!$B$11)","v":44},{"$f":"OFFSET('Raw Data'!EL90,Input_Details!$B$12,Input_Details!$B$11)","v":58},{"$f":"OFFSET('Raw Data'!EM90,Input_Details!$B$12,Input_Details!$B$11)","v":39},{"$f":"OFFSET('Raw Data'!EN90,Input_Details!$B$12,Input_Details!$B$11)","v":59},{"$f":"OFFSET('Raw Data'!EO90,Input_Details!$B$12,Input_Details!$B$11)","v":59},{"$f":"OFFSET('Raw Data'!EP90,Input_Details!$B$12,Input_Details!$B$11)","v":65},{"$f":"OFFSET('Raw Data'!DW762,Input_Details!$C$12,Input_Details!$C$11)","v":50},{"$f":"OFFSET('Raw Data'!DW858,Input_Details!$C$12,Input_Details!$C$11)","v":53}]
[null,"21:45:00",{"$f":"OFFSET('Raw Data'!EJ91,Input_Details!$B$12,Input_Details!$B$11)","v":51},{"$f":"OFFSET('Raw Data'!EK91,Input_Details!$B$12,Input_Details!$B$11)","v":51},{"$f":"OFFSET('Raw Data'!EL91,Input_Details!$B$12,Input_Details!$B$11)","v":52},{"$f":"OFFSET('Raw Data'!EM91,Input_Details!$B$12,Input_Details!$B$11)","v":48},{"$f":"OFFSET('Raw Data'!EN91,Input_Details!$B$12,Input_Details!$B$11)","v":57},{"$f":"OFFSET('Raw Data'!EO91,Input_Details!$B$12,Input_Details!$B$11)","v":65},{"$f":"OFFSET('Raw Data'!EP91,Input_Details!$B$12,Input_Details!$B$11)","v":50},{"$f":"OFFSET('Raw Data'!DW763,Input_Details!$C$12,Input_Details!$C$11)","v":51},{"$f":"OFFSET('Raw Data'!DW859,Input_Details!$C$12,Input_Details!$C$11)","v":52}]
[null,"22:00:00",{"$f":"OFFSET('Raw Data'!EJ92,Input_Details!$B$12,Input_Details!$B$11)","v":47},{"$f":"OFFSET('Raw Data'!EK92,Input_Details!$B$12,Input_Details!$B$11)","v":55},{"$f":"OFFSET('Raw Data'!EL92,Input_Details!$B$12,Input_Details!$B$11)","v":59},{"$f":"OFFSET('Raw Data'!EM92,Input_Details!$B$12,Input_Details!$B$11)","v":64},{"$f":"OFFSET('Raw Data'!EN92,Input_Details!$B$12,Input_Details!$B$11)","v":56},{"$f":"OFFSET('Raw Data'!EO92,Input_Details!$B$12,Input_Details!$B$11)","v":59},{"$f":"OFFSET('Raw Data'!EP92,Input_Details!$B$12,Input_Details!$B$11)","v":47},{"$f":"OFFSET('Raw Data'!DW764,Input_Details!$C$12,Input_Details!$C$11)","v":55},{"$f":"OFFSET('Raw Data'!DW860,Input_Details!$C$12,Input_Details!$C$11)","v":54}]
[null,"22:15:00",{"$f":"OFFSET('Raw Data'!EJ93,Input_Details!$B$12,Input_Details!$B$11)","v":58},{"$f":"OFFSET('Raw Data'!EK93,Input_Details!$B$12,Input_Details!$B$11)","v":66},{"$f":"OFFSET('Raw Data'!EL93,Input_Details!$B$12,Input_Details!$B$11)","v":71},{"$f":"OFFSET('Raw Data'!EM93,Input_Details!$B$12,Input_Details!$B$11)","v":36},{"$f":"OFFSET('Raw Data'!EN93,Input_Details!$B$12,Input_Details!$B$11)","v":53},{"$f":"OFFSET('Raw Data'!EO93,Input_Details!$B$12,Input_Details!$B$11)","v":76},{"$f":"OFFSET('Raw Data'!EP93,Input_Details!$B$12,Input_Details!$B$11)","v":41},{"$f":"OFFSET('Raw Data'!DW765,Input_Details!$C$12,Input_Details!$C$11)","v":57},{"$f":"OFFSET('Raw Data'!DW861,Input_Details!$C$12,Input_Details!$C$11)","v":55}]
[null,"22:30:00",{"$f":"OFFSET('Raw Data'!EJ94,Input_Details!$B$12,Input_Details!$B$11)","v":40},{"$f":"OFFSET('Raw Data'!EK94,Input_Details!$B$12,Input_Details!$B$11)","v":57},{"$f":"OFFSET('Raw Data'!EL94,Input_Details!$B$12,Input_Details!$B$11)","v":48},{"$f":"OFFSET('Raw Data'!EM94,Input_Details!$B$12,Input_Details!$B$11)","v":40},{"$f":"OFFSET('Raw Data'!EN94,Input_Details!$B$12,Input_Details!$B$11)","v":62},{"$f":"OFFSET('Raw Data'!EO94,Input_Details!$B$12,Input_Details!$B$11)","v":64},{"$f":"OFFSET('Raw Data'!EP94,Input_Details!$B$12,Input_Details!$B$11)","v":40},{"$f":"OFFSET('Raw Data'!DW766,Input_Details!$C$12,Input_Details!$C$11)","v":49},{"$f":"OFFSET('Raw Data'!DW862,Input_Details!$C$12,Input_Details!$C$11)","v":49}]
[null,"22:45:00",{"$f":"OFFSET('Raw Data'!EJ95,Input_Details!$B$12,Input_Details!$B$11)","v":40},{"$f":"OFFSET('Raw Data'!EK95,Input_Details!$B$12,Input_Details!$B$11)","v":52},{"$f":"OFFSET('Raw Data'!EL95,Input_Details!$B$12,Input_Details!$B$11)","v":47},{"$f":"OFFSET('Raw Data'!EM95,Input_Details!$B$12,Input_Details!$B$11)","v":49},{"$f":"OFFSET('Raw Data'!EN95,Input_Details!$B$12,Input_Details!$B$11)","v":68},{"$f":"OFFSET('Raw Data'!EO95,Input_Details!$B$12,Input_Details!$B$11)","v":58},{"$f":"OFFSET('Raw Data'!EP95,Input_Details!$B$12,Input_Details!$B$11)","v":43},{"$f":"OFFSET('Raw Data'!DW767,Input_Details!$C$12,Input_Details!$C$11)","v":52},{"$f":"OFFSET('Raw Data'!DW863,Input_Details!$C$12,Input_Details!$C$11)","v":51}]
[null,"23:00:00",{"$f":"OFFSET('Raw Data'!EJ96,Input_Details!$B$12,Input_Details!$B$11)","v":48},{"$f":"OFFSET('Raw Data'!EK96,Input_Details!$B$12,Input_Details!$B$11)","v":63},{"$f":"OFFSET('Raw Data'!EL96,Input_Details!$B$12,Input_Details!$B$11)","v":46},{"$f":"OFFSET('Raw Data'!EM96,Input_Details!$B$12,Input_Details!$B$11)","v":48},{"$f":"OFFSET('Raw Data'!EN96,Input_Details!$B$12,Input_Details!$B$11)","v":46},{"$f":"OFFSET('Raw Data'!EO96,Input_Details!$B$12,Input_Details!$B$11)","v":50},{"$f":"OFFSET('Raw Data'!EP96,Input_Details!$B$12,Input_Details!$B$11)","v":33},{"$f":"OFFSET('Raw Data'!DW768,Input_Details!$C$12,Input_Details!$C$11)","v":50},{"$f":"OFFSET('Raw Data'!DW864,Input_Details!$C$12,Input_Details!$C$11)","v":45}]
[null,"23:15:00",{"$f":"OFFSET('Raw Data'!EJ97,Input_Details!$B$12,Input_Details!$B$11)","v":34},{"$f":"OFFSET('Raw Data'!EK97,Input_Details!$B$12,Input_Details!$B$11)","v":34},{"$f":"OFFSET('Raw Data'!EL97,Input_Details!$B$12,Input_Details!$B$11)","v":45},{"$f":"OFFSET('Raw Data'!EM97,Input_Details!$B$12,Input_Details!$B$11)","v":51},{"$f":"OFFSET('Raw Data'!EN97,Input_Details!$B$12,Input_Details!$B$11)","v":66},{"$f":"OFFSET('Raw Data'!EO97,Input_Details!$B$12,Input_Details!$B$11)","v":56},{"$f":"OFFSET('Raw Data'!EP97,Input_Details!$B$12,Input_Details!$B$11)","v":33},{"$f":"OFFSET('Raw Data'!DW769,Input_Details!$C$12,Input_Details!$C$11)","v":44},{"$f":"OFFSET('Raw Data'!DW865,Input_Details!$C$12,Input_Details!$C$11)","v":44}]
[null,"23:30:00",{"$f":"OFFSET('Raw Data'!EJ98,Input_Details!$B$12,Input_Details!$B$11)","v":36},{"$f":"OFFSET('Raw Data'!EK98,Input_Details!$B$12,Input_Details!$B$11)","v":35},{"$f":"OFFSET('Raw Data'!EL98,Input_Details!$B$12,Input_Details!$B$11)","v":56},{"$f":"OFFSET('Raw Data'!EM98,Input_Details!$B$12,Input_Details!$B$11)","v":47},{"$f":"OFFSET('Raw Data'!EN98,Input_Details!$B$12,Input_Details!$B$11)","v":58},{"$f":"OFFSET('Raw Data'!EO98,Input_Details!$B$12,Input_Details!$B$11)","v":59},{"$f":"OFFSET('Raw Data'!EP98,Input_Details!$B$12,Input_Details!$B$11)","v":26},{"$f":"OFFSET('Raw Data'!DW770,Input_Details!$C$12,Input_Details!$C$11)","v":47},{"$f":"OFFSET('Raw Data'!DW866,Input_Details!$C$12,Input_Details!$C$11)","v":46}]
[null,"23:45:00",{"$f":"OFFSET('Raw Data'!EJ99,Input_Details!$B$12,Input_Details!$B$11)","v":20},{"$f":"OFFSET('Raw Data'!EK99,Input_Details!$B$12,Input_Details!$B$11)","v":60},{"$f":"OFFSET('Raw Data'!EL99,Input_Details!$B$12,Input_Details!$B$11)","v":29},{"$f":"OFFSET('Raw Data'!EM99,Input_Details!$B$12,Input_Details!$B$11)","v":35},{"$f":"OFFSET('Raw Data'!EN99,Input_Details!$B$12,Input_Details!$B$11)","v":36},{"$f":"OFFSET('Raw Data'!EO99,Input_Details!$B$12,Input_Details!$B$11)","v":51},{"$f":"OFFSET('Raw Data'!EP99,Input_Details!$B$12,Input_Details!$B$11)","v":27},{"$f":"OFFSET('Raw Data'!DW771,Input_Details!$C$12,Input_Details!$C$11)","v":35},{"$f":"OFFSET('Raw Data'!DW867,Input_Details!$C$12,Input_Details!$C$11)","v":37}]
[null,"Total",{"$f":"SUM(C17:C112)","v":4812},{"$f":"SUM(D17:D112)","v":5360},5638,5202,5430,4641,3713,{"$f":"SUM(J17:J112)","v":5215},4894]
[]
[null,"07:00-19:00",{"$f":"SUM(C45:C92)","v":3303},{"$f":"SUM(D45:D92)","v":3637},3749,3522,3563,2765,1983,3507,3171]
[null,"06:00-22:00",{"$f":"SUM(C41:C104)","v":4195},{"$f":"SUM(D41:D104)","v":4608},4826,4465,4563,3611,2762,4473,4091]
[null,"06:00-24:00",{"$f":"SUM(C41:C112)","v":4518},{"$f":"SUM(D41:D112)","v":5030},5227,4835,5008,4084,3052,4862,4472]
[null,"00:00-24:00",{"$f":"SUM(C17:C112)","v":4812},{"$f":"SUM(D17:D112)","v":5360},5638,5202,5430,4641,3713,5215,4894]

{"sheet":"Volume Summary-30min","index":5,"n_rows":70,"n_cols":22,"rows_kept":70,"cut":false,"hidden":false,"merged":[[5,8,5,9],[11,2,11,8],[0,8,0,9],[1,8,1,10],[2,8,2,10],[3,8,3,10],[6,8,6,9],[6,10,6,11],[11,9,13,9],[11,10,13,10],[7,1,9,6]]}
[]
[]
[]
[null,null,null,null,null,null,null,null,null,null,null,null,null,null,null,null,null,null,null,null,null,{"$f":"Input_Details!$I$1&\" - \"&Input_Details!$H$1","v":"3585-LON - Harper Road"}]
[null,null,null,null,null,null,null,null,null,null,null,null,null,null,null,null,null,null,null,null,null,{"$f":"\"prepared for \"&Input_Details!$J$1","v":"prepared for LB of Southwark"}]
[null,null,null,null,null,null,null,null,null,null,null,null,null,null,null,null,null,null,null,null,null,{"$f":"TEXT(MIN(C14:I14), \"dd mmm yyyy\")&\" - \"&TEXT(MAX(C14:I14), \"dd mmm yyyy\")","v":"20 Apr 2017 - 26 Apr 2017"}]
[]
[null,"30-min Volume Summary"]
[null,null,null,null,null,null,null,null,"Avg W'kday Total",null,{"$f":"+J65","v":5215}]
[null,null,null,null,null,null,null,null,"7 Day Avg Total",null,{"$f":"+K65","v":4894}]
[]
[null,null,"Day of Week",null,null,null,null,null,null,"W'kday Avg","7 Day Avg"]
[null,null,"Mon","Tue","Wed","Thu","Fri","Sat","Sun"]
[null,"Time",{"$f":"+Input_Details!Q3","v":"2017-04-24"},{"$f":"+Input_Details!R3","v":"2017-04-25"},{"$f":"+Input_Details!S3","v":"2017-04-26"},{"$f":"+Input_Details!T3","v":"2017-04-20"},{"$f":"+Input_Details!U3","v":"2017-04-21"},{"$f":"+Input_Details!V3","v":"2017-04-22"},{"$f":"+Input_Details!W3","v":"2017-04-23"}]
[null,"AM Peak",{"$f":"MAX(C31:C36)","v":132},{"$f":"MAX(D31:D36)","v":136},135,135,131,93,63,127,104]
[null,"PM Peak",{"$f":"MAX(C49:C54)","v":208},{"$f":"MAX(D49:D54)","v":230},242,223,209,170,137,219,195]
[null,"00:00:00",{"$f":"IF(COUNTIF('Volume Summary-15min'!C17:C18,\"-\")=2, \"-\", SUM('Volume Summary-15min'!C17:C18))","v":54},{"$f":"IF(COUNTIF('Volume Summary-15min'!D17:D18,\"-\")=2, \"-\", SUM('Volume Summary-15min'!D17:D18))","v":54},{"$f":"IF(COUNTIF('Volume Summary-15min'!E17:E18,\"-\")=2, \"-\", SUM('Volume Summary-15min'!E17:E18))","v":70},{"$f":"IF(COUNTIF('Volume Summary-15min'!F17:F18,\"-\")=2, \"-\", SUM('Volume Summary-15min'!F17:F18))","v":74},{"$f":"IF(COUNTIF('Volume Summary-15min'!G17:G18,\"-\")=2, \"-\", SUM('Volume Summary-15min'!G17:G18))","v":64},{"$f":"IF(COUNTIF('Volume Summary-15min'!H17:H18,\"-\")=2, \"-\", SUM('Volume Summary-15min'!H17:H18))","v":87},{"$f":"IF(COUNTIF('Volume Summary-15min'!I17:I18,\"-\")=2, \"-\", SUM('Volume Summary-15min'!I17:I18))","v":92},{"$f":"IF(COUNTIF('Volume Summary-15min'!J17:J18,\"-\")=2, \"-\", SUM('Volume Summary-15min'!J17:J18))","v":61},{"$f":"IF(COUNTIF('Volume Summary-15min'!K17:K18,\"-\")=2, \"-\", SUM('Volume Summary-15min'!K17:K18))","v":68}]
[null,"00:30:00",{"$f":"IF(COUNTIF('Volume Summary-15min'!C19:C20,\"-\")=2,\"-\",SUM('Volume Summary-15min'!C19:C20))","v":41},{"$f":"IF(COUNTIF('Volume Summary-15min'!D19:D20,\"-\")=2,\"-\",SUM('Volume Summary-15min'!D19:D20))","v":41},{"$f":"IF(COUNTIF('Volume Summary-15min'!E19:E20,\"-\")=2,\"-\",SUM('Volume Summary-15min'!E19:E20))","v":61},{"$f":"IF(COUNTIF('Volume Summary-15min'!F19:F20,\"-\")=2,\"-\",SUM('Volume Summary-15min'!F19:F20))","v":48},{"$f":"IF(COUNTIF('Volume Summary-15min'!G19:G20,\"-\")=2,\"-\",SUM('Volume Summary-15min'!G19:G20))","v":66},{"$f":"IF(COUNTIF('Volume Summary-15min'!H19:H20,\"-\")=2,\"-\",SUM('Volume Summary-15min'!H19:H20))","v":85},{"$f":"IF(COUNTIF('Volume Summary-15min'!I19:I20,\"-\")=2,\"-\",SUM('Volume Summary-15min'!I19:I20))","v":98},{"$f":"IF(COUNTIF('Volume Summary-15min'!J19:J20,\"-\")=2,\"-\",SUM('Volume Summary-15min'!J19:J20))","v":50},{"$f":"IF(COUNTIF('Volume Summary-15min'!K19:K20,\"-\")=2,\"-\",SUM('Volume Summary-15min'!K19:K20))","v":63}]
[null,"01:00:00",{"$f":"IF(COUNTIF('Volume Summary-15min'!C21:C22,\"-\")=2,\"-\",SUM('Volume Summary-15min'!C21:C22))","v":27},{"$f":"IF(COUNTIF('Volume Summary-15min'!D21:D22,\"-\")=2,\"-\",SUM('Volume Summary-15min'!D21:D22))","v":30},{"$f":"IF(COUNTIF('Volume Summary-15min'!E21:E22,\"-\")=2,\"-\",SUM('Volume Summary-15min'!E21:E22))","v":49},{"$f":"IF(COUNTIF('Volume Summary-15min'!F21:F22,\"-\")=2,\"-\",SUM('Volume Summary-15min'!F21:F22))","v":38},{"$f":"IF(COUNTIF('Volume Summary-15min'!G21:G22,\"-\")=2,\"-\",SUM('Volume Summary-15min'!G21:G22))","v":40},{"$f":"IF(COUNTIF('Volume Summary-15min'!H21:H22,\"-\")=2,\"-\",SUM('Volume Summary-15min'!H21:H22))","v":58},{"$f":"IF(COUNTIF('Volume Summary-15min'!I21:I22,\"-\")=2,\"-\",SUM('Volume Summary-15min'!I21:I22))","v":74},{"$f":"IF(COUNTIF('Volume Summary-15min'!J21:J22,\"-\")=2,\"-\",SUM('Volume Summary-15min'!J21:J22))","v":35},{"$f":"IF(COUNTIF('Volume Summary-15min'!K21:K22,\"-\")=2,\"-\",SUM('Volume Summary-15min'!K21:K22))","v":45}]
[null,"01:30:00",{"$f":"IF(COUNTIF('Volume Summary-15min'!C23:C24,\"-\")=2,\"-\",SUM('Volume Summary-15min'!C23:C24))","v":29},{"$f":"IF(COUNTIF('Volume Summary-15min'!D23:D24,\"-\")=2,\"-\",SUM('Volume Summary-15min'!D23:D24))","v":33},{"$f":"IF(COUNTIF('Volume Summary-15min'!E23:E24,\"-\")=2,\"-\",SUM('Volume Summary-15min'!E23:E24))","v":32},{"$f":"IF(COUNTIF('Volume Summary-15min'!F23:F24,\"-\")=2,\"-\",SUM('Volume Summary-15min'!F23:F24))","v":29},{"$f":"IF(COUNTIF('Volume Summary-15min'!G23:G24,\"-\")=2,\"-\",SUM('Volume Summary-15min'!G23:G24))","v":40},{"$f":"IF(COUNTIF('Volume Summary-15min'!H23:H24,\"-\")=2,\"-\",SUM('Volume Summary-15min'!H23:H24))","v":50},{"$f":"IF(COUNTIF('Volume Summary-15min'!I23:I24,\"-\")=2,\"-\",SUM('Volume Summary-15min'!I23:I24))","v":56},{"$f":"IF(COUNTIF('Volume Summary-15min'!J23:J24,\"-\")=2,\"-\",SUM('Volume Summary-15min'!J23:J24))","v":30},{"$f":"IF(COUNTIF('Volume Summary-15min'!K23:K24,\"-\")=2,\"-\",SUM('Volume Summary-15min'!K23:K24))","v":35}]
[null,"02:00:00",{"$f":"IF(COUNTIF('Volume Summary-15min'!C25:C26,\"-\")=2,\"-\",SUM('Volume Summary-15min'!C25:C26))","v":18},{"$f":"IF(COUNTIF('Volume Summary-15min'!D25:D26,\"-\")=2,\"-\",SUM('Volume Summary-15min'!D25:D26))","v":16},{"$f":"IF(COUNTIF('Volume Summary-15min'!E25:E26,\"-\")=2,\"-\",SUM('Volume Summary-15min'!E25:E26))","v":26},{"$f":"IF(COUNTIF('Volume Summary-15min'!F25:F26,\"-\")=2,\"-\",SUM('Volume Summary-15min'!F25:F26))","v":30},{"$f":"IF(COUNTIF('Volume Summary-15min'!G25:G26,\"-\")=2,\"-\",SUM('Volume Summary-15min'!G25:G26))","v":26},{"$f":"IF(COUNTIF('Volume Summary-15min'!H25:H26,\"-\")=2,\"-\",SUM('Volume Summary-15min'!H25:H26))","v":51},{"$f":"IF(COUNTIF('Volume Summary-15min'!I25:I26,\"-\")=2,\"-\",SUM('Volume Summary-15min'!I25:I26))","v":72},{"$f":"IF(COUNTIF('Volume Summary-15min'!J25:J26,\"-\")=2,\"-\",SUM('Volume Summary-15min'!J25:J26))","v":22},{"$f":"IF(COUNTIF('Volume Summary-15min'!K25:K26,\"-\")=2,\"-\",SUM('Volume Summary-15min'!K25:K26))","v":33}]
[null,"02:30:00",{"$f":"IF(COUNTIF('Volume Summary-15min'!C27:C28,\"-\")=2,\"-\",SUM('Volume Summary-15min'!C27:C28))","v":8},{"$f":"IF(COUNTIF('Volume Summary-15min'!D27:D28,\"-\")=2,\"-\",SUM('Volume Summary-15min'!D27:D28))","v":10},{"$f":"IF(COUNTIF('Volume Summary-15min'!E27:E28,\"-\")=2,\"-\",SUM('Volume Summary-15min'!E27:E28))","v":19},{"$f":"IF(COUNTIF('Volume Summary-15min'!F27:F28,\"-\")=2,\"-\",SUM('Volume Summary-15min'!F27:F28))","v":17},{"$f":"IF(COUNTIF('Volume Summary-15min'!G27:G28,\"-\")=2,\"-\",SUM('Volume Summary-15min'!G27:G28))","v":27},{"$f":"IF(COUNTIF('Volume Summary-15min'!H27:H28,\"-\")=2,\"-\",SUM('Volume Summary-15min'!H27:H28))","v":36},{"$f":"IF(COUNTIF('Volume Summary-15min'!I27:I28,\"-\")=2,\"-\",SUM('Volume Summary-15min'!I27:I28))","v":58},{"$f":"IF(COUNTIF('Volume Summary-15min'!J27:J28,\"-\")=2,\"-\",SUM('Volume Summary-15min'!J27:J28))","v":16},{"$f":"IF(COUNTIF('Volume Summary-15min'!K27:K28,\"-\")=2,\"-\",SUM('Volume Summary-15min'!K27:K28))","v":25}]
[null,"03:00:00",{"$f":"IF(COUNTIF('Volume Summary-15min'!C29:C30,\"-\")=2,\"-\",SUM('Volume Summary-15min'!C29:C30))","v":19},{"$f":"IF(COUNTIF('Volume Summary-15min'!D29:D30,\"-\")=2,\"-\",SUM('Volume Summary-15min'!D29:D30))","v":17},{"$f":"IF(COUNTIF('Volume Summary-15min'!E29:E30,\"-\")=2,\"-\",SUM('Volume Summary-15min'!E29:E30))","v":28},{"$f":"IF(COUNTIF('Volume Summary-15min'!F29:F30,\"-\")=2,\"-\",SUM('Volume Summary-15min'!F29:F30))","v":14},{"$f":"IF(COUNTIF('Volume Summary-15min'!G29:G30,\"-\")=2,\"-\",SUM('Volume Summary-15min'!G29:G30))","v":21},{"$f":"IF(COUNTIF('Volume Summary-15min'!H29:H30,\"-\")=2,\"-\",SUM('Volume Summary-15min'!H29:H30))","v":33},{"$f":"IF(COUNTIF('Volume Summary-15min'!I29:I30,\"-\")=2,\"-\",SUM('Volume Summary-15min'!I29:I30))","v":46},{"$f":"IF(COUNTIF('Volume Summary-15min'!J29:J30,\"-\")=2,\"-\",SUM('Volume Summary-15min'!J29:J30))","v":19},{"$f":"IF(COUNTIF('Volume Summary-15min'!K29:K30,\"-\")=2,\"-\",SUM('Volume Summary-15min'!K29:K30))","v":24}]
[null,"03:30:00",{"$f":"IF(COUNTIF('Volume Summary-15min'!C31:C32,\"-\")=2,\"-\",SUM('Volume Summary-15min'!C31:C32))","v":13},{"$f":"IF(COUNTIF('Volume Summary-15min'!D31:D32,\"-\")=2,\"-\",SUM('Volume Summary-15min'!D31:D32))","v":16},{"$f":"IF(COUNTIF('Volume Summary-15min'!E31:E32,\"-\")=2,\"-\",SUM('Volume Summary-15min'!E31:E32))","v":18},{"$f":"IF(COUNTIF('Volume Summary-15min'!F31:F32,\"-\")=2,\"-\",SUM('Volume Summary-15min'!F31:F32))","v":17},{"$f":"IF(COUNTIF('Volume Summary-15min'!G31:G32,\"-\")=2,\"-\",SUM('Volume Summary-15min'!G31:G32))","v":29},{"$f":"IF(COUNTIF('Volume Summary-15min'!H31:H32,\"-\")=2,\"-\",SUM('Volume Summary-15min'!H31:H32))","v":33},{"$f":"IF(COUNTIF('Volume Summary-15min'!I31:I32,\"-\")=2,\"-\",SUM('Volume Summary-15min'!I31:I32))","v":41},{"$f":"IF(COUNTIF('Volume Summary-15min'!J31:J32,\"-\")=2,\"-\",SUM('Volume Summary-15min'!J31:J32))","v":19},{"$f":"IF(COUNTIF('Volume Summary-15min'!K31:K32,\"-\")=2,\"-\",SUM('Volume Summary-15min'!K31:K32))","v":22}]
[null,"04:00:00",{"$f":"IF(COUNTIF('Volume Summary-15min'!C33:C34,\"-\")=2,\"-\",SUM('Volume Summary-15min'!C33:C34))","v":13},{"$f":"IF(COUNTIF('Volume Summary-15min'!D33:D34,\"-\")=2,\"-\",SUM('Volume Summary-15min'!D33:D34))","v":16},{"$f":"IF(COUNTIF('Volume Summary-15min'!E33:E34,\"-\")=2,\"-\",SUM('Volume Summary-15min'!E33:E34))","v":20},{"$f":"IF(COUNTIF('Volume Summary-15min'!F33:F34,\"-\")=2,\"-\",SUM('Volume Summary-15min'!F33:F34))","v":20},{"$f":"IF(COUNTIF('Volume Summary-15min'!G33:G34,\"-\")=2,\"-\",SUM('Volume Summary-15min'!G33:G34))","v":19},{"$f":"IF(COUNTIF('Volume Summary-15min'!H33:H34,\"-\")=2,\"-\",SUM('Volume Summary-15min'!H33:H34))","v":22},{"$f":"IF(COUNTIF('Volume Summary-15min'!I33:I34,\"-\")=2,\"-\",SUM('Volume Summary-15min'!I33:I34))","v":28},{"$f":"IF(COUNTIF('Volume Summary-15min'!J33:J34,\"-\")=2,\"-\",SUM('Volume Summary-15min'!J33:J34))","v":17},{"$f":"IF(COUNTIF('Volume Summary-15min'!K33:K34,\"-\")=2,\"-\",SUM('Volume Summary-15min'!K33:K34))","v":19}]
[null,"04:30:00",{"$f":"IF(COUNTIF('Volume Summary-15min'!C35:C36,\"-\")=2,\"-\",SUM('Volume Summary-15min'!C35:C36))","v":15},{"$f":"IF(COUNTIF('Volume Summary-15min'!D35:D36,\"-\")=2,\"-\",SUM('Volume Summary-15min'!D35:D36))","v":25},{"$f":"IF(COUNTIF('Volume Summary-15min'!E35:E36,\"-\")=2,\"-\",SUM('Volume Summary-15min'!E35:E36))","v":21},{"$f":"IF(COUNTIF('Volume Summary-15min'!F35:F36,\"-\")=2,\"-\",SUM('Volume Summary-15min'!F35:F36))","v":20},{"$f":"IF(COUNTIF('Volume Summary-15min'!G35:G36,\"-\")=2,\"-\",SUM('Volume Summary-15min'!G35:G36))","v":19},{"$f":"IF(COUNTIF('Volume Summary-15min'!H35:H36,\"-\")=2,\"-\",SUM('Volume Summary-15min'!H35:H36))","v":31},{"$f":"IF(COUNTIF('Volume Summary-15min'!I35:I36,\"-\")=2,\"-\",SUM('Volume Summary-15min'!I35:I36))","v":25},{"$f":"IF(COUNTIF('Volume Summary-15min'!J35:J36,\"-\")=2,\"-\",SUM('Volume Summary-15min'!J35:J36))","v":18},{"$f":"IF(COUNTIF('Volume Summary-15min'!K35:K36,\"-\")=2,\"-\",SUM('Volume Summary-15min'!K35:K36))","v":22}]
[null,"05:00:00",{"$f":"IF(COUNTIF('Volume Summary-15min'!C37:C38,\"-\")=2,\"-\",SUM('Volume Summary-15min'!C37:C38))","v":27},{"$f":"IF(COUNTIF('Volume Summary-15min'!D37:D38,\"-\")=2,\"-\",SUM('Volume Summary-15min'!D37:D38))","v":26},{"$f":"IF(COUNTIF('Volume Summary-15min'!E37:E38,\"-\")=2,\"-\",SUM('Volume Summary-15min'!E37:E38))","v":23},{"$f":"IF(COUNTIF('Volume Summary-15min'!F37:F38,\"-\")=2,\"-\",SUM('Volume Summary-15min'!F37:F38))","v":26},{"$f":"IF(COUNTIF('Volume Summary-15min'!G37:G38,\"-\")=2,\"-\",SUM('Volume Summary-15min'!G37:G38))","v":34},{"$f":"IF(COUNTIF('Volume Summary-15min'!H37:H38,\"-\")=2,\"-\",SUM('Volume Summary-15min'!H37:H38))","v":45},{"$f":"IF(COUNTIF('Volume Summary-15min'!I37:I38,\"-\")=2,\"-\",SUM('Volume Summary-15min'!I37:I38))","v":35},{"$f":"IF(COUNTIF('Volume Summary-15min'!J37:J38,\"-\")=2,\"-\",SUM('Volume Summary-15min'!J37:J38))","v":28},{"$f":"IF(COUNTIF('Volume Summary-15min'!K37:K38,\"-\")=2,\"-\",SUM('Volume Summary-15min'!K37:K38))","v":31}]
[null,"05:30:00",{"$f":"IF(COUNTIF('Volume Summary-15min'!C39:C40,\"-\")=2,\"-\",SUM('Volume Summary-15min'!C39:C40))","v":30},{"$f":"IF(COUNTIF('Volume Summary-15min'!D39:D40,\"-\")=2,\"-\",SUM('Volume Summary-15min'!D39:D40))","v":46},{"$f":"IF(COUNTIF('Volume Summary-15min'!E39:E40,\"-\")=2,\"-\",SUM('Volume Summary-15min'!E39:E40))","v":44},{"$f":"IF(COUNTIF('Volume Summary-15min'!F39:F40,\"-\")=2,\"-\",SUM('Volume Summary-15min'!F39:F40))","v":34},{"$f":"IF(COUNTIF('Volume Summary-15min'!G39:G40,\"-\")=2,\"-\",SUM('Volume Summary-15min'!G39:G40))","v":37},{"$f":"IF(COUNTIF('Volume Summary-15min'!H39:H40,\"-\")=2,\"-\",SUM('Volume Summary-15min'!H39:H40))","v":26},{"$f":"IF(COUNTIF('Volume Summary-15min'!I39:I40,\"-\")=2,\"-\",SUM('Volume Summary-15min'!I39:I40))","v":36},{"$f":"IF(COUNTIF('Volume Summary-15min'!J39:J40,\"-\")=2,\"-\",SUM('Volume Summary-15min'!J39:J40))","v":38},{"$f":"IF(COUNTIF('Volume Summary-15min'!K39:K40,\"-\")=2,\"-\",SUM('Volume Summary-15min'!K39:K40))","v":35}]
[null,"06:00:00",{"$f":"IF(COUNTIF('Volume Summary-15min'!C41:C42,\"-\")=2,\"-\",SUM('Volume Summary-15min'!C41:C42))","v":57},{"$f":"IF(COUNTIF('Volume Summary-15min'!D41:D42,\"-\")=2,\"-\",SUM('Volume Summary-15min'!D41:D42))","v":75},{"$f":"IF(COUNTIF('Volume Summary-15min'!E41:E42,\"-\")=2,\"-\",SUM('Volume Summary-15min'!E41:E42))","v":68},{"$f":"IF(COUNTIF('Volume Summary-15min'!F41:F42,\"-\")=2,\"-\",SUM('Volume Summary-15min'!F41:F42))","v":60},{"$f":"IF(COUNTIF('Volume Summary-15min'!G41:G42,\"-\")=2,\"-\",SUM('Volume Summary-15min'!G41:G42))","v":58},{"$f":"IF(COUNTIF('Volume Summary-15min'!H41:H42,\"-\")=2,\"-\",SUM('Volume Summary-15min'!H41:H42))","v":36},{"$f":"IF(COUNTIF('Volume Summary-15min'!I41:I42,\"-\")=2,\"-\",SUM('Volume Summary-15min'!I41:I42))","v":38},{"$f":"IF(COUNTIF('Volume Summary-15min'!J41:J42,\"-\")=2,\"-\",SUM('Volume Summary-15min'!J41:J42))","v":63},{"$f":"IF(COUNTIF('Volume Summary-15min'!K41:K42,\"-\")=2,\"-\",SUM('Volume Summary-15min'!K41:K42))","v":55}]
[null,"06:30:00",{"$f":"IF(COUNTIF('Volume Summary-15min'!C43:C44,\"-\")=2,\"-\",SUM('Volume Summary-15min'!C43:C44))","v":92},{"$f":"IF(COUNTIF('Volume Summary-15min'!D43:D44,\"-\")=2,\"-\",SUM('Volume Summary-15min'!D43:D44))","v":107},{"$f":"IF(COUNTIF('Volume Summary-15min'!E43:E44,\"-\")=2,\"-\",SUM('Volume Summary-15min'!E43:E44))","v":111},{"$f":"IF(COUNTIF('Volume Summary-15min'!F43:F44,\"-\")=2,\"-\",SUM('Volume Summary-15min'!F43:F44))","v":86},{"$f":"IF(COUNTIF('Volume Summary-15min'!G43:G44,\"-\")=2,\"-\",SUM('Volume Summary-15min'!G43:G44))","v":93},{"$f":"IF(COUNTIF('Volume Summary-15min'!H43:H44,\"-\")=2,\"-\",SUM('Volume Summary-15min'!H43:H44))","v":41},{"$f":"IF(COUNTIF('Volume Summary-15min'!I43:I44,\"-\")=2,\"-\",SUM('Volume Summary-15min'!I43:I44))","v":48},{"$f":"IF(COUNTIF('Volume Summary-15min'!J43:J44,\"-\")=2,\"-\",SUM('Volume Summary-15min'!J43:J44))","v":97},{"$f":"IF(COUNTIF('Volume Summary-15min'!K43:K44,\"-\")=2,\"-\",SUM('Volume Summary-15min'!K43:K44))","v":81}]
[null,"07:00:00",{"$f":"IF(COUNTIF('Volume Summary-15min'!C45:C46,\"-\")=2,\"-\",SUM('Volume Summary-15min'!C45:C46))","v":70},{"$f":"IF(COUNTIF('Volume Summary-15min'!D45:D46,\"-\")=2,\"-\",SUM('Volume Summary-15min'!D45:D46))","v":71},{"$f":"IF(COUNTIF('Volume Summary-15min'!E45:E46,\"-\")=2,\"-\",SUM('Volume Summary-15min'!E45:E46))","v":104},{"$f":"IF(COUNTIF('Volume Summary-15min'!F45:F46,\"-\")=2,\"-\",SUM('Volume Summary-15min'!F45:F46))","v":87},{"$f":"IF(COUNTIF('Volume Summary-15min'!G45:G46,\"-\")=2,\"-\",SUM('Volume Summary-15min'!G45:G46))","v":78},{"$f":"IF(COUNTIF('Volume Summary-15min'!H45:H46,\"-\")=2,\"-\",SUM('Volume Summary-15min'!H45:H46))","v":43},{"$f":"IF(COUNTIF('Volume Summary-15min'!I45:I46,\"-\")=2,\"-\",SUM('Volume Summary-15min'!I45:I46))","v":38},{"$f":"IF(COUNTIF('Volume Summary-15min'!J45:J46,\"-\")=2,\"-\",SUM('Volume Summary-15min'!J45:J46))","v":81},{"$f":"IF(COUNTIF('Volume Summary-15min'!K45:K46,\"-\")=2,\"-\",SUM('Volume Summary-15min'!K45:K46))","v":70}]
[null,"07:30:00",{"$f":"IF(COUNTIF('Volume Summary-15min'!C47:C48,\"-\")=2,\"-\",SUM('Volume Summary-15min'!C47:C48))","v":107},{"$f":"IF(COUNTIF('Volume Summary-15min'!D47:D48,\"-\")=2,\"-\",SUM('Volume Summary-15min'!D47:D48))","v":126},{"$f":"IF(COUNTIF('Volume Summary-15min'!E47:E48,\"-\")=2,\"-\",SUM('Volume Summary-15min'!E47:E48))","v":127},{"$f":"IF(COUNTIF('Volume Summary-15min'!F47:F48,\"-\")=2,\"-\",SUM('Volume Summary-15min'!F47:F48))","v":106},{"$f":"IF(COUNTIF('Volume Summary-15min'!G47:G48,\"-\")=2,\"-\",SUM('Volume Summary-15min'!G47:G48))","v":113},{"$f":"IF(COUNTIF('Volume Summary-15min'!H47:H48,\"-\")=2,\"-\",SUM('Volume Summary-15min'!H47:H48))","v":58},{"$f":"IF(COUNTIF('Volume Summary-15min'!I47:I48,\"-\")=2,\"-\",SUM('Volume Summary-15min'!I47:I48))","v":35},{"$f":"IF(COUNTIF('Volume Summary-15min'!J47:J48,\"-\")=2,\"-\",SUM('Volume Summary-15min'!J47:J48))","v":115},{"$f":"IF(COUNTIF('Volume Summary-15min'!K47:K48,\"-\")=2,\"-\",SUM('Volume Summary-15min'!K47:K48))","v":94}]
[null,"08:00:00",{"$f":"IF(COUNTIF('Volume Summary-15min'!C49:C50,\"-\")=2,\"-\",SUM('Volume Summary-15min'!C49:C50))","v":132},{"$f":"IF(COUNTIF('Volume Summary-15min'!D49:D50,\"-\")=2,\"-\",SUM('Volume Summary-15min'!D49:D50))","v":134},{"$f":"IF(COUNTIF('Volume Summary-15min'!E49:E50,\"-\")=2,\"-\",SUM('Volume Summary-15min'!E49:E50))","v":122},{"$f":"IF(COUNTIF('Volume Summary-15min'!F49:F50,\"-\")=2,\"-\",SUM('Volume Summary-15min'!F49:F50))","v":122},{"$f":"IF(COUNTIF('Volume Summary-15min'!G49:G50,\"-\")=2,\"-\",SUM('Volume Summary-15min'!G49:G50))","v":124},{"$f":"IF(COUNTIF('Volume Summary-15min'!H49:H50,\"-\")=2,\"-\",SUM('Volume Summary-15min'!H49:H50))","v":64},{"$f":"IF(COUNTIF('Volume Summary-15min'!I49:I50,\"-\")=2,\"-\",SUM('Volume Summary-15min'!I49:I50))","v":39},{"$f":"IF(COUNTIF('Volume Summary-15min'!J49:J50,\"-\")=2,\"-\",SUM('Volume Summary-15min'!J49:J50))","v":124},{"$f":"IF(COUNTIF('Volume Summary-15min'!K49:K50,\"-\")=2,\"-\",SUM('Volume Summary-15min'!K49:K50))","v":103}]
[null,"08:30:00",{"$f":"IF(COUNTIF('Volume Summary-15min'!C51:C52,\"-\")=2,\"-\",SUM('Volume Summary-15min'!C51:C52))","v":122},{"$f":"IF(COUNTIF('Volume Summary-15min'!D51:D52,\"-\")=2,\"-\",SUM('Volume Summary-15min'!D51:D52))","v":136},{"$f":"IF(COUNTIF('Volume Summary-15min'!E51:E52,\"-\")=2,\"-\",SUM('Volume Summary-15min'!E51:E52))","v":127},{"$f":"IF(COUNTIF('Volume Summary-15min'!F51:F52,\"-\")=2,\"-\",SUM('Volume Summary-15min'!F51:F52))","v":135},{"$f":"IF(COUNTIF('Volume Summary-15min'!G51:G52,\"-\")=2,\"-\",SUM('Volume Summary-15min'!G51:G52))","v":131},{"$f":"IF(COUNTIF('Volume Summary-15min'!H51:H52,\"-\")=2,\"-\",SUM('Volume Summary-15min'!H51:H52))","v":61},{"$f":"IF(COUNTIF('Volume Summary-15min'!I51:I52,\"-\")=2,\"-\",SUM('Volume Summary-15min'!I51:I52))","v":34},{"$f":"IF(COUNTIF('Volume Summary-15min'!J51:J52,\"-\")=2,\"-\",SUM('Volume Summary-15min'!J51:J52))","v":127},{"$f":"IF(COUNTIF('Volume Summary-15min'!K51:K52,\"-\")=2,\"-\",SUM('Volume Summary-15min'!K51:K52))","v":104}]
[null,"09:00:00",{"$f":"IF(COUNTIF('Volume Summary-15min'!C53:C54,\"-\")=2,\"-\",SUM('Volume Summary-15min'!C53:C54))","v":129},{"$f":"IF(COUNTIF('Volume Summary-15min'!D53:D54,\"-\")=2,\"-\",SUM('Volume Summary-15min'!D53:D54))","v":120},{"$f":"IF(COUNTIF('Volume Summary-15min'!E53:E54,\"-\")=2,\"-\",SUM('Volume Summary-15min'!E53:E54))","v":135},{"$f":"IF(COUNTIF('Volume Summary-15min'!F53:F54,\"-\")=2,\"-\",SUM('Volume Summary-15min'!F53:F54))","v":107},{"$f":"IF(COUNTIF('Volume Summary-15min'!G53:G54,\"-\")=2,\"-\",SUM('Volume Summary-15min'!G53:G54))","v":126},{"$f":"IF(COUNTIF('Volume Summary-15min'!H53:H54,\"-\")=2,\"-\",SUM('Volume Summary-15min'!H53:H54))","v":85},{"$f":"IF(COUNTIF('Volume Summary-15min'!I53:I54,\"-\")=2,\"-\",SUM('Volume Summary-15min'!I53:I54))","v":38},{"$f":"IF(COUNTIF('Volume Summary-15min'!J53:J54,\"-\")=2,\"-\",SUM('Volume Summary-15min'!J53:J54))","v":121},{"$f":"IF(COUNTIF('Volume Summary-15min'!K53:K54,\"-\")=2,\"-\",SUM('Volume Summary-15min'!K53:K54))","v":102}]
[null,"09:30:00",{"$f":"IF(COUNTIF('Volume Summary-15min'!C55:C56,\"-\")=2,\"-\",SUM('Volume Summary-15min'!C55:C56))","v":93},{"$f":"IF(COUNTIF('Volume Summary-15min'!D55:D56,\"-\")=2,\"-\",SUM('Volume Summary-15min'!D55:D56))","v":124},{"$f":"IF(COUNTIF('Volume Summary-15min'!E55:E56,\"-\")=2,\"-\",SUM('Volume Summary-15min'!E55:E56))","v":99},{"$f":"IF(COUNTIF('Volume Summary-15min'!F55:F56,\"-\")=2,\"-\",SUM('Volume Summary-15min'!F55:F56))","v":97},{"$f":"IF(COUNTIF('Volume Summary-15min'!G55:G56,\"-\")=2,\"-\",SUM('Volume Summary-15min'!G55:G56))","v":124},{"$f":"IF(COUNTIF('Volume Summary-15min'!H55:H56,\"-\")=2,\"-\",SUM('Volume Summary-15min'!H55:H56))","v":93},{"$f":"IF(COUNTIF('Volume Summary-15min'!I55:I56,\"-\")=2,\"-\",SUM('Volume Summary-15min'!I55:I56))","v":63},{"$f":"IF(COUNTIF('Volume Summary-15min'!J55:J56,\"-\")=2,\"-\",SUM('Volume Summary-15min'!J55:J56))","v":103},{"$f":"IF(COUNTIF('Volume Summary-15min'!K55:K56,\"-\")=2,\"-\",SUM('Volume Summary-15min'!K55:K56))","v":96}]
[null,"10:00:00",{"$f":"IF(COUNTIF('Volume Summary-15min'!C57:C58,\"-\")=2,\"-\",SUM('Volume Summary-15min'!C57:C58))","v":116},{"$f":"IF(COUNTIF('Volume Summary-15min'!D57:D58,\"-\")=2,\"-\",SUM('Volume Summary-15min'!D57:D58))","v":103},{"$f":"IF(COUNTIF('Volume Summary-15min'!E57:E58,\"-\")=2,\"-\",SUM('Volume Summary-15min'!E57:E58))","v":141},{"$f":"IF(COUNTIF('Volume Summary-15min'!F57:F58,\"-\")=2,\"-\",SUM('Volume Summary-15min'!F57:F58))","v":117},{"$f":"IF(COUNTIF('Volume Summary-15min'!G57:G58,\"-\")=2,\"-\",SUM('Volume Summary-15min'!G57:G58))","v":96},{"$f":"IF(COUNTIF('Volume Summary-15min'!H57:H58,\"-\")=2,\"-\",SUM('Volume Summary-15min'!H57:H58))","v":102},{"$f":"IF(COUNTIF('Volume Summary-15min'!I57:I58,\"-\")=2,\"-\",SUM('Volume Summary-15min'!I57:I58))","v":51},{"$f":"IF(COUNTIF('Volume Summary-15min'!J57:J58,\"-\")=2,\"-\",SUM('Volume Summary-15min'!J57:J58))","v":112},{"$f":"IF(COUNTIF('Volume Summary-15min'!K57:K58,\"-\")=2,\"-\",SUM('Volume Summary-15min'!K57:K58))","v":102}]
[null,"10:30:00",{"$f":"IF(COUNTIF('Volume Summary-15min'!C59:C60,\"-\")=2,\"-\",SUM('Volume Summary-15min'!C59:C60))","v":123},{"$f":"IF(COUNTIF('Volume Summary-15min'!D59:D60,\"-\")=2,\"-\",SUM('Volume Summary-15min'!D59:D60))","v":152},{"$f":"IF(COUNTIF('Volume Summary-15min'!E59:E60,\"-\")=2,\"-\",SUM('Volume Summary-15min'!E59:E60))","v":125},{"$f":"IF(COUNTIF('Volume Summary-15min'!F59:F60,\"-\")=2,\"-\",SUM('Volume Summary-15min'!F59:F60))","v":130},{"$f":"IF(COUNTIF('Volume Summary-15min'!G59:G60,\"-\")=2,\"-\",SUM('Volume Summary-15min'!G59:G60))","v":118},{"$f":"IF(COUNTIF('Volume Summary-15min'!H59:H60,\"-\")=2,\"-\",SUM('Volume Summary-15min'!H59:H60))","v":94},{"$f":"IF(COUNTIF('Volume Summary-15min'!I59:I60,\"-\")=2,\"-\",SUM('Volume Summary-15min'!I59:I60))","v":73},{"$f":"IF(COUNTIF('Volume Summary-15min'!J59:J60,\"-\")=2,\"-\",SUM('Volume Summary-15min'!J59:J60))","v":130},{"$f":"IF(COUNTIF('Volume Summary-15min'!K59:K60,\"-\")=2,\"-\",SUM('Volume Summary-15min'!K59:K60))","v":116}]
[null,"11:00:00",{"$f":"IF(COUNTIF('Volume Summary-15min'!C61:C62,\"-\")=2,\"-\",SUM('Volume Summary-15min'!C61:C62))","v":119},{"$f":"IF(COUNTIF('Volume Summary-15min'!D61:D62,\"-\")=2,\"-\",SUM('Volume Summary-15min'!D61:D62))","v":113},{"$f":"IF(COUNTIF('Volume Summary-15min'!E61:E62,\"-\")=2,\"-\",SUM('Volume Summary-15min'!E61:E62))","v":119},{"$f":"IF(COUNTIF('Volume Summary-15min'!F61:F62,\"-\")=2,\"-\",SUM('Volume Summary-15min'!F61:F62))","v":138},{"$f":"IF(COUNTIF('Volume Summary-15min'!G61:G62,\"-\")=2,\"-\",SUM('Volume Summary-15min'!G61:G62))","v":120},{"$f":"IF(COUNTIF('Volume Summary-15min'!H61:H62,\"-\")=2,\"-\",SUM('Volume Summary-15min'!H61:H62))","v":108},{"$f":"IF(COUNTIF('Volume Summary-15min'!I61:I62,\"-\")=2,\"-\",SUM('Volume Summary-15min'!I61:I62))","v":74},{"$f":"IF(COUNTIF('Volume Summary-15min'!J61:J62,\"-\")=2,\"-\",SUM('Volume Summary-15min'!J61:J62))","v":122},{"$f":"IF(COUNTIF('Volume Summary-15min'!K61:K62,\"-\")=2,\"-\",SUM('Volume Summary-15min'!K61:K62))","v":112}]
[null,"11:30:00",{"$f":"IF(COUNTIF('Volume Summary-15min'!C63:C64,\"-\")=2,\"-\",SUM('Volume Summary-15min'!C63:C64))","v":87},{"$f":"IF(COUNTIF('Volume Summary-15min'!D63:D64,\"-\")=2,\"-\",SUM('Volume Summary-15min'!D63:D64))","v":121},{"$f":"IF(COUNTIF('Volume Summary-15min'!E63:E64,\"-\")=2,\"-\",SUM('Volume Summary-15min'!E63:E64))","v":136},{"$f":"IF(COUNTIF('Volume Summary-15min'!F63:F64,\"-\")=2,\"-\",SUM('Volume Summary-15min'!F63:F64))","v":129},{"$f":"IF(COUNTIF('Volume Summary-15min'!G63:G64,\"-\")=2,\"-\",SUM('Volume Summary-15min'!G63:G64))","v":120},{"$f":"IF(COUNTIF('Volume Summary-15min'!H63:H64,\"-\")=2,\"-\",SUM('Volume Summary-15min'!H63:H64))","v":109},{"$f":"IF(COUNTIF('Volume Summary-15min'!I63:I64,\"-\")=2,\"-\",SUM('Volume Summary-15min'!I63:I64))","v":74},{"$f":"IF(COUNTIF('Volume Summary-15min'!J63:J64,\"-\")=2,\"-\",SUM('Volume Summary-15min'!J63:J64))","v":116},{"$f":"IF(COUNTIF('Volume Summary-15min'!K63:K64,\"-\")=2,\"-\",SUM('Volume Summary-15min'!K63:K64))","v":109}]
[null,"12:00:00",{"$f":"IF(COUNTIF('Volume Summary-15min'!C65:C66,\"-\")=2,\"-\",SUM('Volume Summary-15min'!C65:C66))","v":115},{"$f":"IF(COUNTIF('Volume Summary-15min'!D65:D66,\"-\")=2,\"-\",SUM('Volume Summary-15min'!D65:D66))","v":136},{"$f":"IF(COUNTIF('Volume Summary-15min'!E65:E66,\"-\")=2,\"-\",SUM('Volume Summary-15min'!E65:E66))","v":120},{"$f":"IF(COUNTIF('Volume Summary-15min'!F65:F66,\"-\")=2,\"-\",SUM('Volume Summary-15min'!F65:F66))","v":122},{"$f":"IF(COUNTIF('Volume Summary-15min'!G65:G66,\"-\")=2,\"-\",SUM('Volume Summary-15min'!G65:G66))","v":146},{"$f":"IF(COUNTIF('Volume Summary-15min'!H65:H66,\"-\")=2,\"-\",SUM('Volume Summary-15min'!H65:H66))","v":105},{"$f":"IF(COUNTIF('Volume Summary-15min'!I65:I66,\"-\")=2,\"-\",SUM('Volume Summary-15min'!I65:I66))","v":71},{"$f":"IF(COUNTIF('Volume Summary-15min'!J65:J66,\"-\")=2,\"-\",SUM('Volume Summary-15min'!J65:J66))","v":127},{"$f":"IF(COUNTIF('Volume Summary-15min'!K65:K66,\"-\")=2,\"-\",SUM('Volume Summary-15min'!K65:K66))","v":115}]
[null,"12:30:00",{"$f":"IF(COUNTIF('Volume Summary-15min'!C67:C68,\"-\")=2,\"-\",SUM('Volume Summary-15min'!C67:C68))","v":111},{"$f":"IF(COUNTIF('Volume Summary-15min'!D67:D68,\"-\")=2,\"-\",SUM('Volume Summary-15min'!D67:D68))","v":124},{"$f":"IF(COUNTIF('Volume Summary-15min'!E67:E68,\"-\")=2,\"-\",SUM('Volume Summary-15min'!E67:E68))","v":134},{"$f":"IF(COUNTIF('Volume Summary-15min'!F67:F68,\"-\")=2,\"-\",SUM('Volume Summary-15min'!F67:F68))","v":116},{"$f":"IF(COUNTIF('Volume Summary-15min'!G67:G68,\"-\")=2,\"-\",SUM('Volume Summary-15min'!G67:G68))","v":150},{"$f":"IF(COUNTIF('Volume Summary-15min'!H67:H68,\"-\")=2,\"-\",SUM('Volume Summary-15min'!H67:H68))","v":132},{"$f":"IF(COUNTIF('Volume Summary-15min'!I67:I68,\"-\")=2,\"-\",SUM('Volume Summary-15min'!I67:I68))","v":99},{"$f":"IF(COUNTIF('Volume Summary-15min'!J67:J68,\"-\")=2,\"-\",SUM('Volume Summary-15min'!J67:J68))","v":124},{"$f":"IF(COUNTIF('Volume Summary-15min'!K67:K68,\"-\")=2,\"-\",SUM('Volume Summary-15min'!K67:K68))","v":120}]
[null,"13:00:00",{"$f":"IF(COUNTIF('Volume Summary-15min'!C69:C70,\"-\")=2,\"-\",SUM('Volume Summary-15min'!C69:C70))","v":137},{"$f":"IF(COUNTIF('Volume Summary-15min'!D69:D70,\"-\")=2,\"-\",SUM('Volume Summary-15min'!D69:D70))","v":135},{"$f":"IF(COUNTIF('Volume Summary-15min'!E69:E70,\"-\")=2,\"-\",SUM('Volume Summary-15min'!E69:E70))","v":141},{"$f":"IF(COUNTIF('Volume Summary-15min'!F69:F70,\"-\")=2,\"-\",SUM('Volume Summary-15min'!F69:F70))","v":150},{"$f":"IF(COUNTIF('Volume Summary-15min'!G69:G70,\"-\")=2,\"-\",SUM('Volume Summary-15min'!G69:G70))","v":139},{"$f":"IF(COUNTIF('Volume Summary-15min'!H69:H70,\"-\")=2,\"-\",SUM('Volume Summary-15min'!H69:H70))","v":169},{"$f":"IF(COUNTIF('Volume Summary-15min'!I69:I70,\"-\")=2,\"-\",SUM('Volume Summary-15min'!I69:I70))","v":91},{"$f":"IF(COUNTIF('Volume Summary-15min'!J69:J70,\"-\")=2,\"-\",SUM('Volume Summary-15min'!J69:J70))","v":138},{"$f":"IF(COUNTIF('Volume Summary-15min'!K69:K70,\"-\")=2,\"-\",SUM('Volume Summary-15min'!K69:K70))","v":135}]
[null,"13:30:00",{"$f":"IF(COUNTIF('Volume Summary-15min'!C71:C72,\"-\")=2,\"-\",SUM('Volume Summary-15min'!C71:C72))","v":131},{"$f":"IF(COUNTIF('Volume Summary-15min'!D71:D72,\"-\")=2,\"-\",SUM('Volume Summary-15min'!D71:D72))","v":146},{"$f":"IF(COUNTIF('Volume Summary-15min'!E71:E72,\"-\")=2,\"-\",SUM('Volume Summary-15min'!E71:E72))","v":159},{"$f":"IF(COUNTIF('Volume Summary-15min'!F71:F72,\"-\")=2,\"-\",SUM('Volume Summary-15min'!F71:F72))","v":148},{"$f":"IF(COUNTIF('Volume Summary-15min'!G71:G72,\"-\")=2,\"-\",SUM('Volume Summary-15min'!G71:G72))","v":170},{"$f":"IF(COUNTIF('Volume Summary-15min'!H71:H72,\"-\")=2,\"-\",SUM('Volume Summary-15min'!H71:H72))","v":160},{"$f":"IF(COUNTIF('Volume Summary-15min'!I71:I72,\"-\")=2,\"-\",SUM('Volume Summary-15min'!I71:I72))","v":94},{"$f":"IF(COUNTIF('Volume Summary-15min'!J71:J72,\"-\")=2,\"-\",SUM('Volume Summary-15min'!J71:J72))","v":149},{"$f":"IF(COUNTIF('Volume Summary-15min'!K71:K72,\"-\")=2,\"-\",SUM('Volume Summary-15min'!K71:K72))","v":142}]
[null,"14:00:00",{"$f":"IF(COUNTIF('Volume Summary-15min'!C73:C74,\"-\")=2,\"-\",SUM('Volume Summary-15min'!C73:C74))","v":143},{"$f":"IF(COUNTIF('Volume Summary-15min'!D73:D74,\"-\")=2,\"-\",SUM('Volume Summary-15min'!D73:D74))","v":151},{"$f":"IF(COUNTIF('Volume Summary-15min'!E73:E74,\"-\")=2,\"-\",SUM('Volume Summary-15min'!E73:E74))","v":164},{"$f":"IF(COUNTIF('Volume Summary-15min'!F73:F74,\"-\")=2,\"-\",SUM('Volume Summary-15min'!F73:F74))","v":149},{"$f":"IF(COUNTIF('Volume Summary-15min'!G73:G74,\"-\")=2,\"-\",SUM('Volume Summary-15min'!G73:G74))","v":157},{"$f":"IF(COUNTIF('Volume Summary-15min'!H73:H74,\"-\")=2,\"-\",SUM('Volume Summary-15min'!H73:H74))","v":141},{"$f":"IF(COUNTIF('Volume Summary-15min'!I73:I74,\"-\")=2,\"-\",SUM('Volume Summary-15min'!I73:I74))","v":101},{"$f":"IF(COUNTIF('Volume Summary-15min'!J73:J74,\"-\")=2,\"-\",SUM('Volume Summary-15min'!J73:J74))","v":150},{"$f":"IF(COUNTIF('Volume Summary-15min'!K73:K74,\"-\")=2,\"-\",SUM('Volume Summary-15min'!K73:K74))","v":142}]
[null,"14:30:00",{"$f":"IF(COUNTIF('Volume Summary-15min'!C75:C76,\"-\")=2,\"-\",SUM('Volume Summary-15min'!C75:C76))","v":147},{"$f":"IF(COUNTIF('Volume Summary-15min'!D75:D76,\"-\")=2,\"-\",SUM('Volume Summary-15min'!D75:D76))","v":179},{"$f":"IF(COUNTIF('Volume Summary-15min'!E75:E76,\"-\")=2,\"-\",SUM('Volume Summary-15min'!E75:E76))","v":167},{"$f":"IF(COUNTIF('Volume Summary-15min'!F75:F76,\"-\")=2,\"-\",SUM('Volume Summary-15min'!F75:F76))","v":151},{"$f":"IF(COUNTIF('Volume Summary-15min'!G75:G76,\"-\")=2,\"-\",SUM('Volume Summary-15min'!G75:G76))","v":149},{"$f":"IF(COUNTIF('Volume Summary-15min'!H75:H76,\"-\")=2,\"-\",SUM('Volume Summary-15min'!H75:H76))","v":150},{"$f":"IF(COUNTIF('Volume Summary-15min'!I75:I76,\"-\")=2,\"-\",SUM('Volume Summary-15min'!I75:I76))","v":93},{"$f":"IF(COUNTIF('Volume Summary-15min'!J75:J76,\"-\")=2,\"-\",SUM('Volume Summary-15min'!J75:J76))","v":157},{"$f":"IF(COUNTIF('Volume Summary-15min'!K75:K76,\"-\")=2,\"-\",SUM('Volume Summary-15min'!K75:K76))","v":147}]
[null,"15:00:00",{"$f":"IF(COUNTIF('Volume Summary-15min'!C77:C78,\"-\")=2,\"-\",SUM('Volume Summary-15min'!C77:C78))","v":139},{"$f":"IF(COUNTIF('Volume Summary-15min'!D77:D78,\"-\")=2,\"-\",SUM('Volume Summary-15min'!D77:D78))","v":161},{"$f":"IF(COUNTIF('Volume Summary-15min'!E77:E78,\"-\")=2,\"-\",SUM('Volume Summary-15min'!E77:E78))","v":170},{"$f":"IF(COUNTIF('Volume Summary-15min'!F77:F78,\"-\")=2,\"-\",SUM('Volume Summary-15min'!F77:F78))","v":179},{"$f":"IF(COUNTIF('Volume Summary-15min'!G77:G78,\"-\")=2,\"-\",SUM('Volume Summary-15min'!G77:G78))","v":158},{"$f":"IF(COUNTIF('Volume Summary-15min'!H77:H78,\"-\")=2,\"-\",SUM('Volume Summary-15min'!H77:H78))","v":137},{"$f":"IF(COUNTIF('Volume Summary-15min'!I77:I78,\"-\")=2,\"-\",SUM('Volume Summary-15min'!I77:I78))","v":89},{"$f":"IF(COUNTIF('Volume Summary-15min'!J77:J78,\"-\")=2,\"-\",SUM('Volume Summary-15min'!J77:J78))","v":159},{"$f":"IF(COUNTIF('Volume Summary-15min'!K77:K78,\"-\")=2,\"-\",SUM('Volume Summary-15min'!K77:K78))","v":147}]
[null,"15:30:00",{"$f":"IF(COUNTIF('Volume Summary-15min'!C79:C80,\"-\")=2,\"-\",SUM('Volume Summary-15min'!C79:C80))","v":158},{"$f":"IF(COUNTIF('Volume Summary-15min'!D79:D80,\"-\")=2,\"-\",SUM('Volume Summary-15min'!D79:D80))","v":185},{"$f":"IF(COUNTIF('Volume Summary-15min'!E79:E80,\"-\")=2,\"-\",SUM('Volume Summary-15min'!E79:E80))","v":179},{"$f":"IF(COUNTIF('Volume Summary-15min'!F79:F80,\"-\")=2,\"-\",SUM('Volume Summary-15min'!F79:F80))","v":174},{"$f":"IF(COUNTIF('Volume Summary-15min'!G79:G80,\"-\")=2,\"-\",SUM('Volume Summary-15min'!G79:G80))","v":169},{"$f":"IF(COUNTIF('Volume Summary-15min'!H79:H80,\"-\")=2,\"-\",SUM('Volume Summary-15min'!H79:H80))","v":116},{"$f":"IF(COUNTIF('Volume Summary-15min'!I79:I80,\"-\")=2,\"-\",SUM('Volume Summary-15min'!I79:I80))","v":111},{"$f":"IF(COUNTIF('Volume Summary-15min'!J79:J80,\"-\")=2,\"-\",SUM('Volume Summary-15min'!J79:J80))","v":171},{"$f":"IF(COUNTIF('Volume Summary-15min'!K79:K80,\"-\")=2,\"-\",SUM('Volume Summary-15min'!K79:K80))","v":155}]
[null,"16:00:00",{"$f":"IF(COUNTIF('Volume Summary-15min'!C81:C82,\"-\")=2,\"-\",SUM('Volume Summary-15min'!C81:C82))","v":158},{"$f":"IF(COUNTIF('Volume Summary-15min'!D81:D82,\"-\")=2,\"-\",SUM('Volume Summary-15min'!D81:D82))","v":157},{"$f":"IF(COUNTIF('Volume Summary-15min'!E81:E82,\"-\")=2,\"-\",SUM('Volume Summary-15min'!E81:E82))","v":192},{"$f":"IF(COUNTIF('Volume Summary-15min'!F81:F82,\"-\")=2,\"-\",SUM('Volume Summary-15min'!F81:F82))","v":181},{"$f":"IF(COUNTIF('Volume Summary-15min'!G81:G82,\"-\")=2,\"-\",SUM('Volume Summary-15min'!G81:G82))","v":184},{"$f":"IF(COUNTIF('Volume Summary-15min'!H81:H82,\"-\")=2,\"-\",SUM('Volume Summary-15min'!H81:H82))","v":151},{"$f":"IF(COUNTIF('Volume Summary-15min'!I81:I82,\"-\")=2,\"-\",SUM('Volume Summary-15min'!I81:I82))","v":88},{"$f":"IF(COUNTIF('Volume Summary-15min'!J81:J82,\"-\")=2,\"-\",SUM('Volume Summary-15min'!J81:J82))","v":174},{"$f":"IF(COUNTIF('Volume Summary-15min'!K81:K82,\"-\")=2,\"-\",SUM('Volume Summary-15min'!K81:K82))","v":158}]
[null,"16:30:00",{"$f":"IF(COUNTIF('Volume Summary-15min'!C83:C84,\"-\")=2,\"-\",SUM('Volume Summary-15min'!C83:C84))","v":202},{"$f":"IF(COUNTIF('Volume Summary-15min'!D83:D84,\"-\")=2,\"-\",SUM('Volume Summary-15min'!D83:D84))","v":185},{"$f":"IF(COUNTIF('Volume Summary-15min'!E83:E84,\"-\")=2,\"-\",SUM('Volume Summary-15min'!E83:E84))","v":228},{"$f":"IF(COUNTIF('Volume Summary-15min'!F83:F84,\"-\")=2,\"-\",SUM('Volume Summary-15min'!F83:F84))","v":198},{"$f":"IF(COUNTIF('Volume Summary-15min'!G83:G84,\"-\")=2,\"-\",SUM('Volume Summary-15min'!G83:G84))","v":174},{"$f":"IF(COUNTIF('Volume Summary-15min'!H83:H84,\"-\")=2,\"-\",SUM('Volume Summary-15min'!H83:H84))","v":128},{"$f":"IF(COUNTIF('Volume Summary-15min'!I83:I84,\"-\")=2,\"-\",SUM('Volume Summary-15min'!I83:I84))","v":99},{"$f":"IF(COUNTIF('Volume Summary-15min'!J83:J84,\"-\")=2,\"-\",SUM('Volume Summary-15min'!J83:J84))","v":194},{"$f":"IF(COUNTIF('Volume Summary-15min'!K83:K84,\"-\")=2,\"-\",SUM('Volume Summary-15min'!K83:K84))","v":172}]
[null,"17:00:00",{"$f":"IF(COUNTIF('Volume Summary-15min'!C85:C86,\"-\")=2,\"-\",SUM('Volume Summary-15min'!C85:C86))","v":175},{"$f":"IF(COUNTIF('Volume Summary-15min'!D85:D86,\"-\")=2,\"-\",SUM('Volume Summary-15min'!D85:D86))","v":196},{"$f":"IF(COUNTIF('Volume Summary-15min'!E85:E86,\"-\")=2,\"-\",SUM('Volume Summary-15min'!E85:E86))","v":211},{"$f":"IF(COUNTIF('Volume Summary-15min'!F85:F86,\"-\")=2,\"-\",SUM('Volume Summary-15min'!F85:F86))","v":172},{"$f":"IF(COUNTIF('Volume Summary-15min'!G85:G86,\"-\")=2,\"-\",SUM('Volume Summary-15min'!G85:G86))","v":207},{"$f":"IF(COUNTIF('Volume Summary-15min'!H85:H86,\"-\")=2,\"-\",SUM('Volume Summary-15min'!H85:H86))","v":140},{"$f":"IF(COUNTIF('Volume Summary-15min'!I85:I86,\"-\")=2,\"-\",SUM('Volume Summary-15min'!I85:I86))","v":126},{"$f":"IF(COUNTIF('Volume Summary-15min'!J85:J86,\"-\")=2,\"-\",SUM('Volume Summary-15min'!J85:J86))","v":189},{"$f":"IF(COUNTIF('Volume Summary-15min'!K85:K86,\"-\")=2,\"-\",SUM('Volume Summary-15min'!K85:K86))","v":171}]
[null,"17:30:00",{"$f":"IF(COUNTIF('Volume Summary-15min'!C87:C88,\"-\")=2,\"-\",SUM('Volume Summary-15min'!C87:C88))","v":193},{"$f":"IF(COUNTIF('Volume Summary-15min'!D87:D88,\"-\")=2,\"-\",SUM('Volume Summary-15min'!D87:D88))","v":228},{"$f":"IF(COUNTIF('Volume Summary-15min'!E87:E88,\"-\")=2,\"-\",SUM('Volume Summary-15min'!E87:E88))","v":189},{"$f":"IF(COUNTIF('Volume Summary-15min'!F87:F88,\"-\")=2,\"-\",SUM('Volume Summary-15min'!F87:F88))","v":206},{"$f":"IF(COUNTIF('Volume Summary-15min'!G87:G88,\"-\")=2,\"-\",SUM('Volume Summary-15min'!G87:G88))","v":200},{"$f":"IF(COUNTIF('Volume Summary-15min'!H87:H88,\"-\")=2,\"-\",SUM('Volume Summary-15min'!H87:H88))","v":108},{"$f":"IF(COUNTIF('Volume Summary-15min'!I87:I88,\"-\")=2,\"-\",SUM('Volume Summary-15min'!I87:I88))","v":133},{"$f":"IF(COUNTIF('Volume Summary-15min'!J87:J88,\"-\")=2,\"-\",SUM('Volume Summary-15min'!J87:J88))","v":201},{"$f":"IF(COUNTIF('Volume Summary-15min'!K87:K88,\"-\")=2,\"-\",SUM('Volume Summary-15min'!K87:K88))","v":177}]
[null,"18:00:00",{"$f":"IF(COUNTIF('Volume Summary-15min'!C89:C90,\"-\")=2,\"-\",SUM('Volume Summary-15min'!C89:C90))","v":208},{"$f":"IF(COUNTIF('Volume Summary-15min'!D89:D90,\"-\")=2,\"-\",SUM('Volume Summary-15min'!D89:D90))","v":224},{"$f":"IF(COUNTIF('Volume Summary-15min'!E89:E90,\"-\")=2,\"-\",SUM('Volume Summary-15min'!E89:E90))","v":242},{"$f":"IF(COUNTIF('Volume Summary-15min'!F89:F90,\"-\")=2,\"-\",SUM('Volume Summary-15min'!F89:F90))","v":223},{"$f":"IF(COUNTIF('Volume Summary-15min'!G89:G90,\"-\")=2,\"-\",SUM('Volume Summary-15min'!G89:G90))","v":201},{"$f":"IF(COUNTIF('Volume Summary-15min'!H89:H90,\"-\")=2,\"-\",SUM('Volume Summary-15min'!H89:H90))","v":141},{"$f":"IF(COUNTIF('Volume Summary-15min'!I89:I90,\"-\")=2,\"-\",SUM('Volume Summary-15min'!I89:I90))","v":132},{"$f":"IF(COUNTIF('Volume Summary-15min'!J89:J90,\"-\")=2,\"-\",SUM('Volume Summary-15min'!J89:J90))","v":219},{"$f":"IF(COUNTIF('Volume Summary-15min'!K89:K90,\"-\")=2,\"-\",SUM('Volume Summary-15min'!K89:K90))","v":195}]
[null,"18:30:00",{"$f":"IF(COUNTIF('Volume Summary-15min'!C91:C92,\"-\")=2,\"-\",SUM('Volume Summary-15min'!C91:C92))","v":188},{"$f":"IF(COUNTIF('Volume Summary-15min'!D91:D92,\"-\")=2,\"-\",SUM('Volume Summary-15min'!D91:D92))","v":230},{"$f":"IF(COUNTIF('Volume Summary-15min'!E91:E92,\"-\")=2,\"-\",SUM('Volume Summary-15min'!E91:E92))","v":218},{"$f":"IF(COUNTIF('Volume Summary-15min'!F91:F92,\"-\")=2,\"-\",SUM('Volume Summary-15min'!F91:F92))","v":185},{"$f":"IF(COUNTIF('Volume Summary-15min'!G91:G92,\"-\")=2,\"-\",SUM('Volume Summary-15min'!G91:G92))","v":209},{"$f":"IF(COUNTIF('Volume Summary-15min'!H91:H92,\"-\")=2,\"-\",SUM('Volume Summary-15min'!H91:H92))","v":170},{"$f":"IF(COUNTIF('Volume Summary-15min'!I91:I92,\"-\")=2,\"-\",SUM('Volume Summary-15min'!I91:I92))","v":137},{"$f":"IF(COUNTIF('Volume Summary-15min'!J91:J92,\"-\")=2,\"-\",SUM('Volume Summary-15min'!J91:J92))","v":204},{"$f":"IF(COUNTIF('Volume Summary-15min'!K91:K92,\"-\")=2,\"-\",SUM('Volume Summary-15min'!K91:K92))","v":187}]
[null,"19:00:00",{"$f":"IF(COUNTIF('Volume Summary-15min'!C93:C94,\"-\")=2,\"-\",SUM('Volume Summary-15min'!C93:C94))","v":175},{"$f":"IF(COUNTIF('Volume Summary-15min'!D93:D94,\"-\")=2,\"-\",SUM('Volume Summary-15min'!D93:D94))","v":167},{"$f":"IF(COUNTIF('Volume Summary-15min'!E93:E94,\"-\")=2,\"-\",SUM('Volume Summary-15min'!E93:E94))","v":224},{"$f":"IF(COUNTIF('Volume Summary-15min'!F93:F94,\"-\")=2,\"-\",SUM('Volume Summary-15min'!F93:F94))","v":177},{"$f":"IF(COUNTIF('Volume Summary-15min'!G93:G94,\"-\")=2,\"-\",SUM('Volume Summary-15min'!G93:G94))","v":184},{"$f":"IF(COUNTIF('Volume Summary-15min'!H93:H94,\"-\")=2,\"-\",SUM('Volume Summary-15min'!H93:H94))","v":145},{"$f":"IF(COUNTIF('Volume Summary-15min'!I93:I94,\"-\")=2,\"-\",SUM('Volume Summary-15min'!I93:I94))","v":138},{"$f":"IF(COUNTIF('Volume Summary-15min'!J93:J94,\"-\")=2,\"-\",SUM('Volume Summary-15min'!J93:J94))","v":188},{"$f":"IF(COUNTIF('Volume Summary-15min'!K93:K94,\"-\")=2,\"-\",SUM('Volume Summary-15min'!K93:K94))","v":172}]
[null,"19:30:00",{"$f":"IF(COUNTIF('Volume Summary-15min'!C95:C96,\"-\")=2,\"-\",SUM('Volume Summary-15min'!C95:C96))","v":132},{"$f":"IF(COUNTIF('Volume Summary-15min'!D95:D96,\"-\")=2,\"-\",SUM('Volume Summary-15min'!D95:D96))","v":163},{"$f":"IF(COUNTIF('Volume Summary-15min'!E95:E96,\"-\")=2,\"-\",SUM('Volume Summary-15min'!E95:E96))","v":174},{"$f":"IF(COUNTIF('Volume Summary-15min'!F95:F96,\"-\")=2,\"-\",SUM('Volume Summary-15min'!F95:F96))","v":158},{"$f":"IF(COUNTIF('Volume Summary-15min'!G95:G96,\"-\")=2,\"-\",SUM('Volume Summary-15min'!G95:G96))","v":164},{"$f":"IF(COUNTIF('Volume Summary-15min'!H95:H96,\"-\")=2,\"-\",SUM('Volume Summary-15min'!H95:H96))","v":128},{"$f":"IF(COUNTIF('Volume Summary-15min'!I95:I96,\"-\")=2,\"-\",SUM('Volume Summary-15min'!I95:I96))","v":123},{"$f":"IF(COUNTIF('Volume Summary-15min'!J95:J96,\"-\")=2,\"-\",SUM('Volume Summary-15min'!J95:J96))","v":155},{"$f":"IF(COUNTIF('Volume Summary-15min'!K95:K96,\"-\")=2,\"-\",SUM('Volume Summary-15min'!K95:K96))","v":151}]
[null,"20:00:00",{"$f":"IF(COUNTIF('Volume Summary-15min'!C97:C98,\"-\")=2,\"-\",SUM('Volume Summary-15min'!C97:C98))","v":119},{"$f":"IF(COUNTIF('Volume Summary-15min'!D97:D98,\"-\")=2,\"-\",SUM('Volume Summary-15min'!D97:D98))","v":126},{"$f":"IF(COUNTIF('Volume Summary-15min'!E97:E98,\"-\")=2,\"-\",SUM('Volume Summary-15min'!E97:E98))","v":148},{"$f":"IF(COUNTIF('Volume Summary-15min'!F97:F98,\"-\")=2,\"-\",SUM('Volume Summary-15min'!F97:F98))","v":142},{"$f":"IF(COUNTIF('Volume Summary-15min'!G97:G98,\"-\")=2,\"-\",SUM('Volume Summary-15min'!G97:G98))","v":123},{"$f":"IF(COUNTIF('Volume Summary-15min'!H97:H98,\"-\")=2,\"-\",SUM('Volume Summary-15min'!H97:H98))","v":123},{"$f":"IF(COUNTIF('Volume Summary-15min'!I97:I98,\"-\")=2,\"-\",SUM('Volume Summary-15min'!I97:I98))","v":110},{"$f":"IF(COUNTIF('Volume Summary-15min'!J97:J98,\"-\")=2,\"-\",SUM('Volume Summary-15min'!J97:J98))","v":130},{"$f":"IF(COUNTIF('Volume Summary-15min'!K97:K98,\"-\")=2,\"-\",SUM('Volume Summary-15min'!K97:K98))","v":124}]
[null,"20:30:00",{"$f":"IF(COUNTIF('Volume Summary-15min'!C99:C100,\"-\")=2,\"-\",SUM('Volume Summary-15min'!C99:C100))","v":114},{"$f":"IF(COUNTIF('Volume Summary-15min'!D99:D100,\"-\")=2,\"-\",SUM('Volume Summary-15min'!D99:D100))","v":136},{"$f":"IF(COUNTIF('Volume Summary-15min'!E99:E100,\"-\")=2,\"-\",SUM('Volume Summary-15min'!E99:E100))","v":145},{"$f":"IF(COUNTIF('Volume Summary-15min'!F99:F100,\"-\")=2,\"-\",SUM('Volume Summary-15min'!F99:F100))","v":119},{"$f":"IF(COUNTIF('Volume Summary-15min'!G99:G100,\"-\")=2,\"-\",SUM('Volume Summary-15min'!G99:G100))","v":154},{"$f":"IF(COUNTIF('Volume Summary-15min'!H99:H100,\"-\")=2,\"-\",SUM('Volume Summary-15min'!H99:H100))","v":131},{"$f":"IF(COUNTIF('Volume Summary-15min'!I99:I100,\"-\")=2,\"-\",SUM('Volume Summary-15min'!I99:I100))","v":111},{"$f":"IF(COUNTIF('Volume Summary-15min'!J99:J100,\"-\")=2,\"-\",SUM('Volume Summary-15min'!J99:J100))","v":131},{"$f":"IF(COUNTIF('Volume Summary-15min'!K99:K100,\"-\")=2,\"-\",SUM('Volume Summary-15min'!K99:K100))","v":129}]
[null,"21:00:00",{"$f":"IF(COUNTIF('Volume Summary-15min'!C101:C102,\"-\")=2,\"-\",SUM('Volume Summary-15min'!C101:C102))","v":93},{"$f":"IF(COUNTIF('Volume Summary-15min'!D101:D102,\"-\")=2,\"-\",SUM('Volume Summary-15min'!D101:D102))","v":102},{"$f":"IF(COUNTIF('Volume Summary-15min'!E101:E102,\"-\")=2,\"-\",SUM('Volume Summary-15min'!E101:E102))","v":97},{"$f":"IF(COUNTIF('Volume Summary-15min'!F101:F102,\"-\")=2,\"-\",SUM('Volume Summary-15min'!F101:F102))","v":114},{"$f":"IF(COUNTIF('Volume Summary-15min'!G101:G102,\"-\")=2,\"-\",SUM('Volume Summary-15min'!G101:G102))","v":108},{"$f":"IF(COUNTIF('Volume Summary-15min'!H101:H102,\"-\")=2,\"-\",SUM('Volume Summary-15min'!H101:H102))","v":118},{"$f":"IF(COUNTIF('Volume Summary-15min'!I101:I102,\"-\")=2,\"-\",SUM('Volume Summary-15min'!I101:I102))","v":96},{"$f":"IF(COUNTIF('Volume Summary-15min'!J101:J102,\"-\")=2,\"-\",SUM('Volume Summary-15min'!J101:J102))","v":101},{"$f":"IF(COUNTIF('Volume Summary-15min'!K101:K102,\"-\")=2,\"-\",SUM('Volume Summary-15min'!K101:K102))","v":103}]
[null,"21:30:00",{"$f":"IF(COUNTIF('Volume Summary-15min'!C103:C104,\"-\")=2,\"-\",SUM('Volume Summary-15min'!C103:C104))","v":110},{"$f":"IF(COUNTIF('Volume Summary-15min'!D103:D104,\"-\")=2,\"-\",SUM('Volume Summary-15min'!D103:D104))","v":95},{"$f":"IF(COUNTIF('Volume Summary-15min'!E103:E104,\"-\")=2,\"-\",SUM('Volume Summary-15min'!E103:E104))","v":110},{"$f":"IF(COUNTIF('Volume Summary-15min'!F103:F104,\"-\")=2,\"-\",SUM('Volume Summary-15min'!F103:F104))","v":87},{"$f":"IF(COUNTIF('Volume Summary-15min'!G103:G104,\"-\")=2,\"-\",SUM('Volume Summary-15min'!G103:G104))","v":116},{"$f":"IF(COUNTIF('Volume Summary-15min'!H103:H104,\"-\")=2,\"-\",SUM('Volume Summary-15min'!H103:H104))","v":124},{"$f":"IF(COUNTIF('Volume Summary-15min'!I103:I104,\"-\")=2,\"-\",SUM('Volume Summary-15min'!I103:I104))","v":115},{"$f":"IF(COUNTIF('Volume Summary-15min'!J103:J104,\"-\")=2,\"-\",SUM('Volume Summary-15min'!J103:J104))","v":101},{"$f":"IF(COUNTIF('Volume Summary-15min'!K103:K104,\"-\")=2,\"-\",SUM('Volume Summary-15min'!K103:K104))","v":105}]
[null,"22:00:00",{"$f":"IF(COUNTIF('Volume Summary-15min'!C105:C106,\"-\")=2,\"-\",SUM('Volume Summary-15min'!C105:C106))","v":105},{"$f":"IF(COUNTIF('Volume Summary-15min'!D105:D106,\"-\")=2,\"-\",SUM('Volume Summary-15min'!D105:D106))","v":121},{"$f":"IF(COUNTIF('Volume Summary-15min'!E105:E106,\"-\")=2,\"-\",SUM('Volume Summary-15min'!E105:E106))","v":130},{"$f":"IF(COUNTIF('Volume Summary-15min'!F105:F106,\"-\")=2,\"-\",SUM('Volume Summary-15min'!F105:F106))","v":100},{"$f":"IF(COUNTIF('Volume Summary-15min'!G105:G106,\"-\")=2,\"-\",SUM('Volume Summary-15min'!G105:G106))","v":109},{"$f":"IF(COUNTIF('Volume Summary-15min'!H105:H106,\"-\")=2,\"-\",SUM('Volume Summary-15min'!H105:H106))","v":135},{"$f":"IF(COUNTIF('Volume Summary-15min'!I105:I106,\"-\")=2,\"-\",SUM('Volume Summary-15min'!I105:I106))","v":88},{"$f":"IF(COUNTIF('Volume Summary-15min'!J105:J106,\"-\")=2,\"-\",SUM('Volume Summary-15min'!J105:J106))","v":112},{"$f":"IF(COUNTIF('Volume Summary-15min'!K105:K106,\"-\")=2,\"-\",SUM('Volume Summary-15min'!K105:K106))","v":109}]
[null,"22:30:00",{"$f":"IF(COUNTIF('Volume Summary-15min'!C107:C108,\"-\")=2,\"-\",SUM('Volume Summary-15min'!C107:C108))","v":80},{"$f":"IF(COUNTIF('Volume Summary-15min'!D107:D108,\"-\")=2,\"-\",SUM('Volume Summary-15min'!D107:D108))","v":109},{"$f":"IF(COUNTIF('Volume Summary-15min'!E107:E108,\"-\")=2,\"-\",SUM('Volume Summary-15min'!E107:E108))","v":95},{"$f":"IF(COUNTIF('Volume Summary-15min'!F107:F108,\"-\")=2,\"-\",SUM('Volume Summary-15min'!F107:F108))","v":89},{"$f":"IF(COUNTIF('Volume Summary-15min'!G107:G108,\"-\")=2,\"-\",SUM('Volume Summary-15min'!G107:G108))","v":130},{"$f":"IF(COUNTIF('Volume Summary-15min'!H107:H108,\"-\")=2,\"-\",SUM('Volume Summary-15min'!H107:H108))","v":122},{"$f":"IF(COUNTIF('Volume Summary-15min'!I107:I108,\"-\")=2,\"-\",SUM('Volume Summary-15min'!I107:I108))","v":83},{"$f":"IF(COUNTIF('Volume Summary-15min'!J107:J108,\"-\")=2,\"-\",SUM('Volume Summary-15min'!J107:J108))","v":101},{"$f":"IF(COUNTIF('Volume Summary-15min'!K107:K108,\"-\")=2,\"-\",SUM('Volume Summary-15min'!K107:K108))","v":100}]
[null,"23:00:00",{"$f":"IF(COUNTIF('Volume Summary-15min'!C109:C110,\"-\")=2,\"-\",SUM('Volume Summary-15min'!C109:C110))","v":82},{"$f":"IF(COUNTIF('Volume Summary-15min'!D109:D110,\"-\")=2,\"-\",SUM('Volume Summary-15min'!D109:D110))","v":97},{"$f":"IF(COUNTIF('Volume Summary-15min'!E109:E110,\"-\")=2,\"-\",SUM('Volume Summary-15min'!E109:E110))","v":91},{"$f":"IF(COUNTIF('Volume Summary-15min'!F109:F110,\"-\")=2,\"-\",SUM('Volume Summary-15min'!F109:F110))","v":99},{"$f":"IF(COUNTIF('Volume Summary-15min'!G109:G110,\"-\")=2,\"-\",SUM('Volume Summary-15min'!G109:G110))","v":112},{"$f":"IF(COUNTIF('Volume Summary-15min'!H109:H110,\"-\")=2,\"-\",SUM('Volume Summary-15min'!H109:H110))","v":106},{"$f":"IF(COUNTIF('Volume Summary-15min'!I109:I110,\"-\")=2,\"-\",SUM('Volume Summary-15min'!I109:I110))","v":66},{"$f":"IF(COUNTIF('Volume Summary-15min'!J109:J110,\"-\")=2,\"-\",SUM('Volume Summary-15min'!J109:J110))","v":94},{"$f":"IF(COUNTIF('Volume Summary-15min'!K109:K110,\"-\")=2,\"-\",SUM('Volume Summary-15min'!K109:K110))","v":89}]
[null,"23:30:00",{"$f":"IF(COUNTIF('Volume Summary-15min'!C111:C112,\"-\")=2,\"-\",SUM('Volume Summary-15min'!C111:C112))","v":56},{"$f":"IF(COUNTIF('Volume Summary-15min'!D111:D112,\"-\")=2,\"-\",SUM('Volume Summary-15min'!D111:D112))","v":95},{"$f":"IF(COUNTIF('Volume Summary-15min'!E111:E112,\"-\")=2,\"-\",SUM('Volume Summary-15min'!E111:E112))","v":85},{"$f":"IF(COUNTIF('Volume Summary-15min'!F111:F112,\"-\")=2,\"-\",SUM('Volume Summary-15min'!F111:F112))","v":82},{"$f":"IF(COUNTIF('Volume Summary-15min'!G111:G112,\"-\")=2,\"-\",SUM('Volume Summary-15min'!G111:G112))","v":94},{"$f":"IF(COUNTIF('Volume Summary-15min'!H111:H112,\"-\")=2,\"-\",SUM('Volume Summary-15min'!H111:H112))","v":110},{"$f":"IF(COUNTIF('Volume Summary-15min'!I111:I112,\"-\")=2,\"-\",SUM('Volume Summary-15min'!I111:I112))","v":53},{"$f":"IF(COUNTIF('Volume Summary-15min'!J111:J112,\"-\")=2,\"-\",SUM('Volume Summary-15min'!J111:J112))","v":82},{"$f":"IF(COUNTIF('Volume Summary-15min'!K111:K112,\"-\")=2,\"-\",SUM('Volume Summary-15min'!K111:K112))","v":83}]
[null,"Total",{"$f":"SUM(C17:C64)","v":4812},5360,5638,5202,5430,4641,3713,{"$f":"SUM(J17:J64)","v":5215},4894]
[]
[null,"07:00-19:00",{"$f":"SUM(C31:C54)","v":3303},{"$f":"SUM(D31:D54)","v":3637},3749,3522,3563,2765,1983,{"$f":"SUM(J31:J54)","v":3507},3171]
[null,"06:00-22:00",{"$f":"SUM(C29:C60)","v":4195},{"$f":"SUM(D29:D60)","v":4608},4826,4465,4563,3611,2762,4473,4091]
[null,"06:00-24:00",{"$f":"SUM(C29:C64)","v":4518},{"$f":"SUM(D29:D64)","v":5030},5227,4835,5008,4084,3052,4862,4472]
[null,"00:00-24:00",{"$f":"SUM(C17:C64)","v":4812},{"$f":"SUM(D17:D64)","v":5360},5638,5202,5430,4641,3713,5215,4894]

{"sheet":"Volume Summary-60min","index":6,"n_rows":46,"n_cols":22,"rows_kept":46,"cut":false,"hidden":false,"merged":[[5,8,5,9],[11,2,11,8],[0,8,0,9],[1,8,1,10],[2,8,2,10],[3,8,3,10],[6,8,6,9],[6,10,6,11],[11,9,13,9],[11,10,13,10],[7,1,9,6]]}
[]
[]
[]
[null,null,null,null,null,null,null,null,null,null,null,null,null,null,null,null,null,null,null,null,null,{"$f":"Input_Details!$I$1&\" - \"&Input_Details!$H$1","v":"3585-LON - Harper Road"}]
[null,null,null,null,null,null,null,null,null,null,null,null,null,null,null,null,null,null,null,null,null,{"$f":"\"prepared for \"&Input_Details!$J$1","v":"prepared for LB of Southwark"}]
[null,null,null,null,null,null,null,null,null,null,null,null,null,null,null,null,null,null,null,null,null,{"$f":"TEXT(MIN(C14:I14), \"dd mmm yyyy\")&\" - \"&TEXT(MAX(C14:I14), \"dd mmm yyyy\")","v":"20 Apr 2017 - 26 Apr 2017"}]
[]
[null,"60-min Volume Summary"]
[null,null,null,null,null,null,null,null,"Avg W'kday Total",null,{"$f":"+J41","v":5215}]
[null,null,null,null,null,null,null,null,"7 Day Avg Total",null,{"$f":"+K41","v":4894}]
[]
[null,null,"Day of Week",null,null,null,null,null,null,"W'kday Avg","7 Day Avg"]
[null,null,"Mon","Tue","Wed","Thu","Fri","Sat","Sun"]
[null,"Time",{"$f":"+Input_Details!Q3","v":"2017-04-24"},{"$f":"+Input_Details!R3","v":"2017-04-25"},{"$f":"+Input_Details!S3","v":"2017-04-26"},{"$f":"+Input_Details!T3","v":"2017-04-20"},{"$f":"+Input_Details!U3","v":"2017-04-21"},{"$f":"+Input_Details!V3","v":"2017-04-22"},{"$f":"+Input_Details!W3","v":"2017-04-23"}]
[null,"AM Peak",{"$f":"MAX(C24:C26)","v":254},{"$f":"MAX(D24:D26)","v":270},249,257,255,178,101,251,207]
[null,"PM Peak",{"$f":"MAX(C33:C35)","v":396},{"$f":"MAX(D33:D35)","v":454},460,408,410,311,269,423,382]
[null,"00:00:00",{"$f":"IF(COUNTIF('Volume Summary-15min'!C17:C20, \"-\")=4, \"-\", SUM('Volume Summary-15min'!C17:C20))","v":95},{"$f":"IF(COUNTIF('Volume Summary-15min'!D17:D20, \"-\")=4, \"-\", SUM('Volume Summary-15min'!D17:D20))","v":95},{"$f":"IF(COUNTIF('Volume Summary-15min'!E17:E20, \"-\")=4, \"-\", SUM('Volume Summary-15min'!E17:E20))","v":131},{"$f":"IF(COUNTIF('Volume Summary-15min'!F17:F20, \"-\")=4, \"-\", SUM('Volume Summary-15min'!F17:F20))","v":122},{"$f":"IF(COUNTIF('Volume Summary-15min'!G17:G20, \"-\")=4, \"-\", SUM('Volume Summary-15min'!G17:G20))","v":130},{"$f":"IF(COUNTIF('Volume Summary-15min'!H17:H20, \"-\")=4, \"-\", SUM('Volume Summary-15min'!H17:H20))","v":172},{"$f":"IF(COUNTIF('Volume Summary-15min'!I17:I20, \"-\")=4, \"-\", SUM('Volume Summary-15min'!I17:I20))","v":190},{"$f":"IF(COUNTIF('Volume Summary-15min'!J17:J20, \"-\")=4, \"-\", SUM('Volume Summary-15min'!J17:J20))","v":111},{"$f":"IF(COUNTIF('Volume Summary-15min'!K17:K20, \"-\")=4, \"-\", SUM('Volume Summary-15min'!K17:K20))","v":131}]
[null,"01:00:00",{"$f":"IF(COUNTIF('Volume Summary-15min'!C21:C24,\"-\")=4,\"-\",SUM('Volume Summary-15min'!C21:C24))","v":56},{"$f":"IF(COUNTIF('Volume Summary-15min'!D21:D24,\"-\")=4,\"-\",SUM('Volume Summary-15min'!D21:D24))","v":63},{"$f":"IF(COUNTIF('Volume Summary-15min'!E21:E24,\"-\")=4,\"-\",SUM('Volume Summary-15min'!E21:E24))","v":81},{"$f":"IF(COUNTIF('Volume Summary-15min'!F21:F24,\"-\")=4,\"-\",SUM('Volume Summary-15min'!F21:F24))","v":67},{"$f":"IF(COUNTIF('Volume Summary-15min'!G21:G24,\"-\")=4,\"-\",SUM('Volume Summary-15min'!G21:G24))","v":80},{"$f":"IF(COUNTIF('Volume Summary-15min'!H21:H24,\"-\")=4,\"-\",SUM('Volume Summary-15min'!H21:H24))","v":108},{"$f":"IF(COUNTIF('Volume Summary-15min'!I21:I24,\"-\")=4,\"-\",SUM('Volume Summary-15min'!I21:I24))","v":130},{"$f":"IF(COUNTIF('Volume Summary-15min'!J21:J24,\"-\")=4,\"-\",SUM('Volume Summary-15min'!J21:J24))","v":65},{"$f":"IF(COUNTIF('Volume Summary-15min'!K21:K24,\"-\")=4,\"-\",SUM('Volume Summary-15min'!K21:K24))","v":80}]
[null,"02:00:00",{"$f":"IF(COUNTIF('Volume Summary-15min'!C25:C28,\"-\")=4,\"-\",SUM('Volume Summary-15min'!C25:C28))","v":26},{"$f":"IF(COUNTIF('Volume Summary-15min'!D25:D28,\"-\")=4,\"-\",SUM('Volume Summary-15min'!D25:D28))","v":26},{"$f":"IF(COUNTIF('Volume Summary-15min'!E25:E28,\"-\")=4,\"-\",SUM('Volume Summary-15min'!E25:E28))","v":45},{"$f":"IF(COUNTIF('Volume Summary-15min'!F25:F28,\"-\")=4,\"-\",SUM('Volume Summary-15min'!F25:F28))","v":47},{"$f":"IF(COUNTIF('Volume Summary-15min'!G25:G28,\"-\")=4,\"-\",SUM('Volume Summary-15min'!G25:G28))","v":53},{"$f":"IF(COUNTIF('Volume Summary-15min'!H25:H28,\"-\")=4,\"-\",SUM('Volume Summary-15min'!H25:H28))","v":87},{"$f":"IF(COUNTIF('Volume Summary-15min'!I25:I28,\"-\")=4,\"-\",SUM('Volume Summary-15min'!I25:I28))","v":130},{"$f":"IF(COUNTIF('Volume Summary-15min'!J25:J28,\"-\")=4,\"-\",SUM('Volume Summary-15min'!J25:J28))","v":38},{"$f":"IF(COUNTIF('Volume Summary-15min'!K25:K28,\"-\")=4,\"-\",SUM('Volume Summary-15min'!K25:K28))","v":58}]
[null,"03:00:00",{"$f":"IF(COUNTIF('Volume Summary-15min'!C29:C32,\"-\")=4,\"-\",SUM('Volume Summary-15min'!C29:C32))","v":32},{"$f":"IF(COUNTIF('Volume Summary-15min'!D29:D32,\"-\")=4,\"-\",SUM('Volume Summary-15min'!D29:D32))","v":33},{"$f":"IF(COUNTIF('Volume Summary-15min'!E29:E32,\"-\")=4,\"-\",SUM('Volume Summary-15min'!E29:E32))","v":46},{"$f":"IF(COUNTIF('Volume Summary-15min'!F29:F32,\"-\")=4,\"-\",SUM('Volume Summary-15min'!F29:F32))","v":31},{"$f":"IF(COUNTIF('Volume Summary-15min'!G29:G32,\"-\")=4,\"-\",SUM('Volume Summary-15min'!G29:G32))","v":50},{"$f":"IF(COUNTIF('Volume Summary-15min'!H29:H32,\"-\")=4,\"-\",SUM('Volume Summary-15min'!H29:H32))","v":66},{"$f":"IF(COUNTIF('Volume Summary-15min'!I29:I32,\"-\")=4,\"-\",SUM('Volume Summary-15min'!I29:I32))","v":87},{"$f":"IF(COUNTIF('Volume Summary-15min'!J29:J32,\"-\")=4,\"-\",SUM('Volume Summary-15min'!J29:J32))","v":38},{"$f":"IF(COUNTIF('Volume Summary-15min'!K29:K32,\"-\")=4,\"-\",SUM('Volume Summary-15min'!K29:K32))","v":46}]
[null,"04:00:00",{"$f":"IF(COUNTIF('Volume Summary-15min'!C33:C36,\"-\")=4,\"-\",SUM('Volume Summary-15min'!C33:C36))","v":28},{"$f":"IF(COUNTIF('Volume Summary-15min'!D33:D36,\"-\")=4,\"-\",SUM('Volume Summary-15min'!D33:D36))","v":41},{"$f":"IF(COUNTIF('Volume Summary-15min'!E33:E36,\"-\")=4,\"-\",SUM('Volume Summary-15min'!E33:E36))","v":41},{"$f":"IF(COUNTIF('Volume Summary-15min'!F33:F36,\"-\")=4,\"-\",SUM('Volume Summary-15min'!F33:F36))","v":40},{"$f":"IF(COUNTIF('Volume Summary-15min'!G33:G36,\"-\")=4,\"-\",SUM('Volume Summary-15min'!G33:G36))","v":38},{"$f":"IF(COUNTIF('Volume Summary-15min'!H33:H36,\"-\")=4,\"-\",SUM('Volume Summary-15min'!H33:H36))","v":53},{"$f":"IF(COUNTIF('Volume Summary-15min'!I33:I36,\"-\")=4,\"-\",SUM('Volume Summary-15min'!I33:I36))","v":53},{"$f":"IF(COUNTIF('Volume Summary-15min'!J33:J36,\"-\")=4,\"-\",SUM('Volume Summary-15min'!J33:J36))","v":35},{"$f":"IF(COUNTIF('Volume Summary-15min'!K33:K36,\"-\")=4,\"-\",SUM('Volume Summary-15min'!K33:K36))","v":41}]
[null,"05:00:00",{"$f":"IF(COUNTIF('Volume Summary-15min'!C37:C40,\"-\")=4,\"-\",SUM('Volume Summary-15min'!C37:C40))","v":57},{"$f":"IF(COUNTIF('Volume Summary-15min'!D37:D40,\"-\")=4,\"-\",SUM('Volume Summary-15min'!D37:D40))","v":72},{"$f":"IF(COUNTIF('Volume Summary-15min'!E37:E40,\"-\")=4,\"-\",SUM('Volume Summary-15min'!E37:E40))","v":67},{"$f":"IF(COUNTIF('Volume Summary-15min'!F37:F40,\"-\")=4,\"-\",SUM('Volume Summary-15min'!F37:F40))","v":60},{"$f":"IF(COUNTIF('Volume Summary-15min'!G37:G40,\"-\")=4,\"-\",SUM('Volume Summary-15min'!G37:G40))","v":71},{"$f":"IF(COUNTIF('Volume Summary-15min'!H37:H40,\"-\")=4,\"-\",SUM('Volume Summary-15min'!H37:H40))","v":71},{"$f":"IF(COUNTIF('Volume Summary-15min'!I37:I40,\"-\")=4,\"-\",SUM('Volume Summary-15min'!I37:I40))","v":71},{"$f":"IF(COUNTIF('Volume Summary-15min'!J37:J40,\"-\")=4,\"-\",SUM('Volume Summary-15min'!J37:J40))","v":66},{"$f":"IF(COUNTIF('Volume Summary-15min'!K37:K40,\"-\")=4,\"-\",SUM('Volume Summary-15min'!K37:K40))","v":66}]
[null,"06:00:00",{"$f":"IF(COUNTIF('Volume Summary-15min'!C41:C44,\"-\")=4,\"-\",SUM('Volume Summary-15min'!C41:C44))","v":149},{"$f":"IF(COUNTIF('Volume Summary-15min'!D41:D44,\"-\")=4,\"-\",SUM('Volume Summary-15min'!D41:D44))","v":182},{"$f":"IF(COUNTIF('Volume Summary-15min'!E41:E44,\"-\")=4,\"-\",SUM('Volume Summary-15min'!E41:E44))","v":179},{"$f":"IF(COUNTIF('Volume Summary-15min'!F41:F44,\"-\")=4,\"-\",SUM('Volume Summary-15min'!F41:F44))","v":146},{"$f":"IF(COUNTIF('Volume Summary-15min'!G41:G44,\"-\")=4,\"-\",SUM('Volume Summary-15min'!G41:G44))","v":151},{"$f":"IF(COUNTIF('Volume Summary-15min'!H41:H44,\"-\")=4,\"-\",SUM('Volume Summary-15min'!H41:H44))","v":77},{"$f":"IF(COUNTIF('Volume Summary-15min'!I41:I44,\"-\")=4,\"-\",SUM('Volume Summary-15min'!I41:I44))","v":86},{"$f":"IF(COUNTIF('Volume Summary-15min'!J41:J44,\"-\")=4,\"-\",SUM('Volume Summary-15min'!J41:J44))","v":160},{"$f":"IF(COUNTIF('Volume Summary-15min'!K41:K44,\"-\")=4,\"-\",SUM('Volume Summary-15min'!K41:K44))","v":136}]
[null,"07:00:00",{"$f":"IF(COUNTIF('Volume Summary-15min'!C45:C48,\"-\")=4,\"-\",SUM('Volume Summary-15min'!C45:C48))","v":177},{"$f":"IF(COUNTIF('Volume Summary-15min'!D45:D48,\"-\")=4,\"-\",SUM('Volume Summary-15min'!D45:D48))","v":197},{"$f":"IF(COUNTIF('Volume Summary-15min'!E45:E48,\"-\")=4,\"-\",SUM('Volume Summary-15min'!E45:E48))","v":231},{"$f":"IF(COUNTIF('Volume Summary-15min'!F45:F48,\"-\")=4,\"-\",SUM('Volume Summary-15min'!F45:F48))","v":193},{"$f":"IF(COUNTIF('Volume Summary-15min'!G45:G48,\"-\")=4,\"-\",SUM('Volume Summary-15min'!G45:G48))","v":191},{"$f":"IF(COUNTIF('Volume Summary-15min'!H45:H48,\"-\")=4,\"-\",SUM('Volume Summary-15min'!H45:H48))","v":101},{"$f":"IF(COUNTIF('Volume Summary-15min'!I45:I48,\"-\")=4,\"-\",SUM('Volume Summary-15min'!I45:I48))","v":73},{"$f":"IF(COUNTIF('Volume Summary-15min'!J45:J48,\"-\")=4,\"-\",SUM('Volume Summary-15min'!J45:J48))","v":196},{"$f":"IF(COUNTIF('Volume Summary-15min'!K45:K48,\"-\")=4,\"-\",SUM('Volume Summary-15min'!K45:K48))","v":164}]
[null,"08:00:00",{"$f":"IF(COUNTIF('Volume Summary-15min'!C49:C52, \"-\")=4, \"-\", SUM('Volume Summary-15min'!C49:C52))","v":254},{"$f":"IF(COUNTIF('Volume Summary-15min'!D49:D52, \"-\")=4, \"-\", SUM('Volume Summary-15min'!D49:D52))","v":270},{"$f":"IF(COUNTIF('Volume Summary-15min'!E49:E52, \"-\")=4, \"-\", SUM('Volume Summary-15min'!E49:E52))","v":249},{"$f":"IF(COUNTIF('Volume Summary-15min'!F49:F52, \"-\")=4, \"-\", SUM('Volume Summary-15min'!F49:F52))","v":257},{"$f":"IF(COUNTIF('Volume Summary-15min'!G49:G52, \"-\")=4, \"-\", SUM('Volume Summary-15min'!G49:G52))","v":255},{"$f":"IF(COUNTIF('Volume Summary-15min'!H49:H52, \"-\")=4, \"-\", SUM('Volume Summary-15min'!H49:H52))","v":125},{"$f":"IF(COUNTIF('Volume Summary-15min'!I49:I52, \"-\")=4, \"-\", SUM('Volume Summary-15min'!I49:I52))","v":73},{"$f":"IF(COUNTIF('Volume Summary-15min'!J49:J52, \"-\")=4, \"-\", SUM('Volume Summary-15min'!J49:J52))","v":251},{"$f":"IF(COUNTIF('Volume Summary-15min'!K49:K52, \"-\")=4, \"-\", SUM('Volume Summary-15min'!K49:K52))","v":207}]
[null,"09:00:00",{"$f":"IF(COUNTIF('Volume Summary-15min'!C53:C56, \"-\")=4, \"-\", SUM('Volume Summary-15min'!C53:C56))","v":222},{"$f":"IF(COUNTIF('Volume Summary-15min'!D53:D56, \"-\")=4, \"-\", SUM('Volume Summary-15min'!D53:D56))","v":244},{"$f":"IF(COUNTIF('Volume Summary-15min'!E53:E56, \"-\")=4, \"-\", SUM('Volume Summary-15min'!E53:E56))","v":234},{"$f":"IF(COUNTIF('Volume Summary-15min'!F53:F56, \"-\")=4, \"-\", SUM('Volume Summary-15min'!F53:F56))","v":204},{"$f":"IF(COUNTIF('Volume Summary-15min'!G53:G56, \"-\")=4, \"-\", SUM('Volume Summary-15min'!G53:G56))","v":250},{"$f":"IF(COUNTIF('Volume Summary-15min'!H53:H56, \"-\")=4, \"-\", SUM('Volume Summary-15min'!H53:H56))","v":178},{"$f":"IF(COUNTIF('Volume Summary-15min'!I53:I56, \"-\")=4, \"-\", SUM('Volume Summary-15min'!I53:I56))","v":101},{"$f":"IF(COUNTIF('Volume Summary-15min'!J53:J56, \"-\")=4, \"-\", SUM('Volume Summary-15min'!J53:J56))","v":224},{"$f":"IF(COUNTIF('Volume Summary-15min'!K53:K56, \"-\")=4, \"-\", SUM('Volume Summary-15min'!K53:K56))","v":198}]
[null,"10:00:00",{"$f":"IF(COUNTIF('Volume Summary-15min'!C57:C60, \"-\")=4, \"-\", SUM('Volume Summary-15min'!C57:C60))","v":239},{"$f":"IF(COUNTIF('Volume Summary-15min'!D57:D60, \"-\")=4, \"-\", SUM('Volume Summary-15min'!D57:D60))","v":255},{"$f":"IF(COUNTIF('Volume Summary-15min'!E57:E60, \"-\")=4, \"-\", SUM('Volume Summary-15min'!E57:E60))","v":266},{"$f":"IF(COUNTIF('Volume Summary-15min'!F57:F60, \"-\")=4, \"-\", SUM('Volume Summary-15min'!F57:F60))","v":247},{"$f":"IF(COUNTIF('Volume Summary-15min'!G57:G60, \"-\")=4, \"-\", SUM('Volume Summary-15min'!G57:G60))","v":214},{"$f":"IF(COUNTIF('Volume Summary-15min'!H57:H60, \"-\")=4, \"-\", SUM('Volume Summary-15min'!H57:H60))","v":196},{"$f":"IF(COUNTIF('Volume Summary-15min'!I57:I60, \"-\")=4, \"-\", SUM('Volume Summary-15min'!I57:I60))","v":124},{"$f":"IF(COUNTIF('Volume Summary-15min'!J57:J60, \"-\")=4, \"-\", SUM('Volume Summary-15min'!J57:J60))","v":242},{"$f":"IF(COUNTIF('Volume Summary-15min'!K57:K60, \"-\")=4, \"-\", SUM('Volume Summary-15min'!K57:K60))","v":218}]
[null,"11:00:00",{"$f":"IF(COUNTIF('Volume Summary-15min'!C61:C64,\"-\")=4,\"-\",SUM('Volume Summary-15min'!C61:C64))","v":206},{"$f":"IF(COUNTIF('Volume Summary-15min'!D61:D64,\"-\")=4,\"-\",SUM('Volume Summary-15min'!D61:D64))","v":234},{"$f":"IF(COUNTIF('Volume Summary-15min'!E61:E64,\"-\")=4,\"-\",SUM('Volume Summary-15min'!E61:E64))","v":255},{"$f":"IF(COUNTIF('Volume Summary-15min'!F61:F64,\"-\")=4,\"-\",SUM('Volume Summary-15min'!F61:F64))","v":267},{"$f":"IF(COUNTIF('Volume Summary-15min'!G61:G64,\"-\")=4,\"-\",SUM('Volume Summary-15min'!G61:G64))","v":240},{"$f":"IF(COUNTIF('Volume Summary-15min'!H61:H64,\"-\")=4,\"-\",SUM('Volume Summary-15min'!H61:H64))","v":217},{"$f":"IF(COUNTIF('Volume Summary-15min'!I61:I64,\"-\")=4,\"-\",SUM('Volume Summary-15min'!I61:I64))","v":148},{"$f":"IF(COUNTIF('Volume Summary-15min'!J61:J64,\"-\")=4,\"-\",SUM('Volume Summary-15min'!J61:J64))","v":238},{"$f":"IF(COUNTIF('Volume Summary-15min'!K61:K64,\"-\")=4,\"-\",SUM('Volume Summary-15min'!K61:K64))","v":221}]
[null,"12:00:00",{"$f":"IF(COUNTIF('Volume Summary-15min'!C65:C68, \"-\")=4, \"-\", SUM('Volume Summary-15min'!C65:C68))","v":226},{"$f":"IF(COUNTIF('Volume Summary-15min'!D65:D68, \"-\")=4, \"-\", SUM('Volume Summary-15min'!D65:D68))","v":260},{"$f":"IF(COUNTIF('Volume Summary-15min'!E65:E68, \"-\")=4, \"-\", SUM('Volume Summary-15min'!E65:E68))","v":254},{"$f":"IF(COUNTIF('Volume Summary-15min'!F65:F68, \"-\")=4, \"-\", SUM('Volume Summary-15min'!F65:F68))","v":238},{"$f":"IF(COUNTIF('Volume Summary-15min'!G65:G68, \"-\")=4, \"-\", SUM('Volume Summary-15min'!G65:G68))","v":296},{"$f":"IF(COUNTIF('Volume Summary-15min'!H65:H68, \"-\")=4, \"-\", SUM('Volume Summary-15min'!H65:H68))","v":237},{"$f":"IF(COUNTIF('Volume Summary-15min'!I65:I68, \"-\")=4, \"-\", SUM('Volume Summary-15min'!I65:I68))","v":170},{"$f":"IF(COUNTIF('Volume Summary-15min'!J65:J68, \"-\")=4, \"-\", SUM('Volume Summary-15min'!J65:J68))","v":251},{"$f":"IF(COUNTIF('Volume Summary-15min'!K65:K68, \"-\")=4, \"-\", SUM('Volume Summary-15min'!K65:K68))","v":235}]
[null,"13:00:00",{"$f":"IF(COUNTIF('Volume Summary-15min'!C69:C72, \"-\")=4, \"-\", SUM('Volume Summary-15min'!C69:C72))","v":268},{"$f":"IF(COUNTIF('Volume Summary-15min'!D69:D72, \"-\")=4, \"-\", SUM('Volume Summary-15min'!D69:D72))","v":281},{"$f":"IF(COUNTIF('Volume Summary-15min'!E69:E72, \"-\")=4, \"-\", SUM('Volume Summary-15min'!E69:E72))","v":300},{"$f":"IF(COUNTIF('Volume Summary-15min'!F69:F72, \"-\")=4, \"-\", SUM('Volume Summary-15min'!F69:F72))","v":298},{"$f":"IF(COUNTIF('Volume Summary-15min'!G69:G72, \"-\")=4, \"-\", SUM('Volume Summary-15min'!G69:G72))","v":309},{"$f":"IF(COUNTIF('Volume Summary-15min'!H69:H72, \"-\")=4, \"-\", SUM('Volume Summary-15min'!H69:H72))","v":329},{"$f":"IF(COUNTIF('Volume Summary-15min'!I69:I72, \"-\")=4, \"-\", SUM('Volume Summary-15min'!I69:I72))","v":185},{"$f":"IF(COUNTIF('Volume Summary-15min'!J69:J72, \"-\")=4, \"-\", SUM('Volume Summary-15min'!J69:J72))","v":287},{"$f":"IF(COUNTIF('Volume Summary-15min'!K69:K72, \"-\")=4, \"-\", SUM('Volume Summary-15min'!K69:K72))","v":277}]
[null,"14:00:00",{"$f":"IF(COUNTIF('Volume Summary-15min'!C73:C76,\"-\")=4,\"-\",SUM('Volume Summary-15min'!C73:C76))","v":290},{"$f":"IF(COUNTIF('Volume Summary-15min'!D73:D76,\"-\")=4,\"-\",SUM('Volume Summary-15min'!D73:D76))","v":330},{"$f":"IF(COUNTIF('Volume Summary-15min'!E73:E76,\"-\")=4,\"-\",SUM('Volume Summary-15min'!E73:E76))","v":331},{"$f":"IF(COUNTIF('Volume Summary-15min'!F73:F76,\"-\")=4,\"-\",SUM('Volume Summary-15min'!F73:F76))","v":300},{"$f":"IF(COUNTIF('Volume Summary-15min'!G73:G76,\"-\")=4,\"-\",SUM('Volume Summary-15min'!G73:G76))","v":306},{"$f":"IF(COUNTIF('Volume Summary-15min'!H73:H76,\"-\")=4,\"-\",SUM('Volume Summary-15min'!H73:H76))","v":291},{"$f":"IF(COUNTIF('Volume Summary-15min'!I73:I76,\"-\")=4,\"-\",SUM('Volume Summary-15min'!I73:I76))","v":194},{"$f":"IF(COUNTIF('Volume Summary-15min'!J73:J76,\"-\")=4,\"-\",SUM('Volume Summary-15min'!J73:J76))","v":307},{"$f":"IF(COUNTIF('Volume Summary-15min'!K73:K76,\"-\")=4,\"-\",SUM('Volume Summary-15min'!K73:K76))","v":289}]
[null,"15:00:00",{"$f":"IF(COUNTIF('Volume Summary-15min'!C77:C80,\"-\")=4,\"-\",SUM('Volume Summary-15min'!C77:C80))","v":297},{"$f":"IF(COUNTIF('Volume Summary-15min'!D77:D80,\"-\")=4,\"-\",SUM('Volume Summary-15min'!D77:D80))","v":346},{"$f":"IF(COUNTIF('Volume Summary-15min'!E77:E80,\"-\")=4,\"-\",SUM('Volume Summary-15min'!E77:E80))","v":349},{"$f":"IF(COUNTIF('Volume Summary-15min'!F77:F80,\"-\")=4,\"-\",SUM('Volume Summary-15min'!F77:F80))","v":353},{"$f":"IF(COUNTIF('Volume Summary-15min'!G77:G80,\"-\")=4,\"-\",SUM('Volume Summary-15min'!G77:G80))","v":327},{"$f":"IF(COUNTIF('Volume Summary-15min'!H77:H80,\"-\")=4,\"-\",SUM('Volume Summary-15min'!H77:H80))","v":253},{"$f":"IF(COUNTIF('Volume Summary-15min'!I77:I80,\"-\")=4,\"-\",SUM('Volume Summary-15min'!I77:I80))","v":200},{"$f":"IF(COUNTIF('Volume Summary-15min'!J77:J80,\"-\")=4,\"-\",SUM('Volume Summary-15min'!J77:J80))","v":330},{"$f":"IF(COUNTIF('Volume Summary-15min'!K77:K80,\"-\")=4,\"-\",SUM('Volume Summary-15min'!K77:K80))","v":302}]
[null,"16:00:00",{"$f":"IF(COUNTIF('Volume Summary-15min'!C81:C84,\"-\")=4,\"-\",SUM('Volume Summary-15min'!C81:C84))","v":360},{"$f":"IF(COUNTIF('Volume Summary-15min'!D81:D84,\"-\")=4,\"-\",SUM('Volume Summary-15min'!D81:D84))","v":342},{"$f":"IF(COUNTIF('Volume Summary-15min'!E81:E84,\"-\")=4,\"-\",SUM('Volume Summary-15min'!E81:E84))","v":420},{"$f":"IF(COUNTIF('Volume Summary-15min'!F81:F84,\"-\")=4,\"-\",SUM('Volume Summary-15min'!F81:F84))","v":379},{"$f":"IF(COUNTIF('Volume Summary-15min'!G81:G84,\"-\")=4,\"-\",SUM('Volume Summary-15min'!G81:G84))","v":358},{"$f":"IF(COUNTIF('Volume Summary-15min'!H81:H84,\"-\")=4,\"-\",SUM('Volume Summary-15min'!H81:H84))","v":279},{"$f":"IF(COUNTIF('Volume Summary-15min'!I81:I84,\"-\")=4,\"-\",SUM('Volume Summary-15min'!I81:I84))","v":187},{"$f":"IF(COUNTIF('Volume Summary-15min'!J81:J84,\"-\")=4,\"-\",SUM('Volume Summary-15min'!J81:J84))","v":368},{"$f":"IF(COUNTIF('Volume Summary-15min'!K81:K84,\"-\")=4,\"-\",SUM('Volume Summary-15min'!K81:K84))","v":330}]
[null,"17:00:00",{"$f":"IF(COUNTIF('Volume Summary-15min'!C85:C88,\"-\")=4,\"-\",SUM('Volume Summary-15min'!C85:C88))","v":368},{"$f":"IF(COUNTIF('Volume Summary-15min'!D85:D88,\"-\")=4,\"-\",SUM('Volume Summary-15min'!D85:D88))","v":424},{"$f":"IF(COUNTIF('Volume Summary-15min'!E85:E88,\"-\")=4,\"-\",SUM('Volume Summary-15min'!E85:E88))","v":400},{"$f":"IF(COUNTIF('Volume Summary-15min'!F85:F88,\"-\")=4,\"-\",SUM('Volume Summary-15min'!F85:F88))","v":378},{"$f":"IF(COUNTIF('Volume Summary-15min'!G85:G88,\"-\")=4,\"-\",SUM('Volume Summary-15min'!G85:G88))","v":407},{"$f":"IF(COUNTIF('Volume Summary-15min'!H85:H88,\"-\")=4,\"-\",SUM('Volume Summary-15min'!H85:H88))","v":248},{"$f":"IF(COUNTIF('Volume Summary-15min'!I85:I88,\"-\")=4,\"-\",SUM('Volume Summary-15min'!I85:I88))","v":259},{"$f":"IF(COUNTIF('Volume Summary-15min'!J85:J88,\"-\")=4,\"-\",SUM('Volume Summary-15min'!J85:J88))","v":390},{"$f":"IF(COUNTIF('Volume Summary-15min'!K85:K88,\"-\")=4,\"-\",SUM('Volume Summary-15min'!K85:K88))","v":348}]
[null,"18:00:00",{"$f":"IF(COUNTIF('Volume Summary-15min'!C89:C92,\"-\")=4,\"-\",SUM('Volume Summary-15min'!C89:C92))","v":396},{"$f":"IF(COUNTIF('Volume Summary-15min'!D89:D92,\"-\")=4,\"-\",SUM('Volume Summary-15min'!D89:D92))","v":454},{"$f":"IF(COUNTIF('Volume Summary-15min'!E89:E92,\"-\")=4,\"-\",SUM('Volume Summary-15min'!E89:E92))","v":460},{"$f":"IF(COUNTIF('Volume Summary-15min'!F89:F92,\"-\")=4,\"-\",SUM('Volume Summary-15min'!F89:F92))","v":408},{"$f":"IF(COUNTIF('Volume Summary-15min'!G89:G92,\"-\")=4,\"-\",SUM('Volume Summary-15min'!G89:G92))","v":410},{"$f":"IF(COUNTIF('Volume Summary-15min'!H89:H92,\"-\")=4,\"-\",SUM('Volume Summary-15min'!H89:H92))","v":311},{"$f":"IF(COUNTIF('Volume Summary-15min'!I89:I92,\"-\")=4,\"-\",SUM('Volume Summary-15min'!I89:I92))","v":269},{"$f":"IF(COUNTIF('Volume Summary-15min'!J89:J92,\"-\")=4,\"-\",SUM('Volume Summary-15min'!J89:J92))","v":423},{"$f":"IF(COUNTIF('Volume Summary-15min'!K89:K92,\"-\")=4,\"-\",SUM('Volume Summary-15min'!K89:K92))","v":382}]
[null,"19:00:00",{"$f":"IF(COUNTIF('Volume Summary-15min'!C93:C96,\"-\")=4,\"-\",SUM('Volume Summary-15min'!C93:C96))","v":307},{"$f":"IF(COUNTIF('Volume Summary-15min'!D93:D96,\"-\")=4,\"-\",SUM('Volume Summary-15min'!D93:D96))","v":330},{"$f":"IF(COUNTIF('Volume Summary-15min'!E93:E96,\"-\")=4,\"-\",SUM('Volume Summary-15min'!E93:E96))","v":398},{"$f":"IF(COUNTIF('Volume Summary-15min'!F93:F96,\"-\")=4,\"-\",SUM('Volume Summary-15min'!F93:F96))","v":335},{"$f":"IF(COUNTIF('Volume Summary-15min'!G93:G96,\"-\")=4,\"-\",SUM('Volume Summary-15min'!G93:G96))","v":348},{"$f":"IF(COUNTIF('Volume Summary-15min'!H93:H96,\"-\")=4,\"-\",SUM('Volume Summary-15min'!H93:H96))","v":273},{"$f":"IF(COUNTIF('Volume Summary-15min'!I93:I96,\"-\")=4,\"-\",SUM('Volume Summary-15min'!I93:I96))","v":261},{"$f":"IF(COUNTIF('Volume Summary-15min'!J93:J96,\"-\")=4,\"-\",SUM('Volume Summary-15min'!J93:J96))","v":343},{"$f":"IF(COUNTIF('Volume Summary-15min'!K93:K96,\"-\")=4,\"-\",SUM('Volume Summary-15min'!K93:K96))","v":323}]
[null,"20:00:00",{"$f":"IF(COUNTIF('Volume Summary-15min'!C97:C100,\"-\")=4,\"-\",SUM('Volume Summary-15min'!C97:C100))","v":233},{"$f":"IF(COUNTIF('Volume Summary-15min'!D97:D100,\"-\")=4,\"-\",SUM('Volume Summary-15min'!D97:D100))","v":262},{"$f":"IF(COUNTIF('Volume Summary-15min'!E97:E100,\"-\")=4,\"-\",SUM('Volume Summary-15min'!E97:E100))","v":293},{"$f":"IF(COUNTIF('Volume Summary-15min'!F97:F100,\"-\")=4,\"-\",SUM('Volume Summary-15min'!F97:F100))","v":261},{"$f":"IF(COUNTIF('Volume Summary-15min'!G97:G100,\"-\")=4,\"-\",SUM('Volume Summary-15min'!G97:G100))","v":277},{"$f":"IF(COUNTIF('Volume Summary-15min'!H97:H100,\"-\")=4,\"-\",SUM('Volume Summary-15min'!H97:H100))","v":254},{"$f":"IF(COUNTIF('Volume Summary-15min'!I97:I100,\"-\")=4,\"-\",SUM('Volume Summary-15min'!I97:I100))","v":221},{"$f":"IF(COUNTIF('Volume Summary-15min'!J97:J100,\"-\")=4,\"-\",SUM('Volume Summary-15min'!J97:J100))","v":261},{"$f":"IF(COUNTIF('Volume Summary-15min'!K97:K100,\"-\")=4,\"-\",SUM('Volume Summary-15min'!K97:K100))","v":253}]
[null,"21:00:00",{"$f":"IF(COUNTIF('Volume Summary-15min'!C101:C104,\"-\")=4,\"-\",SUM('Volume Summary-15min'!C101:C104))","v":203},{"$f":"IF(COUNTIF('Volume Summary-15min'!D101:D104,\"-\")=4,\"-\",SUM('Volume Summary-15min'!D101:D104))","v":197},{"$f":"IF(COUNTIF('Volume Summary-15min'!E101:E104,\"-\")=4,\"-\",SUM('Volume Summary-15min'!E101:E104))","v":207},{"$f":"IF(COUNTIF('Volume Summary-15min'!F101:F104,\"-\")=4,\"-\",SUM('Volume Summary-15min'!F101:F104))","v":201},{"$f":"IF(COUNTIF('Volume Summary-15min'!G101:G104,\"-\")=4,\"-\",SUM('Volume Summary-15min'!G101:G104))","v":224},{"$f":"IF(COUNTIF('Volume Summary-15min'!H101:H104,\"-\")=4,\"-\",SUM('Volume Summary-15min'!H101:H104))","v":242},{"$f":"IF(COUNTIF('Volume Summary-15min'!I101:I104,\"-\")=4,\"-\",SUM('Volume Summary-15min'!I101:I104))","v":211},{"$f":"IF(COUNTIF('Volume Summary-15min'!J101:J104,\"-\")=4,\"-\",SUM('Volume Summary-15min'!J101:J104))","v":202},{"$f":"IF(COUNTIF('Volume Summary-15min'!K101:K104,\"-\")=4,\"-\",SUM('Volume Summary-15min'!K101:K104))","v":208}]
[null,"22:00:00",{"$f":"IF(COUNTIF('Volume Summary-15min'!C105:C108,\"-\")=4,\"-\",SUM('Volume Summary-15min'!C105:C108))","v":185},{"$f":"IF(COUNTIF('Volume Summary-15min'!D105:D108,\"-\")=4,\"-\",SUM('Volume Summary-15min'!D105:D108))","v":230},{"$f":"IF(COUNTIF('Volume Summary-15min'!E105:E108,\"-\")=4,\"-\",SUM('Volume Summary-15min'!E105:E108))","v":225},{"$f":"IF(COUNTIF('Volume Summary-15min'!F105:F108,\"-\")=4,\"-\",SUM('Volume Summary-15min'!F105:F108))","v":189},{"$f":"IF(COUNTIF('Volume Summary-15min'!G105:G108,\"-\")=4,\"-\",SUM('Volume Summary-15min'!G105:G108))","v":239},{"$f":"IF(COUNTIF('Volume Summary-15min'!H105:H108,\"-\")=4,\"-\",SUM('Volume Summary-15min'!H105:H108))","v":257},{"$f":"IF(COUNTIF('Volume Summary-15min'!I105:I108,\"-\")=4,\"-\",SUM('Volume Summary-15min'!I105:I108))","v":171},{"$f":"IF(COUNTIF('Volume Summary-15min'!J105:J108,\"-\")=4,\"-\",SUM('Volume Summary-15min'!J105:J108))","v":213},{"$f":"IF(COUNTIF('Volume Summary-15min'!K105:K108,\"-\")=4,\"-\",SUM('Volume Summary-15min'!K105:K108))","v":209}]
[null,"23:00:00",{"$f":"IF(COUNTIF('Volume Summary-15min'!C109:C112,\"-\")=4,\"-\",SUM('Volume Summary-15min'!C109:C112))","v":138},{"$f":"IF(COUNTIF('Volume Summary-15min'!D109:D112,\"-\")=4,\"-\",SUM('Volume Summary-15min'!D109:D112))","v":192},{"$f":"IF(COUNTIF('Volume Summary-15min'!E109:E112,\"-\")=4,\"-\",SUM('Volume Summary-15min'!E109:E112))","v":176},{"$f":"IF(COUNTIF('Volume Summary-15min'!F109:F112,\"-\")=4,\"-\",SUM('Volume Summary-15min'!F109:F112))","v":181},{"$f":"IF(COUNTIF('Volume Summary-15min'!G109:G112,\"-\")=4,\"-\",SUM('Volume Summary-15min'!G109:G112))","v":206},{"$f":"IF(COUNTIF('Volume Summary-15min'!H109:H112,\"-\")=4,\"-\",SUM('Volume Summary-15min'!H109:H112))","v":216},{"$f":"IF(COUNTIF('Volume Summary-15min'!I109:I112,\"-\")=4,\"-\",SUM('Volume Summary-15min'!I109:I112))","v":119},{"$f":"IF(COUNTIF('Volume Summary-15min'!J109:J112,\"-\")=4,\"-\",SUM('Volume Summary-15min'!J109:J112))","v":176},{"$f":"IF(COUNTIF('Volume Summary-15min'!K109:K112,\"-\")=4,\"-\",SUM('Volume Summary-15min'!K109:K112))","v":172}]
[null,"Total",{"$f":"SUM(C17:C40)","v":4812},5360,5638,5202,5430,4641,3713,{"$f":"SUM(J17:J40)","v":5215},4894]
[]
[null,"07:00-19:00",{"$f":"SUM(C24:C35)","v":3303},{"$f":"SUM(D24:D35)","v":3637},3749,3522,3563,2765,1983,3507,3171]
[null,"06:00-22:00",{"$f":"SUM(C23:C38)","v":4195},{"$f":"SUM(D23:D38)","v":4608},4826,4465,4563,3611,2762,4473,4091]
[null,"06:00-24:00",{"$f":"SUM(C23:C40)","v":4518},{"$f":"SUM(D23:D40)","v":5030},5227,4835,5008,4084,3052,4862,4472]
[null,"00:00-24:00",{"$f":"SUM(C17:C40)","v":4812},{"$f":"SUM(D17:D40)","v":5360},5638,5202,5430,4641,3713,5215,4894]

{"sheet":"Custom Volume Graph","index":7,"n_rows":8,"n_cols":19,"rows_kept":8,"cut":false,"hidden":false,"merged":[[7,1,9,6]]}
[]
[]
[]
[null,null,null,null,null,null,null,null,null,null,null,null,null,null,null,null,null,null,{"$f":"Input_Details!$I$1&\" - \"&Input_Details!$H$1","v":"3585-LON - Harper Road"}]
[null,null,null,null,null,null,null,null,null,null,null,null,null,null,null,null,null,null,{"$f":"\"prepared for \"&Input_Details!$J$1","v":"prepared for LB of Southwark"}]
[null,null,null,null,null,null,null,null,null,null,null,null,null,null,null,null,null,null,{"$f":"TEXT(MIN('Volume Summary-15min'!$C$14:$I$14), \"dd mmm yyyy\")&\" - \"&TEXT(MAX('Volume Summary-15min'!$C$14:$I$14), \"dd mmm yyyy\")","v":"20 Apr 2017 - 26 Apr 2017"}]
[]
[null,"Customisable Volume Graph"]

{"sheet":"Class Summary","index":8,"n_rows":114,"n_cols":32,"rows_kept":114,"cut":false,"hidden":false,"merged":[[1,8,1,10],[2,8,2,10],[3,8,3,10],[5,8,5,9],[0,16,0,21],[12,11,13,11],[12,12,13,12],[11,16,11,21],[12,13,13,13],[12,10,13,10],[12,14,13,14],[12,19,13,19],[7,1,9,14],[12,17,13,17],[12,21,13,21],[11,2,11,7],[11,9,11,14],[12,3,13,3],[12,4,13,4],[12,5,13,5],[12,6,13,6],[12,7,13,7],[12,18,13,18],[12,20,13,20],[12,9,13,9],[12,16,13,16],[11,1,13,1],[12,2,13,2]]}
[]
[]
[]
[null,null,null,null,null,null,null,null,null,null,null,null,null,null,null,null,null,null,null,null,null,null,null,null,null,null,null,null,null,null,null,{"$f":"Input_Details!$I$1&\" - \"&Input_Details!$H$1","v":"3585-LON - Harper Road"}]
[null,null,null,null,null,null,null,null,null,null,null,null,null,null,null,null,null,null,null,null,null,null,null,null,null,null,null,null,null,null,null,{"$f":"\"prepared for \"&Input_Details!$J$1","v":"prepared for LB of Southwark"}]
[null,null,null,null,null,null,null,null,null,null,null,null,null,null,null,null,null,null,null,null,null,null,null,null,null,null,null,null,null,null,null,{"$f":"TEXT(MIN('Volume Summary-15min'!$C$14:$I$14), \"dd mmm yyyy\")&\" - \"&TEXT(MAX('Volume Summary-15min'!$C$14:$I$14), \"dd mmm yyyy\")","v":"20 Apr 2017 - 26 Apr 2017"}]
[]
[null,{"$f":"\"Class Summary - \"&TEXT(AF10, \"dd mmm yyyy\")","v":"Class Summary - 7-Day Average"}]
[]
[null,null,null,null,null,null,null,null,null,null,null,null,null,null,null,null,null,null,null,null,null,null,null,null,null,null,null,null,null,null,null,{"$f":"OFFSET(Input_Details!$Q$3, 0, Input_Details!$B$25-1)","v":"7-Day Average"}]
[]
[null,"Time",{"$f":"Input_Details!K3","v":"Southbound"},null,null,null,null,null,null,{"$f":"+Input_Details!L3","v":"Northbound"},null,null,null,null,null,null,"Combined"]
[null,null,"M'Cycle & P'Cycle","Cars","LGV & PSV 2Axle","OGV1 & PSV 3Axle","OGV2","Total",null,{"$f":"C13","v":"M'Cycle & P'Cycle"},{"$f":"D13","v":"Cars"},"LGV & PSV 2Axle","OGV1 & PSV 3Axle","OGV2","Total",null,{"$f":"J13","v":"M'Cycle & P'Cycle"},"Cars","LGV/PSV 2Axle","OGV1/PSV 3Axle","OGV2","Total"]
[]
[]
[null,"Total Traffic % ",{"$f":"IFERROR(C114/$H$114, \"-\")","v":0.11313082994498924},{"$f":"IFERROR(D114/$H$114, \"-\")","v":0.75843099736905051},9.7105955513035164E-2,2.5352786414733316E-2,5.9794307581918201E-3,"-",null,{"$f":"IFERROR(J114/$O$114, \"-\")","v":0.26507713884992989},{"$f":"IFERROR(K114/$O$114, \"-\")","v":0.70967741935483875},4.2075736325385693E-3,2.1037868162692847E-2,0,"-",null,{"$f":"IFERROR(Q114/$V$114, \"-\")","v":0.13526767470371884},{"$f":"IFERROR(R114/$V$114, \"-\")","v":0.75132815692684918},8.3571720474049857E-2,2.4724152022885165E-2,5.1082958724969346E-3,"-"]
[]
[null,"00:00:00",{"$f":"OFFSET('Raw Data'!DR4,Input_Details!$B$29,0)","v":2},{"$f":"OFFSET('Raw Data'!DS4,Input_Details!$B$29,0)","v":27},{"$f":"OFFSET('Raw Data'!DT4,Input_Details!$B$29,0)","v":1},{"$f":"OFFSET('Raw Data'!DU4,Input_Details!$B$29,0)","v":1},{"$f":"OFFSET('Raw Data'!DV4,Input_Details!$B$29,0)","v":0},{"$f":"OFFSET('Raw Data'!DW4,Input_Details!$B$29,0)","v":31},null,{"$f":"OFFSET('Raw Data'!DX4,Input_Details!$B$29,0)","v":1},{"$f":"OFFSET('Raw Data'!DY4,Input_Details!$B$29,0)","v":5},{"$f":"OFFSET('Raw Data'!DZ4,Input_Details!$B$29,0)","v":0},{"$f":"OFFSET('Raw Data'!EA4,Input_Details!$B$29,0)","v":0},{"$f":"OFFSET('Raw Data'!EB4,Input_Details!$B$29,0)","v":0},{"$f":"OFFSET('Raw Data'!EC4,Input_Details!$B$29,0)","v":6},null,{"$f":"OFFSET('Raw Data'!ED4,Input_Details!$B$29,0)","v":3},{"$f":"OFFSET('Raw Data'!EE4,Input_Details!$B$29,0)","v":32},{"$f":"OFFSET('Raw Data'!EF4,Input_Details!$B$29,0)","v":1},{"$f":"OFFSET('Raw Data'!EG4,Input_Details!$B$29,0)","v":1},{"$f":"OFFSET('Raw Data'!EH4,Input_Details!$B$29,0)","v":0},{"$f":"OFFSET('Raw Data'!EI4,Input_Details!$B$29,0)","v":37}]
[null,"00:15:00",{"$f":"OFFSET('Raw Data'!DR5,Input_Details!$B$29,0)","v":2},{"$f":"OFFSET('Raw Data'!DS5,Input_Details!$B$29,0)","v":22},{"$f":"OFFSET('Raw Data'!DT5,Input_Details!$B$29,0)","v":1},{"$f":"OFFSET('Raw Data'!DU5,Input_Details!$B$29,0)","v":2},{"$f":"OFFSET('Raw Data'!DV5,Input_Details!$B$29,0)","v":0},{"$f":"OFFSET('Raw Data'!DW5,Input_Details!$B$29,0)","v":27},null,{"$f":"OFFSET('Raw Data'!DX5,Input_Details!$B$29,0)","v":0},{"$f":"OFFSET('Raw Data'!DY5,Input_Details!$B$29,0)","v":4},{"$f":"OFFSET('Raw Data'!DZ5,Input_Details!$B$29,0)","v":0},{"$f":"OFFSET('Raw Data'!EA5,Input_Details!$B$29,0)","v":0},{"$f":"OFFSET('Raw Data'!EB5,Input_Details!$B$29,0)","v":0},{"$f":"OFFSET('Raw Data'!EC5,Input_Details!$B$29,0)","v":4},null,{"$f":"OFFSET('Raw Data'!ED5,Input_Details!$B$29,0)","v":2},{"$f":"OFFSET('Raw Data'!EE5,Input_Details!$B$29,0)","v":26},{"$f":"OFFSET('Raw Data'!EF5,Input_Details!$B$29,0)","v":1},{"$f":"OFFSET('Raw Data'!EG5,Input_Details!$B$29,0)","v":2},{"$f":"OFFSET('Raw Data'!EH5,Input_Details!$B$29,0)","v":0},{"$f":"OFFSET('Raw Data'!EI5,Input_Details!$B$29,0)","v":31}]
[null,"00:30:00",{"$f":"OFFSET('Raw Data'!DR6,Input_Details!$B$29,0)","v":2},{"$f":"OFFSET('Raw Data'!DS6,Input_Details!$B$29,0)","v":22},{"$f":"OFFSET('Raw Data'!DT6,Input_Details!$B$29,0)","v":1},{"$f":"OFFSET('Raw Data'!DU6,Input_Details!$B$29,0)","v":1},{"$f":"OFFSET('Raw Data'!DV6,Input_Details!$B$29,0)","v":0},{"$f":"OFFSET('Raw Data'!DW6,Input_Details!$B$29,0)","v":26},null,{"$f":"OFFSET('Raw Data'!DX6,Input_Details!$B$29,0)","v":0},{"$f":"OFFSET('Raw Data'!DY6,Input_Details!$B$29,0)","v":5},{"$f":"OFFSET('Raw Data'!DZ6,Input_Details!$B$29,0)","v":0},{"$f":"OFFSET('Raw Data'!EA6,Input_Details!$B$29,0)","v":0},{"$f":"OFFSET('Raw Data'!EB6,Input_Details!$B$29,0)","v":0},{"$f":"OFFSET('Raw Data'!EC6,Input_Details!$B$29,0)","v":5},null,{"$f":"OFFSET('Raw Data'!ED6,Input_Details!$B$29,0)","v":2},{"$f":"OFFSET('Raw Data'!EE6,Input_Details!$B$29,0)","v":27},{"$f":"OFFSET('Raw Data'!EF6,Input_Details!$B$29,0)","v":1},{"$f":"OFFSET('Raw Data'!EG6,Input_Details!$B$29,0)","v":1},{"$f":"OFFSET('Raw Data'!EH6,Input_Details!$B$29,0)","v":0},{"$f":"OFFSET('Raw Data'!EI6,Input_Details!$B$29,0)","v":31}]
[null,"00:45:00",{"$f":"OFFSET('Raw Data'!DR7,Input_Details!$B$29,0)","v":1},{"$f":"OFFSET('Raw Data'!DS7,Input_Details!$B$29,0)","v":24},{"$f":"OFFSET('Raw Data'!DT7,Input_Details!$B$29,0)","v":1},{"$f":"OFFSET('Raw Data'!DU7,Input_Details!$B$29,0)","v":1},{"$f":"OFFSET('Raw Data'!DV7,Input_Details!$B$29,0)","v":0},{"$f":"OFFSET('Raw Data'!DW7,Input_Details!$B$29,0)","v":27},null,{"$f":"OFFSET('Raw Data'!DX7,Input_Details!$B$29,0)","v":1},{"$f":"OFFSET('Raw Data'!DY7,Input_Details!$B$29,0)","v":4},{"$f":"OFFSET('Raw Data'!DZ7,Input_Details!$B$29,0)","v":0},{"$f":"OFFSET('Raw Data'!EA7,Input_Details!$B$29,0)","v":0},{"$f":"OFFSET('Raw Data'!EB7,Input_Details!$B$29,0)","v":0},{"$f":"OFFSET('Raw Data'!EC7,Input_Details!$B$29,0)","v":5},null,{"$f":"OFFSET('Raw Data'!ED7,Input_Details!$B$29,0)","v":2},{"$f":"OFFSET('Raw Data'!EE7,Input_Details!$B$29,0)","v":28},{"$f":"OFFSET('Raw Data'!EF7,Input_Details!$B$29,0)","v":1},{"$f":"OFFSET('Raw Data'!EG7,Input_Details!$B$29,0)","v":1},{"$f":"OFFSET('Raw Data'!EH7,Input_Details!$B$29,0)","v":0},{"$f":"OFFSET('Raw Data'!EI7,Input_Details!$B$29,0)","v":32}]
[null,"01:00:00",{"$f":"OFFSET('Raw Data'!DR8,Input_Details!$B$29,0)","v":1},{"$f":"OFFSET('Raw Data'!DS8,Input_Details!$B$29,0)","v":18},{"$f":"OFFSET('Raw Data'!DT8,Input_Details!$B$29,0)","v":1},{"$f":"OFFSET('Raw Data'!DU8,Input_Details!$B$29,0)","v":0},{"$f":"OFFSET('Raw Data'!DV8,Input_Details!$B$29,0)","v":0},{"$f":"OFFSET('Raw Data'!DW8,Input_Details!$B$29,0)","v":20},null,{"$f":"OFFSET('Raw Data'!DX8,Input_Details!$B$29,0)","v":0},{"$f":"OFFSET('Raw Data'!DY8,Input_Details!$B$29,0)","v":3},{"$f":"OFFSET('Raw Data'!DZ8,Input_Details!$B$29,0)","v":0},{"$f":"OFFSET('Raw Data'!EA8,Input_Details!$B$29,0)","v":0},{"$f":"OFFSET('Raw Data'!EB8,Input_Details!$B$29,0)","v":0},{"$f":"OFFSET('Raw Data'!EC8,Input_Details!$B$29,0)","v":3},null,{"$f":"OFFSET('Raw Data'!ED8,Input_Details!$B$29,0)","v":1},{"$f":"OFFSET('Raw Data'!EE8,Input_Details!$B$29,0)","v":21},{"$f":"OFFSET('Raw Data'!EF8,Input_Details!$B$29,0)","v":1},{"$f":"OFFSET('Raw Data'!EG8,Input_Details!$B$29,0)","v":0},{"$f":"OFFSET('Raw Data'!EH8,Input_Details!$B$29,0)","v":0},{"$f":"OFFSET('Raw Data'!EI8,Input_Details!$B$29,0)","v":23}]
[null,"01:15:00",{"$f":"OFFSET('Raw Data'!DR9,Input_Details!$B$29,0)","v":1},{"$f":"OFFSET('Raw Data'!DS9,Input_Details!$B$29,0)","v":15},{"$f":"OFFSET('Raw Data'!DT9,Input_Details!$B$29,0)","v":1},{"$f":"OFFSET('Raw Data'!DU9,Input_Details!$B$29,0)","v":1},{"$f":"OFFSET('Raw Data'!DV9,Input_Details!$B$29,0)","v":0},{"$f":"OFFSET('Raw Data'!DW9,Input_Details!$B$29,0)","v":18},null,{"$f":"OFFSET('Raw Data'!DX9,Input_Details!$B$29,0)","v":0},{"$f":"OFFSET('Raw Data'!DY9,Input_Details!$B$29,0)","v":4},{"$f":"OFFSET('Raw Data'!DZ9,Input_Details!$B$29,0)","v":0},{"$f":"OFFSET('Raw Data'!EA9,Input_Details!$B$29,0)","v":0},{"$f":"OFFSET('Raw Data'!EB9,Input_Details!$B$29,0)","v":0},{"$f":"OFFSET('Raw Data'!EC9,Input_Details!$B$29,0)","v":4},null,{"$f":"OFFSET('Raw Data'!ED9,Input_Details!$B$29,0)","v":1},{"$f":"OFFSET('Raw Data'!EE9,Input_Details!$B$29,0)","v":19},{"$f":"OFFSET('Raw Data'!EF9,Input_Details!$B$29,0)","v":1},{"$f":"OFFSET('Raw Data'!EG9,Input_Details!$B$29,0)","v":1},{"$f":"OFFSET('Raw Data'!EH9,Input_Details!$B$29,0)","v":0},{"$f":"OFFSET('Raw Data'!EI9,Input_Details!$B$29,0)","v":22}]
[null,"01:30:00",{"$f":"OFFSET('Raw Data'!DR10,Input_Details!$B$29,0)","v":1},{"$f":"OFFSET('Raw Data'!DS10,Input_Details!$B$29,0)","v":14},{"$f":"OFFSET('Raw Data'!DT10,Input_Details!$B$29,0)","v":1},{"$f":"OFFSET('Raw Data'!DU10,Input_Details!$B$29,0)","v":1},{"$f":"OFFSET('Raw Data'!DV10,Input_Details!$B$29,0)","v":0},{"$f":"OFFSET('Raw Data'!DW10,Input_Details!$B$29,0)","v":17},null,{"$f":"OFFSET('Raw Data'!DX10,Input_Details!$B$29,0)","v":0},{"$f":"OFFSET('Raw Data'!DY10,Input_Details!$B$29,0)","v":3},{"$f":"OFFSET('Raw Data'!DZ10,Input_Details!$B$29,0)","v":0},{"$f":"OFFSET('Raw Data'!EA10,Input_Details!$B$29,0)","v":0},{"$f":"OFFSET('Raw Data'!EB10,Input_Details!$B$29,0)","v":0},{"$f":"OFFSET('Raw Data'!EC10,Input_Details!$B$29,0)","v":3},null,{"$f":"OFFSET('Raw Data'!ED10,Input_Details!$B$29,0)","v":1},{"$f":"OFFSET('Raw Data'!EE10,Input_Details!$B$29,0)","v":17},{"$f":"OFFSET('Raw Data'!EF10,Input_Details!$B$29,0)","v":1},{"$f":"OFFSET('Raw Data'!EG10,Input_Details!$B$29,0)","v":1},{"$f":"OFFSET('Raw Data'!EH10,Input_Details!$B$29,0)","v":0},{"$f":"OFFSET('Raw Data'!EI10,Input_Details!$B$29,0)","v":20}]
[null,"01:45:00",{"$f":"OFFSET('Raw Data'!DR11,Input_Details!$B$29,0)","v":0},{"$f":"OFFSET('Raw Data'!DS11,Input_Details!$B$29,0)","v":12},{"$f":"OFFSET('Raw Data'!DT11,Input_Details!$B$29,0)","v":0},{"$f":"OFFSET('Raw Data'!DU11,Input_Details!$B$29,0)","v":1},{"$f":"OFFSET('Raw Data'!DV11,Input_Details!$B$29,0)","v":0},{"$f":"OFFSET('Raw Data'!DW11,Input_Details!$B$29,0)","v":13},null,{"$f":"OFFSET('Raw Data'!DX11,Input_Details!$B$29,0)","v":0},{"$f":"OFFSET('Raw Data'!DY11,Input_Details!$B$29,0)","v":2},{"$f":"OFFSET('Raw Data'!DZ11,Input_Details!$B$29,0)","v":0},{"$f":"OFFSET('Raw Data'!EA11,Input_Details!$B$29,0)","v":0},{"$f":"OFFSET('Raw Data'!EB11,Input_Details!$B$29,0)","v":0},{"$f":"OFFSET('Raw Data'!EC11,Input_Details!$B$29,0)","v":2},null,{"$f":"OFFSET('Raw Data'!ED11,Input_Details!$B$29,0)","v":0},{"$f":"OFFSET('Raw Data'!EE11,Input_Details!$B$29,0)","v":14},{"$f":"OFFSET('Raw Data'!EF11,Input_Details!$B$29,0)","v":0},{"$f":"OFFSET('Raw Data'!EG11,Input_Details!$B$29,0)","v":1},{"$f":"OFFSET('Raw Data'!EH11,Input_Details!$B$29,0)","v":0},{"$f":"OFFSET('Raw Data'!EI11,Input_Details!$B$29,0)","v":15}]
[null,"02:00:00",{"$f":"OFFSET('Raw Data'!DR12,Input_Details!$B$29,0)","v":0},{"$f":"OFFSET('Raw Data'!DS12,Input_Details!$B$29,0)","v":13},{"$f":"OFFSET('Raw Data'!DT12,Input_Details!$B$29,0)","v":0},{"$f":"OFFSET('Raw Data'!DU12,Input_Details!$B$29,0)","v":0},{"$f":"OFFSET('Raw Data'!DV12,Input_Details!$B$29,0)","v":0},{"$f":"OFFSET('Raw Data'!DW12,Input_Details!$B$29,0)","v":13},null,{"$f":"OFFSET('Raw Data'!DX12,Input_Details!$B$29,0)","v":0},{"$f":"OFFSET('Raw Data'!DY12,Input_Details!$B$29,0)","v":3},{"$f":"OFFSET('Raw Data'!DZ12,Input_Details!$B$29,0)","v":0},{"$f":"OFFSET('Raw Data'!EA12,Input_Details!$B$29,0)","v":0},{"$f":"OFFSET('Raw Data'!EB12,Input_Details!$B$29,0)","v":0},{"$f":"OFFSET('Raw Data'!EC12,Input_Details!$B$29,0)","v":3},null,{"$f":"OFFSET('Raw Data'!ED12,Input_Details!$B$29,0)","v":0},{"$f":"OFFSET('Raw Data'!EE12,Input_Details!$B$29,0)","v":16},{"$f":"OFFSET('Raw Data'!EF12,Input_Details!$B$29,0)","v":0},{"$f":"OFFSET('Raw Data'!EG12,Input_Details!$B$29,0)","v":0},{"$f":"OFFSET('Raw Data'!EH12,Input_Details!$B$29,0)","v":0},{"$f":"OFFSET('Raw Data'!EI12,Input_Details!$B$29,0)","v":16}]
[null,"02:15:00",{"$f":"OFFSET('Raw Data'!DR13,Input_Details!$B$29,0)","v":1},{"$f":"OFFSET('Raw Data'!DS13,Input_Details!$B$29,0)","v":13},{"$f":"OFFSET('Raw Data'!DT13,Input_Details!$B$29,0)","v":0},{"$f":"OFFSET('Raw Data'!DU13,Input_Details!$B$29,0)","v":1},{"$f":"OFFSET('Raw Data'!DV13,Input_Details!$B$29,0)","v":0},{"$f":"OFFSET('Raw Data'!DW13,Input_Details!$B$29,0)","v":15},null,{"$f":"OFFSET('Raw Data'!DX13,Input_Details!$B$29,0)","v":0},{"$f":"OFFSET('Raw Data'!DY13,Input_Details!$B$29,0)","v":2},{"$f":"OFFSET('Raw Data'!DZ13,Input_Details!$B$29,0)","v":0},{"$f":"OFFSET('Raw Data'!EA13,Input_Details!$B$29,0)","v":0},{"$f":"OFFSET('Raw Data'!EB13,Input_Details!$B$29,0)","v":0},{"$f":"OFFSET('Raw Data'!EC13,Input_Details!$B$29,0)","v":2},null,{"$f":"OFFSET('Raw Data'!ED13,Input_Details!$B$29,0)","v":1},{"$f":"OFFSET('Raw Data'!EE13,Input_Details!$B$29,0)","v":15},{"$f":"OFFSET('Raw Data'!EF13,Input_Details!$B$29,0)","v":0},{"$f":"OFFSET('Raw Data'!EG13,Input_Details!$B$29,0)","v":1},{"$f":"OFFSET('Raw Data'!EH13,Input_Details!$B$29,0)","v":0},{"$f":"OFFSET('Raw Data'!EI13,Input_Details!$B$29,0)","v":17}]
[null,"02:30:00",{"$f":"OFFSET('Raw Data'!DR14,Input_Details!$B$29,0)","v":1},{"$f":"OFFSET('Raw Data'!DS14,Input_Details!$B$29,0)","v":10},{"$f":"OFFSET('Raw Data'!DT14,Input_Details!$B$29,0)","v":0},{"$f":"OFFSET('Raw Data'!DU14,Input_Details!$B$29,0)","v":0},{"$f":"OFFSET('Raw Data'!DV14,Input_Details!$B$29,0)","v":0},{"$f":"OFFSET('Raw Data'!DW14,Input_Details!$B$29,0)","v":11},null,{"$f":"OFFSET('Raw Data'!DX14,Input_Details!$B$29,0)","v":0},{"$f":"OFFSET('Raw Data'!DY14,Input_Details!$B$29,0)","v":2},{"$f":"OFFSET('Raw Data'!DZ14,Input_Details!$B$29,0)","v":0},{"$f":"OFFSET('Raw Data'!EA14,Input_Details!$B$29,0)","v":0},{"$f":"OFFSET('Raw Data'!EB14,Input_Details!$B$29,0)","v":0},{"$f":"OFFSET('Raw Data'!EC14,Input_Details!$B$29,0)","v":2},null,{"$f":"OFFSET('Raw Data'!ED14,Input_Details!$B$29,0)","v":1},{"$f":"OFFSET('Raw Data'!EE14,Input_Details!$B$29,0)","v":12},{"$f":"OFFSET('Raw Data'!EF14,Input_Details!$B$29,0)","v":0},{"$f":"OFFSET('Raw Data'!EG14,Input_Details!$B$29,0)","v":0},{"$f":"OFFSET('Raw Data'!EH14,Input_Details!$B$29,0)","v":0},{"$f":"OFFSET('Raw Data'!EI14,Input_Details!$B$29,0)","v":13}]
[null,"02:45:00",{"$f":"OFFSET('Raw Data'!DR15,Input_Details!$B$29,0)","v":1},{"$f":"OFFSET('Raw Data'!DS15,Input_Details!$B$29,0)","v":8},{"$f":"OFFSET('Raw Data'!DT15,Input_Details!$B$29,0)","v":1},{"$f":"OFFSET('Raw Data'!DU15,Input_Details!$B$29,0)","v":1},{"$f":"OFFSET('Raw Data'!DV15,Input_Details!$B$29,0)","v":0},{"$f":"OFFSET('Raw Data'!DW15,Input_Details!$B$29,0)","v":11},null,{"$f":"OFFSET('Raw Data'!DX15,Input_Details!$B$29,0)","v":0},{"$f":"OFFSET('Raw Data'!DY15,Input_Details!$B$29,0)","v":1},{"$f":"OFFSET('Raw Data'!DZ15,Input_Details!$B$29,0)","v":0},{"$f":"OFFSET('Raw Data'!EA15,Input_Details!$B$29,0)","v":0},{"$f":"OFFSET('Raw Data'!EB15,Input_Details!$B$29,0)","v":0},{"$f":"OFFSET('Raw Data'!EC15,Input_Details!$B$29,0)","v":1},null,{"$f":"OFFSET('Raw Data'!ED15,Input_Details!$B$29,0)","v":1},{"$f":"OFFSET('Raw Data'!EE15,Input_Details!$B$29,0)","v":9},{"$f":"OFFSET('Raw Data'!EF15,Input_Details!$B$29,0)","v":1},{"$f":"OFFSET('Raw Data'!EG15,Input_Details!$B$29,0)","v":1},{"$f":"OFFSET('Raw Data'!EH15,Input_Details!$B$29,0)","v":0},{"$f":"OFFSET('Raw Data'!EI15,Input_Details!$B$29,0)","v":12}]
[null,"03:00:00",{"$f":"OFFSET('Raw Data'!DR16,Input_Details!$B$29,0)","v":0},{"$f":"OFFSET('Raw Data'!DS16,Input_Details!$B$29,0)","v":9},{"$f":"OFFSET('Raw Data'!DT16,Input_Details!$B$29,0)","v":0},{"$f":"OFFSET('Raw Data'!DU16,Input_Details!$B$29,0)","v":1},{"$f":"OFFSET('Raw Data'!DV16,Input_Details!$B$29,0)","v":0},{"$f":"OFFSET('Raw Data'!DW16,Input_Details!$B$29,0)","v":10},null,{"$f":"OFFSET('Raw Data'!DX16,Input_Details!$B$29,0)","v":0},{"$f":"OFFSET('Raw Data'!DY16,Input_Details!$B$29,0)","v":2},{"$f":"OFFSET('Raw Data'!DZ16,Input_Details!$B$29,0)","v":0},{"$f":"OFFSET('Raw Data'!EA16,Input_Details!$B$29,0)","v":0},{"$f":"OFFSET('Raw Data'!EB16,Input_Details!$B$29,0)","v":0},{"$f":"OFFSET('Raw Data'!EC16,Input_Details!$B$29,0)","v":2},null,{"$f":"OFFSET('Raw Data'!ED16,Input_Details!$B$29,0)","v":0},{"$f":"OFFSET('Raw Data'!EE16,Input_Details!$B$29,0)","v":11},{"$f":"OFFSET('Raw Data'!EF16,Input_Details!$B$29,0)","v":0},{"$f":"OFFSET('Raw Data'!EG16,Input_Details!$B$29,0)","v":1},{"$f":"OFFSET('Raw Data'!EH16,Input_Details!$B$29,0)","v":0},{"$f":"OFFSET('Raw Data'!EI16,Input_Details!$B$29,0)","v":12}]
[null,"03:15:00",{"$f":"OFFSET('Raw Data'!DR17,Input_Details!$B$29,0)","v":0},{"$f":"OFFSET('Raw Data'!DS17,Input_Details!$B$29,0)","v":9},{"$f":"OFFSET('Raw Data'!DT17,Input_Details!$B$29,0)","v":1},{"$f":"OFFSET('Raw Data'!DU17,Input_Details!$B$29,0)","v":0},{"$f":"OFFSET('Raw Data'!DV17,Input_Details!$B$29,0)","v":0},{"$f":"OFFSET('Raw Data'!DW17,Input_Details!$B$29,0)","v":10},null,{"$f":"OFFSET('Raw Data'!DX17,Input_Details!$B$29,0)","v":0},{"$f":"OFFSET('Raw Data'!DY17,Input_Details!$B$29,0)","v":2},{"$f":"OFFSET('Raw Data'!DZ17,Input_Details!$B$29,0)","v":0},{"$f":"OFFSET('Raw Data'!EA17,Input_Details!$B$29,0)","v":0},{"$f":"OFFSET('Raw Data'!EB17,Input_Details!$B$29,0)","v":0},{"$f":"OFFSET('Raw Data'!EC17,Input_Details!$B$29,0)","v":2},null,{"$f":"OFFSET('Raw Data'!ED17,Input_Details!$B$29,0)","v":0},{"$f":"OFFSET('Raw Data'!EE17,Input_Details!$B$29,0)","v":11},{"$f":"OFFSET('Raw Data'!EF17,Input_Details!$B$29,0)","v":1},{"$f":"OFFSET('Raw Data'!EG17,Input_Details!$B$29,0)","v":0},{"$f":"OFFSET('Raw Data'!EH17,Input_Details!$B$29,0)","v":0},{"$f":"OFFSET('Raw Data'!EI17,Input_Details!$B$29,0)","v":12}]
[null,"03:30:00",{"$f":"OFFSET('Raw Data'!DR18,Input_Details!$B$29,0)","v":0},{"$f":"OFFSET('Raw Data'!DS18,Input_Details!$B$29,0)","v":10},{"$f":"OFFSET('Raw Data'!DT18,Input_Details!$B$29,0)","v":0},{"$f":"OFFSET('Raw Data'!DU18,Input_Details!$B$29,0)","v":0},{"$f":"OFFSET('Raw Data'!DV18,Input_Details!$B$29,0)","v":0},{"$f":"OFFSET('Raw Data'!DW18,Input_Details!$B$29,0)","v":10},null,{"$f":"OFFSET('Raw Data'!DX18,Input_Details!$B$29,0)","v":0},{"$f":"OFFSET('Raw Data'!DY18,Input_Details!$B$29,0)","v":1},{"$f":"OFFSET('Raw Data'!DZ18,Input_Details!$B$29,0)","v":0},{"$f":"OFFSET('Raw Data'!EA18,Input_Details!$B$29,0)","v":0},{"$f":"OFFSET('Raw Data'!EB18,Input_Details!$B$29,0)","v":0},{"$f":"OFFSET('Raw Data'!EC18,Input_Details!$B$29,0)","v":1},null,{"$f":"OFFSET('Raw Data'!ED18,Input_Details!$B$29,0)","v":0},{"$f":"OFFSET('Raw Data'!EE18,Input_Details!$B$29,0)","v":11},{"$f":"OFFSET('Raw Data'!EF18,Input_Details!$B$29,0)","v":0},{"$f":"OFFSET('Raw Data'!EG18,Input_Details!$B$29,0)","v":0},{"$f":"OFFSET('Raw Data'!EH18,Input_Details!$B$29,0)","v":0},{"$f":"OFFSET('Raw Data'!EI18,Input_Details!$B$29,0)","v":11}]
[null,"03:45:00",{"$f":"OFFSET('Raw Data'!DR19,Input_Details!$B$29,0)","v":0},{"$f":"OFFSET('Raw Data'!DS19,Input_Details!$B$29,0)","v":9},{"$f":"OFFSET('Raw Data'!DT19,Input_Details!$B$29,0)","v":1},{"$f":"OFFSET('Raw Data'!DU19,Input_Details!$B$29,0)","v":0},{"$f":"OFFSET('Raw Data'!DV19,Input_Details!$B$29,0)","v":0},{"$f":"OFFSET('Raw Data'!DW19,Input_Details!$B$29,0)","v":10},null,{"$f":"OFFSET('Raw Data'!DX19,Input_Details!$B$29,0)","v":0},{"$f":"OFFSET('Raw Data'!DY19,Input_Details!$B$29,0)","v":1},{"$f":"OFFSET('Raw Data'!DZ19,Input_Details!$B$29,0)","v":0},{"$f":"OFFSET('Raw Data'!EA19,Input_Details!$B$29,0)","v":0},{"$f":"OFFSET('Raw Data'!EB19,Input_Details!$B$29,0)","v":0},{"$f":"OFFSET('Raw Data'!EC19,Input_Details!$B$29,0)","v":1},null,{"$f":"OFFSET('Raw Data'!ED19,Input_Details!$B$29,0)","v":0},{"$f":"OFFSET('Raw Data'!EE19,Input_Details!$B$29,0)","v":10},{"$f":"OFFSET('Raw Data'!EF19,Input_Details!$B$29,0)","v":1},{"$f":"OFFSET('Raw Data'!EG19,Input_Details!$B$29,0)","v":0},{"$f":"OFFSET('Raw Data'!EH19,Input_Details!$B$29,0)","v":0},{"$f":"OFFSET('Raw Data'!EI19,Input_Details!$B$29,0)","v":11}]
[null,"04:00:00",{"$f":"OFFSET('Raw Data'!DR20,Input_Details!$B$29,0)","v":0},{"$f":"OFFSET('Raw Data'!DS20,Input_Details!$B$29,0)","v":7},{"$f":"OFFSET('Raw Data'!DT20,Input_Details!$B$29,0)","v":0},{"$f":"OFFSET('Raw Data'!DU20,Input_Details!$B$29,0)","v":1},{"$f":"OFFSET('Raw Data'!DV20,Input_Details!$B$29,0)","v":0},{"$f":"OFFSET('Raw Data'!DW20,Input_Details!$B$29,0)","v":8},null,{"$f":"OFFSET('Raw Data'!DX20,Input_Details!$B$29,0)","v":0},{"$f":"OFFSET('Raw Data'!DY20,Input_Details!$B$29,0)","v":1},{"$f":"OFFSET('Raw Data'!DZ20,Input_Details!$B$29,0)","v":0},{"$f":"OFFSET('Raw Data'!EA20,Input_Details!$B$29,0)","v":0},{"$f":"OFFSET('Raw Data'!EB20,Input_Details!$B$29,0)","v":0},{"$f":"OFFSET('Raw Data'!EC20,Input_Details!$B$29,0)","v":1},null,{"$f":"OFFSET('Raw Data'!ED20,Input_Details!$B$29,0)","v":0},{"$f":"OFFSET('Raw Data'!EE20,Input_Details!$B$29,0)","v":8},{"$f":"OFFSET('Raw Data'!EF20,Input_Details!$B$29,0)","v":0},{"$f":"OFFSET('Raw Data'!EG20,Input_Details!$B$29,0)","v":1},{"$f":"OFFSET('Raw Data'!EH20,Input_Details!$B$29,0)","v":0},{"$f":"OFFSET('Raw Data'!EI20,Input_Details!$B$29,0)","v":9}]
[null,"04:15:00",{"$f":"OFFSET('Raw Data'!DR21,Input_Details!$B$29,0)","v":0},{"$f":"OFFSET('Raw Data'!DS21,Input_Details!$B$29,0)","v":8},{"$f":"OFFSET('Raw Data'!DT21,Input_Details!$B$29,0)","v":0},{"$f":"OFFSET('Raw Data'!DU21,Input_Details!$B$29,0)","v":1},{"$f":"OFFSET('Raw Data'!DV21,Input_Details!$B$29,0)","v":0},{"$f":"OFFSET('Raw Data'!DW21,Input_Details!$B$29,0)","v":9},null,{"$f":"OFFSET('Raw Data'!DX21,Input_Details!$B$29,0)","v":0},{"$f":"OFFSET('Raw Data'!DY21,Input_Details!$B$29,0)","v":1},{"$f":"OFFSET('Raw Data'!DZ21,Input_Details!$B$29,0)","v":0},{"$f":"OFFSET('Raw Data'!EA21,Input_Details!$B$29,0)","v":0},{"$f":"OFFSET('Raw Data'!EB21,Input_Details!$B$29,0)","v":0},{"$f":"OFFSET('Raw Data'!EC21,Input_Details!$B$29,0)","v":1},null,{"$f":"OFFSET('Raw Data'!ED21,Input_Details!$B$29,0)","v":0},{"$f":"OFFSET('Raw Data'!EE21,Input_Details!$B$29,0)","v":9},{"$f":"OFFSET('Raw Data'!EF21,Input_Details!$B$29,0)","v":0},{"$f":"OFFSET('Raw Data'!EG21,Input_Details!$B$29,0)","v":1},{"$f":"OFFSET('Raw Data'!EH21,Input_Details!$B$29,0)","v":0},{"$f":"OFFSET('Raw Data'!EI21,Input_Details!$B$29,0)","v":10}]
[null,"04:30:00",{"$f":"OFFSET('Raw Data'!DR22,Input_Details!$B$29,0)","v":0},{"$f":"OFFSET('Raw Data'!DS22,Input_Details!$B$29,0)","v":7},{"$f":"OFFSET('Raw Data'!DT22,Input_Details!$B$29,0)","v":0},{"$f":"OFFSET('Raw Data'!DU22,Input_Details!$B$29,0)","v":0},{"$f":"OFFSET('Raw Data'!DV22,Input_Details!$B$29,0)","v":0},{"$f":"OFFSET('Raw Data'!DW22,Input_Details!$B$29,0)","v":7},null,{"$f":"OFFSET('Raw Data'!DX22,Input_Details!$B$29,0)","v":0},{"$f":"OFFSET('Raw Data'!DY22,Input_Details!$B$29,0)","v":2},{"$f":"OFFSET('Raw Data'!DZ22,Input_Details!$B$29,0)","v":0},{"$f":"OFFSET('Raw Data'!EA22,Input_Details!$B$29,0)","v":0},{"$f":"OFFSET('Raw Data'!EB22,Input_Details!$B$29,0)","v":0},{"$f":"OFFSET('Raw Data'!EC22,Input_Details!$B$29,0)","v":2},null,{"$f":"OFFSET('Raw Data'!ED22,Input_Details!$B$29,0)","v":0},{"$f":"OFFSET('Raw Data'!EE22,Input_Details!$B$29,0)","v":9},{"$f":"OFFSET('Raw Data'!EF22,Input_Details!$B$29,0)","v":0},{"$f":"OFFSET('Raw Data'!EG22,Input_Details!$B$29,0)","v":0},{"$f":"OFFSET('Raw Data'!EH22,Input_Details!$B$29,0)","v":0},{"$f":"OFFSET('Raw Data'!EI22,Input_Details!$B$29,0)","v":9}]
[null,"04:45:00",{"$f":"OFFSET('Raw Data'!DR23,Input_Details!$B$29,0)","v":1},{"$f":"OFFSET('Raw Data'!DS23,Input_Details!$B$29,0)","v":6},{"$f":"OFFSET('Raw Data'!DT23,Input_Details!$B$29,0)","v":1},{"$f":"OFFSET('Raw Data'!DU23,Input_Details!$B$29,0)","v":0},{"$f":"OFFSET('Raw Data'!DV23,Input_Details!$B$29,0)","v":0},{"$f":"OFFSET('Raw Data'!DW23,Input_Details!$B$29,0)","v":8},null,{"$f":"OFFSET('Raw Data'!DX23,Input_Details!$B$29,0)","v":2},{"$f":"OFFSET('Raw Data'!DY23,Input_Details!$B$29,0)","v":3},{"$f":"OFFSET('Raw Data'!DZ23,Input_Details!$B$29,0)","v":0},{"$f":"OFFSET('Raw Data'!EA23,Input_Details!$B$29,0)","v":0},{"$f":"OFFSET('Raw Data'!EB23,Input_Details!$B$29,0)","v":0},{"$f":"OFFSET('Raw Data'!EC23,Input_Details!$B$29,0)","v":5},null,{"$f":"OFFSET('Raw Data'!ED23,Input_Details!$B$29,0)","v":3},{"$f":"OFFSET('Raw Data'!EE23,Input_Details!$B$29,0)","v":9},{"$f":"OFFSET('Raw Data'!EF23,Input_Details!$B$29,0)","v":1},{"$f":"OFFSET('Raw Data'!EG23,Input_Details!$B$29,0)","v":0},{"$f":"OFFSET('Raw Data'!EH23,Input_Details!$B$29,0)","v":0},{"$f":"OFFSET('Raw Data'!EI23,Input_Details!$B$29,0)","v":13}]
[null,"05:00:00",{"$f":"OFFSET('Raw Data'!DR24,Input_Details!$B$29,0)","v":0},{"$f":"OFFSET('Raw Data'!DS24,Input_Details!$B$29,0)","v":9},{"$f":"OFFSET('Raw Data'!DT24,Input_Details!$B$29,0)","v":1},{"$f":"OFFSET('Raw Data'!DU24,Input_Details!$B$29,0)","v":1},{"$f":"OFFSET('Raw Data'!DV24,Input_Details!$B$29,0)","v":0},{"$f":"OFFSET('Raw Data'!DW24,Input_Details!$B$29,0)","v":11},null,{"$f":"OFFSET('Raw Data'!DX24,Input_Details!$B$29,0)","v":1},{"$f":"OFFSET('Raw Data'!DY24,Input_Details!$B$29,0)","v":3},{"$f":"OFFSET('Raw Data'!DZ24,Input_Details!$B$29,0)","v":0},{"$f":"OFFSET('Raw Data'!EA24,Input_Details!$B$29,0)","v":0},{"$f":"OFFSET('Raw Data'!EB24,Input_Details!$B$29,0)","v":0},{"$f":"OFFSET('Raw Data'!EC24,Input_Details!$B$29,0)","v":4},null,{"$f":"OFFSET('Raw Data'!ED24,Input_Details!$B$29,0)","v":1},{"$f":"OFFSET('Raw Data'!EE24,Input_Details!$B$29,0)","v":12},{"$f":"OFFSET('Raw Data'!EF24,Input_Details!$B$29,0)","v":1},{"$f":"OFFSET('Raw Data'!EG24,Input_Details!$B$29,0)","v":1},{"$f":"OFFSET('Raw Data'!EH24,Input_Details!$B$29,0)","v":0},{"$f":"OFFSET('Raw Data'!EI24,Input_Details!$B$29,0)","v":15}]
[null,"05:15:00",{"$f":"OFFSET('Raw Data'!DR25,Input_Details!$B$29,0)","v":1},{"$f":"OFFSET('Raw Data'!DS25,Input_Details!$B$29,0)","v":9},{"$f":"OFFSET('Raw Data'!DT25,Input_Details!$B$29,0)","v":1},{"$f":"OFFSET('Raw Data'!DU25,Input_Details!$B$29,0)","v":1},{"$f":"OFFSET('Raw Data'!DV25,Input_Details!$B$29,0)","v":0},{"$f":"OFFSET('Raw Data'!DW25,Input_Details!$B$29,0)","v":12},null,{"$f":"OFFSET('Raw Data'!DX25,Input_Details!$B$29,0)","v":1},{"$f":"OFFSET('Raw Data'!DY25,Input_Details!$B$29,0)","v":3},{"$f":"OFFSET('Raw Data'!DZ25,Input_Details!$B$29,0)","v":0},{"$f":"OFFSET('Raw Data'!EA25,Input_Details!$B$29,0)","v":0},{"$f":"OFFSET('Raw Data'!EB25,Input_Details!$B$29,0)","v":0},{"$f":"OFFSET('Raw Data'!EC25,Input_Details!$B$29,0)","v":4},null,{"$f":"OFFSET('Raw Data'!ED25,Input_Details!$B$29,0)","v":2},{"$f":"OFFSET('Raw Data'!EE25,Input_Details!$B$29,0)","v":12},{"$f":"OFFSET('Raw Data'!EF25,Input_Details!$B$29,0)","v":1},{"$f":"OFFSET('Raw Data'!EG25,Input_Details!$B$29,0)","v":1},{"$f":"OFFSET('Raw Data'!EH25,Input_Details!$B$29,0)","v":0},{"$f":"OFFSET('Raw Data'!EI25,Input_Details!$B$29,0)","v":16}]
[null,"05:30:00",{"$f":"OFFSET('Raw Data'!DR26,Input_Details!$B$29,0)","v":0},{"$f":"OFFSET('Raw Data'!DS26,Input_Details!$B$29,0)","v":9},{"$f":"OFFSET('Raw Data'!DT26,Input_Details!$B$29,0)","v":0},{"$f":"OFFSET('Raw Data'!DU26,Input_Details!$B$29,0)","v":0},{"$f":"OFFSET('Raw Data'!DV26,Input_Details!$B$29,0)","v":0},{"$f":"OFFSET('Raw Data'!DW26,Input_Details!$B$29,0)","v":9},null,{"$f":"OFFSET('Raw Data'!DX26,Input_Details!$B$29,0)","v":2},{"$f":"OFFSET('Raw Data'!DY26,Input_Details!$B$29,0)","v":2},{"$f":"OFFSET('Raw Data'!DZ26,Input_Details!$B$29,0)","v":0},{"$f":"OFFSET('Raw Data'!EA26,Input_Details!$B$29,0)","v":1},{"$f":"OFFSET('Raw Data'!EB26,Input_Details!$B$29,0)","v":0},{"$f":"OFFSET('Raw Data'!EC26,Input_Details!$B$29,0)","v":5},null,{"$f":"OFFSET('Raw Data'!ED26,Input_Details!$B$29,0)","v":2},{"$f":"OFFSET('Raw Data'!EE26,Input_Details!$B$29,0)","v":11},{"$f":"OFFSET('Raw Data'!EF26,Input_Details!$B$29,0)","v":0},{"$f":"OFFSET('Raw Data'!EG26,Input_Details!$B$29,0)","v":1},{"$f":"OFFSET('Raw Data'!EH26,Input_Details!$B$29,0)","v":0},{"$f":"OFFSET('Raw Data'!EI26,Input_Details!$B$29,0)","v":14}]
[null,"05:45:00",{"$f":"OFFSET('Raw Data'!DR27,Input_Details!$B$29,0)","v":0},{"$f":"OFFSET('Raw Data'!DS27,Input_Details!$B$29,0)","v":13},{"$f":"OFFSET('Raw Data'!DT27,Input_Details!$B$29,0)","v":1},{"$f":"OFFSET('Raw Data'!DU27,Input_Details!$B$29,0)","v":1},{"$f":"OFFSET('Raw Data'!DV27,Input_Details!$B$29,0)","v":0},{"$f":"OFFSET('Raw Data'!DW27,Input_Details!$B$29,0)","v":15},null,{"$f":"OFFSET('Raw Data'!DX27,Input_Details!$B$29,0)","v":3},{"$f":"OFFSET('Raw Data'!DY27,Input_Details!$B$29,0)","v":3},{"$f":"OFFSET('Raw Data'!DZ27,Input_Details!$B$29,0)","v":0},{"$f":"OFFSET('Raw Data'!EA27,Input_Details!$B$29,0)","v":0},{"$f":"OFFSET('Raw Data'!EB27,Input_Details!$B$29,0)","v":0},{"$f":"OFFSET('Raw Data'!EC27,Input_Details!$B$29,0)","v":6},null,{"$f":"OFFSET('Raw Data'!ED27,Input_Details!$B$29,0)","v":3},{"$f":"OFFSET('Raw Data'!EE27,Input_Details!$B$29,0)","v":16},{"$f":"OFFSET('Raw Data'!EF27,Input_Details!$B$29,0)","v":1},{"$f":"OFFSET('Raw Data'!EG27,Input_Details!$B$29,0)","v":1},{"$f":"OFFSET('Raw Data'!EH27,Input_Details!$B$29,0)","v":0},{"$f":"OFFSET('Raw Data'!EI27,Input_Details!$B$29,0)","v":21}]
[null,"06:00:00",{"$f":"OFFSET('Raw Data'!DR28,Input_Details!$B$29,0)","v":0},{"$f":"OFFSET('Raw Data'!DS28,Input_Details!$B$29,0)","v":14},{"$f":"OFFSET('Raw Data'!DT28,Input_Details!$B$29,0)","v":2},{"$f":"OFFSET('Raw Data'!DU28,Input_Details!$B$29,0)","v":1},{"$f":"OFFSET('Raw Data'!DV28,Input_Details!$B$29,0)","v":0},{"$f":"OFFSET('Raw Data'!DW28,Input_Details!$B$29,0)","v":17},null,{"$f":"OFFSET('Raw Data'!DX28,Input_Details!$B$29,0)","v":2},{"$f":"OFFSET('Raw Data'!DY28,Input_Details!$B$29,0)","v":4},{"$f":"OFFSET('Raw Data'!DZ28,Input_Details!$B$29,0)","v":0},{"$f":"OFFSET('Raw Data'!EA28,Input_Details!$B$29,0)","v":0},{"$f":"OFFSET('Raw Data'!EB28,Input_Details!$B$29,0)","v":0},{"$f":"OFFSET('Raw Data'!EC28,Input_Details!$B$29,0)","v":6},null,{"$f":"OFFSET('Raw Data'!ED28,Input_Details!$B$29,0)","v":2},{"$f":"OFFSET('Raw Data'!EE28,Input_Details!$B$29,0)","v":18},{"$f":"OFFSET('Raw Data'!EF28,Input_Details!$B$29,0)","v":2},{"$f":"OFFSET('Raw Data'!EG28,Input_Details!$B$29,0)","v":1},{"$f":"OFFSET('Raw Data'!EH28,Input_Details!$B$29,0)","v":0},{"$f":"OFFSET('Raw Data'!EI28,Input_Details!$B$29,0)","v":23}]
[null,"06:15:00",{"$f":"OFFSET('Raw Data'!DR29,Input_Details!$B$29,0)","v":1},{"$f":"OFFSET('Raw Data'!DS29,Input_Details!$B$29,0)","v":20},{"$f":"OFFSET('Raw Data'!DT29,Input_Details!$B$29,0)","v":2},{"$f":"OFFSET('Raw Data'!DU29,Input_Details!$B$29,0)","v":1},{"$f":"OFFSET('Raw Data'!DV29,Input_Details!$B$29,0)","v":0},{"$f":"OFFSET('Raw Data'!DW29,Input_Details!$B$29,0)","v":24},null,{"$f":"OFFSET('Raw Data'!DX29,Input_Details!$B$29,0)","v":3},{"$f":"OFFSET('Raw Data'!DY29,Input_Details!$B$29,0)","v":5},{"$f":"OFFSET('Raw Data'!DZ29,Input_Details!$B$29,0)","v":0},{"$f":"OFFSET('Raw Data'!EA29,Input_Details!$B$29,0)","v":0},{"$f":"OFFSET('Raw Data'!EB29,Input_Details!$B$29,0)","v":0},{"$f":"OFFSET('Raw Data'!EC29,Input_Details!$B$29,0)","v":8},null,{"$f":"OFFSET('Raw Data'!ED29,Input_Details!$B$29,0)","v":4},{"$f":"OFFSET('Raw Data'!EE29,Input_Details!$B$29,0)","v":25},{"$f":"OFFSET('Raw Data'!EF29,Input_Details!$B$29,0)","v":2},{"$f":"OFFSET('Raw Data'!EG29,Input_Details!$B$29,0)","v":1},{"$f":"OFFSET('Raw Data'!EH29,Input_Details!$B$29,0)","v":0},{"$f":"OFFSET('Raw Data'!EI29,Input_Details!$B$29,0)","v":32}]
[null,"06:30:00",{"$f":"OFFSET('Raw Data'!DR30,Input_Details!$B$29,0)","v":0},{"$f":"OFFSET('Raw Data'!DS30,Input_Details!$B$29,0)","v":25},{"$f":"OFFSET('Raw Data'!DT30,Input_Details!$B$29,0)","v":4},{"$f":"OFFSET('Raw Data'!DU30,Input_Details!$B$29,0)","v":2},{"$f":"OFFSET('Raw Data'!DV30,Input_Details!$B$29,0)","v":0},{"$f":"OFFSET('Raw Data'!DW30,Input_Details!$B$29,0)","v":31},null,{"$f":"OFFSET('Raw Data'!DX30,Input_Details!$B$29,0)","v":2},{"$f":"OFFSET('Raw Data'!DY30,Input_Details!$B$29,0)","v":6},{"$f":"OFFSET('Raw Data'!DZ30,Input_Details!$B$29,0)","v":0},{"$f":"OFFSET('Raw Data'!EA30,Input_Details!$B$29,0)","v":0},{"$f":"OFFSET('Raw Data'!EB30,Input_Details!$B$29,0)","v":0},{"$f":"OFFSET('Raw Data'!EC30,Input_Details!$B$29,0)","v":8},null,{"$f":"OFFSET('Raw Data'!ED30,Input_Details!$B$29,0)","v":2},{"$f":"OFFSET('Raw Data'!EE30,Input_Details!$B$29,0)","v":31},{"$f":"OFFSET('Raw Data'!EF30,Input_Details!$B$29,0)","v":4},{"$f":"OFFSET('Raw Data'!EG30,Input_Details!$B$29,0)","v":2},{"$f":"OFFSET('Raw Data'!EH30,Input_Details!$B$29,0)","v":0},{"$f":"OFFSET('Raw Data'!EI30,Input_Details!$B$29,0)","v":39}]
[null,"06:45:00",{"$f":"OFFSET('Raw Data'!DR31,Input_Details!$B$29,0)","v":2},{"$f":"OFFSET('Raw Data'!DS31,Input_Details!$B$29,0)","v":24},{"$f":"OFFSET('Raw Data'!DT31,Input_Details!$B$29,0)","v":2},{"$f":"OFFSET('Raw Data'!DU31,Input_Details!$B$29,0)","v":2},{"$f":"OFFSET('Raw Data'!DV31,Input_Details!$B$29,0)","v":0},{"$f":"OFFSET('Raw Data'!DW31,Input_Details!$B$29,0)","v":30},null,{"$f":"OFFSET('Raw Data'!DX31,Input_Details!$B$29,0)","v":4},{"$f":"OFFSET('Raw Data'!DY31,Input_Details!$B$29,0)","v":7},{"$f":"OFFSET('Raw Data'!DZ31,Input_Details!$B$29,0)","v":1},{"$f":"OFFSET('Raw Data'!EA31,Input_Details!$B$29,0)","v":0},{"$f":"OFFSET('Raw Data'!EB31,Input_Details!$B$29,0)","v":0},{"$f":"OFFSET('Raw Data'!EC31,Input_Details!$B$29,0)","v":12},null,{"$f":"OFFSET('Raw Data'!ED31,Input_Details!$B$29,0)","v":6},{"$f":"OFFSET('Raw Data'!EE31,Input_Details!$B$29,0)","v":31},{"$f":"OFFSET('Raw Data'!EF31,Input_Details!$B$29,0)","v":3},{"$f":"OFFSET('Raw Data'!EG31,Input_Details!$B$29,0)","v":2},{"$f":"OFFSET('Raw Data'!EH31,Input_Details!$B$29,0)","v":0},{"$f":"OFFSET('Raw Data'!EI31,Input_Details!$B$29,0)","v":42}]
[null,"07:00:00",{"$f":"OFFSET('Raw Data'!DR32,Input_Details!$B$29,0)","v":2},{"$f":"OFFSET('Raw Data'!DS32,Input_Details!$B$29,0)","v":19},{"$f":"OFFSET('Raw Data'!DT32,Input_Details!$B$29,0)","v":2},{"$f":"OFFSET('Raw Data'!DU32,Input_Details!$B$29,0)","v":1},{"$f":"OFFSET('Raw Data'!DV32,Input_Details!$B$29,0)","v":0},{"$f":"OFFSET('Raw Data'!DW32,Input_Details!$B$29,0)","v":24},null,{"$f":"OFFSET('Raw Data'!DX32,Input_Details!$B$29,0)","v":2},{"$f":"OFFSET('Raw Data'!DY32,Input_Details!$B$29,0)","v":6},{"$f":"OFFSET('Raw Data'!DZ32,Input_Details!$B$29,0)","v":0},{"$f":"OFFSET('Raw Data'!EA32,Input_Details!$B$29,0)","v":0},{"$f":"OFFSET('Raw Data'!EB32,Input_Details!$B$29,0)","v":0},{"$f":"OFFSET('Raw Data'!EC32,Input_Details!$B$29,0)","v":8},null,{"$f":"OFFSET('Raw Data'!ED32,Input_Details!$B$29,0)","v":4},{"$f":"OFFSET('Raw Data'!EE32,Input_Details!$B$29,0)","v":25},{"$f":"OFFSET('Raw Data'!EF32,Input_Details!$B$29,0)","v":2},{"$f":"OFFSET('Raw Data'!EG32,Input_Details!$B$29,0)","v":1},{"$f":"OFFSET('Raw Data'!EH32,Input_Details!$B$29,0)","v":0},{"$f":"OFFSET('Raw Data'!EI32,Input_Details!$B$29,0)","v":32}]
[null,"07:15:00",{"$f":"OFFSET('Raw Data'!DR33,Input_Details!$B$29,0)","v":2},{"$f":"OFFSET('Raw Data'!DS33,Input_Details!$B$29,0)","v":21},{"$f":"OFFSET('Raw Data'!DT33,Input_Details!$B$29,0)","v":3},{"$f":"OFFSET('Raw Data'!DU33,Input_Details!$B$29,0)","v":1},{"$f":"OFFSET('Raw Data'!DV33,Input_Details!$B$29,0)","v":0},{"$f":"OFFSET('Raw Data'!DW33,Input_Details!$B$29,0)","v":27},null,{"$f":"OFFSET('Raw Data'!DX33,Input_Details!$B$29,0)","v":4},{"$f":"OFFSET('Raw Data'!DY33,Input_Details!$B$29,0)","v":7},{"$f":"OFFSET('Raw Data'!DZ33,Input_Details!$B$29,0)","v":0},{"$f":"OFFSET('Raw Data'!EA33,Input_Details!$B$29,0)","v":0},{"$f":"OFFSET('Raw Data'!EB33,Input_Details!$B$29,0)","v":0},{"$f":"OFFSET('Raw Data'!EC33,Input_Details!$B$29,0)","v":11},null,{"$f":"OFFSET('Raw Data'!ED33,Input_Details!$B$29,0)","v":6},{"$f":"OFFSET('Raw Data'!EE33,Input_Details!$B$29,0)","v":28},{"$f":"OFFSET('Raw Data'!EF33,Input_Details!$B$29,0)","v":3},{"$f":"OFFSET('Raw Data'!EG33,Input_Details!$B$29,0)","v":1},{"$f":"OFFSET('Raw Data'!EH33,Input_Details!$B$29,0)","v":0},{"$f":"OFFSET('Raw Data'!EI33,Input_Details!$B$29,0)","v":38}]
[null,"07:30:00",{"$f":"OFFSET('Raw Data'!DR34,Input_Details!$B$29,0)","v":5},{"$f":"OFFSET('Raw Data'!DS34,Input_Details!$B$29,0)","v":23},{"$f":"OFFSET('Raw Data'!DT34,Input_Details!$B$29,0)","v":3},{"$f":"OFFSET('Raw Data'!DU34,Input_Details!$B$29,0)","v":2},{"$f":"OFFSET('Raw Data'!DV34,Input_Details!$B$29,0)","v":0},{"$f":"OFFSET('Raw Data'!DW34,Input_Details!$B$29,0)","v":33},null,{"$f":"OFFSET('Raw Data'!DX34,Input_Details!$B$29,0)","v":6},{"$f":"OFFSET('Raw Data'!DY34,Input_Details!$B$29,0)","v":7},{"$f":"OFFSET('Raw Data'!DZ34,Input_Details!$B$29,0)","v":0},{"$f":"OFFSET('Raw Data'!EA34,Input_Details!$B$29,0)","v":1},{"$f":"OFFSET('Raw Data'!EB34,Input_Details!$B$29,0)","v":0},{"$f":"OFFSET('Raw Data'!EC34,Input_Details!$B$29,0)","v":14},null,{"$f":"OFFSET('Raw Data'!ED34,Input_Details!$B$29,0)","v":11},{"$f":"OFFSET('Raw Data'!EE34,Input_Details!$B$29,0)","v":30},{"$f":"OFFSET('Raw Data'!EF34,Input_Details!$B$29,0)","v":3},{"$f":"OFFSET('Raw Data'!EG34,Input_Details!$B$29,0)","v":3},{"$f":"OFFSET('Raw Data'!EH34,Input_Details!$B$29,0)","v":0},{"$f":"OFFSET('Raw Data'!EI34,Input_Details!$B$29,0)","v":47}]
[null,"07:45:00",{"$f":"OFFSET('Raw Data'!DR35,Input_Details!$B$29,0)","v":5},{"$f":"OFFSET('Raw Data'!DS35,Input_Details!$B$29,0)","v":25},{"$f":"OFFSET('Raw Data'!DT35,Input_Details!$B$29,0)","v":3},{"$f":"OFFSET('Raw Data'!DU35,Input_Details!$B$29,0)","v":1},{"$f":"OFFSET('Raw Data'!DV35,Input_Details!$B$29,0)","v":0},{"$f":"OFFSET('Raw Data'!DW35,Input_Details!$B$29,0)","v":34},null,{"$f":"OFFSET('Raw Data'!DX35,Input_Details!$B$29,0)","v":5},{"$f":"OFFSET('Raw Data'!DY35,Input_Details!$B$29,0)","v":8},{"$f":"OFFSET('Raw Data'!DZ35,Input_Details!$B$29,0)","v":0},{"$f":"OFFSET('Raw Data'!EA35,Input_Details!$B$29,0)","v":0},{"$f":"OFFSET('Raw Data'!EB35,Input_Details!$B$29,0)","v":0},{"$f":"OFFSET('Raw Data'!EC35,Input_Details!$B$29,0)","v":13},null,{"$f":"OFFSET('Raw Data'!ED35,Input_Details!$B$29,0)","v":10},{"$f":"OFFSET('Raw Data'!EE35,Input_Details!$B$29,0)","v":33},{"$f":"OFFSET('Raw Data'!EF35,Input_Details!$B$29,0)","v":3},{"$f":"OFFSET('Raw Data'!EG35,Input_Details!$B$29,0)","v":1},{"$f":"OFFSET('Raw Data'!EH35,Input_Details!$B$29,0)","v":0},{"$f":"OFFSET('Raw Data'!EI35,Input_Details!$B$29,0)","v":47}]
[null,"08:00:00",{"$f":"OFFSET('Raw Data'!DR36,Input_Details!$B$29,0)","v":2},{"$f":"OFFSET('Raw Data'!DS36,Input_Details!$B$29,0)","v":26},{"$f":"OFFSET('Raw Data'!DT36,Input_Details!$B$29,0)","v":4},{"$f":"OFFSET('Raw Data'!DU36,Input_Details!$B$29,0)","v":1},{"$f":"OFFSET('Raw Data'!DV36,Input_Details!$B$29,0)","v":0},{"$f":"OFFSET('Raw Data'!DW36,Input_Details!$B$29,0)","v":33},null,{"$f":"OFFSET('Raw Data'!DX36,Input_Details!$B$29,0)","v":5},{"$f":"OFFSET('Raw Data'!DY36,Input_Details!$B$29,0)","v":6},{"$f":"OFFSET('Raw Data'!DZ36,Input_Details!$B$29,0)","v":0},{"$f":"OFFSET('Raw Data'!EA36,Input_Details!$B$29,0)","v":0},{"$f":"OFFSET('Raw Data'!EB36,Input_Details!$B$29,0)","v":0},{"$f":"OFFSET('Raw Data'!EC36,Input_Details!$B$29,0)","v":11},null,{"$f":"OFFSET('Raw Data'!ED36,Input_Details!$B$29,0)","v":7},{"$f":"OFFSET('Raw Data'!EE36,Input_Details!$B$29,0)","v":32},{"$f":"OFFSET('Raw Data'!EF36,Input_Details!$B$29,0)","v":4},{"$f":"OFFSET('Raw Data'!EG36,Input_Details!$B$29,0)","v":1},{"$f":"OFFSET('Raw Data'!EH36,Input_Details!$B$29,0)","v":0},{"$f":"OFFSET('Raw Data'!EI36,Input_Details!$B$29,0)","v":44}]
[null,"08:15:00",{"$f":"OFFSET('Raw Data'!DR37,Input_Details!$B$29,0)","v":2},{"$f":"OFFSET('Raw Data'!DS37,Input_Details!$B$29,0)","v":32},{"$f":"OFFSET('Raw Data'!DT37,Input_Details!$B$29,0)","v":5},{"$f":"OFFSET('Raw Data'!DU37,Input_Details!$B$29,0)","v":2},{"$f":"OFFSET('Raw Data'!DV37,Input_Details!$B$29,0)","v":0},{"$f":"OFFSET('Raw Data'!DW37,Input_Details!$B$29,0)","v":41},null,{"$f":"OFFSET('Raw Data'!DX37,Input_Details!$B$29,0)","v":7},{"$f":"OFFSET('Raw Data'!DY37,Input_Details!$B$29,0)","v":10},{"$f":"OFFSET('Raw Data'!DZ37,Input_Details!$B$29,0)","v":0},{"$f":"OFFSET('Raw Data'!EA37,Input_Details!$B$29,0)","v":1},{"$f":"OFFSET('Raw Data'!EB37,Input_Details!$B$29,0)","v":0},{"$f":"OFFSET('Raw Data'!EC37,Input_Details!$B$29,0)","v":18},null,{"$f":"OFFSET('Raw Data'!ED37,Input_Details!$B$29,0)","v":9},{"$f":"OFFSET('Raw Data'!EE37,Input_Details!$B$29,0)","v":42},{"$f":"OFFSET('Raw Data'!EF37,Input_Details!$B$29,0)","v":5},{"$f":"OFFSET('Raw Data'!EG37,Input_Details!$B$29,0)","v":3},{"$f":"OFFSET('Raw Data'!EH37,Input_Details!$B$29,0)","v":0},{"$f":"OFFSET('Raw Data'!EI37,Input_Details!$B$29,0)","v":59}]
[null,"08:30:00",{"$f":"OFFSET('Raw Data'!DR38,Input_Details!$B$29,0)","v":2},{"$f":"OFFSET('Raw Data'!DS38,Input_Details!$B$29,0)","v":27},{"$f":"OFFSET('Raw Data'!DT38,Input_Details!$B$29,0)","v":4},{"$f":"OFFSET('Raw Data'!DU38,Input_Details!$B$29,0)","v":2},{"$f":"OFFSET('Raw Data'!DV38,Input_Details!$B$29,0)","v":0},{"$f":"OFFSET('Raw Data'!DW38,Input_Details!$B$29,0)","v":35},null,{"$f":"OFFSET('Raw Data'!DX38,Input_Details!$B$29,0)","v":9},{"$f":"OFFSET('Raw Data'!DY38,Input_Details!$B$29,0)","v":7},{"$f":"OFFSET('Raw Data'!DZ38,Input_Details!$B$29,0)","v":0},{"$f":"OFFSET('Raw Data'!EA38,Input_Details!$B$29,0)","v":1},{"$f":"OFFSET('Raw Data'!EB38,Input_Details!$B$29,0)","v":0},{"$f":"OFFSET('Raw Data'!EC38,Input_Details!$B$29,0)","v":17},null,{"$f":"OFFSET('Raw Data'!ED38,Input_Details!$B$29,0)","v":11},{"$f":"OFFSET('Raw Data'!EE38,Input_Details!$B$29,0)","v":34},{"$f":"OFFSET('Raw Data'!EF38,Input_Details!$B$29,0)","v":4},{"$f":"OFFSET('Raw Data'!EG38,Input_Details!$B$29,0)","v":3},{"$f":"OFFSET('Raw Data'!EH38,Input_Details!$B$29,0)","v":0},{"$f":"OFFSET('Raw Data'!EI38,Input_Details!$B$29,0)","v":52}]
[null,"08:45:00",{"$f":"OFFSET('Raw Data'!DR39,Input_Details!$B$29,0)","v":3},{"$f":"OFFSET('Raw Data'!DS39,Input_Details!$B$29,0)","v":28},{"$f":"OFFSET('Raw Data'!DT39,Input_Details!$B$29,0)","v":4},{"$f":"OFFSET('Raw Data'!DU39,Input_Details!$B$29,0)","v":1},{"$f":"OFFSET('Raw Data'!DV39,Input_Details!$B$29,0)","v":0},{"$f":"OFFSET('Raw Data'!DW39,Input_Details!$B$29,0)","v":36},null,{"$f":"OFFSET('Raw Data'!DX39,Input_Details!$B$29,0)","v":9},{"$f":"OFFSET('Raw Data'!DY39,Input_Details!$B$29,0)","v":7},{"$f":"OFFSET('Raw Data'!DZ39,Input_Details!$B$29,0)","v":0},{"$f":"OFFSET('Raw Data'!EA39,Input_Details!$B$29,0)","v":0},{"$f":"OFFSET('Raw Data'!EB39,Input_Details!$B$29,0)","v":0},{"$f":"OFFSET('Raw Data'!EC39,Input_Details!$B$29,0)","v":16},null,{"$f":"OFFSET('Raw Data'!ED39,Input_Details!$B$29,0)","v":12},{"$f":"OFFSET('Raw Data'!EE39,Input_Details!$B$29,0)","v":35},{"$f":"OFFSET('Raw Data'!EF39,Input_Details!$B$29,0)","v":4},{"$f":"OFFSET('Raw Data'!EG39,Input_Details!$B$29,0)","v":1},{"$f":"OFFSET('Raw Data'!EH39,Input_Details!$B$29,0)","v":0},{"$f":"OFFSET('Raw Data'!EI39,Input_Details!$B$29,0)","v":52}]
[null,"09:00:00",{"$f":"OFFSET('Raw Data'!DR40,Input_Details!$B$29,0)","v":2},{"$f":"OFFSET('Raw Data'!DS40,Input_Details!$B$29,0)","v":32},{"$f":"OFFSET('Raw Data'!DT40,Input_Details!$B$29,0)","v":6},{"$f":"OFFSET('Raw Data'!DU40,Input_Details!$B$29,0)","v":2},{"$f":"OFFSET('Raw Data'!DV40,Input_Details!$B$29,0)","v":0},{"$f":"OFFSET('Raw Data'!DW40,Input_Details!$B$29,0)","v":42},null,{"$f":"OFFSET('Raw Data'!DX40,Input_Details!$B$29,0)","v":6},{"$f":"OFFSET('Raw Data'!DY40,Input_Details!$B$29,0)","v":7},{"$f":"OFFSET('Raw Data'!DZ40,Input_Details!$B$29,0)","v":0},{"$f":"OFFSET('Raw Data'!EA40,Input_Details!$B$29,0)","v":1},{"$f":"OFFSET('Raw Data'!EB40,Input_Details!$B$29,0)","v":0},{"$f":"OFFSET('Raw Data'!EC40,Input_Details!$B$29,0)","v":14},null,{"$f":"OFFSET('Raw Data'!ED40,Input_Details!$B$29,0)","v":8},{"$f":"OFFSET('Raw Data'!EE40,Input_Details!$B$29,0)","v":39},{"$f":"OFFSET('Raw Data'!EF40,Input_Details!$B$29,0)","v":6},{"$f":"OFFSET('Raw Data'!EG40,Input_Details!$B$29,0)","v":3},{"$f":"OFFSET('Raw Data'!EH40,Input_Details!$B$29,0)","v":0},{"$f":"OFFSET('Raw Data'!EI40,Input_Details!$B$29,0)","v":56}]
[null,"09:15:00",{"$f":"OFFSET('Raw Data'!DR41,Input_Details!$B$29,0)","v":3},{"$f":"OFFSET('Raw Data'!DS41,Input_Details!$B$29,0)","v":26},{"$f":"OFFSET('Raw Data'!DT41,Input_Details!$B$29,0)","v":7},{"$f":"OFFSET('Raw Data'!DU41,Input_Details!$B$29,0)","v":1},{"$f":"OFFSET('Raw Data'!DV41,Input_Details!$B$29,0)","v":0},{"$f":"OFFSET('Raw Data'!DW41,Input_Details!$B$29,0)","v":37},null,{"$f":"OFFSET('Raw Data'!DX41,Input_Details!$B$29,0)","v":4},{"$f":"OFFSET('Raw Data'!DY41,Input_Details!$B$29,0)","v":5},{"$f":"OFFSET('Raw Data'!DZ41,Input_Details!$B$29,0)","v":0},{"$f":"OFFSET('Raw Data'!EA41,Input_Details!$B$29,0)","v":0},{"$f":"OFFSET('Raw Data'!EB41,Input_Details!$B$29,0)","v":0},{"$f":"OFFSET('Raw Data'!EC41,Input_Details!$B$29,0)","v":9},null,{"$f":"OFFSET('Raw Data'!ED41,Input_Details!$B$29,0)","v":7},{"$f":"OFFSET('Raw Data'!EE41,Input_Details!$B$29,0)","v":31},{"$f":"OFFSET('Raw Data'!EF41,Input_Details!$B$29,0)","v":7},{"$f":"OFFSET('Raw Data'!EG41,Input_Details!$B$29,0)","v":1},{"$f":"OFFSET('Raw Data'!EH41,Input_Details!$B$29,0)","v":0},{"$f":"OFFSET('Raw Data'!EI41,Input_Details!$B$29,0)","v":46}]
[null,"09:30:00",{"$f":"OFFSET('Raw Data'!DR42,Input_Details!$B$29,0)","v":2},{"$f":"OFFSET('Raw Data'!DS42,Input_Details!$B$29,0)","v":30},{"$f":"OFFSET('Raw Data'!DT42,Input_Details!$B$29,0)","v":5},{"$f":"OFFSET('Raw Data'!DU42,Input_Details!$B$29,0)","v":1},{"$f":"OFFSET('Raw Data'!DV42,Input_Details!$B$29,0)","v":0},{"$f":"OFFSET('Raw Data'!DW42,Input_Details!$B$29,0)","v":38},null,{"$f":"OFFSET('Raw Data'!DX42,Input_Details!$B$29,0)","v":3},{"$f":"OFFSET('Raw Data'!DY42,Input_Details!$B$29,0)","v":6},{"$f":"OFFSET('Raw Data'!DZ42,Input_Details!$B$29,0)","v":0},{"$f":"OFFSET('Raw Data'!EA42,Input_Details!$B$29,0)","v":0},{"$f":"OFFSET('Raw Data'!EB42,Input_Details!$B$29,0)","v":0},{"$f":"OFFSET('Raw Data'!EC42,Input_Details!$B$29,0)","v":9},null,{"$f":"OFFSET('Raw Data'!ED42,Input_Details!$B$29,0)","v":5},{"$f":"OFFSET('Raw Data'!EE42,Input_Details!$B$29,0)","v":36},{"$f":"OFFSET('Raw Data'!EF42,Input_Details!$B$29,0)","v":5},{"$f":"OFFSET('Raw Data'!EG42,Input_Details!$B$29,0)","v":1},{"$f":"OFFSET('Raw Data'!EH42,Input_Details!$B$29,0)","v":0},{"$f":"OFFSET('Raw Data'!EI42,Input_Details!$B$29,0)","v":47}]
[null,"09:45:00",{"$f":"OFFSET('Raw Data'!DR43,Input_Details!$B$29,0)","v":2},{"$f":"OFFSET('Raw Data'!DS43,Input_Details!$B$29,0)","v":29},{"$f":"OFFSET('Raw Data'!DT43,Input_Details!$B$29,0)","v":7},{"$f":"OFFSET('Raw Data'!DU43,Input_Details!$B$29,0)","v":2},{"$f":"OFFSET('Raw Data'!DV43,Input_Details!$B$29,0)","v":0},{"$f":"OFFSET('Raw Data'!DW43,Input_Details!$B$29,0)","v":40},null,{"$f":"OFFSET('Raw Data'!DX43,Input_Details!$B$29,0)","v":3},{"$f":"OFFSET('Raw Data'!DY43,Input_Details!$B$29,0)","v":5},{"$f":"OFFSET('Raw Data'!DZ43,Input_Details!$B$29,0)","v":0},{"$f":"OFFSET('Raw Data'!EA43,Input_Details!$B$29,0)","v":1},{"$f":"OFFSET('Raw Data'!EB43,Input_Details!$B$29,0)","v":0},{"$f":"OFFSET('Raw Data'!EC43,Input_Details!$B$29,0)","v":9},null,{"$f":"OFFSET('Raw Data'!ED43,Input_Details!$B$29,0)","v":5},{"$f":"OFFSET('Raw Data'!EE43,Input_Details!$B$29,0)","v":34},{"$f":"OFFSET('Raw Data'!EF43,Input_Details!$B$29,0)","v":7},{"$f":"OFFSET('Raw Data'!EG43,Input_Details!$B$29,0)","v":3},{"$f":"OFFSET('Raw Data'!EH43,Input_Details!$B$29,0)","v":0},{"$f":"OFFSET('Raw Data'!EI43,Input_Details!$B$29,0)","v":49}]
[null,"10:00:00",{"$f":"OFFSET('Raw Data'!DR44,Input_Details!$B$29,0)","v":2},{"$f":"OFFSET('Raw Data'!DS44,Input_Details!$B$29,0)","v":31},{"$f":"OFFSET('Raw Data'!DT44,Input_Details!$B$29,0)","v":5},{"$f":"OFFSET('Raw Data'!DU44,Input_Details!$B$29,0)","v":1},{"$f":"OFFSET('Raw Data'!DV44,Input_Details!$B$29,0)","v":1},{"$f":"OFFSET('Raw Data'!DW44,Input_Details!$B$29,0)","v":40},null,{"$f":"OFFSET('Raw Data'!DX44,Input_Details!$B$29,0)","v":2},{"$f":"OFFSET('Raw Data'!DY44,Input_Details!$B$29,0)","v":5},{"$f":"OFFSET('Raw Data'!DZ44,Input_Details!$B$29,0)","v":0},{"$f":"OFFSET('Raw Data'!EA44,Input_Details!$B$29,0)","v":0},{"$f":"OFFSET('Raw Data'!EB44,Input_Details!$B$29,0)","v":0},{"$f":"OFFSET('Raw Data'!EC44,Input_Details!$B$29,0)","v":7},null,{"$f":"OFFSET('Raw Data'!ED44,Input_Details!$B$29,0)","v":4},{"$f":"OFFSET('Raw Data'!EE44,Input_Details!$B$29,0)","v":36},{"$f":"OFFSET('Raw Data'!EF44,Input_Details!$B$29,0)","v":5},{"$f":"OFFSET('Raw Data'!EG44,Input_Details!$B$29,0)","v":1},{"$f":"OFFSET('Raw Data'!EH44,Input_Details!$B$29,0)","v":1},{"$f":"OFFSET('Raw Data'!EI44,Input_Details!$B$29,0)","v":47}]
[null,"10:15:00",{"$f":"OFFSET('Raw Data'!DR45,Input_Details!$B$29,0)","v":3},{"$f":"OFFSET('Raw Data'!DS45,Input_Details!$B$29,0)","v":34},{"$f":"OFFSET('Raw Data'!DT45,Input_Details!$B$29,0)","v":8},{"$f":"OFFSET('Raw Data'!DU45,Input_Details!$B$29,0)","v":1},{"$f":"OFFSET('Raw Data'!DV45,Input_Details!$B$29,0)","v":0},{"$f":"OFFSET('Raw Data'!DW45,Input_Details!$B$29,0)","v":46},null,{"$f":"OFFSET('Raw Data'!DX45,Input_Details!$B$29,0)","v":2},{"$f":"OFFSET('Raw Data'!DY45,Input_Details!$B$29,0)","v":7},{"$f":"OFFSET('Raw Data'!DZ45,Input_Details!$B$29,0)","v":0},{"$f":"OFFSET('Raw Data'!EA45,Input_Details!$B$29,0)","v":0},{"$f":"OFFSET('Raw Data'!EB45,Input_Details!$B$29,0)","v":0},{"$f":"OFFSET('Raw Data'!EC45,Input_Details!$B$29,0)","v":9},null,{"$f":"OFFSET('Raw Data'!ED45,Input_Details!$B$29,0)","v":5},{"$f":"OFFSET('Raw Data'!EE45,Input_Details!$B$29,0)","v":41},{"$f":"OFFSET('Raw Data'!EF45,Input_Details!$B$29,0)","v":8},{"$f":"OFFSET('Raw Data'!EG45,Input_Details!$B$29,0)","v":1},{"$f":"OFFSET('Raw Data'!EH45,Input_Details!$B$29,0)","v":0},{"$f":"OFFSET('Raw Data'!EI45,Input_Details!$B$29,0)","v":55}]
[null,"10:30:00",{"$f":"OFFSET('Raw Data'!DR46,Input_Details!$B$29,0)","v":2},{"$f":"OFFSET('Raw Data'!DS46,Input_Details!$B$29,0)","v":34},{"$f":"OFFSET('Raw Data'!DT46,Input_Details!$B$29,0)","v":9},{"$f":"OFFSET('Raw Data'!DU46,Input_Details!$B$29,0)","v":2},{"$f":"OFFSET('Raw Data'!DV46,Input_Details!$B$29,0)","v":1},{"$f":"OFFSET('Raw Data'!DW46,Input_Details!$B$29,0)","v":48},null,{"$f":"OFFSET('Raw Data'!DX46,Input_Details!$B$29,0)","v":2},{"$f":"OFFSET('Raw Data'!DY46,Input_Details!$B$29,0)","v":5},{"$f":"OFFSET('Raw Data'!DZ46,Input_Details!$B$29,0)","v":0},{"$f":"OFFSET('Raw Data'!EA46,Input_Details!$B$29,0)","v":1},{"$f":"OFFSET('Raw Data'!EB46,Input_Details!$B$29,0)","v":0},{"$f":"OFFSET('Raw Data'!EC46,Input_Details!$B$29,0)","v":8},null,{"$f":"OFFSET('Raw Data'!ED46,Input_Details!$B$29,0)","v":4},{"$f":"OFFSET('Raw Data'!EE46,Input_Details!$B$29,0)","v":39},{"$f":"OFFSET('Raw Data'!EF46,Input_Details!$B$29,0)","v":9},{"$f":"OFFSET('Raw Data'!EG46,Input_Details!$B$29,0)","v":3},{"$f":"OFFSET('Raw Data'!EH46,Input_Details!$B$29,0)","v":1},{"$f":"OFFSET('Raw Data'!EI46,Input_Details!$B$29,0)","v":56}]
[null,"10:45:00",{"$f":"OFFSET('Raw Data'!DR47,Input_Details!$B$29,0)","v":3},{"$f":"OFFSET('Raw Data'!DS47,Input_Details!$B$29,0)","v":38},{"$f":"OFFSET('Raw Data'!DT47,Input_Details!$B$29,0)","v":9},{"$f":"OFFSET('Raw Data'!DU47,Input_Details!$B$29,0)","v":2},{"$f":"OFFSET('Raw Data'!DV47,Input_Details!$B$29,0)","v":0},{"$f":"OFFSET('Raw Data'!DW47,Input_Details!$B$29,0)","v":52},null,{"$f":"OFFSET('Raw Data'!DX47,Input_Details!$B$29,0)","v":2},{"$f":"OFFSET('Raw Data'!DY47,Input_Details!$B$29,0)","v":6},{"$f":"OFFSET('Raw Data'!DZ47,Input_Details!$B$29,0)","v":0},{"$f":"OFFSET('Raw Data'!EA47,Input_Details!$B$29,0)","v":0},{"$f":"OFFSET('Raw Data'!EB47,Input_Details!$B$29,0)","v":0},{"$f":"OFFSET('Raw Data'!EC47,Input_Details!$B$29,0)","v":8},null,{"$f":"OFFSET('Raw Data'!ED47,Input_Details!$B$29,0)","v":5},{"$f":"OFFSET('Raw Data'!EE47,Input_Details!$B$29,0)","v":44},{"$f":"OFFSET('Raw Data'!EF47,Input_Details!$B$29,0)","v":9},{"$f":"OFFSET('Raw Data'!EG47,Input_Details!$B$29,0)","v":2},{"$f":"OFFSET('Raw Data'!EH47,Input_Details!$B$29,0)","v":0},{"$f":"OFFSET('Raw Data'!EI47,Input_Details!$B$29,0)","v":60}]
[null,"11:00:00",{"$f":"OFFSET('Raw Data'!DR48,Input_Details!$B$29,0)","v":3},{"$f":"OFFSET('Raw Data'!DS48,Input_Details!$B$29,0)","v":36},{"$f":"OFFSET('Raw Data'!DT48,Input_Details!$B$29,0)","v":9},{"$f":"OFFSET('Raw Data'!DU48,Input_Details!$B$29,0)","v":2},{"$f":"OFFSET('Raw Data'!DV48,Input_Details!$B$29,0)","v":0},{"$f":"OFFSET('Raw Data'!DW48,Input_Details!$B$29,0)","v":50},null,{"$f":"OFFSET('Raw Data'!DX48,Input_Details!$B$29,0)","v":2},{"$f":"OFFSET('Raw Data'!DY48,Input_Details!$B$29,0)","v":5},{"$f":"OFFSET('Raw Data'!DZ48,Input_Details!$B$29,0)","v":0},{"$f":"OFFSET('Raw Data'!EA48,Input_Details!$B$29,0)","v":0},{"$f":"OFFSET('Raw Data'!EB48,Input_Details!$B$29,0)","v":0},{"$f":"OFFSET('Raw Data'!EC48,Input_Details!$B$29,0)","v":7},null,{"$f":"OFFSET('Raw Data'!ED48,Input_Details!$B$29,0)","v":5},{"$f":"OFFSET('Raw Data'!EE48,Input_Details!$B$29,0)","v":41},{"$f":"OFFSET('Raw Data'!EF48,Input_Details!$B$29,0)","v":9},{"$f":"OFFSET('Raw Data'!EG48,Input_Details!$B$29,0)","v":2},{"$f":"OFFSET('Raw Data'!EH48,Input_Details!$B$29,0)","v":0},{"$f":"OFFSET('Raw Data'!EI48,Input_Details!$B$29,0)","v":57}]
[null,"11:15:00",{"$f":"OFFSET('Raw Data'!DR49,Input_Details!$B$29,0)","v":4},{"$f":"OFFSET('Raw Data'!DS49,Input_Details!$B$29,0)","v":36},{"$f":"OFFSET('Raw Data'!DT49,Input_Details!$B$29,0)","v":7},{"$f":"OFFSET('Raw Data'!DU49,Input_Details!$B$29,0)","v":0},{"$f":"OFFSET('Raw Data'!DV49,Input_Details!$B$29,0)","v":1},{"$f":"OFFSET('Raw Data'!DW49,Input_Details!$B$29,0)","v":48},null,{"$f":"OFFSET('Raw Data'!DX49,Input_Details!$B$29,0)","v":2},{"$f":"OFFSET('Raw Data'!DY49,Input_Details!$B$29,0)","v":5},{"$f":"OFFSET('Raw Data'!DZ49,Input_Details!$B$29,0)","v":0},{"$f":"OFFSET('Raw Data'!EA49,Input_Details!$B$29,0)","v":0},{"$f":"OFFSET('Raw Data'!EB49,Input_Details!$B$29,0)","v":0},{"$f":"OFFSET('Raw Data'!EC49,Input_Details!$B$29,0)","v":7},null,{"$f":"OFFSET('Raw Data'!ED49,Input_Details!$B$29,0)","v":6},{"$f":"OFFSET('Raw Data'!EE49,Input_Details!$B$29,0)","v":41},{"$f":"OFFSET('Raw Data'!EF49,Input_Details!$B$29,0)","v":7},{"$f":"OFFSET('Raw Data'!EG49,Input_Details!$B$29,0)","v":0},{"$f":"OFFSET('Raw Data'!EH49,Input_Details!$B$29,0)","v":1},{"$f":"OFFSET('Raw Data'!EI49,Input_Details!$B$29,0)","v":55}]
[null,"11:30:00",{"$f":"OFFSET('Raw Data'!DR50,Input_Details!$B$29,0)","v":3},{"$f":"OFFSET('Raw Data'!DS50,Input_Details!$B$29,0)","v":35},{"$f":"OFFSET('Raw Data'!DT50,Input_Details!$B$29,0)","v":8},{"$f":"OFFSET('Raw Data'!DU50,Input_Details!$B$29,0)","v":1},{"$f":"OFFSET('Raw Data'!DV50,Input_Details!$B$29,0)","v":1},{"$f":"OFFSET('Raw Data'!DW50,Input_Details!$B$29,0)","v":48},null,{"$f":"OFFSET('Raw Data'!DX50,Input_Details!$B$29,0)","v":1},{"$f":"OFFSET('Raw Data'!DY50,Input_Details!$B$29,0)","v":4},{"$f":"OFFSET('Raw Data'!DZ50,Input_Details!$B$29,0)","v":0},{"$f":"OFFSET('Raw Data'!EA50,Input_Details!$B$29,0)","v":0},{"$f":"OFFSET('Raw Data'!EB50,Input_Details!$B$29,0)","v":0},{"$f":"OFFSET('Raw Data'!EC50,Input_Details!$B$29,0)","v":5},null,{"$f":"OFFSET('Raw Data'!ED50,Input_Details!$B$29,0)","v":4},{"$f":"OFFSET('Raw Data'!EE50,Input_Details!$B$29,0)","v":39},{"$f":"OFFSET('Raw Data'!EF50,Input_Details!$B$29,0)","v":8},{"$f":"OFFSET('Raw Data'!EG50,Input_Details!$B$29,0)","v":1},{"$f":"OFFSET('Raw Data'!EH50,Input_Details!$B$29,0)","v":1},{"$f":"OFFSET('Raw Data'!EI50,Input_Details!$B$29,0)","v":53}]
[null,"11:45:00",{"$f":"OFFSET('Raw Data'!DR51,Input_Details!$B$29,0)","v":2},{"$f":"OFFSET('Raw Data'!DS51,Input_Details!$B$29,0)","v":38},{"$f":"OFFSET('Raw Data'!DT51,Input_Details!$B$29,0)","v":7},{"$f":"OFFSET('Raw Data'!DU51,Input_Details!$B$29,0)","v":1},{"$f":"OFFSET('Raw Data'!DV51,Input_Details!$B$29,0)","v":0},{"$f":"OFFSET('Raw Data'!DW51,Input_Details!$B$29,0)","v":48},null,{"$f":"OFFSET('Raw Data'!DX51,Input_Details!$B$29,0)","v":2},{"$f":"OFFSET('Raw Data'!DY51,Input_Details!$B$29,0)","v":5},{"$f":"OFFSET('Raw Data'!DZ51,Input_Details!$B$29,0)","v":1},{"$f":"OFFSET('Raw Data'!EA51,Input_Details!$B$29,0)","v":0},{"$f":"OFFSET('Raw Data'!EB51,Input_Details!$B$29,0)","v":0},{"$f":"OFFSET('Raw Data'!EC51,Input_Details!$B$29,0)","v":8},null,{"$f":"OFFSET('Raw Data'!ED51,Input_Details!$B$29,0)","v":4},{"$f":"OFFSET('Raw Data'!EE51,Input_Details!$B$29,0)","v":43},{"$f":"OFFSET('Raw Data'!EF51,Input_Details!$B$29,0)","v":8},{"$f":"OFFSET('Raw Data'!EG51,Input_Details!$B$29,0)","v":1},{"$f":"OFFSET('Raw Data'!EH51,Input_Details!$B$29,0)","v":0},{"$f":"OFFSET('Raw Data'!EI51,Input_Details!$B$29,0)","v":56}]
[null,"12:00:00",{"$f":"OFFSET('Raw Data'!DR52,Input_Details!$B$29,0)","v":3},{"$f":"OFFSET('Raw Data'!DS52,Input_Details!$B$29,0)","v":36},{"$f":"OFFSET('Raw Data'!DT52,Input_Details!$B$29,0)","v":8},{"$f":"OFFSET('Raw Data'!DU52,Input_Details!$B$29,0)","v":0},{"$f":"OFFSET('Raw Data'!DV52,Input_Details!$B$29,0)","v":0},{"$f":"OFFSET('Raw Data'!DW52,Input_Details!$B$29,0)","v":47},null,{"$f":"OFFSET('Raw Data'!DX52,Input_Details!$B$29,0)","v":2},{"$f":"OFFSET('Raw Data'!DY52,Input_Details!$B$29,0)","v":5},{"$f":"OFFSET('Raw Data'!DZ52,Input_Details!$B$29,0)","v":0},{"$f":"OFFSET('Raw Data'!EA52,Input_Details!$B$29,0)","v":0},{"$f":"OFFSET('Raw Data'!EB52,Input_Details!$B$29,0)","v":0},{"$f":"OFFSET('Raw Data'!EC52,Input_Details!$B$29,0)","v":7},null,{"$f":"OFFSET('Raw Data'!ED52,Input_Details!$B$29,0)","v":5},{"$f":"OFFSET('Raw Data'!EE52,Input_Details!$B$29,0)","v":41},{"$f":"OFFSET('Raw Data'!EF52,Input_Details!$B$29,0)","v":8},{"$f":"OFFSET('Raw Data'!EG52,Input_Details!$B$29,0)","v":0},{"$f":"OFFSET('Raw Data'!EH52,Input_Details!$B$29,0)","v":0},{"$f":"OFFSET('Raw Data'!EI52,Input_Details!$B$29,0)","v":54}]
[null,"12:15:00",{"$f":"OFFSET('Raw Data'!DR53,Input_Details!$B$29,0)","v":5},{"$f":"OFFSET('Raw Data'!DS53,Input_Details!$B$29,0)","v":39},{"$f":"OFFSET('Raw Data'!DT53,Input_Details!$B$29,0)","v":10},{"$f":"OFFSET('Raw Data'!DU53,Input_Details!$B$29,0)","v":0},{"$f":"OFFSET('Raw Data'!DV53,Input_Details!$B$29,0)","v":1},{"$f":"OFFSET('Raw Data'!DW53,Input_Details!$B$29,0)","v":55},null,{"$f":"OFFSET('Raw Data'!DX53,Input_Details!$B$29,0)","v":1},{"$f":"OFFSET('Raw Data'!DY53,Input_Details!$B$29,0)","v":5},{"$f":"OFFSET('Raw Data'!DZ53,Input_Details!$B$29,0)","v":0},{"$f":"OFFSET('Raw Data'!EA53,Input_Details!$B$29,0)","v":0},{"$f":"OFFSET('Raw Data'!EB53,Input_Details!$B$29,0)","v":0},{"$f":"OFFSET('Raw Data'!EC53,Input_Details!$B$29,0)","v":6},null,{"$f":"OFFSET('Raw Data'!ED53,Input_Details!$B$29,0)","v":6},{"$f":"OFFSET('Raw Data'!EE53,Input_Details!$B$29,0)","v":44},{"$f":"OFFSET('Raw Data'!EF53,Input_Details!$B$29,0)","v":10},{"$f":"OFFSET('Raw Data'!EG53,Input_Details!$B$29,0)","v":0},{"$f":"OFFSET('Raw Data'!EH53,Input_Details!$B$29,0)","v":1},{"$f":"OFFSET('Raw Data'!EI53,Input_Details!$B$29,0)","v":61}]
[null,"12:30:00",{"$f":"OFFSET('Raw Data'!DR54,Input_Details!$B$29,0)","v":5},{"$f":"OFFSET('Raw Data'!DS54,Input_Details!$B$29,0)","v":40},{"$f":"OFFSET('Raw Data'!DT54,Input_Details!$B$29,0)","v":9},{"$f":"OFFSET('Raw Data'!DU54,Input_Details!$B$29,0)","v":1},{"$f":"OFFSET('Raw Data'!DV54,Input_Details!$B$29,0)","v":0},{"$f":"OFFSET('Raw Data'!DW54,Input_Details!$B$29,0)","v":55},null,{"$f":"OFFSET('Raw Data'!DX54,Input_Details!$B$29,0)","v":2},{"$f":"OFFSET('Raw Data'!DY54,Input_Details!$B$29,0)","v":4},{"$f":"OFFSET('Raw Data'!DZ54,Input_Details!$B$29,0)","v":0},{"$f":"OFFSET('Raw Data'!EA54,Input_Details!$B$29,0)","v":0},{"$f":"OFFSET('Raw Data'!EB54,Input_Details!$B$29,0)","v":0},{"$f":"OFFSET('Raw Data'!EC54,Input_Details!$B$29,0)","v":6},null,{"$f":"OFFSET('Raw Data'!ED54,Input_Details!$B$29,0)","v":7},{"$f":"OFFSET('Raw Data'!EE54,Input_Details!$B$29,0)","v":44},{"$f":"OFFSET('Raw Data'!EF54,Input_Details!$B$29,0)","v":9},{"$f":"OFFSET('Raw Data'!EG54,Input_Details!$B$29,0)","v":1},{"$f":"OFFSET('Raw Data'!EH54,Input_Details!$B$29,0)","v":0},{"$f":"OFFSET('Raw Data'!EI54,Input_Details!$B$29,0)","v":61}]
[null,"12:45:00",{"$f":"OFFSET('Raw Data'!DR55,Input_Details!$B$29,0)","v":4},{"$f":"OFFSET('Raw Data'!DS55,Input_Details!$B$29,0)","v":39},{"$f":"OFFSET('Raw Data'!DT55,Input_Details!$B$29,0)","v":8},{"$f":"OFFSET('Raw Data'!DU55,Input_Details!$B$29,0)","v":1},{"$f":"OFFSET('Raw Data'!DV55,Input_Details!$B$29,0)","v":0},{"$f":"OFFSET('Raw Data'!DW55,Input_Details!$B$29,0)","v":52},null,{"$f":"OFFSET('Raw Data'!DX55,Input_Details!$B$29,0)","v":2},{"$f":"OFFSET('Raw Data'!DY55,Input_Details!$B$29,0)","v":5},{"$f":"OFFSET('Raw Data'!DZ55,Input_Details!$B$29,0)","v":0},{"$f":"OFFSET('Raw Data'!EA55,Input_Details!$B$29,0)","v":0},{"$f":"OFFSET('Raw Data'!EB55,Input_Details!$B$29,0)","v":0},{"$f":"OFFSET('Raw Data'!EC55,Input_Details!$B$29,0)","v":7},null,{"$f":"OFFSET('Raw Data'!ED55,Input_Details!$B$29,0)","v":6},{"$f":"OFFSET('Raw Data'!EE55,Input_Details!$B$29,0)","v":44},{"$f":"OFFSET('Raw Data'!EF55,Input_Details!$B$29,0)","v":8},{"$f":"OFFSET('Raw Data'!EG55,Input_Details!$B$29,0)","v":1},{"$f":"OFFSET('Raw Data'!EH55,Input_Details!$B$29,0)","v":0},{"$f":"OFFSET('Raw Data'!EI55,Input_Details!$B$29,0)","v":59}]
[null,"13:00:00",{"$f":"OFFSET('Raw Data'!DR56,Input_Details!$B$29,0)","v":5},{"$f":"OFFSET('Raw Data'!DS56,Input_Details!$B$29,0)","v":45},{"$f":"OFFSET('Raw Data'!DT56,Input_Details!$B$29,0)","v":8},{"$f":"OFFSET('Raw Data'!DU56,Input_Details!$B$29,0)","v":0},{"$f":"OFFSET('Raw Data'!DV56,Input_Details!$B$29,0)","v":1},{"$f":"OFFSET('Raw Data'!DW56,Input_Details!$B$29,0)","v":59},null,{"$f":"OFFSET('Raw Data'!DX56,Input_Details!$B$29,0)","v":1},{"$f":"OFFSET('Raw Data'!DY56,Input_Details!$B$29,0)","v":6},{"$f":"OFFSET('Raw Data'!DZ56,Input_Details!$B$29,0)","v":0},{"$f":"OFFSET('Raw Data'!EA56,Input_Details!$B$29,0)","v":0},{"$f":"OFFSET('Raw Data'!EB56,Input_Details!$B$29,0)","v":0},{"$f":"OFFSET('Raw Data'!EC56,Input_Details!$B$29,0)","v":7},null,{"$f":"OFFSET('Raw Data'!ED56,Input_Details!$B$29,0)","v":6},{"$f":"OFFSET('Raw Data'!EE56,Input_Details!$B$29,0)","v":51},{"$f":"OFFSET('Raw Data'!EF56,Input_Details!$B$29,0)","v":8},{"$f":"OFFSET('Raw Data'!EG56,Input_Details!$B$29,0)","v":0},{"$f":"OFFSET('Raw Data'!EH56,Input_Details!$B$29,0)","v":1},{"$f":"OFFSET('Raw Data'!EI56,Input_Details!$B$29,0)","v":66}]
[null,"13:15:00",{"$f":"OFFSET('Raw Data'!DR57,Input_Details!$B$29,0)","v":5},{"$f":"OFFSET('Raw Data'!DS57,Input_Details!$B$29,0)","v":43},{"$f":"OFFSET('Raw Data'!DT57,Input_Details!$B$29,0)","v":10},{"$f":"OFFSET('Raw Data'!DU57,Input_Details!$B$29,0)","v":1},{"$f":"OFFSET('Raw Data'!DV57,Input_Details!$B$29,0)","v":1},{"$f":"OFFSET('Raw Data'!DW57,Input_Details!$B$29,0)","v":60},null,{"$f":"OFFSET('Raw Data'!DX57,Input_Details!$B$29,0)","v":3},{"$f":"OFFSET('Raw Data'!DY57,Input_Details!$B$29,0)","v":6},{"$f":"OFFSET('Raw Data'!DZ57,Input_Details!$B$29,0)","v":0},{"$f":"OFFSET('Raw Data'!EA57,Input_Details!$B$29,0)","v":0},{"$f":"OFFSET('Raw Data'!EB57,Input_Details!$B$29,0)","v":0},{"$f":"OFFSET('Raw Data'!EC57,Input_Details!$B$29,0)","v":9},null,{"$f":"OFFSET('Raw Data'!ED57,Input_Details!$B$29,0)","v":8},{"$f":"OFFSET('Raw Data'!EE57,Input_Details!$B$29,0)","v":49},{"$f":"OFFSET('Raw Data'!EF57,Input_Details!$B$29,0)","v":10},{"$f":"OFFSET('Raw Data'!EG57,Input_Details!$B$29,0)","v":1},{"$f":"OFFSET('Raw Data'!EH57,Input_Details!$B$29,0)","v":1},{"$f":"OFFSET('Raw Data'!EI57,Input_Details!$B$29,0)","v":69}]
[null,"13:30:00",{"$f":"OFFSET('Raw Data'!DR58,Input_Details!$B$29,0)","v":5},{"$f":"OFFSET('Raw Data'!DS58,Input_Details!$B$29,0)","v":44},{"$f":"OFFSET('Raw Data'!DT58,Input_Details!$B$29,0)","v":8},{"$f":"OFFSET('Raw Data'!DU58,Input_Details!$B$29,0)","v":1},{"$f":"OFFSET('Raw Data'!DV58,Input_Details!$B$29,0)","v":0},{"$f":"OFFSET('Raw Data'!DW58,Input_Details!$B$29,0)","v":58},null,{"$f":"OFFSET('Raw Data'!DX58,Input_Details!$B$29,0)","v":2},{"$f":"OFFSET('Raw Data'!DY58,Input_Details!$B$29,0)","v":6},{"$f":"OFFSET('Raw Data'!DZ58,Input_Details!$B$29,0)","v":0},{"$f":"OFFSET('Raw Data'!EA58,Input_Details!$B$29,0)","v":0},{"$f":"OFFSET('Raw Data'!EB58,Input_Details!$B$29,0)","v":0},{"$f":"OFFSET('Raw Data'!EC58,Input_Details!$B$29,0)","v":8},null,{"$f":"OFFSET('Raw Data'!ED58,Input_Details!$B$29,0)","v":7},{"$f":"OFFSET('Raw Data'!EE58,Input_Details!$B$29,0)","v":50},{"$f":"OFFSET('Raw Data'!EF58,Input_Details!$B$29,0)","v":8},{"$f":"OFFSET('Raw Data'!EG58,Input_Details!$B$29,0)","v":1},{"$f":"OFFSET('Raw Data'!EH58,Input_Details!$B$29,0)","v":0},{"$f":"OFFSET('Raw Data'!EI58,Input_Details!$B$29,0)","v":66}]
[null,"13:45:00",{"$f":"OFFSET('Raw Data'!DR59,Input_Details!$B$29,0)","v":5},{"$f":"OFFSET('Raw Data'!DS59,Input_Details!$B$29,0)","v":52},{"$f":"OFFSET('Raw Data'!DT59,Input_Details!$B$29,0)","v":9},{"$f":"OFFSET('Raw Data'!DU59,Input_Details!$B$29,0)","v":2},{"$f":"OFFSET('Raw Data'!DV59,Input_Details!$B$29,0)","v":0},{"$f":"OFFSET('Raw Data'!DW59,Input_Details!$B$29,0)","v":68},null,{"$f":"OFFSET('Raw Data'!DX59,Input_Details!$B$29,0)","v":2},{"$f":"OFFSET('Raw Data'!DY59,Input_Details!$B$29,0)","v":6},{"$f":"OFFSET('Raw Data'!DZ59,Input_Details!$B$29,0)","v":0},{"$f":"OFFSET('Raw Data'!EA59,Input_Details!$B$29,0)","v":0},{"$f":"OFFSET('Raw Data'!EB59,Input_Details!$B$29,0)","v":0},{"$f":"OFFSET('Raw Data'!EC59,Input_Details!$B$29,0)","v":8},null,{"$f":"OFFSET('Raw Data'!ED59,Input_Details!$B$29,0)","v":7},{"$f":"OFFSET('Raw Data'!EE59,Input_Details!$B$29,0)","v":58},{"$f":"OFFSET('Raw Data'!EF59,Input_Details!$B$29,0)","v":9},{"$f":"OFFSET('Raw Data'!EG59,Input_Details!$B$29,0)","v":2},{"$f":"OFFSET('Raw Data'!EH59,Input_Details!$B$29,0)","v":0},{"$f":"OFFSET('Raw Data'!EI59,Input_Details!$B$29,0)","v":76}]
[null,"14:00:00",{"$f":"OFFSET('Raw Data'!DR60,Input_Details!$B$29,0)","v":5},{"$f":"OFFSET('Raw Data'!DS60,Input_Details!$B$29,0)","v":48},{"$f":"OFFSET('Raw Data'!DT60,Input_Details!$B$29,0)","v":9},{"$f":"OFFSET('Raw Data'!DU60,Input_Details!$B$29,0)","v":2},{"$f":"OFFSET('Raw Data'!DV60,Input_Details!$B$29,0)","v":1},{"$f":"OFFSET('Raw Data'!DW60,Input_Details!$B$29,0)","v":65},null,{"$f":"OFFSET('Raw Data'!DX60,Input_Details!$B$29,0)","v":2},{"$f":"OFFSET('Raw Data'!DY60,Input_Details!$B$29,0)","v":6},{"$f":"OFFSET('Raw Data'!DZ60,Input_Details!$B$29,0)","v":0},{"$f":"OFFSET('Raw Data'!EA60,Input_Details!$B$29,0)","v":0},{"$f":"OFFSET('Raw Data'!EB60,Input_Details!$B$29,0)","v":0},{"$f":"OFFSET('Raw Data'!EC60,Input_Details!$B$29,0)","v":8},null,{"$f":"OFFSET('Raw Data'!ED60,Input_Details!$B$29,0)","v":7},{"$f":"OFFSET('Raw Data'!EE60,Input_Details!$B$29,0)","v":54},{"$f":"OFFSET('Raw Data'!EF60,Input_Details!$B$29,0)","v":9},{"$f":"OFFSET('Raw Data'!EG60,Input_Details!$B$29,0)","v":2},{"$f":"OFFSET('Raw Data'!EH60,Input_Details!$B$29,0)","v":1},{"$f":"OFFSET('Raw Data'!EI60,Input_Details!$B$29,0)","v":73}]
[null,"14:15:00",{"$f":"OFFSET('Raw Data'!DR61,Input_Details!$B$29,0)","v":6},{"$f":"OFFSET('Raw Data'!DS61,Input_Details!$B$29,0)","v":46},{"$f":"OFFSET('Raw Data'!DT61,Input_Details!$B$29,0)","v":10},{"$f":"OFFSET('Raw Data'!DU61,Input_Details!$B$29,0)","v":1},{"$f":"OFFSET('Raw Data'!DV61,Input_Details!$B$29,0)","v":1},{"$f":"OFFSET('Raw Data'!DW61,Input_Details!$B$29,0)","v":64},null,{"$f":"OFFSET('Raw Data'!DX61,Input_Details!$B$29,0)","v":1},{"$f":"OFFSET('Raw Data'!DY61,Input_Details!$B$29,0)","v":4},{"$f":"OFFSET('Raw Data'!DZ61,Input_Details!$B$29,0)","v":0},{"$f":"OFFSET('Raw Data'!EA61,Input_Details!$B$29,0)","v":0},{"$f":"OFFSET('Raw Data'!EB61,Input_Details!$B$29,0)","v":0},{"$f":"OFFSET('Raw Data'!EC61,Input_Details!$B$29,0)","v":5},null,{"$f":"OFFSET('Raw Data'!ED61,Input_Details!$B$29,0)","v":7},{"$f":"OFFSET('Raw Data'!EE61,Input_Details!$B$29,0)","v":50},{"$f":"OFFSET('Raw Data'!EF61,Input_Details!$B$29,0)","v":10},{"$f":"OFFSET('Raw Data'!EG61,Input_Details!$B$29,0)","v":1},{"$f":"OFFSET('Raw Data'!EH61,Input_Details!$B$29,0)","v":1},{"$f":"OFFSET('Raw Data'!EI61,Input_Details!$B$29,0)","v":69}]
[null,"14:30:00",{"$f":"OFFSET('Raw Data'!DR62,Input_Details!$B$29,0)","v":5},{"$f":"OFFSET('Raw Data'!DS62,Input_Details!$B$29,0)","v":46},{"$f":"OFFSET('Raw Data'!DT62,Input_Details!$B$29,0)","v":10},{"$f":"OFFSET('Raw Data'!DU62,Input_Details!$B$29,0)","v":2},{"$f":"OFFSET('Raw Data'!DV62,Input_Details!$B$29,0)","v":1},{"$f":"OFFSET('Raw Data'!DW62,Input_Details!$B$29,0)","v":64},null,{"$f":"OFFSET('Raw Data'!DX62,Input_Details!$B$29,0)","v":2},{"$f":"OFFSET('Raw Data'!DY62,Input_Details!$B$29,0)","v":5},{"$f":"OFFSET('Raw Data'!DZ62,Input_Details!$B$29,0)","v":0},{"$f":"OFFSET('Raw Data'!EA62,Input_Details!$B$29,0)","v":0},{"$f":"OFFSET('Raw Data'!EB62,Input_Details!$B$29,0)","v":0},{"$f":"OFFSET('Raw Data'!EC62,Input_Details!$B$29,0)","v":7},null,{"$f":"OFFSET('Raw Data'!ED62,Input_Details!$B$29,0)","v":7},{"$f":"OFFSET('Raw Data'!EE62,Input_Details!$B$29,0)","v":51},{"$f":"OFFSET('Raw Data'!EF62,Input_Details!$B$29,0)","v":10},{"$f":"OFFSET('Raw Data'!EG62,Input_Details!$B$29,0)","v":2},{"$f":"OFFSET('Raw Data'!EH62,Input_Details!$B$29,0)","v":1},{"$f":"OFFSET('Raw Data'!EI62,Input_Details!$B$29,0)","v":71}]
[null,"14:45:00",{"$f":"OFFSET('Raw Data'!DR63,Input_Details!$B$29,0)","v":6},{"$f":"OFFSET('Raw Data'!DS63,Input_Details!$B$29,0)","v":50},{"$f":"OFFSET('Raw Data'!DT63,Input_Details!$B$29,0)","v":11},{"$f":"OFFSET('Raw Data'!DU63,Input_Details!$B$29,0)","v":2},{"$f":"OFFSET('Raw Data'!DV63,Input_Details!$B$29,0)","v":0},{"$f":"OFFSET('Raw Data'!DW63,Input_Details!$B$29,0)","v":69},null,{"$f":"OFFSET('Raw Data'!DX63,Input_Details!$B$29,0)","v":1},{"$f":"OFFSET('Raw Data'!DY63,Input_Details!$B$29,0)","v":5},{"$f":"OFFSET('Raw Data'!DZ63,Input_Details!$B$29,0)","v":1},{"$f":"OFFSET('Raw Data'!EA63,Input_Details!$B$29,0)","v":0},{"$f":"OFFSET('Raw Data'!EB63,Input_Details!$B$29,0)","v":0},{"$f":"OFFSET('Raw Data'!EC63,Input_Details!$B$29,0)","v":7},null,{"$f":"OFFSET('Raw Data'!ED63,Input_Details!$B$29,0)","v":7},{"$f":"OFFSET('Raw Data'!EE63,Input_Details!$B$29,0)","v":55},{"$f":"OFFSET('Raw Data'!EF63,Input_Details!$B$29,0)","v":12},{"$f":"OFFSET('Raw Data'!EG63,Input_Details!$B$29,0)","v":2},{"$f":"OFFSET('Raw Data'!EH63,Input_Details!$B$29,0)","v":0},{"$f":"OFFSET('Raw Data'!EI63,Input_Details!$B$29,0)","v":76}]
[null,"15:00:00",{"$f":"OFFSET('Raw Data'!DR64,Input_Details!$B$29,0)","v":8},{"$f":"OFFSET('Raw Data'!DS64,Input_Details!$B$29,0)","v":46},{"$f":"OFFSET('Raw Data'!DT64,Input_Details!$B$29,0)","v":11},{"$f":"OFFSET('Raw Data'!DU64,Input_Details!$B$29,0)","v":2},{"$f":"OFFSET('Raw Data'!DV64,Input_Details!$B$29,0)","v":0},{"$f":"OFFSET('Raw Data'!DW64,Input_Details!$B$29,0)","v":67},null,{"$f":"OFFSET('Raw Data'!DX64,Input_Details!$B$29,0)","v":2},{"$f":"OFFSET('Raw Data'!DY64,Input_Details!$B$29,0)","v":6},{"$f":"OFFSET('Raw Data'!DZ64,Input_Details!$B$29,0)","v":0},{"$f":"OFFSET('Raw Data'!EA64,Input_Details!$B$29,0)","v":0},{"$f":"OFFSET('Raw Data'!EB64,Input_Details!$B$29,0)","v":0},{"$f":"OFFSET('Raw Data'!EC64,Input_Details!$B$29,0)","v":8},null,{"$f":"OFFSET('Raw Data'!ED64,Input_Details!$B$29,0)","v":10},{"$f":"OFFSET('Raw Data'!EE64,Input_Details!$B$29,0)","v":52},{"$f":"OFFSET('Raw Data'!EF64,Input_Details!$B$29,0)","v":11},{"$f":"OFFSET('Raw Data'!EG64,Input_Details!$B$29,0)","v":2},{"$f":"OFFSET('Raw Data'!EH64,Input_Details!$B$29,0)","v":0},{"$f":"OFFSET('Raw Data'!EI64,Input_Details!$B$29,0)","v":75}]
[null,"15:15:00",{"$f":"OFFSET('Raw Data'!DR65,Input_Details!$B$29,0)","v":7},{"$f":"OFFSET('Raw Data'!DS65,Input_Details!$B$29,0)","v":46},{"$f":"OFFSET('Raw Data'!DT65,Input_Details!$B$29,0)","v":10},{"$f":"OFFSET('Raw Data'!DU65,Input_Details!$B$29,0)","v":1},{"$f":"OFFSET('Raw Data'!DV65,Input_Details!$B$29,0)","v":0},{"$f":"OFFSET('Raw Data'!DW65,Input_Details!$B$29,0)","v":64},null,{"$f":"OFFSET('Raw Data'!DX65,Input_Details!$B$29,0)","v":1},{"$f":"OFFSET('Raw Data'!DY65,Input_Details!$B$29,0)","v":6},{"$f":"OFFSET('Raw Data'!DZ65,Input_Details!$B$29,0)","v":0},{"$f":"OFFSET('Raw Data'!EA65,Input_Details!$B$29,0)","v":1},{"$f":"OFFSET('Raw Data'!EB65,Input_Details!$B$29,0)","v":0},{"$f":"OFFSET('Raw Data'!EC65,Input_Details!$B$29,0)","v":8},null,{"$f":"OFFSET('Raw Data'!ED65,Input_Details!$B$29,0)","v":8},{"$f":"OFFSET('Raw Data'!EE65,Input_Details!$B$29,0)","v":52},{"$f":"OFFSET('Raw Data'!EF65,Input_Details!$B$29,0)","v":10},{"$f":"OFFSET('Raw Data'!EG65,Input_Details!$B$29,0)","v":2},{"$f":"OFFSET('Raw Data'!EH65,Input_Details!$B$29,0)","v":0},{"$f":"OFFSET('Raw Data'!EI65,Input_Details!$B$29,0)","v":72}]
[null,"15:30:00",{"$f":"OFFSET('Raw Data'!DR66,Input_Details!$B$29,0)","v":5},{"$f":"OFFSET('Raw Data'!DS66,Input_Details!$B$29,0)","v":48},{"$f":"OFFSET('Raw Data'!DT66,Input_Details!$B$29,0)","v":8},{"$f":"OFFSET('Raw Data'!DU66,Input_Details!$B$29,0)","v":1},{"$f":"OFFSET('Raw Data'!DV66,Input_Details!$B$29,0)","v":1},{"$f":"OFFSET('Raw Data'!DW66,Input_Details!$B$29,0)","v":63},null,{"$f":"OFFSET('Raw Data'!DX66,Input_Details!$B$29,0)","v":3},{"$f":"OFFSET('Raw Data'!DY66,Input_Details!$B$29,0)","v":8},{"$f":"OFFSET('Raw Data'!DZ66,Input_Details!$B$29,0)","v":0},{"$f":"OFFSET('Raw Data'!EA66,Input_Details!$B$29,0)","v":1},{"$f":"OFFSET('Raw Data'!EB66,Input_Details!$B$29,0)","v":0},{"$f":"OFFSET('Raw Data'!EC66,Input_Details!$B$29,0)","v":12},null,{"$f":"OFFSET('Raw Data'!ED66,Input_Details!$B$29,0)","v":8},{"$f":"OFFSET('Raw Data'!EE66,Input_Details!$B$29,0)","v":56},{"$f":"OFFSET('Raw Data'!EF66,Input_Details!$B$29,0)","v":8},{"$f":"OFFSET('Raw Data'!EG66,Input_Details!$B$29,0)","v":2},{"$f":"OFFSET('Raw Data'!EH66,Input_Details!$B$29,0)","v":1},{"$f":"OFFSET('Raw Data'!EI66,Input_Details!$B$29,0)","v":75}]
[null,"15:45:00",{"$f":"OFFSET('Raw Data'!DR67,Input_Details!$B$29,0)","v":9},{"$f":"OFFSET('Raw Data'!DS67,Input_Details!$B$29,0)","v":52},{"$f":"OFFSET('Raw Data'!DT67,Input_Details!$B$29,0)","v":8},{"$f":"OFFSET('Raw Data'!DU67,Input_Details!$B$29,0)","v":1},{"$f":"OFFSET('Raw Data'!DV67,Input_Details!$B$29,0)","v":1},{"$f":"OFFSET('Raw Data'!DW67,Input_Details!$B$29,0)","v":71},null,{"$f":"OFFSET('Raw Data'!DX67,Input_Details!$B$29,0)","v":2},{"$f":"OFFSET('Raw Data'!DY67,Input_Details!$B$29,0)","v":7},{"$f":"OFFSET('Raw Data'!DZ67,Input_Details!$B$29,0)","v":0},{"$f":"OFFSET('Raw Data'!EA67,Input_Details!$B$29,0)","v":0},{"$f":"OFFSET('Raw Data'!EB67,Input_Details!$B$29,0)","v":0},{"$f":"OFFSET('Raw Data'!EC67,Input_Details!$B$29,0)","v":9},null,{"$f":"OFFSET('Raw Data'!ED67,Input_Details!$B$29,0)","v":11},{"$f":"OFFSET('Raw Data'!EE67,Input_Details!$B$29,0)","v":59},{"$f":"OFFSET('Raw Data'!EF67,Input_Details!$B$29,0)","v":8},{"$f":"OFFSET('Raw Data'!EG67,Input_Details!$B$29,0)","v":1},{"$f":"OFFSET('Raw Data'!EH67,Input_Details!$B$29,0)","v":1},{"$f":"OFFSET('Raw Data'!EI67,Input_Details!$B$29,0)","v":80}]
[null,"16:00:00",{"$f":"OFFSET('Raw Data'!DR68,Input_Details!$B$29,0)","v":12},{"$f":"OFFSET('Raw Data'!DS68,Input_Details!$B$29,0)","v":50},{"$f":"OFFSET('Raw Data'!DT68,Input_Details!$B$29,0)","v":9},{"$f":"OFFSET('Raw Data'!DU68,Input_Details!$B$29,0)","v":1},{"$f":"OFFSET('Raw Data'!DV68,Input_Details!$B$29,0)","v":1},{"$f":"OFFSET('Raw Data'!DW68,Input_Details!$B$29,0)","v":73},null,{"$f":"OFFSET('Raw Data'!DX68,Input_Details!$B$29,0)","v":3},{"$f":"OFFSET('Raw Data'!DY68,Input_Details!$B$29,0)","v":5},{"$f":"OFFSET('Raw Data'!DZ68,Input_Details!$B$29,0)","v":0},{"$f":"OFFSET('Raw Data'!EA68,Input_Details!$B$29,0)","v":0},{"$f":"OFFSET('Raw Data'!EB68,Input_Details!$B$29,0)","v":0},{"$f":"OFFSET('Raw Data'!EC68,Input_Details!$B$29,0)","v":8},null,{"$f":"OFFSET('Raw Data'!ED68,Input_Details!$B$29,0)","v":15},{"$f":"OFFSET('Raw Data'!EE68,Input_Details!$B$29,0)","v":55},{"$f":"OFFSET('Raw Data'!EF68,Input_Details!$B$29,0)","v":9},{"$f":"OFFSET('Raw Data'!EG68,Input_Details!$B$29,0)","v":1},{"$f":"OFFSET('Raw Data'!EH68,Input_Details!$B$29,0)","v":1},{"$f":"OFFSET('Raw Data'!EI68,Input_Details!$B$29,0)","v":81}]
[null,"16:15:00",{"$f":"OFFSET('Raw Data'!DR69,Input_Details!$B$29,0)","v":11},{"$f":"OFFSET('Raw Data'!DS69,Input_Details!$B$29,0)","v":46},{"$f":"OFFSET('Raw Data'!DT69,Input_Details!$B$29,0)","v":9},{"$f":"OFFSET('Raw Data'!DU69,Input_Details!$B$29,0)","v":2},{"$f":"OFFSET('Raw Data'!DV69,Input_Details!$B$29,0)","v":1},{"$f":"OFFSET('Raw Data'!DW69,Input_Details!$B$29,0)","v":69},null,{"$f":"OFFSET('Raw Data'!DX69,Input_Details!$B$29,0)","v":2},{"$f":"OFFSET('Raw Data'!DY69,Input_Details!$B$29,0)","v":6},{"$f":"OFFSET('Raw Data'!DZ69,Input_Details!$B$29,0)","v":0},{"$f":"OFFSET('Raw Data'!EA69,Input_Details!$B$29,0)","v":0},{"$f":"OFFSET('Raw Data'!EB69,Input_Details!$B$29,0)","v":0},{"$f":"OFFSET('Raw Data'!EC69,Input_Details!$B$29,0)","v":8},null,{"$f":"OFFSET('Raw Data'!ED69,Input_Details!$B$29,0)","v":13},{"$f":"OFFSET('Raw Data'!EE69,Input_Details!$B$29,0)","v":52},{"$f":"OFFSET('Raw Data'!EF69,Input_Details!$B$29,0)","v":9},{"$f":"OFFSET('Raw Data'!EG69,Input_Details!$B$29,0)","v":2},{"$f":"OFFSET('Raw Data'!EH69,Input_Details!$B$29,0)","v":1},{"$f":"OFFSET('Raw Data'!EI69,Input_Details!$B$29,0)","v":77}]
[null,"16:30:00",{"$f":"OFFSET('Raw Data'!DR70,Input_Details!$B$29,0)","v":11},{"$f":"OFFSET('Raw Data'!DS70,Input_Details!$B$29,0)","v":54},{"$f":"OFFSET('Raw Data'!DT70,Input_Details!$B$29,0)","v":9},{"$f":"OFFSET('Raw Data'!DU70,Input_Details!$B$29,0)","v":1},{"$f":"OFFSET('Raw Data'!DV70,Input_Details!$B$29,0)","v":1},{"$f":"OFFSET('Raw Data'!DW70,Input_Details!$B$29,0)","v":76},null,{"$f":"OFFSET('Raw Data'!DX70,Input_Details!$B$29,0)","v":1},{"$f":"OFFSET('Raw Data'!DY70,Input_Details!$B$29,0)","v":7},{"$f":"OFFSET('Raw Data'!DZ70,Input_Details!$B$29,0)","v":0},{"$f":"OFFSET('Raw Data'!EA70,Input_Details!$B$29,0)","v":0},{"$f":"OFFSET('Raw Data'!EB70,Input_Details!$B$29,0)","v":0},{"$f":"OFFSET('Raw Data'!EC70,Input_Details!$B$29,0)","v":8},null,{"$f":"OFFSET('Raw Data'!ED70,Input_Details!$B$29,0)","v":12},{"$f":"OFFSET('Raw Data'!EE70,Input_Details!$B$29,0)","v":61},{"$f":"OFFSET('Raw Data'!EF70,Input_Details!$B$29,0)","v":9},{"$f":"OFFSET('Raw Data'!EG70,Input_Details!$B$29,0)","v":1},{"$f":"OFFSET('Raw Data'!EH70,Input_Details!$B$29,0)","v":1},{"$f":"OFFSET('Raw Data'!EI70,Input_Details!$B$29,0)","v":84}]
[null,"16:45:00",{"$f":"OFFSET('Raw Data'!DR71,Input_Details!$B$29,0)","v":14},{"$f":"OFFSET('Raw Data'!DS71,Input_Details!$B$29,0)","v":54},{"$f":"OFFSET('Raw Data'!DT71,Input_Details!$B$29,0)","v":9},{"$f":"OFFSET('Raw Data'!DU71,Input_Details!$B$29,0)","v":0},{"$f":"OFFSET('Raw Data'!DV71,Input_Details!$B$29,0)","v":1},{"$f":"OFFSET('Raw Data'!DW71,Input_Details!$B$29,0)","v":78},null,{"$f":"OFFSET('Raw Data'!DX71,Input_Details!$B$29,0)","v":3},{"$f":"OFFSET('Raw Data'!DY71,Input_Details!$B$29,0)","v":7},{"$f":"OFFSET('Raw Data'!DZ71,Input_Details!$B$29,0)","v":0},{"$f":"OFFSET('Raw Data'!EA71,Input_Details!$B$29,0)","v":0},{"$f":"OFFSET('Raw Data'!EB71,Input_Details!$B$29,0)","v":0},{"$f":"OFFSET('Raw Data'!EC71,Input_Details!$B$29,0)","v":10},null,{"$f":"OFFSET('Raw Data'!ED71,Input_Details!$B$29,0)","v":17},{"$f":"OFFSET('Raw Data'!EE71,Input_Details!$B$29,0)","v":61},{"$f":"OFFSET('Raw Data'!EF71,Input_Details!$B$29,0)","v":9},{"$f":"OFFSET('Raw Data'!EG71,Input_Details!$B$29,0)","v":0},{"$f":"OFFSET('Raw Data'!EH71,Input_Details!$B$29,0)","v":1},{"$f":"OFFSET('Raw Data'!EI71,Input_Details!$B$29,0)","v":88}]
[null,"17:00:00",{"$f":"OFFSET('Raw Data'!DR72,Input_Details!$B$29,0)","v":11},{"$f":"OFFSET('Raw Data'!DS72,Input_Details!$B$29,0)","v":49},{"$f":"OFFSET('Raw Data'!DT72,Input_Details!$B$29,0)","v":10},{"$f":"OFFSET('Raw Data'!DU72,Input_Details!$B$29,0)","v":1},{"$f":"OFFSET('Raw Data'!DV72,Input_Details!$B$29,0)","v":1},{"$f":"OFFSET('Raw Data'!DW72,Input_Details!$B$29,0)","v":72},null,{"$f":"OFFSET('Raw Data'!DX72,Input_Details!$B$29,0)","v":2},{"$f":"OFFSET('Raw Data'!DY72,Input_Details!$B$29,0)","v":4},{"$f":"OFFSET('Raw Data'!DZ72,Input_Details!$B$29,0)","v":0},{"$f":"OFFSET('Raw Data'!EA72,Input_Details!$B$29,0)","v":0},{"$f":"OFFSET('Raw Data'!EB72,Input_Details!$B$29,0)","v":0},{"$f":"OFFSET('Raw Data'!EC72,Input_Details!$B$29,0)","v":6},null,{"$f":"OFFSET('Raw Data'!ED72,Input_Details!$B$29,0)","v":13},{"$f":"OFFSET('Raw Data'!EE72,Input_Details!$B$29,0)","v":53},{"$f":"OFFSET('Raw Data'!EF72,Input_Details!$B$29,0)","v":10},{"$f":"OFFSET('Raw Data'!EG72,Input_Details!$B$29,0)","v":1},{"$f":"OFFSET('Raw Data'!EH72,Input_Details!$B$29,0)","v":1},{"$f":"OFFSET('Raw Data'!EI72,Input_Details!$B$29,0)","v":78}]
[null,"17:15:00",{"$f":"OFFSET('Raw Data'!DR73,Input_Details!$B$29,0)","v":17},{"$f":"OFFSET('Raw Data'!DS73,Input_Details!$B$29,0)","v":59},{"$f":"OFFSET('Raw Data'!DT73,Input_Details!$B$29,0)","v":7},{"$f":"OFFSET('Raw Data'!DU73,Input_Details!$B$29,0)","v":1},{"$f":"OFFSET('Raw Data'!DV73,Input_Details!$B$29,0)","v":1},{"$f":"OFFSET('Raw Data'!DW73,Input_Details!$B$29,0)","v":85},null,{"$f":"OFFSET('Raw Data'!DX73,Input_Details!$B$29,0)","v":2},{"$f":"OFFSET('Raw Data'!DY73,Input_Details!$B$29,0)","v":6},{"$f":"OFFSET('Raw Data'!DZ73,Input_Details!$B$29,0)","v":0},{"$f":"OFFSET('Raw Data'!EA73,Input_Details!$B$29,0)","v":0},{"$f":"OFFSET('Raw Data'!EB73,Input_Details!$B$29,0)","v":0},{"$f":"OFFSET('Raw Data'!EC73,Input_Details!$B$29,0)","v":8},null,{"$f":"OFFSET('Raw Data'!ED73,Input_Details!$B$29,0)","v":19},{"$f":"OFFSET('Raw Data'!EE73,Input_Details!$B$29,0)","v":65},{"$f":"OFFSET('Raw Data'!EF73,Input_Details!$B$29,0)","v":7},{"$f":"OFFSET('Raw Data'!EG73,Input_Details!$B$29,0)","v":1},{"$f":"OFFSET('Raw Data'!EH73,Input_Details!$B$29,0)","v":1},{"$f":"OFFSET('Raw Data'!EI73,Input_Details!$B$29,0)","v":93}]
[null,"17:30:00",{"$f":"OFFSET('Raw Data'!DR74,Input_Details!$B$29,0)","v":15},{"$f":"OFFSET('Raw Data'!DS74,Input_Details!$B$29,0)","v":55},{"$f":"OFFSET('Raw Data'!DT74,Input_Details!$B$29,0)","v":6},{"$f":"OFFSET('Raw Data'!DU74,Input_Details!$B$29,0)","v":1},{"$f":"OFFSET('Raw Data'!DV74,Input_Details!$B$29,0)","v":0},{"$f":"OFFSET('Raw Data'!DW74,Input_Details!$B$29,0)","v":77},null,{"$f":"OFFSET('Raw Data'!DX74,Input_Details!$B$29,0)","v":3},{"$f":"OFFSET('Raw Data'!DY74,Input_Details!$B$29,0)","v":4},{"$f":"OFFSET('Raw Data'!DZ74,Input_Details!$B$29,0)","v":0},{"$f":"OFFSET('Raw Data'!EA74,Input_Details!$B$29,0)","v":0},{"$f":"OFFSET('Raw Data'!EB74,Input_Details!$B$29,0)","v":0},{"$f":"OFFSET('Raw Data'!EC74,Input_Details!$B$29,0)","v":7},null,{"$f":"OFFSET('Raw Data'!ED74,Input_Details!$B$29,0)","v":18},{"$f":"OFFSET('Raw Data'!EE74,Input_Details!$B$29,0)","v":59},{"$f":"OFFSET('Raw Data'!EF74,Input_Details!$B$29,0)","v":6},{"$f":"OFFSET('Raw Data'!EG74,Input_Details!$B$29,0)","v":1},{"$f":"OFFSET('Raw Data'!EH74,Input_Details!$B$29,0)","v":0},{"$f":"OFFSET('Raw Data'!EI74,Input_Details!$B$29,0)","v":84}]
[null,"17:45:00",{"$f":"OFFSET('Raw Data'!DR75,Input_Details!$B$29,0)","v":21},{"$f":"OFFSET('Raw Data'!DS75,Input_Details!$B$29,0)","v":54},{"$f":"OFFSET('Raw Data'!DT75,Input_Details!$B$29,0)","v":7},{"$f":"OFFSET('Raw Data'!DU75,Input_Details!$B$29,0)","v":2},{"$f":"OFFSET('Raw Data'!DV75,Input_Details!$B$29,0)","v":0},{"$f":"OFFSET('Raw Data'!DW75,Input_Details!$B$29,0)","v":84},null,{"$f":"OFFSET('Raw Data'!DX75,Input_Details!$B$29,0)","v":2},{"$f":"OFFSET('Raw Data'!DY75,Input_Details!$B$29,0)","v":7},{"$f":"OFFSET('Raw Data'!DZ75,Input_Details!$B$29,0)","v":0},{"$f":"OFFSET('Raw Data'!EA75,Input_Details!$B$29,0)","v":0},{"$f":"OFFSET('Raw Data'!EB75,Input_Details!$B$29,0)","v":0},{"$f":"OFFSET('Raw Data'!EC75,Input_Details!$B$29,0)","v":9},null,{"$f":"OFFSET('Raw Data'!ED75,Input_Details!$B$29,0)","v":23},{"$f":"OFFSET('Raw Data'!EE75,Input_Details!$B$29,0)","v":61},{"$f":"OFFSET('Raw Data'!EF75,Input_Details!$B$29,0)","v":7},{"$f":"OFFSET('Raw Data'!EG75,Input_Details!$B$29,0)","v":2},{"$f":"OFFSET('Raw Data'!EH75,Input_Details!$B$29,0)","v":0},{"$f":"OFFSET('Raw Data'!EI75,Input_Details!$B$29,0)","v":93}]
[null,"18:00:00",{"$f":"OFFSET('Raw Data'!DR76,Input_Details!$B$29,0)","v":20},{"$f":"OFFSET('Raw Data'!DS76,Input_Details!$B$29,0)","v":57},{"$f":"OFFSET('Raw Data'!DT76,Input_Details!$B$29,0)","v":7},{"$f":"OFFSET('Raw Data'!DU76,Input_Details!$B$29,0)","v":2},{"$f":"OFFSET('Raw Data'!DV76,Input_Details!$B$29,0)","v":3},{"$f":"OFFSET('Raw Data'!DW76,Input_Details!$B$29,0)","v":89},null,{"$f":"OFFSET('Raw Data'!DX76,Input_Details!$B$29,0)","v":3},{"$f":"OFFSET('Raw Data'!DY76,Input_Details!$B$29,0)","v":7},{"$f":"OFFSET('Raw Data'!DZ76,Input_Details!$B$29,0)","v":0},{"$f":"OFFSET('Raw Data'!EA76,Input_Details!$B$29,0)","v":0},{"$f":"OFFSET('Raw Data'!EB76,Input_Details!$B$29,0)","v":0},{"$f":"OFFSET('Raw Data'!EC76,Input_Details!$B$29,0)","v":10},null,{"$f":"OFFSET('Raw Data'!ED76,Input_Details!$B$29,0)","v":23},{"$f":"OFFSET('Raw Data'!EE76,Input_Details!$B$29,0)","v":64},{"$f":"OFFSET('Raw Data'!EF76,Input_Details!$B$29,0)","v":7},{"$f":"OFFSET('Raw Data'!EG76,Input_Details!$B$29,0)","v":2},{"$f":"OFFSET('Raw Data'!EH76,Input_Details!$B$29,0)","v":3},{"$f":"OFFSET('Raw Data'!EI76,Input_Details!$B$29,0)","v":99}]
[null,"18:15:00",{"$f":"OFFSET('Raw Data'!DR77,Input_Details!$B$29,0)","v":20},{"$f":"OFFSET('Raw Data'!DS77,Input_Details!$B$29,0)","v":54},{"$f":"OFFSET('Raw Data'!DT77,Input_Details!$B$29,0)","v":7},{"$f":"OFFSET('Raw Data'!DU77,Input_Details!$B$29,0)","v":1},{"$f":"OFFSET('Raw Data'!DV77,Input_Details!$B$29,0)","v":1},{"$f":"OFFSET('Raw Data'!DW77,Input_Details!$B$29,0)","v":83},null,{"$f":"OFFSET('Raw Data'!DX77,Input_Details!$B$29,0)","v":3},{"$f":"OFFSET('Raw Data'!DY77,Input_Details!$B$29,0)","v":9},{"$f":"OFFSET('Raw Data'!DZ77,Input_Details!$B$29,0)","v":0},{"$f":"OFFSET('Raw Data'!EA77,Input_Details!$B$29,0)","v":1},{"$f":"OFFSET('Raw Data'!EB77,Input_Details!$B$29,0)","v":0},{"$f":"OFFSET('Raw Data'!EC77,Input_Details!$B$29,0)","v":13},null,{"$f":"OFFSET('Raw Data'!ED77,Input_Details!$B$29,0)","v":23},{"$f":"OFFSET('Raw Data'!EE77,Input_Details!$B$29,0)","v":63},{"$f":"OFFSET('Raw Data'!EF77,Input_Details!$B$29,0)","v":7},{"$f":"OFFSET('Raw Data'!EG77,Input_Details!$B$29,0)","v":2},{"$f":"OFFSET('Raw Data'!EH77,Input_Details!$B$29,0)","v":1},{"$f":"OFFSET('Raw Data'!EI77,Input_Details!$B$29,0)","v":96}]
[null,"18:30:00",{"$f":"OFFSET('Raw Data'!DR78,Input_Details!$B$29,0)","v":20},{"$f":"OFFSET('Raw Data'!DS78,Input_Details!$B$29,0)","v":60},{"$f":"OFFSET('Raw Data'!DT78,Input_Details!$B$29,0)","v":4},{"$f":"OFFSET('Raw Data'!DU78,Input_Details!$B$29,0)","v":1},{"$f":"OFFSET('Raw Data'!DV78,Input_Details!$B$29,0)","v":1},{"$f":"OFFSET('Raw Data'!DW78,Input_Details!$B$29,0)","v":86},null,{"$f":"OFFSET('Raw Data'!DX78,Input_Details!$B$29,0)","v":3},{"$f":"OFFSET('Raw Data'!DY78,Input_Details!$B$29,0)","v":8},{"$f":"OFFSET('Raw Data'!DZ78,Input_Details!$B$29,0)","v":0},{"$f":"OFFSET('Raw Data'!EA78,Input_Details!$B$29,0)","v":0},{"$f":"OFFSET('Raw Data'!EB78,Input_Details!$B$29,0)","v":0},{"$f":"OFFSET('Raw Data'!EC78,Input_Details!$B$29,0)","v":11},null,{"$f":"OFFSET('Raw Data'!ED78,Input_Details!$B$29,0)","v":23},{"$f":"OFFSET('Raw Data'!EE78,Input_Details!$B$29,0)","v":68},{"$f":"OFFSET('Raw Data'!EF78,Input_Details!$B$29,0)","v":4},{"$f":"OFFSET('Raw Data'!EG78,Input_Details!$B$29,0)","v":1},{"$f":"OFFSET('Raw Data'!EH78,Input_Details!$B$29,0)","v":1},{"$f":"OFFSET('Raw Data'!EI78,Input_Details!$B$29,0)","v":97}]
[null,"18:45:00",{"$f":"OFFSET('Raw Data'!DR79,Input_Details!$B$29,0)","v":14},{"$f":"OFFSET('Raw Data'!DS79,Input_Details!$B$29,0)","v":60},{"$f":"OFFSET('Raw Data'!DT79,Input_Details!$B$29,0)","v":4},{"$f":"OFFSET('Raw Data'!DU79,Input_Details!$B$29,0)","v":1},{"$f":"OFFSET('Raw Data'!DV79,Input_Details!$B$29,0)","v":1},{"$f":"OFFSET('Raw Data'!DW79,Input_Details!$B$29,0)","v":80},null,{"$f":"OFFSET('Raw Data'!DX79,Input_Details!$B$29,0)","v":2},{"$f":"OFFSET('Raw Data'!DY79,Input_Details!$B$29,0)","v":8},{"$f":"OFFSET('Raw Data'!DZ79,Input_Details!$B$29,0)","v":0},{"$f":"OFFSET('Raw Data'!EA79,Input_Details!$B$29,0)","v":0},{"$f":"OFFSET('Raw Data'!EB79,Input_Details!$B$29,0)","v":0},{"$f":"OFFSET('Raw Data'!EC79,Input_Details!$B$29,0)","v":10},null,{"$f":"OFFSET('Raw Data'!ED79,Input_Details!$B$29,0)","v":16},{"$f":"OFFSET('Raw Data'!EE79,Input_Details!$B$29,0)","v":68},{"$f":"OFFSET('Raw Data'!EF79,Input_Details!$B$29,0)","v":4},{"$f":"OFFSET('Raw Data'!EG79,Input_Details!$B$29,0)","v":1},{"$f":"OFFSET('Raw Data'!EH79,Input_Details!$B$29,0)","v":1},{"$f":"OFFSET('Raw Data'!EI79,Input_Details!$B$29,0)","v":90}]
[null,"19:00:00",{"$f":"OFFSET('Raw Data'!DR80,Input_Details!$B$29,0)","v":17},{"$f":"OFFSET('Raw Data'!DS80,Input_Details!$B$29,0)","v":58},{"$f":"OFFSET('Raw Data'!DT80,Input_Details!$B$29,0)","v":3},{"$f":"OFFSET('Raw Data'!DU80,Input_Details!$B$29,0)","v":2},{"$f":"OFFSET('Raw Data'!DV80,Input_Details!$B$29,0)","v":1},{"$f":"OFFSET('Raw Data'!DW80,Input_Details!$B$29,0)","v":81},null,{"$f":"OFFSET('Raw Data'!DX80,Input_Details!$B$29,0)","v":3},{"$f":"OFFSET('Raw Data'!DY80,Input_Details!$B$29,0)","v":7},{"$f":"OFFSET('Raw Data'!DZ80,Input_Details!$B$29,0)","v":0},{"$f":"OFFSET('Raw Data'!EA80,Input_Details!$B$29,0)","v":1},{"$f":"OFFSET('Raw Data'!EB80,Input_Details!$B$29,0)","v":0},{"$f":"OFFSET('Raw Data'!EC80,Input_Details!$B$29,0)","v":11},null,{"$f":"OFFSET('Raw Data'!ED80,Input_Details!$B$29,0)","v":20},{"$f":"OFFSET('Raw Data'!EE80,Input_Details!$B$29,0)","v":65},{"$f":"OFFSET('Raw Data'!EF80,Input_Details!$B$29,0)","v":3},{"$f":"OFFSET('Raw Data'!EG80,Input_Details!$B$29,0)","v":3},{"$f":"OFFSET('Raw Data'!EH80,Input_Details!$B$29,0)","v":1},{"$f":"OFFSET('Raw Data'!EI80,Input_Details!$B$29,0)","v":92}]
[null,"19:15:00",{"$f":"OFFSET('Raw Data'!DR81,Input_Details!$B$29,0)","v":10},{"$f":"OFFSET('Raw Data'!DS81,Input_Details!$B$29,0)","v":55},{"$f":"OFFSET('Raw Data'!DT81,Input_Details!$B$29,0)","v":3},{"$f":"OFFSET('Raw Data'!DU81,Input_Details!$B$29,0)","v":2},{"$f":"OFFSET('Raw Data'!DV81,Input_Details!$B$29,0)","v":0},{"$f":"OFFSET('Raw Data'!DW81,Input_Details!$B$29,0)","v":70},null,{"$f":"OFFSET('Raw Data'!DX81,Input_Details!$B$29,0)","v":2},{"$f":"OFFSET('Raw Data'!DY81,Input_Details!$B$29,0)","v":7},{"$f":"OFFSET('Raw Data'!DZ81,Input_Details!$B$29,0)","v":0},{"$f":"OFFSET('Raw Data'!EA81,Input_Details!$B$29,0)","v":1},{"$f":"OFFSET('Raw Data'!EB81,Input_Details!$B$29,0)","v":0},{"$f":"OFFSET('Raw Data'!EC81,Input_Details!$B$29,0)","v":10},null,{"$f":"OFFSET('Raw Data'!ED81,Input_Details!$B$29,0)","v":12},{"$f":"OFFSET('Raw Data'!EE81,Input_Details!$B$29,0)","v":62},{"$f":"OFFSET('Raw Data'!EF81,Input_Details!$B$29,0)","v":3},{"$f":"OFFSET('Raw Data'!EG81,Input_Details!$B$29,0)","v":3},{"$f":"OFFSET('Raw Data'!EH81,Input_Details!$B$29,0)","v":0},{"$f":"OFFSET('Raw Data'!EI81,Input_Details!$B$29,0)","v":80}]
[null,"19:30:00",{"$f":"OFFSET('Raw Data'!DR82,Input_Details!$B$29,0)","v":11},{"$f":"OFFSET('Raw Data'!DS82,Input_Details!$B$29,0)","v":52},{"$f":"OFFSET('Raw Data'!DT82,Input_Details!$B$29,0)","v":4},{"$f":"OFFSET('Raw Data'!DU82,Input_Details!$B$29,0)","v":2},{"$f":"OFFSET('Raw Data'!DV82,Input_Details!$B$29,0)","v":0},{"$f":"OFFSET('Raw Data'!DW82,Input_Details!$B$29,0)","v":69},null,{"$f":"OFFSET('Raw Data'!DX82,Input_Details!$B$29,0)","v":3},{"$f":"OFFSET('Raw Data'!DY82,Input_Details!$B$29,0)","v":7},{"$f":"OFFSET('Raw Data'!DZ82,Input_Details!$B$29,0)","v":0},{"$f":"OFFSET('Raw Data'!EA82,Input_Details!$B$29,0)","v":1},{"$f":"OFFSET('Raw Data'!EB82,Input_Details!$B$29,0)","v":0},{"$f":"OFFSET('Raw Data'!EC82,Input_Details!$B$29,0)","v":11},null,{"$f":"OFFSET('Raw Data'!ED82,Input_Details!$B$29,0)","v":14},{"$f":"OFFSET('Raw Data'!EE82,Input_Details!$B$29,0)","v":59},{"$f":"OFFSET('Raw Data'!EF82,Input_Details!$B$29,0)","v":4},{"$f":"OFFSET('Raw Data'!EG82,Input_Details!$B$29,0)","v":3},{"$f":"OFFSET('Raw Data'!EH82,Input_Details!$B$29,0)","v":0},{"$f":"OFFSET('Raw Data'!EI82,Input_Details!$B$29,0)","v":80}]
[null,"19:45:00",{"$f":"OFFSET('Raw Data'!DR83,Input_Details!$B$29,0)","v":8},{"$f":"OFFSET('Raw Data'!DS83,Input_Details!$B$29,0)","v":50},{"$f":"OFFSET('Raw Data'!DT83,Input_Details!$B$29,0)","v":2},{"$f":"OFFSET('Raw Data'!DU83,Input_Details!$B$29,0)","v":2},{"$f":"OFFSET('Raw Data'!DV83,Input_Details!$B$29,0)","v":0},{"$f":"OFFSET('Raw Data'!DW83,Input_Details!$B$29,0)","v":62},null,{"$f":"OFFSET('Raw Data'!DX83,Input_Details!$B$29,0)","v":2},{"$f":"OFFSET('Raw Data'!DY83,Input_Details!$B$29,0)","v":7},{"$f":"OFFSET('Raw Data'!DZ83,Input_Details!$B$29,0)","v":0},{"$f":"OFFSET('Raw Data'!EA83,Input_Details!$B$29,0)","v":0},{"$f":"OFFSET('Raw Data'!EB83,Input_Details!$B$29,0)","v":0},{"$f":"OFFSET('Raw Data'!EC83,Input_Details!$B$29,0)","v":9},null,{"$f":"OFFSET('Raw Data'!ED83,Input_Details!$B$29,0)","v":10},{"$f":"OFFSET('Raw Data'!EE83,Input_Details!$B$29,0)","v":57},{"$f":"OFFSET('Raw Data'!EF83,Input_Details!$B$29,0)","v":2},{"$f":"OFFSET('Raw Data'!EG83,Input_Details!$B$29,0)","v":2},{"$f":"OFFSET('Raw Data'!EH83,Input_Details!$B$29,0)","v":0},{"$f":"OFFSET('Raw Data'!EI83,Input_Details!$B$29,0)","v":71}]
[null,"20:00:00",{"$f":"OFFSET('Raw Data'!DR84,Input_Details!$B$29,0)","v":5},{"$f":"OFFSET('Raw Data'!DS84,Input_Details!$B$29,0)","v":47},{"$f":"OFFSET('Raw Data'!DT84,Input_Details!$B$29,0)","v":2},{"$f":"OFFSET('Raw Data'!DU84,Input_Details!$B$29,0)","v":0},{"$f":"OFFSET('Raw Data'!DV84,Input_Details!$B$29,0)","v":0},{"$f":"OFFSET('Raw Data'!DW84,Input_Details!$B$29,0)","v":54},null,{"$f":"OFFSET('Raw Data'!DX84,Input_Details!$B$29,0)","v":2},{"$f":"OFFSET('Raw Data'!DY84,Input_Details!$B$29,0)","v":7},{"$f":"OFFSET('Raw Data'!DZ84,Input_Details!$B$29,0)","v":0},{"$f":"OFFSET('Raw Data'!EA84,Input_Details!$B$29,0)","v":1},{"$f":"OFFSET('Raw Data'!EB84,Input_Details!$B$29,0)","v":0},{"$f":"OFFSET('Raw Data'!EC84,Input_Details!$B$29,0)","v":10},null,{"$f":"OFFSET('Raw Data'!ED84,Input_Details!$B$29,0)","v":7},{"$f":"OFFSET('Raw Data'!EE84,Input_Details!$B$29,0)","v":54},{"$f":"OFFSET('Raw Data'!EF84,Input_Details!$B$29,0)","v":2},{"$f":"OFFSET('Raw Data'!EG84,Input_Details!$B$29,0)","v":1},{"$f":"OFFSET('Raw Data'!EH84,Input_Details!$B$29,0)","v":0},{"$f":"OFFSET('Raw Data'!EI84,Input_Details!$B$29,0)","v":64}]
[null,"20:15:00",{"$f":"OFFSET('Raw Data'!DR85,Input_Details!$B$29,0)","v":6},{"$f":"OFFSET('Raw Data'!DS85,Input_Details!$B$29,0)","v":43},{"$f":"OFFSET('Raw Data'!DT85,Input_Details!$B$29,0)","v":2},{"$f":"OFFSET('Raw Data'!DU85,Input_Details!$B$29,0)","v":1},{"$f":"OFFSET('Raw Data'!DV85,Input_Details!$B$29,0)","v":0},{"$f":"OFFSET('Raw Data'!DW85,Input_Details!$B$29,0)","v":52},null,{"$f":"OFFSET('Raw Data'!DX85,Input_Details!$B$29,0)","v":2},{"$f":"OFFSET('Raw Data'!DY85,Input_Details!$B$29,0)","v":6},{"$f":"OFFSET('Raw Data'!DZ85,Input_Details!$B$29,0)","v":0},{"$f":"OFFSET('Raw Data'!EA85,Input_Details!$B$29,0)","v":0},{"$f":"OFFSET('Raw Data'!EB85,Input_Details!$B$29,0)","v":0},{"$f":"OFFSET('Raw Data'!EC85,Input_Details!$B$29,0)","v":8},null,{"$f":"OFFSET('Raw Data'!ED85,Input_Details!$B$29,0)","v":8},{"$f":"OFFSET('Raw Data'!EE85,Input_Details!$B$29,0)","v":49},{"$f":"OFFSET('Raw Data'!EF85,Input_Details!$B$29,0)","v":2},{"$f":"OFFSET('Raw Data'!EG85,Input_Details!$B$29,0)","v":1},{"$f":"OFFSET('Raw Data'!EH85,Input_Details!$B$29,0)","v":0},{"$f":"OFFSET('Raw Data'!EI85,Input_Details!$B$29,0)","v":60}]
[null,"20:30:00",{"$f":"OFFSET('Raw Data'!DR86,Input_Details!$B$29,0)","v":5},{"$f":"OFFSET('Raw Data'!DS86,Input_Details!$B$29,0)","v":51},{"$f":"OFFSET('Raw Data'!DT86,Input_Details!$B$29,0)","v":3},{"$f":"OFFSET('Raw Data'!DU86,Input_Details!$B$29,0)","v":1},{"$f":"OFFSET('Raw Data'!DV86,Input_Details!$B$29,0)","v":0},{"$f":"OFFSET('Raw Data'!DW86,Input_Details!$B$29,0)","v":60},null,{"$f":"OFFSET('Raw Data'!DX86,Input_Details!$B$29,0)","v":2},{"$f":"OFFSET('Raw Data'!DY86,Input_Details!$B$29,0)","v":6},{"$f":"OFFSET('Raw Data'!DZ86,Input_Details!$B$29,0)","v":0},{"$f":"OFFSET('Raw Data'!EA86,Input_Details!$B$29,0)","v":0},{"$f":"OFFSET('Raw Data'!EB86,Input_Details!$B$29,0)","v":0},{"$f":"OFFSET('Raw Data'!EC86,Input_Details!$B$29,0)","v":8},null,{"$f":"OFFSET('Raw Data'!ED86,Input_Details!$B$29,0)","v":7},{"$f":"OFFSET('Raw Data'!EE86,Input_Details!$B$29,0)","v":57},{"$f":"OFFSET('Raw Data'!EF86,Input_Details!$B$29,0)","v":3},{"$f":"OFFSET('Raw Data'!EG86,Input_Details!$B$29,0)","v":1},{"$f":"OFFSET('Raw Data'!EH86,Input_Details!$B$29,0)","v":0},{"$f":"OFFSET('Raw Data'!EI86,Input_Details!$B$29,0)","v":68}]
[null,"20:45:00",{"$f":"OFFSET('Raw Data'!DR87,Input_Details!$B$29,0)","v":6},{"$f":"OFFSET('Raw Data'!DS87,Input_Details!$B$29,0)","v":42},{"$f":"OFFSET('Raw Data'!DT87,Input_Details!$B$29,0)","v":2},{"$f":"OFFSET('Raw Data'!DU87,Input_Details!$B$29,0)","v":1},{"$f":"OFFSET('Raw Data'!DV87,Input_Details!$B$29,0)","v":0},{"$f":"OFFSET('Raw Data'!DW87,Input_Details!$B$29,0)","v":51},null,{"$f":"OFFSET('Raw Data'!DX87,Input_Details!$B$29,0)","v":2},{"$f":"OFFSET('Raw Data'!DY87,Input_Details!$B$29,0)","v":8},{"$f":"OFFSET('Raw Data'!DZ87,Input_Details!$B$29,0)","v":0},{"$f":"OFFSET('Raw Data'!EA87,Input_Details!$B$29,0)","v":0},{"$f":"OFFSET('Raw Data'!EB87,Input_Details!$B$29,0)","v":0},{"$f":"OFFSET('Raw Data'!EC87,Input_Details!$B$29,0)","v":10},null,{"$f":"OFFSET('Raw Data'!ED87,Input_Details!$B$29,0)","v":8},{"$f":"OFFSET('Raw Data'!EE87,Input_Details!$B$29,0)","v":50},{"$f":"OFFSET('Raw Data'!EF87,Input_Details!$B$29,0)","v":2},{"$f":"OFFSET('Raw Data'!EG87,Input_Details!$B$29,0)","v":1},{"$f":"OFFSET('Raw Data'!EH87,Input_Details!$B$29,0)","v":0},{"$f":"OFFSET('Raw Data'!EI87,Input_Details!$B$29,0)","v":61}]
[null,"21:00:00",{"$f":"OFFSET('Raw Data'!DR88,Input_Details!$B$29,0)","v":6},{"$f":"OFFSET('Raw Data'!DS88,Input_Details!$B$29,0)","v":36},{"$f":"OFFSET('Raw Data'!DT88,Input_Details!$B$29,0)","v":1},{"$f":"OFFSET('Raw Data'!DU88,Input_Details!$B$29,0)","v":1},{"$f":"OFFSET('Raw Data'!DV88,Input_Details!$B$29,0)","v":0},{"$f":"OFFSET('Raw Data'!DW88,Input_Details!$B$29,0)","v":44},null,{"$f":"OFFSET('Raw Data'!DX88,Input_Details!$B$29,0)","v":3},{"$f":"OFFSET('Raw Data'!DY88,Input_Details!$B$29,0)","v":9},{"$f":"OFFSET('Raw Data'!DZ88,Input_Details!$B$29,0)","v":0},{"$f":"OFFSET('Raw Data'!EA88,Input_Details!$B$29,0)","v":0},{"$f":"OFFSET('Raw Data'!EB88,Input_Details!$B$29,0)","v":0},{"$f":"OFFSET('Raw Data'!EC88,Input_Details!$B$29,0)","v":12},null,{"$f":"OFFSET('Raw Data'!ED88,Input_Details!$B$29,0)","v":9},{"$f":"OFFSET('Raw Data'!EE88,Input_Details!$B$29,0)","v":45},{"$f":"OFFSET('Raw Data'!EF88,Input_Details!$B$29,0)","v":1},{"$f":"OFFSET('Raw Data'!EG88,Input_Details!$B$29,0)","v":1},{"$f":"OFFSET('Raw Data'!EH88,Input_Details!$B$29,0)","v":0},{"$f":"OFFSET('Raw Data'!EI88,Input_Details!$B$29,0)","v":56}]
[null,"21:15:00",{"$f":"OFFSET('Raw Data'!DR89,Input_Details!$B$29,0)","v":7},{"$f":"OFFSET('Raw Data'!DS89,Input_Details!$B$29,0)","v":31},{"$f":"OFFSET('Raw Data'!DT89,Input_Details!$B$29,0)","v":1},{"$f":"OFFSET('Raw Data'!DU89,Input_Details!$B$29,0)","v":1},{"$f":"OFFSET('Raw Data'!DV89,Input_Details!$B$29,0)","v":0},{"$f":"OFFSET('Raw Data'!DW89,Input_Details!$B$29,0)","v":40},null,{"$f":"OFFSET('Raw Data'!DX89,Input_Details!$B$29,0)","v":2},{"$f":"OFFSET('Raw Data'!DY89,Input_Details!$B$29,0)","v":5},{"$f":"OFFSET('Raw Data'!DZ89,Input_Details!$B$29,0)","v":0},{"$f":"OFFSET('Raw Data'!EA89,Input_Details!$B$29,0)","v":0},{"$f":"OFFSET('Raw Data'!EB89,Input_Details!$B$29,0)","v":0},{"$f":"OFFSET('Raw Data'!EC89,Input_Details!$B$29,0)","v":7},null,{"$f":"OFFSET('Raw Data'!ED89,Input_Details!$B$29,0)","v":9},{"$f":"OFFSET('Raw Data'!EE89,Input_Details!$B$29,0)","v":36},{"$f":"OFFSET('Raw Data'!EF89,Input_Details!$B$29,0)","v":1},{"$f":"OFFSET('Raw Data'!EG89,Input_Details!$B$29,0)","v":1},{"$f":"OFFSET('Raw Data'!EH89,Input_Details!$B$29,0)","v":0},{"$f":"OFFSET('Raw Data'!EI89,Input_Details!$B$29,0)","v":47}]
[null,"21:30:00",{"$f":"OFFSET('Raw Data'!DR90,Input_Details!$B$29,0)","v":4},{"$f":"OFFSET('Raw Data'!DS90,Input_Details!$B$29,0)","v":38},{"$f":"OFFSET('Raw Data'!DT90,Input_Details!$B$29,0)","v":1},{"$f":"OFFSET('Raw Data'!DU90,Input_Details!$B$29,0)","v":1},{"$f":"OFFSET('Raw Data'!DV90,Input_Details!$B$29,0)","v":0},{"$f":"OFFSET('Raw Data'!DW90,Input_Details!$B$29,0)","v":44},null,{"$f":"OFFSET('Raw Data'!DX90,Input_Details!$B$29,0)","v":1},{"$f":"OFFSET('Raw Data'!DY90,Input_Details!$B$29,0)","v":8},{"$f":"OFFSET('Raw Data'!DZ90,Input_Details!$B$29,0)","v":0},{"$f":"OFFSET('Raw Data'!EA90,Input_Details!$B$29,0)","v":0},{"$f":"OFFSET('Raw Data'!EB90,Input_Details!$B$29,0)","v":0},{"$f":"OFFSET('Raw Data'!EC90,Input_Details!$B$29,0)","v":9},null,{"$f":"OFFSET('Raw Data'!ED90,Input_Details!$B$29,0)","v":5},{"$f":"OFFSET('Raw Data'!EE90,Input_Details!$B$29,0)","v":46},{"$f":"OFFSET('Raw Data'!EF90,Input_Details!$B$29,0)","v":1},{"$f":"OFFSET('Raw Data'!EG90,Input_Details!$B$29,0)","v":1},{"$f":"OFFSET('Raw Data'!EH90,Input_Details!$B$29,0)","v":0},{"$f":"OFFSET('Raw Data'!EI90,Input_Details!$B$29,0)","v":53}]
[null,"21:45:00",{"$f":"OFFSET('Raw Data'!DR91,Input_Details!$B$29,0)","v":6},{"$f":"OFFSET('Raw Data'!DS91,Input_Details!$B$29,0)","v":33},{"$f":"OFFSET('Raw Data'!DT91,Input_Details!$B$29,0)","v":1},{"$f":"OFFSET('Raw Data'!DU91,Input_Details!$B$29,0)","v":2},{"$f":"OFFSET('Raw Data'!DV91,Input_Details!$B$29,0)","v":0},{"$f":"OFFSET('Raw Data'!DW91,Input_Details!$B$29,0)","v":42},null,{"$f":"OFFSET('Raw Data'!DX91,Input_Details!$B$29,0)","v":1},{"$f":"OFFSET('Raw Data'!DY91,Input_Details!$B$29,0)","v":8},{"$f":"OFFSET('Raw Data'!DZ91,Input_Details!$B$29,0)","v":0},{"$f":"OFFSET('Raw Data'!EA91,Input_Details!$B$29,0)","v":1},{"$f":"OFFSET('Raw Data'!EB91,Input_Details!$B$29,0)","v":0},{"$f":"OFFSET('Raw Data'!EC91,Input_Details!$B$29,0)","v":10},null,{"$f":"OFFSET('Raw Data'!ED91,Input_Details!$B$29,0)","v":7},{"$f":"OFFSET('Raw Data'!EE91,Input_Details!$B$29,0)","v":41},{"$f":"OFFSET('Raw Data'!EF91,Input_Details!$B$29,0)","v":1},{"$f":"OFFSET('Raw Data'!EG91,Input_Details!$B$29,0)","v":3},{"$f":"OFFSET('Raw Data'!EH91,Input_Details!$B$29,0)","v":0},{"$f":"OFFSET('Raw Data'!EI91,Input_Details!$B$29,0)","v":52}]
[null,"22:00:00",{"$f":"OFFSET('Raw Data'!DR92,Input_Details!$B$29,0)","v":5},{"$f":"OFFSET('Raw Data'!DS92,Input_Details!$B$29,0)","v":38},{"$f":"OFFSET('Raw Data'!DT92,Input_Details!$B$29,0)","v":1},{"$f":"OFFSET('Raw Data'!DU92,Input_Details!$B$29,0)","v":1},{"$f":"OFFSET('Raw Data'!DV92,Input_Details!$B$29,0)","v":0},{"$f":"OFFSET('Raw Data'!DW92,Input_Details!$B$29,0)","v":45},null,{"$f":"OFFSET('Raw Data'!DX92,Input_Details!$B$29,0)","v":2},{"$f":"OFFSET('Raw Data'!DY92,Input_Details!$B$29,0)","v":7},{"$f":"OFFSET('Raw Data'!DZ92,Input_Details!$B$29,0)","v":0},{"$f":"OFFSET('Raw Data'!EA92,Input_Details!$B$29,0)","v":0},{"$f":"OFFSET('Raw Data'!EB92,Input_Details!$B$29,0)","v":0},{"$f":"OFFSET('Raw Data'!EC92,Input_Details!$B$29,0)","v":9},null,{"$f":"OFFSET('Raw Data'!ED92,Input_Details!$B$29,0)","v":7},{"$f":"OFFSET('Raw Data'!EE92,Input_Details!$B$29,0)","v":45},{"$f":"OFFSET('Raw Data'!EF92,Input_Details!$B$29,0)","v":1},{"$f":"OFFSET('Raw Data'!EG92,Input_Details!$B$29,0)","v":1},{"$f":"OFFSET('Raw Data'!EH92,Input_Details!$B$29,0)","v":0},{"$f":"OFFSET('Raw Data'!EI92,Input_Details!$B$29,0)","v":54}]
[null,"22:15:00",{"$f":"OFFSET('Raw Data'!DR93,Input_Details!$B$29,0)","v":5},{"$f":"OFFSET('Raw Data'!DS93,Input_Details!$B$29,0)","v":40},{"$f":"OFFSET('Raw Data'!DT93,Input_Details!$B$29,0)","v":1},{"$f":"OFFSET('Raw Data'!DU93,Input_Details!$B$29,0)","v":1},{"$f":"OFFSET('Raw Data'!DV93,Input_Details!$B$29,0)","v":0},{"$f":"OFFSET('Raw Data'!DW93,Input_Details!$B$29,0)","v":47},null,{"$f":"OFFSET('Raw Data'!DX93,Input_Details!$B$29,0)","v":0},{"$f":"OFFSET('Raw Data'!DY93,Input_Details!$B$29,0)","v":8},{"$f":"OFFSET('Raw Data'!DZ93,Input_Details!$B$29,0)","v":0},{"$f":"OFFSET('Raw Data'!EA93,Input_Details!$B$29,0)","v":0},{"$f":"OFFSET('Raw Data'!EB93,Input_Details!$B$29,0)","v":0},{"$f":"OFFSET('Raw Data'!EC93,Input_Details!$B$29,0)","v":8},null,{"$f":"OFFSET('Raw Data'!ED93,Input_Details!$B$29,0)","v":5},{"$f":"OFFSET('Raw Data'!EE93,Input_Details!$B$29,0)","v":48},{"$f":"OFFSET('Raw Data'!EF93,Input_Details!$B$29,0)","v":1},{"$f":"OFFSET('Raw Data'!EG93,Input_Details!$B$29,0)","v":1},{"$f":"OFFSET('Raw Data'!EH93,Input_Details!$B$29,0)","v":0},{"$f":"OFFSET('Raw Data'!EI93,Input_Details!$B$29,0)","v":55}]
[null,"22:30:00",{"$f":"OFFSET('Raw Data'!DR94,Input_Details!$B$29,0)","v":6},{"$f":"OFFSET('Raw Data'!DS94,Input_Details!$B$29,0)","v":35},{"$f":"OFFSET('Raw Data'!DT94,Input_Details!$B$29,0)","v":0},{"$f":"OFFSET('Raw Data'!DU94,Input_Details!$B$29,0)","v":2},{"$f":"OFFSET('Raw Data'!DV94,Input_Details!$B$29,0)","v":0},{"$f":"OFFSET('Raw Data'!DW94,Input_Details!$B$29,0)","v":43},null,{"$f":"OFFSET('Raw Data'!DX94,Input_Details!$B$29,0)","v":1},{"$f":"OFFSET('Raw Data'!DY94,Input_Details!$B$29,0)","v":5},{"$f":"OFFSET('Raw Data'!DZ94,Input_Details!$B$29,0)","v":0},{"$f":"OFFSET('Raw Data'!EA94,Input_Details!$B$29,0)","v":0},{"$f":"OFFSET('Raw Data'!EB94,Input_Details!$B$29,0)","v":0},{"$f":"OFFSET('Raw Data'!EC94,Input_Details!$B$29,0)","v":6},null,{"$f":"OFFSET('Raw Data'!ED94,Input_Details!$B$29,0)","v":7},{"$f":"OFFSET('Raw Data'!EE94,Input_Details!$B$29,0)","v":40},{"$f":"OFFSET('Raw Data'!EF94,Input_Details!$B$29,0)","v":0},{"$f":"OFFSET('Raw Data'!EG94,Input_Details!$B$29,0)","v":2},{"$f":"OFFSET('Raw Data'!EH94,Input_Details!$B$29,0)","v":0},{"$f":"OFFSET('Raw Data'!EI94,Input_Details!$B$29,0)","v":49}]
[null,"22:45:00",{"$f":"OFFSET('Raw Data'!DR95,Input_Details!$B$29,0)","v":4},{"$f":"OFFSET('Raw Data'!DS95,Input_Details!$B$29,0)","v":39},{"$f":"OFFSET('Raw Data'!DT95,Input_Details!$B$29,0)","v":1},{"$f":"OFFSET('Raw Data'!DU95,Input_Details!$B$29,0)","v":1},{"$f":"OFFSET('Raw Data'!DV95,Input_Details!$B$29,0)","v":0},{"$f":"OFFSET('Raw Data'!DW95,Input_Details!$B$29,0)","v":45},null,{"$f":"OFFSET('Raw Data'!DX95,Input_Details!$B$29,0)","v":1},{"$f":"OFFSET('Raw Data'!DY95,Input_Details!$B$29,0)","v":5},{"$f":"OFFSET('Raw Data'!DZ95,Input_Details!$B$29,0)","v":0},{"$f":"OFFSET('Raw Data'!EA95,Input_Details!$B$29,0)","v":0},{"$f":"OFFSET('Raw Data'!EB95,Input_Details!$B$29,0)","v":0},{"$f":"OFFSET('Raw Data'!EC95,Input_Details!$B$29,0)","v":6},null,{"$f":"OFFSET('Raw Data'!ED95,Input_Details!$B$29,0)","v":5},{"$f":"OFFSET('Raw Data'!EE95,Input_Details!$B$29,0)","v":44},{"$f":"OFFSET('Raw Data'!EF95,Input_Details!$B$29,0)","v":1},{"$f":"OFFSET('Raw Data'!EG95,Input_Details!$B$29,0)","v":1},{"$f":"OFFSET('Raw Data'!EH95,Input_Details!$B$29,0)","v":0},{"$f":"OFFSET('Raw Data'!EI95,Input_Details!$B$29,0)","v":51}]
[null,"23:00:00",{"$f":"OFFSET('Raw Data'!DR96,Input_Details!$B$29,0)","v":5},{"$f":"OFFSET('Raw Data'!DS96,Input_Details!$B$29,0)","v":32},{"$f":"OFFSET('Raw Data'!DT96,Input_Details!$B$29,0)","v":1},{"$f":"OFFSET('Raw Data'!DU96,Input_Details!$B$29,0)","v":1},{"$f":"OFFSET('Raw Data'!DV96,Input_Details!$B$29,0)","v":0},{"$f":"OFFSET('Raw Data'!DW96,Input_Details!$B$29,0)","v":39},null,{"$f":"OFFSET('Raw Data'!DX96,Input_Details!$B$29,0)","v":0},{"$f":"OFFSET('Raw Data'!DY96,Input_Details!$B$29,0)","v":6},{"$f":"OFFSET('Raw Data'!DZ96,Input_Details!$B$29,0)","v":0},{"$f":"OFFSET('Raw Data'!EA96,Input_Details!$B$29,0)","v":0},{"$f":"OFFSET('Raw Data'!EB96,Input_Details!$B$29,0)","v":0},{"$f":"OFFSET('Raw Data'!EC96,Input_Details!$B$29,0)","v":6},null,{"$f":"OFFSET('Raw Data'!ED96,Input_Details!$B$29,0)","v":5},{"$f":"OFFSET('Raw Data'!EE96,Input_Details!$B$29,0)","v":38},{"$f":"OFFSET('Raw Data'!EF96,Input_Details!$B$29,0)","v":1},{"$f":"OFFSET('Raw Data'!EG96,Input_Details!$B$29,0)","v":1},{"$f":"OFFSET('Raw Data'!EH96,Input_Details!$B$29,0)","v":0},{"$f":"OFFSET('Raw Data'!EI96,Input_Details!$B$29,0)","v":45}]
[null,"23:15:00",{"$f":"OFFSET('Raw Data'!DR97,Input_Details!$B$29,0)","v":4},{"$f":"OFFSET('Raw Data'!DS97,Input_Details!$B$29,0)","v":33},{"$f":"OFFSET('Raw Data'!DT97,Input_Details!$B$29,0)","v":1},{"$f":"OFFSET('Raw Data'!DU97,Input_Details!$B$29,0)","v":1},{"$f":"OFFSET('Raw Data'!DV97,Input_Details!$B$29,0)","v":0},{"$f":"OFFSET('Raw Data'!DW97,Input_Details!$B$29,0)","v":39},null,{"$f":"OFFSET('Raw Data'!DX97,Input_Details!$B$29,0)","v":0},{"$f":"OFFSET('Raw Data'!DY97,Input_Details!$B$29,0)","v":5},{"$f":"OFFSET('Raw Data'!DZ97,Input_Details!$B$29,0)","v":0},{"$f":"OFFSET('Raw Data'!EA97,Input_Details!$B$29,0)","v":0},{"$f":"OFFSET('Raw Data'!EB97,Input_Details!$B$29,0)","v":0},{"$f":"OFFSET('Raw Data'!EC97,Input_Details!$B$29,0)","v":5},null,{"$f":"OFFSET('Raw Data'!ED97,Input_Details!$B$29,0)","v":4},{"$f":"OFFSET('Raw Data'!EE97,Input_Details!$B$29,0)","v":38},{"$f":"OFFSET('Raw Data'!EF97,Input_Details!$B$29,0)","v":1},{"$f":"OFFSET('Raw Data'!EG97,Input_Details!$B$29,0)","v":1},{"$f":"OFFSET('Raw Data'!EH97,Input_Details!$B$29,0)","v":0},{"$f":"OFFSET('Raw Data'!EI97,Input_Details!$B$29,0)","v":44}]
[null,"23:30:00",{"$f":"OFFSET('Raw Data'!DR98,Input_Details!$B$29,0)","v":4},{"$f":"OFFSET('Raw Data'!DS98,Input_Details!$B$29,0)","v":34},{"$f":"OFFSET('Raw Data'!DT98,Input_Details!$B$29,0)","v":1},{"$f":"OFFSET('Raw Data'!DU98,Input_Details!$B$29,0)","v":1},{"$f":"OFFSET('Raw Data'!DV98,Input_Details!$B$29,0)","v":0},{"$f":"OFFSET('Raw Data'!DW98,Input_Details!$B$29,0)","v":40},null,{"$f":"OFFSET('Raw Data'!DX98,Input_Details!$B$29,0)","v":1},{"$f":"OFFSET('Raw Data'!DY98,Input_Details!$B$29,0)","v":5},{"$f":"OFFSET('Raw Data'!DZ98,Input_Details!$B$29,0)","v":0},{"$f":"OFFSET('Raw Data'!EA98,Input_Details!$B$29,0)","v":0},{"$f":"OFFSET('Raw Data'!EB98,Input_Details!$B$29,0)","v":0},{"$f":"OFFSET('Raw Data'!EC98,Input_Details!$B$29,0)","v":6},null,{"$f":"OFFSET('Raw Data'!ED98,Input_Details!$B$29,0)","v":5},{"$f":"OFFSET('Raw Data'!EE98,Input_Details!$B$29,0)","v":39},{"$f":"OFFSET('Raw Data'!EF98,Input_Details!$B$29,0)","v":1},{"$f":"OFFSET('Raw Data'!EG98,Input_Details!$B$29,0)","v":1},{"$f":"OFFSET('Raw Data'!EH98,Input_Details!$B$29,0)","v":0},{"$f":"OFFSET('Raw Data'!EI98,Input_Details!$B$29,0)","v":46}]
[null,"23:45:00",{"$f":"OFFSET('Raw Data'!DR99,Input_Details!$B$29,0)","v":3},{"$f":"OFFSET('Raw Data'!DS99,Input_Details!$B$29,0)","v":26},{"$f":"OFFSET('Raw Data'!DT99,Input_Details!$B$29,0)","v":1},{"$f":"OFFSET('Raw Data'!DU99,Input_Details!$B$29,0)","v":1},{"$f":"OFFSET('Raw Data'!DV99,Input_Details!$B$29,0)","v":0},{"$f":"OFFSET('Raw Data'!DW99,Input_Details!$B$29,0)","v":31},null,{"$f":"OFFSET('Raw Data'!DX99,Input_Details!$B$29,0)","v":1},{"$f":"OFFSET('Raw Data'!DY99,Input_Details!$B$29,0)","v":5},{"$f":"OFFSET('Raw Data'!DZ99,Input_Details!$B$29,0)","v":0},{"$f":"OFFSET('Raw Data'!EA99,Input_Details!$B$29,0)","v":0},{"$f":"OFFSET('Raw Data'!EB99,Input_Details!$B$29,0)","v":0},{"$f":"OFFSET('Raw Data'!EC99,Input_Details!$B$29,0)","v":6},null,{"$f":"OFFSET('Raw Data'!ED99,Input_Details!$B$29,0)","v":4},{"$f":"OFFSET('Raw Data'!EE99,Input_Details!$B$29,0)","v":31},{"$f":"OFFSET('Raw Data'!EF99,Input_Details!$B$29,0)","v":1},{"$f":"OFFSET('Raw Data'!EG99,Input_Details!$B$29,0)","v":1},{"$f":"OFFSET('Raw Data'!EH99,Input_Details!$B$29,0)","v":0},{"$f":"OFFSET('Raw Data'!EI99,Input_Details!$B$29,0)","v":37}]
[null,"Total",{"$f":"SUM(C18:C113)","v":473},{"$f":"SUM(D18:D113)","v":3171},406,106,25,4181,null,189,506,3,15,0,713,null,662,3677,409,121,25,4894]

{"sheet":"12-Class Breakdown","index":9,"n_rows":119,"n_cols":43,"rows_kept":119,"cut":false,"hidden":false,"merged":[[0,16,0,21],[6,16,6,24],[11,30,11,42],[12,30,12,32],[12,33,12,35],[12,36,12,41],[12,22,12,27],[11,2,11,13],[11,16,11,27],[11,1,13,1],[1,8,1,10],[2,8,2,10],[3,8,3,10],[5,8,5,9],[12,2,12,4],[12,5,12,7],[12,8,12,13],[12,16,12,18],[12,19,12,21],[7,1,9,20]]}
[]
[]
[]
[null,null,null,null,null,null,null,null,null,null,null,null,null,null,null,null,null,null,null,null,null,null,null,null,null,null,null,null,null,null,null,null,null,null,null,null,null,null,null,null,null,null,{"$f":"Input_Details!$I$1&\" - \"&Input_Details!$H$1","v":"3585-LON - Harper Road"}]
[null,null,null,null,null,null,null,null,null,null,null,null,null,null,null,null,null,null,null,null,null,null,null,null,null,null,null,null,null,null,null,null,null,null,null,null,null,null,null,null,null,null,{"$f":"\"prepared for \"&Input_Details!$J$1","v":"prepared for LB of Southwark"}]
[null,null,null,null,null,null,null,null,null,null,null,null,null,null,null,null,null,null,null,null,null,null,null,null,null,null,null,null,null,null,null,null,null,null,null,null,null,null,null,null,null,null,{"$f":"TEXT(MIN('Volume Summary-15min'!$C$14:$I$14), \"dd mmm yyyy\")&\" - \"&TEXT(MAX('Volume Summary-15min'!$C$14:$I$14), \"dd mmm yyyy\")","v":"20 Apr 2017 - 26 Apr 2017"}]
[]
[null,{"$f":"\"12-Class Vehicle Breakdown - \"&TEXT($AQ$10, \"dd mmm yyy\")","v":"12-Class Vehicle Breakdown - 7-Day Average"}]
[]
[null,null,null,null,null,null,null,null,null,null,null,null,null,null,null,null,null,null,null,null,null,null,null,null,null,null,null,null,null,null,null,null,null,null,null,null,null,null,null,null,null,null,{"$f":"OFFSET(Input_Details!$Q$3, 0, Input_Details!$B$25-1)","v":"7-Day Average"}]
[]
[null,"Time",{"$f":"Input_Details!$K$3","v":"Southbound"},null,null,null,null,null,null,null,null,null,null,null,null,null,{"$f":"Input_Details!$L$3","v":"Northbound"},null,null,null,null,null,null,null,null,null,null,null,null,null,"Combined"]
[null,null,"Light",null,null,"Medium",null,null,"Heavy",null,null,null,null,null,null,null,"Light",null,null,"Medium",null,null,"Heavy",null,null,null,null,null,null,null,"Light",null,null,"Medium",null,null,"Heavy"]
[null,null,"Class 1","Class 2","Class 3","Class 4","Class 5","Class 6","Class 7","Class 8","Class 9","Class 10","Class 11","Class 12","Total",null,"Class 1","Class 2","Class 3","Class 4","Class 5","Class 6","Class 7","Class 8","Class 9","Class 10","Class 11","Class 12","Total",null,"Class 1","Class 2","Class 3","Class 4","Class 5","Class 6","Class 7","Class 8","Class 9","Class 10","Class 11","Class 12","Total"]
[]
[null,"24hr Tot",{"$f":"C115","v":473},{"$f":"D115","v":3146},25,406,106,22,0,2,0,1,0,0,4181,null,{"$f":"Q115","v":189},{"$f":"R115","v":506},0,3,15,0,0,0,0,0,0,0,713,null,{"$f":"AE115","v":662},{"$f":"AF115","v":3652},25,409,121,22,0,2,0,1,0,0,4894]
[null,"Traffic %",{"$f":"IFERROR(C115/$O$115, \"-\")","v":0.11313082994498924},{"$f":"IFERROR(D115/$O$115, \"-\")","v":0.75245156661085866},5.9794307581918201E-3,9.7105955513035164E-2,2.5352786414733316E-2,5.2618990672088015E-3,0,4.7835446065534564E-4,0,2.3917723032767282E-4,0,0,"-",null,{"$f":"IFERROR(Q115/$AC$115, \"-\")","v":0.26507713884992989},{"$f":"IFERROR(R115/$AC$115, \"-\")","v":0.70967741935483875},0,4.2075736325385693E-3,2.1037868162692847E-2,0,0,0,0,0,0,0,"-",null,{"$f":"IFERROR(AE115/$AQ$115, \"-\")","v":0.13526767470371884},{"$f":"IFERROR(AF115/$AQ$115, \"-\")","v":0.74621986105435223},5.1082958724969346E-3,8.3571720474049857E-2,2.4724152022885165E-2,4.4953003677973028E-3,0,4.086636697997548E-4,0,2.043318348998774E-4,0,0,"-"]
[]
[null,"00:00:00",{"$f":"IF(OFFSET('Raw Data'!H4,Input_Details!$B$29,0)=\"\", \"-\", OFFSET('Raw Data'!H4,Input_Details!$B$29,0))","v":2},{"$f":"IF(OFFSET('Raw Data'!I4,Input_Details!$B$29,0)=\"\", \"-\", OFFSET('Raw Data'!I4,Input_Details!$B$29,0))","v":27},{"$f":"IF(OFFSET('Raw Data'!J4,Input_Details!$B$29,0)=\"\", \"-\", OFFSET('Raw Data'!J4,Input_Details!$B$29,0))","v":0},{"$f":"IF(OFFSET('Raw Data'!K4,Input_Details!$B$29,0)=\"\", \"-\", OFFSET('Raw Data'!K4,Input_Details!$B$29,0))","v":1},{"$f":"IF(OFFSET('Raw Data'!L4,Input_Details!$B$29,0)=\"\", \"-\", OFFSET('Raw Data'!L4,Input_Details!$B$29,0))","v":1},{"$f":"IF(OFFSET('Raw Data'!M4,Input_Details!$B$29,0)=\"\", \"-\", OFFSET('Raw Data'!M4,Input_Details!$B$29,0))","v":0},{"$f":"IF(OFFSET('Raw Data'!N4,Input_Details!$B$29,0)=\"\", \"-\", OFFSET('Raw Data'!N4,Input_Details!$B$29,0))","v":0},{"$f":"IF(OFFSET('Raw Data'!O4,Input_Details!$B$29,0)=\"\", \"-\", OFFSET('Raw Data'!O4,Input_Details!$B$29,0))","v":0},{"$f":"IF(OFFSET('Raw Data'!P4,Input_Details!$B$29,0)=\"\", \"-\", OFFSET('Raw Data'!P4,Input_Details!$B$29,0))","v":0},{"$f":"IF(OFFSET('Raw Data'!Q4,Input_Details!$B$29,0)=\"\", \"-\", OFFSET('Raw Data'!Q4,Input_Details!$B$29,0))","v":0},{"$f":"IF(OFFSET('Raw Data'!R4,Input_Details!$B$29,0)=\"\", \"-\", OFFSET('Raw Data'!R4,Input_Details!$B$29,0))","v":0},{"$f":"IF(OFFSET('Raw Data'!S4,Input_Details!$B$29,0)=\"\", \"-\", OFFSET('Raw Data'!S4,Input_Details!$B$29,0))","v":0},{"$f":"IF(C19=\"-\", \"-\", SUM(C19:N19))","v":31},null,{"$f":"IF(OFFSET('Raw Data'!AU4,Input_Details!$B$29,0)=\"\", \"-\", OFFSET('Raw Data'!AU4,Input_Details!$B$29,0))","v":1},{"$f":"IF(OFFSET('Raw Data'!AV4,Input_Details!$B$29,0)=\"\", \"-\", OFFSET('Raw Data'!AV4,Input_Details!$B$29,0))","v":5},{"$f":"IF(OFFSET('Raw Data'!AW4,Input_Details!$B$29,0)=\"\", \"-\", OFFSET('Raw Data'!AW4,Input_Details!$B$29,0))","v":0},{"$f":"IF(OFFSET('Raw Data'!AX4,Input_Details!$B$29,0)=\"\", \"-\", OFFSET('Raw Data'!AX4,Input_Details!$B$29,0))","v":0},{"$f":"IF(OFFSET('Raw Data'!AY4,Input_Details!$B$29,0)=\"\", \"-\", OFFSET('Raw Data'!AY4,Input_Details!$B$29,0))","v":0},{"$f":"IF(OFFSET('Raw Data'!AZ4,Input_Details!$B$29,0)=\"\", \"-\", OFFSET('Raw Data'!AZ4,Input_Details!$B$29,0))","v":0},{"$f":"IF(OFFSET('Raw Data'!BA4,Input_Details!$B$29,0)=\"\", \"-\", OFFSET('Raw Data'!BA4,Input_Details!$B$29,0))","v":0},{"$f":"IF(OFFSET('Raw Data'!BB4,Input_Details!$B$29,0)=\"\", \"-\", OFFSET('Raw Data'!BB4,Input_Details!$B$29,0))","v":0},{"$f":"IF(OFFSET('Raw Data'!BC4,Input_Details!$B$29,0)=\"\", \"-\", OFFSET('Raw Data'!BC4,Input_Details!$B$29,0))","v":0},{"$f":"IF(OFFSET('Raw Data'!BD4,Input_Details!$B$29,0)=\"\", \"-\", OFFSET('Raw Data'!BD4,Input_Details!$B$29,0))","v":0},{"$f":"IF(OFFSET('Raw Data'!BE4,Input_Details!$B$29,0)=\"\", \"-\", OFFSET('Raw Data'!BE4,Input_Details!$B$29,0))","v":0},{"$f":"IF(OFFSET('Raw Data'!BF4,Input_Details!$B$29,0)=\"\", \"-\", OFFSET('Raw Data'!BF4,Input_Details!$B$29,0))","v":0},{"$f":"IF(Q19=\"-\", \"-\", SUM(Q19:AB19))","v":6},null,{"$f":"IF(OR(C19=\"-\", Q19=\"-\"), \"-\", SUM(C19,Q19))","v":3},{"$f":"IF(OR(D19=\"-\", R19=\"-\"), \"-\", SUM(D19,R19))","v":32},{"$f":"IF(OR(E19=\"-\", S19=\"-\"), \"-\", SUM(E19,S19))","v":0},{"$f":"IF(OR(F19=\"-\", T19=\"-\"), \"-\", SUM(F19,T19))","v":1},{"$f":"IF(OR(G19=\"-\", U19=\"-\"), \"-\", SUM(G19,U19))","v":1},{"$f":"IF(OR(H19=\"-\", V19=\"-\"), \"-\", SUM(H19,V19))","v":0},{"$f":"IF(OR(I19=\"-\", W19=\"-\"), \"-\", SUM(I19,W19))","v":0},{"$f":"IF(OR(J19=\"-\", X19=\"-\"), \"-\", SUM(J19,X19))","v":0},{"$f":"IF(OR(K19=\"-\", Y19=\"-\"), \"-\", SUM(K19,Y19))","v":0},{"$f":"IF(OR(L19=\"-\", Z19=\"-\"), \"-\", SUM(L19,Z19))","v":0},{"$f":"IF(OR(M19=\"-\", AA19=\"-\"), \"-\", SUM(M19,AA19))","v":0},{"$f":"IF(OR(N19=\"-\", AB19=\"-\"), \"-\", SUM(N19,AB19))","v":0},{"$f":"IF(AE19=\"-\", \"-\", SUM(AE19:AP19))","v":37}]
[null,"00:15:00",{"$f":"IF(OFFSET('Raw Data'!H5,Input_Details!$B$29,0)=\"\", \"-\", OFFSET('Raw Data'!H5,Input_Details!$B$29,0))","v":2},{"$f":"IF(OFFSET('Raw Data'!I5,Input_Details!$B$29,0)=\"\", \"-\", OFFSET('Raw Data'!I5,Input_Details!$B$29,0))","v":22},{"$f":"IF(OFFSET('Raw Data'!J5,Input_Details!$B$29,0)=\"\", \"-\", OFFSET('Raw Data'!J5,Input_Details!$B$29,0))","v":0},{"$f":"IF(OFFSET('Raw Data'!K5,Input_Details!$B$29,0)=\"\", \"-\", OFFSET('Raw Data'!K5,Input_Details!$B$29,0))","v":1},{"$f":"IF(OFFSET('Raw Data'!L5,Input_Details!$B$29,0)=\"\", \"-\", OFFSET('Raw Data'!L5,Input_Details!$B$29,0))","v":2},{"$f":"IF(OFFSET('Raw Data'!M5,Input_Details!$B$29,0)=\"\", \"-\", OFFSET('Raw Data'!M5,Input_Details!$B$29,0))","v":0},{"$f":"IF(OFFSET('Raw Data'!N5,Input_Details!$B$29,0)=\"\", \"-\", OFFSET('Raw Data'!N5,Input_Details!$B$29,0))","v":0},{"$f":"IF(OFFSET('Raw Data'!O5,Input_Details!$B$29,0)=\"\", \"-\", OFFSET('Raw Data'!O5,Input_Details!$B$29,0))","v":0},{"$f":"IF(OFFSET('Raw Data'!P5,Input_Details!$B$29,0)=\"\", \"-\", OFFSET('Raw Data'!P5,Input_Details!$B$29,0))","v":0},{"$f":"IF(OFFSET('Raw Data'!Q5,Input_Details!$B$29,0)=\"\", \"-\", OFFSET('Raw Data'!Q5,Input_Details!$B$29,0))","v":0},{"$f":"IF(OFFSET('Raw Data'!R5,Input_Details!$B$29,0)=\"\", \"-\", OFFSET('Raw Data'!R5,Input_Details!$B$29,0))","v":0},{"$f":"IF(OFFSET('Raw Data'!S5,Input_Details!$B$29,0)=\"\", \"-\", OFFSET('Raw Data'!S5,Input_Details!$B$29,0))","v":0},{"$f":"IF(C20=\"-\", \"-\", SUM(C20:N20))","v":27},null,{"$f":"IF(OFFSET('Raw Data'!AU5,Input_Details!$B$29,0)=\"\", \"-\", OFFSET('Raw Data'!AU5,Input_Details!$B$29,0))","v":0},{"$f":"IF(OFFSET('Raw Data'!AV5,Input_Details!$B$29,0)=\"\", \"-\", OFFSET('Raw Data'!AV5,Input_Details!$B$29,0))","v":4},{"$f":"IF(OFFSET('Raw Data'!AW5,Input_Details!$B$29,0)=\"\", \"-\", OFFSET('Raw Data'!AW5,Input_Details!$B$29,0))","v":0},{"$f":"IF(OFFSET('Raw Data'!AX5,Input_Details!$B$29,0)=\"\", \"-\", OFFSET('Raw Data'!AX5,Input_Details!$B$29,0))","v":0},{"$f":"IF(OFFSET('Raw Data'!AY5,Input_Details!$B$29,0)=\"\", \"-\", OFFSET('Raw Data'!AY5,Input_Details!$B$29,0))","v":0},{"$f":"IF(OFFSET('Raw Data'!AZ5,Input_Details!$B$29,0)=\"\", \"-\", OFFSET('Raw Data'!AZ5,Input_Details!$B$29,0))","v":0},{"$f":"IF(OFFSET('Raw Data'!BA5,Input_Details!$B$29,0)=\"\", \"-\", OFFSET('Raw Data'!BA5,Input_Details!$B$29,0))","v":0},{"$f":"IF(OFFSET('Raw Data'!BB5,Input_Details!$B$29,0)=\"\", \"-\", OFFSET('Raw Data'!BB5,Input_Details!$B$29,0))","v":0},{"$f":"IF(OFFSET('Raw Data'!BC5,Input_Details!$B$29,0)=\"\", \"-\", OFFSET('Raw Data'!BC5,Input_Details!$B$29,0))","v":0},{"$f":"IF(OFFSET('Raw Data'!BD5,Input_Details!$B$29,0)=\"\", \"-\", OFFSET('Raw Data'!BD5,Input_Details!$B$29,0))","v":0},{"$f":"IF(OFFSET('Raw Data'!BE5,Input_Details!$B$29,0)=\"\", \"-\", OFFSET('Raw Data'!BE5,Input_Details!$B$29,0))","v":0},{"$f":"IF(OFFSET('Raw Data'!BF5,Input_Details!$B$29,0)=\"\", \"-\", OFFSET('Raw Data'!BF5,Input_Details!$B$29,0))","v":0},{"$f":"IF(Q20=\"-\", \"-\", SUM(Q20:AB20))","v":4},null,{"$f":"IF(OR(C20=\"-\", Q20=\"-\"), \"-\", SUM(C20,Q20))","v":2},26,0,1,2,0,0,0,0,0,0,0,{"$f":"IF(AE20=\"-\", \"-\", SUM(AE20:AP20))","v":31}]
[null,"00:30:00",{"$f":"IF(OFFSET('Raw Data'!H6,Input_Details!$B$29,0)=\"\", \"-\", OFFSET('Raw Data'!H6,Input_Details!$B$29,0))","v":2},{"$f":"IF(OFFSET('Raw Data'!I6,Input_Details!$B$29,0)=\"\", \"-\", OFFSET('Raw Data'!I6,Input_Details!$B$29,0))","v":22},{"$f":"IF(OFFSET('Raw Data'!J6,Input_Details!$B$29,0)=\"\", \"-\", OFFSET('Raw Data'!J6,Input_Details!$B$29,0))","v":0},{"$f":"IF(OFFSET('Raw Data'!K6,Input_Details!$B$29,0)=\"\", \"-\", OFFSET('Raw Data'!K6,Input_Details!$B$29,0))","v":1},{"$f":"IF(OFFSET('Raw Data'!L6,Input_Details!$B$29,0)=\"\", \"-\", OFFSET('Raw Data'!L6,Input_Details!$B$29,0))","v":1},{"$f":"IF(OFFSET('Raw Data'!M6,Input_Details!$B$29,0)=\"\", \"-\", OFFSET('Raw Data'!M6,Input_Details!$B$29,0))","v":0},{"$f":"IF(OFFSET('Raw Data'!N6,Input_Details!$B$29,0)=\"\", \"-\", OFFSET('Raw Data'!N6,Input_Details!$B$29,0))","v":0},{"$f":"IF(OFFSET('Raw Data'!O6,Input_Details!$B$29,0)=\"\", \"-\", OFFSET('Raw Data'!O6,Input_Details!$B$29,0))","v":0},{"$f":"IF(OFFSET('Raw Data'!P6,Input_Details!$B$29,0)=\"\", \"-\", OFFSET('Raw Data'!P6,Input_Details!$B$29,0))","v":0},{"$f":"IF(OFFSET('Raw Data'!Q6,Input_Details!$B$29,0)=\"\", \"-\", OFFSET('Raw Data'!Q6,Input_Details!$B$29,0))","v":0},{"$f":"IF(OFFSET('Raw Data'!R6,Input_Details!$B$29,0)=\"\", \"-\", OFFSET('Raw Data'!R6,Input_Details!$B$29,0))","v":0},{"$f":"IF(OFFSET('Raw Data'!S6,Input_Details!$B$29,0)=\"\", \"-\", OFFSET('Raw Data'!S6,Input_Details!$B$29,0))","v":0},26,null,{"$f":"IF(OFFSET('Raw Data'!AU6,Input_Details!$B$29,0)=\"\", \"-\", OFFSET('Raw Data'!AU6,Input_Details!$B$29,0))","v":0},{"$f":"IF(OFFSET('Raw Data'!AV6,Input_Details!$B$29,0)=\"\", \"-\", OFFSET('Raw Data'!AV6,Input_Details!$B$29,0))","v":5},{"$f":"IF(OFFSET('Raw Data'!AW6,Input_Details!$B$29,0)=\"\", \"-\", OFFSET('Raw Data'!AW6,Input_Details!$B$29,0))","v":0},{"$f":"IF(OFFSET('Raw Data'!AX6,Input_Details!$B$29,0)=\"\", \"-\", OFFSET('Raw Data'!AX6,Input_Details!$B$29,0))","v":0},{"$f":"IF(OFFSET('Raw Data'!AY6,Input_Details!$B$29,0)=\"\", \"-\", OFFSET('Raw Data'!AY6,Input_Details!$B$29,0))","v":0},{"$f":"IF(OFFSET('Raw Data'!AZ6,Input_Details!$B$29,0)=\"\", \"-\", OFFSET('Raw Data'!AZ6,Input_Details!$B$29,0))","v":0},{"$f":"IF(OFFSET('Raw Data'!BA6,Input_Details!$B$29,0)=\"\", \"-\", OFFSET('Raw Data'!BA6,Input_Details!$B$29,0))","v":0},{"$f":"IF(OFFSET('Raw Data'!BB6,Input_Details!$B$29,0)=\"\", \"-\", OFFSET('Raw Data'!BB6,Input_Details!$B$29,0))","v":0},{"$f":"IF(OFFSET('Raw Data'!BC6,Input_Details!$B$29,0)=\"\", \"-\", OFFSET('Raw Data'!BC6,Input_Details!$B$29,0))","v":0},{"$f":"IF(OFFSET('Raw Data'!BD6,Input_Details!$B$29,0)=\"\", \"-\", OFFSET('Raw Data'!BD6,Input_Details!$B$29,0))","v":0},{"$f":"IF(OFFSET('Raw Data'!BE6,Input_Details!$B$29,0)=\"\", \"-\", OFFSET('Raw Data'!BE6,Input_Details!$B$29,0))","v":0},{"$f":"IF(OFFSET('Raw Data'!BF6,Input_Details!$B$29,0)=\"\", \"-\", OFFSET('Raw Data'!BF6,Input_Details!$B$29,0))","v":0},5,null,2,27,0,1,1,0,0,0,0,0,0,0,31]
[null,"00:45:00",{"$f":"IF(OFFSET('Raw Data'!H7,Input_Details!$B$29,0)=\"\", \"-\", OFFSET('Raw Data'!H7,Input_Details!$B$29,0))","v":1},{"$f":"IF(OFFSET('Raw Data'!I7,Input_Details!$B$29,0)=\"\", \"-\", OFFSET('Raw Data'!I7,Input_Details!$B$29,0))","v":24},{"$f":"IF(OFFSET('Raw Data'!J7,Input_Details!$B$29,0)=\"\", \"-\", OFFSET('Raw Data'!J7,Input_Details!$B$29,0))","v":0},{"$f":"IF(OFFSET('Raw Data'!K7,Input_Details!$B$29,0)=\"\", \"-\", OFFSET('Raw Data'!K7,Input_Details!$B$29,0))","v":1},{"$f":"IF(OFFSET('Raw Data'!L7,Input_Details!$B$29,0)=\"\", \"-\", OFFSET('Raw Data'!L7,Input_Details!$B$29,0))","v":1},{"$f":"IF(OFFSET('Raw Data'!M7,Input_Details!$B$29,0)=\"\", \"-\", OFFSET('Raw Data'!M7,Input_Details!$B$29,0))","v":0},{"$f":"IF(OFFSET('Raw Data'!N7,Input_Details!$B$29,0)=\"\", \"-\", OFFSET('Raw Data'!N7,Input_Details!$B$29,0))","v":0},{"$f":"IF(OFFSET('Raw Data'!O7,Input_Details!$B$29,0)=\"\", \"-\", OFFSET('Raw Data'!O7,Input_Details!$B$29,0))","v":0},{"$f":"IF(OFFSET('Raw Data'!P7,Input_Details!$B$29,0)=\"\", \"-\", OFFSET('Raw Data'!P7,Input_Details!$B$29,0))","v":0},{"$f":"IF(OFFSET('Raw Data'!Q7,Input_Details!$B$29,0)=\"\", \"-\", OFFSET('Raw Data'!Q7,Input_Details!$B$29,0))","v":0},{"$f":"IF(OFFSET('Raw Data'!R7,Input_Details!$B$29,0)=\"\", \"-\", OFFSET('Raw Data'!R7,Input_Details!$B$29,0))","v":0},{"$f":"IF(OFFSET('Raw Data'!S7,Input_Details!$B$29,0)=\"\", \"-\", OFFSET('Raw Data'!S7,Input_Details!$B$29,0))","v":0},27,null,{"$f":"IF(OFFSET('Raw Data'!AU7,Input_Details!$B$29,0)=\"\", \"-\", OFFSET('Raw Data'!AU7,Input_Details!$B$29,0))","v":1},{"$f":"IF(OFFSET('Raw Data'!AV7,Input_Details!$B$29,0)=\"\", \"-\", OFFSET('Raw Data'!AV7,Input_Details!$B$29,0))","v":4},{"$f":"IF(OFFSET('Raw Data'!AW7,Input_Details!$B$29,0)=\"\", \"-\", OFFSET('Raw Data'!AW7,Input_Details!$B$29,0))","v":0},{"$f":"IF(OFFSET('Raw Data'!AX7,Input_Details!$B$29,0)=\"\", \"-\", OFFSET('Raw Data'!AX7,Input_Details!$B$29,0))","v":0},{"$f":"IF(OFFSET('Raw Data'!AY7,Input_Details!$B$29,0)=\"\", \"-\", OFFSET('Raw Data'!AY7,Input_Details!$B$29,0))","v":0},{"$f":"IF(OFFSET('Raw Data'!AZ7,Input_Details!$B$29,0)=\"\", \"-\", OFFSET('Raw Data'!AZ7,Input_Details!$B$29,0))","v":0},{"$f":"IF(OFFSET('Raw Data'!BA7,Input_Details!$B$29,0)=\"\", \"-\", OFFSET('Raw Data'!BA7,Input_Details!$B$29,0))","v":0},{"$f":"IF(OFFSET('Raw Data'!BB7,Input_Details!$B$29,0)=\"\", \"-\", OFFSET('Raw Data'!BB7,Input_Details!$B$29,0))","v":0},{"$f":"IF(OFFSET('Raw Data'!BC7,Input_Details!$B$29,0)=\"\", \"-\", OFFSET('Raw Data'!BC7,Input_Details!$B$29,0))","v":0},{"$f":"IF(OFFSET('Raw Data'!BD7,Input_Details!$B$29,0)=\"\", \"-\", OFFSET('Raw Data'!BD7,Input_Details!$B$29,0))","v":0},{"$f":"IF(OFFSET('Raw Data'!BE7,Input_Details!$B$29,0)=\"\", \"-\", OFFSET('Raw Data'!BE7,Input_Details!$B$29,0))","v":0},{"$f":"IF(OFFSET('Raw Data'!BF7,Input_Details!$B$29,0)=\"\", \"-\", OFFSET('Raw Data'!BF7,Input_Details!$B$29,0))","v":0},5,null,2,28,0,1,1,0,0,0,0,0,0,0,32]
[null,"01:00:00",{"$f":"IF(OFFSET('Raw Data'!H8,Input_Details!$B$29,0)=\"\", \"-\", OFFSET('Raw Data'!H8,Input_Details!$B$29,0))","v":1},{"$f":"IF(OFFSET('Raw Data'!I8,Input_Details!$B$29,0)=\"\", \"-\", OFFSET('Raw Data'!I8,Input_Details!$B$29,0))","v":18},{"$f":"IF(OFFSET('Raw Data'!J8,Input_Details!$B$29,0)=\"\", \"-\", OFFSET('Raw Data'!J8,Input_Details!$B$29,0))","v":0},{"$f":"IF(OFFSET('Raw Data'!K8,Input_Details!$B$29,0)=\"\", \"-\", OFFSET('Raw Data'!K8,Input_Details!$B$29,0))","v":1},{"$f":"IF(OFFSET('Raw Data'!L8,Input_Details!$B$29,0)=\"\", \"-\", OFFSET('Raw Data'!L8,Input_Details!$B$29,0))","v":0},{"$f":"IF(OFFSET('Raw Data'!M8,Input_Details!$B$29,0)=\"\", \"-\", OFFSET('Raw Data'!M8,Input_Details!$B$29,0))","v":0},{"$f":"IF(OFFSET('Raw Data'!N8,Input_Details!$B$29,0)=\"\", \"-\", OFFSET('Raw Data'!N8,Input_Details!$B$29,0))","v":0},{"$f":"IF(OFFSET('Raw Data'!O8,Input_Details!$B$29,0)=\"\", \"-\", OFFSET('Raw Data'!O8,Input_Details!$B$29,0))","v":0},{"$f":"IF(OFFSET('Raw Data'!P8,Input_Details!$B$29,0)=\"\", \"-\", OFFSET('Raw Data'!P8,Input_Details!$B$29,0))","v":0},{"$f":"IF(OFFSET('Raw Data'!Q8,Input_Details!$B$29,0)=\"\", \"-\", OFFSET('Raw Data'!Q8,Input_Details!$B$29,0))","v":0},{"$f":"IF(OFFSET('Raw Data'!R8,Input_Details!$B$29,0)=\"\", \"-\", OFFSET('Raw Data'!R8,Input_Details!$B$29,0))","v":0},{"$f":"IF(OFFSET('Raw Data'!S8,Input_Details!$B$29,0)=\"\", \"-\", OFFSET('Raw Data'!S8,Input_Details!$B$29,0))","v":0},20,null,{"$f":"IF(OFFSET('Raw Data'!AU8,Input_Details!$B$29,0)=\"\", \"-\", OFFSET('Raw Data'!AU8,Input_Details!$B$29,0))","v":0},{"$f":"IF(OFFSET('Raw Data'!AV8,Input_Details!$B$29,0)=\"\", \"-\", OFFSET('Raw Data'!AV8,Input_Details!$B$29,0))","v":3},{"$f":"IF(OFFSET('Raw Data'!AW8,Input_Details!$B$29,0)=\"\", \"-\", OFFSET('Raw Data'!AW8,Input_Details!$B$29,0))","v":0},{"$f":"IF(OFFSET('Raw Data'!AX8,Input_Details!$B$29,0)=\"\", \"-\", OFFSET('Raw Data'!AX8,Input_Details!$B$29,0))","v":0},{"$f":"IF(OFFSET('Raw Data'!AY8,Input_Details!$B$29,0)=\"\", \"-\", OFFSET('Raw Data'!AY8,Input_Details!$B$29,0))","v":0},{"$f":"IF(OFFSET('Raw Data'!AZ8,Input_Details!$B$29,0)=\"\", \"-\", OFFSET('Raw Data'!AZ8,Input_Details!$B$29,0))","v":0},{"$f":"IF(OFFSET('Raw Data'!BA8,Input_Details!$B$29,0)=\"\", \"-\", OFFSET('Raw Data'!BA8,Input_Details!$B$29,0))","v":0},{"$f":"IF(OFFSET('Raw Data'!BB8,Input_Details!$B$29,0)=\"\", \"-\", OFFSET('Raw Data'!BB8,Input_Details!$B$29,0))","v":0},{"$f":"IF(OFFSET('Raw Data'!BC8,Input_Details!$B$29,0)=\"\", \"-\", OFFSET('Raw Data'!BC8,Input_Details!$B$29,0))","v":0},{"$f":"IF(OFFSET('Raw Data'!BD8,Input_Details!$B$29,0)=\"\", \"-\", OFFSET('Raw Data'!BD8,Input_Details!$B$29,0))","v":0},{"$f":"IF(OFFSET('Raw Data'!BE8,Input_Details!$B$29,0)=\"\", \"-\", OFFSET('Raw Data'!BE8,Input_Details!$B$29,0))","v":0},{"$f":"IF(OFFSET('Raw Data'!BF8,Input_Details!$B$29,0)=\"\", \"-\", OFFSET('Raw Data'!BF8,Input_Details!$B$29,0))","v":0},3,null,1,21,0,1,0,0,0,0,0,0,0,0,23]
[null,"01:15:00",{"$f":"IF(OFFSET('Raw Data'!H9,Input_Details!$B$29,0)=\"\", \"-\", OFFSET('Raw Data'!H9,Input_Details!$B$29,0))","v":1},{"$f":"IF(OFFSET('Raw Data'!I9,Input_Details!$B$29,0)=\"\", \"-\", OFFSET('Raw Data'!I9,Input_Details!$B$29,0))","v":15},{"$f":"IF(OFFSET('Raw Data'!J9,Input_Details!$B$29,0)=\"\", \"-\", OFFSET('Raw Data'!J9,Input_Details!$B$29,0))","v":0},{"$f":"IF(OFFSET('Raw Data'!K9,Input_Details!$B$29,0)=\"\", \"-\", OFFSET('Raw Data'!K9,Input_Details!$B$29,0))","v":1},{"$f":"IF(OFFSET('Raw Data'!L9,Input_Details!$B$29,0)=\"\", \"-\", OFFSET('Raw Data'!L9,Input_Details!$B$29,0))","v":1},{"$f":"IF(OFFSET('Raw Data'!M9,Input_Details!$B$29,0)=\"\", \"-\", OFFSET('Raw Data'!M9,Input_Details!$B$29,0))","v":0},{"$f":"IF(OFFSET('Raw Data'!N9,Input_Details!$B$29,0)=\"\", \"-\", OFFSET('Raw Data'!N9,Input_Details!$B$29,0))","v":0},{"$f":"IF(OFFSET('Raw Data'!O9,Input_Details!$B$29,0)=\"\", \"-\", OFFSET('Raw Data'!O9,Input_Details!$B$29,0))","v":0},{"$f":"IF(OFFSET('Raw Data'!P9,Input_Details!$B$29,0)=\"\", \"-\", OFFSET('Raw Data'!P9,Input_Details!$B$29,0))","v":0},{"$f":"IF(OFFSET('Raw Data'!Q9,Input_Details!$B$29,0)=\"\", \"-\", OFFSET('Raw Data'!Q9,Input_Details!$B$29,0))","v":0},{"$f":"IF(OFFSET('Raw Data'!R9,Input_Details!$B$29,0)=\"\", \"-\", OFFSET('Raw Data'!R9,Input_Details!$B$29,0))","v":0},{"$f":"IF(OFFSET('Raw Data'!S9,Input_Details!$B$29,0)=\"\", \"-\", OFFSET('Raw Data'!S9,Input_Details!$B$29,0))","v":0},18,null,{"$f":"IF(OFFSET('Raw Data'!AU9,Input_Details!$B$29,0)=\"\", \"-\", OFFSET('Raw Data'!AU9,Input_Details!$B$29,0))","v":0},{"$f":"IF(OFFSET('Raw Data'!AV9,Input_Details!$B$29,0)=\"\", \"-\", OFFSET('Raw Data'!AV9,Input_Details!$B$29,0))","v":4},{"$f":"IF(OFFSET('Raw Data'!AW9,Input_Details!$B$29,0)=\"\", \"-\", OFFSET('Raw Data'!AW9,Input_Details!$B$29,0))","v":0},{"$f":"IF(OFFSET('Raw Data'!AX9,Input_Details!$B$29,0)=\"\", \"-\", OFFSET('Raw Data'!AX9,Input_Details!$B$29,0))","v":0},{"$f":"IF(OFFSET('Raw Data'!AY9,Input_Details!$B$29,0)=\"\", \"-\", OFFSET('Raw Data'!AY9,Input_Details!$B$29,0))","v":0},{"$f":"IF(OFFSET('Raw Data'!AZ9,Input_Details!$B$29,0)=\"\", \"-\", OFFSET('Raw Data'!AZ9,Input_Details!$B$29,0))","v":0},{"$f":"IF(OFFSET('Raw Data'!BA9,Input_Details!$B$29,0)=\"\", \"-\", OFFSET('Raw Data'!BA9,Input_Details!$B$29,0))","v":0},{"$f":"IF(OFFSET('Raw Data'!BB9,Input_Details!$B$29,0)=\"\", \"-\", OFFSET('Raw Data'!BB9,Input_Details!$B$29,0))","v":0},{"$f":"IF(OFFSET('Raw Data'!BC9,Input_Details!$B$29,0)=\"\", \"-\", OFFSET('Raw Data'!BC9,Input_Details!$B$29,0))","v":0},{"$f":"IF(OFFSET('Raw Data'!BD9,Input_Details!$B$29,0)=\"\", \"-\", OFFSET('Raw Data'!BD9,Input_Details!$B$29,0))","v":0},{"$f":"IF(OFFSET('Raw Data'!BE9,Input_Details!$B$29,0)=\"\", \"-\", OFFSET('Raw Data'!BE9,Input_Details!$B$29,0))","v":0},{"$f":"IF(OFFSET('Raw Data'!BF9,Input_Details!$B$29,0)=\"\", \"-\", OFFSET('Raw Data'!BF9,Input_Details!$B$29,0))","v":0},4,null,1,19,0,1,1,0,0,0,0,0,0,0,22]
[null,"01:30:00",{"$f":"IF(OFFSET('Raw Data'!H10,Input_Details!$B$29,0)=\"\", \"-\", OFFSET('Raw Data'!H10,Input_Details!$B$29,0))","v":1},{"$f":"IF(OFFSET('Raw Data'!I10,Input_Details!$B$29,0)=\"\", \"-\", OFFSET('Raw Data'!I10,Input_Details!$B$29,0))","v":14},{"$f":"IF(OFFSET('Raw Data'!J10,Input_Details!$B$29,0)=\"\", \"-\", OFFSET('Raw Data'!J10,Input_Details!$B$29,0))","v":0},{"$f":"IF(OFFSET('Raw Data'!K10,Input_Details!$B$29,0)=\"\", \"-\", OFFSET('Raw Data'!K10,Input_Details!$B$29,0))","v":1},{"$f":"IF(OFFSET('Raw Data'!L10,Input_Details!$B$29,0)=\"\", \"-\", OFFSET('Raw Data'!L10,Input_Details!$B$29,0))","v":1},{"$f":"IF(OFFSET('Raw Data'!M10,Input_Details!$B$29,0)=\"\", \"-\", OFFSET('Raw Data'!M10,Input_Details!$B$29,0))","v":0},{"$f":"IF(OFFSET('Raw Data'!N10,Input_Details!$B$29,0)=\"\", \"-\", OFFSET('Raw Data'!N10,Input_Details!$B$29,0))","v":0},{"$f":"IF(OFFSET('Raw Data'!O10,Input_Details!$B$29,0)=\"\", \"-\", OFFSET('Raw Data'!O10,Input_Details!$B$29,0))","v":0},{"$f":"IF(OFFSET('Raw Data'!P10,Input_Details!$B$29,0)=\"\", \"-\", OFFSET('Raw Data'!P10,Input_Details!$B$29,0))","v":0},{"$f":"IF(OFFSET('Raw Data'!Q10,Input_Details!$B$29,0)=\"\", \"-\", OFFSET('Raw Data'!Q10,Input_Details!$B$29,0))","v":0},{"$f":"IF(OFFSET('Raw Data'!R10,Input_Details!$B$29,0)=\"\", \"-\", OFFSET('Raw Data'!R10,Input_Details!$B$29,0))","v":0},{"$f":"IF(OFFSET('Raw Data'!S10,Input_Details!$B$29,0)=\"\", \"-\", OFFSET('Raw Data'!S10,Input_Details!$B$29,0))","v":0},17,null,{"$f":"IF(OFFSET('Raw Data'!AU10,Input_Details!$B$29,0)=\"\", \"-\", OFFSET('Raw Data'!AU10,Input_Details!$B$29,0))","v":0},{"$f":"IF(OFFSET('Raw Data'!AV10,Input_Details!$B$29,0)=\"\", \"-\", OFFSET('Raw Data'!AV10,Input_Details!$B$29,0))","v":3},{"$f":"IF(OFFSET('Raw Data'!AW10,Input_Details!$B$29,0)=\"\", \"-\", OFFSET('Raw Data'!AW10,Input_Details!$B$29,0))","v":0},{"$f":"IF(OFFSET('Raw Data'!AX10,Input_Details!$B$29,0)=\"\", \"-\", OFFSET('Raw Data'!AX10,Input_Details!$B$29,0))","v":0},{"$f":"IF(OFFSET('Raw Data'!AY10,Input_Details!$B$29,0)=\"\", \"-\", OFFSET('Raw Data'!AY10,Input_Details!$B$29,0))","v":0},{"$f":"IF(OFFSET('Raw Data'!AZ10,Input_Details!$B$29,0)=\"\", \"-\", OFFSET('Raw Data'!AZ10,Input_Details!$B$29,0))","v":0},{"$f":"IF(OFFSET('Raw Data'!BA10,Input_Details!$B$29,0)=\"\", \"-\", OFFSET('Raw Data'!BA10,Input_Details!$B$29,0))","v":0},{"$f":"IF(OFFSET('Raw Data'!BB10,Input_Details!$B$29,0)=\"\", \"-\", OFFSET('Raw Data'!BB10,Input_Details!$B$29,0))","v":0},{"$f":"IF(OFFSET('Raw Data'!BC10,Input_Details!$B$29,0)=\"\", \"-\", OFFSET('Raw Data'!BC10,Input_Details!$B$29,0))","v":0},{"$f":"IF(OFFSET('Raw Data'!BD10,Input_Details!$B$29,0)=\"\", \"-\", OFFSET('Raw Data'!BD10,Input_Details!$B$29,0))","v":0},{"$f":"IF(OFFSET('Raw Data'!BE10,Input_Details!$B$29,0)=\"\", \"-\", OFFSET('Raw Data'!BE10,Input_Details!$B$29,0))","v":0},{"$f":"IF(OFFSET('Raw Data'!BF10,Input_Details!$B$29,0)=\"\", \"-\", OFFSET('Raw Data'!BF10,Input_Details!$B$29,0))","v":0},3,null,1,17,0,1,1,0,0,0,0,0,0,0,20]
[null,"01:45:00",{"$f":"IF(OFFSET('Raw Data'!H11,Input_Details!$B$29,0)=\"\", \"-\", OFFSET('Raw Data'!H11,Input_Details!$B$29,0))","v":0},{"$f":"IF(OFFSET('Raw Data'!I11,Input_Details!$B$29,0)=\"\", \"-\", OFFSET('Raw Data'!I11,Input_Details!$B$29,0))","v":12},{"$f":"IF(OFFSET('Raw Data'!J11,Input_Details!$B$29,0)=\"\", \"-\", OFFSET('Raw Data'!J11,Input_Details!$B$29,0))","v":0},{"$f":"IF(OFFSET('Raw Data'!K11,Input_Details!$B$29,0)=\"\", \"-\", OFFSET('Raw Data'!K11,Input_Details!$B$29,0))","v":0},{"$f":"IF(OFFSET('Raw Data'!L11,Input_Details!$B$29,0)=\"\", \"-\", OFFSET('Raw Data'!L11,Input_Details!$B$29,0))","v":1},{"$f":"IF(OFFSET('Raw Data'!M11,Input_Details!$B$29,0)=\"\", \"-\", OFFSET('Raw Data'!M11,Input_Details!$B$29,0))","v":0},{"$f":"IF(OFFSET('Raw Data'!N11,Input_Details!$B$29,0)=\"\", \"-\", OFFSET('Raw Data'!N11,Input_Details!$B$29,0))","v":0},{"$f":"IF(OFFSET('Raw Data'!O11,Input_Details!$B$29,0)=\"\", \"-\", OFFSET('Raw Data'!O11,Input_Details!$B$29,0))","v":0},{"$f":"IF(OFFSET('Raw Data'!P11,Input_Details!$B$29,0)=\"\", \"-\", OFFSET('Raw Data'!P11,Input_Details!$B$29,0))","v":0},{"$f":"IF(OFFSET('Raw Data'!Q11,Input_Details!$B$29,0)=\"\", \"-\", OFFSET('Raw Data'!Q11,Input_Details!$B$29,0))","v":0},{"$f":"IF(OFFSET('Raw Data'!R11,Input_Details!$B$29,0)=\"\", \"-\", OFFSET('Raw Data'!R11,Input_Details!$B$29,0))","v":0},{"$f":"IF(OFFSET('Raw Data'!S11,Input_Details!$B$29,0)=\"\", \"-\", OFFSET('Raw Data'!S11,Input_Details!$B$29,0))","v":0},13,null,{"$f":"IF(OFFSET('Raw Data'!AU11,Input_Details!$B$29,0)=\"\", \"-\", OFFSET('Raw Data'!AU11,Input_Details!$B$29,0))","v":0},{"$f":"IF(OFFSET('Raw Data'!AV11,Input_Details!$B$29,0)=\"\", \"-\", OFFSET('Raw Data'!AV11,Input_Details!$B$29,0))","v":2},{"$f":"IF(OFFSET('Raw Data'!AW11,Input_Details!$B$29,0)=\"\", \"-\", OFFSET('Raw Data'!AW11,Input_Details!$B$29,0))","v":0},{"$f":"IF(OFFSET('Raw Data'!AX11,Input_Details!$B$29,0)=\"\", \"-\", OFFSET('Raw Data'!AX11,Input_Details!$B$29,0))","v":0},{"$f":"IF(OFFSET('Raw Data'!AY11,Input_Details!$B$29,0)=\"\", \"-\", OFFSET('Raw Data'!AY11,Input_Details!$B$29,0))","v":0},{"$f":"IF(OFFSET('Raw Data'!AZ11,Input_Details!$B$29,0)=\"\", \"-\", OFFSET('Raw Data'!AZ11,Input_Details!$B$29,0))","v":0},{"$f":"IF(OFFSET('Raw Data'!BA11,Input_Details!$B$29,0)=\"\", \"-\", OFFSET('Raw Data'!BA11,Input_Details!$B$29,0))","v":0},{"$f":"IF(OFFSET('Raw Data'!BB11,Input_Details!$B$29,0)=\"\", \"-\", OFFSET('Raw Data'!BB11,Input_Details!$B$29,0))","v":0},{"$f":"IF(OFFSET('Raw Data'!BC11,Input_Details!$B$29,0)=\"\", \"-\", OFFSET('Raw Data'!BC11,Input_Details!$B$29,0))","v":0},{"$f":"IF(OFFSET('Raw Data'!BD11,Input_Details!$B$29,0)=\"\", \"-\", OFFSET('Raw Data'!BD11,Input_Details!$B$29,0))","v":0},{"$f":"IF(OFFSET('Raw Data'!BE11,Input_Details!$B$29,0)=\"\", \"-\", OFFSET('Raw Data'!BE11,Input_Details!$B$29,0))","v":0},{"$f":"IF(OFFSET('Raw Data'!BF11,Input_Details!$B$29,0)=\"\", \"-\", OFFSET('Raw Data'!BF11,Input_Details!$B$29,0))","v":0},2,null,0,14,0,0,1,0,0,0,0,0,0,0,15]
[null,"02:00:00",{"$f":"IF(OFFSET('Raw Data'!H12,Input_Details!$B$29,0)=\"\", \"-\", OFFSET('Raw Data'!H12,Input_Details!$B$29,0))","v":0},{"$f":"IF(OFFSET('Raw Data'!I12,Input_Details!$B$29,0)=\"\", \"-\", OFFSET('Raw Data'!I12,Input_Details!$B$29,0))","v":13},{"$f":"IF(OFFSET('Raw Data'!J12,Input_Details!$B$29,0)=\"\", \"-\", OFFSET('Raw Data'!J12,Input_Details!$B$29,0))","v":0},{"$f":"IF(OFFSET('Raw Data'!K12,Input_Details!$B$29,0)=\"\", \"-\", OFFSET('Raw Data'!K12,Input_Details!$B$29,0))","v":0},{"$f":"IF(OFFSET('Raw Data'!L12,Input_Details!$B$29,0)=\"\", \"-\", OFFSET('Raw Data'!L12,Input_Details!$B$29,0))","v":0},{"$f":"IF(OFFSET('Raw Data'!M12,Input_Details!$B$29,0)=\"\", \"-\", OFFSET('Raw Data'!M12,Input_Details!$B$29,0))","v":0},{"$f":"IF(OFFSET('Raw Data'!N12,Input_Details!$B$29,0)=\"\", \"-\", OFFSET('Raw Data'!N12,Input_Details!$B$29,0))","v":0},{"$f":"IF(OFFSET('Raw Data'!O12,Input_Details!$B$29,0)=\"\", \"-\", OFFSET('Raw Data'!O12,Input_Details!$B$29,0))","v":0},{"$f":"IF(OFFSET('Raw Data'!P12,Input_Details!$B$29,0)=\"\", \"-\", OFFSET('Raw Data'!P12,Input_Details!$B$29,0))","v":0},{"$f":"IF(OFFSET('Raw Data'!Q12,Input_Details!$B$29,0)=\"\", \"-\", OFFSET('Raw Data'!Q12,Input_Details!$B$29,0))","v":0},{"$f":"IF(OFFSET('Raw Data'!R12,Input_Details!$B$29,0)=\"\", \"-\", OFFSET('Raw Data'!R12,Input_Details!$B$29,0))","v":0},{"$f":"IF(OFFSET('Raw Data'!S12,Input_Details!$B$29,0)=\"\", \"-\", OFFSET('Raw Data'!S12,Input_Details!$B$29,0))","v":0},13,null,{"$f":"IF(OFFSET('Raw Data'!AU12,Input_Details!$B$29,0)=\"\", \"-\", OFFSET('Raw Data'!AU12,Input_Details!$B$29,0))","v":0},{"$f":"IF(OFFSET('Raw Data'!AV12,Input_Details!$B$29,0)=\"\", \"-\", OFFSET('Raw Data'!AV12,Input_Details!$B$29,0))","v":3},{"$f":"IF(OFFSET('Raw Data'!AW12,Input_Details!$B$29,0)=\"\", \"-\", OFFSET('Raw Data'!AW12,Input_Details!$B$29,0))","v":0},{"$f":"IF(OFFSET('Raw Data'!AX12,Input_Details!$B$29,0)=\"\", \"-\", OFFSET('Raw Data'!AX12,Input_Details!$B$29,0))","v":0},{"$f":"IF(OFFSET('Raw Data'!AY12,Input_Details!$B$29,0)=\"\", \"-\", OFFSET('Raw Data'!AY12,Input_Details!$B$29,0))","v":0},{"$f":"IF(OFFSET('Raw Data'!AZ12,Input_Details!$B$29,0)=\"\", \"-\", OFFSET('Raw Data'!AZ12,Input_Details!$B$29,0))","v":0},{"$f":"IF(OFFSET('Raw Data'!BA12,Input_Details!$B$29,0)=\"\", \"-\", OFFSET('Raw Data'!BA12,Input_Details!$B$29,0))","v":0},{"$f":"IF(OFFSET('Raw Data'!BB12,Input_Details!$B$29,0)=\"\", \"-\", OFFSET('Raw Data'!BB12,Input_Details!$B$29,0))","v":0},{"$f":"IF(OFFSET('Raw Data'!BC12,Input_Details!$B$29,0)=\"\", \"-\", OFFSET('Raw Data'!BC12,Input_Details!$B$29,0))","v":0},{"$f":"IF(OFFSET('Raw Data'!BD12,Input_Details!$B$29,0)=\"\", \"-\", OFFSET('Raw Data'!BD12,Input_Details!$B$29,0))","v":0},{"$f":"IF(OFFSET('Raw Data'!BE12,Input_Details!$B$29,0)=\"\", \"-\", OFFSET('Raw Data'!BE12,Input_Details!$B$29,0))","v":0},{"$f":"IF(OFFSET('Raw Data'!BF12,Input_Details!$B$29,0)=\"\", \"-\", OFFSET('Raw Data'!BF12,Input_Details!$B$29,0))","v":0},3,null,0,16,0,0,0,0,0,0,0,0,0,0,16]
[null,"02:15:00",{"$f":"IF(OFFSET('Raw Data'!H13,Input_Details!$B$29,0)=\"\", \"-\", OFFSET('Raw Data'!H13,Input_Details!$B$29,0))","v":1},{"$f":"IF(OFFSET('Raw Data'!I13,Input_Details!$B$29,0)=\"\", \"-\", OFFSET('Raw Data'!I13,Input_Details!$B$29,0))","v":13},{"$f":"IF(OFFSET('Raw Data'!J13,Input_Details!$B$29,0)=\"\", \"-\", OFFSET('Raw Data'!J13,Input_Details!$B$29,0))","v":0},{"$f":"IF(OFFSET('Raw Data'!K13,Input_Details!$B$29,0)=\"\", \"-\", OFFSET('Raw Data'!K13,Input_Details!$B$29,0))","v":0},{"$f":"IF(OFFSET('Raw Data'!L13,Input_Details!$B$29,0)=\"\", \"-\", OFFSET('Raw Data'!L13,Input_Details!$B$29,0))","v":1},{"$f":"IF(OFFSET('Raw Data'!M13,Input_Details!$B$29,0)=\"\", \"-\", OFFSET('Raw Data'!M13,Input_Details!$B$29,0))","v":0},{"$f":"IF(OFFSET('Raw Data'!N13,Input_Details!$B$29,0)=\"\", \"-\", OFFSET('Raw Data'!N13,Input_Details!$B$29,0))","v":0},{"$f":"IF(OFFSET('Raw Data'!O13,Input_Details!$B$29,0)=\"\", \"-\", OFFSET('Raw Data'!O13,Input_Details!$B$29,0))","v":0},{"$f":"IF(OFFSET('Raw Data'!P13,Input_Details!$B$29,0)=\"\", \"-\", OFFSET('Raw Data'!P13,Input_Details!$B$29,0))","v":0},{"$f":"IF(OFFSET('Raw Data'!Q13,Input_Details!$B$29,0)=\"\", \"-\", OFFSET('Raw Data'!Q13,Input_Details!$B$29,0))","v":0},{"$f":"IF(OFFSET('Raw Data'!R13,Input_Details!$B$29,0)=\"\", \"-\", OFFSET('Raw Data'!R13,Input_Details!$B$29,0))","v":0},{"$f":"IF(OFFSET('Raw Data'!S13,Input_Details!$B$29,0)=\"\", \"-\", OFFSET('Raw Data'!S13,Input_Details!$B$29,0))","v":0},15,null,{"$f":"IF(OFFSET('Raw Data'!AU13,Input_Details!$B$29,0)=\"\", \"-\", OFFSET('Raw Data'!AU13,Input_Details!$B$29,0))","v":0},{"$f":"IF(OFFSET('Raw Data'!AV13,Input_Details!$B$29,0)=\"\", \"-\", OFFSET('Raw Data'!AV13,Input_Details!$B$29,0))","v":2},{"$f":"IF(OFFSET('Raw Data'!AW13,Input_Details!$B$29,0)=\"\", \"-\", OFFSET('Raw Data'!AW13,Input_Details!$B$29,0))","v":0},{"$f":"IF(OFFSET('Raw Data'!AX13,Input_Details!$B$29,0)=\"\", \"-\", OFFSET('Raw Data'!AX13,Input_Details!$B$29,0))","v":0},{"$f":"IF(OFFSET('Raw Data'!AY13,Input_Details!$B$29,0)=\"\", \"-\", OFFSET('Raw Data'!AY13,Input_Details!$B$29,0))","v":0},{"$f":"IF(OFFSET('Raw Data'!AZ13,Input_Details!$B$29,0)=\"\", \"-\", OFFSET('Raw Data'!AZ13,Input_Details!$B$29,0))","v":0},{"$f":"IF(OFFSET('Raw Data'!BA13,Input_Details!$B$29,0)=\"\", \"-\", OFFSET('Raw Data'!BA13,Input_Details!$B$29,0))","v":0},{"$f":"IF(OFFSET('Raw Data'!BB13,Input_Details!$B$29,0)=\"\", \"-\", OFFSET('Raw Data'!BB13,Input_Details!$B$29,0))","v":0},{"$f":"IF(OFFSET('Raw Data'!BC13,Input_Details!$B$29,0)=\"\", \"-\", OFFSET('Raw Data'!BC13,Input_Details!$B$29,0))","v":0},{"$f":"IF(OFFSET('Raw Data'!BD13,Input_Details!$B$29,0)=\"\", \"-\", OFFSET('Raw Data'!BD13,Input_Details!$B$29,0))","v":0},{"$f":"IF(OFFSET('Raw Data'!BE13,Input_Details!$B$29,0)=\"\", \"-\", OFFSET('Raw Data'!BE13,Input_Details!$B$29,0))","v":0},{"$f":"IF(OFFSET('Raw Data'!BF13,Input_Details!$B$29,0)=\"\", \"-\", OFFSET('Raw Data'!BF13,Input_Details!$B$29,0))","v":0},2,null,1,15,0,0,1,0,0,0,0,0,0,0,17]
[null,"02:30:00",{"$f":"IF(OFFSET('Raw Data'!H14,Input_Details!$B$29,0)=\"\", \"-\", OFFSET('Raw Data'!H14,Input_Details!$B$29,0))","v":1},{"$f":"IF(OFFSET('Raw Data'!I14,Input_Details!$B$29,0)=\"\", \"-\", OFFSET('Raw Data'!I14,Input_Details!$B$29,0))","v":10},{"$f":"IF(OFFSET('Raw Data'!J14,Input_Details!$B$29,0)=\"\", \"-\", OFFSET('Raw Data'!J14,Input_Details!$B$29,0))","v":0},{"$f":"IF(OFFSET('Raw Data'!K14,Input_Details!$B$29,0)=\"\", \"-\", OFFSET('Raw Data'!K14,Input_Details!$B$29,0))","v":0},{"$f":"IF(OFFSET('Raw Data'!L14,Input_Details!$B$29,0)=\"\", \"-\", OFFSET('Raw Data'!L14,Input_Details!$B$29,0))","v":0},{"$f":"IF(OFFSET('Raw Data'!M14,Input_Details!$B$29,0)=\"\", \"-\", OFFSET('Raw Data'!M14,Input_Details!$B$29,0))","v":0},{"$f":"IF(OFFSET('Raw Data'!N14,Input_Details!$B$29,0)=\"\", \"-\", OFFSET('Raw Data'!N14,Input_Details!$B$29,0))","v":0},{"$f":"IF(OFFSET('Raw Data'!O14,Input_Details!$B$29,0)=\"\", \"-\", OFFSET('Raw Data'!O14,Input_Details!$B$29,0))","v":0},{"$f":"IF(OFFSET('Raw Data'!P14,Input_Details!$B$29,0)=\"\", \"-\", OFFSET('Raw Data'!P14,Input_Details!$B$29,0))","v":0},{"$f":"IF(OFFSET('Raw Data'!Q14,Input_Details!$B$29,0)=\"\", \"-\", OFFSET('Raw Data'!Q14,Input_Details!$B$29,0))","v":0},{"$f":"IF(OFFSET('Raw Data'!R14,Input_Details!$B$29,0)=\"\", \"-\", OFFSET('Raw Data'!R14,Input_Details!$B$29,0))","v":0},{"$f":"IF(OFFSET('Raw Data'!S14,Input_Details!$B$29,0)=\"\", \"-\", OFFSET('Raw Data'!S14,Input_Details!$B$29,0))","v":0},11,null,{"$f":"IF(OFFSET('Raw Data'!AU14,Input_Details!$B$29,0)=\"\", \"-\", OFFSET('Raw Data'!AU14,Input_Details!$B$29,0))","v":0},{"$f":"IF(OFFSET('Raw Data'!AV14,Input_Details!$B$29,0)=\"\", \"-\", OFFSET('Raw Data'!AV14,Input_Details!$B$29,0))","v":2},{"$f":"IF(OFFSET('Raw Data'!AW14,Input_Details!$B$29,0)=\"\", \"-\", OFFSET('Raw Data'!AW14,Input_Details!$B$29,0))","v":0},{"$f":"IF(OFFSET('Raw Data'!AX14,Input_Details!$B$29,0)=\"\", \"-\", OFFSET('Raw Data'!AX14,Input_Details!$B$29,0))","v":0},{"$f":"IF(OFFSET('Raw Data'!AY14,Input_Details!$B$29,0)=\"\", \"-\", OFFSET('Raw Data'!AY14,Input_Details!$B$29,0))","v":0},{"$f":"IF(OFFSET('Raw Data'!AZ14,Input_Details!$B$29,0)=\"\", \"-\", OFFSET('Raw Data'!AZ14,Input_Details!$B$29,0))","v":0},{"$f":"IF(OFFSET('Raw Data'!BA14,Input_Details!$B$29,0)=\"\", \"-\", OFFSET('Raw Data'!BA14,Input_Details!$B$29,0))","v":0},{"$f":"IF(OFFSET('Raw Data'!BB14,Input_Details!$B$29,0)=\"\", \"-\", OFFSET('Raw Data'!BB14,Input_Details!$B$29,0))","v":0},{"$f":"IF(OFFSET('Raw Data'!BC14,Input_Details!$B$29,0)=\"\", \"-\", OFFSET('Raw Data'!BC14,Input_Details!$B$29,0))","v":0},{"$f":"IF(OFFSET('Raw Data'!BD14,Input_Details!$B$29,0)=\"\", \"-\", OFFSET('Raw Data'!BD14,Input_Details!$B$29,0))","v":0},{"$f":"IF(OFFSET('Raw Data'!BE14,Input_Details!$B$29,0)=\"\", \"-\", OFFSET('Raw Data'!BE14,Input_Details!$B$29,0))","v":0},{"$f":"IF(OFFSET('Raw Data'!BF14,Input_Details!$B$29,0)=\"\", \"-\", OFFSET('Raw Data'!BF14,Input_Details!$B$29,0))","v":0},2,null,1,12,0,0,0,0,0,0,0,0,0,0,13]
[null,"02:45:00",{"$f":"IF(OFFSET('Raw Data'!H15,Input_Details!$B$29,0)=\"\", \"-\", OFFSET('Raw Data'!H15,Input_Details!$B$29,0))","v":1},{"$f":"IF(OFFSET('Raw Data'!I15,Input_Details!$B$29,0)=\"\", \"-\", OFFSET('Raw Data'!I15,Input_Details!$B$29,0))","v":8},{"$f":"IF(OFFSET('Raw Data'!J15,Input_Details!$B$29,0)=\"\", \"-\", OFFSET('Raw Data'!J15,Input_Details!$B$29,0))","v":0},{"$f":"IF(OFFSET('Raw Data'!K15,Input_Details!$B$29,0)=\"\", \"-\", OFFSET('Raw Data'!K15,Input_Details!$B$29,0))","v":1},{"$f":"IF(OFFSET('Raw Data'!L15,Input_Details!$B$29,0)=\"\", \"-\", OFFSET('Raw Data'!L15,Input_Details!$B$29,0))","v":1},{"$f":"IF(OFFSET('Raw Data'!M15,Input_Details!$B$29,0)=\"\", \"-\", OFFSET('Raw Data'!M15,Input_Details!$B$29,0))","v":0},{"$f":"IF(OFFSET('Raw Data'!N15,Input_Details!$B$29,0)=\"\", \"-\", OFFSET('Raw Data'!N15,Input_Details!$B$29,0))","v":0},{"$f":"IF(OFFSET('Raw Data'!O15,Input_Details!$B$29,0)=\"\", \"-\", OFFSET('Raw Data'!O15,Input_Details!$B$29,0))","v":0},{"$f":"IF(OFFSET('Raw Data'!P15,Input_Details!$B$29,0)=\"\", \"-\", OFFSET('Raw Data'!P15,Input_Details!$B$29,0))","v":0},{"$f":"IF(OFFSET('Raw Data'!Q15,Input_Details!$B$29,0)=\"\", \"-\", OFFSET('Raw Data'!Q15,Input_Details!$B$29,0))","v":0},{"$f":"IF(OFFSET('Raw Data'!R15,Input_Details!$B$29,0)=\"\", \"-\", OFFSET('Raw Data'!R15,Input_Details!$B$29,0))","v":0},{"$f":"IF(OFFSET('Raw Data'!S15,Input_Details!$B$29,0)=\"\", \"-\", OFFSET('Raw Data'!S15,Input_Details!$B$29,0))","v":0},11,null,{"$f":"IF(OFFSET('Raw Data'!AU15,Input_Details!$B$29,0)=\"\", \"-\", OFFSET('Raw Data'!AU15,Input_Details!$B$29,0))","v":0},{"$f":"IF(OFFSET('Raw Data'!AV15,Input_Details!$B$29,0)=\"\", \"-\", OFFSET('Raw Data'!AV15,Input_Details!$B$29,0))","v":1},{"$f":"IF(OFFSET('Raw Data'!AW15,Input_Details!$B$29,0)=\"\", \"-\", OFFSET('Raw Data'!AW15,Input_Details!$B$29,0))","v":0},{"$f":"IF(OFFSET('Raw Data'!AX15,Input_Details!$B$29,0)=\"\", \"-\", OFFSET('Raw Data'!AX15,Input_Details!$B$29,0))","v":0},{"$f":"IF(OFFSET('Raw Data'!AY15,Input_Details!$B$29,0)=\"\", \"-\", OFFSET('Raw Data'!AY15,Input_Details!$B$29,0))","v":0},{"$f":"IF(OFFSET('Raw Data'!AZ15,Input_Details!$B$29,0)=\"\", \"-\", OFFSET('Raw Data'!AZ15,Input_Details!$B$29,0))","v":0},{"$f":"IF(OFFSET('Raw Data'!BA15,Input_Details!$B$29,0)=\"\", \"-\", OFFSET('Raw Data'!BA15,Input_Details!$B$29,0))","v":0},{"$f":"IF(OFFSET('Raw Data'!BB15,Input_Details!$B$29,0)=\"\", \"-\", OFFSET('Raw Data'!BB15,Input_Details!$B$29,0))","v":0},{"$f":"IF(OFFSET('Raw Data'!BC15,Input_Details!$B$29,0)=\"\", \"-\", OFFSET('Raw Data'!BC15,Input_Details!$B$29,0))","v":0},{"$f":"IF(OFFSET('Raw Data'!BD15,Input_Details!$B$29,0)=\"\", \"-\", OFFSET('Raw Data'!BD15,Input_Details!$B$29,0))","v":0},{"$f":"IF(OFFSET('Raw Data'!BE15,Input_Details!$B$29,0)=\"\", \"-\", OFFSET('Raw Data'!BE15,Input_Details!$B$29,0))","v":0},{"$f":"IF(OFFSET('Raw Data'!BF15,Input_Details!$B$29,0)=\"\", \"-\", OFFSET('Raw Data'!BF15,Input_Details!$B$29,0))","v":0},1,null,1,9,0,1,1,0,0,0,0,0,0,0,12]
[null,"03:00:00",{"$f":"IF(OFFSET('Raw Data'!H16,Input_Details!$B$29,0)=\"\", \"-\", OFFSET('Raw Data'!H16,Input_Details!$B$29,0))","v":0},{"$f":"IF(OFFSET('Raw Data'!I16,Input_Details!$B$29,0)=\"\", \"-\", OFFSET('Raw Data'!I16,Input_Details!$B$29,0))","v":9},{"$f":"IF(OFFSET('Raw Data'!J16,Input_Details!$B$29,0)=\"\", \"-\", OFFSET('Raw Data'!J16,Input_Details!$B$29,0))","v":0},{"$f":"IF(OFFSET('Raw Data'!K16,Input_Details!$B$29,0)=\"\", \"-\", OFFSET('Raw Data'!K16,Input_Details!$B$29,0))","v":0},{"$f":"IF(OFFSET('Raw Data'!L16,Input_Details!$B$29,0)=\"\", \"-\", OFFSET('Raw Data'!L16,Input_Details!$B$29,0))","v":1},{"$f":"IF(OFFSET('Raw Data'!M16,Input_Details!$B$29,0)=\"\", \"-\", OFFSET('Raw Data'!M16,Input_Details!$B$29,0))","v":0},{"$f":"IF(OFFSET('Raw Data'!N16,Input_Details!$B$29,0)=\"\", \"-\", OFFSET('Raw Data'!N16,Input_Details!$B$29,0))","v":0},{"$f":"IF(OFFSET('Raw Data'!O16,Input_Details!$B$29,0)=\"\", \"-\", OFFSET('Raw Data'!O16,Input_Details!$B$29,0))","v":0},{"$f":"IF(OFFSET('Raw Data'!P16,Input_Details!$B$29,0)=\"\", \"-\", OFFSET('Raw Data'!P16,Input_Details!$B$29,0))","v":0},{"$f":"IF(OFFSET('Raw Data'!Q16,Input_Details!$B$29,0)=\"\", \"-\", OFFSET('Raw Data'!Q16,Input_Details!$B$29,0))","v":0},{"$f":"IF(OFFSET('Raw Data'!R16,Input_Details!$B$29,0)=\"\", \"-\", OFFSET('Raw Data'!R16,Input_Details!$B$29,0))","v":0},{"$f":"IF(OFFSET('Raw Data'!S16,Input_Details!$B$29,0)=\"\", \"-\", OFFSET('Raw Data'!S16,Input_Details!$B$29,0))","v":0},10,null,{"$f":"IF(OFFSET('Raw Data'!AU16,Input_Details!$B$29,0)=\"\", \"-\", OFFSET('Raw Data'!AU16,Input_Details!$B$29,0))","v":0},{"$f":"IF(OFFSET('Raw Data'!AV16,Input_Details!$B$29,0)=\"\", \"-\", OFFSET('Raw Data'!AV16,Input_Details!$B$29,0))","v":2},{"$f":"IF(OFFSET('Raw Data'!AW16,Input_Details!$B$29,0)=\"\", \"-\", OFFSET('Raw Data'!AW16,Input_Details!$B$29,0))","v":0},{"$f":"IF(OFFSET('Raw Data'!AX16,Input_Details!$B$29,0)=\"\", \"-\", OFFSET('Raw Data'!AX16,Input_Details!$B$29,0))","v":0},{"$f":"IF(OFFSET('Raw Data'!AY16,Input_Details!$B$29,0)=\"\", \"-\", OFFSET('Raw Data'!AY16,Input_Details!$B$29,0))","v":0},{"$f":"IF(OFFSET('Raw Data'!AZ16,Input_Details!$B$29,0)=\"\", \"-\", OFFSET('Raw Data'!AZ16,Input_Details!$B$29,0))","v":0},{"$f":"IF(OFFSET('Raw Data'!BA16,Input_Details!$B$29,0)=\"\", \"-\", OFFSET('Raw Data'!BA16,Input_Details!$B$29,0))","v":0},{"$f":"IF(OFFSET('Raw Data'!BB16,Input_Details!$B$29,0)=\"\", \"-\", OFFSET('Raw Data'!BB16,Input_Details!$B$29,0))","v":0},{"$f":"IF(OFFSET('Raw Data'!BC16,Input_Details!$B$29,0)=\"\", \"-\", OFFSET('Raw Data'!BC16,Input_Details!$B$29,0))","v":0},{"$f":"IF(OFFSET('Raw Data'!BD16,Input_Details!$B$29,0)=\"\", \"-\", OFFSET('Raw Data'!BD16,Input_Details!$B$29,0))","v":0},{"$f":"IF(OFFSET('Raw Data'!BE16,Input_Details!$B$29,0)=\"\", \"-\", OFFSET('Raw Data'!BE16,Input_Details!$B$29,0))","v":0},{"$f":"IF(OFFSET('Raw Data'!BF16,Input_Details!$B$29,0)=\"\", \"-\", OFFSET('Raw Data'!BF16,Input_Details!$B$29,0))","v":0},2,null,0,11,0,0,1,0,0,0,0,0,0,0,12]
[null,"03:15:00",{"$f":"IF(OFFSET('Raw Data'!H17,Input_Details!$B$29,0)=\"\", \"-\", OFFSET('Raw Data'!H17,Input_Details!$B$29,0))","v":0},{"$f":"IF(OFFSET('Raw Data'!I17,Input_Details!$B$29,0)=\"\", \"-\", OFFSET('Raw Data'!I17,Input_Details!$B$29,0))","v":9},{"$f":"IF(OFFSET('Raw Data'!J17,Input_Details!$B$29,0)=\"\", \"-\", OFFSET('Raw Data'!J17,Input_Details!$B$29,0))","v":0},{"$f":"IF(OFFSET('Raw Data'!K17,Input_Details!$B$29,0)=\"\", \"-\", OFFSET('Raw Data'!K17,Input_Details!$B$29,0))","v":1},{"$f":"IF(OFFSET('Raw Data'!L17,Input_Details!$B$29,0)=\"\", \"-\", OFFSET('Raw Data'!L17,Input_Details!$B$29,0))","v":0},{"$f":"IF(OFFSET('Raw Data'!M17,Input_Details!$B$29,0)=\"\", \"-\", OFFSET('Raw Data'!M17,Input_Details!$B$29,0))","v":0},{"$f":"IF(OFFSET('Raw Data'!N17,Input_Details!$B$29,0)=\"\", \"-\", OFFSET('Raw Data'!N17,Input_Details!$B$29,0))","v":0},{"$f":"IF(OFFSET('Raw Data'!O17,Input_Details!$B$29,0)=\"\", \"-\", OFFSET('Raw Data'!O17,Input_Details!$B$29,0))","v":0},{"$f":"IF(OFFSET('Raw Data'!P17,Input_Details!$B$29,0)=\"\", \"-\", OFFSET('Raw Data'!P17,Input_Details!$B$29,0))","v":0},{"$f":"IF(OFFSET('Raw Data'!Q17,Input_Details!$B$29,0)=\"\", \"-\", OFFSET('Raw Data'!Q17,Input_Details!$B$29,0))","v":0},{"$f":"IF(OFFSET('Raw Data'!R17,Input_Details!$B$29,0)=\"\", \"-\", OFFSET('Raw Data'!R17,Input_Details!$B$29,0))","v":0},{"$f":"IF(OFFSET('Raw Data'!S17,Input_Details!$B$29,0)=\"\", \"-\", OFFSET('Raw Data'!S17,Input_Details!$B$29,0))","v":0},10,null,{"$f":"IF(OFFSET('Raw Data'!AU17,Input_Details!$B$29,0)=\"\", \"-\", OFFSET('Raw Data'!AU17,Input_Details!$B$29,0))","v":0},{"$f":"IF(OFFSET('Raw Data'!AV17,Input_Details!$B$29,0)=\"\", \"-\", OFFSET('Raw Data'!AV17,Input_Details!$B$29,0))","v":2},{"$f":"IF(OFFSET('Raw Data'!AW17,Input_Details!$B$29,0)=\"\", \"-\", OFFSET('Raw Data'!AW17,Input_Details!$B$29,0))","v":0},{"$f":"IF(OFFSET('Raw Data'!AX17,Input_Details!$B$29,0)=\"\", \"-\", OFFSET('Raw Data'!AX17,Input_Details!$B$29,0))","v":0},{"$f":"IF(OFFSET('Raw Data'!AY17,Input_Details!$B$29,0)=\"\", \"-\", OFFSET('Raw Data'!AY17,Input_Details!$B$29,0))","v":0},{"$f":"IF(OFFSET('Raw Data'!AZ17,Input_Details!$B$29,0)=\"\", \"-\", OFFSET('Raw Data'!AZ17,Input_Details!$B$29,0))","v":0},{"$f":"IF(OFFSET('Raw Data'!BA17,Input_Details!$B$29,0)=\"\", \"-\", OFFSET('Raw Data'!BA17,Input_Details!$B$29,0))","v":0},{"$f":"IF(OFFSET('Raw Data'!BB17,Input_Details!$B$29,0)=\"\", \"-\", OFFSET('Raw Data'!BB17,Input_Details!$B$29,0))","v":0},{"$f":"IF(OFFSET('Raw Data'!BC17,Input_Details!$B$29,0)=\"\", \"-\", OFFSET('Raw Data'!BC17,Input_Details!$B$29,0))","v":0},{"$f":"IF(OFFSET('Raw Data'!BD17,Input_Details!$B$29,0)=\"\", \"-\", OFFSET('Raw Data'!BD17,Input_Details!$B$29,0))","v":0},{"$f":"IF(OFFSET('Raw Data'!BE17,Input_Details!$B$29,0)=\"\", \"-\", OFFSET('Raw Data'!BE17,Input_Details!$B$29,0))","v":0},{"$f":"IF(OFFSET('Raw Data'!BF17,Input_Details!$B$29,0)=\"\", \"-\", OFFSET('Raw Data'!BF17,Input_Details!$B$29,0))","v":0},2,null,0,11,0,1,0,0,0,0,0,0,0,0,12]
[null,"03:30:00",{"$f":"IF(OFFSET('Raw Data'!H18,Input_Details!$B$29,0)=\"\", \"-\", OFFSET('Raw Data'!H18,Input_Details!$B$29,0))","v":0},{"$f":"IF(OFFSET('Raw Data'!I18,Input_Details!$B$29,0)=\"\", \"-\", OFFSET('Raw Data'!I18,Input_Details!$B$29,0))","v":10},{"$f":"IF(OFFSET('Raw Data'!J18,Input_Details!$B$29,0)=\"\", \"-\", OFFSET('Raw Data'!J18,Input_Details!$B$29,0))","v":0},{"$f":"IF(OFFSET('Raw Data'!K18,Input_Details!$B$29,0)=\"\", \"-\", OFFSET('Raw Data'!K18,Input_Details!$B$29,0))","v":0},{"$f":"IF(OFFSET('Raw Data'!L18,Input_Details!$B$29,0)=\"\", \"-\", OFFSET('Raw Data'!L18,Input_Details!$B$29,0))","v":0},{"$f":"IF(OFFSET('Raw Data'!M18,Input_Details!$B$29,0)=\"\", \"-\", OFFSET('Raw Data'!M18,Input_Details!$B$29,0))","v":0},{"$f":"IF(OFFSET('Raw Data'!N18,Input_Details!$B$29,0)=\"\", \"-\", OFFSET('Raw Data'!N18,Input_Details!$B$29,0))","v":0},{"$f":"IF(OFFSET('Raw Data'!O18,Input_Details!$B$29,0)=\"\", \"-\", OFFSET('Raw Data'!O18,Input_Details!$B$29,0))","v":0},{"$f":"IF(OFFSET('Raw Data'!P18,Input_Details!$B$29,0)=\"\", \"-\", OFFSET('Raw Data'!P18,Input_Details!$B$29,0))","v":0},{"$f":"IF(OFFSET('Raw Data'!Q18,Input_Details!$B$29,0)=\"\", \"-\", OFFSET('Raw Data'!Q18,Input_Details!$B$29,0))","v":0},{"$f":"IF(OFFSET('Raw Data'!R18,Input_Details!$B$29,0)=\"\", \"-\", OFFSET('Raw Data'!R18,Input_Details!$B$29,0))","v":0},{"$f":"IF(OFFSET('Raw Data'!S18,Input_Details!$B$29,0)=\"\", \"-\", OFFSET('Raw Data'!S18,Input_Details!$B$29,0))","v":0},10,null,{"$f":"IF(OFFSET('Raw Data'!AU18,Input_Details!$B$29,0)=\"\", \"-\", OFFSET('Raw Data'!AU18,Input_Details!$B$29,0))","v":0},{"$f":"IF(OFFSET('Raw Data'!AV18,Input_Details!$B$29,0)=\"\", \"-\", OFFSET('Raw Data'!AV18,Input_Details!$B$29,0))","v":1},{"$f":"IF(OFFSET('Raw Data'!AW18,Input_Details!$B$29,0)=\"\", \"-\", OFFSET('Raw Data'!AW18,Input_Details!$B$29,0))","v":0},{"$f":"IF(OFFSET('Raw Data'!AX18,Input_Details!$B$29,0)=\"\", \"-\", OFFSET('Raw Data'!AX18,Input_Details!$B$29,0))","v":0},{"$f":"IF(OFFSET('Raw Data'!AY18,Input_Details!$B$29,0)=\"\", \"-\", OFFSET('Raw Data'!AY18,Input_Details!$B$29,0))","v":0},{"$f":"IF(OFFSET('Raw Data'!AZ18,Input_Details!$B$29,0)=\"\", \"-\", OFFSET('Raw Data'!AZ18,Input_Details!$B$29,0))","v":0},{"$f":"IF(OFFSET('Raw Data'!BA18,Input_Details!$B$29,0)=\"\", \"-\", OFFSET('Raw Data'!BA18,Input_Details!$B$29,0))","v":0},{"$f":"IF(OFFSET('Raw Data'!BB18,Input_Details!$B$29,0)=\"\", \"-\", OFFSET('Raw Data'!BB18,Input_Details!$B$29,0))","v":0},{"$f":"IF(OFFSET('Raw Data'!BC18,Input_Details!$B$29,0)=\"\", \"-\", OFFSET('Raw Data'!BC18,Input_Details!$B$29,0))","v":0},{"$f":"IF(OFFSET('Raw Data'!BD18,Input_Details!$B$29,0)=\"\", \"-\", OFFSET('Raw Data'!BD18,Input_Details!$B$29,0))","v":0},{"$f":"IF(OFFSET('Raw Data'!BE18,Input_Details!$B$29,0)=\"\", \"-\", OFFSET('Raw Data'!BE18,Input_Details!$B$29,0))","v":0},{"$f":"IF(OFFSET('Raw Data'!BF18,Input_Details!$B$29,0)=\"\", \"-\", OFFSET('Raw Data'!BF18,Input_Details!$B$29,0))","v":0},1,null,0,11,0,0,0,0,0,0,0,0,0,0,11]
[null,"03:45:00",{"$f":"IF(OFFSET('Raw Data'!H19,Input_Details!$B$29,0)=\"\", \"-\", OFFSET('Raw Data'!H19,Input_Details!$B$29,0))","v":0},{"$f":"IF(OFFSET('Raw Data'!I19,Input_Details!$B$29,0)=\"\", \"-\", OFFSET('Raw Data'!I19,Input_Details!$B$29,0))","v":9},{"$f":"IF(OFFSET('Raw Data'!J19,Input_Details!$B$29,0)=\"\", \"-\", OFFSET('Raw Data'!J19,Input_Details!$B$29,0))","v":0},{"$f":"IF(OFFSET('Raw Data'!K19,Input_Details!$B$29,0)=\"\", \"-\", OFFSET('Raw Data'!K19,Input_Details!$B$29,0))","v":1},{"$f":"IF(OFFSET('Raw Data'!L19,Input_Details!$B$29,0)=\"\", \"-\", OFFSET('Raw Data'!L19,Input_Details!$B$29,0))","v":0},{"$f":"IF(OFFSET('Raw Data'!M19,Input_Details!$B$29,0)=\"\", \"-\", OFFSET('Raw Data'!M19,Input_Details!$B$29,0))","v":0},{"$f":"IF(OFFSET('Raw Data'!N19,Input_Details!$B$29,0)=\"\", \"-\", OFFSET('Raw Data'!N19,Input_Details!$B$29,0))","v":0},{"$f":"IF(OFFSET('Raw Data'!O19,Input_Details!$B$29,0)=\"\", \"-\", OFFSET('Raw Data'!O19,Input_Details!$B$29,0))","v":0},{"$f":"IF(OFFSET('Raw Data'!P19,Input_Details!$B$29,0)=\"\", \"-\", OFFSET('Raw Data'!P19,Input_Details!$B$29,0))","v":0},{"$f":"IF(OFFSET('Raw Data'!Q19,Input_Details!$B$29,0)=\"\", \"-\", OFFSET('Raw Data'!Q19,Input_Details!$B$29,0))","v":0},{"$f":"IF(OFFSET('Raw Data'!R19,Input_Details!$B$29,0)=\"\", \"-\", OFFSET('Raw Data'!R19,Input_Details!$B$29,0))","v":0},{"$f":"IF(OFFSET('Raw Data'!S19,Input_Details!$B$29,0)=\"\", \"-\", OFFSET('Raw Data'!S19,Input_Details!$B$29,0))","v":0},10,null,{"$f":"IF(OFFSET('Raw Data'!AU19,Input_Details!$B$29,0)=\"\", \"-\", OFFSET('Raw Data'!AU19,Input_Details!$B$29,0))","v":0},{"$f":"IF(OFFSET('Raw Data'!AV19,Input_Details!$B$29,0)=\"\", \"-\", OFFSET('Raw Data'!AV19,Input_Details!$B$29,0))","v":1},{"$f":"IF(OFFSET('Raw Data'!AW19,Input_Details!$B$29,0)=\"\", \"-\", OFFSET('Raw Data'!AW19,Input_Details!$B$29,0))","v":0},{"$f":"IF(OFFSET('Raw Data'!AX19,Input_Details!$B$29,0)=\"\", \"-\", OFFSET('Raw Data'!AX19,Input_Details!$B$29,0))","v":0},{"$f":"IF(OFFSET('Raw Data'!AY19,Input_Details!$B$29,0)=\"\", \"-\", OFFSET('Raw Data'!AY19,Input_Details!$B$29,0))","v":0},{"$f":"IF(OFFSET('Raw Data'!AZ19,Input_Details!$B$29,0)=\"\", \"-\", OFFSET('Raw Data'!AZ19,Input_Details!$B$29,0))","v":0},{"$f":"IF(OFFSET('Raw Data'!BA19,Input_Details!$B$29,0)=\"\", \"-\", OFFSET('Raw Data'!BA19,Input_Details!$B$29,0))","v":0},{"$f":"IF(OFFSET('Raw Data'!BB19,Input_Details!$B$29,0)=\"\", \"-\", OFFSET('Raw Data'!BB19,Input_Details!$B$29,0))","v":0},{"$f":"IF(OFFSET('Raw Data'!BC19,Input_Details!$B$29,0)=\"\", \"-\", OFFSET('Raw Data'!BC19,Input_Details!$B$29,0))","v":0},{"$f":"IF(OFFSET('Raw Data'!BD19,Input_Details!$B$29,0)=\"\", \"-\", OFFSET('Raw Data'!BD19,Input_Details!$B$29,0))","v":0},{"$f":"IF(OFFSET('Raw Data'!BE19,Input_Details!$B$29,0)=\"\", \"-\", OFFSET('Raw Data'!BE19,Input_Details!$B$29,0))","v":0},{"$f":"IF(OFFSET('Raw Data'!BF19,Input_Details!$B$29,0)=\"\", \"-\", OFFSET('Raw Data'!BF19,Input_Details!$B$29,0))","v":0},1,null,0,10,0,1,0,0,0,0,0,0,0,0,11]
[null,"04:00:00",{"$f":"IF(OFFSET('Raw Data'!H20,Input_Details!$B$29,0)=\"\", \"-\", OFFSET('Raw Data'!H20,Input_Details!$B$29,0))","v":0},{"$f":"IF(OFFSET('Raw Data'!I20,Input_Details!$B$29,0)=\"\", \"-\", OFFSET('Raw Data'!I20,Input_Details!$B$29,0))","v":7},{"$f":"IF(OFFSET('Raw Data'!J20,Input_Details!$B$29,0)=\"\", \"-\", OFFSET('Raw Data'!J20,Input_Details!$B$29,0))","v":0},{"$f":"IF(OFFSET('Raw Data'!K20,Input_Details!$B$29,0)=\"\", \"-\", OFFSET('Raw Data'!K20,Input_Details!$B$29,0))","v":0},{"$f":"IF(OFFSET('Raw Data'!L20,Input_Details!$B$29,0)=\"\", \"-\", OFFSET('Raw Data'!L20,Input_Details!$B$29,0))","v":1},{"$f":"IF(OFFSET('Raw Data'!M20,Input_Details!$B$29,0)=\"\", \"-\", OFFSET('Raw Data'!M20,Input_Details!$B$29,0))","v":0},{"$f":"IF(OFFSET('Raw Data'!N20,Input_Details!$B$29,0)=\"\", \"-\", OFFSET('Raw Data'!N20,Input_Details!$B$29,0))","v":0},{"$f":"IF(OFFSET('Raw Data'!O20,Input_Details!$B$29,0)=\"\", \"-\", OFFSET('Raw Data'!O20,Input_Details!$B$29,0))","v":0},{"$f":"IF(OFFSET('Raw Data'!P20,Input_Details!$B$29,0)=\"\", \"-\", OFFSET('Raw Data'!P20,Input_Details!$B$29,0))","v":0},{"$f":"IF(OFFSET('Raw Data'!Q20,Input_Details!$B$29,0)=\"\", \"-\", OFFSET('Raw Data'!Q20,Input_Details!$B$29,0))","v":0},{"$f":"IF(OFFSET('Raw Data'!R20,Input_Details!$B$29,0)=\"\", \"-\", OFFSET('Raw Data'!R20,Input_Details!$B$29,0))","v":0},{"$f":"IF(OFFSET('Raw Data'!S20,Input_Details!$B$29,0)=\"\", \"-\", OFFSET('Raw Data'!S20,Input_Details!$B$29,0))","v":0},8,null,{"$f":"IF(OFFSET('Raw Data'!AU20,Input_Details!$B$29,0)=\"\", \"-\", OFFSET('Raw Data'!AU20,Input_Details!$B$29,0))","v":0},{"$f":"IF(OFFSET('Raw Data'!AV20,Input_Details!$B$29,0)=\"\", \"-\", OFFSET('Raw Data'!AV20,Input_Details!$B$29,0))","v":1},{"$f":"IF(OFFSET('Raw Data'!AW20,Input_Details!$B$29,0)=\"\", \"-\", OFFSET('Raw Data'!AW20,Input_Details!$B$29,0))","v":0},{"$f":"IF(OFFSET('Raw Data'!AX20,Input_Details!$B$29,0)=\"\", \"-\", OFFSET('Raw Data'!AX20,Input_Details!$B$29,0))","v":0},{"$f":"IF(OFFSET('Raw Data'!AY20,Input_Details!$B$29,0)=\"\", \"-\", OFFSET('Raw Data'!AY20,Input_Details!$B$29,0))","v":0},{"$f":"IF(OFFSET('Raw Data'!AZ20,Input_Details!$B$29,0)=\"\", \"-\", OFFSET('Raw Data'!AZ20,Input_Details!$B$29,0))","v":0},{"$f":"IF(OFFSET('Raw Data'!BA20,Input_Details!$B$29,0)=\"\", \"-\", OFFSET('Raw Data'!BA20,Input_Details!$B$29,0))","v":0},{"$f":"IF(OFFSET('Raw Data'!BB20,Input_Details!$B$29,0)=\"\", \"-\", OFFSET('Raw Data'!BB20,Input_Details!$B$29,0))","v":0},{"$f":"IF(OFFSET('Raw Data'!BC20,Input_Details!$B$29,0)=\"\", \"-\", OFFSET('Raw Data'!BC20,Input_Details!$B$29,0))","v":0},{"$f":"IF(OFFSET('Raw Data'!BD20,Input_Details!$B$29,0)=\"\", \"-\", OFFSET('Raw Data'!BD20,Input_Details!$B$29,0))","v":0},{"$f":"IF(OFFSET('Raw Data'!BE20,Input_Details!$B$29,0)=\"\", \"-\", OFFSET('Raw Data'!BE20,Input_Details!$B$29,0))","v":0},{"$f":"IF(OFFSET('Raw Data'!BF20,Input_Details!$B$29,0)=\"\", \"-\", OFFSET('Raw Data'!BF20,Input_Details!$B$29,0))","v":0},1,null,0,8,0,0,1,0,0,0,0,0,0,0,9]
[null,"04:15:00",{"$f":"IF(OFFSET('Raw Data'!H21,Input_Details!$B$29,0)=\"\", \"-\", OFFSET('Raw Data'!H21,Input_Details!$B$29,0))","v":0},{"$f":"IF(OFFSET('Raw Data'!I21,Input_Details!$B$29,0)=\"\", \"-\", OFFSET('Raw Data'!I21,Input_Details!$B$29,0))","v":8},{"$f":"IF(OFFSET('Raw Data'!J21,Input_Details!$B$29,0)=\"\", \"-\", OFFSET('Raw Data'!J21,Input_Details!$B$29,0))","v":0},{"$f":"IF(OFFSET('Raw Data'!K21,Input_Details!$B$29,0)=\"\", \"-\", OFFSET('Raw Data'!K21,Input_Details!$B$29,0))","v":0},{"$f":"IF(OFFSET('Raw Data'!L21,Input_Details!$B$29,0)=\"\", \"-\", OFFSET('Raw Data'!L21,Input_Details!$B$29,0))","v":1},{"$f":"IF(OFFSET('Raw Data'!M21,Input_Details!$B$29,0)=\"\", \"-\", OFFSET('Raw Data'!M21,Input_Details!$B$29,0))","v":0},{"$f":"IF(OFFSET('Raw Data'!N21,Input_Details!$B$29,0)=\"\", \"-\", OFFSET('Raw Data'!N21,Input_Details!$B$29,0))","v":0},{"$f":"IF(OFFSET('Raw Data'!O21,Input_Details!$B$29,0)=\"\", \"-\", OFFSET('Raw Data'!O21,Input_Details!$B$29,0))","v":0},{"$f":"IF(OFFSET('Raw Data'!P21,Input_Details!$B$29,0)=\"\", \"-\", OFFSET('Raw Data'!P21,Input_Details!$B$29,0))","v":0},{"$f":"IF(OFFSET('Raw Data'!Q21,Input_Details!$B$29,0)=\"\", \"-\", OFFSET('Raw Data'!Q21,Input_Details!$B$29,0))","v":0},{"$f":"IF(OFFSET('Raw Data'!R21,Input_Details!$B$29,0)=\"\", \"-\", OFFSET('Raw Data'!R21,Input_Details!$B$29,0))","v":0},{"$f":"IF(OFFSET('Raw Data'!S21,Input_Details!$B$29,0)=\"\", \"-\", OFFSET('Raw Data'!S21,Input_Details!$B$29,0))","v":0},9,null,{"$f":"IF(OFFSET('Raw Data'!AU21,Input_Details!$B$29,0)=\"\", \"-\", OFFSET('Raw Data'!AU21,Input_Details!$B$29,0))","v":0},{"$f":"IF(OFFSET('Raw Data'!AV21,Input_Details!$B$29,0)=\"\", \"-\", OFFSET('Raw Data'!AV21,Input_Details!$B$29,0))","v":1},{"$f":"IF(OFFSET('Raw Data'!AW21,Input_Details!$B$29,0)=\"\", \"-\", OFFSET('Raw Data'!AW21,Input_Details!$B$29,0))","v":0},{"$f":"IF(OFFSET('Raw Data'!AX21,Input_Details!$B$29,0)=\"\", \"-\", OFFSET('Raw Data'!AX21,Input_Details!$B$29,0))","v":0},{"$f":"IF(OFFSET('Raw Data'!AY21,Input_Details!$B$29,0)=\"\", \"-\", OFFSET('Raw Data'!AY21,Input_Details!$B$29,0))","v":0},{"$f":"IF(OFFSET('Raw Data'!AZ21,Input_Details!$B$29,0)=\"\", \"-\", OFFSET('Raw Data'!AZ21,Input_Details!$B$29,0))","v":0},{"$f":"IF(OFFSET('Raw Data'!BA21,Input_Details!$B$29,0)=\"\", \"-\", OFFSET('Raw Data'!BA21,Input_Details!$B$29,0))","v":0},{"$f":"IF(OFFSET('Raw Data'!BB21,Input_Details!$B$29,0)=\"\", \"-\", OFFSET('Raw Data'!BB21,Input_Details!$B$29,0))","v":0},{"$f":"IF(OFFSET('Raw Data'!BC21,Input_Details!$B$29,0)=\"\", \"-\", OFFSET('Raw Data'!BC21,Input_Details!$B$29,0))","v":0},{"$f":"IF(OFFSET('Raw Data'!BD21,Input_Details!$B$29,0)=\"\", \"-\", OFFSET('Raw Data'!BD21,Input_Details!$B$29,0))","v":0},{"$f":"IF(OFFSET('Raw Data'!BE21,Input_Details!$B$29,0)=\"\", \"-\", OFFSET('Raw Data'!BE21,Input_Details!$B$29,0))","v":0},{"$f":"IF(OFFSET('Raw Data'!BF21,Input_Details!$B$29,0)=\"\", \"-\", OFFSET('Raw Data'!BF21,Input_Details!$B$29,0))","v":0},1,null,0,9,0,0,1,0,0,0,0,0,0,0,10]
[null,"04:30:00",{"$f":"IF(OFFSET('Raw Data'!H22,Input_Details!$B$29,0)=\"\", \"-\", OFFSET('Raw Data'!H22,Input_Details!$B$29,0))","v":0},{"$f":"IF(OFFSET('Raw Data'!I22,Input_Details!$B$29,0)=\"\", \"-\", OFFSET('Raw Data'!I22,Input_Details!$B$29,0))","v":7},{"$f":"IF(OFFSET('Raw Data'!J22,Input_Details!$B$29,0)=\"\", \"-\", OFFSET('Raw Data'!J22,Input_Details!$B$29,0))","v":0},{"$f":"IF(OFFSET('Raw Data'!K22,Input_Details!$B$29,0)=\"\", \"-\", OFFSET('Raw Data'!K22,Input_Details!$B$29,0))","v":0},{"$f":"IF(OFFSET('Raw Data'!L22,Input_Details!$B$29,0)=\"\", \"-\", OFFSET('Raw Data'!L22,Input_Details!$B$29,0))","v":0},{"$f":"IF(OFFSET('Raw Data'!M22,Input_Details!$B$29,0)=\"\", \"-\", OFFSET('Raw Data'!M22,Input_Details!$B$29,0))","v":0},{"$f":"IF(OFFSET('Raw Data'!N22,Input_Details!$B$29,0)=\"\", \"-\", OFFSET('Raw Data'!N22,Input_Details!$B$29,0))","v":0},{"$f":"IF(OFFSET('Raw Data'!O22,Input_Details!$B$29,0)=\"\", \"-\", OFFSET('Raw Data'!O22,Input_Details!$B$29,0))","v":0},{"$f":"IF(OFFSET('Raw Data'!P22,Input_Details!$B$29,0)=\"\", \"-\", OFFSET('Raw Data'!P22,Input_Details!$B$29,0))","v":0},{"$f":"IF(OFFSET('Raw Data'!Q22,Input_Details!$B$29,0)=\"\", \"-\", OFFSET('Raw Data'!Q22,Input_Details!$B$29,0))","v":0},{"$f":"IF(OFFSET('Raw Data'!R22,Input_Details!$B$29,0)=\"\", \"-\", OFFSET('Raw Data'!R22,Input_Details!$B$29,0))","v":0},{"$f":"IF(OFFSET('Raw Data'!S22,Input_Details!$B$29,0)=\"\", \"-\", OFFSET('Raw Data'!S22,Input_Details!$B$29,0))","v":0},7,null,{"$f":"IF(OFFSET('Raw Data'!AU22,Input_Details!$B$29,0)=\"\", \"-\", OFFSET('Raw Data'!AU22,Input_Details!$B$29,0))","v":0},{"$f":"IF(OFFSET('Raw Data'!AV22,Input_Details!$B$29,0)=\"\", \"-\", OFFSET('Raw Data'!AV22,Input_Details!$B$29,0))","v":2},{"$f":"IF(OFFSET('Raw Data'!AW22,Input_Details!$B$29,0)=\"\", \"-\", OFFSET('Raw Data'!AW22,Input_Details!$B$29,0))","v":0},{"$f":"IF(OFFSET('Raw Data'!AX22,Input_Details!$B$29,0)=\"\", \"-\", OFFSET('Raw Data'!AX22,Input_Details!$B$29,0))","v":0},{"$f":"IF(OFFSET('Raw Data'!AY22,Input_Details!$B$29,0)=\"\", \"-\", OFFSET('Raw Data'!AY22,Input_Details!$B$29,0))","v":0},{"$f":"IF(OFFSET('Raw Data'!AZ22,Input_Details!$B$29,0)=\"\", \"-\", OFFSET('Raw Data'!AZ22,Input_Details!$B$29,0))","v":0},{"$f":"IF(OFFSET('Raw Data'!BA22,Input_Details!$B$29,0)=\"\", \"-\", OFFSET('Raw Data'!BA22,Input_Details!$B$29,0))","v":0},{"$f":"IF(OFFSET('Raw Data'!BB22,Input_Details!$B$29,0)=\"\", \"-\", OFFSET('Raw Data'!BB22,Input_Details!$B$29,0))","v":0},{"$f":"IF(OFFSET('Raw Data'!BC22,Input_Details!$B$29,0)=\"\", \"-\", OFFSET('Raw Data'!BC22,Input_Details!$B$29,0))","v":0},{"$f":"IF(OFFSET('Raw Data'!BD22,Input_Details!$B$29,0)=\"\", \"-\", OFFSET('Raw Data'!BD22,Input_Details!$B$29,0))","v":0},{"$f":"IF(OFFSET('Raw Data'!BE22,Input_Details!$B$29,0)=\"\", \"-\", OFFSET('Raw Data'!BE22,Input_Details!$B$29,0))","v":0},{"$f":"IF(OFFSET('Raw Data'!BF22,Input_Details!$B$29,0)=\"\", \"-\", OFFSET('Raw Data'!BF22,Input_Details!$B$29,0))","v":0},2,null,0,9,0,0,0,0,0,0,0,0,0,0,9]
[null,"04:45:00",{"$f":"IF(OFFSET('Raw Data'!H23,Input_Details!$B$29,0)=\"\", \"-\", OFFSET('Raw Data'!H23,Input_Details!$B$29,0))","v":1},{"$f":"IF(OFFSET('Raw Data'!I23,Input_Details!$B$29,0)=\"\", \"-\", OFFSET('Raw Data'!I23,Input_Details!$B$29,0))","v":6},{"$f":"IF(OFFSET('Raw Data'!J23,Input_Details!$B$29,0)=\"\", \"-\", OFFSET('Raw Data'!J23,Input_Details!$B$29,0))","v":0},{"$f":"IF(OFFSET('Raw Data'!K23,Input_Details!$B$29,0)=\"\", \"-\", OFFSET('Raw Data'!K23,Input_Details!$B$29,0))","v":1},{"$f":"IF(OFFSET('Raw Data'!L23,Input_Details!$B$29,0)=\"\", \"-\", OFFSET('Raw Data'!L23,Input_Details!$B$29,0))","v":0},{"$f":"IF(OFFSET('Raw Data'!M23,Input_Details!$B$29,0)=\"\", \"-\", OFFSET('Raw Data'!M23,Input_Details!$B$29,0))","v":0},{"$f":"IF(OFFSET('Raw Data'!N23,Input_Details!$B$29,0)=\"\", \"-\", OFFSET('Raw Data'!N23,Input_Details!$B$29,0))","v":0},{"$f":"IF(OFFSET('Raw Data'!O23,Input_Details!$B$29,0)=\"\", \"-\", OFFSET('Raw Data'!O23,Input_Details!$B$29,0))","v":0},{"$f":"IF(OFFSET('Raw Data'!P23,Input_Details!$B$29,0)=\"\", \"-\", OFFSET('Raw Data'!P23,Input_Details!$B$29,0))","v":0},{"$f":"IF(OFFSET('Raw Data'!Q23,Input_Details!$B$29,0)=\"\", \"-\", OFFSET('Raw Data'!Q23,Input_Details!$B$29,0))","v":0},{"$f":"IF(OFFSET('Raw Data'!R23,Input_Details!$B$29,0)=\"\", \"-\", OFFSET('Raw Data'!R23,Input_Details!$B$29,0))","v":0},{"$f":"IF(OFFSET('Raw Data'!S23,Input_Details!$B$29,0)=\"\", \"-\", OFFSET('Raw Data'!S23,Input_Details!$B$29,0))","v":0},8,null,{"$f":"IF(OFFSET('Raw Data'!AU23,Input_Details!$B$29,0)=\"\", \"-\", OFFSET('Raw Data'!AU23,Input_Details!$B$29,0))","v":2},{"$f":"IF(OFFSET('Raw Data'!AV23,Input_Details!$B$29,0)=\"\", \"-\", OFFSET('Raw Data'!AV23,Input_Details!$B$29,0))","v":3},{"$f":"IF(OFFSET('Raw Data'!AW23,Input_Details!$B$29,0)=\"\", \"-\", OFFSET('Raw Data'!AW23,Input_Details!$B$29,0))","v":0},{"$f":"IF(OFFSET('Raw Data'!AX23,Input_Details!$B$29,0)=\"\", \"-\", OFFSET('Raw Data'!AX23,Input_Details!$B$29,0))","v":0},{"$f":"IF(OFFSET('Raw Data'!AY23,Input_Details!$B$29,0)=\"\", \"-\", OFFSET('Raw Data'!AY23,Input_Details!$B$29,0))","v":0},{"$f":"IF(OFFSET('Raw Data'!AZ23,Input_Details!$B$29,0)=\"\", \"-\", OFFSET('Raw Data'!AZ23,Input_Details!$B$29,0))","v":0},{"$f":"IF(OFFSET('Raw Data'!BA23,Input_Details!$B$29,0)=\"\", \"-\", OFFSET('Raw Data'!BA23,Input_Details!$B$29,0))","v":0},{"$f":"IF(OFFSET('Raw Data'!BB23,Input_Details!$B$29,0)=\"\", \"-\", OFFSET('Raw Data'!BB23,Input_Details!$B$29,0))","v":0},{"$f":"IF(OFFSET('Raw Data'!BC23,Input_Details!$B$29,0)=\"\", \"-\", OFFSET('Raw Data'!BC23,Input_Details!$B$29,0))","v":0},{"$f":"IF(OFFSET('Raw Data'!BD23,Input_Details!$B$29,0)=\"\", \"-\", OFFSET('Raw Data'!BD23,Input_Details!$B$29,0))","v":0},{"$f":"IF(OFFSET('Raw Data'!BE23,Input_Details!$B$29,0)=\"\", \"-\", OFFSET('Raw Data'!BE23,Input_Details!$B$29,0))","v":0},{"$f":"IF(OFFSET('Raw Data'!BF23,Input_Details!$B$29,0)=\"\", \"-\", OFFSET('Raw Data'!BF23,Input_Details!$B$29,0))","v":0},5,null,3,9,0,1,0,0,0,0,0,0,0,0,13]
[null,"05:00:00",{"$f":"IF(OFFSET('Raw Data'!H24,Input_Details!$B$29,0)=\"\", \"-\", OFFSET('Raw Data'!H24,Input_Details!$B$29,0))","v":0},{"$f":"IF(OFFSET('Raw Data'!I24,Input_Details!$B$29,0)=\"\", \"-\", OFFSET('Raw Data'!I24,Input_Details!$B$29,0))","v":9},{"$f":"IF(OFFSET('Raw Data'!J24,Input_Details!$B$29,0)=\"\", \"-\", OFFSET('Raw Data'!J24,Input_Details!$B$29,0))","v":0},{"$f":"IF(OFFSET('Raw Data'!K24,Input_Details!$B$29,0)=\"\", \"-\", OFFSET('Raw Data'!K24,Input_Details!$B$29,0))","v":1},{"$f":"IF(OFFSET('Raw Data'!L24,Input_Details!$B$29,0)=\"\", \"-\", OFFSET('Raw Data'!L24,Input_Details!$B$29,0))","v":1},{"$f":"IF(OFFSET('Raw Data'!M24,Input_Details!$B$29,0)=\"\", \"-\", OFFSET('Raw Data'!M24,Input_Details!$B$29,0))","v":0},{"$f":"IF(OFFSET('Raw Data'!N24,Input_Details!$B$29,0)=\"\", \"-\", OFFSET('Raw Data'!N24,Input_Details!$B$29,0))","v":0},{"$f":"IF(OFFSET('Raw Data'!O24,Input_Details!$B$29,0)=\"\", \"-\", OFFSET('Raw Data'!O24,Input_Details!$B$29,0))","v":0},{"$f":"IF(OFFSET('Raw Data'!P24,Input_Details!$B$29,0)=\"\", \"-\", OFFSET('Raw Data'!P24,Input_Details!$B$29,0))","v":0},{"$f":"IF(OFFSET('Raw Data'!Q24,Input_Details!$B$29,0)=\"\", \"-\", OFFSET('Raw Data'!Q24,Input_Details!$B$29,0))","v":0},{"$f":"IF(OFFSET('Raw Data'!R24,Input_Details!$B$29,0)=\"\", \"-\", OFFSET('Raw Data'!R24,Input_Details!$B$29,0))","v":0},{"$f":"IF(OFFSET('Raw Data'!S24,Input_Details!$B$29,0)=\"\", \"-\", OFFSET('Raw Data'!S24,Input_Details!$B$29,0))","v":0},11,null,{"$f":"IF(OFFSET('Raw Data'!AU24,Input_Details!$B$29,0)=\"\", \"-\", OFFSET('Raw Data'!AU24,Input_Details!$B$29,0))","v":1},{"$f":"IF(OFFSET('Raw Data'!AV24,Input_Details!$B$29,0)=\"\", \"-\", OFFSET('Raw Data'!AV24,Input_Details!$B$29,0))","v":3},{"$f":"IF(OFFSET('Raw Data'!AW24,Input_Details!$B$29,0)=\"\", \"-\", OFFSET('Raw Data'!AW24,Input_Details!$B$29,0))","v":0},{"$f":"IF(OFFSET('Raw Data'!AX24,Input_Details!$B$29,0)=\"\", \"-\", OFFSET('Raw Data'!AX24,Input_Details!$B$29,0))","v":0},{"$f":"IF(OFFSET('Raw Data'!AY24,Input_Details!$B$29,0)=\"\", \"-\", OFFSET('Raw Data'!AY24,Input_Details!$B$29,0))","v":0},{"$f":"IF(OFFSET('Raw Data'!AZ24,Input_Details!$B$29,0)=\"\", \"-\", OFFSET('Raw Data'!AZ24,Input_Details!$B$29,0))","v":0},{"$f":"IF(OFFSET('Raw Data'!BA24,Input_Details!$B$29,0)=\"\", \"-\", OFFSET('Raw Data'!BA24,Input_Details!$B$29,0))","v":0},{"$f":"IF(OFFSET('Raw Data'!BB24,Input_Details!$B$29,0)=\"\", \"-\", OFFSET('Raw Data'!BB24,Input_Details!$B$29,0))","v":0},{"$f":"IF(OFFSET('Raw Data'!BC24,Input_Details!$B$29,0)=\"\", \"-\", OFFSET('Raw Data'!BC24,Input_Details!$B$29,0))","v":0},{"$f":"IF(OFFSET('Raw Data'!BD24,Input_Details!$B$29,0)=\"\", \"-\", OFFSET('Raw Data'!BD24,Input_Details!$B$29,0))","v":0},{"$f":"IF(OFFSET('Raw Data'!BE24,Input_Details!$B$29,0)=\"\", \"-\", OFFSET('Raw Data'!BE24,Input_Details!$B$29,0))","v":0},{"$f":"IF(OFFSET('Raw Data'!BF24,Input_Details!$B$29,0)=\"\", \"-\", OFFSET('Raw Data'!BF24,Input_Details!$B$29,0))","v":0},4,null,1,12,0,1,1,0,0,0,0,0,0,0,15]
[null,"05:15:00",{"$f":"IF(OFFSET('Raw Data'!H25,Input_Details!$B$29,0)=\"\", \"-\", OFFSET('Raw Data'!H25,Input_Details!$B$29,0))","v":1},{"$f":"IF(OFFSET('Raw Data'!I25,Input_Details!$B$29,0)=\"\", \"-\", OFFSET('Raw Data'!I25,Input_Details!$B$29,0))","v":9},{"$f":"IF(OFFSET('Raw Data'!J25,Input_Details!$B$29,0)=\"\", \"-\", OFFSET('Raw Data'!J25,Input_Details!$B$29,0))","v":0},{"$f":"IF(OFFSET('Raw Data'!K25,Input_Details!$B$29,0)=\"\", \"-\", OFFSET('Raw Data'!K25,Input_Details!$B$29,0))","v":1},{"$f":"IF(OFFSET('Raw Data'!L25,Input_Details!$B$29,0)=\"\", \"-\", OFFSET('Raw Data'!L25,Input_Details!$B$29,0))","v":1},{"$f":"IF(OFFSET('Raw Data'!M25,Input_Details!$B$29,0)=\"\", \"-\", OFFSET('Raw Data'!M25,Input_Details!$B$29,0))","v":0},{"$f":"IF(OFFSET('Raw Data'!N25,Input_Details!$B$29,0)=\"\", \"-\", OFFSET('Raw Data'!N25,Input_Details!$B$29,0))","v":0},{"$f":"IF(OFFSET('Raw Data'!O25,Input_Details!$B$29,0)=\"\", \"-\", OFFSET('Raw Data'!O25,Input_Details!$B$29,0))","v":0},{"$f":"IF(OFFSET('Raw Data'!P25,Input_Details!$B$29,0)=\"\", \"-\", OFFSET('Raw Data'!P25,Input_Details!$B$29,0))","v":0},{"$f":"IF(OFFSET('Raw Data'!Q25,Input_Details!$B$29,0)=\"\", \"-\", OFFSET('Raw Data'!Q25,Input_Details!$B$29,0))","v":0},{"$f":"IF(OFFSET('Raw Data'!R25,Input_Details!$B$29,0)=\"\", \"-\", OFFSET('Raw Data'!R25,Input_Details!$B$29,0))","v":0},{"$f":"IF(OFFSET('Raw Data'!S25,Input_Details!$B$29,0)=\"\", \"-\", OFFSET('Raw Data'!S25,Input_Details!$B$29,0))","v":0},12,null,{"$f":"IF(OFFSET('Raw Data'!AU25,Input_Details!$B$29,0)=\"\", \"-\", OFFSET('Raw Data'!AU25,Input_Details!$B$29,0))","v":1},{"$f":"IF(OFFSET('Raw Data'!AV25,Input_Details!$B$29,0)=\"\", \"-\", OFFSET('Raw Data'!AV25,Input_Details!$B$29,0))","v":3},{"$f":"IF(OFFSET('Raw Data'!AW25,Input_Details!$B$29,0)=\"\", \"-\", OFFSET('Raw Data'!AW25,Input_Details!$B$29,0))","v":0},{"$f":"IF(OFFSET('Raw Data'!AX25,Input_Details!$B$29,0)=\"\", \"-\", OFFSET('Raw Data'!AX25,Input_Details!$B$29,0))","v":0},{"$f":"IF(OFFSET('Raw Data'!AY25,Input_Details!$B$29,0)=\"\", \"-\", OFFSET('Raw Data'!AY25,Input_Details!$B$29,0))","v":0},{"$f":"IF(OFFSET('Raw Data'!AZ25,Input_Details!$B$29,0)=\"\", \"-\", OFFSET('Raw Data'!AZ25,Input_Details!$B$29,0))","v":0},{"$f":"IF(OFFSET('Raw Data'!BA25,Input_Details!$B$29,0)=\"\", \"-\", OFFSET('Raw Data'!BA25,Input_Details!$B$29,0))","v":0},{"$f":"IF(OFFSET('Raw Data'!BB25,Input_Details!$B$29,0)=\"\", \"-\", OFFSET('Raw Data'!BB25,Input_Details!$B$29,0))","v":0},{"$f":"IF(OFFSET('Raw Data'!BC25,Input_Details!$B$29,0)=\"\", \"-\", OFFSET('Raw Data'!BC25,Input_Details!$B$29,0))","v":0},{"$f":"IF(OFFSET('Raw Data'!BD25,Input_Details!$B$29,0)=\"\", \"-\", OFFSET('Raw Data'!BD25,Input_Details!$B$29,0))","v":0},{"$f":"IF(OFFSET('Raw Data'!BE25,Input_Details!$B$29,0)=\"\", \"-\", OFFSET('Raw Data'!BE25,Input_Details!$B$29,0))","v":0},{"$f":"IF(OFFSET('Raw Data'!BF25,Input_Details!$B$29,0)=\"\", \"-\", OFFSET('Raw Data'!BF25,Input_Details!$B$29,0))","v":0},4,null,2,12,0,1,1,0,0,0,0,0,0,0,16]
[null,"05:30:00",{"$f":"IF(OFFSET('Raw Data'!H26,Input_Details!$B$29,0)=\"\", \"-\", OFFSET('Raw Data'!H26,Input_Details!$B$29,0))","v":0},{"$f":"IF(OFFSET('Raw Data'!I26,Input_Details!$B$29,0)=\"\", \"-\", OFFSET('Raw Data'!I26,Input_Details!$B$29,0))","v":9},{"$f":"IF(OFFSET('Raw Data'!J26,Input_Details!$B$29,0)=\"\", \"-\", OFFSET('Raw Data'!J26,Input_Details!$B$29,0))","v":0},{"$f":"IF(OFFSET('Raw Data'!K26,Input_Details!$B$29,0)=\"\", \"-\", OFFSET('Raw Data'!K26,Input_Details!$B$29,0))","v":0},{"$f":"IF(OFFSET('Raw Data'!L26,Input_Details!$B$29,0)=\"\", \"-\", OFFSET('Raw Data'!L26,Input_Details!$B$29,0))","v":0},{"$f":"IF(OFFSET('Raw Data'!M26,Input_Details!$B$29,0)=\"\", \"-\", OFFSET('Raw Data'!M26,Input_Details!$B$29,0))","v":0},{"$f":"IF(OFFSET('Raw Data'!N26,Input_Details!$B$29,0)=\"\", \"-\", OFFSET('Raw Data'!N26,Input_Details!$B$29,0))","v":0},{"$f":"IF(OFFSET('Raw Data'!O26,Input_Details!$B$29,0)=\"\", \"-\", OFFSET('Raw Data'!O26,Input_Details!$B$29,0))","v":0},{"$f":"IF(OFFSET('Raw Data'!P26,Input_Details!$B$29,0)=\"\", \"-\", OFFSET('Raw Data'!P26,Input_Details!$B$29,0))","v":0},{"$f":"IF(OFFSET('Raw Data'!Q26,Input_Details!$B$29,0)=\"\", \"-\", OFFSET('Raw Data'!Q26,Input_Details!$B$29,0))","v":0},{"$f":"IF(OFFSET('Raw Data'!R26,Input_Details!$B$29,0)=\"\", \"-\", OFFSET('Raw Data'!R26,Input_Details!$B$29,0))","v":0},{"$f":"IF(OFFSET('Raw Data'!S26,Input_Details!$B$29,0)=\"\", \"-\", OFFSET('Raw Data'!S26,Input_Details!$B$29,0))","v":0},9,null,{"$f":"IF(OFFSET('Raw Data'!AU26,Input_Details!$B$29,0)=\"\", \"-\", OFFSET('Raw Data'!AU26,Input_Details!$B$29,0))","v":2},{"$f":"IF(OFFSET('Raw Data'!AV26,Input_Details!$B$29,0)=\"\", \"-\", OFFSET('Raw Data'!AV26,Input_Details!$B$29,0))","v":2},{"$f":"IF(OFFSET('Raw Data'!AW26,Input_Details!$B$29,0)=\"\", \"-\", OFFSET('Raw Data'!AW26,Input_Details!$B$29,0))","v":0},{"$f":"IF(OFFSET('Raw Data'!AX26,Input_Details!$B$29,0)=\"\", \"-\", OFFSET('Raw Data'!AX26,Input_Details!$B$29,0))","v":0},{"$f":"IF(OFFSET('Raw Data'!AY26,Input_Details!$B$29,0)=\"\", \"-\", OFFSET('Raw Data'!AY26,Input_Details!$B$29,0))","v":1},{"$f":"IF(OFFSET('Raw Data'!AZ26,Input_Details!$B$29,0)=\"\", \"-\", OFFSET('Raw Data'!AZ26,Input_Details!$B$29,0))","v":0},{"$f":"IF(OFFSET('Raw Data'!BA26,Input_Details!$B$29,0)=\"\", \"-\", OFFSET('Raw Data'!BA26,Input_Details!$B$29,0))","v":0},{"$f":"IF(OFFSET('Raw Data'!BB26,Input_Details!$B$29,0)=\"\", \"-\", OFFSET('Raw Data'!BB26,Input_Details!$B$29,0))","v":0},{"$f":"IF(OFFSET('Raw Data'!BC26,Input_Details!$B$29,0)=\"\", \"-\", OFFSET('Raw Data'!BC26,Input_Details!$B$29,0))","v":0},{"$f":"IF(OFFSET('Raw Data'!BD26,Input_Details!$B$29,0)=\"\", \"-\", OFFSET('Raw Data'!BD26,Input_Details!$B$29,0))","v":0},{"$f":"IF(OFFSET('Raw Data'!BE26,Input_Details!$B$29,0)=\"\", \"-\", OFFSET('Raw Data'!BE26,Input_Details!$B$29,0))","v":0},{"$f":"IF(OFFSET('Raw Data'!BF26,Input_Details!$B$29,0)=\"\", \"-\", OFFSET('Raw Data'!BF26,Input_Details!$B$29,0))","v":0},5,null,2,11,0,0,1,0,0,0,0,0,0,0,14]
[null,"05:45:00",{"$f":"IF(OFFSET('Raw Data'!H27,Input_Details!$B$29,0)=\"\", \"-\", OFFSET('Raw Data'!H27,Input_Details!$B$29,0))","v":0},{"$f":"IF(OFFSET('Raw Data'!I27,Input_Details!$B$29,0)=\"\", \"-\", OFFSET('Raw Data'!I27,Input_Details!$B$29,0))","v":13},{"$f":"IF(OFFSET('Raw Data'!J27,Input_Details!$B$29,0)=\"\", \"-\", OFFSET('Raw Data'!J27,Input_Details!$B$29,0))","v":0},{"$f":"IF(OFFSET('Raw Data'!K27,Input_Details!$B$29,0)=\"\", \"-\", OFFSET('Raw Data'!K27,Input_Details!$B$29,0))","v":1},{"$f":"IF(OFFSET('Raw Data'!L27,Input_Details!$B$29,0)=\"\", \"-\", OFFSET('Raw Data'!L27,Input_Details!$B$29,0))","v":1},{"$f":"IF(OFFSET('Raw Data'!M27,Input_Details!$B$29,0)=\"\", \"-\", OFFSET('Raw Data'!M27,Input_Details!$B$29,0))","v":0},{"$f":"IF(OFFSET('Raw Data'!N27,Input_Details!$B$29,0)=\"\", \"-\", OFFSET('Raw Data'!N27,Input_Details!$B$29,0))","v":0},{"$f":"IF(OFFSET('Raw Data'!O27,Input_Details!$B$29,0)=\"\", \"-\", OFFSET('Raw Data'!O27,Input_Details!$B$29,0))","v":0},{"$f":"IF(OFFSET('Raw Data'!P27,Input_Details!$B$29,0)=\"\", \"-\", OFFSET('Raw Data'!P27,Input_Details!$B$29,0))","v":0},{"$f":"IF(OFFSET('Raw Data'!Q27,Input_Details!$B$29,0)=\"\", \"-\", OFFSET('Raw Data'!Q27,Input_Details!$B$29,0))","v":0},{"$f":"IF(OFFSET('Raw Data'!R27,Input_Details!$B$29,0)=\"\", \"-\", OFFSET('Raw Data'!R27,Input_Details!$B$29,0))","v":0},{"$f":"IF(OFFSET('Raw Data'!S27,Input_Details!$B$29,0)=\"\", \"-\", OFFSET('Raw Data'!S27,Input_Details!$B$29,0))","v":0},15,null,{"$f":"IF(OFFSET('Raw Data'!AU27,Input_Details!$B$29,0)=\"\", \"-\", OFFSET('Raw Data'!AU27,Input_Details!$B$29,0))","v":3},{"$f":"IF(OFFSET('Raw Data'!AV27,Input_Details!$B$29,0)=\"\", \"-\", OFFSET('Raw Data'!AV27,Input_Details!$B$29,0))","v":3},{"$f":"IF(OFFSET('Raw Data'!AW27,Input_Details!$B$29,0)=\"\", \"-\", OFFSET('Raw Data'!AW27,Input_Details!$B$29,0))","v":0},{"$f":"IF(OFFSET('Raw Data'!AX27,Input_Details!$B$29,0)=\"\", \"-\", OFFSET('Raw Data'!AX27,Input_Details!$B$29,0))","v":0},{"$f":"IF(OFFSET('Raw Data'!AY27,Input_Details!$B$29,0)=\"\", \"-\", OFFSET('Raw Data'!AY27,Input_Details!$B$29,0))","v":0},{"$f":"IF(OFFSET('Raw Data'!AZ27,Input_Details!$B$29,0)=\"\", \"-\", OFFSET('Raw Data'!AZ27,Input_Details!$B$29,0))","v":0},{"$f":"IF(OFFSET('Raw Data'!BA27,Input_Details!$B$29,0)=\"\", \"-\", OFFSET('Raw Data'!BA27,Input_Details!$B$29,0))","v":0},{"$f":"IF(OFFSET('Raw Data'!BB27,Input_Details!$B$29,0)=\"\", \"-\", OFFSET('Raw Data'!BB27,Input_Details!$B$29,0))","v":0},{"$f":"IF(OFFSET('Raw Data'!BC27,Input_Details!$B$29,0)=\"\", \"-\", OFFSET('Raw Data'!BC27,Input_Details!$B$29,0))","v":0},{"$f":"IF(OFFSET('Raw Data'!BD27,Input_Details!$B$29,0)=\"\", \"-\", OFFSET('Raw Data'!BD27,Input_Details!$B$29,0))","v":0},{"$f":"IF(OFFSET('Raw Data'!BE27,Input_Details!$B$29,0)=\"\", \"-\", OFFSET('Raw Data'!BE27,Input_Details!$B$29,0))","v":0},{"$f":"IF(OFFSET('Raw Data'!BF27,Input_Details!$B$29,0)=\"\", \"-\", OFFSET('Raw Data'!BF27,Input_Details!$B$29,0))","v":0},6,null,3,16,0,1,1,0,0,0,0,0,0,0,21]
[null,"06:00:00",{"$f":"IF(OFFSET('Raw Data'!H28,Input_Details!$B$29,0)=\"\", \"-\", OFFSET('Raw Data'!H28,Input_Details!$B$29,0))","v":0},{"$f":"IF(OFFSET('Raw Data'!I28,Input_Details!$B$29,0)=\"\", \"-\", OFFSET('Raw Data'!I28,Input_Details!$B$29,0))","v":14},{"$f":"IF(OFFSET('Raw Data'!J28,Input_Details!$B$29,0)=\"\", \"-\", OFFSET('Raw Data'!J28,Input_Details!$B$29,0))","v":0},{"$f":"IF(OFFSET('Raw Data'!K28,Input_Details!$B$29,0)=\"\", \"-\", OFFSET('Raw Data'!K28,Input_Details!$B$29,0))","v":2},{"$f":"IF(OFFSET('Raw Data'!L28,Input_Details!$B$29,0)=\"\", \"-\", OFFSET('Raw Data'!L28,Input_Details!$B$29,0))","v":1},{"$f":"IF(OFFSET('Raw Data'!M28,Input_Details!$B$29,0)=\"\", \"-\", OFFSET('Raw Data'!M28,Input_Details!$B$29,0))","v":0},{"$f":"IF(OFFSET('Raw Data'!N28,Input_Details!$B$29,0)=\"\", \"-\", OFFSET('Raw Data'!N28,Input_Details!$B$29,0))","v":0},{"$f":"IF(OFFSET('Raw Data'!O28,Input_Details!$B$29,0)=\"\", \"-\", OFFSET('Raw Data'!O28,Input_Details!$B$29,0))","v":0},{"$f":"IF(OFFSET('Raw Data'!P28,Input_Details!$B$29,0)=\"\", \"-\", OFFSET('Raw Data'!P28,Input_Details!$B$29,0))","v":0},{"$f":"IF(OFFSET('Raw Data'!Q28,Input_Details!$B$29,0)=\"\", \"-\", OFFSET('Raw Data'!Q28,Input_Details!$B$29,0))","v":0},{"$f":"IF(OFFSET('Raw Data'!R28,Input_Details!$B$29,0)=\"\", \"-\", OFFSET('Raw Data'!R28,Input_Details!$B$29,0))","v":0},{"$f":"IF(OFFSET('Raw Data'!S28,Input_Details!$B$29,0)=\"\", \"-\", OFFSET('Raw Data'!S28,Input_Details!$B$29,0))","v":0},17,null,{"$f":"IF(OFFSET('Raw Data'!AU28,Input_Details!$B$29,0)=\"\", \"-\", OFFSET('Raw Data'!AU28,Input_Details!$B$29,0))","v":2},{"$f":"IF(OFFSET('Raw Data'!AV28,Input_Details!$B$29,0)=\"\", \"-\", OFFSET('Raw Data'!AV28,Input_Details!$B$29,0))","v":4},{"$f":"IF(OFFSET('Raw Data'!AW28,Input_Details!$B$29,0)=\"\", \"-\", OFFSET('Raw Data'!AW28,Input_Details!$B$29,0))","v":0},{"$f":"IF(OFFSET('Raw Data'!AX28,Input_Details!$B$29,0)=\"\", \"-\", OFFSET('Raw Data'!AX28,Input_Details!$B$29,0))","v":0},{"$f":"IF(OFFSET('Raw Data'!AY28,Input_Details!$B$29,0)=\"\", \"-\", OFFSET('Raw Data'!AY28,Input_Details!$B$29,0))","v":0},{"$f":"IF(OFFSET('Raw Data'!AZ28,Input_Details!$B$29,0)=\"\", \"-\", OFFSET('Raw Data'!AZ28,Input_Details!$B$29,0))","v":0},{"$f":"IF(OFFSET('Raw Data'!BA28,Input_Details!$B$29,0)=\"\", \"-\", OFFSET('Raw Data'!BA28,Input_Details!$B$29,0))","v":0},{"$f":"IF(OFFSET('Raw Data'!BB28,Input_Details!$B$29,0)=\"\", \"-\", OFFSET('Raw Data'!BB28,Input_Details!$B$29,0))","v":0},{"$f":"IF(OFFSET('Raw Data'!BC28,Input_Details!$B$29,0)=\"\", \"-\", OFFSET('Raw Data'!BC28,Input_Details!$B$29,0))","v":0},{"$f":"IF(OFFSET('Raw Data'!BD28,Input_Details!$B$29,0)=\"\", \"-\", OFFSET('Raw Data'!BD28,Input_Details!$B$29,0))","v":0},{"$f":"IF(OFFSET('Raw Data'!BE28,Input_Details!$B$29,0)=\"\", \"-\", OFFSET('Raw Data'!BE28,Input_Details!$B$29,0))","v":0},{"$f":"IF(OFFSET('Raw Data'!BF28,Input_Details!$B$29,0)=\"\", \"-\", OFFSET('Raw Data'!BF28,Input_Details!$B$29,0))","v":0},6,null,2,18,0,2,1,0,0,0,0,0,0,0,23]
[null,"06:15:00",{"$f":"IF(OFFSET('Raw Data'!H29,Input_Details!$B$29,0)=\"\", \"-\", OFFSET('Raw Data'!H29,Input_Details!$B$29,0))","v":1},{"$f":"IF(OFFSET('Raw Data'!I29,Input_Details!$B$29,0)=\"\", \"-\", OFFSET('Raw Data'!I29,Input_Details!$B$29,0))","v":20},{"$f":"IF(OFFSET('Raw Data'!J29,Input_Details!$B$29,0)=\"\", \"-\", OFFSET('Raw Data'!J29,Input_Details!$B$29,0))","v":0},{"$f":"IF(OFFSET('Raw Data'!K29,Input_Details!$B$29,0)=\"\", \"-\", OFFSET('Raw Data'!K29,Input_Details!$B$29,0))","v":2},{"$f":"IF(OFFSET('Raw Data'!L29,Input_Details!$B$29,0)=\"\", \"-\", OFFSET('Raw Data'!L29,Input_Details!$B$29,0))","v":1},{"$f":"IF(OFFSET('Raw Data'!M29,Input_Details!$B$29,0)=\"\", \"-\", OFFSET('Raw Data'!M29,Input_Details!$B$29,0))","v":0},{"$f":"IF(OFFSET('Raw Data'!N29,Input_Details!$B$29,0)=\"\", \"-\", OFFSET('Raw Data'!N29,Input_Details!$B$29,0))","v":0},{"$f":"IF(OFFSET('Raw Data'!O29,Input_Details!$B$29,0)=\"\", \"-\", OFFSET('Raw Data'!O29,Input_Details!$B$29,0))","v":0},{"$f":"IF(OFFSET('Raw Data'!P29,Input_Details!$B$29,0)=\"\", \"-\", OFFSET('Raw Data'!P29,Input_Details!$B$29,0))","v":0},{"$f":"IF(OFFSET('Raw Data'!Q29,Input_Details!$B$29,0)=\"\", \"-\", OFFSET('Raw Data'!Q29,Input_Details!$B$29,0))","v":0},{"$f":"IF(OFFSET('Raw Data'!R29,Input_Details!$B$29,0)=\"\", \"-\", OFFSET('Raw Data'!R29,Input_Details!$B$29,0))","v":0},{"$f":"IF(OFFSET('Raw Data'!S29,Input_Details!$B$29,0)=\"\", \"-\", OFFSET('Raw Data'!S29,Input_Details!$B$29,0))","v":0},24,null,{"$f":"IF(OFFSET('Raw Data'!AU29,Input_Details!$B$29,0)=\"\", \"-\", OFFSET('Raw Data'!AU29,Input_Details!$B$29,0))","v":3},{"$f":"IF(OFFSET('Raw Data'!AV29,Input_Details!$B$29,0)=\"\", \"-\", OFFSET('Raw Data'!AV29,Input_Details!$B$29,0))","v":5},{"$f":"IF(OFFSET('Raw Data'!AW29,Input_Details!$B$29,0)=\"\", \"-\", OFFSET('Raw Data'!AW29,Input_Details!$B$29,0))","v":0},{"$f":"IF(OFFSET('Raw Data'!AX29,Input_Details!$B$29,0)=\"\", \"-\", OFFSET('Raw Data'!AX29,Input_Details!$B$29,0))","v":0},{"$f":"IF(OFFSET('Raw Data'!AY29,Input_Details!$B$29,0)=\"\", \"-\", OFFSET('Raw Data'!AY29,Input_Details!$B$29,0))","v":0},{"$f":"IF(OFFSET('Raw Data'!AZ29,Input_Details!$B$29,0)=\"\", \"-\", OFFSET('Raw Data'!AZ29,Input_Details!$B$29,0))","v":0},{"$f":"IF(OFFSET('Raw Data'!BA29,Input_Details!$B$29,0)=\"\", \"-\", OFFSET('Raw Data'!BA29,Input_Details!$B$29,0))","v":0},{"$f":"IF(OFFSET('Raw Data'!BB29,Input_Details!$B$29,0)=\"\", \"-\", OFFSET('Raw Data'!BB29,Input_Details!$B$29,0))","v":0},{"$f":"IF(OFFSET('Raw Data'!BC29,Input_Details!$B$29,0)=\"\", \"-\", OFFSET('Raw Data'!BC29,Input_Details!$B$29,0))","v":0},{"$f":"IF(OFFSET('Raw Data'!BD29,Input_Details!$B$29,0)=\"\", \"-\", OFFSET('Raw Data'!BD29,Input_Details!$B$29,0))","v":0},{"$f":"IF(OFFSET('Raw Data'!BE29,Input_Details!$B$29,0)=\"\", \"-\", OFFSET('Raw Data'!BE29,Input_Details!$B$29,0))","v":0},{"$f":"IF(OFFSET('Raw Data'!BF29,Input_Details!$B$29,0)=\"\", \"-\", OFFSET('Raw Data'!BF29,Input_Details!$B$29,0))","v":0},8,null,4,25,0,2,1,0,0,0,0,0,0,0,32]
[null,"06:30:00",{"$f":"IF(OFFSET('Raw Data'!H30,Input_Details!$B$29,0)=\"\", \"-\", OFFSET('Raw Data'!H30,Input_Details!$B$29,0))","v":0},{"$f":"IF(OFFSET('Raw Data'!I30,Input_Details!$B$29,0)=\"\", \"-\", OFFSET('Raw Data'!I30,Input_Details!$B$29,0))","v":25},{"$f":"IF(OFFSET('Raw Data'!J30,Input_Details!$B$29,0)=\"\", \"-\", OFFSET('Raw Data'!J30,Input_Details!$B$29,0))","v":0},{"$f":"IF(OFFSET('Raw Data'!K30,Input_Details!$B$29,0)=\"\", \"-\", OFFSET('Raw Data'!K30,Input_Details!$B$29,0))","v":4},{"$f":"IF(OFFSET('Raw Data'!L30,Input_Details!$B$29,0)=\"\", \"-\", OFFSET('Raw Data'!L30,Input_Details!$B$29,0))","v":2},{"$f":"IF(OFFSET('Raw Data'!M30,Input_Details!$B$29,0)=\"\", \"-\", OFFSET('Raw Data'!M30,Input_Details!$B$29,0))","v":0},{"$f":"IF(OFFSET('Raw Data'!N30,Input_Details!$B$29,0)=\"\", \"-\", OFFSET('Raw Data'!N30,Input_Details!$B$29,0))","v":0},{"$f":"IF(OFFSET('Raw Data'!O30,Input_Details!$B$29,0)=\"\", \"-\", OFFSET('Raw Data'!O30,Input_Details!$B$29,0))","v":0},{"$f":"IF(OFFSET('Raw Data'!P30,Input_Details!$B$29,0)=\"\", \"-\", OFFSET('Raw Data'!P30,Input_Details!$B$29,0))","v":0},{"$f":"IF(OFFSET('Raw Data'!Q30,Input_Details!$B$29,0)=\"\", \"-\", OFFSET('Raw Data'!Q30,Input_Details!$B$29,0))","v":0},{"$f":"IF(OFFSET('Raw Data'!R30,Input_Details!$B$29,0)=\"\", \"-\", OFFSET('Raw Data'!R30,Input_Details!$B$29,0))","v":0},{"$f":"IF(OFFSET('Raw Data'!S30,Input_Details!$B$29,0)=\"\", \"-\", OFFSET('Raw Data'!S30,Input_Details!$B$29,0))","v":0},31,null,{"$f":"IF(OFFSET('Raw Data'!AU30,Input_Details!$B$29,0)=\"\", \"-\", OFFSET('Raw Data'!AU30,Input_Details!$B$29,0))","v":2},{"$f":"IF(OFFSET('Raw Data'!AV30,Input_Details!$B$29,0)=\"\", \"-\", OFFSET('Raw Data'!AV30,Input_Details!$B$29,0))","v":6},{"$f":"IF(OFFSET('Raw Data'!AW30,Input_Details!$B$29,0)=\"\", \"-\", OFFSET('Raw Data'!AW30,Input_Details!$B$29,0))","v":0},{"$f":"IF(OFFSET('Raw Data'!AX30,Input_Details!$B$29,0)=\"\", \"-\", OFFSET('Raw Data'!AX30,Input_Details!$B$29,0))","v":0},{"$f":"IF(OFFSET('Raw Data'!AY30,Input_Details!$B$29,0)=\"\", \"-\", OFFSET('Raw Data'!AY30,Input_Details!$B$29,0))","v":0},{"$f":"IF(OFFSET('Raw Data'!AZ30,Input_Details!$B$29,0)=\"\", \"-\", OFFSET('Raw Data'!AZ30,Input_Details!$B$29,0))","v":0},{"$f":"IF(OFFSET('Raw Data'!BA30,Input_Details!$B$29,0)=\"\", \"-\", OFFSET('Raw Data'!BA30,Input_Details!$B$29,0))","v":0},{"$f":"IF(OFFSET('Raw Data'!BB30,Input_Details!$B$29,0)=\"\", \"-\", OFFSET('Raw Data'!BB30,Input_Details!$B$29,0))","v":0},{"$f":"IF(OFFSET('Raw Data'!BC30,Input_Details!$B$29,0)=\"\", \"-\", OFFSET('Raw Data'!BC30,Input_Details!$B$29,0))","v":0},{"$f":"IF(OFFSET('Raw Data'!BD30,Input_Details!$B$29,0)=\"\", \"-\", OFFSET('Raw Data'!BD30,Input_Details!$B$29,0))","v":0},{"$f":"IF(OFFSET('Raw Data'!BE30,Input_Details!$B$29,0)=\"\", \"-\", OFFSET('Raw Data'!BE30,Input_Details!$B$29,0))","v":0},{"$f":"IF(OFFSET('Raw Data'!BF30,Input_Details!$B$29,0)=\"\", \"-\", OFFSET('Raw Data'!BF30,Input_Details!$B$29,0))","v":0},8,null,2,31,0,4,2,0,0,0,0,0,0,0,39]
[null,"06:45:00",{"$f":"IF(OFFSET('Raw Data'!H31,Input_Details!$B$29,0)=\"\", \"-\", OFFSET('Raw Data'!H31,Input_Details!$B$29,0))","v":2},{"$f":"IF(OFFSET('Raw Data'!I31,Input_Details!$B$29,0)=\"\", \"-\", OFFSET('Raw Data'!I31,Input_Details!$B$29,0))","v":24},{"$f":"IF(OFFSET('Raw Data'!J31,Input_Details!$B$29,0)=\"\", \"-\", OFFSET('Raw Data'!J31,Input_Details!$B$29,0))","v":0},{"$f":"IF(OFFSET('Raw Data'!K31,Input_Details!$B$29,0)=\"\", \"-\", OFFSET('Raw Data'!K31,Input_Details!$B$29,0))","v":2},{"$f":"IF(OFFSET('Raw Data'!L31,Input_Details!$B$29,0)=\"\", \"-\", OFFSET('Raw Data'!L31,Input_Details!$B$29,0))","v":2},{"$f":"IF(OFFSET('Raw Data'!M31,Input_Details!$B$29,0)=\"\", \"-\", OFFSET('Raw Data'!M31,Input_Details!$B$29,0))","v":0},{"$f":"IF(OFFSET('Raw Data'!N31,Input_Details!$B$29,0)=\"\", \"-\", OFFSET('Raw Data'!N31,Input_Details!$B$29,0))","v":0},{"$f":"IF(OFFSET('Raw Data'!O31,Input_Details!$B$29,0)=\"\", \"-\", OFFSET('Raw Data'!O31,Input_Details!$B$29,0))","v":0},{"$f":"IF(OFFSET('Raw Data'!P31,Input_Details!$B$29,0)=\"\", \"-\", OFFSET('Raw Data'!P31,Input_Details!$B$29,0))","v":0},{"$f":"IF(OFFSET('Raw Data'!Q31,Input_Details!$B$29,0)=\"\", \"-\", OFFSET('Raw Data'!Q31,Input_Details!$B$29,0))","v":0},{"$f":"IF(OFFSET('Raw Data'!R31,Input_Details!$B$29,0)=\"\", \"-\", OFFSET('Raw Data'!R31,Input_Details!$B$29,0))","v":0},{"$f":"IF(OFFSET('Raw Data'!S31,Input_Details!$B$29,0)=\"\", \"-\", OFFSET('Raw Data'!S31,Input_Details!$B$29,0))","v":0},30,null,{"$f":"IF(OFFSET('Raw Data'!AU31,Input_Details!$B$29,0)=\"\", \"-\", OFFSET('Raw Data'!AU31,Input_Details!$B$29,0))","v":4},{"$f":"IF(OFFSET('Raw Data'!AV31,Input_Details!$B$29,0)=\"\", \"-\", OFFSET('Raw Data'!AV31,Input_Details!$B$29,0))","v":7},{"$f":"IF(OFFSET('Raw Data'!AW31,Input_Details!$B$29,0)=\"\", \"-\", OFFSET('Raw Data'!AW31,Input_Details!$B$29,0))","v":0},{"$f":"IF(OFFSET('Raw Data'!AX31,Input_Details!$B$29,0)=\"\", \"-\", OFFSET('Raw Data'!AX31,Input_Details!$B$29,0))","v":1},{"$f":"IF(OFFSET('Raw Data'!AY31,Input_Details!$B$29,0)=\"\", \"-\", OFFSET('Raw Data'!AY31,Input_Details!$B$29,0))","v":0},{"$f":"IF(OFFSET('Raw Data'!AZ31,Input_Details!$B$29,0)=\"\", \"-\", OFFSET('Raw Data'!AZ31,Input_Details!$B$29,0))","v":0},{"$f":"IF(OFFSET('Raw Data'!BA31,Input_Details!$B$29,0)=\"\", \"-\", OFFSET('Raw Data'!BA31,Input_Details!$B$29,0))","v":0},{"$f":"IF(OFFSET('Raw Data'!BB31,Input_Details!$B$29,0)=\"\", \"-\", OFFSET('Raw Data'!BB31,Input_Details!$B$29,0))","v":0},{"$f":"IF(OFFSET('Raw Data'!BC31,Input_Details!$B$29,0)=\"\", \"-\", OFFSET('Raw Data'!BC31,Input_Details!$B$29,0))","v":0},{"$f":"IF(OFFSET('Raw Data'!BD31,Input_Details!$B$29,0)=\"\", \"-\", OFFSET('Raw Data'!BD31,Input_Details!$B$29,0))","v":0},{"$f":"IF(OFFSET('Raw Data'!BE31,Input_Details!$B$29,0)=\"\", \"-\", OFFSET('Raw Data'!BE31,Input_Details!$B$29,0))","v":0},{"$f":"IF(OFFSET('Raw Data'!BF31,Input_Details!$B$29,0)=\"\", \"-\", OFFSET('Raw Data'!BF31,Input_Details!$B$29,0))","v":0},12,null,6,31,0,3,2,0,0,0,0,0,0,0,42]
[null,"07:00:00",{"$f":"IF(OFFSET('Raw Data'!H32,Input_Details!$B$29,0)=\"\", \"-\", OFFSET('Raw Data'!H32,Input_Details!$B$29,0))","v":2},{"$f":"IF(OFFSET('Raw Data'!I32,Input_Details!$B$29,0)=\"\", \"-\", OFFSET('Raw Data'!I32,Input_Details!$B$29,0))","v":19},{"$f":"IF(OFFSET('Raw Data'!J32,Input_Details!$B$29,0)=\"\", \"-\", OFFSET('Raw Data'!J32,Input_Details!$B$29,0))","v":0},{"$f":"IF(OFFSET('Raw Data'!K32,Input_Details!$B$29,0)=\"\", \"-\", OFFSET('Raw Data'!K32,Input_Details!$B$29,0))","v":2},{"$f":"IF(OFFSET('Raw Data'!L32,Input_Details!$B$29,0)=\"\", \"-\", OFFSET('Raw Data'!L32,Input_Details!$B$29,0))","v":1},{"$f":"IF(OFFSET('Raw Data'!M32,Input_Details!$B$29,0)=\"\", \"-\", OFFSET('Raw Data'!M32,Input_Details!$B$29,0))","v":0},{"$f":"IF(OFFSET('Raw Data'!N32,Input_Details!$B$29,0)=\"\", \"-\", OFFSET('Raw Data'!N32,Input_Details!$B$29,0))","v":0},{"$f":"IF(OFFSET('Raw Data'!O32,Input_Details!$B$29,0)=\"\", \"-\", OFFSET('Raw Data'!O32,Input_Details!$B$29,0))","v":0},{"$f":"IF(OFFSET('Raw Data'!P32,Input_Details!$B$29,0)=\"\", \"-\", OFFSET('Raw Data'!P32,Input_Details!$B$29,0))","v":0},{"$f":"IF(OFFSET('Raw Data'!Q32,Input_Details!$B$29,0)=\"\", \"-\", OFFSET('Raw Data'!Q32,Input_Details!$B$29,0))","v":0},{"$f":"IF(OFFSET('Raw Data'!R32,Input_Details!$B$29,0)=\"\", \"-\", OFFSET('Raw Data'!R32,Input_Details!$B$29,0))","v":0},{"$f":"IF(OFFSET('Raw Data'!S32,Input_Details!$B$29,0)=\"\", \"-\", OFFSET('Raw Data'!S32,Input_Details!$B$29,0))","v":0},24,null,{"$f":"IF(OFFSET('Raw Data'!AU32,Input_Details!$B$29,0)=\"\", \"-\", OFFSET('Raw Data'!AU32,Input_Details!$B$29,0))","v":2},{"$f":"IF(OFFSET('Raw Data'!AV32,Input_Details!$B$29,0)=\"\", \"-\", OFFSET('Raw Data'!AV32,Input_Details!$B$29,0))","v":6},{"$f":"IF(OFFSET('Raw Data'!AW32,Input_Details!$B$29,0)=\"\", \"-\", OFFSET('Raw Data'!AW32,Input_Details!$B$29,0))","v":0},{"$f":"IF(OFFSET('Raw Data'!AX32,Input_Details!$B$29,0)=\"\", \"-\", OFFSET('Raw Data'!AX32,Input_Details!$B$29,0))","v":0},{"$f":"IF(OFFSET('Raw Data'!AY32,Input_Details!$B$29,0)=\"\", \"-\", OFFSET('Raw Data'!AY32,Input_Details!$B$29,0))","v":0},{"$f":"IF(OFFSET('Raw Data'!AZ32,Input_Details!$B$29,0)=\"\", \"-\", OFFSET('Raw Data'!AZ32,Input_Details!$B$29,0))","v":0},{"$f":"IF(OFFSET('Raw Data'!BA32,Input_Details!$B$29,0)=\"\", \"-\", OFFSET('Raw Data'!BA32,Input_Details!$B$29,0))","v":0},{"$f":"IF(OFFSET('Raw Data'!BB32,Input_Details!$B$29,0)=\"\", \"-\", OFFSET('Raw Data'!BB32,Input_Details!$B$29,0))","v":0},{"$f":"IF(OFFSET('Raw Data'!BC32,Input_Details!$B$29,0)=\"\", \"-\", OFFSET('Raw Data'!BC32,Input_Details!$B$29,0))","v":0},{"$f":"IF(OFFSET('Raw Data'!BD32,Input_Details!$B$29,0)=\"\", \"-\", OFFSET('Raw Data'!BD32,Input_Details!$B$29,0))","v":0},{"$f":"IF(OFFSET('Raw Data'!BE32,Input_Details!$B$29,0)=\"\", \"-\", OFFSET('Raw Data'!BE32,Input_Details!$B$29,0))","v":0},{"$f":"IF(OFFSET('Raw Data'!BF32,Input_Details!$B$29,0)=\"\", \"-\", OFFSET('Raw Data'!BF32,Input_Details!$B$29,0))","v":0},8,null,4,25,0,2,1,0,0,0,0,0,0,0,32]
[null,"07:15:00",{"$f":"IF(OFFSET('Raw Data'!H33,Input_Details!$B$29,0)=\"\", \"-\", OFFSET('Raw Data'!H33,Input_Details!$B$29,0))","v":2},{"$f":"IF(OFFSET('Raw Data'!I33,Input_Details!$B$29,0)=\"\", \"-\", OFFSET('Raw Data'!I33,Input_Details!$B$29,0))","v":21},{"$f":"IF(OFFSET('Raw Data'!J33,Input_Details!$B$29,0)=\"\", \"-\", OFFSET('Raw Data'!J33,Input_Details!$B$29,0))","v":0},{"$f":"IF(OFFSET('Raw Data'!K33,Input_Details!$B$29,0)=\"\", \"-\", OFFSET('Raw Data'!K33,Input_Details!$B$29,0))","v":3},{"$f":"IF(OFFSET('Raw Data'!L33,Input_Details!$B$29,0)=\"\", \"-\", OFFSET('Raw Data'!L33,Input_Details!$B$29,0))","v":1},{"$f":"IF(OFFSET('Raw Data'!M33,Input_Details!$B$29,0)=\"\", \"-\", OFFSET('Raw Data'!M33,Input_Details!$B$29,0))","v":0},{"$f":"IF(OFFSET('Raw Data'!N33,Input_Details!$B$29,0)=\"\", \"-\", OFFSET('Raw Data'!N33,Input_Details!$B$29,0))","v":0},{"$f":"IF(OFFSET('Raw Data'!O33,Input_Details!$B$29,0)=\"\", \"-\", OFFSET('Raw Data'!O33,Input_Details!$B$29,0))","v":0},{"$f":"IF(OFFSET('Raw Data'!P33,Input_Details!$B$29,0)=\"\", \"-\", OFFSET('Raw Data'!P33,Input_Details!$B$29,0))","v":0},{"$f":"IF(OFFSET('Raw Data'!Q33,Input_Details!$B$29,0)=\"\", \"-\", OFFSET('Raw Data'!Q33,Input_Details!$B$29,0))","v":0},{"$f":"IF(OFFSET('Raw Data'!R33,Input_Details!$B$29,0)=\"\", \"-\", OFFSET('Raw Data'!R33,Input_Details!$B$29,0))","v":0},{"$f":"IF(OFFSET('Raw Data'!S33,Input_Details!$B$29,0)=\"\", \"-\", OFFSET('Raw Data'!S33,Input_Details!$B$29,0))","v":0},27,null,{"$f":"IF(OFFSET('Raw Data'!AU33,Input_Details!$B$29,0)=\"\", \"-\", OFFSET('Raw Data'!AU33,Input_Details!$B$29,0))","v":4},{"$f":"IF(OFFSET('Raw Data'!AV33,Input_Details!$B$29,0)=\"\", \"-\", OFFSET('Raw Data'!AV33,Input_Details!$B$29,0))","v":7},{"$f":"IF(OFFSET('Raw Data'!AW33,Input_Details!$B$29,0)=\"\", \"-\", OFFSET('Raw Data'!AW33,Input_Details!$B$29,0))","v":0},{"$f":"IF(OFFSET('Raw Data'!AX33,Input_Details!$B$29,0)=\"\", \"-\", OFFSET('Raw Data'!AX33,Input_Details!$B$29,0))","v":0},{"$f":"IF(OFFSET('Raw Data'!AY33,Input_Details!$B$29,0)=\"\", \"-\", OFFSET('Raw Data'!AY33,Input_Details!$B$29,0))","v":0},{"$f":"IF(OFFSET('Raw Data'!AZ33,Input_Details!$B$29,0)=\"\", \"-\", OFFSET('Raw Data'!AZ33,Input_Details!$B$29,0))","v":0},{"$f":"IF(OFFSET('Raw Data'!BA33,Input_Details!$B$29,0)=\"\", \"-\", OFFSET('Raw Data'!BA33,Input_Details!$B$29,0))","v":0},{"$f":"IF(OFFSET('Raw Data'!BB33,Input_Details!$B$29,0)=\"\", \"-\", OFFSET('Raw Data'!BB33,Input_Details!$B$29,0))","v":0},{"$f":"IF(OFFSET('Raw Data'!BC33,Input_Details!$B$29,0)=\"\", \"-\", OFFSET('Raw Data'!BC33,Input_Details!$B$29,0))","v":0},{"$f":"IF(OFFSET('Raw Data'!BD33,Input_Details!$B$29,0)=\"\", \"-\", OFFSET('Raw Data'!BD33,Input_Details!$B$29,0))","v":0},{"$f":"IF(OFFSET('Raw Data'!BE33,Input_Details!$B$29,0)=\"\", \"-\", OFFSET('Raw Data'!BE33,Input_Details!$B$29,0))","v":0},{"$f":"IF(OFFSET('Raw Data'!BF33,Input_Details!$B$29,0)=\"\", \"-\", OFFSET('Raw Data'!BF33,Input_Details!$B$29,0))","v":0},11,null,6,28,0,3,1,0,0,0,0,0,0,0,38]
[null,"07:30:00",{"$f":"IF(OFFSET('Raw Data'!H34,Input_Details!$B$29,0)=\"\", \"-\", OFFSET('Raw Data'!H34,Input_Details!$B$29,0))","v":5},{"$f":"IF(OFFSET('Raw Data'!I34,Input_Details!$B$29,0)=\"\", \"-\", OFFSET('Raw Data'!I34,Input_Details!$B$29,0))","v":23},{"$f":"IF(OFFSET('Raw Data'!J34,Input_Details!$B$29,0)=\"\", \"-\", OFFSET('Raw Data'!J34,Input_Details!$B$29,0))","v":0},{"$f":"IF(OFFSET('Raw Data'!K34,Input_Details!$B$29,0)=\"\", \"-\", OFFSET('Raw Data'!K34,Input_Details!$B$29,0))","v":3},{"$f":"IF(OFFSET('Raw Data'!L34,Input_Details!$B$29,0)=\"\", \"-\", OFFSET('Raw Data'!L34,Input_Details!$B$29,0))","v":2},{"$f":"IF(OFFSET('Raw Data'!M34,Input_Details!$B$29,0)=\"\", \"-\", OFFSET('Raw Data'!M34,Input_Details!$B$29,0))","v":0},{"$f":"IF(OFFSET('Raw Data'!N34,Input_Details!$B$29,0)=\"\", \"-\", OFFSET('Raw Data'!N34,Input_Details!$B$29,0))","v":0},{"$f":"IF(OFFSET('Raw Data'!O34,Input_Details!$B$29,0)=\"\", \"-\", OFFSET('Raw Data'!O34,Input_Details!$B$29,0))","v":0},{"$f":"IF(OFFSET('Raw Data'!P34,Input_Details!$B$29,0)=\"\", \"-\", OFFSET('Raw Data'!P34,Input_Details!$B$29,0))","v":0},{"$f":"IF(OFFSET('Raw Data'!Q34,Input_Details!$B$29,0)=\"\", \"-\", OFFSET('Raw Data'!Q34,Input_Details!$B$29,0))","v":0},{"$f":"IF(OFFSET('Raw Data'!R34,Input_Details!$B$29,0)=\"\", \"-\", OFFSET('Raw Data'!R34,Input_Details!$B$29,0))","v":0},{"$f":"IF(OFFSET('Raw Data'!S34,Input_Details!$B$29,0)=\"\", \"-\", OFFSET('Raw Data'!S34,Input_Details!$B$29,0))","v":0},33,null,{"$f":"IF(OFFSET('Raw Data'!AU34,Input_Details!$B$29,0)=\"\", \"-\", OFFSET('Raw Data'!AU34,Input_Details!$B$29,0))","v":6},{"$f":"IF(OFFSET('Raw Data'!AV34,Input_Details!$B$29,0)=\"\", \"-\", OFFSET('Raw Data'!AV34,Input_Details!$B$29,0))","v":7},{"$f":"IF(OFFSET('Raw Data'!AW34,Input_Details!$B$29,0)=\"\", \"-\", OFFSET('Raw Data'!AW34,Input_Details!$B$29,0))","v":0},{"$f":"IF(OFFSET('Raw Data'!AX34,Input_Details!$B$29,0)=\"\", \"-\", OFFSET('Raw Data'!AX34,Input_Details!$B$29,0))","v":0},{"$f":"IF(OFFSET('Raw Data'!AY34,Input_Details!$B$29,0)=\"\", \"-\", OFFSET('Raw Data'!AY34,Input_Details!$B$29,0))","v":1},{"$f":"IF(OFFSET('Raw Data'!AZ34,Input_Details!$B$29,0)=\"\", \"-\", OFFSET('Raw Data'!AZ34,Input_Details!$B$29,0))","v":0},{"$f":"IF(OFFSET('Raw Data'!BA34,Input_Details!$B$29,0)=\"\", \"-\", OFFSET('Raw Data'!BA34,Input_Details!$B$29,0))","v":0},{"$f":"IF(OFFSET('Raw Data'!BB34,Input_Details!$B$29,0)=\"\", \"-\", OFFSET('Raw Data'!BB34,Input_Details!$B$29,0))","v":0},{"$f":"IF(OFFSET('Raw Data'!BC34,Input_Details!$B$29,0)=\"\", \"-\", OFFSET('Raw Data'!BC34,Input_Details!$B$29,0))","v":0},{"$f":"IF(OFFSET('Raw Data'!BD34,Input_Details!$B$29,0)=\"\", \"-\", OFFSET('Raw Data'!BD34,Input_Details!$B$29,0))","v":0},{"$f":"IF(OFFSET('Raw Data'!BE34,Input_Details!$B$29,0)=\"\", \"-\", OFFSET('Raw Data'!BE34,Input_Details!$B$29,0))","v":0},{"$f":"IF(OFFSET('Raw Data'!BF34,Input_Details!$B$29,0)=\"\", \"-\", OFFSET('Raw Data'!BF34,Input_Details!$B$29,0))","v":0},14,null,11,30,0,3,3,0,0,0,0,0,0,0,47]
[null,"07:45:00",{"$f":"IF(OFFSET('Raw Data'!H35,Input_Details!$B$29,0)=\"\", \"-\", OFFSET('Raw Data'!H35,Input_Details!$B$29,0))","v":5},{"$f":"IF(OFFSET('Raw Data'!I35,Input_Details!$B$29,0)=\"\", \"-\", OFFSET('Raw Data'!I35,Input_Details!$B$29,0))","v":25},{"$f":"IF(OFFSET('Raw Data'!J35,Input_Details!$B$29,0)=\"\", \"-\", OFFSET('Raw Data'!J35,Input_Details!$B$29,0))","v":0},{"$f":"IF(OFFSET('Raw Data'!K35,Input_Details!$B$29,0)=\"\", \"-\", OFFSET('Raw Data'!K35,Input_Details!$B$29,0))","v":3},{"$f":"IF(OFFSET('Raw Data'!L35,Input_Details!$B$29,0)=\"\", \"-\", OFFSET('Raw Data'!L35,Input_Details!$B$29,0))","v":1},{"$f":"IF(OFFSET('Raw Data'!M35,Input_Details!$B$29,0)=\"\", \"-\", OFFSET('Raw Data'!M35,Input_Details!$B$29,0))","v":0},{"$f":"IF(OFFSET('Raw Data'!N35,Input_Details!$B$29,0)=\"\", \"-\", OFFSET('Raw Data'!N35,Input_Details!$B$29,0))","v":0},{"$f":"IF(OFFSET('Raw Data'!O35,Input_Details!$B$29,0)=\"\", \"-\", OFFSET('Raw Data'!O35,Input_Details!$B$29,0))","v":0},{"$f":"IF(OFFSET('Raw Data'!P35,Input_Details!$B$29,0)=\"\", \"-\", OFFSET('Raw Data'!P35,Input_Details!$B$29,0))","v":0},{"$f":"IF(OFFSET('Raw Data'!Q35,Input_Details!$B$29,0)=\"\", \"-\", OFFSET('Raw Data'!Q35,Input_Details!$B$29,0))","v":0},{"$f":"IF(OFFSET('Raw Data'!R35,Input_Details!$B$29,0)=\"\", \"-\", OFFSET('Raw Data'!R35,Input_Details!$B$29,0))","v":0},{"$f":"IF(OFFSET('Raw Data'!S35,Input_Details!$B$29,0)=\"\", \"-\", OFFSET('Raw Data'!S35,Input_Details!$B$29,0))","v":0},34,null,{"$f":"IF(OFFSET('Raw Data'!AU35,Input_Details!$B$29,0)=\"\", \"-\", OFFSET('Raw Data'!AU35,Input_Details!$B$29,0))","v":5},{"$f":"IF(OFFSET('Raw Data'!AV35,Input_Details!$B$29,0)=\"\", \"-\", OFFSET('Raw Data'!AV35,Input_Details!$B$29,0))","v":8},{"$f":"IF(OFFSET('Raw Data'!AW35,Input_Details!$B$29,0)=\"\", \"-\", OFFSET('Raw Data'!AW35,Input_Details!$B$29,0))","v":0},{"$f":"IF(OFFSET('Raw Data'!AX35,Input_Details!$B$29,0)=\"\", \"-\", OFFSET('Raw Data'!AX35,Input_Details!$B$29,0))","v":0},{"$f":"IF(OFFSET('Raw Data'!AY35,Input_Details!$B$29,0)=\"\", \"-\", OFFSET('Raw Data'!AY35,Input_Details!$B$29,0))","v":0},{"$f":"IF(OFFSET('Raw Data'!AZ35,Input_Details!$B$29,0)=\"\", \"-\", OFFSET('Raw Data'!AZ35,Input_Details!$B$29,0))","v":0},{"$f":"IF(OFFSET('Raw Data'!BA35,Input_Details!$B$29,0)=\"\", \"-\", OFFSET('Raw Data'!BA35,Input_Details!$B$29,0))","v":0},{"$f":"IF(OFFSET('Raw Data'!BB35,Input_Details!$B$29,0)=\"\", \"-\", OFFSET('Raw Data'!BB35,Input_Details!$B$29,0))","v":0},{"$f":"IF(OFFSET('Raw Data'!BC35,Input_Details!$B$29,0)=\"\", \"-\", OFFSET('Raw Data'!BC35,Input_Details!$B$29,0))","v":0},{"$f":"IF(OFFSET('Raw Data'!BD35,Input_Details!$B$29,0)=\"\", \"-\", OFFSET('Raw Data'!BD35,Input_Details!$B$29,0))","v":0},{"$f":"IF(OFFSET('Raw Data'!BE35,Input_Details!$B$29,0)=\"\", \"-\", OFFSET('Raw Data'!BE35,Input_Details!$B$29,0))","v":0},{"$f":"IF(OFFSET('Raw Data'!BF35,Input_Details!$B$29,0)=\"\", \"-\", OFFSET('Raw Data'!BF35,Input_Details!$B$29,0))","v":0},13,null,10,33,0,3,1,0,0,0,0,0,0,0,47]
[null,"08:00:00",{"$f":"IF(OFFSET('Raw Data'!H36,Input_Details!$B$29,0)=\"\", \"-\", OFFSET('Raw Data'!H36,Input_Details!$B$29,0))","v":2},{"$f":"IF(OFFSET('Raw Data'!I36,Input_Details!$B$29,0)=\"\", \"-\", OFFSET('Raw Data'!I36,Input_Details!$B$29,0))","v":26},{"$f":"IF(OFFSET('Raw Data'!J36,Input_Details!$B$29,0)=\"\", \"-\", OFFSET('Raw Data'!J36,Input_Details!$B$29,0))","v":0},{"$f":"IF(OFFSET('Raw Data'!K36,Input_Details!$B$29,0)=\"\", \"-\", OFFSET('Raw Data'!K36,Input_Details!$B$29,0))","v":4},{"$f":"IF(OFFSET('Raw Data'!L36,Input_Details!$B$29,0)=\"\", \"-\", OFFSET('Raw Data'!L36,Input_Details!$B$29,0))","v":1},{"$f":"IF(OFFSET('Raw Data'!M36,Input_Details!$B$29,0)=\"\", \"-\", OFFSET('Raw Data'!M36,Input_Details!$B$29,0))","v":0},{"$f":"IF(OFFSET('Raw Data'!N36,Input_Details!$B$29,0)=\"\", \"-\", OFFSET('Raw Data'!N36,Input_Details!$B$29,0))","v":0},{"$f":"IF(OFFSET('Raw Data'!O36,Input_Details!$B$29,0)=\"\", \"-\", OFFSET('Raw Data'!O36,Input_Details!$B$29,0))","v":0},{"$f":"IF(OFFSET('Raw Data'!P36,Input_Details!$B$29,0)=\"\", \"-\", OFFSET('Raw Data'!P36,Input_Details!$B$29,0))","v":0},{"$f":"IF(OFFSET('Raw Data'!Q36,Input_Details!$B$29,0)=\"\", \"-\", OFFSET('Raw Data'!Q36,Input_Details!$B$29,0))","v":0},{"$f":"IF(OFFSET('Raw Data'!R36,Input_Details!$B$29,0)=\"\", \"-\", OFFSET('Raw Data'!R36,Input_Details!$B$29,0))","v":0},{"$f":"IF(OFFSET('Raw Data'!S36,Input_Details!$B$29,0)=\"\", \"-\", OFFSET('Raw Data'!S36,Input_Details!$B$29,0))","v":0},33,null,{"$f":"IF(OFFSET('Raw Data'!AU36,Input_Details!$B$29,0)=\"\", \"-\", OFFSET('Raw Data'!AU36,Input_Details!$B$29,0))","v":5},{"$f":"IF(OFFSET('Raw Data'!AV36,Input_Details!$B$29,0)=\"\", \"-\", OFFSET('Raw Data'!AV36,Input_Details!$B$29,0))","v":6},{"$f":"IF(OFFSET('Raw Data'!AW36,Input_Details!$B$29,0)=\"\", \"-\", OFFSET('Raw Data'!AW36,Input_Details!$B$29,0))","v":0},{"$f":"IF(OFFSET('Raw Data'!AX36,Input_Details!$B$29,0)=\"\", \"-\", OFFSET('Raw Data'!AX36,Input_Details!$B$29,0))","v":0},{"$f":"IF(OFFSET('Raw Data'!AY36,Input_Details!$B$29,0)=\"\", \"-\", OFFSET('Raw Data'!AY36,Input_Details!$B$29,0))","v":0},{"$f":"IF(OFFSET('Raw Data'!AZ36,Input_Details!$B$29,0)=\"\", \"-\", OFFSET('Raw Data'!AZ36,Input_Details!$B$29,0))","v":0},{"$f":"IF(OFFSET('Raw Data'!BA36,Input_Details!$B$29,0)=\"\", \"-\", OFFSET('Raw Data'!BA36,Input_Details!$B$29,0))","v":0},{"$f":"IF(OFFSET('Raw Data'!BB36,Input_Details!$B$29,0)=\"\", \"-\", OFFSET('Raw Data'!BB36,Input_Details!$B$29,0))","v":0},{"$f":"IF(OFFSET('Raw Data'!BC36,Input_Details!$B$29,0)=\"\", \"-\", OFFSET('Raw Data'!BC36,Input_Details!$B$29,0))","v":0},{"$f":"IF(OFFSET('Raw Data'!BD36,Input_Details!$B$29,0)=\"\", \"-\", OFFSET('Raw Data'!BD36,Input_Details!$B$29,0))","v":0},{"$f":"IF(OFFSET('Raw Data'!BE36,Input_Details!$B$29,0)=\"\", \"-\", OFFSET('Raw Data'!BE36,Input_Details!$B$29,0))","v":0},{"$f":"IF(OFFSET('Raw Data'!BF36,Input_Details!$B$29,0)=\"\", \"-\", OFFSET('Raw Data'!BF36,Input_Details!$B$29,0))","v":0},11,null,7,32,0,4,1,0,0,0,0,0,0,0,44]
[null,"08:15:00",{"$f":"IF(OFFSET('Raw Data'!H37,Input_Details!$B$29,0)=\"\", \"-\", OFFSET('Raw Data'!H37,Input_Details!$B$29,0))","v":2},{"$f":"IF(OFFSET('Raw Data'!I37,Input_Details!$B$29,0)=\"\", \"-\", OFFSET('Raw Data'!I37,Input_Details!$B$29,0))","v":32},{"$f":"IF(OFFSET('Raw Data'!J37,Input_Details!$B$29,0)=\"\", \"-\", OFFSET('Raw Data'!J37,Input_Details!$B$29,0))","v":0},{"$f":"IF(OFFSET('Raw Data'!K37,Input_Details!$B$29,0)=\"\", \"-\", OFFSET('Raw Data'!K37,Input_Details!$B$29,0))","v":5},{"$f":"IF(OFFSET('Raw Data'!L37,Input_Details!$B$29,0)=\"\", \"-\", OFFSET('Raw Data'!L37,Input_Details!$B$29,0))","v":2},{"$f":"IF(OFFSET('Raw Data'!M37,Input_Details!$B$29,0)=\"\", \"-\", OFFSET('Raw Data'!M37,Input_Details!$B$29,0))","v":0},{"$f":"IF(OFFSET('Raw Data'!N37,Input_Details!$B$29,0)=\"\", \"-\", OFFSET('Raw Data'!N37,Input_Details!$B$29,0))","v":0},{"$f":"IF(OFFSET('Raw Data'!O37,Input_Details!$B$29,0)=\"\", \"-\", OFFSET('Raw Data'!O37,Input_Details!$B$29,0))","v":0},{"$f":"IF(OFFSET('Raw Data'!P37,Input_Details!$B$29,0)=\"\", \"-\", OFFSET('Raw Data'!P37,Input_Details!$B$29,0))","v":0},{"$f":"IF(OFFSET('Raw Data'!Q37,Input_Details!$B$29,0)=\"\", \"-\", OFFSET('Raw Data'!Q37,Input_Details!$B$29,0))","v":0},{"$f":"IF(OFFSET('Raw Data'!R37,Input_Details!$B$29,0)=\"\", \"-\", OFFSET('Raw Data'!R37,Input_Details!$B$29,0))","v":0},{"$f":"IF(OFFSET('Raw Data'!S37,Input_Details!$B$29,0)=\"\", \"-\", OFFSET('Raw Data'!S37,Input_Details!$B$29,0))","v":0},41,null,{"$f":"IF(OFFSET('Raw Data'!AU37,Input_Details!$B$29,0)=\"\", \"-\", OFFSET('Raw Data'!AU37,Input_Details!$B$29,0))","v":7},{"$f":"IF(OFFSET('Raw Data'!AV37,Input_Details!$B$29,0)=\"\", \"-\", OFFSET('Raw Data'!AV37,Input_Details!$B$29,0))","v":10},{"$f":"IF(OFFSET('Raw Data'!AW37,Input_Details!$B$29,0)=\"\", \"-\", OFFSET('Raw Data'!AW37,Input_Details!$B$29,0))","v":0},{"$f":"IF(OFFSET('Raw Data'!AX37,Input_Details!$B$29,0)=\"\", \"-\", OFFSET('Raw Data'!AX37,Input_Details!$B$29,0))","v":0},{"$f":"IF(OFFSET('Raw Data'!AY37,Input_Details!$B$29,0)=\"\", \"-\", OFFSET('Raw Data'!AY37,Input_Details!$B$29,0))","v":1},{"$f":"IF(OFFSET('Raw Data'!AZ37,Input_Details!$B$29,0)=\"\", \"-\", OFFSET('Raw Data'!AZ37,Input_Details!$B$29,0))","v":0},{"$f":"IF(OFFSET('Raw Data'!BA37,Input_Details!$B$29,0)=\"\", \"-\", OFFSET('Raw Data'!BA37,Input_Details!$B$29,0))","v":0},{"$f":"IF(OFFSET('Raw Data'!BB37,Input_Details!$B$29,0)=\"\", \"-\", OFFSET('Raw Data'!BB37,Input_Details!$B$29,0))","v":0},{"$f":"IF(OFFSET('Raw Data'!BC37,Input_Details!$B$29,0)=\"\", \"-\", OFFSET('Raw Data'!BC37,Input_Details!$B$29,0))","v":0},{"$f":"IF(OFFSET('Raw Data'!BD37,Input_Details!$B$29,0)=\"\", \"-\", OFFSET('Raw Data'!BD37,Input_Details!$B$29,0))","v":0},{"$f":"IF(OFFSET('Raw Data'!BE37,Input_Details!$B$29,0)=\"\", \"-\", OFFSET('Raw Data'!BE37,Input_Details!$B$29,0))","v":0},{"$f":"IF(OFFSET('Raw Data'!BF37,Input_Details!$B$29,0)=\"\", \"-\", OFFSET('Raw Data'!BF37,Input_Details!$B$29,0))","v":0},18,null,9,42,0,5,3,0,0,0,0,0,0,0,59]
[null,"08:30:00",{"$f":"IF(OFFSET('Raw Data'!H38,Input_Details!$B$29,0)=\"\", \"-\", OFFSET('Raw Data'!H38,Input_Details!$B$29,0))","v":2},{"$f":"IF(OFFSET('Raw Data'!I38,Input_Details!$B$29,0)=\"\", \"-\", OFFSET('Raw Data'!I38,Input_Details!$B$29,0))","v":27},{"$f":"IF(OFFSET('Raw Data'!J38,Input_Details!$B$29,0)=\"\", \"-\", OFFSET('Raw Data'!J38,Input_Details!$B$29,0))","v":0},{"$f":"IF(OFFSET('Raw Data'!K38,Input_Details!$B$29,0)=\"\", \"-\", OFFSET('Raw Data'!K38,Input_Details!$B$29,0))","v":4},{"$f":"IF(OFFSET('Raw Data'!L38,Input_Details!$B$29,0)=\"\", \"-\", OFFSET('Raw Data'!L38,Input_Details!$B$29,0))","v":2},{"$f":"IF(OFFSET('Raw Data'!M38,Input_Details!$B$29,0)=\"\", \"-\", OFFSET('Raw Data'!M38,Input_Details!$B$29,0))","v":0},{"$f":"IF(OFFSET('Raw Data'!N38,Input_Details!$B$29,0)=\"\", \"-\", OFFSET('Raw Data'!N38,Input_Details!$B$29,0))","v":0},{"$f":"IF(OFFSET('Raw Data'!O38,Input_Details!$B$29,0)=\"\", \"-\", OFFSET('Raw Data'!O38,Input_Details!$B$29,0))","v":0},{"$f":"IF(OFFSET('Raw Data'!P38,Input_Details!$B$29,0)=\"\", \"-\", OFFSET('Raw Data'!P38,Input_Details!$B$29,0))","v":0},{"$f":"IF(OFFSET('Raw Data'!Q38,Input_Details!$B$29,0)=\"\", \"-\", OFFSET('Raw Data'!Q38,Input_Details!$B$29,0))","v":0},{"$f":"IF(OFFSET('Raw Data'!R38,Input_Details!$B$29,0)=\"\", \"-\", OFFSET('Raw Data'!R38,Input_Details!$B$29,0))","v":0},{"$f":"IF(OFFSET('Raw Data'!S38,Input_Details!$B$29,0)=\"\", \"-\", OFFSET('Raw Data'!S38,Input_Details!$B$29,0))","v":0},35,null,{"$f":"IF(OFFSET('Raw Data'!AU38,Input_Details!$B$29,0)=\"\", \"-\", OFFSET('Raw Data'!AU38,Input_Details!$B$29,0))","v":9},{"$f":"IF(OFFSET('Raw Data'!AV38,Input_Details!$B$29,0)=\"\", \"-\", OFFSET('Raw Data'!AV38,Input_Details!$B$29,0))","v":7},{"$f":"IF(OFFSET('Raw Data'!AW38,Input_Details!$B$29,0)=\"\", \"-\", OFFSET('Raw Data'!AW38,Input_Details!$B$29,0))","v":0},{"$f":"IF(OFFSET('Raw Data'!AX38,Input_Details!$B$29,0)=\"\", \"-\", OFFSET('Raw Data'!AX38,Input_Details!$B$29,0))","v":0},{"$f":"IF(OFFSET('Raw Data'!AY38,Input_Details!$B$29,0)=\"\", \"-\", OFFSET('Raw Data'!AY38,Input_Details!$B$29,0))","v":1},{"$f":"IF(OFFSET('Raw Data'!AZ38,Input_Details!$B$29,0)=\"\", \"-\", OFFSET('Raw Data'!AZ38,Input_Details!$B$29,0))","v":0},{"$f":"IF(OFFSET('Raw Data'!BA38,Input_Details!$B$29,0)=\"\", \"-\", OFFSET('Raw Data'!BA38,Input_Details!$B$29,0))","v":0},{"$f":"IF(OFFSET('Raw Data'!BB38,Input_Details!$B$29,0)=\"\", \"-\", OFFSET('Raw Data'!BB38,Input_Details!$B$29,0))","v":0},{"$f":"IF(OFFSET('Raw Data'!BC38,Input_Details!$B$29,0)=\"\", \"-\", OFFSET('Raw Data'!BC38,Input_Details!$B$29,0))","v":0},{"$f":"IF(OFFSET('Raw Data'!BD38,Input_Details!$B$29,0)=\"\", \"-\", OFFSET('Raw Data'!BD38,Input_Details!$B$29,0))","v":0},{"$f":"IF(OFFSET('Raw Data'!BE38,Input_Details!$B$29,0)=\"\", \"-\", OFFSET('Raw Data'!BE38,Input_Details!$B$29,0))","v":0},{"$f":"IF(OFFSET('Raw Data'!BF38,Input_Details!$B$29,0)=\"\", \"-\", OFFSET('Raw Data'!BF38,Input_Details!$B$29,0))","v":0},17,null,11,34,0,4,3,0,0,0,0,0,0,0,52]
[null,"08:45:00",{"$f":"IF(OFFSET('Raw Data'!H39,Input_Details!$B$29,0)=\"\", \"-\", OFFSET('Raw Data'!H39,Input_Details!$B$29,0))","v":3},{"$f":"IF(OFFSET('Raw Data'!I39,Input_Details!$B$29,0)=\"\", \"-\", OFFSET('Raw Data'!I39,Input_Details!$B$29,0))","v":28},{"$f":"IF(OFFSET('Raw Data'!J39,Input_Details!$B$29,0)=\"\", \"-\", OFFSET('Raw Data'!J39,Input_Details!$B$29,0))","v":0},{"$f":"IF(OFFSET('Raw Data'!K39,Input_Details!$B$29,0)=\"\", \"-\", OFFSET('Raw Data'!K39,Input_Details!$B$29,0))","v":4},{"$f":"IF(OFFSET('Raw Data'!L39,Input_Details!$B$29,0)=\"\", \"-\", OFFSET('Raw Data'!L39,Input_Details!$B$29,0))","v":1},{"$f":"IF(OFFSET('Raw Data'!M39,Input_Details!$B$29,0)=\"\", \"-\", OFFSET('Raw Data'!M39,Input_Details!$B$29,0))","v":0},{"$f":"IF(OFFSET('Raw Data'!N39,Input_Details!$B$29,0)=\"\", \"-\", OFFSET('Raw Data'!N39,Input_Details!$B$29,0))","v":0},{"$f":"IF(OFFSET('Raw Data'!O39,Input_Details!$B$29,0)=\"\", \"-\", OFFSET('Raw Data'!O39,Input_Details!$B$29,0))","v":0},{"$f":"IF(OFFSET('Raw Data'!P39,Input_Details!$B$29,0)=\"\", \"-\", OFFSET('Raw Data'!P39,Input_Details!$B$29,0))","v":0},{"$f":"IF(OFFSET('Raw Data'!Q39,Input_Details!$B$29,0)=\"\", \"-\", OFFSET('Raw Data'!Q39,Input_Details!$B$29,0))","v":0},{"$f":"IF(OFFSET('Raw Data'!R39,Input_Details!$B$29,0)=\"\", \"-\", OFFSET('Raw Data'!R39,Input_Details!$B$29,0))","v":0},{"$f":"IF(OFFSET('Raw Data'!S39,Input_Details!$B$29,0)=\"\", \"-\", OFFSET('Raw Data'!S39,Input_Details!$B$29,0))","v":0},36,null,{"$f":"IF(OFFSET('Raw Data'!AU39,Input_Details!$B$29,0)=\"\", \"-\", OFFSET('Raw Data'!AU39,Input_Details!$B$29,0))","v":9},{"$f":"IF(OFFSET('Raw Data'!AV39,Input_Details!$B$29,0)=\"\", \"-\", OFFSET('Raw Data'!AV39,Input_Details!$B$29,0))","v":7},{"$f":"IF(OFFSET('Raw Data'!AW39,Input_Details!$B$29,0)=\"\", \"-\", OFFSET('Raw Data'!AW39,Input_Details!$B$29,0))","v":0},{"$f":"IF(OFFSET('Raw Data'!AX39,Input_Details!$B$29,0)=\"\", \"-\", OFFSET('Raw Data'!AX39,Input_Details!$B$29,0))","v":0},{"$f":"IF(OFFSET('Raw Data'!AY39,Input_Details!$B$29,0)=\"\", \"-\", OFFSET('Raw Data'!AY39,Input_Details!$B$29,0))","v":0},{"$f":"IF(OFFSET('Raw Data'!AZ39,Input_Details!$B$29,0)=\"\", \"-\", OFFSET('Raw Data'!AZ39,Input_Details!$B$29,0))","v":0},{"$f":"IF(OFFSET('Raw Data'!BA39,Input_Details!$B$29,0)=\"\", \"-\", OFFSET('Raw Data'!BA39,Input_Details!$B$29,0))","v":0},{"$f":"IF(OFFSET('Raw Data'!BB39,Input_Details!$B$29,0)=\"\", \"-\", OFFSET('Raw Data'!BB39,Input_Details!$B$29,0))","v":0},{"$f":"IF(OFFSET('Raw Data'!BC39,Input_Details!$B$29,0)=\"\", \"-\", OFFSET('Raw Data'!BC39,Input_Details!$B$29,0))","v":0},{"$f":"IF(OFFSET('Raw Data'!BD39,Input_Details!$B$29,0)=\"\", \"-\", OFFSET('Raw Data'!BD39,Input_Details!$B$29,0))","v":0},{"$f":"IF(OFFSET('Raw Data'!BE39,Input_Details!$B$29,0)=\"\", \"-\", OFFSET('Raw Data'!BE39,Input_Details!$B$29,0))","v":0},{"$f":"IF(OFFSET('Raw Data'!BF39,Input_Details!$B$29,0)=\"\", \"-\", OFFSET('Raw Data'!BF39,Input_Details!$B$29,0))","v":0},16,null,12,35,0,4,1,0,0,0,0,0,0,0,52]
[null,"09:00:00",{"$f":"IF(OFFSET('Raw Data'!H40,Input_Details!$B$29,0)=\"\", \"-\", OFFSET('Raw Data'!H40,Input_Details!$B$29,0))","v":2},{"$f":"IF(OFFSET('Raw Data'!I40,Input_Details!$B$29,0)=\"\", \"-\", OFFSET('Raw Data'!I40,Input_Details!$B$29,0))","v":32},{"$f":"IF(OFFSET('Raw Data'!J40,Input_Details!$B$29,0)=\"\", \"-\", OFFSET('Raw Data'!J40,Input_Details!$B$29,0))","v":0},{"$f":"IF(OFFSET('Raw Data'!K40,Input_Details!$B$29,0)=\"\", \"-\", OFFSET('Raw Data'!K40,Input_Details!$B$29,0))","v":6},{"$f":"IF(OFFSET('Raw Data'!L40,Input_Details!$B$29,0)=\"\", \"-\", OFFSET('Raw Data'!L40,Input_Details!$B$29,0))","v":2},{"$f":"IF(OFFSET('Raw Data'!M40,Input_Details!$B$29,0)=\"\", \"-\", OFFSET('Raw Data'!M40,Input_Details!$B$29,0))","v":0},{"$f":"IF(OFFSET('Raw Data'!N40,Input_Details!$B$29,0)=\"\", \"-\", OFFSET('Raw Data'!N40,Input_Details!$B$29,0))","v":0},{"$f":"IF(OFFSET('Raw Data'!O40,Input_Details!$B$29,0)=\"\", \"-\", OFFSET('Raw Data'!O40,Input_Details!$B$29,0))","v":0},{"$f":"IF(OFFSET('Raw Data'!P40,Input_Details!$B$29,0)=\"\", \"-\", OFFSET('Raw Data'!P40,Input_Details!$B$29,0))","v":0},{"$f":"IF(OFFSET('Raw Data'!Q40,Input_Details!$B$29,0)=\"\", \"-\", OFFSET('Raw Data'!Q40,Input_Details!$B$29,0))","v":0},{"$f":"IF(OFFSET('Raw Data'!R40,Input_Details!$B$29,0)=\"\", \"-\", OFFSET('Raw Data'!R40,Input_Details!$B$29,0))","v":0},{"$f":"IF(OFFSET('Raw Data'!S40,Input_Details!$B$29,0)=\"\", \"-\", OFFSET('Raw Data'!S40,Input_Details!$B$29,0))","v":0},42,null,{"$f":"IF(OFFSET('Raw Data'!AU40,Input_Details!$B$29,0)=\"\", \"-\", OFFSET('Raw Data'!AU40,Input_Details!$B$29,0))","v":6},{"$f":"IF(OFFSET('Raw Data'!AV40,Input_Details!$B$29,0)=\"\", \"-\", OFFSET('Raw Data'!AV40,Input_Details!$B$29,0))","v":7},{"$f":"IF(OFFSET('Raw Data'!AW40,Input_Details!$B$29,0)=\"\", \"-\", OFFSET('Raw Data'!AW40,Input_Details!$B$29,0))","v":0},{"$f":"IF(OFFSET('Raw Data'!AX40,Input_Details!$B$29,0)=\"\", \"-\", OFFSET('Raw Data'!AX40,Input_Details!$B$29,0))","v":0},{"$f":"IF(OFFSET('Raw Data'!AY40,Input_Details!$B$29,0)=\"\", \"-\", OFFSET('Raw Data'!AY40,Input_Details!$B$29,0))","v":1},{"$f":"IF(OFFSET('Raw Data'!AZ40,Input_Details!$B$29,0)=\"\", \"-\", OFFSET('Raw Data'!AZ40,Input_Details!$B$29,0))","v":0},{"$f":"IF(OFFSET('Raw Data'!BA40,Input_Details!$B$29,0)=\"\", \"-\", OFFSET('Raw Data'!BA40,Input_Details!$B$29,0))","v":0},{"$f":"IF(OFFSET('Raw Data'!BB40,Input_Details!$B$29,0)=\"\", \"-\", OFFSET('Raw Data'!BB40,Input_Details!$B$29,0))","v":0},{"$f":"IF(OFFSET('Raw Data'!BC40,Input_Details!$B$29,0)=\"\", \"-\", OFFSET('Raw Data'!BC40,Input_Details!$B$29,0))","v":0},{"$f":"IF(OFFSET('Raw Data'!BD40,Input_Details!$B$29,0)=\"\", \"-\", OFFSET('Raw Data'!BD40,Input_Details!$B$29,0))","v":0},{"$f":"IF(OFFSET('Raw Data'!BE40,Input_Details!$B$29,0)=\"\", \"-\", OFFSET('Raw Data'!BE40,Input_Details!$B$29,0))","v":0},{"$f":"IF(OFFSET('Raw Data'!BF40,Input_Details!$B$29,0)=\"\", \"-\", OFFSET('Raw Data'!BF40,Input_Details!$B$29,0))","v":0},14,null,8,39,0,6,3,0,0,0,0,0,0,0,56]
[null,"09:15:00",{"$f":"IF(OFFSET('Raw Data'!H41,Input_Details!$B$29,0)=\"\", \"-\", OFFSET('Raw Data'!H41,Input_Details!$B$29,0))","v":3},{"$f":"IF(OFFSET('Raw Data'!I41,Input_Details!$B$29,0)=\"\", \"-\", OFFSET('Raw Data'!I41,Input_Details!$B$29,0))","v":26},{"$f":"IF(OFFSET('Raw Data'!J41,Input_Details!$B$29,0)=\"\", \"-\", OFFSET('Raw Data'!J41,Input_Details!$B$29,0))","v":0},{"$f":"IF(OFFSET('Raw Data'!K41,Input_Details!$B$29,0)=\"\", \"-\", OFFSET('Raw Data'!K41,Input_Details!$B$29,0))","v":7},{"$f":"IF(OFFSET('Raw Data'!L41,Input_Details!$B$29,0)=\"\", \"-\", OFFSET('Raw Data'!L41,Input_Details!$B$29,0))","v":1},{"$f":"IF(OFFSET('Raw Data'!M41,Input_Details!$B$29,0)=\"\", \"-\", OFFSET('Raw Data'!M41,Input_Details!$B$29,0))","v":0},{"$f":"IF(OFFSET('Raw Data'!N41,Input_Details!$B$29,0)=\"\", \"-\", OFFSET('Raw Data'!N41,Input_Details!$B$29,0))","v":0},{"$f":"IF(OFFSET('Raw Data'!O41,Input_Details!$B$29,0)=\"\", \"-\", OFFSET('Raw Data'!O41,Input_Details!$B$29,0))","v":0},{"$f":"IF(OFFSET('Raw Data'!P41,Input_Details!$B$29,0)=\"\", \"-\", OFFSET('Raw Data'!P41,Input_Details!$B$29,0))","v":0},{"$f":"IF(OFFSET('Raw Data'!Q41,Input_Details!$B$29,0)=\"\", \"-\", OFFSET('Raw Data'!Q41,Input_Details!$B$29,0))","v":0},{"$f":"IF(OFFSET('Raw Data'!R41,Input_Details!$B$29,0)=\"\", \"-\", OFFSET('Raw Data'!R41,Input_Details!$B$29,0))","v":0},{"$f":"IF(OFFSET('Raw Data'!S41,Input_Details!$B$29,0)=\"\", \"-\", OFFSET('Raw Data'!S41,Input_Details!$B$29,0))","v":0},37,null,{"$f":"IF(OFFSET('Raw Data'!AU41,Input_Details!$B$29,0)=\"\", \"-\", OFFSET('Raw Data'!AU41,Input_Details!$B$29,0))","v":4},{"$f":"IF(OFFSET('Raw Data'!AV41,Input_Details!$B$29,0)=\"\", \"-\", OFFSET('Raw Data'!AV41,Input_Details!$B$29,0))","v":5},{"$f":"IF(OFFSET('Raw Data'!AW41,Input_Details!$B$29,0)=\"\", \"-\", OFFSET('Raw Data'!AW41,Input_Details!$B$29,0))","v":0},{"$f":"IF(OFFSET('Raw Data'!AX41,Input_Details!$B$29,0)=\"\", \"-\", OFFSET('Raw Data'!AX41,Input_Details!$B$29,0))","v":0},{"$f":"IF(OFFSET('Raw Data'!AY41,Input_Details!$B$29,0)=\"\", \"-\", OFFSET('Raw Data'!AY41,Input_Details!$B$29,0))","v":0},{"$f":"IF(OFFSET('Raw Data'!AZ41,Input_Details!$B$29,0)=\"\", \"-\", OFFSET('Raw Data'!AZ41,Input_Details!$B$29,0))","v":0},{"$f":"IF(OFFSET('Raw Data'!BA41,Input_Details!$B$29,0)=\"\", \"-\", OFFSET('Raw Data'!BA41,Input_Details!$B$29,0))","v":0},{"$f":"IF(OFFSET('Raw Data'!BB41,Input_Details!$B$29,0)=\"\", \"-\", OFFSET('Raw Data'!BB41,Input_Details!$B$29,0))","v":0},{"$f":"IF(OFFSET('Raw Data'!BC41,Input_Details!$B$29,0)=\"\", \"-\", OFFSET('Raw Data'!BC41,Input_Details!$B$29,0))","v":0},{"$f":"IF(OFFSET('Raw Data'!BD41,Input_Details!$B$29,0)=\"\", \"-\", OFFSET('Raw Data'!BD41,Input_Details!$B$29,0))","v":0},{"$f":"IF(OFFSET('Raw Data'!BE41,Input_Details!$B$29,0)=\"\", \"-\", OFFSET('Raw Data'!BE41,Input_Details!$B$29,0))","v":0},{"$f":"IF(OFFSET('Raw Data'!BF41,Input_Details!$B$29,0)=\"\", \"-\", OFFSET('Raw Data'!BF41,Input_Details!$B$29,0))","v":0},9,null,7,31,0,7,1,0,0,0,0,0,0,0,46]
[null,"09:30:00",{"$f":"IF(OFFSET('Raw Data'!H42,Input_Details!$B$29,0)=\"\", \"-\", OFFSET('Raw Data'!H42,Input_Details!$B$29,0))","v":2},{"$f":"IF(OFFSET('Raw Data'!I42,Input_Details!$B$29,0)=\"\", \"-\", OFFSET('Raw Data'!I42,Input_Details!$B$29,0))","v":30},{"$f":"IF(OFFSET('Raw Data'!J42,Input_Details!$B$29,0)=\"\", \"-\", OFFSET('Raw Data'!J42,Input_Details!$B$29,0))","v":0},{"$f":"IF(OFFSET('Raw Data'!K42,Input_Details!$B$29,0)=\"\", \"-\", OFFSET('Raw Data'!K42,Input_Details!$B$29,0))","v":5},{"$f":"IF(OFFSET('Raw Data'!L42,Input_Details!$B$29,0)=\"\", \"-\", OFFSET('Raw Data'!L42,Input_Details!$B$29,0))","v":1},{"$f":"IF(OFFSET('Raw Data'!M42,Input_Details!$B$29,0)=\"\", \"-\", OFFSET('Raw Data'!M42,Input_Details!$B$29,0))","v":0},{"$f":"IF(OFFSET('Raw Data'!N42,Input_Details!$B$29,0)=\"\", \"-\", OFFSET('Raw Data'!N42,Input_Details!$B$29,0))","v":0},{"$f":"IF(OFFSET('Raw Data'!O42,Input_Details!$B$29,0)=\"\", \"-\", OFFSET('Raw Data'!O42,Input_Details!$B$29,0))","v":0},{"$f":"IF(OFFSET('Raw Data'!P42,Input_Details!$B$29,0)=\"\", \"-\", OFFSET('Raw Data'!P42,Input_Details!$B$29,0))","v":0},{"$f":"IF(OFFSET('Raw Data'!Q42,Input_Details!$B$29,0)=\"\", \"-\", OFFSET('Raw Data'!Q42,Input_Details!$B$29,0))","v":0},{"$f":"IF(OFFSET('Raw Data'!R42,Input_Details!$B$29,0)=\"\", \"-\", OFFSET('Raw Data'!R42,Input_Details!$B$29,0))","v":0},{"$f":"IF(OFFSET('Raw Data'!S42,Input_Details!$B$29,0)=\"\", \"-\", OFFSET('Raw Data'!S42,Input_Details!$B$29,0))","v":0},38,null,{"$f":"IF(OFFSET('Raw Data'!AU42,Input_Details!$B$29,0)=\"\", \"-\", OFFSET('Raw Data'!AU42,Input_Details!$B$29,0))","v":3},{"$f":"IF(OFFSET('Raw Data'!AV42,Input_Details!$B$29,0)=\"\", \"-\", OFFSET('Raw Data'!AV42,Input_Details!$B$29,0))","v":6},{"$f":"IF(OFFSET('Raw Data'!AW42,Input_Details!$B$29,0)=\"\", \"-\", OFFSET('Raw Data'!AW42,Input_Details!$B$29,0))","v":0},{"$f":"IF(OFFSET('Raw Data'!AX42,Input_Details!$B$29,0)=\"\", \"-\", OFFSET('Raw Data'!AX42,Input_Details!$B$29,0))","v":0},{"$f":"IF(OFFSET('Raw Data'!AY42,Input_Details!$B$29,0)=\"\", \"-\", OFFSET('Raw Data'!AY42,Input_Details!$B$29,0))","v":0},{"$f":"IF(OFFSET('Raw Data'!AZ42,Input_Details!$B$29,0)=\"\", \"-\", OFFSET('Raw Data'!AZ42,Input_Details!$B$29,0))","v":0},{"$f":"IF(OFFSET('Raw Data'!BA42,Input_Details!$B$29,0)=\"\", \"-\", OFFSET('Raw Data'!BA42,Input_Details!$B$29,0))","v":0},{"$f":"IF(OFFSET('Raw Data'!BB42,Input_Details!$B$29,0)=\"\", \"-\", OFFSET('Raw Data'!BB42,Input_Details!$B$29,0))","v":0},{"$f":"IF(OFFSET('Raw Data'!BC42,Input_Details!$B$29,0)=\"\", \"-\", OFFSET('Raw Data'!BC42,Input_Details!$B$29,0))","v":0},{"$f":"IF(OFFSET('Raw Data'!BD42,Input_Details!$B$29,0)=\"\", \"-\", OFFSET('Raw Data'!BD42,Input_Details!$B$29,0))","v":0},{"$f":"IF(OFFSET('Raw Data'!BE42,Input_Details!$B$29,0)=\"\", \"-\", OFFSET('Raw Data'!BE42,Input_Details!$B$29,0))","v":0},{"$f":"IF(OFFSET('Raw Data'!BF42,Input_Details!$B$29,0)=\"\", \"-\", OFFSET('Raw Data'!BF42,Input_Details!$B$29,0))","v":0},9,null,5,36,0,5,1,0,0,0,0,0,0,0,47]
[null,"09:45:00",{"$f":"IF(OFFSET('Raw Data'!H43,Input_Details!$B$29,0)=\"\", \"-\", OFFSET('Raw Data'!H43,Input_Details!$B$29,0))","v":2},{"$f":"IF(OFFSET('Raw Data'!I43,Input_Details!$B$29,0)=\"\", \"-\", OFFSET('Raw Data'!I43,Input_Details!$B$29,0))","v":29},{"$f":"IF(OFFSET('Raw Data'!J43,Input_Details!$B$29,0)=\"\", \"-\", OFFSET('Raw Data'!J43,Input_Details!$B$29,0))","v":0},{"$f":"IF(OFFSET('Raw Data'!K43,Input_Details!$B$29,0)=\"\", \"-\", OFFSET('Raw Data'!K43,Input_Details!$B$29,0))","v":7},{"$f":"IF(OFFSET('Raw Data'!L43,Input_Details!$B$29,0)=\"\", \"-\", OFFSET('Raw Data'!L43,Input_Details!$B$29,0))","v":2},{"$f":"IF(OFFSET('Raw Data'!M43,Input_Details!$B$29,0)=\"\", \"-\", OFFSET('Raw Data'!M43,Input_Details!$B$29,0))","v":0},{"$f":"IF(OFFSET('Raw Data'!N43,Input_Details!$B$29,0)=\"\", \"-\", OFFSET('Raw Data'!N43,Input_Details!$B$29,0))","v":0},{"$f":"IF(OFFSET('Raw Data'!O43,Input_Details!$B$29,0)=\"\", \"-\", OFFSET('Raw Data'!O43,Input_Details!$B$29,0))","v":0},{"$f":"IF(OFFSET('Raw Data'!P43,Input_Details!$B$29,0)=\"\", \"-\", OFFSET('Raw Data'!P43,Input_Details!$B$29,0))","v":0},{"$f":"IF(OFFSET('Raw Data'!Q43,Input_Details!$B$29,0)=\"\", \"-\", OFFSET('Raw Data'!Q43,Input_Details!$B$29,0))","v":0},{"$f":"IF(OFFSET('Raw Data'!R43,Input_Details!$B$29,0)=\"\", \"-\", OFFSET('Raw Data'!R43,Input_Details!$B$29,0))","v":0},{"$f":"IF(OFFSET('Raw Data'!S43,Input_Details!$B$29,0)=\"\", \"-\", OFFSET('Raw Data'!S43,Input_Details!$B$29,0))","v":0},40,null,{"$f":"IF(OFFSET('Raw Data'!AU43,Input_Details!$B$29,0)=\"\", \"-\", OFFSET('Raw Data'!AU43,Input_Details!$B$29,0))","v":3},{"$f":"IF(OFFSET('Raw Data'!AV43,Input_Details!$B$29,0)=\"\", \"-\", OFFSET('Raw Data'!AV43,Input_Details!$B$29,0))","v":5},{"$f":"IF(OFFSET('Raw Data'!AW43,Input_Details!$B$29,0)=\"\", \"-\", OFFSET('Raw Data'!AW43,Input_Details!$B$29,0))","v":0},{"$f":"IF(OFFSET('Raw Data'!AX43,Input_Details!$B$29,0)=\"\", \"-\", OFFSET('Raw Data'!AX43,Input_Details!$B$29,0))","v":0},{"$f":"IF(OFFSET('Raw Data'!AY43,Input_Details!$B$29,0)=\"\", \"-\", OFFSET('Raw Data'!AY43,Input_Details!$B$29,0))","v":1},{"$f":"IF(OFFSET('Raw Data'!AZ43,Input_Details!$B$29,0)=\"\", \"-\", OFFSET('Raw Data'!AZ43,Input_Details!$B$29,0))","v":0},{"$f":"IF(OFFSET('Raw Data'!BA43,Input_Details!$B$29,0)=\"\", \"-\", OFFSET('Raw Data'!BA43,Input_Details!$B$29,0))","v":0},{"$f":"IF(OFFSET('Raw Data'!BB43,Input_Details!$B$29,0)=\"\", \"-\", OFFSET('Raw Data'!BB43,Input_Details!$B$29,0))","v":0},{"$f":"IF(OFFSET('Raw Data'!BC43,Input_Details!$B$29,0)=\"\", \"-\", OFFSET('Raw Data'!BC43,Input_Details!$B$29,0))","v":0},{"$f":"IF(OFFSET('Raw Data'!BD43,Input_Details!$B$29,0)=\"\", \"-\", OFFSET('Raw Data'!BD43,Input_Details!$B$29,0))","v":0},{"$f":"IF(OFFSET('Raw Data'!BE43,Input_Details!$B$29,0)=\"\", \"-\", OFFSET('Raw Data'!BE43,Input_Details!$B$29,0))","v":0},{"$f":"IF(OFFSET('Raw Data'!BF43,Input_Details!$B$29,0)=\"\", \"-\", OFFSET('Raw Data'!BF43,Input_Details!$B$29,0))","v":0},9,null,5,34,0,7,3,0,0,0,0,0,0,0,49]
[null,"10:00:00",{"$f":"IF(OFFSET('Raw Data'!H44,Input_Details!$B$29,0)=\"\", \"-\", OFFSET('Raw Data'!H44,Input_Details!$B$29,0))","v":2},{"$f":"IF(OFFSET('Raw Data'!I44,Input_Details!$B$29,0)=\"\", \"-\", OFFSET('Raw Data'!I44,Input_Details!$B$29,0))","v":31},{"$f":"IF(OFFSET('Raw Data'!J44,Input_Details!$B$29,0)=\"\", \"-\", OFFSET('Raw Data'!J44,Input_Details!$B$29,0))","v":0},{"$f":"IF(OFFSET('Raw Data'!K44,Input_Details!$B$29,0)=\"\", \"-\", OFFSET('Raw Data'!K44,Input_Details!$B$29,0))","v":5},{"$f":"IF(OFFSET('Raw Data'!L44,Input_Details!$B$29,0)=\"\", \"-\", OFFSET('Raw Data'!L44,Input_Details!$B$29,0))","v":1},{"$f":"IF(OFFSET('Raw Data'!M44,Input_Details!$B$29,0)=\"\", \"-\", OFFSET('Raw Data'!M44,Input_Details!$B$29,0))","v":1},{"$f":"IF(OFFSET('Raw Data'!N44,Input_Details!$B$29,0)=\"\", \"-\", OFFSET('Raw Data'!N44,Input_Details!$B$29,0))","v":0},{"$f":"IF(OFFSET('Raw Data'!O44,Input_Details!$B$29,0)=\"\", \"-\", OFFSET('Raw Data'!O44,Input_Details!$B$29,0))","v":0},{"$f":"IF(OFFSET('Raw Data'!P44,Input_Details!$B$29,0)=\"\", \"-\", OFFSET('Raw Data'!P44,Input_Details!$B$29,0))","v":0},{"$f":"IF(OFFSET('Raw Data'!Q44,Input_Details!$B$29,0)=\"\", \"-\", OFFSET('Raw Data'!Q44,Input_Details!$B$29,0))","v":0},{"$f":"IF(OFFSET('Raw Data'!R44,Input_Details!$B$29,0)=\"\", \"-\", OFFSET('Raw Data'!R44,Input_Details!$B$29,0))","v":0},{"$f":"IF(OFFSET('Raw Data'!S44,Input_Details!$B$29,0)=\"\", \"-\", OFFSET('Raw Data'!S44,Input_Details!$B$29,0))","v":0},40,null,{"$f":"IF(OFFSET('Raw Data'!AU44,Input_Details!$B$29,0)=\"\", \"-\", OFFSET('Raw Data'!AU44,Input_Details!$B$29,0))","v":2},{"$f":"IF(OFFSET('Raw Data'!AV44,Input_Details!$B$29,0)=\"\", \"-\", OFFSET('Raw Data'!AV44,Input_Details!$B$29,0))","v":5},{"$f":"IF(OFFSET('Raw Data'!AW44,Input_Details!$B$29,0)=\"\", \"-\", OFFSET('Raw Data'!AW44,Input_Details!$B$29,0))","v":0},{"$f":"IF(OFFSET('Raw Data'!AX44,Input_Details!$B$29,0)=\"\", \"-\", OFFSET('Raw Data'!AX44,Input_Details!$B$29,0))","v":0},{"$f":"IF(OFFSET('Raw Data'!AY44,Input_Details!$B$29,0)=\"\", \"-\", OFFSET('Raw Data'!AY44,Input_Details!$B$29,0))","v":0},{"$f":"IF(OFFSET('Raw Data'!AZ44,Input_Details!$B$29,0)=\"\", \"-\", OFFSET('Raw Data'!AZ44,Input_Details!$B$29,0))","v":0},{"$f":"IF(OFFSET('Raw Data'!BA44,Input_Details!$B$29,0)=\"\", \"-\", OFFSET('Raw Data'!BA44,Input_Details!$B$29,0))","v":0},{"$f":"IF(OFFSET('Raw Data'!BB44,Input_Details!$B$29,0)=\"\", \"-\", OFFSET('Raw Data'!BB44,Input_Details!$B$29,0))","v":0},{"$f":"IF(OFFSET('Raw Data'!BC44,Input_Details!$B$29,0)=\"\", \"-\", OFFSET('Raw Data'!BC44,Input_Details!$B$29,0))","v":0},{"$f":"IF(OFFSET('Raw Data'!BD44,Input_Details!$B$29,0)=\"\", \"-\", OFFSET('Raw Data'!BD44,Input_Details!$B$29,0))","v":0},{"$f":"IF(OFFSET('Raw Data'!BE44,Input_Details!$B$29,0)=\"\", \"-\", OFFSET('Raw Data'!BE44,Input_Details!$B$29,0))","v":0},{"$f":"IF(OFFSET('Raw Data'!BF44,Input_Details!$B$29,0)=\"\", \"-\", OFFSET('Raw Data'!BF44,Input_Details!$B$29,0))","v":0},7,null,4,36,0,5,1,1,0,0,0,0,0,0,47]
[null,"10:15:00",{"$f":"IF(OFFSET('Raw Data'!H45,Input_Details!$B$29,0)=\"\", \"-\", OFFSET('Raw Data'!H45,Input_Details!$B$29,0))","v":3},{"$f":"IF(OFFSET('Raw Data'!I45,Input_Details!$B$29,0)=\"\", \"-\", OFFSET('Raw Data'!I45,Input_Details!$B$29,0))","v":34},{"$f":"IF(OFFSET('Raw Data'!J45,Input_Details!$B$29,0)=\"\", \"-\", OFFSET('Raw Data'!J45,Input_Details!$B$29,0))","v":0},{"$f":"IF(OFFSET('Raw Data'!K45,Input_Details!$B$29,0)=\"\", \"-\", OFFSET('Raw Data'!K45,Input_Details!$B$29,0))","v":8},{"$f":"IF(OFFSET('Raw Data'!L45,Input_Details!$B$29,0)=\"\", \"-\", OFFSET('Raw Data'!L45,Input_Details!$B$29,0))","v":1},{"$f":"IF(OFFSET('Raw Data'!M45,Input_Details!$B$29,0)=\"\", \"-\", OFFSET('Raw Data'!M45,Input_Details!$B$29,0))","v":0},{"$f":"IF(OFFSET('Raw Data'!N45,Input_Details!$B$29,0)=\"\", \"-\", OFFSET('Raw Data'!N45,Input_Details!$B$29,0))","v":0},{"$f":"IF(OFFSET('Raw Data'!O45,Input_Details!$B$29,0)=\"\", \"-\", OFFSET('Raw Data'!O45,Input_Details!$B$29,0))","v":0},{"$f":"IF(OFFSET('Raw Data'!P45,Input_Details!$B$29,0)=\"\", \"-\", OFFSET('Raw Data'!P45,Input_Details!$B$29,0))","v":0},{"$f":"IF(OFFSET('Raw Data'!Q45,Input_Details!$B$29,0)=\"\", \"-\", OFFSET('Raw Data'!Q45,Input_Details!$B$29,0))","v":0},{"$f":"IF(OFFSET('Raw Data'!R45,Input_Details!$B$29,0)=\"\", \"-\", OFFSET('Raw Data'!R45,Input_Details!$B$29,0))","v":0},{"$f":"IF(OFFSET('Raw Data'!S45,Input_Details!$B$29,0)=\"\", \"-\", OFFSET('Raw Data'!S45,Input_Details!$B$29,0))","v":0},46,null,{"$f":"IF(OFFSET('Raw Data'!AU45,Input_Details!$B$29,0)=\"\", \"-\", OFFSET('Raw Data'!AU45,Input_Details!$B$29,0))","v":2},{"$f":"IF(OFFSET('Raw Data'!AV45,Input_Details!$B$29,0)=\"\", \"-\", OFFSET('Raw Data'!AV45,Input_Details!$B$29,0))","v":7},{"$f":"IF(OFFSET('Raw Data'!AW45,Input_Details!$B$29,0)=\"\", \"-\", OFFSET('Raw Data'!AW45,Input_Details!$B$29,0))","v":0},{"$f":"IF(OFFSET('Raw Data'!AX45,Input_Details!$B$29,0)=\"\", \"-\", OFFSET('Raw Data'!AX45,Input_Details!$B$29,0))","v":0},{"$f":"IF(OFFSET('Raw Data'!AY45,Input_Details!$B$29,0)=\"\", \"-\", OFFSET('Raw Data'!AY45,Input_Details!$B$29,0))","v":0},{"$f":"IF(OFFSET('Raw Data'!AZ45,Input_Details!$B$29,0)=\"\", \"-\", OFFSET('Raw Data'!AZ45,Input_Details!$B$29,0))","v":0},{"$f":"IF(OFFSET('Raw Data'!BA45,Input_Details!$B$29,0)=\"\", \"-\", OFFSET('Raw Data'!BA45,Input_Details!$B$29,0))","v":0},{"$f":"IF(OFFSET('Raw Data'!BB45,Input_Details!$B$29,0)=\"\", \"-\", OFFSET('Raw Data'!BB45,Input_Details!$B$29,0))","v":0},{"$f":"IF(OFFSET('Raw Data'!BC45,Input_Details!$B$29,0)=\"\", \"-\", OFFSET('Raw Data'!BC45,Input_Details!$B$29,0))","v":0},{"$f":"IF(OFFSET('Raw Data'!BD45,Input_Details!$B$29,0)=\"\", \"-\", OFFSET('Raw Data'!BD45,Input_Details!$B$29,0))","v":0},{"$f":"IF(OFFSET('Raw Data'!BE45,Input_Details!$B$29,0)=\"\", \"-\", OFFSET('Raw Data'!BE45,Input_Details!$B$29,0))","v":0},{"$f":"IF(OFFSET('Raw Data'!BF45,Input_Details!$B$29,0)=\"\", \"-\", OFFSET('Raw Data'!BF45,Input_Details!$B$29,0))","v":0},9,null,5,41,0,8,1,0,0,0,0,0,0,0,55]
[null,"10:30:00",{"$f":"IF(OFFSET('Raw Data'!H46,Input_Details!$B$29,0)=\"\", \"-\", OFFSET('Raw Data'!H46,Input_Details!$B$29,0))","v":2},{"$f":"IF(OFFSET('Raw Data'!I46,Input_Details!$B$29,0)=\"\", \"-\", OFFSET('Raw Data'!I46,Input_Details!$B$29,0))","v":34},{"$f":"IF(OFFSET('Raw Data'!J46,Input_Details!$B$29,0)=\"\", \"-\", OFFSET('Raw Data'!J46,Input_Details!$B$29,0))","v":0},{"$f":"IF(OFFSET('Raw Data'!K46,Input_Details!$B$29,0)=\"\", \"-\", OFFSET('Raw Data'!K46,Input_Details!$B$29,0))","v":9},{"$f":"IF(OFFSET('Raw Data'!L46,Input_Details!$B$29,0)=\"\", \"-\", OFFSET('Raw Data'!L46,Input_Details!$B$29,0))","v":2},{"$f":"IF(OFFSET('Raw Data'!M46,Input_Details!$B$29,0)=\"\", \"-\", OFFSET('Raw Data'!M46,Input_Details!$B$29,0))","v":1},{"$f":"IF(OFFSET('Raw Data'!N46,Input_Details!$B$29,0)=\"\", \"-\", OFFSET('Raw Data'!N46,Input_Details!$B$29,0))","v":0},{"$f":"IF(OFFSET('Raw Data'!O46,Input_Details!$B$29,0)=\"\", \"-\", OFFSET('Raw Data'!O46,Input_Details!$B$29,0))","v":0},{"$f":"IF(OFFSET('Raw Data'!P46,Input_Details!$B$29,0)=\"\", \"-\", OFFSET('Raw Data'!P46,Input_Details!$B$29,0))","v":0},{"$f":"IF(OFFSET('Raw Data'!Q46,Input_Details!$B$29,0)=\"\", \"-\", OFFSET('Raw Data'!Q46,Input_Details!$B$29,0))","v":0},{"$f":"IF(OFFSET('Raw Data'!R46,Input_Details!$B$29,0)=\"\", \"-\", OFFSET('Raw Data'!R46,Input_Details!$B$29,0))","v":0},{"$f":"IF(OFFSET('Raw Data'!S46,Input_Details!$B$29,0)=\"\", \"-\", OFFSET('Raw Data'!S46,Input_Details!$B$29,0))","v":0},48,null,{"$f":"IF(OFFSET('Raw Data'!AU46,Input_Details!$B$29,0)=\"\", \"-\", OFFSET('Raw Data'!AU46,Input_Details!$B$29,0))","v":2},{"$f":"IF(OFFSET('Raw Data'!AV46,Input_Details!$B$29,0)=\"\", \"-\", OFFSET('Raw Data'!AV46,Input_Details!$B$29,0))","v":5},{"$f":"IF(OFFSET('Raw Data'!AW46,Input_Details!$B$29,0)=\"\", \"-\", OFFSET('Raw Data'!AW46,Input_Details!$B$29,0))","v":0},{"$f":"IF(OFFSET('Raw Data'!AX46,Input_Details!$B$29,0)=\"\", \"-\", OFFSET('Raw Data'!AX46,Input_Details!$B$29,0))","v":0},{"$f":"IF(OFFSET('Raw Data'!AY46,Input_Details!$B$29,0)=\"\", \"-\", OFFSET('Raw Data'!AY46,Input_Details!$B$29,0))","v":1},{"$f":"IF(OFFSET('Raw Data'!AZ46,Input_Details!$B$29,0)=\"\", \"-\", OFFSET('Raw Data'!AZ46,Input_Details!$B$29,0))","v":0},{"$f":"IF(OFFSET('Raw Data'!BA46,Input_Details!$B$29,0)=\"\", \"-\", OFFSET('Raw Data'!BA46,Input_Details!$B$29,0))","v":0},{"$f":"IF(OFFSET('Raw Data'!BB46,Input_Details!$B$29,0)=\"\", \"-\", OFFSET('Raw Data'!BB46,Input_Details!$B$29,0))","v":0},{"$f":"IF(OFFSET('Raw Data'!BC46,Input_Details!$B$29,0)=\"\", \"-\", OFFSET('Raw Data'!BC46,Input_Details!$B$29,0))","v":0},{"$f":"IF(OFFSET('Raw Data'!BD46,Input_Details!$B$29,0)=\"\", \"-\", OFFSET('Raw Data'!BD46,Input_Details!$B$29,0))","v":0},{"$f":"IF(OFFSET('Raw Data'!BE46,Input_Details!$B$29,0)=\"\", \"-\", OFFSET('Raw Data'!BE46,Input_Details!$B$29,0))","v":0},{"$f":"IF(OFFSET('Raw Data'!BF46,Input_Details!$B$29,0)=\"\", \"-\", OFFSET('Raw Data'!BF46,Input_Details!$B$29,0))","v":0},8,null,4,39,0,9,3,1,0,0,0,0,0,0,56]
[null,"10:45:00",{"$f":"IF(OFFSET('Raw Data'!H47,Input_Details!$B$29,0)=\"\", \"-\", OFFSET('Raw Data'!H47,Input_Details!$B$29,0))","v":3},{"$f":"IF(OFFSET('Raw Data'!I47,Input_Details!$B$29,0)=\"\", \"-\", OFFSET('Raw Data'!I47,Input_Details!$B$29,0))","v":38},{"$f":"IF(OFFSET('Raw Data'!J47,Input_Details!$B$29,0)=\"\", \"-\", OFFSET('Raw Data'!J47,Input_Details!$B$29,0))","v":0},{"$f":"IF(OFFSET('Raw Data'!K47,Input_Details!$B$29,0)=\"\", \"-\", OFFSET('Raw Data'!K47,Input_Details!$B$29,0))","v":9},{"$f":"IF(OFFSET('Raw Data'!L47,Input_Details!$B$29,0)=\"\", \"-\", OFFSET('Raw Data'!L47,Input_Details!$B$29,0))","v":2},{"$f":"IF(OFFSET('Raw Data'!M47,Input_Details!$B$29,0)=\"\", \"-\", OFFSET('Raw Data'!M47,Input_Details!$B$29,0))","v":0},{"$f":"IF(OFFSET('Raw Data'!N47,Input_Details!$B$29,0)=\"\", \"-\", OFFSET('Raw Data'!N47,Input_Details!$B$29,0))","v":0},{"$f":"IF(OFFSET('Raw Data'!O47,Input_Details!$B$29,0)=\"\", \"-\", OFFSET('Raw Data'!O47,Input_Details!$B$29,0))","v":0},{"$f":"IF(OFFSET('Raw Data'!P47,Input_Details!$B$29,0)=\"\", \"-\", OFFSET('Raw Data'!P47,Input_Details!$B$29,0))","v":0},{"$f":"IF(OFFSET('Raw Data'!Q47,Input_Details!$B$29,0)=\"\", \"-\", OFFSET('Raw Data'!Q47,Input_Details!$B$29,0))","v":0},{"$f":"IF(OFFSET('Raw Data'!R47,Input_Details!$B$29,0)=\"\", \"-\", OFFSET('Raw Data'!R47,Input_Details!$B$29,0))","v":0},{"$f":"IF(OFFSET('Raw Data'!S47,Input_Details!$B$29,0)=\"\", \"-\", OFFSET('Raw Data'!S47,Input_Details!$B$29,0))","v":0},52,null,{"$f":"IF(OFFSET('Raw Data'!AU47,Input_Details!$B$29,0)=\"\", \"-\", OFFSET('Raw Data'!AU47,Input_Details!$B$29,0))","v":2},{"$f":"IF(OFFSET('Raw Data'!AV47,Input_Details!$B$29,0)=\"\", \"-\", OFFSET('Raw Data'!AV47,Input_Details!$B$29,0))","v":6},{"$f":"IF(OFFSET('Raw Data'!AW47,Input_Details!$B$29,0)=\"\", \"-\", OFFSET('Raw Data'!AW47,Input_Details!$B$29,0))","v":0},{"$f":"IF(OFFSET('Raw Data'!AX47,Input_Details!$B$29,0)=\"\", \"-\", OFFSET('Raw Data'!AX47,Input_Details!$B$29,0))","v":0},{"$f":"IF(OFFSET('Raw Data'!AY47,Input_Details!$B$29,0)=\"\", \"-\", OFFSET('Raw Data'!AY47,Input_Details!$B$29,0))","v":0},{"$f":"IF(OFFSET('Raw Data'!AZ47,Input_Details!$B$29,0)=\"\", \"-\", OFFSET('Raw Data'!AZ47,Input_Details!$B$29,0))","v":0},{"$f":"IF(OFFSET('Raw Data'!BA47,Input_Details!$B$29,0)=\"\", \"-\", OFFSET('Raw Data'!BA47,Input_Details!$B$29,0))","v":0},{"$f":"IF(OFFSET('Raw Data'!BB47,Input_Details!$B$29,0)=\"\", \"-\", OFFSET('Raw Data'!BB47,Input_Details!$B$29,0))","v":0},{"$f":"IF(OFFSET('Raw Data'!BC47,Input_Details!$B$29,0)=\"\", \"-\", OFFSET('Raw Data'!BC47,Input_Details!$B$29,0))","v":0},{"$f":"IF(OFFSET('Raw Data'!BD47,Input_Details!$B$29,0)=\"\", \"-\", OFFSET('Raw Data'!BD47,Input_Details!$B$29,0))","v":0},{"$f":"IF(OFFSET('Raw Data'!BE47,Input_Details!$B$29,0)=\"\", \"-\", OFFSET('Raw Data'!BE47,Input_Details!$B$29,0))","v":0},{"$f":"IF(OFFSET('Raw Data'!BF47,Input_Details!$B$29,0)=\"\", \"-\", OFFSET('Raw Data'!BF47,Input_Details!$B$29,0))","v":0},8,null,5,44,0,9,2,0,0,0,0,0,0,0,60]
[null,"11:00:00",{"$f":"IF(OFFSET('Raw Data'!H48,Input_Details!$B$29,0)=\"\", \"-\", OFFSET('Raw Data'!H48,Input_Details!$B$29,0))","v":3},{"$f":"IF(OFFSET('Raw Data'!I48,Input_Details!$B$29,0)=\"\", \"-\", OFFSET('Raw Data'!I48,Input_Details!$B$29,0))","v":36},{"$f":"IF(OFFSET('Raw Data'!J48,Input_Details!$B$29,0)=\"\", \"-\", OFFSET('Raw Data'!J48,Input_Details!$B$29,0))","v":0},{"$f":"IF(OFFSET('Raw Data'!K48,Input_Details!$B$29,0)=\"\", \"-\", OFFSET('Raw Data'!K48,Input_Details!$B$29,0))","v":9},{"$f":"IF(OFFSET('Raw Data'!L48,Input_Details!$B$29,0)=\"\", \"-\", OFFSET('Raw Data'!L48,Input_Details!$B$29,0))","v":2},{"$f":"IF(OFFSET('Raw Data'!M48,Input_Details!$B$29,0)=\"\", \"-\", OFFSET('Raw Data'!M48,Input_Details!$B$29,0))","v":0},{"$f":"IF(OFFSET('Raw Data'!N48,Input_Details!$B$29,0)=\"\", \"-\", OFFSET('Raw Data'!N48,Input_Details!$B$29,0))","v":0},{"$f":"IF(OFFSET('Raw Data'!O48,Input_Details!$B$29,0)=\"\", \"-\", OFFSET('Raw Data'!O48,Input_Details!$B$29,0))","v":0},{"$f":"IF(OFFSET('Raw Data'!P48,Input_Details!$B$29,0)=\"\", \"-\", OFFSET('Raw Data'!P48,Input_Details!$B$29,0))","v":0},{"$f":"IF(OFFSET('Raw Data'!Q48,Input_Details!$B$29,0)=\"\", \"-\", OFFSET('Raw Data'!Q48,Input_Details!$B$29,0))","v":0},{"$f":"IF(OFFSET('Raw Data'!R48,Input_Details!$B$29,0)=\"\", \"-\", OFFSET('Raw Data'!R48,Input_Details!$B$29,0))","v":0},{"$f":"IF(OFFSET('Raw Data'!S48,Input_Details!$B$29,0)=\"\", \"-\", OFFSET('Raw Data'!S48,Input_Details!$B$29,0))","v":0},50,null,{"$f":"IF(OFFSET('Raw Data'!AU48,Input_Details!$B$29,0)=\"\", \"-\", OFFSET('Raw Data'!AU48,Input_Details!$B$29,0))","v":2},{"$f":"IF(OFFSET('Raw Data'!AV48,Input_Details!$B$29,0)=\"\", \"-\", OFFSET('Raw Data'!AV48,Input_Details!$B$29,0))","v":5},{"$f":"IF(OFFSET('Raw Data'!AW48,Input_Details!$B$29,0)=\"\", \"-\", OFFSET('Raw Data'!AW48,Input_Details!$B$29,0))","v":0},{"$f":"IF(OFFSET('Raw Data'!AX48,Input_Details!$B$29,0)=\"\", \"-\", OFFSET('Raw Data'!AX48,Input_Details!$B$29,0))","v":0},{"$f":"IF(OFFSET('Raw Data'!AY48,Input_Details!$B$29,0)=\"\", \"-\", OFFSET('Raw Data'!AY48,Input_Details!$B$29,0))","v":0},{"$f":"IF(OFFSET('Raw Data'!AZ48,Input_Details!$B$29,0)=\"\", \"-\", OFFSET('Raw Data'!AZ48,Input_Details!$B$29,0))","v":0},{"$f":"IF(OFFSET('Raw Data'!BA48,Input_Details!$B$29,0)=\"\", \"-\", OFFSET('Raw Data'!BA48,Input_Details!$B$29,0))","v":0},{"$f":"IF(OFFSET('Raw Data'!BB48,Input_Details!$B$29,0)=\"\", \"-\", OFFSET('Raw Data'!BB48,Input_Details!$B$29,0))","v":0},{"$f":"IF(OFFSET('Raw Data'!BC48,Input_Details!$B$29,0)=\"\", \"-\", OFFSET('Raw Data'!BC48,Input_Details!$B$29,0))","v":0},{"$f":"IF(OFFSET('Raw Data'!BD48,Input_Details!$B$29,0)=\"\", \"-\", OFFSET('Raw Data'!BD48,Input_Details!$B$29,0))","v":0},{"$f":"IF(OFFSET('Raw Data'!BE48,Input_Details!$B$29,0)=\"\", \"-\", OFFSET('Raw Data'!BE48,Input_Details!$B$29,0))","v":0},{"$f":"IF(OFFSET('Raw Data'!BF48,Input_Details!$B$29,0)=\"\", \"-\", OFFSET('Raw Data'!BF48,Input_Details!$B$29,0))","v":0},7,null,5,41,0,9,2,0,0,0,0,0,0,0,57]
[null,"11:15:00",{"$f":"IF(OFFSET('Raw Data'!H49,Input_Details!$B$29,0)=\"\", \"-\", OFFSET('Raw Data'!H49,Input_Details!$B$29,0))","v":4},{"$f":"IF(OFFSET('Raw Data'!I49,Input_Details!$B$29,0)=\"\", \"-\", OFFSET('Raw Data'!I49,Input_Details!$B$29,0))","v":36},{"$f":"IF(OFFSET('Raw Data'!J49,Input_Details!$B$29,0)=\"\", \"-\", OFFSET('Raw Data'!J49,Input_Details!$B$29,0))","v":0},{"$f":"IF(OFFSET('Raw Data'!K49,Input_Details!$B$29,0)=\"\", \"-\", OFFSET('Raw Data'!K49,Input_Details!$B$29,0))","v":7},{"$f":"IF(OFFSET('Raw Data'!L49,Input_Details!$B$29,0)=\"\", \"-\", OFFSET('Raw Data'!L49,Input_Details!$B$29,0))","v":0},{"$f":"IF(OFFSET('Raw Data'!M49,Input_Details!$B$29,0)=\"\", \"-\", OFFSET('Raw Data'!M49,Input_Details!$B$29,0))","v":1},{"$f":"IF(OFFSET('Raw Data'!N49,Input_Details!$B$29,0)=\"\", \"-\", OFFSET('Raw Data'!N49,Input_Details!$B$29,0))","v":0},{"$f":"IF(OFFSET('Raw Data'!O49,Input_Details!$B$29,0)=\"\", \"-\", OFFSET('Raw Data'!O49,Input_Details!$B$29,0))","v":0},{"$f":"IF(OFFSET('Raw Data'!P49,Input_Details!$B$29,0)=\"\", \"-\", OFFSET('Raw Data'!P49,Input_Details!$B$29,0))","v":0},{"$f":"IF(OFFSET('Raw Data'!Q49,Input_Details!$B$29,0)=\"\", \"-\", OFFSET('Raw Data'!Q49,Input_Details!$B$29,0))","v":0},{"$f":"IF(OFFSET('Raw Data'!R49,Input_Details!$B$29,0)=\"\", \"-\", OFFSET('Raw Data'!R49,Input_Details!$B$29,0))","v":0},{"$f":"IF(OFFSET('Raw Data'!S49,Input_Details!$B$29,0)=\"\", \"-\", OFFSET('Raw Data'!S49,Input_Details!$B$29,0))","v":0},48,null,{"$f":"IF(OFFSET('Raw Data'!AU49,Input_Details!$B$29,0)=\"\", \"-\", OFFSET('Raw Data'!AU49,Input_Details!$B$29,0))","v":2},{"$f":"IF(OFFSET('Raw Data'!AV49,Input_Details!$B$29,0)=\"\", \"-\", OFFSET('Raw Data'!AV49,Input_Details!$B$29,0))","v":5},{"$f":"IF(OFFSET('Raw Data'!AW49,Input_Details!$B$29,0)=\"\", \"-\", OFFSET('Raw Data'!AW49,Input_Details!$B$29,0))","v":0},{"$f":"IF(OFFSET('Raw Data'!AX49,Input_Details!$B$29,0)=\"\", \"-\", OFFSET('Raw Data'!AX49,Input_Details!$B$29,0))","v":0},{"$f":"IF(OFFSET('Raw Data'!AY49,Input_Details!$B$29,0)=\"\", \"-\", OFFSET('Raw Data'!AY49,Input_Details!$B$29,0))","v":0},{"$f":"IF(OFFSET('Raw Data'!AZ49,Input_Details!$B$29,0)=\"\", \"-\", OFFSET('Raw Data'!AZ49,Input_Details!$B$29,0))","v":0},{"$f":"IF(OFFSET('Raw Data'!BA49,Input_Details!$B$29,0)=\"\", \"-\", OFFSET('Raw Data'!BA49,Input_Details!$B$29,0))","v":0},{"$f":"IF(OFFSET('Raw Data'!BB49,Input_Details!$B$29,0)=\"\", \"-\", OFFSET('Raw Data'!BB49,Input_Details!$B$29,0))","v":0},{"$f":"IF(OFFSET('Raw Data'!BC49,Input_Details!$B$29,0)=\"\", \"-\", OFFSET('Raw Data'!BC49,Input_Details!$B$29,0))","v":0},{"$f":"IF(OFFSET('Raw Data'!BD49,Input_Details!$B$29,0)=\"\", \"-\", OFFSET('Raw Data'!BD49,Input_Details!$B$29,0))","v":0},{"$f":"IF(OFFSET('Raw Data'!BE49,Input_Details!$B$29,0)=\"\", \"-\", OFFSET('Raw Data'!BE49,Input_Details!$B$29,0))","v":0},{"$f":"IF(OFFSET('Raw Data'!BF49,Input_Details!$B$29,0)=\"\", \"-\", OFFSET('Raw Data'!BF49,Input_Details!$B$29,0))","v":0},7,null,6,41,0,7,0,1,0,0,0,0,0,0,55]
[null,"11:30:00",{"$f":"IF(OFFSET('Raw Data'!H50,Input_Details!$B$29,0)=\"\", \"-\", OFFSET('Raw Data'!H50,Input_Details!$B$29,0))","v":3},{"$f":"IF(OFFSET('Raw Data'!I50,Input_Details!$B$29,0)=\"\", \"-\", OFFSET('Raw Data'!I50,Input_Details!$B$29,0))","v":35},{"$f":"IF(OFFSET('Raw Data'!J50,Input_Details!$B$29,0)=\"\", \"-\", OFFSET('Raw Data'!J50,Input_Details!$B$29,0))","v":0},{"$f":"IF(OFFSET('Raw Data'!K50,Input_Details!$B$29,0)=\"\", \"-\", OFFSET('Raw Data'!K50,Input_Details!$B$29,0))","v":8},{"$f":"IF(OFFSET('Raw Data'!L50,Input_Details!$B$29,0)=\"\", \"-\", OFFSET('Raw Data'!L50,Input_Details!$B$29,0))","v":1},{"$f":"IF(OFFSET('Raw Data'!M50,Input_Details!$B$29,0)=\"\", \"-\", OFFSET('Raw Data'!M50,Input_Details!$B$29,0))","v":1},{"$f":"IF(OFFSET('Raw Data'!N50,Input_Details!$B$29,0)=\"\", \"-\", OFFSET('Raw Data'!N50,Input_Details!$B$29,0))","v":0},{"$f":"IF(OFFSET('Raw Data'!O50,Input_Details!$B$29,0)=\"\", \"-\", OFFSET('Raw Data'!O50,Input_Details!$B$29,0))","v":0},{"$f":"IF(OFFSET('Raw Data'!P50,Input_Details!$B$29,0)=\"\", \"-\", OFFSET('Raw Data'!P50,Input_Details!$B$29,0))","v":0},{"$f":"IF(OFFSET('Raw Data'!Q50,Input_Details!$B$29,0)=\"\", \"-\", OFFSET('Raw Data'!Q50,Input_Details!$B$29,0))","v":0},{"$f":"IF(OFFSET('Raw Data'!R50,Input_Details!$B$29,0)=\"\", \"-\", OFFSET('Raw Data'!R50,Input_Details!$B$29,0))","v":0},{"$f":"IF(OFFSET('Raw Data'!S50,Input_Details!$B$29,0)=\"\", \"-\", OFFSET('Raw Data'!S50,Input_Details!$B$29,0))","v":0},48,null,{"$f":"IF(OFFSET('Raw Data'!AU50,Input_Details!$B$29,0)=\"\", \"-\", OFFSET('Raw Data'!AU50,Input_Details!$B$29,0))","v":1},{"$f":"IF(OFFSET('Raw Data'!AV50,Input_Details!$B$29,0)=\"\", \"-\", OFFSET('Raw Data'!AV50,Input_Details!$B$29,0))","v":4},{"$f":"IF(OFFSET('Raw Data'!AW50,Input_Details!$B$29,0)=\"\", \"-\", OFFSET('Raw Data'!AW50,Input_Details!$B$29,0))","v":0},{"$f":"IF(OFFSET('Raw Data'!AX50,Input_Details!$B$29,0)=\"\", \"-\", OFFSET('Raw Data'!AX50,Input_Details!$B$29,0))","v":0},{"$f":"IF(OFFSET('Raw Data'!AY50,Input_Details!$B$29,0)=\"\", \"-\", OFFSET('Raw Data'!AY50,Input_Details!$B$29,0))","v":0},{"$f":"IF(OFFSET('Raw Data'!AZ50,Input_Details!$B$29,0)=\"\", \"-\", OFFSET('Raw Data'!AZ50,Input_Details!$B$29,0))","v":0},{"$f":"IF(OFFSET('Raw Data'!BA50,Input_Details!$B$29,0)=\"\", \"-\", OFFSET('Raw Data'!BA50,Input_Details!$B$29,0))","v":0},{"$f":"IF(OFFSET('Raw Data'!BB50,Input_Details!$B$29,0)=\"\", \"-\", OFFSET('Raw Data'!BB50,Input_Details!$B$29,0))","v":0},{"$f":"IF(OFFSET('Raw Data'!BC50,Input_Details!$B$29,0)=\"\", \"-\", OFFSET('Raw Data'!BC50,Input_Details!$B$29,0))","v":0},{"$f":"IF(OFFSET('Raw Data'!BD50,Input_Details!$B$29,0)=\"\", \"-\", OFFSET('Raw Data'!BD50,Input_Details!$B$29,0))","v":0},{"$f":"IF(OFFSET('Raw Data'!BE50,Input_Details!$B$29,0)=\"\", \"-\", OFFSET('Raw Data'!BE50,Input_Details!$B$29,0))","v":0},{"$f":"IF(OFFSET('Raw Data'!BF50,Input_Details!$B$29,0)=\"\", \"-\", OFFSET('Raw Data'!BF50,Input_Details!$B$29,0))","v":0},5,null,4,39,0,8,1,1,0,0,0,0,0,0,53]
[null,"11:45:00",{"$f":"IF(OFFSET('Raw Data'!H51,Input_Details!$B$29,0)=\"\", \"-\", OFFSET('Raw Data'!H51,Input_Details!$B$29,0))","v":2},{"$f":"IF(OFFSET('Raw Data'!I51,Input_Details!$B$29,0)=\"\", \"-\", OFFSET('Raw Data'!I51,Input_Details!$B$29,0))","v":38},{"$f":"IF(OFFSET('Raw Data'!J51,Input_Details!$B$29,0)=\"\", \"-\", OFFSET('Raw Data'!J51,Input_Details!$B$29,0))","v":0},{"$f":"IF(OFFSET('Raw Data'!K51,Input_Details!$B$29,0)=\"\", \"-\", OFFSET('Raw Data'!K51,Input_Details!$B$29,0))","v":7},{"$f":"IF(OFFSET('Raw Data'!L51,Input_Details!$B$29,0)=\"\", \"-\", OFFSET('Raw Data'!L51,Input_Details!$B$29,0))","v":1},{"$f":"IF(OFFSET('Raw Data'!M51,Input_Details!$B$29,0)=\"\", \"-\", OFFSET('Raw Data'!M51,Input_Details!$B$29,0))","v":0},{"$f":"IF(OFFSET('Raw Data'!N51,Input_Details!$B$29,0)=\"\", \"-\", OFFSET('Raw Data'!N51,Input_Details!$B$29,0))","v":0},{"$f":"IF(OFFSET('Raw Data'!O51,Input_Details!$B$29,0)=\"\", \"-\", OFFSET('Raw Data'!O51,Input_Details!$B$29,0))","v":0},{"$f":"IF(OFFSET('Raw Data'!P51,Input_Details!$B$29,0)=\"\", \"-\", OFFSET('Raw Data'!P51,Input_Details!$B$29,0))","v":0},{"$f":"IF(OFFSET('Raw Data'!Q51,Input_Details!$B$29,0)=\"\", \"-\", OFFSET('Raw Data'!Q51,Input_Details!$B$29,0))","v":0},{"$f":"IF(OFFSET('Raw Data'!R51,Input_Details!$B$29,0)=\"\", \"-\", OFFSET('Raw Data'!R51,Input_Details!$B$29,0))","v":0},{"$f":"IF(OFFSET('Raw Data'!S51,Input_Details!$B$29,0)=\"\", \"-\", OFFSET('Raw Data'!S51,Input_Details!$B$29,0))","v":0},48,null,{"$f":"IF(OFFSET('Raw Data'!AU51,Input_Details!$B$29,0)=\"\", \"-\", OFFSET('Raw Data'!AU51,Input_Details!$B$29,0))","v":2},{"$f":"IF(OFFSET('Raw Data'!AV51,Input_Details!$B$29,0)=\"\", \"-\", OFFSET('Raw Data'!AV51,Input_Details!$B$29,0))","v":5},{"$f":"IF(OFFSET('Raw Data'!AW51,Input_Details!$B$29,0)=\"\", \"-\", OFFSET('Raw Data'!AW51,Input_Details!$B$29,0))","v":0},{"$f":"IF(OFFSET('Raw Data'!AX51,Input_Details!$B$29,0)=\"\", \"-\", OFFSET('Raw Data'!AX51,Input_Details!$B$29,0))","v":1},{"$f":"IF(OFFSET('Raw Data'!AY51,Input_Details!$B$29,0)=\"\", \"-\", OFFSET('Raw Data'!AY51,Input_Details!$B$29,0))","v":0},{"$f":"IF(OFFSET('Raw Data'!AZ51,Input_Details!$B$29,0)=\"\", \"-\", OFFSET('Raw Data'!AZ51,Input_Details!$B$29,0))","v":0},{"$f":"IF(OFFSET('Raw Data'!BA51,Input_Details!$B$29,0)=\"\", \"-\", OFFSET('Raw Data'!BA51,Input_Details!$B$29,0))","v":0},{"$f":"IF(OFFSET('Raw Data'!BB51,Input_Details!$B$29,0)=\"\", \"-\", OFFSET('Raw Data'!BB51,Input_Details!$B$29,0))","v":0},{"$f":"IF(OFFSET('Raw Data'!BC51,Input_Details!$B$29,0)=\"\", \"-\", OFFSET('Raw Data'!BC51,Input_Details!$B$29,0))","v":0},{"$f":"IF(OFFSET('Raw Data'!BD51,Input_Details!$B$29,0)=\"\", \"-\", OFFSET('Raw Data'!BD51,Input_Details!$B$29,0))","v":0},{"$f":"IF(OFFSET('Raw Data'!BE51,Input_Details!$B$29,0)=\"\", \"-\", OFFSET('Raw Data'!BE51,Input_Details!$B$29,0))","v":0},{"$f":"IF(OFFSET('Raw Data'!BF51,Input_Details!$B$29,0)=\"\", \"-\", OFFSET('Raw Data'!BF51,Input_Details!$B$29,0))","v":0},8,null,4,43,0,8,1,0,0,0,0,0,0,0,56]
[null,"12:00:00",{"$f":"IF(OFFSET('Raw Data'!H52,Input_Details!$B$29,0)=\"\", \"-\", OFFSET('Raw Data'!H52,Input_Details!$B$29,0))","v":3},{"$f":"IF(OFFSET('Raw Data'!I52,Input_Details!$B$29,0)=\"\", \"-\", OFFSET('Raw Data'!I52,Input_Details!$B$29,0))","v":36},{"$f":"IF(OFFSET('Raw Data'!J52,Input_Details!$B$29,0)=\"\", \"-\", OFFSET('Raw Data'!J52,Input_Details!$B$29,0))","v":0},{"$f":"IF(OFFSET('Raw Data'!K52,Input_Details!$B$29,0)=\"\", \"-\", OFFSET('Raw Data'!K52,Input_Details!$B$29,0))","v":8},{"$f":"IF(OFFSET('Raw Data'!L52,Input_Details!$B$29,0)=\"\", \"-\", OFFSET('Raw Data'!L52,Input_Details!$B$29,0))","v":0},{"$f":"IF(OFFSET('Raw Data'!M52,Input_Details!$B$29,0)=\"\", \"-\", OFFSET('Raw Data'!M52,Input_Details!$B$29,0))","v":0},{"$f":"IF(OFFSET('Raw Data'!N52,Input_Details!$B$29,0)=\"\", \"-\", OFFSET('Raw Data'!N52,Input_Details!$B$29,0))","v":0},{"$f":"IF(OFFSET('Raw Data'!O52,Input_Details!$B$29,0)=\"\", \"-\", OFFSET('Raw Data'!O52,Input_Details!$B$29,0))","v":0},{"$f":"IF(OFFSET('Raw Data'!P52,Input_Details!$B$29,0)=\"\", \"-\", OFFSET('Raw Data'!P52,Input_Details!$B$29,0))","v":0},{"$f":"IF(OFFSET('Raw Data'!Q52,Input_Details!$B$29,0)=\"\", \"-\", OFFSET('Raw Data'!Q52,Input_Details!$B$29,0))","v":0},{"$f":"IF(OFFSET('Raw Data'!R52,Input_Details!$B$29,0)=\"\", \"-\", OFFSET('Raw Data'!R52,Input_Details!$B$29,0))","v":0},{"$f":"IF(OFFSET('Raw Data'!S52,Input_Details!$B$29,0)=\"\", \"-\", OFFSET('Raw Data'!S52,Input_Details!$B$29,0))","v":0},47,null,{"$f":"IF(OFFSET('Raw Data'!AU52,Input_Details!$B$29,0)=\"\", \"-\", OFFSET('Raw Data'!AU52,Input_Details!$B$29,0))","v":2},{"$f":"IF(OFFSET('Raw Data'!AV52,Input_Details!$B$29,0)=\"\", \"-\", OFFSET('Raw Data'!AV52,Input_Details!$B$29,0))","v":5},{"$f":"IF(OFFSET('Raw Data'!AW52,Input_Details!$B$29,0)=\"\", \"-\", OFFSET('Raw Data'!AW52,Input_Details!$B$29,0))","v":0},{"$f":"IF(OFFSET('Raw Data'!AX52,Input_Details!$B$29,0)=\"\", \"-\", OFFSET('Raw Data'!AX52,Input_Details!$B$29,0))","v":0},{"$f":"IF(OFFSET('Raw Data'!AY52,Input_Details!$B$29,0)=\"\", \"-\", OFFSET('Raw Data'!AY52,Input_Details!$B$29,0))","v":0},{"$f":"IF(OFFSET('Raw Data'!AZ52,Input_Details!$B$29,0)=\"\", \"-\", OFFSET('Raw Data'!AZ52,Input_Details!$B$29,0))","v":0},{"$f":"IF(OFFSET('Raw Data'!BA52,Input_Details!$B$29,0)=\"\", \"-\", OFFSET('Raw Data'!BA52,Input_Details!$B$29,0))","v":0},{"$f":"IF(OFFSET('Raw Data'!BB52,Input_Details!$B$29,0)=\"\", \"-\", OFFSET('Raw Data'!BB52,Input_Details!$B$29,0))","v":0},{"$f":"IF(OFFSET('Raw Data'!BC52,Input_Details!$B$29,0)=\"\", \"-\", OFFSET('Raw Data'!BC52,Input_Details!$B$29,0))","v":0},{"$f":"IF(OFFSET('Raw Data'!BD52,Input_Details!$B$29,0)=\"\", \"-\", OFFSET('Raw Data'!BD52,Input_Details!$B$29,0))","v":0},{"$f":"IF(OFFSET('Raw Data'!BE52,Input_Details!$B$29,0)=\"\", \"-\", OFFSET('Raw Data'!BE52,Input_Details!$B$29,0))","v":0},{"$f":"IF(OFFSET('Raw Data'!BF52,Input_Details!$B$29,0)=\"\", \"-\", OFFSET('Raw Data'!BF52,Input_Details!$B$29,0))","v":0},7,null,5,41,0,8,0,0,0,0,0,0,0,0,54]
[null,"12:15:00",{"$f":"IF(OFFSET('Raw Data'!H53,Input_Details!$B$29,0)=\"\", \"-\", OFFSET('Raw Data'!H53,Input_Details!$B$29,0))","v":5},{"$f":"IF(OFFSET('Raw Data'!I53,Input_Details!$B$29,0)=\"\", \"-\", OFFSET('Raw Data'!I53,Input_Details!$B$29,0))","v":39},{"$f":"IF(OFFSET('Raw Data'!J53,Input_Details!$B$29,0)=\"\", \"-\", OFFSET('Raw Data'!J53,Input_Details!$B$29,0))","v":0},{"$f":"IF(OFFSET('Raw Data'!K53,Input_Details!$B$29,0)=\"\", \"-\", OFFSET('Raw Data'!K53,Input_Details!$B$29,0))","v":10},{"$f":"IF(OFFSET('Raw Data'!L53,Input_Details!$B$29,0)=\"\", \"-\", OFFSET('Raw Data'!L53,Input_Details!$B$29,0))","v":0},{"$f":"IF(OFFSET('Raw Data'!M53,Input_Details!$B$29,0)=\"\", \"-\", OFFSET('Raw Data'!M53,Input_Details!$B$29,0))","v":1},{"$f":"IF(OFFSET('Raw Data'!N53,Input_Details!$B$29,0)=\"\", \"-\", OFFSET('Raw Data'!N53,Input_Details!$B$29,0))","v":0},{"$f":"IF(OFFSET('Raw Data'!O53,Input_Details!$B$29,0)=\"\", \"-\", OFFSET('Raw Data'!O53,Input_Details!$B$29,0))","v":0},{"$f":"IF(OFFSET('Raw Data'!P53,Input_Details!$B$29,0)=\"\", \"-\", OFFSET('Raw Data'!P53,Input_Details!$B$29,0))","v":0},{"$f":"IF(OFFSET('Raw Data'!Q53,Input_Details!$B$29,0)=\"\", \"-\", OFFSET('Raw Data'!Q53,Input_Details!$B$29,0))","v":0},{"$f":"IF(OFFSET('Raw Data'!R53,Input_Details!$B$29,0)=\"\", \"-\", OFFSET('Raw Data'!R53,Input_Details!$B$29,0))","v":0},{"$f":"IF(OFFSET('Raw Data'!S53,Input_Details!$B$29,0)=\"\", \"-\", OFFSET('Raw Data'!S53,Input_Details!$B$29,0))","v":0},55,null,{"$f":"IF(OFFSET('Raw Data'!AU53,Input_Details!$B$29,0)=\"\", \"-\", OFFSET('Raw Data'!AU53,Input_Details!$B$29,0))","v":1},{"$f":"IF(OFFSET('Raw Data'!AV53,Input_Details!$B$29,0)=\"\", \"-\", OFFSET('Raw Data'!AV53,Input_Details!$B$29,0))","v":5},{"$f":"IF(OFFSET('Raw Data'!AW53,Input_Details!$B$29,0)=\"\", \"-\", OFFSET('Raw Data'!AW53,Input_Details!$B$29,0))","v":0},{"$f":"IF(OFFSET('Raw Data'!AX53,Input_Details!$B$29,0)=\"\", \"-\", OFFSET('Raw Data'!AX53,Input_Details!$B$29,0))","v":0},{"$f":"IF(OFFSET('Raw Data'!AY53,Input_Details!$B$29,0)=\"\", \"-\", OFFSET('Raw Data'!AY53,Input_Details!$B$29,0))","v":0},{"$f":"IF(OFFSET('Raw Data'!AZ53,Input_Details!$B$29,0)=\"\", \"-\", OFFSET('Raw Data'!AZ53,Input_Details!$B$29,0))","v":0},{"$f":"IF(OFFSET('Raw Data'!BA53,Input_Details!$B$29,0)=\"\", \"-\", OFFSET('Raw Data'!BA53,Input_Details!$B$29,0))","v":0},{"$f":"IF(OFFSET('Raw Data'!BB53,Input_Details!$B$29,0)=\"\", \"-\", OFFSET('Raw Data'!BB53,Input_Details!$B$29,0))","v":0},{"$f":"IF(OFFSET('Raw Data'!BC53,Input_Details!$B$29,0)=\"\", \"-\", OFFSET('Raw Data'!BC53,Input_Details!$B$29,0))","v":0},{"$f":"IF(OFFSET('Raw Data'!BD53,Input_Details!$B$29,0)=\"\", \"-\", OFFSET('Raw Data'!BD53,Input_Details!$B$29,0))","v":0},{"$f":"IF(OFFSET('Raw Data'!BE53,Input_Details!$B$29,0)=\"\", \"-\", OFFSET('Raw Data'!BE53,Input_Details!$B$29,0))","v":0},{"$f":"IF(OFFSET('Raw Data'!BF53,Input_Details!$B$29,0)=\"\", \"-\", OFFSET('Raw Data'!BF53,Input_Details!$B$29,0))","v":0},6,null,6,44,0,10,0,1,0,0,0,0,0,0,61]
[null,"12:30:00",{"$f":"IF(OFFSET('Raw Data'!H54,Input_Details!$B$29,0)=\"\", \"-\", OFFSET('Raw Data'!H54,Input_Details!$B$29,0))","v":5},{"$f":"IF(OFFSET('Raw Data'!I54,Input_Details!$B$29,0)=\"\", \"-\", OFFSET('Raw Data'!I54,Input_Details!$B$29,0))","v":40},{"$f":"IF(OFFSET('Raw Data'!J54,Input_Details!$B$29,0)=\"\", \"-\", OFFSET('Raw Data'!J54,Input_Details!$B$29,0))","v":0},{"$f":"IF(OFFSET('Raw Data'!K54,Input_Details!$B$29,0)=\"\", \"-\", OFFSET('Raw Data'!K54,Input_Details!$B$29,0))","v":9},{"$f":"IF(OFFSET('Raw Data'!L54,Input_Details!$B$29,0)=\"\", \"-\", OFFSET('Raw Data'!L54,Input_Details!$B$29,0))","v":1},{"$f":"IF(OFFSET('Raw Data'!M54,Input_Details!$B$29,0)=\"\", \"-\", OFFSET('Raw Data'!M54,Input_Details!$B$29,0))","v":0},{"$f":"IF(OFFSET('Raw Data'!N54,Input_Details!$B$29,0)=\"\", \"-\", OFFSET('Raw Data'!N54,Input_Details!$B$29,0))","v":0},{"$f":"IF(OFFSET('Raw Data'!O54,Input_Details!$B$29,0)=\"\", \"-\", OFFSET('Raw Data'!O54,Input_Details!$B$29,0))","v":0},{"$f":"IF(OFFSET('Raw Data'!P54,Input_Details!$B$29,0)=\"\", \"-\", OFFSET('Raw Data'!P54,Input_Details!$B$29,0))","v":0},{"$f":"IF(OFFSET('Raw Data'!Q54,Input_Details!$B$29,0)=\"\", \"-\", OFFSET('Raw Data'!Q54,Input_Details!$B$29,0))","v":0},{"$f":"IF(OFFSET('Raw Data'!R54,Input_Details!$B$29,0)=\"\", \"-\", OFFSET('Raw Data'!R54,Input_Details!$B$29,0))","v":0},{"$f":"IF(OFFSET('Raw Data'!S54,Input_Details!$B$29,0)=\"\", \"-\", OFFSET('Raw Data'!S54,Input_Details!$B$29,0))","v":0},55,null,{"$f":"IF(OFFSET('Raw Data'!AU54,Input_Details!$B$29,0)=\"\", \"-\", OFFSET('Raw Data'!AU54,Input_Details!$B$29,0))","v":2},{"$f":"IF(OFFSET('Raw Data'!AV54,Input_Details!$B$29,0)=\"\", \"-\", OFFSET('Raw Data'!AV54,Input_Details!$B$29,0))","v":4},{"$f":"IF(OFFSET('Raw Data'!AW54,Input_Details!$B$29,0)=\"\", \"-\", OFFSET('Raw Data'!AW54,Input_Details!$B$29,0))","v":0},{"$f":"IF(OFFSET('Raw Data'!AX54,Input_Details!$B$29,0)=\"\", \"-\", OFFSET('Raw Data'!AX54,Input_Details!$B$29,0))","v":0},{"$f":"IF(OFFSET('Raw Data'!AY54,Input_Details!$B$29,0)=\"\", \"-\", OFFSET('Raw Data'!AY54,Input_Details!$B$29,0))","v":0},{"$f":"IF(OFFSET('Raw Data'!AZ54,Input_Details!$B$29,0)=\"\", \"-\", OFFSET('Raw Data'!AZ54,Input_Details!$B$29,0))","v":0},{"$f":"IF(OFFSET('Raw Data'!BA54,Input_Details!$B$29,0)=\"\", \"-\", OFFSET('Raw Data'!BA54,Input_Details!$B$29,0))","v":0},{"$f":"IF(OFFSET('Raw Data'!BB54,Input_Details!$B$29,0)=\"\", \"-\", OFFSET('Raw Data'!BB54,Input_Details!$B$29,0))","v":0},{"$f":"IF(OFFSET('Raw Data'!BC54,Input_Details!$B$29,0)=\"\", \"-\", OFFSET('Raw Data'!BC54,Input_Details!$B$29,0))","v":0},{"$f":"IF(OFFSET('Raw Data'!BD54,Input_Details!$B$29,0)=\"\", \"-\", OFFSET('Raw Data'!BD54,Input_Details!$B$29,0))","v":0},{"$f":"IF(OFFSET('Raw Data'!BE54,Input_Details!$B$29,0)=\"\", \"-\", OFFSET('Raw Data'!BE54,Input_Details!$B$29,0))","v":0},{"$f":"IF(OFFSET('Raw Data'!BF54,Input_Details!$B$29,0)=\"\", \"-\", OFFSET('Raw Data'!BF54,Input_Details!$B$29,0))","v":0},6,null,7,44,0,9,1,0,0,0,0,0,0,0,61]
[null,"12:45:00",{"$f":"IF(OFFSET('Raw Data'!H55,Input_Details!$B$29,0)=\"\", \"-\", OFFSET('Raw Data'!H55,Input_Details!$B$29,0))","v":4},{"$f":"IF(OFFSET('Raw Data'!I55,Input_Details!$B$29,0)=\"\", \"-\", OFFSET('Raw Data'!I55,Input_Details!$B$29,0))","v":39},{"$f":"IF(OFFSET('Raw Data'!J55,Input_Details!$B$29,0)=\"\", \"-\", OFFSET('Raw Data'!J55,Input_Details!$B$29,0))","v":0},{"$f":"IF(OFFSET('Raw Data'!K55,Input_Details!$B$29,0)=\"\", \"-\", OFFSET('Raw Data'!K55,Input_Details!$B$29,0))","v":8},{"$f":"IF(OFFSET('Raw Data'!L55,Input_Details!$B$29,0)=\"\", \"-\", OFFSET('Raw Data'!L55,Input_Details!$B$29,0))","v":1},{"$f":"IF(OFFSET('Raw Data'!M55,Input_Details!$B$29,0)=\"\", \"-\", OFFSET('Raw Data'!M55,Input_Details!$B$29,0))","v":0},{"$f":"IF(OFFSET('Raw Data'!N55,Input_Details!$B$29,0)=\"\", \"-\", OFFSET('Raw Data'!N55,Input_Details!$B$29,0))","v":0},{"$f":"IF(OFFSET('Raw Data'!O55,Input_Details!$B$29,0)=\"\", \"-\", OFFSET('Raw Data'!O55,Input_Details!$B$29,0))","v":0},{"$f":"IF(OFFSET('Raw Data'!P55,Input_Details!$B$29,0)=\"\", \"-\", OFFSET('Raw Data'!P55,Input_Details!$B$29,0))","v":0},{"$f":"IF(OFFSET('Raw Data'!Q55,Input_Details!$B$29,0)=\"\", \"-\", OFFSET('Raw Data'!Q55,Input_Details!$B$29,0))","v":0},{"$f":"IF(OFFSET('Raw Data'!R55,Input_Details!$B$29,0)=\"\", \"-\", OFFSET('Raw Data'!R55,Input_Details!$B$29,0))","v":0},{"$f":"IF(OFFSET('Raw Data'!S55,Input_Details!$B$29,0)=\"\", \"-\", OFFSET('Raw Data'!S55,Input_Details!$B$29,0))","v":0},52,null,{"$f":"IF(OFFSET('Raw Data'!AU55,Input_Details!$B$29,0)=\"\", \"-\", OFFSET('Raw Data'!AU55,Input_Details!$B$29,0))","v":2},{"$f":"IF(OFFSET('Raw Data'!AV55,Input_Details!$B$29,0)=\"\", \"-\", OFFSET('Raw Data'!AV55,Input_Details!$B$29,0))","v":5},{"$f":"IF(OFFSET('Raw Data'!AW55,Input_Details!$B$29,0)=\"\", \"-\", OFFSET('Raw Data'!AW55,Input_Details!$B$29,0))","v":0},{"$f":"IF(OFFSET('Raw Data'!AX55,Input_Details!$B$29,0)=\"\", \"-\", OFFSET('Raw Data'!AX55,Input_Details!$B$29,0))","v":0},{"$f":"IF(OFFSET('Raw Data'!AY55,Input_Details!$B$29,0)=\"\", \"-\", OFFSET('Raw Data'!AY55,Input_Details!$B$29,0))","v":0},{"$f":"IF(OFFSET('Raw Data'!AZ55,Input_Details!$B$29,0)=\"\", \"-\", OFFSET('Raw Data'!AZ55,Input_Details!$B$29,0))","v":0},{"$f":"IF(OFFSET('Raw Data'!BA55,Input_Details!$B$29,0)=\"\", \"-\", OFFSET('Raw Data'!BA55,Input_Details!$B$29,0))","v":0},{"$f":"IF(OFFSET('Raw Data'!BB55,Input_Details!$B$29,0)=\"\", \"-\", OFFSET('Raw Data'!BB55,Input_Details!$B$29,0))","v":0},{"$f":"IF(OFFSET('Raw Data'!BC55,Input_Details!$B$29,0)=\"\", \"-\", OFFSET('Raw Data'!BC55,Input_Details!$B$29,0))","v":0},{"$f":"IF(OFFSET('Raw Data'!BD55,Input_Details!$B$29,0)=\"\", \"-\", OFFSET('Raw Data'!BD55,Input_Details!$B$29,0))","v":0},{"$f":"IF(OFFSET('Raw Data'!BE55,Input_Details!$B$29,0)=\"\", \"-\", OFFSET('Raw Data'!BE55,Input_Details!$B$29,0))","v":0},{"$f":"IF(OFFSET('Raw Data'!BF55,Input_Details!$B$29,0)=\"\", \"-\", OFFSET('Raw Data'!BF55,Input_Details!$B$29,0))","v":0},7,null,6,44,0,8,1,0,0,0,0,0,0,0,59]
[null,"13:00:00",{"$f":"IF(OFFSET('Raw Data'!H56,Input_Details!$B$29,0)=\"\", \"-\", OFFSET('Raw Data'!H56,Input_Details!$B$29,0))","v":5},{"$f":"IF(OFFSET('Raw Data'!I56,Input_Details!$B$29,0)=\"\", \"-\", OFFSET('Raw Data'!I56,Input_Details!$B$29,0))","v":44},{"$f":"IF(OFFSET('Raw Data'!J56,Input_Details!$B$29,0)=\"\", \"-\", OFFSET('Raw Data'!J56,Input_Details!$B$29,0))","v":1},{"$f":"IF(OFFSET('Raw Data'!K56,Input_Details!$B$29,0)=\"\", \"-\", OFFSET('Raw Data'!K56,Input_Details!$B$29,0))","v":8},{"$f":"IF(OFFSET('Raw Data'!L56,Input_Details!$B$29,0)=\"\", \"-\", OFFSET('Raw Data'!L56,Input_Details!$B$29,0))","v":0},{"$f":"IF(OFFSET('Raw Data'!M56,Input_Details!$B$29,0)=\"\", \"-\", OFFSET('Raw Data'!M56,Input_Details!$B$29,0))","v":1},{"$f":"IF(OFFSET('Raw Data'!N56,Input_Details!$B$29,0)=\"\", \"-\", OFFSET('Raw Data'!N56,Input_Details!$B$29,0))","v":0},{"$f":"IF(OFFSET('Raw Data'!O56,Input_Details!$B$29,0)=\"\", \"-\", OFFSET('Raw Data'!O56,Input_Details!$B$29,0))","v":0},{"$f":"IF(OFFSET('Raw Data'!P56,Input_Details!$B$29,0)=\"\", \"-\", OFFSET('Raw Data'!P56,Input_Details!$B$29,0))","v":0},{"$f":"IF(OFFSET('Raw Data'!Q56,Input_Details!$B$29,0)=\"\", \"-\", OFFSET('Raw Data'!Q56,Input_Details!$B$29,0))","v":0},{"$f":"IF(OFFSET('Raw Data'!R56,Input_Details!$B$29,0)=\"\", \"-\", OFFSET('Raw Data'!R56,Input_Details!$B$29,0))","v":0},{"$f":"IF(OFFSET('Raw Data'!S56,Input_Details!$B$29,0)=\"\", \"-\", OFFSET('Raw Data'!S56,Input_Details!$B$29,0))","v":0},59,null,{"$f":"IF(OFFSET('Raw Data'!AU56,Input_Details!$B$29,0)=\"\", \"-\", OFFSET('Raw Data'!AU56,Input_Details!$B$29,0))","v":1},{"$f":"IF(OFFSET('Raw Data'!AV56,Input_Details!$B$29,0)=\"\", \"-\", OFFSET('Raw Data'!AV56,Input_Details!$B$29,0))","v":6},{"$f":"IF(OFFSET('Raw Data'!AW56,Input_Details!$B$29,0)=\"\", \"-\", OFFSET('Raw Data'!AW56,Input_Details!$B$29,0))","v":0},{"$f":"IF(OFFSET('Raw Data'!AX56,Input_Details!$B$29,0)=\"\", \"-\", OFFSET('Raw Data'!AX56,Input_Details!$B$29,0))","v":0},{"$f":"IF(OFFSET('Raw Data'!AY56,Input_Details!$B$29,0)=\"\", \"-\", OFFSET('Raw Data'!AY56,Input_Details!$B$29,0))","v":0},{"$f":"IF(OFFSET('Raw Data'!AZ56,Input_Details!$B$29,0)=\"\", \"-\", OFFSET('Raw Data'!AZ56,Input_Details!$B$29,0))","v":0},{"$f":"IF(OFFSET('Raw Data'!BA56,Input_Details!$B$29,0)=\"\", \"-\", OFFSET('Raw Data'!BA56,Input_Details!$B$29,0))","v":0},{"$f":"IF(OFFSET('Raw Data'!BB56,Input_Details!$B$29,0)=\"\", \"-\", OFFSET('Raw Data'!BB56,Input_Details!$B$29,0))","v":0},{"$f":"IF(OFFSET('Raw Data'!BC56,Input_Details!$B$29,0)=\"\", \"-\", OFFSET('Raw Data'!BC56,Input_Details!$B$29,0))","v":0},{"$f":"IF(OFFSET('Raw Data'!BD56,Input_Details!$B$29,0)=\"\", \"-\", OFFSET('Raw Data'!BD56,Input_Details!$B$29,0))","v":0},{"$f":"IF(OFFSET('Raw Data'!BE56,Input_Details!$B$29,0)=\"\", \"-\", OFFSET('Raw Data'!BE56,Input_Details!$B$29,0))","v":0},{"$f":"IF(OFFSET('Raw Data'!BF56,Input_Details!$B$29,0)=\"\", \"-\", OFFSET('Raw Data'!BF56,Input_Details!$B$29,0))","v":0},7,null,6,50,1,8,0,1,0,0,0,0,0,0,66]
[null,"13:15:00",{"$f":"IF(OFFSET('Raw Data'!H57,Input_Details!$B$29,0)=\"\", \"-\", OFFSET('Raw Data'!H57,Input_Details!$B$29,0))","v":5},{"$f":"IF(OFFSET('Raw Data'!I57,Input_Details!$B$29,0)=\"\", \"-\", OFFSET('Raw Data'!I57,Input_Details!$B$29,0))","v":43},{"$f":"IF(OFFSET('Raw Data'!J57,Input_Details!$B$29,0)=\"\", \"-\", OFFSET('Raw Data'!J57,Input_Details!$B$29,0))","v":0},{"$f":"IF(OFFSET('Raw Data'!K57,Input_Details!$B$29,0)=\"\", \"-\", OFFSET('Raw Data'!K57,Input_Details!$B$29,0))","v":10},{"$f":"IF(OFFSET('Raw Data'!L57,Input_Details!$B$29,0)=\"\", \"-\", OFFSET('Raw Data'!L57,Input_Details!$B$29,0))","v":1},{"$f":"IF(OFFSET('Raw Data'!M57,Input_Details!$B$29,0)=\"\", \"-\", OFFSET('Raw Data'!M57,Input_Details!$B$29,0))","v":1},{"$f":"IF(OFFSET('Raw Data'!N57,Input_Details!$B$29,0)=\"\", \"-\", OFFSET('Raw Data'!N57,Input_Details!$B$29,0))","v":0},{"$f":"IF(OFFSET('Raw Data'!O57,Input_Details!$B$29,0)=\"\", \"-\", OFFSET('Raw Data'!O57,Input_Details!$B$29,0))","v":0},{"$f":"IF(OFFSET('Raw Data'!P57,Input_Details!$B$29,0)=\"\", \"-\", OFFSET('Raw Data'!P57,Input_Details!$B$29,0))","v":0},{"$f":"IF(OFFSET('Raw Data'!Q57,Input_Details!$B$29,0)=\"\", \"-\", OFFSET('Raw Data'!Q57,Input_Details!$B$29,0))","v":0},{"$f":"IF(OFFSET('Raw Data'!R57,Input_Details!$B$29,0)=\"\", \"-\", OFFSET('Raw Data'!R57,Input_Details!$B$29,0))","v":0},{"$f":"IF(OFFSET('Raw Data'!S57,Input_Details!$B$29,0)=\"\", \"-\", OFFSET('Raw Data'!S57,Input_Details!$B$29,0))","v":0},60,null,{"$f":"IF(OFFSET('Raw Data'!AU57,Input_Details!$B$29,0)=\"\", \"-\", OFFSET('Raw Data'!AU57,Input_Details!$B$29,0))","v":3},{"$f":"IF(OFFSET('Raw Data'!AV57,Input_Details!$B$29,0)=\"\", \"-\", OFFSET('Raw Data'!AV57,Input_Details!$B$29,0))","v":6},{"$f":"IF(OFFSET('Raw Data'!AW57,Input_Details!$B$29,0)=\"\", \"-\", OFFSET('Raw Data'!AW57,Input_Details!$B$29,0))","v":0},{"$f":"IF(OFFSET('Raw Data'!AX57,Input_Details!$B$29,0)=\"\", \"-\", OFFSET('Raw Data'!AX57,Input_Details!$B$29,0))","v":0},{"$f":"IF(OFFSET('Raw Data'!AY57,Input_Details!$B$29,0)=\"\", \"-\", OFFSET('Raw Data'!AY57,Input_Details!$B$29,0))","v":0},{"$f":"IF(OFFSET('Raw Data'!AZ57,Input_Details!$B$29,0)=\"\", \"-\", OFFSET('Raw Data'!AZ57,Input_Details!$B$29,0))","v":0},{"$f":"IF(OFFSET('Raw Data'!BA57,Input_Details!$B$29,0)=\"\", \"-\", OFFSET('Raw Data'!BA57,Input_Details!$B$29,0))","v":0},{"$f":"IF(OFFSET('Raw Data'!BB57,Input_Details!$B$29,0)=\"\", \"-\", OFFSET('Raw Data'!BB57,Input_Details!$B$29,0))","v":0},{"$f":"IF(OFFSET('Raw Data'!BC57,Input_Details!$B$29,0)=\"\", \"-\", OFFSET('Raw Data'!BC57,Input_Details!$B$29,0))","v":0},{"$f":"IF(OFFSET('Raw Data'!BD57,Input_Details!$B$29,0)=\"\", \"-\", OFFSET('Raw Data'!BD57,Input_Details!$B$29,0))","v":0},{"$f":"IF(OFFSET('Raw Data'!BE57,Input_Details!$B$29,0)=\"\", \"-\", OFFSET('Raw Data'!BE57,Input_Details!$B$29,0))","v":0},{"$f":"IF(OFFSET('Raw Data'!BF57,Input_Details!$B$29,0)=\"\", \"-\", OFFSET('Raw Data'!BF57,Input_Details!$B$29,0))","v":0},9,null,8,49,0,10,1,1,0,0,0,0,0,0,69]
[null,"13:30:00",{"$f":"IF(OFFSET('Raw Data'!H58,Input_Details!$B$29,0)=\"\", \"-\", OFFSET('Raw Data'!H58,Input_Details!$B$29,0))","v":5},{"$f":"IF(OFFSET('Raw Data'!I58,Input_Details!$B$29,0)=\"\", \"-\", OFFSET('Raw Data'!I58,Input_Details!$B$29,0))","v":44},{"$f":"IF(OFFSET('Raw Data'!J58,Input_Details!$B$29,0)=\"\", \"-\", OFFSET('Raw Data'!J58,Input_Details!$B$29,0))","v":0},{"$f":"IF(OFFSET('Raw Data'!K58,Input_Details!$B$29,0)=\"\", \"-\", OFFSET('Raw Data'!K58,Input_Details!$B$29,0))","v":8},{"$f":"IF(OFFSET('Raw Data'!L58,Input_Details!$B$29,0)=\"\", \"-\", OFFSET('Raw Data'!L58,Input_Details!$B$29,0))","v":1},{"$f":"IF(OFFSET('Raw Data'!M58,Input_Details!$B$29,0)=\"\", \"-\", OFFSET('Raw Data'!M58,Input_Details!$B$29,0))","v":0},{"$f":"IF(OFFSET('Raw Data'!N58,Input_Details!$B$29,0)=\"\", \"-\", OFFSET('Raw Data'!N58,Input_Details!$B$29,0))","v":0},{"$f":"IF(OFFSET('Raw Data'!O58,Input_Details!$B$29,0)=\"\", \"-\", OFFSET('Raw Data'!O58,Input_Details!$B$29,0))","v":0},{"$f":"IF(OFFSET('Raw Data'!P58,Input_Details!$B$29,0)=\"\", \"-\", OFFSET('Raw Data'!P58,Input_Details!$B$29,0))","v":0},{"$f":"IF(OFFSET('Raw Data'!Q58,Input_Details!$B$29,0)=\"\", \"-\", OFFSET('Raw Data'!Q58,Input_Details!$B$29,0))","v":0},{"$f":"IF(OFFSET('Raw Data'!R58,Input_Details!$B$29,0)=\"\", \"-\", OFFSET('Raw Data'!R58,Input_Details!$B$29,0))","v":0},{"$f":"IF(OFFSET('Raw Data'!S58,Input_Details!$B$29,0)=\"\", \"-\", OFFSET('Raw Data'!S58,Input_Details!$B$29,0))","v":0},58,null,{"$f":"IF(OFFSET('Raw Data'!AU58,Input_Details!$B$29,0)=\"\", \"-\", OFFSET('Raw Data'!AU58,Input_Details!$B$29,0))","v":2},{"$f":"IF(OFFSET('Raw Data'!AV58,Input_Details!$B$29,0)=\"\", \"-\", OFFSET('Raw Data'!AV58,Input_Details!$B$29,0))","v":6},{"$f":"IF(OFFSET('Raw Data'!AW58,Input_Details!$B$29,0)=\"\", \"-\", OFFSET('Raw Data'!AW58,Input_Details!$B$29,0))","v":0},{"$f":"IF(OFFSET('Raw Data'!AX58,Input_Details!$B$29,0)=\"\", \"-\", OFFSET('Raw Data'!AX58,Input_Details!$B$29,0))","v":0},{"$f":"IF(OFFSET('Raw Data'!AY58,Input_Details!$B$29,0)=\"\", \"-\", OFFSET('Raw Data'!AY58,Input_Details!$B$29,0))","v":0},{"$f":"IF(OFFSET('Raw Data'!AZ58,Input_Details!$B$29,0)=\"\", \"-\", OFFSET('Raw Data'!AZ58,Input_Details!$B$29,0))","v":0},{"$f":"IF(OFFSET('Raw Data'!BA58,Input_Details!$B$29,0)=\"\", \"-\", OFFSET('Raw Data'!BA58,Input_Details!$B$29,0))","v":0},{"$f":"IF(OFFSET('Raw Data'!BB58,Input_Details!$B$29,0)=\"\", \"-\", OFFSET('Raw Data'!BB58,Input_Details!$B$29,0))","v":0},{"$f":"IF(OFFSET('Raw Data'!BC58,Input_Details!$B$29,0)=\"\", \"-\", OFFSET('Raw Data'!BC58,Input_Details!$B$29,0))","v":0},{"$f":"IF(OFFSET('Raw Data'!BD58,Input_Details!$B$29,0)=\"\", \"-\", OFFSET('Raw Data'!BD58,Input_Details!$B$29,0))","v":0},{"$f":"IF(OFFSET('Raw Data'!BE58,Input_Details!$B$29,0)=\"\", \"-\", OFFSET('Raw Data'!BE58,Input_Details!$B$29,0))","v":0},{"$f":"IF(OFFSET('Raw Data'!BF58,Input_Details!$B$29,0)=\"\", \"-\", OFFSET('Raw Data'!BF58,Input_Details!$B$29,0))","v":0},8,null,7,50,0,8,1,0,0,0,0,0,0,0,66]
[null,"13:45:00",{"$f":"IF(OFFSET('Raw Data'!H59,Input_Details!$B$29,0)=\"\", \"-\", OFFSET('Raw Data'!H59,Input_Details!$B$29,0))","v":5},{"$f":"IF(OFFSET('Raw Data'!I59,Input_Details!$B$29,0)=\"\", \"-\", OFFSET('Raw Data'!I59,Input_Details!$B$29,0))","v":51},{"$f":"IF(OFFSET('Raw Data'!J59,Input_Details!$B$29,0)=\"\", \"-\", OFFSET('Raw Data'!J59,Input_Details!$B$29,0))","v":1},{"$f":"IF(OFFSET('Raw Data'!K59,Input_Details!$B$29,0)=\"\", \"-\", OFFSET('Raw Data'!K59,Input_Details!$B$29,0))","v":9},{"$f":"IF(OFFSET('Raw Data'!L59,Input_Details!$B$29,0)=\"\", \"-\", OFFSET('Raw Data'!L59,Input_Details!$B$29,0))","v":2},{"$f":"IF(OFFSET('Raw Data'!M59,Input_Details!$B$29,0)=\"\", \"-\", OFFSET('Raw Data'!M59,Input_Details!$B$29,0))","v":0},{"$f":"IF(OFFSET('Raw Data'!N59,Input_Details!$B$29,0)=\"\", \"-\", OFFSET('Raw Data'!N59,Input_Details!$B$29,0))","v":0},{"$f":"IF(OFFSET('Raw Data'!O59,Input_Details!$B$29,0)=\"\", \"-\", OFFSET('Raw Data'!O59,Input_Details!$B$29,0))","v":0},{"$f":"IF(OFFSET('Raw Data'!P59,Input_Details!$B$29,0)=\"\", \"-\", OFFSET('Raw Data'!P59,Input_Details!$B$29,0))","v":0},{"$f":"IF(OFFSET('Raw Data'!Q59,Input_Details!$B$29,0)=\"\", \"-\", OFFSET('Raw Data'!Q59,Input_Details!$B$29,0))","v":0},{"$f":"IF(OFFSET('Raw Data'!R59,Input_Details!$B$29,0)=\"\", \"-\", OFFSET('Raw Data'!R59,Input_Details!$B$29,0))","v":0},{"$f":"IF(OFFSET('Raw Data'!S59,Input_Details!$B$29,0)=\"\", \"-\", OFFSET('Raw Data'!S59,Input_Details!$B$29,0))","v":0},68,null,{"$f":"IF(OFFSET('Raw Data'!AU59,Input_Details!$B$29,0)=\"\", \"-\", OFFSET('Raw Data'!AU59,Input_Details!$B$29,0))","v":2},{"$f":"IF(OFFSET('Raw Data'!AV59,Input_Details!$B$29,0)=\"\", \"-\", OFFSET('Raw Data'!AV59,Input_Details!$B$29,0))","v":6},{"$f":"IF(OFFSET('Raw Data'!AW59,Input_Details!$B$29,0)=\"\", \"-\", OFFSET('Raw Data'!AW59,Input_Details!$B$29,0))","v":0},{"$f":"IF(OFFSET('Raw Data'!AX59,Input_Details!$B$29,0)=\"\", \"-\", OFFSET('Raw Data'!AX59,Input_Details!$B$29,0))","v":0},{"$f":"IF(OFFSET('Raw Data'!AY59,Input_Details!$B$29,0)=\"\", \"-\", OFFSET('Raw Data'!AY59,Input_Details!$B$29,0))","v":0},{"$f":"IF(OFFSET('Raw Data'!AZ59,Input_Details!$B$29,0)=\"\", \"-\", OFFSET('Raw Data'!AZ59,Input_Details!$B$29,0))","v":0},{"$f":"IF(OFFSET('Raw Data'!BA59,Input_Details!$B$29,0)=\"\", \"-\", OFFSET('Raw Data'!BA59,Input_Details!$B$29,0))","v":0},{"$f":"IF(OFFSET('Raw Data'!BB59,Input_Details!$B$29,0)=\"\", \"-\", OFFSET('Raw Data'!BB59,Input_Details!$B$29,0))","v":0},{"$f":"IF(OFFSET('Raw Data'!BC59,Input_Details!$B$29,0)=\"\", \"-\", OFFSET('Raw Data'!BC59,Input_Details!$B$29,0))","v":0},{"$f":"IF(OFFSET('Raw Data'!BD59,Input_Details!$B$29,0)=\"\", \"-\", OFFSET('Raw Data'!BD59,Input_Details!$B$29,0))","v":0},{"$f":"IF(OFFSET('Raw Data'!BE59,Input_Details!$B$29,0)=\"\", \"-\", OFFSET('Raw Data'!BE59,Input_Details!$B$29,0))","v":0},{"$f":"IF(OFFSET('Raw Data'!BF59,Input_Details!$B$29,0)=\"\", \"-\", OFFSET('Raw Data'!BF59,Input_Details!$B$29,0))","v":0},8,null,7,57,1,9,2,0,0,0,0,0,0,0,76]
[null,"14:00:00",{"$f":"IF(OFFSET('Raw Data'!H60,Input_Details!$B$29,0)=\"\", \"-\", OFFSET('Raw Data'!H60,Input_Details!$B$29,0))","v":5},{"$f":"IF(OFFSET('Raw Data'!I60,Input_Details!$B$29,0)=\"\", \"-\", OFFSET('Raw Data'!I60,Input_Details!$B$29,0))","v":48},{"$f":"IF(OFFSET('Raw Data'!J60,Input_Details!$B$29,0)=\"\", \"-\", OFFSET('Raw Data'!J60,Input_Details!$B$29,0))","v":0},{"$f":"IF(OFFSET('Raw Data'!K60,Input_Details!$B$29,0)=\"\", \"-\", OFFSET('Raw Data'!K60,Input_Details!$B$29,0))","v":9},{"$f":"IF(OFFSET('Raw Data'!L60,Input_Details!$B$29,0)=\"\", \"-\", OFFSET('Raw Data'!L60,Input_Details!$B$29,0))","v":2},{"$f":"IF(OFFSET('Raw Data'!M60,Input_Details!$B$29,0)=\"\", \"-\", OFFSET('Raw Data'!M60,Input_Details!$B$29,0))","v":1},{"$f":"IF(OFFSET('Raw Data'!N60,Input_Details!$B$29,0)=\"\", \"-\", OFFSET('Raw Data'!N60,Input_Details!$B$29,0))","v":0},{"$f":"IF(OFFSET('Raw Data'!O60,Input_Details!$B$29,0)=\"\", \"-\", OFFSET('Raw Data'!O60,Input_Details!$B$29,0))","v":0},{"$f":"IF(OFFSET('Raw Data'!P60,Input_Details!$B$29,0)=\"\", \"-\", OFFSET('Raw Data'!P60,Input_Details!$B$29,0))","v":0},{"$f":"IF(OFFSET('Raw Data'!Q60,Input_Details!$B$29,0)=\"\", \"-\", OFFSET('Raw Data'!Q60,Input_Details!$B$29,0))","v":0},{"$f":"IF(OFFSET('Raw Data'!R60,Input_Details!$B$29,0)=\"\", \"-\", OFFSET('Raw Data'!R60,Input_Details!$B$29,0))","v":0},{"$f":"IF(OFFSET('Raw Data'!S60,Input_Details!$B$29,0)=\"\", \"-\", OFFSET('Raw Data'!S60,Input_Details!$B$29,0))","v":0},65,null,{"$f":"IF(OFFSET('Raw Data'!AU60,Input_Details!$B$29,0)=\"\", \"-\", OFFSET('Raw Data'!AU60,Input_Details!$B$29,0))","v":2},{"$f":"IF(OFFSET('Raw Data'!AV60,Input_Details!$B$29,0)=\"\", \"-\", OFFSET('Raw Data'!AV60,Input_Details!$B$29,0))","v":6},{"$f":"IF(OFFSET('Raw Data'!AW60,Input_Details!$B$29,0)=\"\", \"-\", OFFSET('Raw Data'!AW60,Input_Details!$B$29,0))","v":0},{"$f":"IF(OFFSET('Raw Data'!AX60,Input_Details!$B$29,0)=\"\", \"-\", OFFSET('Raw Data'!AX60,Input_Details!$B$29,0))","v":0},{"$f":"IF(OFFSET('Raw Data'!AY60,Input_Details!$B$29,0)=\"\", \"-\", OFFSET('Raw Data'!AY60,Input_Details!$B$29,0))","v":0},{"$f":"IF(OFFSET('Raw Data'!AZ60,Input_Details!$B$29,0)=\"\", \"-\", OFFSET('Raw Data'!AZ60,Input_Details!$B$29,0))","v":0},{"$f":"IF(OFFSET('Raw Data'!BA60,Input_Details!$B$29,0)=\"\", \"-\", OFFSET('Raw Data'!BA60,Input_Details!$B$29,0))","v":0},{"$f":"IF(OFFSET('Raw Data'!BB60,Input_Details!$B$29,0)=\"\", \"-\", OFFSET('Raw Data'!BB60,Input_Details!$B$29,0))","v":0},{"$f":"IF(OFFSET('Raw Data'!BC60,Input_Details!$B$29,0)=\"\", \"-\", OFFSET('Raw Data'!BC60,Input_Details!$B$29,0))","v":0},{"$f":"IF(OFFSET('Raw Data'!BD60,Input_Details!$B$29,0)=\"\", \"-\", OFFSET('Raw Data'!BD60,Input_Details!$B$29,0))","v":0},{"$f":"IF(OFFSET('Raw Data'!BE60,Input_Details!$B$29,0)=\"\", \"-\", OFFSET('Raw Data'!BE60,Input_Details!$B$29,0))","v":0},{"$f":"IF(OFFSET('Raw Data'!BF60,Input_Details!$B$29,0)=\"\", \"-\", OFFSET('Raw Data'!BF60,Input_Details!$B$29,0))","v":0},8,null,7,54,0,9,2,1,0,0,0,0,0,0,73]
[null,"14:15:00",{"$f":"IF(OFFSET('Raw Data'!H61,Input_Details!$B$29,0)=\"\", \"-\", OFFSET('Raw Data'!H61,Input_Details!$B$29,0))","v":6},{"$f":"IF(OFFSET('Raw Data'!I61,Input_Details!$B$29,0)=\"\", \"-\", OFFSET('Raw Data'!I61,Input_Details!$B$29,0))","v":46},{"$f":"IF(OFFSET('Raw Data'!J61,Input_Details!$B$29,0)=\"\", \"-\", OFFSET('Raw Data'!J61,Input_Details!$B$29,0))","v":0},{"$f":"IF(OFFSET('Raw Data'!K61,Input_Details!$B$29,0)=\"\", \"-\", OFFSET('Raw Data'!K61,Input_Details!$B$29,0))","v":10},{"$f":"IF(OFFSET('Raw Data'!L61,Input_Details!$B$29,0)=\"\", \"-\", OFFSET('Raw Data'!L61,Input_Details!$B$29,0))","v":1},{"$f":"IF(OFFSET('Raw Data'!M61,Input_Details!$B$29,0)=\"\", \"-\", OFFSET('Raw Data'!M61,Input_Details!$B$29,0))","v":0},{"$f":"IF(OFFSET('Raw Data'!N61,Input_Details!$B$29,0)=\"\", \"-\", OFFSET('Raw Data'!N61,Input_Details!$B$29,0))","v":0},{"$f":"IF(OFFSET('Raw Data'!O61,Input_Details!$B$29,0)=\"\", \"-\", OFFSET('Raw Data'!O61,Input_Details!$B$29,0))","v":1},{"$f":"IF(OFFSET('Raw Data'!P61,Input_Details!$B$29,0)=\"\", \"-\", OFFSET('Raw Data'!P61,Input_Details!$B$29,0))","v":0},{"$f":"IF(OFFSET('Raw Data'!Q61,Input_Details!$B$29,0)=\"\", \"-\", OFFSET('Raw Data'!Q61,Input_Details!$B$29,0))","v":0},{"$f":"IF(OFFSET('Raw Data'!R61,Input_Details!$B$29,0)=\"\", \"-\", OFFSET('Raw Data'!R61,Input_Details!$B$29,0))","v":0},{"$f":"IF(OFFSET('Raw Data'!S61,Input_Details!$B$29,0)=\"\", \"-\", OFFSET('Raw Data'!S61,Input_Details!$B$29,0))","v":0},64,null,{"$f":"IF(OFFSET('Raw Data'!AU61,Input_Details!$B$29,0)=\"\", \"-\", OFFSET('Raw Data'!AU61,Input_Details!$B$29,0))","v":1},{"$f":"IF(OFFSET('Raw Data'!AV61,Input_Details!$B$29,0)=\"\", \"-\", OFFSET('Raw Data'!AV61,Input_Details!$B$29,0))","v":4},{"$f":"IF(OFFSET('Raw Data'!AW61,Input_Details!$B$29,0)=\"\", \"-\", OFFSET('Raw Data'!AW61,Input_Details!$B$29,0))","v":0},{"$f":"IF(OFFSET('Raw Data'!AX61,Input_Details!$B$29,0)=\"\", \"-\", OFFSET('Raw Data'!AX61,Input_Details!$B$29,0))","v":0},{"$f":"IF(OFFSET('Raw Data'!AY61,Input_Details!$B$29,0)=\"\", \"-\", OFFSET('Raw Data'!AY61,Input_Details!$B$29,0))","v":0},{"$f":"IF(OFFSET('Raw Data'!AZ61,Input_Details!$B$29,0)=\"\", \"-\", OFFSET('Raw Data'!AZ61,Input_Details!$B$29,0))","v":0},{"$f":"IF(OFFSET('Raw Data'!BA61,Input_Details!$B$29,0)=\"\", \"-\", OFFSET('Raw Data'!BA61,Input_Details!$B$29,0))","v":0},{"$f":"IF(OFFSET('Raw Data'!BB61,Input_Details!$B$29,0)=\"\", \"-\", OFFSET('Raw Data'!BB61,Input_Details!$B$29,0))","v":0},{"$f":"IF(OFFSET('Raw Data'!BC61,Input_Details!$B$29,0)=\"\", \"-\", OFFSET('Raw Data'!BC61,Input_Details!$B$29,0))","v":0},{"$f":"IF(OFFSET('Raw Data'!BD61,Input_Details!$B$29,0)=\"\", \"-\", OFFSET('Raw Data'!BD61,Input_Details!$B$29,0))","v":0},{"$f":"IF(OFFSET('Raw Data'!BE61,Input_Details!$B$29,0)=\"\", \"-\", OFFSET('Raw Data'!BE61,Input_Details!$B$29,0))","v":0},{"$f":"IF(OFFSET('Raw Data'!BF61,Input_Details!$B$29,0)=\"\", \"-\", OFFSET('Raw Data'!BF61,Input_Details!$B$29,0))","v":0},5,null,7,50,0,10,1,0,0,1,0,0,0,0,69]
[null,"14:30:00",{"$f":"IF(OFFSET('Raw Data'!H62,Input_Details!$B$29,0)=\"\", \"-\", OFFSET('Raw Data'!H62,Input_Details!$B$29,0))","v":5},{"$f":"IF(OFFSET('Raw Data'!I62,Input_Details!$B$29,0)=\"\", \"-\", OFFSET('Raw Data'!I62,Input_Details!$B$29,0))","v":46},{"$f":"IF(OFFSET('Raw Data'!J62,Input_Details!$B$29,0)=\"\", \"-\", OFFSET('Raw Data'!J62,Input_Details!$B$29,0))","v":0},{"$f":"IF(OFFSET('Raw Data'!K62,Input_Details!$B$29,0)=\"\", \"-\", OFFSET('Raw Data'!K62,Input_Details!$B$29,0))","v":10},{"$f":"IF(OFFSET('Raw Data'!L62,Input_Details!$B$29,0)=\"\", \"-\", OFFSET('Raw Data'!L62,Input_Details!$B$29,0))","v":2},{"$f":"IF(OFFSET('Raw Data'!M62,Input_Details!$B$29,0)=\"\", \"-\", OFFSET('Raw Data'!M62,Input_Details!$B$29,0))","v":1},{"$f":"IF(OFFSET('Raw Data'!N62,Input_Details!$B$29,0)=\"\", \"-\", OFFSET('Raw Data'!N62,Input_Details!$B$29,0))","v":0},{"$f":"IF(OFFSET('Raw Data'!O62,Input_Details!$B$29,0)=\"\", \"-\", OFFSET('Raw Data'!O62,Input_Details!$B$29,0))","v":0},{"$f":"IF(OFFSET('Raw Data'!P62,Input_Details!$B$29,0)=\"\", \"-\", OFFSET('Raw Data'!P62,Input_Details!$B$29,0))","v":0},{"$f":"IF(OFFSET('Raw Data'!Q62,Input_Details!$B$29,0)=\"\", \"-\", OFFSET('Raw Data'!Q62,Input_Details!$B$29,0))","v":0},{"$f":"IF(OFFSET('Raw Data'!R62,Input_Details!$B$29,0)=\"\", \"-\", OFFSET('Raw Data'!R62,Input_Details!$B$29,0))","v":0},{"$f":"IF(OFFSET('Raw Data'!S62,Input_Details!$B$29,0)=\"\", \"-\", OFFSET('Raw Data'!S62,Input_Details!$B$29,0))","v":0},64,null,{"$f":"IF(OFFSET('Raw Data'!AU62,Input_Details!$B$29,0)=\"\", \"-\", OFFSET('Raw Data'!AU62,Input_Details!$B$29,0))","v":2},{"$f":"IF(OFFSET('Raw Data'!AV62,Input_Details!$B$29,0)=\"\", \"-\", OFFSET('Raw Data'!AV62,Input_Details!$B$29,0))","v":5},{"$f":"IF(OFFSET('Raw Data'!AW62,Input_Details!$B$29,0)=\"\", \"-\", OFFSET('Raw Data'!AW62,Input_Details!$B$29,0))","v":0},{"$f":"IF(OFFSET('Raw Data'!AX62,Input_Details!$B$29,0)=\"\", \"-\", OFFSET('Raw Data'!AX62,Input_Details!$B$29,0))","v":0},{"$f":"IF(OFFSET('Raw Data'!AY62,Input_Details!$B$29,0)=\"\", \"-\", OFFSET('Raw Data'!AY62,Input_Details!$B$29,0))","v":0},{"$f":"IF(OFFSET('Raw Data'!AZ62,Input_Details!$B$29,0)=\"\", \"-\", OFFSET('Raw Data'!AZ62,Input_Details!$B$29,0))","v":0},{"$f":"IF(OFFSET('Raw Data'!BA62,Input_Details!$B$29,0)=\"\", \"-\", OFFSET('Raw Data'!BA62,Input_Details!$B$29,0))","v":0},{"$f":"IF(OFFSET('Raw Data'!BB62,Input_Details!$B$29,0)=\"\", \"-\", OFFSET('Raw Data'!BB62,Input_Details!$B$29,0))","v":0},{"$f":"IF(OFFSET('Raw Data'!BC62,Input_Details!$B$29,0)=\"\", \"-\", OFFSET('Raw Data'!BC62,Input_Details!$B$29,0))","v":0},{"$f":"IF(OFFSET('Raw Data'!BD62,Input_Details!$B$29,0)=\"\", \"-\", OFFSET('Raw Data'!BD62,Input_Details!$B$29,0))","v":0},{"$f":"IF(OFFSET('Raw Data'!BE62,Input_Details!$B$29,0)=\"\", \"-\", OFFSET('Raw Data'!BE62,Input_Details!$B$29,0))","v":0},{"$f":"IF(OFFSET('Raw Data'!BF62,Input_Details!$B$29,0)=\"\", \"-\", OFFSET('Raw Data'!BF62,Input_Details!$B$29,0))","v":0},7,null,7,51,0,10,2,1,0,0,0,0,0,0,71]
[null,"14:45:00",{"$f":"IF(OFFSET('Raw Data'!H63,Input_Details!$B$29,0)=\"\", \"-\", OFFSET('Raw Data'!H63,Input_Details!$B$29,0))","v":6},{"$f":"IF(OFFSET('Raw Data'!I63,Input_Details!$B$29,0)=\"\", \"-\", OFFSET('Raw Data'!I63,Input_Details!$B$29,0))","v":50},{"$f":"IF(OFFSET('Raw Data'!J63,Input_Details!$B$29,0)=\"\", \"-\", OFFSET('Raw Data'!J63,Input_Details!$B$29,0))","v":0},{"$f":"IF(OFFSET('Raw Data'!K63,Input_Details!$B$29,0)=\"\", \"-\", OFFSET('Raw Data'!K63,Input_Details!$B$29,0))","v":11},{"$f":"IF(OFFSET('Raw Data'!L63,Input_Details!$B$29,0)=\"\", \"-\", OFFSET('Raw Data'!L63,Input_Details!$B$29,0))","v":2},{"$f":"IF(OFFSET('Raw Data'!M63,Input_Details!$B$29,0)=\"\", \"-\", OFFSET('Raw Data'!M63,Input_Details!$B$29,0))","v":0},{"$f":"IF(OFFSET('Raw Data'!N63,Input_Details!$B$29,0)=\"\", \"-\", OFFSET('Raw Data'!N63,Input_Details!$B$29,0))","v":0},{"$f":"IF(OFFSET('Raw Data'!O63,Input_Details!$B$29,0)=\"\", \"-\", OFFSET('Raw Data'!O63,Input_Details!$B$29,0))","v":0},{"$f":"IF(OFFSET('Raw Data'!P63,Input_Details!$B$29,0)=\"\", \"-\", OFFSET('Raw Data'!P63,Input_Details!$B$29,0))","v":0},{"$f":"IF(OFFSET('Raw Data'!Q63,Input_Details!$B$29,0)=\"\", \"-\", OFFSET('Raw Data'!Q63,Input_Details!$B$29,0))","v":0},{"$f":"IF(OFFSET('Raw Data'!R63,Input_Details!$B$29,0)=\"\", \"-\", OFFSET('Raw Data'!R63,Input_Details!$B$29,0))","v":0},{"$f":"IF(OFFSET('Raw Data'!S63,Input_Details!$B$29,0)=\"\", \"-\", OFFSET('Raw Data'!S63,Input_Details!$B$29,0))","v":0},69,null,{"$f":"IF(OFFSET('Raw Data'!AU63,Input_Details!$B$29,0)=\"\", \"-\", OFFSET('Raw Data'!AU63,Input_Details!$B$29,0))","v":1},{"$f":"IF(OFFSET('Raw Data'!AV63,Input_Details!$B$29,0)=\"\", \"-\", OFFSET('Raw Data'!AV63,Input_Details!$B$29,0))","v":5},{"$f":"IF(OFFSET('Raw Data'!AW63,Input_Details!$B$29,0)=\"\", \"-\", OFFSET('Raw Data'!AW63,Input_Details!$B$29,0))","v":0},{"$f":"IF(OFFSET('Raw Data'!AX63,Input_Details!$B$29,0)=\"\", \"-\", OFFSET('Raw Data'!AX63,Input_Details!$B$29,0))","v":1},{"$f":"IF(OFFSET('Raw Data'!AY63,Input_Details!$B$29,0)=\"\", \"-\", OFFSET('Raw Data'!AY63,Input_Details!$B$29,0))","v":0},{"$f":"IF(OFFSET('Raw Data'!AZ63,Input_Details!$B$29,0)=\"\", \"-\", OFFSET('Raw Data'!AZ63,Input_Details!$B$29,0))","v":0},{"$f":"IF(OFFSET('Raw Data'!BA63,Input_Details!$B$29,0)=\"\", \"-\", OFFSET('Raw Data'!BA63,Input_Details!$B$29,0))","v":0},{"$f":"IF(OFFSET('Raw Data'!BB63,Input_Details!$B$29,0)=\"\", \"-\", OFFSET('Raw Data'!BB63,Input_Details!$B$29,0))","v":0},{"$f":"IF(OFFSET('Raw Data'!BC63,Input_Details!$B$29,0)=\"\", \"-\", OFFSET('Raw Data'!BC63,Input_Details!$B$29,0))","v":0},{"$f":"IF(OFFSET('Raw Data'!BD63,Input_Details!$B$29,0)=\"\", \"-\", OFFSET('Raw Data'!BD63,Input_Details!$B$29,0))","v":0},{"$f":"IF(OFFSET('Raw Data'!BE63,Input_Details!$B$29,0)=\"\", \"-\", OFFSET('Raw Data'!BE63,Input_Details!$B$29,0))","v":0},{"$f":"IF(OFFSET('Raw Data'!BF63,Input_Details!$B$29,0)=\"\", \"-\", OFFSET('Raw Data'!BF63,Input_Details!$B$29,0))","v":0},7,null,7,55,0,12,2,0,0,0,0,0,0,0,76]
[null,"15:00:00",{"$f":"IF(OFFSET('Raw Data'!H64,Input_Details!$B$29,0)=\"\", \"-\", OFFSET('Raw Data'!H64,Input_Details!$B$29,0))","v":8},{"$f":"IF(OFFSET('Raw Data'!I64,Input_Details!$B$29,0)=\"\", \"-\", OFFSET('Raw Data'!I64,Input_Details!$B$29,0))","v":45},{"$f":"IF(OFFSET('Raw Data'!J64,Input_Details!$B$29,0)=\"\", \"-\", OFFSET('Raw Data'!J64,Input_Details!$B$29,0))","v":1},{"$f":"IF(OFFSET('Raw Data'!K64,Input_Details!$B$29,0)=\"\", \"-\", OFFSET('Raw Data'!K64,Input_Details!$B$29,0))","v":11},{"$f":"IF(OFFSET('Raw Data'!L64,Input_Details!$B$29,0)=\"\", \"-\", OFFSET('Raw Data'!L64,Input_Details!$B$29,0))","v":2},{"$f":"IF(OFFSET('Raw Data'!M64,Input_Details!$B$29,0)=\"\", \"-\", OFFSET('Raw Data'!M64,Input_Details!$B$29,0))","v":0},{"$f":"IF(OFFSET('Raw Data'!N64,Input_Details!$B$29,0)=\"\", \"-\", OFFSET('Raw Data'!N64,Input_Details!$B$29,0))","v":0},{"$f":"IF(OFFSET('Raw Data'!O64,Input_Details!$B$29,0)=\"\", \"-\", OFFSET('Raw Data'!O64,Input_Details!$B$29,0))","v":0},{"$f":"IF(OFFSET('Raw Data'!P64,Input_Details!$B$29,0)=\"\", \"-\", OFFSET('Raw Data'!P64,Input_Details!$B$29,0))","v":0},{"$f":"IF(OFFSET('Raw Data'!Q64,Input_Details!$B$29,0)=\"\", \"-\", OFFSET('Raw Data'!Q64,Input_Details!$B$29,0))","v":0},{"$f":"IF(OFFSET('Raw Data'!R64,Input_Details!$B$29,0)=\"\", \"-\", OFFSET('Raw Data'!R64,Input_Details!$B$29,0))","v":0},{"$f":"IF(OFFSET('Raw Data'!S64,Input_Details!$B$29,0)=\"\", \"-\", OFFSET('Raw Data'!S64,Input_Details!$B$29,0))","v":0},67,null,{"$f":"IF(OFFSET('Raw Data'!AU64,Input_Details!$B$29,0)=\"\", \"-\", OFFSET('Raw Data'!AU64,Input_Details!$B$29,0))","v":2},{"$f":"IF(OFFSET('Raw Data'!AV64,Input_Details!$B$29,0)=\"\", \"-\", OFFSET('Raw Data'!AV64,Input_Details!$B$29,0))","v":6},{"$f":"IF(OFFSET('Raw Data'!AW64,Input_Details!$B$29,0)=\"\", \"-\", OFFSET('Raw Data'!AW64,Input_Details!$B$29,0))","v":0},{"$f":"IF(OFFSET('Raw Data'!AX64,Input_Details!$B$29,0)=\"\", \"-\", OFFSET('Raw Data'!AX64,Input_Details!$B$29,0))","v":0},{"$f":"IF(OFFSET('Raw Data'!AY64,Input_Details!$B$29,0)=\"\", \"-\", OFFSET('Raw Data'!AY64,Input_Details!$B$29,0))","v":0},{"$f":"IF(OFFSET('Raw Data'!AZ64,Input_Details!$B$29,0)=\"\", \"-\", OFFSET('Raw Data'!AZ64,Input_Details!$B$29,0))","v":0},{"$f":"IF(OFFSET('Raw Data'!BA64,Input_Details!$B$29,0)=\"\", \"-\", OFFSET('Raw Data'!BA64,Input_Details!$B$29,0))","v":0},{"$f":"IF(OFFSET('Raw Data'!BB64,Input_Details!$B$29,0)=\"\", \"-\", OFFSET('Raw Data'!BB64,Input_Details!$B$29,0))","v":0},{"$f":"IF(OFFSET('Raw Data'!BC64,Input_Details!$B$29,0)=\"\", \"-\", OFFSET('Raw Data'!BC64,Input_Details!$B$29,0))","v":0},{"$f":"IF(OFFSET('Raw Data'!BD64,Input_Details!$B$29,0)=\"\", \"-\", OFFSET('Raw Data'!BD64,Input_Details!$B$29,0))","v":0},{"$f":"IF(OFFSET('Raw Data'!BE64,Input_Details!$B$29,0)=\"\", \"-\", OFFSET('Raw Data'!BE64,Input_Details!$B$29,0))","v":0},{"$f":"IF(OFFSET('Raw Data'!BF64,Input_Details!$B$29,0)=\"\", \"-\", OFFSET('Raw Data'!BF64,Input_Details!$B$29,0))","v":0},8,null,10,51,1,11,2,0,0,0,0,0,0,0,75]
[null,"15:15:00",{"$f":"IF(OFFSET('Raw Data'!H65,Input_Details!$B$29,0)=\"\", \"-\", OFFSET('Raw Data'!H65,Input_Details!$B$29,0))","v":7},{"$f":"IF(OFFSET('Raw Data'!I65,Input_Details!$B$29,0)=\"\", \"-\", OFFSET('Raw Data'!I65,Input_Details!$B$29,0))","v":45},{"$f":"IF(OFFSET('Raw Data'!J65,Input_Details!$B$29,0)=\"\", \"-\", OFFSET('Raw Data'!J65,Input_Details!$B$29,0))","v":1},{"$f":"IF(OFFSET('Raw Data'!K65,Input_Details!$B$29,0)=\"\", \"-\", OFFSET('Raw Data'!K65,Input_Details!$B$29,0))","v":10},{"$f":"IF(OFFSET('Raw Data'!L65,Input_Details!$B$29,0)=\"\", \"-\", OFFSET('Raw Data'!L65,Input_Details!$B$29,0))","v":1},{"$f":"IF(OFFSET('Raw Data'!M65,Input_Details!$B$29,0)=\"\", \"-\", OFFSET('Raw Data'!M65,Input_Details!$B$29,0))","v":0},{"$f":"IF(OFFSET('Raw Data'!N65,Input_Details!$B$29,0)=\"\", \"-\", OFFSET('Raw Data'!N65,Input_Details!$B$29,0))","v":0},{"$f":"IF(OFFSET('Raw Data'!O65,Input_Details!$B$29,0)=\"\", \"-\", OFFSET('Raw Data'!O65,Input_Details!$B$29,0))","v":0},{"$f":"IF(OFFSET('Raw Data'!P65,Input_Details!$B$29,0)=\"\", \"-\", OFFSET('Raw Data'!P65,Input_Details!$B$29,0))","v":0},{"$f":"IF(OFFSET('Raw Data'!Q65,Input_Details!$B$29,0)=\"\", \"-\", OFFSET('Raw Data'!Q65,Input_Details!$B$29,0))","v":0},{"$f":"IF(OFFSET('Raw Data'!R65,Input_Details!$B$29,0)=\"\", \"-\", OFFSET('Raw Data'!R65,Input_Details!$B$29,0))","v":0},{"$f":"IF(OFFSET('Raw Data'!S65,Input_Details!$B$29,0)=\"\", \"-\", OFFSET('Raw Data'!S65,Input_Details!$B$29,0))","v":0},64,null,{"$f":"IF(OFFSET('Raw Data'!AU65,Input_Details!$B$29,0)=\"\", \"-\", OFFSET('Raw Data'!AU65,Input_Details!$B$29,0))","v":1},{"$f":"IF(OFFSET('Raw Data'!AV65,Input_Details!$B$29,0)=\"\", \"-\", OFFSET('Raw Data'!AV65,Input_Details!$B$29,0))","v":6},{"$f":"IF(OFFSET('Raw Data'!AW65,Input_Details!$B$29,0)=\"\", \"-\", OFFSET('Raw Data'!AW65,Input_Details!$B$29,0))","v":0},{"$f":"IF(OFFSET('Raw Data'!AX65,Input_Details!$B$29,0)=\"\", \"-\", OFFSET('Raw Data'!AX65,Input_Details!$B$29,0))","v":0},{"$f":"IF(OFFSET('Raw Data'!AY65,Input_Details!$B$29,0)=\"\", \"-\", OFFSET('Raw Data'!AY65,Input_Details!$B$29,0))","v":1},{"$f":"IF(OFFSET('Raw Data'!AZ65,Input_Details!$B$29,0)=\"\", \"-\", OFFSET('Raw Data'!AZ65,Input_Details!$B$29,0))","v":0},{"$f":"IF(OFFSET('Raw Data'!BA65,Input_Details!$B$29,0)=\"\", \"-\", OFFSET('Raw Data'!BA65,Input_Details!$B$29,0))","v":0},{"$f":"IF(OFFSET('Raw Data'!BB65,Input_Details!$B$29,0)=\"\", \"-\", OFFSET('Raw Data'!BB65,Input_Details!$B$29,0))","v":0},{"$f":"IF(OFFSET('Raw Data'!BC65,Input_Details!$B$29,0)=\"\", \"-\", OFFSET('Raw Data'!BC65,Input_Details!$B$29,0))","v":0},{"$f":"IF(OFFSET('Raw Data'!BD65,Input_Details!$B$29,0)=\"\", \"-\", OFFSET('Raw Data'!BD65,Input_Details!$B$29,0))","v":0},{"$f":"IF(OFFSET('Raw Data'!BE65,Input_Details!$B$29,0)=\"\", \"-\", OFFSET('Raw Data'!BE65,Input_Details!$B$29,0))","v":0},{"$f":"IF(OFFSET('Raw Data'!BF65,Input_Details!$B$29,0)=\"\", \"-\", OFFSET('Raw Data'!BF65,Input_Details!$B$29,0))","v":0},8,null,8,51,1,10,2,0,0,0,0,0,0,0,72]
[null,"15:30:00",{"$f":"IF(OFFSET('Raw Data'!H66,Input_Details!$B$29,0)=\"\", \"-\", OFFSET('Raw Data'!H66,Input_Details!$B$29,0))","v":5},{"$f":"IF(OFFSET('Raw Data'!I66,Input_Details!$B$29,0)=\"\", \"-\", OFFSET('Raw Data'!I66,Input_Details!$B$29,0))","v":47},{"$f":"IF(OFFSET('Raw Data'!J66,Input_Details!$B$29,0)=\"\", \"-\", OFFSET('Raw Data'!J66,Input_Details!$B$29,0))","v":1},{"$f":"IF(OFFSET('Raw Data'!K66,Input_Details!$B$29,0)=\"\", \"-\", OFFSET('Raw Data'!K66,Input_Details!$B$29,0))","v":8},{"$f":"IF(OFFSET('Raw Data'!L66,Input_Details!$B$29,0)=\"\", \"-\", OFFSET('Raw Data'!L66,Input_Details!$B$29,0))","v":1},{"$f":"IF(OFFSET('Raw Data'!M66,Input_Details!$B$29,0)=\"\", \"-\", OFFSET('Raw Data'!M66,Input_Details!$B$29,0))","v":1},{"$f":"IF(OFFSET('Raw Data'!N66,Input_Details!$B$29,0)=\"\", \"-\", OFFSET('Raw Data'!N66,Input_Details!$B$29,0))","v":0},{"$f":"IF(OFFSET('Raw Data'!O66,Input_Details!$B$29,0)=\"\", \"-\", OFFSET('Raw Data'!O66,Input_Details!$B$29,0))","v":0},{"$f":"IF(OFFSET('Raw Data'!P66,Input_Details!$B$29,0)=\"\", \"-\", OFFSET('Raw Data'!P66,Input_Details!$B$29,0))","v":0},{"$f":"IF(OFFSET('Raw Data'!Q66,Input_Details!$B$29,0)=\"\", \"-\", OFFSET('Raw Data'!Q66,Input_Details!$B$29,0))","v":0},{"$f":"IF(OFFSET('Raw Data'!R66,Input_Details!$B$29,0)=\"\", \"-\", OFFSET('Raw Data'!R66,Input_Details!$B$29,0))","v":0},{"$f":"IF(OFFSET('Raw Data'!S66,Input_Details!$B$29,0)=\"\", \"-\", OFFSET('Raw Data'!S66,Input_Details!$B$29,0))","v":0},63,null,{"$f":"IF(OFFSET('Raw Data'!AU66,Input_Details!$B$29,0)=\"\", \"-\", OFFSET('Raw Data'!AU66,Input_Details!$B$29,0))","v":3},{"$f":"IF(OFFSET('Raw Data'!AV66,Input_Details!$B$29,0)=\"\", \"-\", OFFSET('Raw Data'!AV66,Input_Details!$B$29,0))","v":8},{"$f":"IF(OFFSET('Raw Data'!AW66,Input_Details!$B$29,0)=\"\", \"-\", OFFSET('Raw Data'!AW66,Input_Details!$B$29,0))","v":0},{"$f":"IF(OFFSET('Raw Data'!AX66,Input_Details!$B$29,0)=\"\", \"-\", OFFSET('Raw Data'!AX66,Input_Details!$B$29,0))","v":0},{"$f":"IF(OFFSET('Raw Data'!AY66,Input_Details!$B$29,0)=\"\", \"-\", OFFSET('Raw Data'!AY66,Input_Details!$B$29,0))","v":1},{"$f":"IF(OFFSET('Raw Data'!AZ66,Input_Details!$B$29,0)=\"\", \"-\", OFFSET('Raw Data'!AZ66,Input_Details!$B$29,0))","v":0},{"$f":"IF(OFFSET('Raw Data'!BA66,Input_Details!$B$29,0)=\"\", \"-\", OFFSET('Raw Data'!BA66,Input_Details!$B$29,0))","v":0},{"$f":"IF(OFFSET('Raw Data'!BB66,Input_Details!$B$29,0)=\"\", \"-\", OFFSET('Raw Data'!BB66,Input_Details!$B$29,0))","v":0},{"$f":"IF(OFFSET('Raw Data'!BC66,Input_Details!$B$29,0)=\"\", \"-\", OFFSET('Raw Data'!BC66,Input_Details!$B$29,0))","v":0},{"$f":"IF(OFFSET('Raw Data'!BD66,Input_Details!$B$29,0)=\"\", \"-\", OFFSET('Raw Data'!BD66,Input_Details!$B$29,0))","v":0},{"$f":"IF(OFFSET('Raw Data'!BE66,Input_Details!$B$29,0)=\"\", \"-\", OFFSET('Raw Data'!BE66,Input_Details!$B$29,0))","v":0},{"$f":"IF(OFFSET('Raw Data'!BF66,Input_Details!$B$29,0)=\"\", \"-\", OFFSET('Raw Data'!BF66,Input_Details!$B$29,0))","v":0},12,null,8,55,1,8,2,1,0,0,0,0,0,0,75]
[null,"15:45:00",{"$f":"IF(OFFSET('Raw Data'!H67,Input_Details!$B$29,0)=\"\", \"-\", OFFSET('Raw Data'!H67,Input_Details!$B$29,0))","v":9},{"$f":"IF(OFFSET('Raw Data'!I67,Input_Details!$B$29,0)=\"\", \"-\", OFFSET('Raw Data'!I67,Input_Details!$B$29,0))","v":51},{"$f":"IF(OFFSET('Raw Data'!J67,Input_Details!$B$29,0)=\"\", \"-\", OFFSET('Raw Data'!J67,Input_Details!$B$29,0))","v":1},{"$f":"IF(OFFSET('Raw Data'!K67,Input_Details!$B$29,0)=\"\", \"-\", OFFSET('Raw Data'!K67,Input_Details!$B$29,0))","v":8},{"$f":"IF(OFFSET('Raw Data'!L67,Input_Details!$B$29,0)=\"\", \"-\", OFFSET('Raw Data'!L67,Input_Details!$B$29,0))","v":1},{"$f":"IF(OFFSET('Raw Data'!M67,Input_Details!$B$29,0)=\"\", \"-\", OFFSET('Raw Data'!M67,Input_Details!$B$29,0))","v":1},{"$f":"IF(OFFSET('Raw Data'!N67,Input_Details!$B$29,0)=\"\", \"-\", OFFSET('Raw Data'!N67,Input_Details!$B$29,0))","v":0},{"$f":"IF(OFFSET('Raw Data'!O67,Input_Details!$B$29,0)=\"\", \"-\", OFFSET('Raw Data'!O67,Input_Details!$B$29,0))","v":0},{"$f":"IF(OFFSET('Raw Data'!P67,Input_Details!$B$29,0)=\"\", \"-\", OFFSET('Raw Data'!P67,Input_Details!$B$29,0))","v":0},{"$f":"IF(OFFSET('Raw Data'!Q67,Input_Details!$B$29,0)=\"\", \"-\", OFFSET('Raw Data'!Q67,Input_Details!$B$29,0))","v":0},{"$f":"IF(OFFSET('Raw Data'!R67,Input_Details!$B$29,0)=\"\", \"-\", OFFSET('Raw Data'!R67,Input_Details!$B$29,0))","v":0},{"$f":"IF(OFFSET('Raw Data'!S67,Input_Details!$B$29,0)=\"\", \"-\", OFFSET('Raw Data'!S67,Input_Details!$B$29,0))","v":0},71,null,{"$f":"IF(OFFSET('Raw Data'!AU67,Input_Details!$B$29,0)=\"\", \"-\", OFFSET('Raw Data'!AU67,Input_Details!$B$29,0))","v":2},{"$f":"IF(OFFSET('Raw Data'!AV67,Input_Details!$B$29,0)=\"\", \"-\", OFFSET('Raw Data'!AV67,Input_Details!$B$29,0))","v":7},{"$f":"IF(OFFSET('Raw Data'!AW67,Input_Details!$B$29,0)=\"\", \"-\", OFFSET('Raw Data'!AW67,Input_Details!$B$29,0))","v":0},{"$f":"IF(OFFSET('Raw Data'!AX67,Input_Details!$B$29,0)=\"\", \"-\", OFFSET('Raw Data'!AX67,Input_Details!$B$29,0))","v":0},{"$f":"IF(OFFSET('Raw Data'!AY67,Input_Details!$B$29,0)=\"\", \"-\", OFFSET('Raw Data'!AY67,Input_Details!$B$29,0))","v":0},{"$f":"IF(OFFSET('Raw Data'!AZ67,Input_Details!$B$29,0)=\"\", \"-\", OFFSET('Raw Data'!AZ67,Input_Details!$B$29,0))","v":0},{"$f":"IF(OFFSET('Raw Data'!BA67,Input_Details!$B$29,0)=\"\", \"-\", OFFSET('Raw Data'!BA67,Input_Details!$B$29,0))","v":0},{"$f":"IF(OFFSET('Raw Data'!BB67,Input_Details!$B$29,0)=\"\", \"-\", OFFSET('Raw Data'!BB67,Input_Details!$B$29,0))","v":0},{"$f":"IF(OFFSET('Raw Data'!BC67,Input_Details!$B$29,0)=\"\", \"-\", OFFSET('Raw Data'!BC67,Input_Details!$B$29,0))","v":0},{"$f":"IF(OFFSET('Raw Data'!BD67,Input_Details!$B$29,0)=\"\", \"-\", OFFSET('Raw Data'!BD67,Input_Details!$B$29,0))","v":0},{"$f":"IF(OFFSET('Raw Data'!BE67,Input_Details!$B$29,0)=\"\", \"-\", OFFSET('Raw Data'!BE67,Input_Details!$B$29,0))","v":0},{"$f":"IF(OFFSET('Raw Data'!BF67,Input_Details!$B$29,0)=\"\", \"-\", OFFSET('Raw Data'!BF67,Input_Details!$B$29,0))","v":0},9,null,11,58,1,8,1,1,0,0,0,0,0,0,80]
[null,"16:00:00",{"$f":"IF(OFFSET('Raw Data'!H68,Input_Details!$B$29,0)=\"\", \"-\", OFFSET('Raw Data'!H68,Input_Details!$B$29,0))","v":12},{"$f":"IF(OFFSET('Raw Data'!I68,Input_Details!$B$29,0)=\"\", \"-\", OFFSET('Raw Data'!I68,Input_Details!$B$29,0))","v":49},{"$f":"IF(OFFSET('Raw Data'!J68,Input_Details!$B$29,0)=\"\", \"-\", OFFSET('Raw Data'!J68,Input_Details!$B$29,0))","v":1},{"$f":"IF(OFFSET('Raw Data'!K68,Input_Details!$B$29,0)=\"\", \"-\", OFFSET('Raw Data'!K68,Input_Details!$B$29,0))","v":9},{"$f":"IF(OFFSET('Raw Data'!L68,Input_Details!$B$29,0)=\"\", \"-\", OFFSET('Raw Data'!L68,Input_Details!$B$29,0))","v":1},{"$f":"IF(OFFSET('Raw Data'!M68,Input_Details!$B$29,0)=\"\", \"-\", OFFSET('Raw Data'!M68,Input_Details!$B$29,0))","v":1},{"$f":"IF(OFFSET('Raw Data'!N68,Input_Details!$B$29,0)=\"\", \"-\", OFFSET('Raw Data'!N68,Input_Details!$B$29,0))","v":0},{"$f":"IF(OFFSET('Raw Data'!O68,Input_Details!$B$29,0)=\"\", \"-\", OFFSET('Raw Data'!O68,Input_Details!$B$29,0))","v":0},{"$f":"IF(OFFSET('Raw Data'!P68,Input_Details!$B$29,0)=\"\", \"-\", OFFSET('Raw Data'!P68,Input_Details!$B$29,0))","v":0},{"$f":"IF(OFFSET('Raw Data'!Q68,Input_Details!$B$29,0)=\"\", \"-\", OFFSET('Raw Data'!Q68,Input_Details!$B$29,0))","v":0},{"$f":"IF(OFFSET('Raw Data'!R68,Input_Details!$B$29,0)=\"\", \"-\", OFFSET('Raw Data'!R68,Input_Details!$B$29,0))","v":0},{"$f":"IF(OFFSET('Raw Data'!S68,Input_Details!$B$29,0)=\"\", \"-\", OFFSET('Raw Data'!S68,Input_Details!$B$29,0))","v":0},73,null,{"$f":"IF(OFFSET('Raw Data'!AU68,Input_Details!$B$29,0)=\"\", \"-\", OFFSET('Raw Data'!AU68,Input_Details!$B$29,0))","v":3},{"$f":"IF(OFFSET('Raw Data'!AV68,Input_Details!$B$29,0)=\"\", \"-\", OFFSET('Raw Data'!AV68,Input_Details!$B$29,0))","v":5},{"$f":"IF(OFFSET('Raw Data'!AW68,Input_Details!$B$29,0)=\"\", \"-\", OFFSET('Raw Data'!AW68,Input_Details!$B$29,0))","v":0},{"$f":"IF(OFFSET('Raw Data'!AX68,Input_Details!$B$29,0)=\"\", \"-\", OFFSET('Raw Data'!AX68,Input_Details!$B$29,0))","v":0},{"$f":"IF(OFFSET('Raw Data'!AY68,Input_Details!$B$29,0)=\"\", \"-\", OFFSET('Raw Data'!AY68,Input_Details!$B$29,0))","v":0},{"$f":"IF(OFFSET('Raw Data'!AZ68,Input_Details!$B$29,0)=\"\", \"-\", OFFSET('Raw Data'!AZ68,Input_Details!$B$29,0))","v":0},{"$f":"IF(OFFSET('Raw Data'!BA68,Input_Details!$B$29,0)=\"\", \"-\", OFFSET('Raw Data'!BA68,Input_Details!$B$29,0))","v":0},{"$f":"IF(OFFSET('Raw Data'!BB68,Input_Details!$B$29,0)=\"\", \"-\", OFFSET('Raw Data'!BB68,Input_Details!$B$29,0))","v":0},{"$f":"IF(OFFSET('Raw Data'!BC68,Input_Details!$B$29,0)=\"\", \"-\", OFFSET('Raw Data'!BC68,Input_Details!$B$29,0))","v":0},{"$f":"IF(OFFSET('Raw Data'!BD68,Input_Details!$B$29,0)=\"\", \"-\", OFFSET('Raw Data'!BD68,Input_Details!$B$29,0))","v":0},{"$f":"IF(OFFSET('Raw Data'!BE68,Input_Details!$B$29,0)=\"\", \"-\", OFFSET('Raw Data'!BE68,Input_Details!$B$29,0))","v":0},{"$f":"IF(OFFSET('Raw Data'!BF68,Input_Details!$B$29,0)=\"\", \"-\", OFFSET('Raw Data'!BF68,Input_Details!$B$29,0))","v":0},8,null,15,{"$f":"IF(OR(D83=\"-\", R83=\"-\"), \"-\", SUM(D83,R83))","v":54},{"$f":"IF(OR(E83=\"-\", S83=\"-\"), \"-\", SUM(E83,S83))","v":1},{"$f":"IF(OR(F83=\"-\", T83=\"-\"), \"-\", SUM(F83,T83))","v":9},{"$f":"IF(OR(G83=\"-\", U83=\"-\"), \"-\", SUM(G83,U83))","v":1},{"$f":"IF(OR(H83=\"-\", V83=\"-\"), \"-\", SUM(H83,V83))","v":1},{"$f":"IF(OR(I83=\"-\", W83=\"-\"), \"-\", SUM(I83,W83))","v":0},{"$f":"IF(OR(J83=\"-\", X83=\"-\"), \"-\", SUM(J83,X83))","v":0},{"$f":"IF(OR(K83=\"-\", Y83=\"-\"), \"-\", SUM(K83,Y83))","v":0},{"$f":"IF(OR(L83=\"-\", Z83=\"-\"), \"-\", SUM(L83,Z83))","v":0},{"$f":"IF(OR(M83=\"-\", AA83=\"-\"), \"-\", SUM(M83,AA83))","v":0},{"$f":"IF(OR(N83=\"-\", AB83=\"-\"), \"-\", SUM(N83,AB83))","v":0},81]
[null,"16:15:00",{"$f":"IF(OFFSET('Raw Data'!H69,Input_Details!$B$29,0)=\"\", \"-\", OFFSET('Raw Data'!H69,Input_Details!$B$29,0))","v":11},{"$f":"IF(OFFSET('Raw Data'!I69,Input_Details!$B$29,0)=\"\", \"-\", OFFSET('Raw Data'!I69,Input_Details!$B$29,0))","v":45},{"$f":"IF(OFFSET('Raw Data'!J69,Input_Details!$B$29,0)=\"\", \"-\", OFFSET('Raw Data'!J69,Input_Details!$B$29,0))","v":1},{"$f":"IF(OFFSET('Raw Data'!K69,Input_Details!$B$29,0)=\"\", \"-\", OFFSET('Raw Data'!K69,Input_Details!$B$29,0))","v":9},{"$f":"IF(OFFSET('Raw Data'!L69,Input_Details!$B$29,0)=\"\", \"-\", OFFSET('Raw Data'!L69,Input_Details!$B$29,0))","v":2},{"$f":"IF(OFFSET('Raw Data'!M69,Input_Details!$B$29,0)=\"\", \"-\", OFFSET('Raw Data'!M69,Input_Details!$B$29,0))","v":1},{"$f":"IF(OFFSET('Raw Data'!N69,Input_Details!$B$29,0)=\"\", \"-\", OFFSET('Raw Data'!N69,Input_Details!$B$29,0))","v":0},{"$f":"IF(OFFSET('Raw Data'!O69,Input_Details!$B$29,0)=\"\", \"-\", OFFSET('Raw Data'!O69,Input_Details!$B$29,0))","v":0},{"$f":"IF(OFFSET('Raw Data'!P69,Input_Details!$B$29,0)=\"\", \"-\", OFFSET('Raw Data'!P69,Input_Details!$B$29,0))","v":0},{"$f":"IF(OFFSET('Raw Data'!Q69,Input_Details!$B$29,0)=\"\", \"-\", OFFSET('Raw Data'!Q69,Input_Details!$B$29,0))","v":0},{"$f":"IF(OFFSET('Raw Data'!R69,Input_Details!$B$29,0)=\"\", \"-\", OFFSET('Raw Data'!R69,Input_Details!$B$29,0))","v":0},{"$f":"IF(OFFSET('Raw Data'!S69,Input_Details!$B$29,0)=\"\", \"-\", OFFSET('Raw Data'!S69,Input_Details!$B$29,0))","v":0},{"$f":"IF(C84=\"-\", \"-\", SUM(C84:N84))","v":69},null,{"$f":"IF(OFFSET('Raw Data'!AU69,Input_Details!$B$29,0)=\"\", \"-\", OFFSET('Raw Data'!AU69,Input_Details!$B$29,0))","v":2},{"$f":"IF(OFFSET('Raw Data'!AV69,Input_Details!$B$29,0)=\"\", \"-\", OFFSET('Raw Data'!AV69,Input_Details!$B$29,0))","v":6},{"$f":"IF(OFFSET('Raw Data'!AW69,Input_Details!$B$29,0)=\"\", \"-\", OFFSET('Raw Data'!AW69,Input_Details!$B$29,0))","v":0},{"$f":"IF(OFFSET('Raw Data'!AX69,Input_Details!$B$29,0)=\"\", \"-\", OFFSET('Raw Data'!AX69,Input_Details!$B$29,0))","v":0},{"$f":"IF(OFFSET('Raw Data'!AY69,Input_Details!$B$29,0)=\"\", \"-\", OFFSET('Raw Data'!AY69,Input_Details!$B$29,0))","v":0},{"$f":"IF(OFFSET('Raw Data'!AZ69,Input_Details!$B$29,0)=\"\", \"-\", OFFSET('Raw Data'!AZ69,Input_Details!$B$29,0))","v":0},{"$f":"IF(OFFSET('Raw Data'!BA69,Input_Details!$B$29,0)=\"\", \"-\", OFFSET('Raw Data'!BA69,Input_Details!$B$29,0))","v":0},{"$f":"IF(OFFSET('Raw Data'!BB69,Input_Details!$B$29,0)=\"\", \"-\", OFFSET('Raw Data'!BB69,Input_Details!$B$29,0))","v":0},{"$f":"IF(OFFSET('Raw Data'!BC69,Input_Details!$B$29,0)=\"\", \"-\", OFFSET('Raw Data'!BC69,Input_Details!$B$29,0))","v":0},{"$f":"IF(OFFSET('Raw Data'!BD69,Input_Details!$B$29,0)=\"\", \"-\", OFFSET('Raw Data'!BD69,Input_Details!$B$29,0))","v":0},{"$f":"IF(OFFSET('Raw Data'!BE69,Input_Details!$B$29,0)=\"\", \"-\", OFFSET('Raw Data'!BE69,Input_Details!$B$29,0))","v":0},{"$f":"IF(OFFSET('Raw Data'!BF69,Input_Details!$B$29,0)=\"\", \"-\", OFFSET('Raw Data'!BF69,Input_Details!$B$29,0))","v":0},{"$f":"IF(Q84=\"-\", \"-\", SUM(Q84:AB84))","v":8},null,{"$f":"IF(OR(C84=\"-\", Q84=\"-\"), \"-\", SUM(C84,Q84))","v":13},51,1,9,2,1,0,0,0,0,0,0,{"$f":"IF(AE84=\"-\", \"-\", SUM(AE84:AP84))","v":77}]
[null,"16:30:00",{"$f":"IF(OFFSET('Raw Data'!H70,Input_Details!$B$29,0)=\"\", \"-\", OFFSET('Raw Data'!H70,Input_Details!$B$29,0))","v":11},{"$f":"IF(OFFSET('Raw Data'!I70,Input_Details!$B$29,0)=\"\", \"-\", OFFSET('Raw Data'!I70,Input_Details!$B$29,0))","v":53},{"$f":"IF(OFFSET('Raw Data'!J70,Input_Details!$B$29,0)=\"\", \"-\", OFFSET('Raw Data'!J70,Input_Details!$B$29,0))","v":1},{"$f":"IF(OFFSET('Raw Data'!K70,Input_Details!$B$29,0)=\"\", \"-\", OFFSET('Raw Data'!K70,Input_Details!$B$29,0))","v":9},{"$f":"IF(OFFSET('Raw Data'!L70,Input_Details!$B$29,0)=\"\", \"-\", OFFSET('Raw Data'!L70,Input_Details!$B$29,0))","v":1},{"$f":"IF(OFFSET('Raw Data'!M70,Input_Details!$B$29,0)=\"\", \"-\", OFFSET('Raw Data'!M70,Input_Details!$B$29,0))","v":1},{"$f":"IF(OFFSET('Raw Data'!N70,Input_Details!$B$29,0)=\"\", \"-\", OFFSET('Raw Data'!N70,Input_Details!$B$29,0))","v":0},{"$f":"IF(OFFSET('Raw Data'!O70,Input_Details!$B$29,0)=\"\", \"-\", OFFSET('Raw Data'!O70,Input_Details!$B$29,0))","v":0},{"$f":"IF(OFFSET('Raw Data'!P70,Input_Details!$B$29,0)=\"\", \"-\", OFFSET('Raw Data'!P70,Input_Details!$B$29,0))","v":0},{"$f":"IF(OFFSET('Raw Data'!Q70,Input_Details!$B$29,0)=\"\", \"-\", OFFSET('Raw Data'!Q70,Input_Details!$B$29,0))","v":0},{"$f":"IF(OFFSET('Raw Data'!R70,Input_Details!$B$29,0)=\"\", \"-\", OFFSET('Raw Data'!R70,Input_Details!$B$29,0))","v":0},{"$f":"IF(OFFSET('Raw Data'!S70,Input_Details!$B$29,0)=\"\", \"-\", OFFSET('Raw Data'!S70,Input_Details!$B$29,0))","v":0},76,null,{"$f":"IF(OFFSET('Raw Data'!AU70,Input_Details!$B$29,0)=\"\", \"-\", OFFSET('Raw Data'!AU70,Input_Details!$B$29,0))","v":1},{"$f":"IF(OFFSET('Raw Data'!AV70,Input_Details!$B$29,0)=\"\", \"-\", OFFSET('Raw Data'!AV70,Input_Details!$B$29,0))","v":7},{"$f":"IF(OFFSET('Raw Data'!AW70,Input_Details!$B$29,0)=\"\", \"-\", OFFSET('Raw Data'!AW70,Input_Details!$B$29,0))","v":0},{"$f":"IF(OFFSET('Raw Data'!AX70,Input_Details!$B$29,0)=\"\", \"-\", OFFSET('Raw Data'!AX70,Input_Details!$B$29,0))","v":0},{"$f":"IF(OFFSET('Raw Data'!AY70,Input_Details!$B$29,0)=\"\", \"-\", OFFSET('Raw Data'!AY70,Input_Details!$B$29,0))","v":0},{"$f":"IF(OFFSET('Raw Data'!AZ70,Input_Details!$B$29,0)=\"\", \"-\", OFFSET('Raw Data'!AZ70,Input_Details!$B$29,0))","v":0},{"$f":"IF(OFFSET('Raw Data'!BA70,Input_Details!$B$29,0)=\"\", \"-\", OFFSET('Raw Data'!BA70,Input_Details!$B$29,0))","v":0},{"$f":"IF(OFFSET('Raw Data'!BB70,Input_Details!$B$29,0)=\"\", \"-\", OFFSET('Raw Data'!BB70,Input_Details!$B$29,0))","v":0},{"$f":"IF(OFFSET('Raw Data'!BC70,Input_Details!$B$29,0)=\"\", \"-\", OFFSET('Raw Data'!BC70,Input_Details!$B$29,0))","v":0},{"$f":"IF(OFFSET('Raw Data'!BD70,Input_Details!$B$29,0)=\"\", \"-\", OFFSET('Raw Data'!BD70,Input_Details!$B$29,0))","v":0},{"$f":"IF(OFFSET('Raw Data'!BE70,Input_Details!$B$29,0)=\"\", \"-\", OFFSET('Raw Data'!BE70,Input_Details!$B$29,0))","v":0},{"$f":"IF(OFFSET('Raw Data'!BF70,Input_Details!$B$29,0)=\"\", \"-\", OFFSET('Raw Data'!BF70,Input_Details!$B$29,0))","v":0},8,null,12,60,1,9,1,1,0,0,0,0,0,0,84]
[null,"16:45:00",{"$f":"IF(OFFSET('Raw Data'!H71,Input_Details!$B$29,0)=\"\", \"-\", OFFSET('Raw Data'!H71,Input_Details!$B$29,0))","v":14},{"$f":"IF(OFFSET('Raw Data'!I71,Input_Details!$B$29,0)=\"\", \"-\", OFFSET('Raw Data'!I71,Input_Details!$B$29,0))","v":53},{"$f":"IF(OFFSET('Raw Data'!J71,Input_Details!$B$29,0)=\"\", \"-\", OFFSET('Raw Data'!J71,Input_Details!$B$29,0))","v":1},{"$f":"IF(OFFSET('Raw Data'!K71,Input_Details!$B$29,0)=\"\", \"-\", OFFSET('Raw Data'!K71,Input_Details!$B$29,0))","v":9},{"$f":"IF(OFFSET('Raw Data'!L71,Input_Details!$B$29,0)=\"\", \"-\", OFFSET('Raw Data'!L71,Input_Details!$B$29,0))","v":0},{"$f":"IF(OFFSET('Raw Data'!M71,Input_Details!$B$29,0)=\"\", \"-\", OFFSET('Raw Data'!M71,Input_Details!$B$29,0))","v":1},{"$f":"IF(OFFSET('Raw Data'!N71,Input_Details!$B$29,0)=\"\", \"-\", OFFSET('Raw Data'!N71,Input_Details!$B$29,0))","v":0},{"$f":"IF(OFFSET('Raw Data'!O71,Input_Details!$B$29,0)=\"\", \"-\", OFFSET('Raw Data'!O71,Input_Details!$B$29,0))","v":0},{"$f":"IF(OFFSET('Raw Data'!P71,Input_Details!$B$29,0)=\"\", \"-\", OFFSET('Raw Data'!P71,Input_Details!$B$29,0))","v":0},{"$f":"IF(OFFSET('Raw Data'!Q71,Input_Details!$B$29,0)=\"\", \"-\", OFFSET('Raw Data'!Q71,Input_Details!$B$29,0))","v":0},{"$f":"IF(OFFSET('Raw Data'!R71,Input_Details!$B$29,0)=\"\", \"-\", OFFSET('Raw Data'!R71,Input_Details!$B$29,0))","v":0},{"$f":"IF(OFFSET('Raw Data'!S71,Input_Details!$B$29,0)=\"\", \"-\", OFFSET('Raw Data'!S71,Input_Details!$B$29,0))","v":0},78,null,{"$f":"IF(OFFSET('Raw Data'!AU71,Input_Details!$B$29,0)=\"\", \"-\", OFFSET('Raw Data'!AU71,Input_Details!$B$29,0))","v":3},{"$f":"IF(OFFSET('Raw Data'!AV71,Input_Details!$B$29,0)=\"\", \"-\", OFFSET('Raw Data'!AV71,Input_Details!$B$29,0))","v":7},{"$f":"IF(OFFSET('Raw Data'!AW71,Input_Details!$B$29,0)=\"\", \"-\", OFFSET('Raw Data'!AW71,Input_Details!$B$29,0))","v":0},{"$f":"IF(OFFSET('Raw Data'!AX71,Input_Details!$B$29,0)=\"\", \"-\", OFFSET('Raw Data'!AX71,Input_Details!$B$29,0))","v":0},{"$f":"IF(OFFSET('Raw Data'!AY71,Input_Details!$B$29,0)=\"\", \"-\", OFFSET('Raw Data'!AY71,Input_Details!$B$29,0))","v":0},{"$f":"IF(OFFSET('Raw Data'!AZ71,Input_Details!$B$29,0)=\"\", \"-\", OFFSET('Raw Data'!AZ71,Input_Details!$B$29,0))","v":0},{"$f":"IF(OFFSET('Raw Data'!BA71,Input_Details!$B$29,0)=\"\", \"-\", OFFSET('Raw Data'!BA71,Input_Details!$B$29,0))","v":0},{"$f":"IF(OFFSET('Raw Data'!BB71,Input_Details!$B$29,0)=\"\", \"-\", OFFSET('Raw Data'!BB71,Input_Details!$B$29,0))","v":0},{"$f":"IF(OFFSET('Raw Data'!BC71,Input_Details!$B$29,0)=\"\", \"-\", OFFSET('Raw Data'!BC71,Input_Details!$B$29,0))","v":0},{"$f":"IF(OFFSET('Raw Data'!BD71,Input_Details!$B$29,0)=\"\", \"-\", OFFSET('Raw Data'!BD71,Input_Details!$B$29,0))","v":0},{"$f":"IF(OFFSET('Raw Data'!BE71,Input_Details!$B$29,0)=\"\", \"-\", OFFSET('Raw Data'!BE71,Input_Details!$B$29,0))","v":0},{"$f":"IF(OFFSET('Raw Data'!BF71,Input_Details!$B$29,0)=\"\", \"-\", OFFSET('Raw Data'!BF71,Input_Details!$B$29,0))","v":0},10,null,17,60,1,9,0,1,0,0,0,0,0,0,88]
[null,"17:00:00",{"$f":"IF(OFFSET('Raw Data'!H72,Input_Details!$B$29,0)=\"\", \"-\", OFFSET('Raw Data'!H72,Input_Details!$B$29,0))","v":11},{"$f":"IF(OFFSET('Raw Data'!I72,Input_Details!$B$29,0)=\"\", \"-\", OFFSET('Raw Data'!I72,Input_Details!$B$29,0))","v":48},{"$f":"IF(OFFSET('Raw Data'!J72,Input_Details!$B$29,0)=\"\", \"-\", OFFSET('Raw Data'!J72,Input_Details!$B$29,0))","v":1},{"$f":"IF(OFFSET('Raw Data'!K72,Input_Details!$B$29,0)=\"\", \"-\", OFFSET('Raw Data'!K72,Input_Details!$B$29,0))","v":10},{"$f":"IF(OFFSET('Raw Data'!L72,Input_Details!$B$29,0)=\"\", \"-\", OFFSET('Raw Data'!L72,Input_Details!$B$29,0))","v":1},{"$f":"IF(OFFSET('Raw Data'!M72,Input_Details!$B$29,0)=\"\", \"-\", OFFSET('Raw Data'!M72,Input_Details!$B$29,0))","v":1},{"$f":"IF(OFFSET('Raw Data'!N72,Input_Details!$B$29,0)=\"\", \"-\", OFFSET('Raw Data'!N72,Input_Details!$B$29,0))","v":0},{"$f":"IF(OFFSET('Raw Data'!O72,Input_Details!$B$29,0)=\"\", \"-\", OFFSET('Raw Data'!O72,Input_Details!$B$29,0))","v":0},{"$f":"IF(OFFSET('Raw Data'!P72,Input_Details!$B$29,0)=\"\", \"-\", OFFSET('Raw Data'!P72,Input_Details!$B$29,0))","v":0},{"$f":"IF(OFFSET('Raw Data'!Q72,Input_Details!$B$29,0)=\"\", \"-\", OFFSET('Raw Data'!Q72,Input_Details!$B$29,0))","v":0},{"$f":"IF(OFFSET('Raw Data'!R72,Input_Details!$B$29,0)=\"\", \"-\", OFFSET('Raw Data'!R72,Input_Details!$B$29,0))","v":0},{"$f":"IF(OFFSET('Raw Data'!S72,Input_Details!$B$29,0)=\"\", \"-\", OFFSET('Raw Data'!S72,Input_Details!$B$29,0))","v":0},72,null,{"$f":"IF(OFFSET('Raw Data'!AU72,Input_Details!$B$29,0)=\"\", \"-\", OFFSET('Raw Data'!AU72,Input_Details!$B$29,0))","v":2},{"$f":"IF(OFFSET('Raw Data'!AV72,Input_Details!$B$29,0)=\"\", \"-\", OFFSET('Raw Data'!AV72,Input_Details!$B$29,0))","v":4},{"$f":"IF(OFFSET('Raw Data'!AW72,Input_Details!$B$29,0)=\"\", \"-\", OFFSET('Raw Data'!AW72,Input_Details!$B$29,0))","v":0},{"$f":"IF(OFFSET('Raw Data'!AX72,Input_Details!$B$29,0)=\"\", \"-\", OFFSET('Raw Data'!AX72,Input_Details!$B$29,0))","v":0},{"$f":"IF(OFFSET('Raw Data'!AY72,Input_Details!$B$29,0)=\"\", \"-\", OFFSET('Raw Data'!AY72,Input_Details!$B$29,0))","v":0},{"$f":"IF(OFFSET('Raw Data'!AZ72,Input_Details!$B$29,0)=\"\", \"-\", OFFSET('Raw Data'!AZ72,Input_Details!$B$29,0))","v":0},{"$f":"IF(OFFSET('Raw Data'!BA72,Input_Details!$B$29,0)=\"\", \"-\", OFFSET('Raw Data'!BA72,Input_Details!$B$29,0))","v":0},{"$f":"IF(OFFSET('Raw Data'!BB72,Input_Details!$B$29,0)=\"\", \"-\", OFFSET('Raw Data'!BB72,Input_Details!$B$29,0))","v":0},{"$f":"IF(OFFSET('Raw Data'!BC72,Input_Details!$B$29,0)=\"\", \"-\", OFFSET('Raw Data'!BC72,Input_Details!$B$29,0))","v":0},{"$f":"IF(OFFSET('Raw Data'!BD72,Input_Details!$B$29,0)=\"\", \"-\", OFFSET('Raw Data'!BD72,Input_Details!$B$29,0))","v":0},{"$f":"IF(OFFSET('Raw Data'!BE72,Input_Details!$B$29,0)=\"\", \"-\", OFFSET('Raw Data'!BE72,Input_Details!$B$29,0))","v":0},{"$f":"IF(OFFSET('Raw Data'!BF72,Input_Details!$B$29,0)=\"\", \"-\", OFFSET('Raw Data'!BF72,Input_Details!$B$29,0))","v":0},6,null,13,52,1,10,1,1,0,0,0,0,0,0,78]
[null,"17:15:00",{"$f":"IF(OFFSET('Raw Data'!H73,Input_Details!$B$29,0)=\"\", \"-\", OFFSET('Raw Data'!H73,Input_Details!$B$29,0))","v":17},{"$f":"IF(OFFSET('Raw Data'!I73,Input_Details!$B$29,0)=\"\", \"-\", OFFSET('Raw Data'!I73,Input_Details!$B$29,0))","v":57},{"$f":"IF(OFFSET('Raw Data'!J73,Input_Details!$B$29,0)=\"\", \"-\", OFFSET('Raw Data'!J73,Input_Details!$B$29,0))","v":2},{"$f":"IF(OFFSET('Raw Data'!K73,Input_Details!$B$29,0)=\"\", \"-\", OFFSET('Raw Data'!K73,Input_Details!$B$29,0))","v":7},{"$f":"IF(OFFSET('Raw Data'!L73,Input_Details!$B$29,0)=\"\", \"-\", OFFSET('Raw Data'!L73,Input_Details!$B$29,0))","v":1},{"$f":"IF(OFFSET('Raw Data'!M73,Input_Details!$B$29,0)=\"\", \"-\", OFFSET('Raw Data'!M73,Input_Details!$B$29,0))","v":1},{"$f":"IF(OFFSET('Raw Data'!N73,Input_Details!$B$29,0)=\"\", \"-\", OFFSET('Raw Data'!N73,Input_Details!$B$29,0))","v":0},{"$f":"IF(OFFSET('Raw Data'!O73,Input_Details!$B$29,0)=\"\", \"-\", OFFSET('Raw Data'!O73,Input_Details!$B$29,0))","v":0},{"$f":"IF(OFFSET('Raw Data'!P73,Input_Details!$B$29,0)=\"\", \"-\", OFFSET('Raw Data'!P73,Input_Details!$B$29,0))","v":0},{"$f":"IF(OFFSET('Raw Data'!Q73,Input_Details!$B$29,0)=\"\", \"-\", OFFSET('Raw Data'!Q73,Input_Details!$B$29,0))","v":0},{"$f":"IF(OFFSET('Raw Data'!R73,Input_Details!$B$29,0)=\"\", \"-\", OFFSET('Raw Data'!R73,Input_Details!$B$29,0))","v":0},{"$f":"IF(OFFSET('Raw Data'!S73,Input_Details!$B$29,0)=\"\", \"-\", OFFSET('Raw Data'!S73,Input_Details!$B$29,0))","v":0},85,null,{"$f":"IF(OFFSET('Raw Data'!AU73,Input_Details!$B$29,0)=\"\", \"-\", OFFSET('Raw Data'!AU73,Input_Details!$B$29,0))","v":2},{"$f":"IF(OFFSET('Raw Data'!AV73,Input_Details!$B$29,0)=\"\", \"-\", OFFSET('Raw Data'!AV73,Input_Details!$B$29,0))","v":6},{"$f":"IF(OFFSET('Raw Data'!AW73,Input_Details!$B$29,0)=\"\", \"-\", OFFSET('Raw Data'!AW73,Input_Details!$B$29,0))","v":0},{"$f":"IF(OFFSET('Raw Data'!AX73,Input_Details!$B$29,0)=\"\", \"-\", OFFSET('Raw Data'!AX73,Input_Details!$B$29,0))","v":0},{"$f":"IF(OFFSET('Raw Data'!AY73,Input_Details!$B$29,0)=\"\", \"-\", OFFSET('Raw Data'!AY73,Input_Details!$B$29,0))","v":0},{"$f":"IF(OFFSET('Raw Data'!AZ73,Input_Details!$B$29,0)=\"\", \"-\", OFFSET('Raw Data'!AZ73,Input_Details!$B$29,0))","v":0},{"$f":"IF(OFFSET('Raw Data'!BA73,Input_Details!$B$29,0)=\"\", \"-\", OFFSET('Raw Data'!BA73,Input_Details!$B$29,0))","v":0},{"$f":"IF(OFFSET('Raw Data'!BB73,Input_Details!$B$29,0)=\"\", \"-\", OFFSET('Raw Data'!BB73,Input_Details!$B$29,0))","v":0},{"$f":"IF(OFFSET('Raw Data'!BC73,Input_Details!$B$29,0)=\"\", \"-\", OFFSET('Raw Data'!BC73,Input_Details!$B$29,0))","v":0},{"$f":"IF(OFFSET('Raw Data'!BD73,Input_Details!$B$29,0)=\"\", \"-\", OFFSET('Raw Data'!BD73,Input_Details!$B$29,0))","v":0},{"$f":"IF(OFFSET('Raw Data'!BE73,Input_Details!$B$29,0)=\"\", \"-\", OFFSET('Raw Data'!BE73,Input_Details!$B$29,0))","v":0},{"$f":"IF(OFFSET('Raw Data'!BF73,Input_Details!$B$29,0)=\"\", \"-\", OFFSET('Raw Data'!BF73,Input_Details!$B$29,0))","v":0},8,null,19,63,2,7,1,1,0,0,0,0,0,0,93]
[null,"17:30:00",{"$f":"IF(OFFSET('Raw Data'!H74,Input_Details!$B$29,0)=\"\", \"-\", OFFSET('Raw Data'!H74,Input_Details!$B$29,0))","v":15},{"$f":"IF(OFFSET('Raw Data'!I74,Input_Details!$B$29,0)=\"\", \"-\", OFFSET('Raw Data'!I74,Input_Details!$B$29,0))","v":53},{"$f":"IF(OFFSET('Raw Data'!J74,Input_Details!$B$29,0)=\"\", \"-\", OFFSET('Raw Data'!J74,Input_Details!$B$29,0))","v":2},{"$f":"IF(OFFSET('Raw Data'!K74,Input_Details!$B$29,0)=\"\", \"-\", OFFSET('Raw Data'!K74,Input_Details!$B$29,0))","v":6},{"$f":"IF(OFFSET('Raw Data'!L74,Input_Details!$B$29,0)=\"\", \"-\", OFFSET('Raw Data'!L74,Input_Details!$B$29,0))","v":1},{"$f":"IF(OFFSET('Raw Data'!M74,Input_Details!$B$29,0)=\"\", \"-\", OFFSET('Raw Data'!M74,Input_Details!$B$29,0))","v":0},{"$f":"IF(OFFSET('Raw Data'!N74,Input_Details!$B$29,0)=\"\", \"-\", OFFSET('Raw Data'!N74,Input_Details!$B$29,0))","v":0},{"$f":"IF(OFFSET('Raw Data'!O74,Input_Details!$B$29,0)=\"\", \"-\", OFFSET('Raw Data'!O74,Input_Details!$B$29,0))","v":0},{"$f":"IF(OFFSET('Raw Data'!P74,Input_Details!$B$29,0)=\"\", \"-\", OFFSET('Raw Data'!P74,Input_Details!$B$29,0))","v":0},{"$f":"IF(OFFSET('Raw Data'!Q74,Input_Details!$B$29,0)=\"\", \"-\", OFFSET('Raw Data'!Q74,Input_Details!$B$29,0))","v":0},{"$f":"IF(OFFSET('Raw Data'!R74,Input_Details!$B$29,0)=\"\", \"-\", OFFSET('Raw Data'!R74,Input_Details!$B$29,0))","v":0},{"$f":"IF(OFFSET('Raw Data'!S74,Input_Details!$B$29,0)=\"\", \"-\", OFFSET('Raw Data'!S74,Input_Details!$B$29,0))","v":0},77,null,{"$f":"IF(OFFSET('Raw Data'!AU74,Input_Details!$B$29,0)=\"\", \"-\", OFFSET('Raw Data'!AU74,Input_Details!$B$29,0))","v":3},{"$f":"IF(OFFSET('Raw Data'!AV74,Input_Details!$B$29,0)=\"\", \"-\", OFFSET('Raw Data'!AV74,Input_Details!$B$29,0))","v":4},{"$f":"IF(OFFSET('Raw Data'!AW74,Input_Details!$B$29,0)=\"\", \"-\", OFFSET('Raw Data'!AW74,Input_Details!$B$29,0))","v":0},{"$f":"IF(OFFSET('Raw Data'!AX74,Input_Details!$B$29,0)=\"\", \"-\", OFFSET('Raw Data'!AX74,Input_Details!$B$29,0))","v":0},{"$f":"IF(OFFSET('Raw Data'!AY74,Input_Details!$B$29,0)=\"\", \"-\", OFFSET('Raw Data'!AY74,Input_Details!$B$29,0))","v":0},{"$f":"IF(OFFSET('Raw Data'!AZ74,Input_Details!$B$29,0)=\"\", \"-\", OFFSET('Raw Data'!AZ74,Input_Details!$B$29,0))","v":0},{"$f":"IF(OFFSET('Raw Data'!BA74,Input_Details!$B$29,0)=\"\", \"-\", OFFSET('Raw Data'!BA74,Input_Details!$B$29,0))","v":0},{"$f":"IF(OFFSET('Raw Data'!BB74,Input_Details!$B$29,0)=\"\", \"-\", OFFSET('Raw Data'!BB74,Input_Details!$B$29,0))","v":0},{"$f":"IF(OFFSET('Raw Data'!BC74,Input_Details!$B$29,0)=\"\", \"-\", OFFSET('Raw Data'!BC74,Input_Details!$B$29,0))","v":0},{"$f":"IF(OFFSET('Raw Data'!BD74,Input_Details!$B$29,0)=\"\", \"-\", OFFSET('Raw Data'!BD74,Input_Details!$B$29,0))","v":0},{"$f":"IF(OFFSET('Raw Data'!BE74,Input_Details!$B$29,0)=\"\", \"-\", OFFSET('Raw Data'!BE74,Input_Details!$B$29,0))","v":0},{"$f":"IF(OFFSET('Raw Data'!BF74,Input_Details!$B$29,0)=\"\", \"-\", OFFSET('Raw Data'!BF74,Input_Details!$B$29,0))","v":0},7,null,18,57,2,6,1,0,0,0,0,0,0,0,84]
[null,"17:45:00",{"$f":"IF(OFFSET('Raw Data'!H75,Input_Details!$B$29,0)=\"\", \"-\", OFFSET('Raw Data'!H75,Input_Details!$B$29,0))","v":21},{"$f":"IF(OFFSET('Raw Data'!I75,Input_Details!$B$29,0)=\"\", \"-\", OFFSET('Raw Data'!I75,Input_Details!$B$29,0))","v":53},{"$f":"IF(OFFSET('Raw Data'!J75,Input_Details!$B$29,0)=\"\", \"-\", OFFSET('Raw Data'!J75,Input_Details!$B$29,0))","v":1},{"$f":"IF(OFFSET('Raw Data'!K75,Input_Details!$B$29,0)=\"\", \"-\", OFFSET('Raw Data'!K75,Input_Details!$B$29,0))","v":7},{"$f":"IF(OFFSET('Raw Data'!L75,Input_Details!$B$29,0)=\"\", \"-\", OFFSET('Raw Data'!L75,Input_Details!$B$29,0))","v":2},{"$f":"IF(OFFSET('Raw Data'!M75,Input_Details!$B$29,0)=\"\", \"-\", OFFSET('Raw Data'!M75,Input_Details!$B$29,0))","v":0},{"$f":"IF(OFFSET('Raw Data'!N75,Input_Details!$B$29,0)=\"\", \"-\", OFFSET('Raw Data'!N75,Input_Details!$B$29,0))","v":0},{"$f":"IF(OFFSET('Raw Data'!O75,Input_Details!$B$29,0)=\"\", \"-\", OFFSET('Raw Data'!O75,Input_Details!$B$29,0))","v":0},{"$f":"IF(OFFSET('Raw Data'!P75,Input_Details!$B$29,0)=\"\", \"-\", OFFSET('Raw Data'!P75,Input_Details!$B$29,0))","v":0},{"$f":"IF(OFFSET('Raw Data'!Q75,Input_Details!$B$29,0)=\"\", \"-\", OFFSET('Raw Data'!Q75,Input_Details!$B$29,0))","v":0},{"$f":"IF(OFFSET('Raw Data'!R75,Input_Details!$B$29,0)=\"\", \"-\", OFFSET('Raw Data'!R75,Input_Details!$B$29,0))","v":0},{"$f":"IF(OFFSET('Raw Data'!S75,Input_Details!$B$29,0)=\"\", \"-\", OFFSET('Raw Data'!S75,Input_Details!$B$29,0))","v":0},84,null,{"$f":"IF(OFFSET('Raw Data'!AU75,Input_Details!$B$29,0)=\"\", \"-\", OFFSET('Raw Data'!AU75,Input_Details!$B$29,0))","v":2},{"$f":"IF(OFFSET('Raw Data'!AV75,Input_Details!$B$29,0)=\"\", \"-\", OFFSET('Raw Data'!AV75,Input_Details!$B$29,0))","v":7},{"$f":"IF(OFFSET('Raw Data'!AW75,Input_Details!$B$29,0)=\"\", \"-\", OFFSET('Raw Data'!AW75,Input_Details!$B$29,0))","v":0},{"$f":"IF(OFFSET('Raw Data'!AX75,Input_Details!$B$29,0)=\"\", \"-\", OFFSET('Raw Data'!AX75,Input_Details!$B$29,0))","v":0},{"$f":"IF(OFFSET('Raw Data'!AY75,Input_Details!$B$29,0)=\"\", \"-\", OFFSET('Raw Data'!AY75,Input_Details!$B$29,0))","v":0},{"$f":"IF(OFFSET('Raw Data'!AZ75,Input_Details!$B$29,0)=\"\", \"-\", OFFSET('Raw Data'!AZ75,Input_Details!$B$29,0))","v":0},{"$f":"IF(OFFSET('Raw Data'!BA75,Input_Details!$B$29,0)=\"\", \"-\", OFFSET('Raw Data'!BA75,Input_Details!$B$29,0))","v":0},{"$f":"IF(OFFSET('Raw Data'!BB75,Input_Details!$B$29,0)=\"\", \"-\", OFFSET('Raw Data'!BB75,Input_Details!$B$29,0))","v":0},{"$f":"IF(OFFSET('Raw Data'!BC75,Input_Details!$B$29,0)=\"\", \"-\", OFFSET('Raw Data'!BC75,Input_Details!$B$29,0))","v":0},{"$f":"IF(OFFSET('Raw Data'!BD75,Input_Details!$B$29,0)=\"\", \"-\", OFFSET('Raw Data'!BD75,Input_Details!$B$29,0))","v":0},{"$f":"IF(OFFSET('Raw Data'!BE75,Input_Details!$B$29,0)=\"\", \"-\", OFFSET('Raw Data'!BE75,Input_Details!$B$29,0))","v":0},{"$f":"IF(OFFSET('Raw Data'!BF75,Input_Details!$B$29,0)=\"\", \"-\", OFFSET('Raw Data'!BF75,Input_Details!$B$29,0))","v":0},9,null,23,60,1,7,2,0,0,0,0,0,0,0,93]
[null,"18:00:00",{"$f":"IF(OFFSET('Raw Data'!H76,Input_Details!$B$29,0)=\"\", \"-\", OFFSET('Raw Data'!H76,Input_Details!$B$29,0))","v":20},{"$f":"IF(OFFSET('Raw Data'!I76,Input_Details!$B$29,0)=\"\", \"-\", OFFSET('Raw Data'!I76,Input_Details!$B$29,0))","v":56},{"$f":"IF(OFFSET('Raw Data'!J76,Input_Details!$B$29,0)=\"\", \"-\", OFFSET('Raw Data'!J76,Input_Details!$B$29,0))","v":1},{"$f":"IF(OFFSET('Raw Data'!K76,Input_Details!$B$29,0)=\"\", \"-\", OFFSET('Raw Data'!K76,Input_Details!$B$29,0))","v":7},{"$f":"IF(OFFSET('Raw Data'!L76,Input_Details!$B$29,0)=\"\", \"-\", OFFSET('Raw Data'!L76,Input_Details!$B$29,0))","v":2},{"$f":"IF(OFFSET('Raw Data'!M76,Input_Details!$B$29,0)=\"\", \"-\", OFFSET('Raw Data'!M76,Input_Details!$B$29,0))","v":1},{"$f":"IF(OFFSET('Raw Data'!N76,Input_Details!$B$29,0)=\"\", \"-\", OFFSET('Raw Data'!N76,Input_Details!$B$29,0))","v":0},{"$f":"IF(OFFSET('Raw Data'!O76,Input_Details!$B$29,0)=\"\", \"-\", OFFSET('Raw Data'!O76,Input_Details!$B$29,0))","v":1},{"$f":"IF(OFFSET('Raw Data'!P76,Input_Details!$B$29,0)=\"\", \"-\", OFFSET('Raw Data'!P76,Input_Details!$B$29,0))","v":0},{"$f":"IF(OFFSET('Raw Data'!Q76,Input_Details!$B$29,0)=\"\", \"-\", OFFSET('Raw Data'!Q76,Input_Details!$B$29,0))","v":1},{"$f":"IF(OFFSET('Raw Data'!R76,Input_Details!$B$29,0)=\"\", \"-\", OFFSET('Raw Data'!R76,Input_Details!$B$29,0))","v":0},{"$f":"IF(OFFSET('Raw Data'!S76,Input_Details!$B$29,0)=\"\", \"-\", OFFSET('Raw Data'!S76,Input_Details!$B$29,0))","v":0},89,null,{"$f":"IF(OFFSET('Raw Data'!AU76,Input_Details!$B$29,0)=\"\", \"-\", OFFSET('Raw Data'!AU76,Input_Details!$B$29,0))","v":3},{"$f":"IF(OFFSET('Raw Data'!AV76,Input_Details!$B$29,0)=\"\", \"-\", OFFSET('Raw Data'!AV76,Input_Details!$B$29,0))","v":7},{"$f":"IF(OFFSET('Raw Data'!AW76,Input_Details!$B$29,0)=\"\", \"-\", OFFSET('Raw Data'!AW76,Input_Details!$B$29,0))","v":0},{"$f":"IF(OFFSET('Raw Data'!AX76,Input_Details!$B$29,0)=\"\", \"-\", OFFSET('Raw Data'!AX76,Input_Details!$B$29,0))","v":0},{"$f":"IF(OFFSET('Raw Data'!AY76,Input_Details!$B$29,0)=\"\", \"-\", OFFSET('Raw Data'!AY76,Input_Details!$B$29,0))","v":0},{"$f":"IF(OFFSET('Raw Data'!AZ76,Input_Details!$B$29,0)=\"\", \"-\", OFFSET('Raw Data'!AZ76,Input_Details!$B$29,0))","v":0},{"$f":"IF(OFFSET('Raw Data'!BA76,Input_Details!$B$29,0)=\"\", \"-\", OFFSET('Raw Data'!BA76,Input_Details!$B$29,0))","v":0},{"$f":"IF(OFFSET('Raw Data'!BB76,Input_Details!$B$29,0)=\"\", \"-\", OFFSET('Raw Data'!BB76,Input_Details!$B$29,0))","v":0},{"$f":"IF(OFFSET('Raw Data'!BC76,Input_Details!$B$29,0)=\"\", \"-\", OFFSET('Raw Data'!BC76,Input_Details!$B$29,0))","v":0},{"$f":"IF(OFFSET('Raw Data'!BD76,Input_Details!$B$29,0)=\"\", \"-\", OFFSET('Raw Data'!BD76,Input_Details!$B$29,0))","v":0},{"$f":"IF(OFFSET('Raw Data'!BE76,Input_Details!$B$29,0)=\"\", \"-\", OFFSET('Raw Data'!BE76,Input_Details!$B$29,0))","v":0},{"$f":"IF(OFFSET('Raw Data'!BF76,Input_Details!$B$29,0)=\"\", \"-\", OFFSET('Raw Data'!BF76,Input_Details!$B$29,0))","v":0},10,null,23,63,1,7,2,1,0,1,0,1,0,0,99]
[null,"18:15:00",{"$f":"IF(OFFSET('Raw Data'!H77,Input_Details!$B$29,0)=\"\", \"-\", OFFSET('Raw Data'!H77,Input_Details!$B$29,0))","v":20},{"$f":"IF(OFFSET('Raw Data'!I77,Input_Details!$B$29,0)=\"\", \"-\", OFFSET('Raw Data'!I77,Input_Details!$B$29,0))","v":53},{"$f":"IF(OFFSET('Raw Data'!J77,Input_Details!$B$29,0)=\"\", \"-\", OFFSET('Raw Data'!J77,Input_Details!$B$29,0))","v":1},{"$f":"IF(OFFSET('Raw Data'!K77,Input_Details!$B$29,0)=\"\", \"-\", OFFSET('Raw Data'!K77,Input_Details!$B$29,0))","v":7},{"$f":"IF(OFFSET('Raw Data'!L77,Input_Details!$B$29,0)=\"\", \"-\", OFFSET('Raw Data'!L77,Input_Details!$B$29,0))","v":1},{"$f":"IF(OFFSET('Raw Data'!M77,Input_Details!$B$29,0)=\"\", \"-\", OFFSET('Raw Data'!M77,Input_Details!$B$29,0))","v":1},{"$f":"IF(OFFSET('Raw Data'!N77,Input_Details!$B$29,0)=\"\", \"-\", OFFSET('Raw Data'!N77,Input_Details!$B$29,0))","v":0},{"$f":"IF(OFFSET('Raw Data'!O77,Input_Details!$B$29,0)=\"\", \"-\", OFFSET('Raw Data'!O77,Input_Details!$B$29,0))","v":0},{"$f":"IF(OFFSET('Raw Data'!P77,Input_Details!$B$29,0)=\"\", \"-\", OFFSET('Raw Data'!P77,Input_Details!$B$29,0))","v":0},{"$f":"IF(OFFSET('Raw Data'!Q77,Input_Details!$B$29,0)=\"\", \"-\", OFFSET('Raw Data'!Q77,Input_Details!$B$29,0))","v":0},{"$f":"IF(OFFSET('Raw Data'!R77,Input_Details!$B$29,0)=\"\", \"-\", OFFSET('Raw Data'!R77,Input_Details!$B$29,0))","v":0},{"$f":"IF(OFFSET('Raw Data'!S77,Input_Details!$B$29,0)=\"\", \"-\", OFFSET('Raw Data'!S77,Input_Details!$B$29,0))","v":0},83,null,{"$f":"IF(OFFSET('Raw Data'!AU77,Input_Details!$B$29,0)=\"\", \"-\", OFFSET('Raw Data'!AU77,Input_Details!$B$29,0))","v":3},{"$f":"IF(OFFSET('Raw Data'!AV77,Input_Details!$B$29,0)=\"\", \"-\", OFFSET('Raw Data'!AV77,Input_Details!$B$29,0))","v":9},{"$f":"IF(OFFSET('Raw Data'!AW77,Input_Details!$B$29,0)=\"\", \"-\", OFFSET('Raw Data'!AW77,Input_Details!$B$29,0))","v":0},{"$f":"IF(OFFSET('Raw Data'!AX77,Input_Details!$B$29,0)=\"\", \"-\", OFFSET('Raw Data'!AX77,Input_Details!$B$29,0))","v":0},{"$f":"IF(OFFSET('Raw Data'!AY77,Input_Details!$B$29,0)=\"\", \"-\", OFFSET('Raw Data'!AY77,Input_Details!$B$29,0))","v":1},{"$f":"IF(OFFSET('Raw Data'!AZ77,Input_Details!$B$29,0)=\"\", \"-\", OFFSET('Raw Data'!AZ77,Input_Details!$B$29,0))","v":0},{"$f":"IF(OFFSET('Raw Data'!BA77,Input_Details!$B$29,0)=\"\", \"-\", OFFSET('Raw Data'!BA77,Input_Details!$B$29,0))","v":0},{"$f":"IF(OFFSET('Raw Data'!BB77,Input_Details!$B$29,0)=\"\", \"-\", OFFSET('Raw Data'!BB77,Input_Details!$B$29,0))","v":0},{"$f":"IF(OFFSET('Raw Data'!BC77,Input_Details!$B$29,0)=\"\", \"-\", OFFSET('Raw Data'!BC77,Input_Details!$B$29,0))","v":0},{"$f":"IF(OFFSET('Raw Data'!BD77,Input_Details!$B$29,0)=\"\", \"-\", OFFSET('Raw Data'!BD77,Input_Details!$B$29,0))","v":0},{"$f":"IF(OFFSET('Raw Data'!BE77,Input_Details!$B$29,0)=\"\", \"-\", OFFSET('Raw Data'!BE77,Input_Details!$B$29,0))","v":0},{"$f":"IF(OFFSET('Raw Data'!BF77,Input_Details!$B$29,0)=\"\", \"-\", OFFSET('Raw Data'!BF77,Input_Details!$B$29,0))","v":0},13,null,23,62,1,7,2,1,0,0,0,0,0,0,96]
[null,"18:30:00",{"$f":"IF(OFFSET('Raw Data'!H78,Input_Details!$B$29,0)=\"\", \"-\", OFFSET('Raw Data'!H78,Input_Details!$B$29,0))","v":20},{"$f":"IF(OFFSET('Raw Data'!I78,Input_Details!$B$29,0)=\"\", \"-\", OFFSET('Raw Data'!I78,Input_Details!$B$29,0))","v":59},{"$f":"IF(OFFSET('Raw Data'!J78,Input_Details!$B$29,0)=\"\", \"-\", OFFSET('Raw Data'!J78,Input_Details!$B$29,0))","v":1},{"$f":"IF(OFFSET('Raw Data'!K78,Input_Details!$B$29,0)=\"\", \"-\", OFFSET('Raw Data'!K78,Input_Details!$B$29,0))","v":4},{"$f":"IF(OFFSET('Raw Data'!L78,Input_Details!$B$29,0)=\"\", \"-\", OFFSET('Raw Data'!L78,Input_Details!$B$29,0))","v":1},{"$f":"IF(OFFSET('Raw Data'!M78,Input_Details!$B$29,0)=\"\", \"-\", OFFSET('Raw Data'!M78,Input_Details!$B$29,0))","v":1},{"$f":"IF(OFFSET('Raw Data'!N78,Input_Details!$B$29,0)=\"\", \"-\", OFFSET('Raw Data'!N78,Input_Details!$B$29,0))","v":0},{"$f":"IF(OFFSET('Raw Data'!O78,Input_Details!$B$29,0)=\"\", \"-\", OFFSET('Raw Data'!O78,Input_Details!$B$29,0))","v":0},{"$f":"IF(OFFSET('Raw Data'!P78,Input_Details!$B$29,0)=\"\", \"-\", OFFSET('Raw Data'!P78,Input_Details!$B$29,0))","v":0},{"$f":"IF(OFFSET('Raw Data'!Q78,Input_Details!$B$29,0)=\"\", \"-\", OFFSET('Raw Data'!Q78,Input_Details!$B$29,0))","v":0},{"$f":"IF(OFFSET('Raw Data'!R78,Input_Details!$B$29,0)=\"\", \"-\", OFFSET('Raw Data'!R78,Input_Details!$B$29,0))","v":0},{"$f":"IF(OFFSET('Raw Data'!S78,Input_Details!$B$29,0)=\"\", \"-\", OFFSET('Raw Data'!S78,Input_Details!$B$29,0))","v":0},86,null,{"$f":"IF(OFFSET('Raw Data'!AU78,Input_Details!$B$29,0)=\"\", \"-\", OFFSET('Raw Data'!AU78,Input_Details!$B$29,0))","v":3},{"$f":"IF(OFFSET('Raw Data'!AV78,Input_Details!$B$29,0)=\"\", \"-\", OFFSET('Raw Data'!AV78,Input_Details!$B$29,0))","v":8},{"$f":"IF(OFFSET('Raw Data'!AW78,Input_Details!$B$29,0)=\"\", \"-\", OFFSET('Raw Data'!AW78,Input_Details!$B$29,0))","v":0},{"$f":"IF(OFFSET('Raw Data'!AX78,Input_Details!$B$29,0)=\"\", \"-\", OFFSET('Raw Data'!AX78,Input_Details!$B$29,0))","v":0},{"$f":"IF(OFFSET('Raw Data'!AY78,Input_Details!$B$29,0)=\"\", \"-\", OFFSET('Raw Data'!AY78,Input_Details!$B$29,0))","v":0},{"$f":"IF(OFFSET('Raw Data'!AZ78,Input_Details!$B$29,0)=\"\", \"-\", OFFSET('Raw Data'!AZ78,Input_Details!$B$29,0))","v":0},{"$f":"IF(OFFSET('Raw Data'!BA78,Input_Details!$B$29,0)=\"\", \"-\", OFFSET('Raw Data'!BA78,Input_Details!$B$29,0))","v":0},{"$f":"IF(OFFSET('Raw Data'!BB78,Input_Details!$B$29,0)=\"\", \"-\", OFFSET('Raw Data'!BB78,Input_Details!$B$29,0))","v":0},{"$f":"IF(OFFSET('Raw Data'!BC78,Input_Details!$B$29,0)=\"\", \"-\", OFFSET('Raw Data'!BC78,Input_Details!$B$29,0))","v":0},{"$f":"IF(OFFSET('Raw Data'!BD78,Input_Details!$B$29,0)=\"\", \"-\", OFFSET('Raw Data'!BD78,Input_Details!$B$29,0))","v":0},{"$f":"IF(OFFSET('Raw Data'!BE78,Input_Details!$B$29,0)=\"\", \"-\", OFFSET('Raw Data'!BE78,Input_Details!$B$29,0))","v":0},{"$f":"IF(OFFSET('Raw Data'!BF78,Input_Details!$B$29,0)=\"\", \"-\", OFFSET('Raw Data'!BF78,Input_Details!$B$29,0))","v":0},11,null,23,67,1,4,1,1,0,0,0,0,0,0,97]
[null,"18:45:00",{"$f":"IF(OFFSET('Raw Data'!H79,Input_Details!$B$29,0)=\"\", \"-\", OFFSET('Raw Data'!H79,Input_Details!$B$29,0))","v":14},{"$f":"IF(OFFSET('Raw Data'!I79,Input_Details!$B$29,0)=\"\", \"-\", OFFSET('Raw Data'!I79,Input_Details!$B$29,0))","v":58},{"$f":"IF(OFFSET('Raw Data'!J79,Input_Details!$B$29,0)=\"\", \"-\", OFFSET('Raw Data'!J79,Input_Details!$B$29,0))","v":2},{"$f":"IF(OFFSET('Raw Data'!K79,Input_Details!$B$29,0)=\"\", \"-\", OFFSET('Raw Data'!K79,Input_Details!$B$29,0))","v":4},{"$f":"IF(OFFSET('Raw Data'!L79,Input_Details!$B$29,0)=\"\", \"-\", OFFSET('Raw Data'!L79,Input_Details!$B$29,0))","v":1},{"$f":"IF(OFFSET('Raw Data'!M79,Input_Details!$B$29,0)=\"\", \"-\", OFFSET('Raw Data'!M79,Input_Details!$B$29,0))","v":1},{"$f":"IF(OFFSET('Raw Data'!N79,Input_Details!$B$29,0)=\"\", \"-\", OFFSET('Raw Data'!N79,Input_Details!$B$29,0))","v":0},{"$f":"IF(OFFSET('Raw Data'!O79,Input_Details!$B$29,0)=\"\", \"-\", OFFSET('Raw Data'!O79,Input_Details!$B$29,0))","v":0},{"$f":"IF(OFFSET('Raw Data'!P79,Input_Details!$B$29,0)=\"\", \"-\", OFFSET('Raw Data'!P79,Input_Details!$B$29,0))","v":0},{"$f":"IF(OFFSET('Raw Data'!Q79,Input_Details!$B$29,0)=\"\", \"-\", OFFSET('Raw Data'!Q79,Input_Details!$B$29,0))","v":0},{"$f":"IF(OFFSET('Raw Data'!R79,Input_Details!$B$29,0)=\"\", \"-\", OFFSET('Raw Data'!R79,Input_Details!$B$29,0))","v":0},{"$f":"IF(OFFSET('Raw Data'!S79,Input_Details!$B$29,0)=\"\", \"-\", OFFSET('Raw Data'!S79,Input_Details!$B$29,0))","v":0},80,null,{"$f":"IF(OFFSET('Raw Data'!AU79,Input_Details!$B$29,0)=\"\", \"-\", OFFSET('Raw Data'!AU79,Input_Details!$B$29,0))","v":2},{"$f":"IF(OFFSET('Raw Data'!AV79,Input_Details!$B$29,0)=\"\", \"-\", OFFSET('Raw Data'!AV79,Input_Details!$B$29,0))","v":8},{"$f":"IF(OFFSET('Raw Data'!AW79,Input_Details!$B$29,0)=\"\", \"-\", OFFSET('Raw Data'!AW79,Input_Details!$B$29,0))","v":0},{"$f":"IF(OFFSET('Raw Data'!AX79,Input_Details!$B$29,0)=\"\", \"-\", OFFSET('Raw Data'!AX79,Input_Details!$B$29,0))","v":0},{"$f":"IF(OFFSET('Raw Data'!AY79,Input_Details!$B$29,0)=\"\", \"-\", OFFSET('Raw Data'!AY79,Input_Details!$B$29,0))","v":0},{"$f":"IF(OFFSET('Raw Data'!AZ79,Input_Details!$B$29,0)=\"\", \"-\", OFFSET('Raw Data'!AZ79,Input_Details!$B$29,0))","v":0},{"$f":"IF(OFFSET('Raw Data'!BA79,Input_Details!$B$29,0)=\"\", \"-\", OFFSET('Raw Data'!BA79,Input_Details!$B$29,0))","v":0},{"$f":"IF(OFFSET('Raw Data'!BB79,Input_Details!$B$29,0)=\"\", \"-\", OFFSET('Raw Data'!BB79,Input_Details!$B$29,0))","v":0},{"$f":"IF(OFFSET('Raw Data'!BC79,Input_Details!$B$29,0)=\"\", \"-\", OFFSET('Raw Data'!BC79,Input_Details!$B$29,0))","v":0},{"$f":"IF(OFFSET('Raw Data'!BD79,Input_Details!$B$29,0)=\"\", \"-\", OFFSET('Raw Data'!BD79,Input_Details!$B$29,0))","v":0},{"$f":"IF(OFFSET('Raw Data'!BE79,Input_Details!$B$29,0)=\"\", \"-\", OFFSET('Raw Data'!BE79,Input_Details!$B$29,0))","v":0},{"$f":"IF(OFFSET('Raw Data'!BF79,Input_Details!$B$29,0)=\"\", \"-\", OFFSET('Raw Data'!BF79,Input_Details!$B$29,0))","v":0},10,null,16,66,2,4,1,1,0,0,0,0,0,0,90]
[null,"19:00:00",{"$f":"IF(OFFSET('Raw Data'!H80,Input_Details!$B$29,0)=\"\", \"-\", OFFSET('Raw Data'!H80,Input_Details!$B$29,0))","v":17},{"$f":"IF(OFFSET('Raw Data'!I80,Input_Details!$B$29,0)=\"\", \"-\", OFFSET('Raw Data'!I80,Input_Details!$B$29,0))","v":57},{"$f":"IF(OFFSET('Raw Data'!J80,Input_Details!$B$29,0)=\"\", \"-\", OFFSET('Raw Data'!J80,Input_Details!$B$29,0))","v":1},{"$f":"IF(OFFSET('Raw Data'!K80,Input_Details!$B$29,0)=\"\", \"-\", OFFSET('Raw Data'!K80,Input_Details!$B$29,0))","v":3},{"$f":"IF(OFFSET('Raw Data'!L80,Input_Details!$B$29,0)=\"\", \"-\", OFFSET('Raw Data'!L80,Input_Details!$B$29,0))","v":2},{"$f":"IF(OFFSET('Raw Data'!M80,Input_Details!$B$29,0)=\"\", \"-\", OFFSET('Raw Data'!M80,Input_Details!$B$29,0))","v":1},{"$f":"IF(OFFSET('Raw Data'!N80,Input_Details!$B$29,0)=\"\", \"-\", OFFSET('Raw Data'!N80,Input_Details!$B$29,0))","v":0},{"$f":"IF(OFFSET('Raw Data'!O80,Input_Details!$B$29,0)=\"\", \"-\", OFFSET('Raw Data'!O80,Input_Details!$B$29,0))","v":0},{"$f":"IF(OFFSET('Raw Data'!P80,Input_Details!$B$29,0)=\"\", \"-\", OFFSET('Raw Data'!P80,Input_Details!$B$29,0))","v":0},{"$f":"IF(OFFSET('Raw Data'!Q80,Input_Details!$B$29,0)=\"\", \"-\", OFFSET('Raw Data'!Q80,Input_Details!$B$29,0))","v":0},{"$f":"IF(OFFSET('Raw Data'!R80,Input_Details!$B$29,0)=\"\", \"-\", OFFSET('Raw Data'!R80,Input_Details!$B$29,0))","v":0},{"$f":"IF(OFFSET('Raw Data'!S80,Input_Details!$B$29,0)=\"\", \"-\", OFFSET('Raw Data'!S80,Input_Details!$B$29,0))","v":0},81,null,{"$f":"IF(OFFSET('Raw Data'!AU80,Input_Details!$B$29,0)=\"\", \"-\", OFFSET('Raw Data'!AU80,Input_Details!$B$29,0))","v":3},{"$f":"IF(OFFSET('Raw Data'!AV80,Input_Details!$B$29,0)=\"\", \"-\", OFFSET('Raw Data'!AV80,Input_Details!$B$29,0))","v":7},{"$f":"IF(OFFSET('Raw Data'!AW80,Input_Details!$B$29,0)=\"\", \"-\", OFFSET('Raw Data'!AW80,Input_Details!$B$29,0))","v":0},{"$f":"IF(OFFSET('Raw Data'!AX80,Input_Details!$B$29,0)=\"\", \"-\", OFFSET('Raw Data'!AX80,Input_Details!$B$29,0))","v":0},{"$f":"IF(OFFSET('Raw Data'!AY80,Input_Details!$B$29,0)=\"\", \"-\", OFFSET('Raw Data'!AY80,Input_Details!$B$29,0))","v":1},{"$f":"IF(OFFSET('Raw Data'!AZ80,Input_Details!$B$29,0)=\"\", \"-\", OFFSET('Raw Data'!AZ80,Input_Details!$B$29,0))","v":0},{"$f":"IF(OFFSET('Raw Data'!BA80,Input_Details!$B$29,0)=\"\", \"-\", OFFSET('Raw Data'!BA80,Input_Details!$B$29,0))","v":0},{"$f":"IF(OFFSET('Raw Data'!BB80,Input_Details!$B$29,0)=\"\", \"-\", OFFSET('Raw Data'!BB80,Input_Details!$B$29,0))","v":0},{"$f":"IF(OFFSET('Raw Data'!BC80,Input_Details!$B$29,0)=\"\", \"-\", OFFSET('Raw Data'!BC80,Input_Details!$B$29,0))","v":0},{"$f":"IF(OFFSET('Raw Data'!BD80,Input_Details!$B$29,0)=\"\", \"-\", OFFSET('Raw Data'!BD80,Input_Details!$B$29,0))","v":0},{"$f":"IF(OFFSET('Raw Data'!BE80,Input_Details!$B$29,0)=\"\", \"-\", OFFSET('Raw Data'!BE80,Input_Details!$B$29,0))","v":0},{"$f":"IF(OFFSET('Raw Data'!BF80,Input_Details!$B$29,0)=\"\", \"-\", OFFSET('Raw Data'!BF80,Input_Details!$B$29,0))","v":0},11,null,20,64,1,3,3,1,0,0,0,0,0,0,92]
[null,"19:15:00",{"$f":"IF(OFFSET('Raw Data'!H81,Input_Details!$B$29,0)=\"\", \"-\", OFFSET('Raw Data'!H81,Input_Details!$B$29,0))","v":10},{"$f":"IF(OFFSET('Raw Data'!I81,Input_Details!$B$29,0)=\"\", \"-\", OFFSET('Raw Data'!I81,Input_Details!$B$29,0))","v":54},{"$f":"IF(OFFSET('Raw Data'!J81,Input_Details!$B$29,0)=\"\", \"-\", OFFSET('Raw Data'!J81,Input_Details!$B$29,0))","v":1},{"$f":"IF(OFFSET('Raw Data'!K81,Input_Details!$B$29,0)=\"\", \"-\", OFFSET('Raw Data'!K81,Input_Details!$B$29,0))","v":3},{"$f":"IF(OFFSET('Raw Data'!L81,Input_Details!$B$29,0)=\"\", \"-\", OFFSET('Raw Data'!L81,Input_Details!$B$29,0))","v":2},{"$f":"IF(OFFSET('Raw Data'!M81,Input_Details!$B$29,0)=\"\", \"-\", OFFSET('Raw Data'!M81,Input_Details!$B$29,0))","v":0},{"$f":"IF(OFFSET('Raw Data'!N81,Input_Details!$B$29,0)=\"\", \"-\", OFFSET('Raw Data'!N81,Input_Details!$B$29,0))","v":0},{"$f":"IF(OFFSET('Raw Data'!O81,Input_Details!$B$29,0)=\"\", \"-\", OFFSET('Raw Data'!O81,Input_Details!$B$29,0))","v":0},{"$f":"IF(OFFSET('Raw Data'!P81,Input_Details!$B$29,0)=\"\", \"-\", OFFSET('Raw Data'!P81,Input_Details!$B$29,0))","v":0},{"$f":"IF(OFFSET('Raw Data'!Q81,Input_Details!$B$29,0)=\"\", \"-\", OFFSET('Raw Data'!Q81,Input_Details!$B$29,0))","v":0},{"$f":"IF(OFFSET('Raw Data'!R81,Input_Details!$B$29,0)=\"\", \"-\", OFFSET('Raw Data'!R81,Input_Details!$B$29,0))","v":0},{"$f":"IF(OFFSET('Raw Data'!S81,Input_Details!$B$29,0)=\"\", \"-\", OFFSET('Raw Data'!S81,Input_Details!$B$29,0))","v":0},70,null,{"$f":"IF(OFFSET('Raw Data'!AU81,Input_Details!$B$29,0)=\"\", \"-\", OFFSET('Raw Data'!AU81,Input_Details!$B$29,0))","v":2},{"$f":"IF(OFFSET('Raw Data'!AV81,Input_Details!$B$29,0)=\"\", \"-\", OFFSET('Raw Data'!AV81,Input_Details!$B$29,0))","v":7},{"$f":"IF(OFFSET('Raw Data'!AW81,Input_Details!$B$29,0)=\"\", \"-\", OFFSET('Raw Data'!AW81,Input_Details!$B$29,0))","v":0},{"$f":"IF(OFFSET('Raw Data'!AX81,Input_Details!$B$29,0)=\"\", \"-\", OFFSET('Raw Data'!AX81,Input_Details!$B$29,0))","v":0},{"$f":"IF(OFFSET('Raw Data'!AY81,Input_Details!$B$29,0)=\"\", \"-\", OFFSET('Raw Data'!AY81,Input_Details!$B$29,0))","v":1},{"$f":"IF(OFFSET('Raw Data'!AZ81,Input_Details!$B$29,0)=\"\", \"-\", OFFSET('Raw Data'!AZ81,Input_Details!$B$29,0))","v":0},{"$f":"IF(OFFSET('Raw Data'!BA81,Input_Details!$B$29,0)=\"\", \"-\", OFFSET('Raw Data'!BA81,Input_Details!$B$29,0))","v":0},{"$f":"IF(OFFSET('Raw Data'!BB81,Input_Details!$B$29,0)=\"\", \"-\", OFFSET('Raw Data'!BB81,Input_Details!$B$29,0))","v":0},{"$f":"IF(OFFSET('Raw Data'!BC81,Input_Details!$B$29,0)=\"\", \"-\", OFFSET('Raw Data'!BC81,Input_Details!$B$29,0))","v":0},{"$f":"IF(OFFSET('Raw Data'!BD81,Input_Details!$B$29,0)=\"\", \"-\", OFFSET('Raw Data'!BD81,Input_Details!$B$29,0))","v":0},{"$f":"IF(OFFSET('Raw Data'!BE81,Input_Details!$B$29,0)=\"\", \"-\", OFFSET('Raw Data'!BE81,Input_Details!$B$29,0))","v":0},{"$f":"IF(OFFSET('Raw Data'!BF81,Input_Details!$B$29,0)=\"\", \"-\", OFFSET('Raw Data'!BF81,Input_Details!$B$29,0))","v":0},10,null,12,61,1,3,3,0,0,0,0,0,0,0,80]
[null,"19:30:00",{"$f":"IF(OFFSET('Raw Data'!H82,Input_Details!$B$29,0)=\"\", \"-\", OFFSET('Raw Data'!H82,Input_Details!$B$29,0))","v":11},{"$f":"IF(OFFSET('Raw Data'!I82,Input_Details!$B$29,0)=\"\", \"-\", OFFSET('Raw Data'!I82,Input_Details!$B$29,0))","v":51},{"$f":"IF(OFFSET('Raw Data'!J82,Input_Details!$B$29,0)=\"\", \"-\", OFFSET('Raw Data'!J82,Input_Details!$B$29,0))","v":1},{"$f":"IF(OFFSET('Raw Data'!K82,Input_Details!$B$29,0)=\"\", \"-\", OFFSET('Raw Data'!K82,Input_Details!$B$29,0))","v":4},{"$f":"IF(OFFSET('Raw Data'!L82,Input_Details!$B$29,0)=\"\", \"-\", OFFSET('Raw Data'!L82,Input_Details!$B$29,0))","v":2},{"$f":"IF(OFFSET('Raw Data'!M82,Input_Details!$B$29,0)=\"\", \"-\", OFFSET('Raw Data'!M82,Input_Details!$B$29,0))","v":0},{"$f":"IF(OFFSET('Raw Data'!N82,Input_Details!$B$29,0)=\"\", \"-\", OFFSET('Raw Data'!N82,Input_Details!$B$29,0))","v":0},{"$f":"IF(OFFSET('Raw Data'!O82,Input_Details!$B$29,0)=\"\", \"-\", OFFSET('Raw Data'!O82,Input_Details!$B$29,0))","v":0},{"$f":"IF(OFFSET('Raw Data'!P82,Input_Details!$B$29,0)=\"\", \"-\", OFFSET('Raw Data'!P82,Input_Details!$B$29,0))","v":0},{"$f":"IF(OFFSET('Raw Data'!Q82,Input_Details!$B$29,0)=\"\", \"-\", OFFSET('Raw Data'!Q82,Input_Details!$B$29,0))","v":0},{"$f":"IF(OFFSET('Raw Data'!R82,Input_Details!$B$29,0)=\"\", \"-\", OFFSET('Raw Data'!R82,Input_Details!$B$29,0))","v":0},{"$f":"IF(OFFSET('Raw Data'!S82,Input_Details!$B$29,0)=\"\", \"-\", OFFSET('Raw Data'!S82,Input_Details!$B$29,0))","v":0},69,null,{"$f":"IF(OFFSET('Raw Data'!AU82,Input_Details!$B$29,0)=\"\", \"-\", OFFSET('Raw Data'!AU82,Input_Details!$B$29,0))","v":3},{"$f":"IF(OFFSET('Raw Data'!AV82,Input_Details!$B$29,0)=\"\", \"-\", OFFSET('Raw Data'!AV82,Input_Details!$B$29,0))","v":7},{"$f":"IF(OFFSET('Raw Data'!AW82,Input_Details!$B$29,0)=\"\", \"-\", OFFSET('Raw Data'!AW82,Input_Details!$B$29,0))","v":0},{"$f":"IF(OFFSET('Raw Data'!AX82,Input_Details!$B$29,0)=\"\", \"-\", OFFSET('Raw Data'!AX82,Input_Details!$B$29,0))","v":0},{"$f":"IF(OFFSET('Raw Data'!AY82,Input_Details!$B$29,0)=\"\", \"-\", OFFSET('Raw Data'!AY82,Input_Details!$B$29,0))","v":1},{"$f":"IF(OFFSET('Raw Data'!AZ82,Input_Details!$B$29,0)=\"\", \"-\", OFFSET('Raw Data'!AZ82,Input_Details!$B$29,0))","v":0},{"$f":"IF(OFFSET('Raw Data'!BA82,Input_Details!$B$29,0)=\"\", \"-\", OFFSET('Raw Data'!BA82,Input_Details!$B$29,0))","v":0},{"$f":"IF(OFFSET('Raw Data'!BB82,Input_Details!$B$29,0)=\"\", \"-\", OFFSET('Raw Data'!BB82,Input_Details!$B$29,0))","v":0},{"$f":"IF(OFFSET('Raw Data'!BC82,Input_Details!$B$29,0)=\"\", \"-\", OFFSET('Raw Data'!BC82,Input_Details!$B$29,0))","v":0},{"$f":"IF(OFFSET('Raw Data'!BD82,Input_Details!$B$29,0)=\"\", \"-\", OFFSET('Raw Data'!BD82,Input_Details!$B$29,0))","v":0},{"$f":"IF(OFFSET('Raw Data'!BE82,Input_Details!$B$29,0)=\"\", \"-\", OFFSET('Raw Data'!BE82,Input_Details!$B$29,0))","v":0},{"$f":"IF(OFFSET('Raw Data'!BF82,Input_Details!$B$29,0)=\"\", \"-\", OFFSET('Raw Data'!BF82,Input_Details!$B$29,0))","v":0},11,null,14,58,1,4,3,0,0,0,0,0,0,0,80]
[null,"19:45:00",{"$f":"IF(OFFSET('Raw Data'!H83,Input_Details!$B$29,0)=\"\", \"-\", OFFSET('Raw Data'!H83,Input_Details!$B$29,0))","v":8},{"$f":"IF(OFFSET('Raw Data'!I83,Input_Details!$B$29,0)=\"\", \"-\", OFFSET('Raw Data'!I83,Input_Details!$B$29,0))","v":49},{"$f":"IF(OFFSET('Raw Data'!J83,Input_Details!$B$29,0)=\"\", \"-\", OFFSET('Raw Data'!J83,Input_Details!$B$29,0))","v":1},{"$f":"IF(OFFSET('Raw Data'!K83,Input_Details!$B$29,0)=\"\", \"-\", OFFSET('Raw Data'!K83,Input_Details!$B$29,0))","v":2},{"$f":"IF(OFFSET('Raw Data'!L83,Input_Details!$B$29,0)=\"\", \"-\", OFFSET('Raw Data'!L83,Input_Details!$B$29,0))","v":2},{"$f":"IF(OFFSET('Raw Data'!M83,Input_Details!$B$29,0)=\"\", \"-\", OFFSET('Raw Data'!M83,Input_Details!$B$29,0))","v":0},{"$f":"IF(OFFSET('Raw Data'!N83,Input_Details!$B$29,0)=\"\", \"-\", OFFSET('Raw Data'!N83,Input_Details!$B$29,0))","v":0},{"$f":"IF(OFFSET('Raw Data'!O83,Input_Details!$B$29,0)=\"\", \"-\", OFFSET('Raw Data'!O83,Input_Details!$B$29,0))","v":0},{"$f":"IF(OFFSET('Raw Data'!P83,Input_Details!$B$29,0)=\"\", \"-\", OFFSET('Raw Data'!P83,Input_Details!$B$29,0))","v":0},{"$f":"IF(OFFSET('Raw Data'!Q83,Input_Details!$B$29,0)=\"\", \"-\", OFFSET('Raw Data'!Q83,Input_Details!$B$29,0))","v":0},{"$f":"IF(OFFSET('Raw Data'!R83,Input_Details!$B$29,0)=\"\", \"-\", OFFSET('Raw Data'!R83,Input_Details!$B$29,0))","v":0},{"$f":"IF(OFFSET('Raw Data'!S83,Input_Details!$B$29,0)=\"\", \"-\", OFFSET('Raw Data'!S83,Input_Details!$B$29,0))","v":0},62,null,{"$f":"IF(OFFSET('Raw Data'!AU83,Input_Details!$B$29,0)=\"\", \"-\", OFFSET('Raw Data'!AU83,Input_Details!$B$29,0))","v":2},{"$f":"IF(OFFSET('Raw Data'!AV83,Input_Details!$B$29,0)=\"\", \"-\", OFFSET('Raw Data'!AV83,Input_Details!$B$29,0))","v":7},{"$f":"IF(OFFSET('Raw Data'!AW83,Input_Details!$B$29,0)=\"\", \"-\", OFFSET('Raw Data'!AW83,Input_Details!$B$29,0))","v":0},{"$f":"IF(OFFSET('Raw Data'!AX83,Input_Details!$B$29,0)=\"\", \"-\", OFFSET('Raw Data'!AX83,Input_Details!$B$29,0))","v":0},{"$f":"IF(OFFSET('Raw Data'!AY83,Input_Details!$B$29,0)=\"\", \"-\", OFFSET('Raw Data'!AY83,Input_Details!$B$29,0))","v":0},{"$f":"IF(OFFSET('Raw Data'!AZ83,Input_Details!$B$29,0)=\"\", \"-\", OFFSET('Raw Data'!AZ83,Input_Details!$B$29,0))","v":0},{"$f":"IF(OFFSET('Raw Data'!BA83,Input_Details!$B$29,0)=\"\", \"-\", OFFSET('Raw Data'!BA83,Input_Details!$B$29,0))","v":0},{"$f":"IF(OFFSET('Raw Data'!BB83,Input_Details!$B$29,0)=\"\", \"-\", OFFSET('Raw Data'!BB83,Input_Details!$B$29,0))","v":0},{"$f":"IF(OFFSET('Raw Data'!BC83,Input_Details!$B$29,0)=\"\", \"-\", OFFSET('Raw Data'!BC83,Input_Details!$B$29,0))","v":0},{"$f":"IF(OFFSET('Raw Data'!BD83,Input_Details!$B$29,0)=\"\", \"-\", OFFSET('Raw Data'!BD83,Input_Details!$B$29,0))","v":0},{"$f":"IF(OFFSET('Raw Data'!BE83,Input_Details!$B$29,0)=\"\", \"-\", OFFSET('Raw Data'!BE83,Input_Details!$B$29,0))","v":0},{"$f":"IF(OFFSET('Raw Data'!BF83,Input_Details!$B$29,0)=\"\", \"-\", OFFSET('Raw Data'!BF83,Input_Details!$B$29,0))","v":0},9,null,10,56,1,2,2,0,0,0,0,0,0,0,71]
[null,"20:00:00",{"$f":"IF(OFFSET('Raw Data'!H84,Input_Details!$B$29,0)=\"\", \"-\", OFFSET('Raw Data'!H84,Input_Details!$B$29,0))","v":5},{"$f":"IF(OFFSET('Raw Data'!I84,Input_Details!$B$29,0)=\"\", \"-\", OFFSET('Raw Data'!I84,Input_Details!$B$29,0))","v":47},{"$f":"IF(OFFSET('Raw Data'!J84,Input_Details!$B$29,0)=\"\", \"-\", OFFSET('Raw Data'!J84,Input_Details!$B$29,0))","v":0},{"$f":"IF(OFFSET('Raw Data'!K84,Input_Details!$B$29,0)=\"\", \"-\", OFFSET('Raw Data'!K84,Input_Details!$B$29,0))","v":2},{"$f":"IF(OFFSET('Raw Data'!L84,Input_Details!$B$29,0)=\"\", \"-\", OFFSET('Raw Data'!L84,Input_Details!$B$29,0))","v":0},{"$f":"IF(OFFSET('Raw Data'!M84,Input_Details!$B$29,0)=\"\", \"-\", OFFSET('Raw Data'!M84,Input_Details!$B$29,0))","v":0},{"$f":"IF(OFFSET('Raw Data'!N84,Input_Details!$B$29,0)=\"\", \"-\", OFFSET('Raw Data'!N84,Input_Details!$B$29,0))","v":0},{"$f":"IF(OFFSET('Raw Data'!O84,Input_Details!$B$29,0)=\"\", \"-\", OFFSET('Raw Data'!O84,Input_Details!$B$29,0))","v":0},{"$f":"IF(OFFSET('Raw Data'!P84,Input_Details!$B$29,0)=\"\", \"-\", OFFSET('Raw Data'!P84,Input_Details!$B$29,0))","v":0},{"$f":"IF(OFFSET('Raw Data'!Q84,Input_Details!$B$29,0)=\"\", \"-\", OFFSET('Raw Data'!Q84,Input_Details!$B$29,0))","v":0},{"$f":"IF(OFFSET('Raw Data'!R84,Input_Details!$B$29,0)=\"\", \"-\", OFFSET('Raw Data'!R84,Input_Details!$B$29,0))","v":0},{"$f":"IF(OFFSET('Raw Data'!S84,Input_Details!$B$29,0)=\"\", \"-\", OFFSET('Raw Data'!S84,Input_Details!$B$29,0))","v":0},54,null,{"$f":"IF(OFFSET('Raw Data'!AU84,Input_Details!$B$29,0)=\"\", \"-\", OFFSET('Raw Data'!AU84,Input_Details!$B$29,0))","v":2},{"$f":"IF(OFFSET('Raw Data'!AV84,Input_Details!$B$29,0)=\"\", \"-\", OFFSET('Raw Data'!AV84,Input_Details!$B$29,0))","v":7},{"$f":"IF(OFFSET('Raw Data'!AW84,Input_Details!$B$29,0)=\"\", \"-\", OFFSET('Raw Data'!AW84,Input_Details!$B$29,0))","v":0},{"$f":"IF(OFFSET('Raw Data'!AX84,Input_Details!$B$29,0)=\"\", \"-\", OFFSET('Raw Data'!AX84,Input_Details!$B$29,0))","v":0},{"$f":"IF(OFFSET('Raw Data'!AY84,Input_Details!$B$29,0)=\"\", \"-\", OFFSET('Raw Data'!AY84,Input_Details!$B$29,0))","v":1},{"$f":"IF(OFFSET('Raw Data'!AZ84,Input_Details!$B$29,0)=\"\", \"-\", OFFSET('Raw Data'!AZ84,Input_Details!$B$29,0))","v":0},{"$f":"IF(OFFSET('Raw Data'!BA84,Input_Details!$B$29,0)=\"\", \"-\", OFFSET('Raw Data'!BA84,Input_Details!$B$29,0))","v":0},{"$f":"IF(OFFSET('Raw Data'!BB84,Input_Details!$B$29,0)=\"\", \"-\", OFFSET('Raw Data'!BB84,Input_Details!$B$29,0))","v":0},{"$f":"IF(OFFSET('Raw Data'!BC84,Input_Details!$B$29,0)=\"\", \"-\", OFFSET('Raw Data'!BC84,Input_Details!$B$29,0))","v":0},{"$f":"IF(OFFSET('Raw Data'!BD84,Input_Details!$B$29,0)=\"\", \"-\", OFFSET('Raw Data'!BD84,Input_Details!$B$29,0))","v":0},{"$f":"IF(OFFSET('Raw Data'!BE84,Input_Details!$B$29,0)=\"\", \"-\", OFFSET('Raw Data'!BE84,Input_Details!$B$29,0))","v":0},{"$f":"IF(OFFSET('Raw Data'!BF84,Input_Details!$B$29,0)=\"\", \"-\", OFFSET('Raw Data'!BF84,Input_Details!$B$29,0))","v":0},10,null,7,54,0,2,1,0,0,0,0,0,0,0,64]
[null,"20:15:00",{"$f":"IF(OFFSET('Raw Data'!H85,Input_Details!$B$29,0)=\"\", \"-\", OFFSET('Raw Data'!H85,Input_Details!$B$29,0))","v":6},{"$f":"IF(OFFSET('Raw Data'!I85,Input_Details!$B$29,0)=\"\", \"-\", OFFSET('Raw Data'!I85,Input_Details!$B$29,0))","v":43},{"$f":"IF(OFFSET('Raw Data'!J85,Input_Details!$B$29,0)=\"\", \"-\", OFFSET('Raw Data'!J85,Input_Details!$B$29,0))","v":0},{"$f":"IF(OFFSET('Raw Data'!K85,Input_Details!$B$29,0)=\"\", \"-\", OFFSET('Raw Data'!K85,Input_Details!$B$29,0))","v":2},{"$f":"IF(OFFSET('Raw Data'!L85,Input_Details!$B$29,0)=\"\", \"-\", OFFSET('Raw Data'!L85,Input_Details!$B$29,0))","v":1},{"$f":"IF(OFFSET('Raw Data'!M85,Input_Details!$B$29,0)=\"\", \"-\", OFFSET('Raw Data'!M85,Input_Details!$B$29,0))","v":0},{"$f":"IF(OFFSET('Raw Data'!N85,Input_Details!$B$29,0)=\"\", \"-\", OFFSET('Raw Data'!N85,Input_Details!$B$29,0))","v":0},{"$f":"IF(OFFSET('Raw Data'!O85,Input_Details!$B$29,0)=\"\", \"-\", OFFSET('Raw Data'!O85,Input_Details!$B$29,0))","v":0},{"$f":"IF(OFFSET('Raw Data'!P85,Input_Details!$B$29,0)=\"\", \"-\", OFFSET('Raw Data'!P85,Input_Details!$B$29,0))","v":0},{"$f":"IF(OFFSET('Raw Data'!Q85,Input_Details!$B$29,0)=\"\", \"-\", OFFSET('Raw Data'!Q85,Input_Details!$B$29,0))","v":0},{"$f":"IF(OFFSET('Raw Data'!R85,Input_Details!$B$29,0)=\"\", \"-\", OFFSET('Raw Data'!R85,Input_Details!$B$29,0))","v":0},{"$f":"IF(OFFSET('Raw Data'!S85,Input_Details!$B$29,0)=\"\", \"-\", OFFSET('Raw Data'!S85,Input_Details!$B$29,0))","v":0},52,null,{"$f":"IF(OFFSET('Raw Data'!AU85,Input_Details!$B$29,0)=\"\", \"-\", OFFSET('Raw Data'!AU85,Input_Details!$B$29,0))","v":2},{"$f":"IF(OFFSET('Raw Data'!AV85,Input_Details!$B$29,0)=\"\", \"-\", OFFSET('Raw Data'!AV85,Input_Details!$B$29,0))","v":6},{"$f":"IF(OFFSET('Raw Data'!AW85,Input_Details!$B$29,0)=\"\", \"-\", OFFSET('Raw Data'!AW85,Input_Details!$B$29,0))","v":0},{"$f":"IF(OFFSET('Raw Data'!AX85,Input_Details!$B$29,0)=\"\", \"-\", OFFSET('Raw Data'!AX85,Input_Details!$B$29,0))","v":0},{"$f":"IF(OFFSET('Raw Data'!AY85,Input_Details!$B$29,0)=\"\", \"-\", OFFSET('Raw Data'!AY85,Input_Details!$B$29,0))","v":0},{"$f":"IF(OFFSET('Raw Data'!AZ85,Input_Details!$B$29,0)=\"\", \"-\", OFFSET('Raw Data'!AZ85,Input_Details!$B$29,0))","v":0},{"$f":"IF(OFFSET('Raw Data'!BA85,Input_Details!$B$29,0)=\"\", \"-\", OFFSET('Raw Data'!BA85,Input_Details!$B$29,0))","v":0},{"$f":"IF(OFFSET('Raw Data'!BB85,Input_Details!$B$29,0)=\"\", \"-\", OFFSET('Raw Data'!BB85,Input_Details!$B$29,0))","v":0},{"$f":"IF(OFFSET('Raw Data'!BC85,Input_Details!$B$29,0)=\"\", \"-\", OFFSET('Raw Data'!BC85,Input_Details!$B$29,0))","v":0},{"$f":"IF(OFFSET('Raw Data'!BD85,Input_Details!$B$29,0)=\"\", \"-\", OFFSET('Raw Data'!BD85,Input_Details!$B$29,0))","v":0},{"$f":"IF(OFFSET('Raw Data'!BE85,Input_Details!$B$29,0)=\"\", \"-\", OFFSET('Raw Data'!BE85,Input_Details!$B$29,0))","v":0},{"$f":"IF(OFFSET('Raw Data'!BF85,Input_Details!$B$29,0)=\"\", \"-\", OFFSET('Raw Data'!BF85,Input_Details!$B$29,0))","v":0},8,null,8,49,0,2,1,0,0,0,0,0,0,0,60]
[null,"20:30:00",{"$f":"IF(OFFSET('Raw Data'!H86,Input_Details!$B$29,0)=\"\", \"-\", OFFSET('Raw Data'!H86,Input_Details!$B$29,0))","v":5},{"$f":"IF(OFFSET('Raw Data'!I86,Input_Details!$B$29,0)=\"\", \"-\", OFFSET('Raw Data'!I86,Input_Details!$B$29,0))","v":51},{"$f":"IF(OFFSET('Raw Data'!J86,Input_Details!$B$29,0)=\"\", \"-\", OFFSET('Raw Data'!J86,Input_Details!$B$29,0))","v":0},{"$f":"IF(OFFSET('Raw Data'!K86,Input_Details!$B$29,0)=\"\", \"-\", OFFSET('Raw Data'!K86,Input_Details!$B$29,0))","v":3},{"$f":"IF(OFFSET('Raw Data'!L86,Input_Details!$B$29,0)=\"\", \"-\", OFFSET('Raw Data'!L86,Input_Details!$B$29,0))","v":1},{"$f":"IF(OFFSET('Raw Data'!M86,Input_Details!$B$29,0)=\"\", \"-\", OFFSET('Raw Data'!M86,Input_Details!$B$29,0))","v":0},{"$f":"IF(OFFSET('Raw Data'!N86,Input_Details!$B$29,0)=\"\", \"-\", OFFSET('Raw Data'!N86,Input_Details!$B$29,0))","v":0},{"$f":"IF(OFFSET('Raw Data'!O86,Input_Details!$B$29,0)=\"\", \"-\", OFFSET('Raw Data'!O86,Input_Details!$B$29,0))","v":0},{"$f":"IF(OFFSET('Raw Data'!P86,Input_Details!$B$29,0)=\"\", \"-\", OFFSET('Raw Data'!P86,Input_Details!$B$29,0))","v":0},{"$f":"IF(OFFSET('Raw Data'!Q86,Input_Details!$B$29,0)=\"\", \"-\", OFFSET('Raw Data'!Q86,Input_Details!$B$29,0))","v":0},{"$f":"IF(OFFSET('Raw Data'!R86,Input_Details!$B$29,0)=\"\", \"-\", OFFSET('Raw Data'!R86,Input_Details!$B$29,0))","v":0},{"$f":"IF(OFFSET('Raw Data'!S86,Input_Details!$B$29,0)=\"\", \"-\", OFFSET('Raw Data'!S86,Input_Details!$B$29,0))","v":0},60,null,{"$f":"IF(OFFSET('Raw Data'!AU86,Input_Details!$B$29,0)=\"\", \"-\", OFFSET('Raw Data'!AU86,Input_Details!$B$29,0))","v":2},{"$f":"IF(OFFSET('Raw Data'!AV86,Input_Details!$B$29,0)=\"\", \"-\", OFFSET('Raw Data'!AV86,Input_Details!$B$29,0))","v":6},{"$f":"IF(OFFSET('Raw Data'!AW86,Input_Details!$B$29,0)=\"\", \"-\", OFFSET('Raw Data'!AW86,Input_Details!$B$29,0))","v":0},{"$f":"IF(OFFSET('Raw Data'!AX86,Input_Details!$B$29,0)=\"\", \"-\", OFFSET('Raw Data'!AX86,Input_Details!$B$29,0))","v":0},{"$f":"IF(OFFSET('Raw Data'!AY86,Input_Details!$B$29,0)=\"\", \"-\", OFFSET('Raw Data'!AY86,Input_Details!$B$29,0))","v":0},{"$f":"IF(OFFSET('Raw Data'!AZ86,Input_Details!$B$29,0)=\"\", \"-\", OFFSET('Raw Data'!AZ86,Input_Details!$B$29,0))","v":0},{"$f":"IF(OFFSET('Raw Data'!BA86,Input_Details!$B$29,0)=\"\", \"-\", OFFSET('Raw Data'!BA86,Input_Details!$B$29,0))","v":0},{"$f":"IF(OFFSET('Raw Data'!BB86,Input_Details!$B$29,0)=\"\", \"-\", OFFSET('Raw Data'!BB86,Input_Details!$B$29,0))","v":0},{"$f":"IF(OFFSET('Raw Data'!BC86,Input_Details!$B$29,0)=\"\", \"-\", OFFSET('Raw Data'!BC86,Input_Details!$B$29,0))","v":0},{"$f":"IF(OFFSET('Raw Data'!BD86,Input_Details!$B$29,0)=\"\", \"-\", OFFSET('Raw Data'!BD86,Input_Details!$B$29,0))","v":0},{"$f":"IF(OFFSET('Raw Data'!BE86,Input_Details!$B$29,0)=\"\", \"-\", OFFSET('Raw Data'!BE86,Input_Details!$B$29,0))","v":0},{"$f":"IF(OFFSET('Raw Data'!BF86,Input_Details!$B$29,0)=\"\", \"-\", OFFSET('Raw Data'!BF86,Input_Details!$B$29,0))","v":0},8,null,7,57,0,3,1,0,0,0,0,0,0,0,68]
[null,"20:45:00",{"$f":"IF(OFFSET('Raw Data'!H87,Input_Details!$B$29,0)=\"\", \"-\", OFFSET('Raw Data'!H87,Input_Details!$B$29,0))","v":6},{"$f":"IF(OFFSET('Raw Data'!I87,Input_Details!$B$29,0)=\"\", \"-\", OFFSET('Raw Data'!I87,Input_Details!$B$29,0))","v":42},{"$f":"IF(OFFSET('Raw Data'!J87,Input_Details!$B$29,0)=\"\", \"-\", OFFSET('Raw Data'!J87,Input_Details!$B$29,0))","v":0},{"$f":"IF(OFFSET('Raw Data'!K87,Input_Details!$B$29,0)=\"\", \"-\", OFFSET('Raw Data'!K87,Input_Details!$B$29,0))","v":2},{"$f":"IF(OFFSET('Raw Data'!L87,Input_Details!$B$29,0)=\"\", \"-\", OFFSET('Raw Data'!L87,Input_Details!$B$29,0))","v":1},{"$f":"IF(OFFSET('Raw Data'!M87,Input_Details!$B$29,0)=\"\", \"-\", OFFSET('Raw Data'!M87,Input_Details!$B$29,0))","v":0},{"$f":"IF(OFFSET('Raw Data'!N87,Input_Details!$B$29,0)=\"\", \"-\", OFFSET('Raw Data'!N87,Input_Details!$B$29,0))","v":0},{"$f":"IF(OFFSET('Raw Data'!O87,Input_Details!$B$29,0)=\"\", \"-\", OFFSET('Raw Data'!O87,Input_Details!$B$29,0))","v":0},{"$f":"IF(OFFSET('Raw Data'!P87,Input_Details!$B$29,0)=\"\", \"-\", OFFSET('Raw Data'!P87,Input_Details!$B$29,0))","v":0},{"$f":"IF(OFFSET('Raw Data'!Q87,Input_Details!$B$29,0)=\"\", \"-\", OFFSET('Raw Data'!Q87,Input_Details!$B$29,0))","v":0},{"$f":"IF(OFFSET('Raw Data'!R87,Input_Details!$B$29,0)=\"\", \"-\", OFFSET('Raw Data'!R87,Input_Details!$B$29,0))","v":0},{"$f":"IF(OFFSET('Raw Data'!S87,Input_Details!$B$29,0)=\"\", \"-\", OFFSET('Raw Data'!S87,Input_Details!$B$29,0))","v":0},51,null,{"$f":"IF(OFFSET('Raw Data'!AU87,Input_Details!$B$29,0)=\"\", \"-\", OFFSET('Raw Data'!AU87,Input_Details!$B$29,0))","v":2},{"$f":"IF(OFFSET('Raw Data'!AV87,Input_Details!$B$29,0)=\"\", \"-\", OFFSET('Raw Data'!AV87,Input_Details!$B$29,0))","v":8},{"$f":"IF(OFFSET('Raw Data'!AW87,Input_Details!$B$29,0)=\"\", \"-\", OFFSET('Raw Data'!AW87,Input_Details!$B$29,0))","v":0},{"$f":"IF(OFFSET('Raw Data'!AX87,Input_Details!$B$29,0)=\"\", \"-\", OFFSET('Raw Data'!AX87,Input_Details!$B$29,0))","v":0},{"$f":"IF(OFFSET('Raw Data'!AY87,Input_Details!$B$29,0)=\"\", \"-\", OFFSET('Raw Data'!AY87,Input_Details!$B$29,0))","v":0},{"$f":"IF(OFFSET('Raw Data'!AZ87,Input_Details!$B$29,0)=\"\", \"-\", OFFSET('Raw Data'!AZ87,Input_Details!$B$29,0))","v":0},{"$f":"IF(OFFSET('Raw Data'!BA87,Input_Details!$B$29,0)=\"\", \"-\", OFFSET('Raw Data'!BA87,Input_Details!$B$29,0))","v":0},{"$f":"IF(OFFSET('Raw Data'!BB87,Input_Details!$B$29,0)=\"\", \"-\", OFFSET('Raw Data'!BB87,Input_Details!$B$29,0))","v":0},{"$f":"IF(OFFSET('Raw Data'!BC87,Input_Details!$B$29,0)=\"\", \"-\", OFFSET('Raw Data'!BC87,Input_Details!$B$29,0))","v":0},{"$f":"IF(OFFSET('Raw Data'!BD87,Input_Details!$B$29,0)=\"\", \"-\", OFFSET('Raw Data'!BD87,Input_Details!$B$29,0))","v":0},{"$f":"IF(OFFSET('Raw Data'!BE87,Input_Details!$B$29,0)=\"\", \"-\", OFFSET('Raw Data'!BE87,Input_Details!$B$29,0))","v":0},{"$f":"IF(OFFSET('Raw Data'!BF87,Input_Details!$B$29,0)=\"\", \"-\", OFFSET('Raw Data'!BF87,Input_Details!$B$29,0))","v":0},10,null,8,50,0,2,1,0,0,0,0,0,0,0,61]
[null,"21:00:00",{"$f":"IF(OFFSET('Raw Data'!H88,Input_Details!$B$29,0)=\"\", \"-\", OFFSET('Raw Data'!H88,Input_Details!$B$29,0))","v":6},{"$f":"IF(OFFSET('Raw Data'!I88,Input_Details!$B$29,0)=\"\", \"-\", OFFSET('Raw Data'!I88,Input_Details!$B$29,0))","v":36},{"$f":"IF(OFFSET('Raw Data'!J88,Input_Details!$B$29,0)=\"\", \"-\", OFFSET('Raw Data'!J88,Input_Details!$B$29,0))","v":0},{"$f":"IF(OFFSET('Raw Data'!K88,Input_Details!$B$29,0)=\"\", \"-\", OFFSET('Raw Data'!K88,Input_Details!$B$29,0))","v":1},{"$f":"IF(OFFSET('Raw Data'!L88,Input_Details!$B$29,0)=\"\", \"-\", OFFSET('Raw Data'!L88,Input_Details!$B$29,0))","v":1},{"$f":"IF(OFFSET('Raw Data'!M88,Input_Details!$B$29,0)=\"\", \"-\", OFFSET('Raw Data'!M88,Input_Details!$B$29,0))","v":0},{"$f":"IF(OFFSET('Raw Data'!N88,Input_Details!$B$29,0)=\"\", \"-\", OFFSET('Raw Data'!N88,Input_Details!$B$29,0))","v":0},{"$f":"IF(OFFSET('Raw Data'!O88,Input_Details!$B$29,0)=\"\", \"-\", OFFSET('Raw Data'!O88,Input_Details!$B$29,0))","v":0},{"$f":"IF(OFFSET('Raw Data'!P88,Input_Details!$B$29,0)=\"\", \"-\", OFFSET('Raw Data'!P88,Input_Details!$B$29,0))","v":0},{"$f":"IF(OFFSET('Raw Data'!Q88,Input_Details!$B$29,0)=\"\", \"-\", OFFSET('Raw Data'!Q88,Input_Details!$B$29,0))","v":0},{"$f":"IF(OFFSET('Raw Data'!R88,Input_Details!$B$29,0)=\"\", \"-\", OFFSET('Raw Data'!R88,Input_Details!$B$29,0))","v":0},{"$f":"IF(OFFSET('Raw Data'!S88,Input_Details!$B$29,0)=\"\", \"-\", OFFSET('Raw Data'!S88,Input_Details!$B$29,0))","v":0},44,null,{"$f":"IF(OFFSET('Raw Data'!AU88,Input_Details!$B$29,0)=\"\", \"-\", OFFSET('Raw Data'!AU88,Input_Details!$B$29,0))","v":3},{"$f":"IF(OFFSET('Raw Data'!AV88,Input_Details!$B$29,0)=\"\", \"-\", OFFSET('Raw Data'!AV88,Input_Details!$B$29,0))","v":9},{"$f":"IF(OFFSET('Raw Data'!AW88,Input_Details!$B$29,0)=\"\", \"-\", OFFSET('Raw Data'!AW88,Input_Details!$B$29,0))","v":0},{"$f":"IF(OFFSET('Raw Data'!AX88,Input_Details!$B$29,0)=\"\", \"-\", OFFSET('Raw Data'!AX88,Input_Details!$B$29,0))","v":0},{"$f":"IF(OFFSET('Raw Data'!AY88,Input_Details!$B$29,0)=\"\", \"-\", OFFSET('Raw Data'!AY88,Input_Details!$B$29,0))","v":0},{"$f":"IF(OFFSET('Raw Data'!AZ88,Input_Details!$B$29,0)=\"\", \"-\", OFFSET('Raw Data'!AZ88,Input_Details!$B$29,0))","v":0},{"$f":"IF(OFFSET('Raw Data'!BA88,Input_Details!$B$29,0)=\"\", \"-\", OFFSET('Raw Data'!BA88,Input_Details!$B$29,0))","v":0},{"$f":"IF(OFFSET('Raw Data'!BB88,Input_Details!$B$29,0)=\"\", \"-\", OFFSET('Raw Data'!BB88,Input_Details!$B$29,0))","v":0},{"$f":"IF(OFFSET('Raw Data'!BC88,Input_Details!$B$29,0)=\"\", \"-\", OFFSET('Raw Data'!BC88,Input_Details!$B$29,0))","v":0},{"$f":"IF(OFFSET('Raw Data'!BD88,Input_Details!$B$29,0)=\"\", \"-\", OFFSET('Raw Data'!BD88,Input_Details!$B$29,0))","v":0},{"$f":"IF(OFFSET('Raw Data'!BE88,Input_Details!$B$29,0)=\"\", \"-\", OFFSET('Raw Data'!BE88,Input_Details!$B$29,0))","v":0},{"$f":"IF(OFFSET('Raw Data'!BF88,Input_Details!$B$29,0)=\"\", \"-\", OFFSET('Raw Data'!BF88,Input_Details!$B$29,0))","v":0},12,null,9,45,0,1,1,0,0,0,0,0,0,0,56]
[null,"21:15:00",{"$f":"IF(OFFSET('Raw Data'!H89,Input_Details!$B$29,0)=\"\", \"-\", OFFSET('Raw Data'!H89,Input_Details!$B$29,0))","v":7},{"$f":"IF(OFFSET('Raw Data'!I89,Input_Details!$B$29,0)=\"\", \"-\", OFFSET('Raw Data'!I89,Input_Details!$B$29,0))","v":31},{"$f":"IF(OFFSET('Raw Data'!J89,Input_Details!$B$29,0)=\"\", \"-\", OFFSET('Raw Data'!J89,Input_Details!$B$29,0))","v":0},{"$f":"IF(OFFSET('Raw Data'!K89,Input_Details!$B$29,0)=\"\", \"-\", OFFSET('Raw Data'!K89,Input_Details!$B$29,0))","v":1},{"$f":"IF(OFFSET('Raw Data'!L89,Input_Details!$B$29,0)=\"\", \"-\", OFFSET('Raw Data'!L89,Input_Details!$B$29,0))","v":1},{"$f":"IF(OFFSET('Raw Data'!M89,Input_Details!$B$29,0)=\"\", \"-\", OFFSET('Raw Data'!M89,Input_Details!$B$29,0))","v":0},{"$f":"IF(OFFSET('Raw Data'!N89,Input_Details!$B$29,0)=\"\", \"-\", OFFSET('Raw Data'!N89,Input_Details!$B$29,0))","v":0},{"$f":"IF(OFFSET('Raw Data'!O89,Input_Details!$B$29,0)=\"\", \"-\", OFFSET('Raw Data'!O89,Input_Details!$B$29,0))","v":0},{"$f":"IF(OFFSET('Raw Data'!P89,Input_Details!$B$29,0)=\"\", \"-\", OFFSET('Raw Data'!P89,Input_Details!$B$29,0))","v":0},{"$f":"IF(OFFSET('Raw Data'!Q89,Input_Details!$B$29,0)=\"\", \"-\", OFFSET('Raw Data'!Q89,Input_Details!$B$29,0))","v":0},{"$f":"IF(OFFSET('Raw Data'!R89,Input_Details!$B$29,0)=\"\", \"-\", OFFSET('Raw Data'!R89,Input_Details!$B$29,0))","v":0},{"$f":"IF(OFFSET('Raw Data'!S89,Input_Details!$B$29,0)=\"\", \"-\", OFFSET('Raw Data'!S89,Input_Details!$B$29,0))","v":0},40,null,{"$f":"IF(OFFSET('Raw Data'!AU89,Input_Details!$B$29,0)=\"\", \"-\", OFFSET('Raw Data'!AU89,Input_Details!$B$29,0))","v":2},{"$f":"IF(OFFSET('Raw Data'!AV89,Input_Details!$B$29,0)=\"\", \"-\", OFFSET('Raw Data'!AV89,Input_Details!$B$29,0))","v":5},{"$f":"IF(OFFSET('Raw Data'!AW89,Input_Details!$B$29,0)=\"\", \"-\", OFFSET('Raw Data'!AW89,Input_Details!$B$29,0))","v":0},{"$f":"IF(OFFSET('Raw Data'!AX89,Input_Details!$B$29,0)=\"\", \"-\", OFFSET('Raw Data'!AX89,Input_Details!$B$29,0))","v":0},{"$f":"IF(OFFSET('Raw Data'!AY89,Input_Details!$B$29,0)=\"\", \"-\", OFFSET('Raw Data'!AY89,Input_Details!$B$29,0))","v":0},{"$f":"IF(OFFSET('Raw Data'!AZ89,Input_Details!$B$29,0)=\"\", \"-\", OFFSET('Raw Data'!AZ89,Input_Details!$B$29,0))","v":0},{"$f":"IF(OFFSET('Raw Data'!BA89,Input_Details!$B$29,0)=\"\", \"-\", OFFSET('Raw Data'!BA89,Input_Details!$B$29,0))","v":0},{"$f":"IF(OFFSET('Raw Data'!BB89,Input_Details!$B$29,0)=\"\", \"-\", OFFSET('Raw Data'!BB89,Input_Details!$B$29,0))","v":0},{"$f":"IF(OFFSET('Raw Data'!BC89,Input_Details!$B$29,0)=\"\", \"-\", OFFSET('Raw Data'!BC89,Input_Details!$B$29,0))","v":0},{"$f":"IF(OFFSET('Raw Data'!BD89,Input_Details!$B$29,0)=\"\", \"-\", OFFSET('Raw Data'!BD89,Input_Details!$B$29,0))","v":0},{"$f":"IF(OFFSET('Raw Data'!BE89,Input_Details!$B$29,0)=\"\", \"-\", OFFSET('Raw Data'!BE89,Input_Details!$B$29,0))","v":0},{"$f":"IF(OFFSET('Raw Data'!BF89,Input_Details!$B$29,0)=\"\", \"-\", OFFSET('Raw Data'!BF89,Input_Details!$B$29,0))","v":0},7,null,9,36,0,1,1,0,0,0,0,0,0,0,47]
[null,"21:30:00",{"$f":"IF(OFFSET('Raw Data'!H90,Input_Details!$B$29,0)=\"\", \"-\", OFFSET('Raw Data'!H90,Input_Details!$B$29,0))","v":4},{"$f":"IF(OFFSET('Raw Data'!I90,Input_Details!$B$29,0)=\"\", \"-\", OFFSET('Raw Data'!I90,Input_Details!$B$29,0))","v":38},{"$f":"IF(OFFSET('Raw Data'!J90,Input_Details!$B$29,0)=\"\", \"-\", OFFSET('Raw Data'!J90,Input_Details!$B$29,0))","v":0},{"$f":"IF(OFFSET('Raw Data'!K90,Input_Details!$B$29,0)=\"\", \"-\", OFFSET('Raw Data'!K90,Input_Details!$B$29,0))","v":1},{"$f":"IF(OFFSET('Raw Data'!L90,Input_Details!$B$29,0)=\"\", \"-\", OFFSET('Raw Data'!L90,Input_Details!$B$29,0))","v":1},{"$f":"IF(OFFSET('Raw Data'!M90,Input_Details!$B$29,0)=\"\", \"-\", OFFSET('Raw Data'!M90,Input_Details!$B$29,0))","v":0},{"$f":"IF(OFFSET('Raw Data'!N90,Input_Details!$B$29,0)=\"\", \"-\", OFFSET('Raw Data'!N90,Input_Details!$B$29,0))","v":0},{"$f":"IF(OFFSET('Raw Data'!O90,Input_Details!$B$29,0)=\"\", \"-\", OFFSET('Raw Data'!O90,Input_Details!$B$29,0))","v":0},{"$f":"IF(OFFSET('Raw Data'!P90,Input_Details!$B$29,0)=\"\", \"-\", OFFSET('Raw Data'!P90,Input_Details!$B$29,0))","v":0},{"$f":"IF(OFFSET('Raw Data'!Q90,Input_Details!$B$29,0)=\"\", \"-\", OFFSET('Raw Data'!Q90,Input_Details!$B$29,0))","v":0},{"$f":"IF(OFFSET('Raw Data'!R90,Input_Details!$B$29,0)=\"\", \"-\", OFFSET('Raw Data'!R90,Input_Details!$B$29,0))","v":0},{"$f":"IF(OFFSET('Raw Data'!S90,Input_Details!$B$29,0)=\"\", \"-\", OFFSET('Raw Data'!S90,Input_Details!$B$29,0))","v":0},44,null,{"$f":"IF(OFFSET('Raw Data'!AU90,Input_Details!$B$29,0)=\"\", \"-\", OFFSET('Raw Data'!AU90,Input_Details!$B$29,0))","v":1},{"$f":"IF(OFFSET('Raw Data'!AV90,Input_Details!$B$29,0)=\"\", \"-\", OFFSET('Raw Data'!AV90,Input_Details!$B$29,0))","v":8},{"$f":"IF(OFFSET('Raw Data'!AW90,Input_Details!$B$29,0)=\"\", \"-\", OFFSET('Raw Data'!AW90,Input_Details!$B$29,0))","v":0},{"$f":"IF(OFFSET('Raw Data'!AX90,Input_Details!$B$29,0)=\"\", \"-\", OFFSET('Raw Data'!AX90,Input_Details!$B$29,0))","v":0},{"$f":"IF(OFFSET('Raw Data'!AY90,Input_Details!$B$29,0)=\"\", \"-\", OFFSET('Raw Data'!AY90,Input_Details!$B$29,0))","v":0},{"$f":"IF(OFFSET('Raw Data'!AZ90,Input_Details!$B$29,0)=\"\", \"-\", OFFSET('Raw Data'!AZ90,Input_Details!$B$29,0))","v":0},{"$f":"IF(OFFSET('Raw Data'!BA90,Input_Details!$B$29,0)=\"\", \"-\", OFFSET('Raw Data'!BA90,Input_Details!$B$29,0))","v":0},{"$f":"IF(OFFSET('Raw Data'!BB90,Input_Details!$B$29,0)=\"\", \"-\", OFFSET('Raw Data'!BB90,Input_Details!$B$29,0))","v":0},{"$f":"IF(OFFSET('Raw Data'!BC90,Input_Details!$B$29,0)=\"\", \"-\", OFFSET('Raw Data'!BC90,Input_Details!$B$29,0))","v":0},{"$f":"IF(OFFSET('Raw Data'!BD90,Input_Details!$B$29,0)=\"\", \"-\", OFFSET('Raw Data'!BD90,Input_Details!$B$29,0))","v":0},{"$f":"IF(OFFSET('Raw Data'!BE90,Input_Details!$B$29,0)=\"\", \"-\", OFFSET('Raw Data'!BE90,Input_Details!$B$29,0))","v":0},{"$f":"IF(OFFSET('Raw Data'!BF90,Input_Details!$B$29,0)=\"\", \"-\", OFFSET('Raw Data'!BF90,Input_Details!$B$29,0))","v":0},9,null,5,46,0,1,1,0,0,0,0,0,0,0,53]
[null,"21:45:00",{"$f":"IF(OFFSET('Raw Data'!H91,Input_Details!$B$29,0)=\"\", \"-\", OFFSET('Raw Data'!H91,Input_Details!$B$29,0))","v":6},{"$f":"IF(OFFSET('Raw Data'!I91,Input_Details!$B$29,0)=\"\", \"-\", OFFSET('Raw Data'!I91,Input_Details!$B$29,0))","v":33},{"$f":"IF(OFFSET('Raw Data'!J91,Input_Details!$B$29,0)=\"\", \"-\", OFFSET('Raw Data'!J91,Input_Details!$B$29,0))","v":0},{"$f":"IF(OFFSET('Raw Data'!K91,Input_Details!$B$29,0)=\"\", \"-\", OFFSET('Raw Data'!K91,Input_Details!$B$29,0))","v":1},{"$f":"IF(OFFSET('Raw Data'!L91,Input_Details!$B$29,0)=\"\", \"-\", OFFSET('Raw Data'!L91,Input_Details!$B$29,0))","v":2},{"$f":"IF(OFFSET('Raw Data'!M91,Input_Details!$B$29,0)=\"\", \"-\", OFFSET('Raw Data'!M91,Input_Details!$B$29,0))","v":0},{"$f":"IF(OFFSET('Raw Data'!N91,Input_Details!$B$29,0)=\"\", \"-\", OFFSET('Raw Data'!N91,Input_Details!$B$29,0))","v":0},{"$f":"IF(OFFSET('Raw Data'!O91,Input_Details!$B$29,0)=\"\", \"-\", OFFSET('Raw Data'!O91,Input_Details!$B$29,0))","v":0},{"$f":"IF(OFFSET('Raw Data'!P91,Input_Details!$B$29,0)=\"\", \"-\", OFFSET('Raw Data'!P91,Input_Details!$B$29,0))","v":0},{"$f":"IF(OFFSET('Raw Data'!Q91,Input_Details!$B$29,0)=\"\", \"-\", OFFSET('Raw Data'!Q91,Input_Details!$B$29,0))","v":0},{"$f":"IF(OFFSET('Raw Data'!R91,Input_Details!$B$29,0)=\"\", \"-\", OFFSET('Raw Data'!R91,Input_Details!$B$29,0))","v":0},{"$f":"IF(OFFSET('Raw Data'!S91,Input_Details!$B$29,0)=\"\", \"-\", OFFSET('Raw Data'!S91,Input_Details!$B$29,0))","v":0},42,null,{"$f":"IF(OFFSET('Raw Data'!AU91,Input_Details!$B$29,0)=\"\", \"-\", OFFSET('Raw Data'!AU91,Input_Details!$B$29,0))","v":1},{"$f":"IF(OFFSET('Raw Data'!AV91,Input_Details!$B$29,0)=\"\", \"-\", OFFSET('Raw Data'!AV91,Input_Details!$B$29,0))","v":8},{"$f":"IF(OFFSET('Raw Data'!AW91,Input_Details!$B$29,0)=\"\", \"-\", OFFSET('Raw Data'!AW91,Input_Details!$B$29,0))","v":0},{"$f":"IF(OFFSET('Raw Data'!AX91,Input_Details!$B$29,0)=\"\", \"-\", OFFSET('Raw Data'!AX91,Input_Details!$B$29,0))","v":0},{"$f":"IF(OFFSET('Raw Data'!AY91,Input_Details!$B$29,0)=\"\", \"-\", OFFSET('Raw Data'!AY91,Input_Details!$B$29,0))","v":1},{"$f":"IF(OFFSET('Raw Data'!AZ91,Input_Details!$B$29,0)=\"\", \"-\", OFFSET('Raw Data'!AZ91,Input_Details!$B$29,0))","v":0},{"$f":"IF(OFFSET('Raw Data'!BA91,Input_Details!$B$29,0)=\"\", \"-\", OFFSET('Raw Data'!BA91,Input_Details!$B$29,0))","v":0},{"$f":"IF(OFFSET('Raw Data'!BB91,Input_Details!$B$29,0)=\"\", \"-\", OFFSET('Raw Data'!BB91,Input_Details!$B$29,0))","v":0},{"$f":"IF(OFFSET('Raw Data'!BC91,Input_Details!$B$29,0)=\"\", \"-\", OFFSET('Raw Data'!BC91,Input_Details!$B$29,0))","v":0},{"$f":"IF(OFFSET('Raw Data'!BD91,Input_Details!$B$29,0)=\"\", \"-\", OFFSET('Raw Data'!BD91,Input_Details!$B$29,0))","v":0},{"$f":"IF(OFFSET('Raw Data'!BE91,Input_Details!$B$29,0)=\"\", \"-\", OFFSET('Raw Data'!BE91,Input_Details!$B$29,0))","v":0},{"$f":"IF(OFFSET('Raw Data'!BF91,Input_Details!$B$29,0)=\"\", \"-\", OFFSET('Raw Data'!BF91,Input_Details!$B$29,0))","v":0},10,null,7,41,0,1,3,0,0,0,0,0,0,0,52]
[null,"22:00:00",{"$f":"IF(OFFSET('Raw Data'!H92,Input_Details!$B$29,0)=\"\", \"-\", OFFSET('Raw Data'!H92,Input_Details!$B$29,0))","v":5},{"$f":"IF(OFFSET('Raw Data'!I92,Input_Details!$B$29,0)=\"\", \"-\", OFFSET('Raw Data'!I92,Input_Details!$B$29,0))","v":38},{"$f":"IF(OFFSET('Raw Data'!J92,Input_Details!$B$29,0)=\"\", \"-\", OFFSET('Raw Data'!J92,Input_Details!$B$29,0))","v":0},{"$f":"IF(OFFSET('Raw Data'!K92,Input_Details!$B$29,0)=\"\", \"-\", OFFSET('Raw Data'!K92,Input_Details!$B$29,0))","v":1},{"$f":"IF(OFFSET('Raw Data'!L92,Input_Details!$B$29,0)=\"\", \"-\", OFFSET('Raw Data'!L92,Input_Details!$B$29,0))","v":1},{"$f":"IF(OFFSET('Raw Data'!M92,Input_Details!$B$29,0)=\"\", \"-\", OFFSET('Raw Data'!M92,Input_Details!$B$29,0))","v":0},{"$f":"IF(OFFSET('Raw Data'!N92,Input_Details!$B$29,0)=\"\", \"-\", OFFSET('Raw Data'!N92,Input_Details!$B$29,0))","v":0},{"$f":"IF(OFFSET('Raw Data'!O92,Input_Details!$B$29,0)=\"\", \"-\", OFFSET('Raw Data'!O92,Input_Details!$B$29,0))","v":0},{"$f":"IF(OFFSET('Raw Data'!P92,Input_Details!$B$29,0)=\"\", \"-\", OFFSET('Raw Data'!P92,Input_Details!$B$29,0))","v":0},{"$f":"IF(OFFSET('Raw Data'!Q92,Input_Details!$B$29,0)=\"\", \"-\", OFFSET('Raw Data'!Q92,Input_Details!$B$29,0))","v":0},{"$f":"IF(OFFSET('Raw Data'!R92,Input_Details!$B$29,0)=\"\", \"-\", OFFSET('Raw Data'!R92,Input_Details!$B$29,0))","v":0},{"$f":"IF(OFFSET('Raw Data'!S92,Input_Details!$B$29,0)=\"\", \"-\", OFFSET('Raw Data'!S92,Input_Details!$B$29,0))","v":0},45,null,{"$f":"IF(OFFSET('Raw Data'!AU92,Input_Details!$B$29,0)=\"\", \"-\", OFFSET('Raw Data'!AU92,Input_Details!$B$29,0))","v":2},{"$f":"IF(OFFSET('Raw Data'!AV92,Input_Details!$B$29,0)=\"\", \"-\", OFFSET('Raw Data'!AV92,Input_Details!$B$29,0))","v":7},{"$f":"IF(OFFSET('Raw Data'!AW92,Input_Details!$B$29,0)=\"\", \"-\", OFFSET('Raw Data'!AW92,Input_Details!$B$29,0))","v":0},{"$f":"IF(OFFSET('Raw Data'!AX92,Input_Details!$B$29,0)=\"\", \"-\", OFFSET('Raw Data'!AX92,Input_Details!$B$29,0))","v":0},{"$f":"IF(OFFSET('Raw Data'!AY92,Input_Details!$B$29,0)=\"\", \"-\", OFFSET('Raw Data'!AY92,Input_Details!$B$29,0))","v":0},{"$f":"IF(OFFSET('Raw Data'!AZ92,Input_Details!$B$29,0)=\"\", \"-\", OFFSET('Raw Data'!AZ92,Input_Details!$B$29,0))","v":0},{"$f":"IF(OFFSET('Raw Data'!BA92,Input_Details!$B$29,0)=\"\", \"-\", OFFSET('Raw Data'!BA92,Input_Details!$B$29,0))","v":0},{"$f":"IF(OFFSET('Raw Data'!BB92,Input_Details!$B$29,0)=\"\", \"-\", OFFSET('Raw Data'!BB92,Input_Details!$B$29,0))","v":0},{"$f":"IF(OFFSET('Raw Data'!BC92,Input_Details!$B$29,0)=\"\", \"-\", OFFSET('Raw Data'!BC92,Input_Details!$B$29,0))","v":0},{"$f":"IF(OFFSET('Raw Data'!BD92,Input_Details!$B$29,0)=\"\", \"-\", OFFSET('Raw Data'!BD92,Input_Details!$B$29,0))","v":0},{"$f":"IF(OFFSET('Raw Data'!BE92,Input_Details!$B$29,0)=\"\", \"-\", OFFSET('Raw Data'!BE92,Input_Details!$B$29,0))","v":0},{"$f":"IF(OFFSET('Raw Data'!BF92,Input_Details!$B$29,0)=\"\", \"-\", OFFSET('Raw Data'!BF92,Input_Details!$B$29,0))","v":0},9,null,7,45,0,1,1,0,0,0,0,0,0,0,54]
[null,"22:15:00",{"$f":"IF(OFFSET('Raw Data'!H93,Input_Details!$B$29,0)=\"\", \"-\", OFFSET('Raw Data'!H93,Input_Details!$B$29,0))","v":5},{"$f":"IF(OFFSET('Raw Data'!I93,Input_Details!$B$29,0)=\"\", \"-\", OFFSET('Raw Data'!I93,Input_Details!$B$29,0))","v":40},{"$f":"IF(OFFSET('Raw Data'!J93,Input_Details!$B$29,0)=\"\", \"-\", OFFSET('Raw Data'!J93,Input_Details!$B$29,0))","v":0},{"$f":"IF(OFFSET('Raw Data'!K93,Input_Details!$B$29,0)=\"\", \"-\", OFFSET('Raw Data'!K93,Input_Details!$B$29,0))","v":1},{"$f":"IF(OFFSET('Raw Data'!L93,Input_Details!$B$29,0)=\"\", \"-\", OFFSET('Raw Data'!L93,Input_Details!$B$29,0))","v":1},{"$f":"IF(OFFSET('Raw Data'!M93,Input_Details!$B$29,0)=\"\", \"-\", OFFSET('Raw Data'!M93,Input_Details!$B$29,0))","v":0},{"$f":"IF(OFFSET('Raw Data'!N93,Input_Details!$B$29,0)=\"\", \"-\", OFFSET('Raw Data'!N93,Input_Details!$B$29,0))","v":0},{"$f":"IF(OFFSET('Raw Data'!O93,Input_Details!$B$29,0)=\"\", \"-\", OFFSET('Raw Data'!O93,Input_Details!$B$29,0))","v":0},{"$f":"IF(OFFSET('Raw Data'!P93,Input_Details!$B$29,0)=\"\", \"-\", OFFSET('Raw Data'!P93,Input_Details!$B$29,0))","v":0},{"$f":"IF(OFFSET('Raw Data'!Q93,Input_Details!$B$29,0)=\"\", \"-\", OFFSET('Raw Data'!Q93,Input_Details!$B$29,0))","v":0},{"$f":"IF(OFFSET('Raw Data'!R93,Input_Details!$B$29,0)=\"\", \"-\", OFFSET('Raw Data'!R93,Input_Details!$B$29,0))","v":0},{"$f":"IF(OFFSET('Raw Data'!S93,Input_Details!$B$29,0)=\"\", \"-\", OFFSET('Raw Data'!S93,Input_Details!$B$29,0))","v":0},47,null,{"$f":"IF(OFFSET('Raw Data'!AU93,Input_Details!$B$29,0)=\"\", \"-\", OFFSET('Raw Data'!AU93,Input_Details!$B$29,0))","v":0},{"$f":"IF(OFFSET('Raw Data'!AV93,Input_Details!$B$29,0)=\"\", \"-\", OFFSET('Raw Data'!AV93,Input_Details!$B$29,0))","v":8},{"$f":"IF(OFFSET('Raw Data'!AW93,Input_Details!$B$29,0)=\"\", \"-\", OFFSET('Raw Data'!AW93,Input_Details!$B$29,0))","v":0},{"$f":"IF(OFFSET('Raw Data'!AX93,Input_Details!$B$29,0)=\"\", \"-\", OFFSET('Raw Data'!AX93,Input_Details!$B$29,0))","v":0},{"$f":"IF(OFFSET('Raw Data'!AY93,Input_Details!$B$29,0)=\"\", \"-\", OFFSET('Raw Data'!AY93,Input_Details!$B$29,0))","v":0},{"$f":"IF(OFFSET('Raw Data'!AZ93,Input_Details!$B$29,0)=\"\", \"-\", OFFSET('Raw Data'!AZ93,Input_Details!$B$29,0))","v":0},{"$f":"IF(OFFSET('Raw Data'!BA93,Input_Details!$B$29,0)=\"\", \"-\", OFFSET('Raw Data'!BA93,Input_Details!$B$29,0))","v":0},{"$f":"IF(OFFSET('Raw Data'!BB93,Input_Details!$B$29,0)=\"\", \"-\", OFFSET('Raw Data'!BB93,Input_Details!$B$29,0))","v":0},{"$f":"IF(OFFSET('Raw Data'!BC93,Input_Details!$B$29,0)=\"\", \"-\", OFFSET('Raw Data'!BC93,Input_Details!$B$29,0))","v":0},{"$f":"IF(OFFSET('Raw Data'!BD93,Input_Details!$B$29,0)=\"\", \"-\", OFFSET('Raw Data'!BD93,Input_Details!$B$29,0))","v":0},{"$f":"IF(OFFSET('Raw Data'!BE93,Input_Details!$B$29,0)=\"\", \"-\", OFFSET('Raw Data'!BE93,Input_Details!$B$29,0))","v":0},{"$f":"IF(OFFSET('Raw Data'!BF93,Input_Details!$B$29,0)=\"\", \"-\", OFFSET('Raw Data'!BF93,Input_Details!$B$29,0))","v":0},8,null,5,48,0,1,1,0,0,0,0,0,0,0,55]
[null,"22:30:00",{"$f":"IF(OFFSET('Raw Data'!H94,Input_Details!$B$29,0)=\"\", \"-\", OFFSET('Raw Data'!H94,Input_Details!$B$29,0))","v":6},{"$f":"IF(OFFSET('Raw Data'!I94,Input_Details!$B$29,0)=\"\", \"-\", OFFSET('Raw Data'!I94,Input_Details!$B$29,0))","v":35},{"$f":"IF(OFFSET('Raw Data'!J94,Input_Details!$B$29,0)=\"\", \"-\", OFFSET('Raw Data'!J94,Input_Details!$B$29,0))","v":0},{"$f":"IF(OFFSET('Raw Data'!K94,Input_Details!$B$29,0)=\"\", \"-\", OFFSET('Raw Data'!K94,Input_Details!$B$29,0))","v":0},{"$f":"IF(OFFSET('Raw Data'!L94,Input_Details!$B$29,0)=\"\", \"-\", OFFSET('Raw Data'!L94,Input_Details!$B$29,0))","v":2},{"$f":"IF(OFFSET('Raw Data'!M94,Input_Details!$B$29,0)=\"\", \"-\", OFFSET('Raw Data'!M94,Input_Details!$B$29,0))","v":0},{"$f":"IF(OFFSET('Raw Data'!N94,Input_Details!$B$29,0)=\"\", \"-\", OFFSET('Raw Data'!N94,Input_Details!$B$29,0))","v":0},{"$f":"IF(OFFSET('Raw Data'!O94,Input_Details!$B$29,0)=\"\", \"-\", OFFSET('Raw Data'!O94,Input_Details!$B$29,0))","v":0},{"$f":"IF(OFFSET('Raw Data'!P94,Input_Details!$B$29,0)=\"\", \"-\", OFFSET('Raw Data'!P94,Input_Details!$B$29,0))","v":0},{"$f":"IF(OFFSET('Raw Data'!Q94,Input_Details!$B$29,0)=\"\", \"-\", OFFSET('Raw Data'!Q94,Input_Details!$B$29,0))","v":0},{"$f":"IF(OFFSET('Raw Data'!R94,Input_Details!$B$29,0)=\"\", \"-\", OFFSET('Raw Data'!R94,Input_Details!$B$29,0))","v":0},{"$f":"IF(OFFSET('Raw Data'!S94,Input_Details!$B$29,0)=\"\", \"-\", OFFSET('Raw Data'!S94,Input_Details!$B$29,0))","v":0},43,null,{"$f":"IF(OFFSET('Raw Data'!AU94,Input_Details!$B$29,0)=\"\", \"-\", OFFSET('Raw Data'!AU94,Input_Details!$B$29,0))","v":1},{"$f":"IF(OFFSET('Raw Data'!AV94,Input_Details!$B$29,0)=\"\", \"-\", OFFSET('Raw Data'!AV94,Input_Details!$B$29,0))","v":5},{"$f":"IF(OFFSET('Raw Data'!AW94,Input_Details!$B$29,0)=\"\", \"-\", OFFSET('Raw Data'!AW94,Input_Details!$B$29,0))","v":0},{"$f":"IF(OFFSET('Raw Data'!AX94,Input_Details!$B$29,0)=\"\", \"-\", OFFSET('Raw Data'!AX94,Input_Details!$B$29,0))","v":0},{"$f":"IF(OFFSET('Raw Data'!AY94,Input_Details!$B$29,0)=\"\", \"-\", OFFSET('Raw Data'!AY94,Input_Details!$B$29,0))","v":0},{"$f":"IF(OFFSET('Raw Data'!AZ94,Input_Details!$B$29,0)=\"\", \"-\", OFFSET('Raw Data'!AZ94,Input_Details!$B$29,0))","v":0},{"$f":"IF(OFFSET('Raw Data'!BA94,Input_Details!$B$29,0)=\"\", \"-\", OFFSET('Raw Data'!BA94,Input_Details!$B$29,0))","v":0},{"$f":"IF(OFFSET('Raw Data'!BB94,Input_Details!$B$29,0)=\"\", \"-\", OFFSET('Raw Data'!BB94,Input_Details!$B$29,0))","v":0},{"$f":"IF(OFFSET('Raw Data'!BC94,Input_Details!$B$29,0)=\"\", \"-\", OFFSET('Raw Data'!BC94,Input_Details!$B$29,0))","v":0},{"$f":"IF(OFFSET('Raw Data'!BD94,Input_Details!$B$29,0)=\"\", \"-\", OFFSET('Raw Data'!BD94,Input_Details!$B$29,0))","v":0},{"$f":"IF(OFFSET('Raw Data'!BE94,Input_Details!$B$29,0)=\"\", \"-\", OFFSET('Raw Data'!BE94,Input_Details!$B$29,0))","v":0},{"$f":"IF(OFFSET('Raw Data'!BF94,Input_Details!$B$29,0)=\"\", \"-\", OFFSET('Raw Data'!BF94,Input_Details!$B$29,0))","v":0},6,null,7,40,0,0,2,0,0,0,0,0,0,0,49]
[null,"22:45:00",{"$f":"IF(OFFSET('Raw Data'!H95,Input_Details!$B$29,0)=\"\", \"-\", OFFSET('Raw Data'!H95,Input_Details!$B$29,0))","v":4},{"$f":"IF(OFFSET('Raw Data'!I95,Input_Details!$B$29,0)=\"\", \"-\", OFFSET('Raw Data'!I95,Input_Details!$B$29,0))","v":39},{"$f":"IF(OFFSET('Raw Data'!J95,Input_Details!$B$29,0)=\"\", \"-\", OFFSET('Raw Data'!J95,Input_Details!$B$29,0))","v":0},{"$f":"IF(OFFSET('Raw Data'!K95,Input_Details!$B$29,0)=\"\", \"-\", OFFSET('Raw Data'!K95,Input_Details!$B$29,0))","v":1},{"$f":"IF(OFFSET('Raw Data'!L95,Input_Details!$B$29,0)=\"\", \"-\", OFFSET('Raw Data'!L95,Input_Details!$B$29,0))","v":1},{"$f":"IF(OFFSET('Raw Data'!M95,Input_Details!$B$29,0)=\"\", \"-\", OFFSET('Raw Data'!M95,Input_Details!$B$29,0))","v":0},{"$f":"IF(OFFSET('Raw Data'!N95,Input_Details!$B$29,0)=\"\", \"-\", OFFSET('Raw Data'!N95,Input_Details!$B$29,0))","v":0},{"$f":"IF(OFFSET('Raw Data'!O95,Input_Details!$B$29,0)=\"\", \"-\", OFFSET('Raw Data'!O95,Input_Details!$B$29,0))","v":0},{"$f":"IF(OFFSET('Raw Data'!P95,Input_Details!$B$29,0)=\"\", \"-\", OFFSET('Raw Data'!P95,Input_Details!$B$29,0))","v":0},{"$f":"IF(OFFSET('Raw Data'!Q95,Input_Details!$B$29,0)=\"\", \"-\", OFFSET('Raw Data'!Q95,Input_Details!$B$29,0))","v":0},{"$f":"IF(OFFSET('Raw Data'!R95,Input_Details!$B$29,0)=\"\", \"-\", OFFSET('Raw Data'!R95,Input_Details!$B$29,0))","v":0},{"$f":"IF(OFFSET('Raw Data'!S95,Input_Details!$B$29,0)=\"\", \"-\", OFFSET('Raw Data'!S95,Input_Details!$B$29,0))","v":0},45,null,{"$f":"IF(OFFSET('Raw Data'!AU95,Input_Details!$B$29,0)=\"\", \"-\", OFFSET('Raw Data'!AU95,Input_Details!$B$29,0))","v":1},{"$f":"IF(OFFSET('Raw Data'!AV95,Input_Details!$B$29,0)=\"\", \"-\", OFFSET('Raw Data'!AV95,Input_Details!$B$29,0))","v":5},{"$f":"IF(OFFSET('Raw Data'!AW95,Input_Details!$B$29,0)=\"\", \"-\", OFFSET('Raw Data'!AW95,Input_Details!$B$29,0))","v":0},{"$f":"IF(OFFSET('Raw Data'!AX95,Input_Details!$B$29,0)=\"\", \"-\", OFFSET('Raw Data'!AX95,Input_Details!$B$29,0))","v":0},{"$f":"IF(OFFSET('Raw Data'!AY95,Input_Details!$B$29,0)=\"\", \"-\", OFFSET('Raw Data'!AY95,Input_Details!$B$29,0))","v":0},{"$f":"IF(OFFSET('Raw Data'!AZ95,Input_Details!$B$29,0)=\"\", \"-\", OFFSET('Raw Data'!AZ95,Input_Details!$B$29,0))","v":0},{"$f":"IF(OFFSET('Raw Data'!BA95,Input_Details!$B$29,0)=\"\", \"-\", OFFSET('Raw Data'!BA95,Input_Details!$B$29,0))","v":0},{"$f":"IF(OFFSET('Raw Data'!BB95,Input_Details!$B$29,0)=\"\", \"-\", OFFSET('Raw Data'!BB95,Input_Details!$B$29,0))","v":0},{"$f":"IF(OFFSET('Raw Data'!BC95,Input_Details!$B$29,0)=\"\", \"-\", OFFSET('Raw Data'!BC95,Input_Details!$B$29,0))","v":0},{"$f":"IF(OFFSET('Raw Data'!BD95,Input_Details!$B$29,0)=\"\", \"-\", OFFSET('Raw Data'!BD95,Input_Details!$B$29,0))","v":0},{"$f":"IF(OFFSET('Raw Data'!BE95,Input_Details!$B$29,0)=\"\", \"-\", OFFSET('Raw Data'!BE95,Input_Details!$B$29,0))","v":0},{"$f":"IF(OFFSET('Raw Data'!BF95,Input_Details!$B$29,0)=\"\", \"-\", OFFSET('Raw Data'!BF95,Input_Details!$B$29,0))","v":0},6,null,5,44,0,1,1,0,0,0,0,0,0,0,51]
[null,"23:00:00",{"$f":"IF(OFFSET('Raw Data'!H96,Input_Details!$B$29,0)=\"\", \"-\", OFFSET('Raw Data'!H96,Input_Details!$B$29,0))","v":5},{"$f":"IF(OFFSET('Raw Data'!I96,Input_Details!$B$29,0)=\"\", \"-\", OFFSET('Raw Data'!I96,Input_Details!$B$29,0))","v":32},{"$f":"IF(OFFSET('Raw Data'!J96,Input_Details!$B$29,0)=\"\", \"-\", OFFSET('Raw Data'!J96,Input_Details!$B$29,0))","v":0},{"$f":"IF(OFFSET('Raw Data'!K96,Input_Details!$B$29,0)=\"\", \"-\", OFFSET('Raw Data'!K96,Input_Details!$B$29,0))","v":1},{"$f":"IF(OFFSET('Raw Data'!L96,Input_Details!$B$29,0)=\"\", \"-\", OFFSET('Raw Data'!L96,Input_Details!$B$29,0))","v":1},{"$f":"IF(OFFSET('Raw Data'!M96,Input_Details!$B$29,0)=\"\", \"-\", OFFSET('Raw Data'!M96,Input_Details!$B$29,0))","v":0},{"$f":"IF(OFFSET('Raw Data'!N96,Input_Details!$B$29,0)=\"\", \"-\", OFFSET('Raw Data'!N96,Input_Details!$B$29,0))","v":0},{"$f":"IF(OFFSET('Raw Data'!O96,Input_Details!$B$29,0)=\"\", \"-\", OFFSET('Raw Data'!O96,Input_Details!$B$29,0))","v":0},{"$f":"IF(OFFSET('Raw Data'!P96,Input_Details!$B$29,0)=\"\", \"-\", OFFSET('Raw Data'!P96,Input_Details!$B$29,0))","v":0},{"$f":"IF(OFFSET('Raw Data'!Q96,Input_Details!$B$29,0)=\"\", \"-\", OFFSET('Raw Data'!Q96,Input_Details!$B$29,0))","v":0},{"$f":"IF(OFFSET('Raw Data'!R96,Input_Details!$B$29,0)=\"\", \"-\", OFFSET('Raw Data'!R96,Input_Details!$B$29,0))","v":0},{"$f":"IF(OFFSET('Raw Data'!S96,Input_Details!$B$29,0)=\"\", \"-\", OFFSET('Raw Data'!S96,Input_Details!$B$29,0))","v":0},39,null,{"$f":"IF(OFFSET('Raw Data'!AU96,Input_Details!$B$29,0)=\"\", \"-\", OFFSET('Raw Data'!AU96,Input_Details!$B$29,0))","v":0},{"$f":"IF(OFFSET('Raw Data'!AV96,Input_Details!$B$29,0)=\"\", \"-\", OFFSET('Raw Data'!AV96,Input_Details!$B$29,0))","v":6},{"$f":"IF(OFFSET('Raw Data'!AW96,Input_Details!$B$29,0)=\"\", \"-\", OFFSET('Raw Data'!AW96,Input_Details!$B$29,0))","v":0},{"$f":"IF(OFFSET('Raw Data'!AX96,Input_Details!$B$29,0)=\"\", \"-\", OFFSET('Raw Data'!AX96,Input_Details!$B$29,0))","v":0},{"$f":"IF(OFFSET('Raw Data'!AY96,Input_Details!$B$29,0)=\"\", \"-\", OFFSET('Raw Data'!AY96,Input_Details!$B$29,0))","v":0},{"$f":"IF(OFFSET('Raw Data'!AZ96,Input_Details!$B$29,0)=\"\", \"-\", OFFSET('Raw Data'!AZ96,Input_Details!$B$29,0))","v":0},{"$f":"IF(OFFSET('Raw Data'!BA96,Input_Details!$B$29,0)=\"\", \"-\", OFFSET('Raw Data'!BA96,Input_Details!$B$29,0))","v":0},{"$f":"IF(OFFSET('Raw Data'!BB96,Input_Details!$B$29,0)=\"\", \"-\", OFFSET('Raw Data'!BB96,Input_Details!$B$29,0))","v":0},{"$f":"IF(OFFSET('Raw Data'!BC96,Input_Details!$B$29,0)=\"\", \"-\", OFFSET('Raw Data'!BC96,Input_Details!$B$29,0))","v":0},{"$f":"IF(OFFSET('Raw Data'!BD96,Input_Details!$B$29,0)=\"\", \"-\", OFFSET('Raw Data'!BD96,Input_Details!$B$29,0))","v":0},{"$f":"IF(OFFSET('Raw Data'!BE96,Input_Details!$B$29,0)=\"\", \"-\", OFFSET('Raw Data'!BE96,Input_Details!$B$29,0))","v":0},{"$f":"IF(OFFSET('Raw Data'!BF96,Input_Details!$B$29,0)=\"\", \"-\", OFFSET('Raw Data'!BF96,Input_Details!$B$29,0))","v":0},6,null,5,38,0,1,1,0,0,0,0,0,0,0,45]
[null,"23:15:00",{"$f":"IF(OFFSET('Raw Data'!H97,Input_Details!$B$29,0)=\"\", \"-\", OFFSET('Raw Data'!H97,Input_Details!$B$29,0))","v":4},{"$f":"IF(OFFSET('Raw Data'!I97,Input_Details!$B$29,0)=\"\", \"-\", OFFSET('Raw Data'!I97,Input_Details!$B$29,0))","v":33},{"$f":"IF(OFFSET('Raw Data'!J97,Input_Details!$B$29,0)=\"\", \"-\", OFFSET('Raw Data'!J97,Input_Details!$B$29,0))","v":0},{"$f":"IF(OFFSET('Raw Data'!K97,Input_Details!$B$29,0)=\"\", \"-\", OFFSET('Raw Data'!K97,Input_Details!$B$29,0))","v":1},{"$f":"IF(OFFSET('Raw Data'!L97,Input_Details!$B$29,0)=\"\", \"-\", OFFSET('Raw Data'!L97,Input_Details!$B$29,0))","v":1},{"$f":"IF(OFFSET('Raw Data'!M97,Input_Details!$B$29,0)=\"\", \"-\", OFFSET('Raw Data'!M97,Input_Details!$B$29,0))","v":0},{"$f":"IF(OFFSET('Raw Data'!N97,Input_Details!$B$29,0)=\"\", \"-\", OFFSET('Raw Data'!N97,Input_Details!$B$29,0))","v":0},{"$f":"IF(OFFSET('Raw Data'!O97,Input_Details!$B$29,0)=\"\", \"-\", OFFSET('Raw Data'!O97,Input_Details!$B$29,0))","v":0},{"$f":"IF(OFFSET('Raw Data'!P97,Input_Details!$B$29,0)=\"\", \"-\", OFFSET('Raw Data'!P97,Input_Details!$B$29,0))","v":0},{"$f":"IF(OFFSET('Raw Data'!Q97,Input_Details!$B$29,0)=\"\", \"-\", OFFSET('Raw Data'!Q97,Input_Details!$B$29,0))","v":0},{"$f":"IF(OFFSET('Raw Data'!R97,Input_Details!$B$29,0)=\"\", \"-\", OFFSET('Raw Data'!R97,Input_Details!$B$29,0))","v":0},{"$f":"IF(OFFSET('Raw Data'!S97,Input_Details!$B$29,0)=\"\", \"-\", OFFSET('Raw Data'!S97,Input_Details!$B$29,0))","v":0},39,null,{"$f":"IF(OFFSET('Raw Data'!AU97,Input_Details!$B$29,0)=\"\", \"-\", OFFSET('Raw Data'!AU97,Input_Details!$B$29,0))","v":0},{"$f":"IF(OFFSET('Raw Data'!AV97,Input_Details!$B$29,0)=\"\", \"-\", OFFSET('Raw Data'!AV97,Input_Details!$B$29,0))","v":5},{"$f":"IF(OFFSET('Raw Data'!AW97,Input_Details!$B$29,0)=\"\", \"-\", OFFSET('Raw Data'!AW97,Input_Details!$B$29,0))","v":0},{"$f":"IF(OFFSET('Raw Data'!AX97,Input_Details!$B$29,0)=\"\", \"-\", OFFSET('Raw Data'!AX97,Input_Details!$B$29,0))","v":0},{"$f":"IF(OFFSET('Raw Data'!AY97,Input_Details!$B$29,0)=\"\", \"-\", OFFSET('Raw Data'!AY97,Input_Details!$B$29,0))","v":0},{"$f":"IF(OFFSET('Raw Data'!AZ97,Input_Details!$B$29,0)=\"\", \"-\", OFFSET('Raw Data'!AZ97,Input_Details!$B$29,0))","v":0},{"$f":"IF(OFFSET('Raw Data'!BA97,Input_Details!$B$29,0)=\"\", \"-\", OFFSET('Raw Data'!BA97,Input_Details!$B$29,0))","v":0},{"$f":"IF(OFFSET('Raw Data'!BB97,Input_Details!$B$29,0)=\"\", \"-\", OFFSET('Raw Data'!BB97,Input_Details!$B$29,0))","v":0},{"$f":"IF(OFFSET('Raw Data'!BC97,Input_Details!$B$29,0)=\"\", \"-\", OFFSET('Raw Data'!BC97,Input_Details!$B$29,0))","v":0},{"$f":"IF(OFFSET('Raw Data'!BD97,Input_Details!$B$29,0)=\"\", \"-\", OFFSET('Raw Data'!BD97,Input_Details!$B$29,0))","v":0},{"$f":"IF(OFFSET('Raw Data'!BE97,Input_Details!$B$29,0)=\"\", \"-\", OFFSET('Raw Data'!BE97,Input_Details!$B$29,0))","v":0},{"$f":"IF(OFFSET('Raw Data'!BF97,Input_Details!$B$29,0)=\"\", \"-\", OFFSET('Raw Data'!BF97,Input_Details!$B$29,0))","v":0},5,null,4,38,0,1,1,0,0,0,0,0,0,0,44]
[null,"23:30:00",{"$f":"IF(OFFSET('Raw Data'!H98,Input_Details!$B$29,0)=\"\", \"-\", OFFSET('Raw Data'!H98,Input_Details!$B$29,0))","v":4},{"$f":"IF(OFFSET('Raw Data'!I98,Input_Details!$B$29,0)=\"\", \"-\", OFFSET('Raw Data'!I98,Input_Details!$B$29,0))","v":34},{"$f":"IF(OFFSET('Raw Data'!J98,Input_Details!$B$29,0)=\"\", \"-\", OFFSET('Raw Data'!J98,Input_Details!$B$29,0))","v":0},{"$f":"IF(OFFSET('Raw Data'!K98,Input_Details!$B$29,0)=\"\", \"-\", OFFSET('Raw Data'!K98,Input_Details!$B$29,0))","v":1},{"$f":"IF(OFFSET('Raw Data'!L98,Input_Details!$B$29,0)=\"\", \"-\", OFFSET('Raw Data'!L98,Input_Details!$B$29,0))","v":1},{"$f":"IF(OFFSET('Raw Data'!M98,Input_Details!$B$29,0)=\"\", \"-\", OFFSET('Raw Data'!M98,Input_Details!$B$29,0))","v":0},{"$f":"IF(OFFSET('Raw Data'!N98,Input_Details!$B$29,0)=\"\", \"-\", OFFSET('Raw Data'!N98,Input_Details!$B$29,0))","v":0},{"$f":"IF(OFFSET('Raw Data'!O98,Input_Details!$B$29,0)=\"\", \"-\", OFFSET('Raw Data'!O98,Input_Details!$B$29,0))","v":0},{"$f":"IF(OFFSET('Raw Data'!P98,Input_Details!$B$29,0)=\"\", \"-\", OFFSET('Raw Data'!P98,Input_Details!$B$29,0))","v":0},{"$f":"IF(OFFSET('Raw Data'!Q98,Input_Details!$B$29,0)=\"\", \"-\", OFFSET('Raw Data'!Q98,Input_Details!$B$29,0))","v":0},{"$f":"IF(OFFSET('Raw Data'!R98,Input_Details!$B$29,0)=\"\", \"-\", OFFSET('Raw Data'!R98,Input_Details!$B$29,0))","v":0},{"$f":"IF(OFFSET('Raw Data'!S98,Input_Details!$B$29,0)=\"\", \"-\", OFFSET('Raw Data'!S98,Input_Details!$B$29,0))","v":0},40,null,{"$f":"IF(OFFSET('Raw Data'!AU98,Input_Details!$B$29,0)=\"\", \"-\", OFFSET('Raw Data'!AU98,Input_Details!$B$29,0))","v":1},{"$f":"IF(OFFSET('Raw Data'!AV98,Input_Details!$B$29,0)=\"\", \"-\", OFFSET('Raw Data'!AV98,Input_Details!$B$29,0))","v":5},{"$f":"IF(OFFSET('Raw Data'!AW98,Input_Details!$B$29,0)=\"\", \"-\", OFFSET('Raw Data'!AW98,Input_Details!$B$29,0))","v":0},{"$f":"IF(OFFSET('Raw Data'!AX98,Input_Details!$B$29,0)=\"\", \"-\", OFFSET('Raw Data'!AX98,Input_Details!$B$29,0))","v":0},{"$f":"IF(OFFSET('Raw Data'!AY98,Input_Details!$B$29,0)=\"\", \"-\", OFFSET('Raw Data'!AY98,Input_Details!$B$29,0))","v":0},{"$f":"IF(OFFSET('Raw Data'!AZ98,Input_Details!$B$29,0)=\"\", \"-\", OFFSET('Raw Data'!AZ98,Input_Details!$B$29,0))","v":0},{"$f":"IF(OFFSET('Raw Data'!BA98,Input_Details!$B$29,0)=\"\", \"-\", OFFSET('Raw Data'!BA98,Input_Details!$B$29,0))","v":0},{"$f":"IF(OFFSET('Raw Data'!BB98,Input_Details!$B$29,0)=\"\", \"-\", OFFSET('Raw Data'!BB98,Input_Details!$B$29,0))","v":0},{"$f":"IF(OFFSET('Raw Data'!BC98,Input_Details!$B$29,0)=\"\", \"-\", OFFSET('Raw Data'!BC98,Input_Details!$B$29,0))","v":0},{"$f":"IF(OFFSET('Raw Data'!BD98,Input_Details!$B$29,0)=\"\", \"-\", OFFSET('Raw Data'!BD98,Input_Details!$B$29,0))","v":0},{"$f":"IF(OFFSET('Raw Data'!BE98,Input_Details!$B$29,0)=\"\", \"-\", OFFSET('Raw Data'!BE98,Input_Details!$B$29,0))","v":0},{"$f":"IF(OFFSET('Raw Data'!BF98,Input_Details!$B$29,0)=\"\", \"-\", OFFSET('Raw Data'!BF98,Input_Details!$B$29,0))","v":0},6,null,5,39,0,1,1,0,0,0,0,0,0,0,46]
[null,"23:45:00",{"$f":"IF(OFFSET('Raw Data'!H99,Input_Details!$B$29,0)=\"\", \"-\", OFFSET('Raw Data'!H99,Input_Details!$B$29,0))","v":3},{"$f":"IF(OFFSET('Raw Data'!I99,Input_Details!$B$29,0)=\"\", \"-\", OFFSET('Raw Data'!I99,Input_Details!$B$29,0))","v":26},{"$f":"IF(OFFSET('Raw Data'!J99,Input_Details!$B$29,0)=\"\", \"-\", OFFSET('Raw Data'!J99,Input_Details!$B$29,0))","v":0},{"$f":"IF(OFFSET('Raw Data'!K99,Input_Details!$B$29,0)=\"\", \"-\", OFFSET('Raw Data'!K99,Input_Details!$B$29,0))","v":1},{"$f":"IF(OFFSET('Raw Data'!L99,Input_Details!$B$29,0)=\"\", \"-\", OFFSET('Raw Data'!L99,Input_Details!$B$29,0))","v":1},{"$f":"IF(OFFSET('Raw Data'!M99,Input_Details!$B$29,0)=\"\", \"-\", OFFSET('Raw Data'!M99,Input_Details!$B$29,0))","v":0},{"$f":"IF(OFFSET('Raw Data'!N99,Input_Details!$B$29,0)=\"\", \"-\", OFFSET('Raw Data'!N99,Input_Details!$B$29,0))","v":0},{"$f":"IF(OFFSET('Raw Data'!O99,Input_Details!$B$29,0)=\"\", \"-\", OFFSET('Raw Data'!O99,Input_Details!$B$29,0))","v":0},{"$f":"IF(OFFSET('Raw Data'!P99,Input_Details!$B$29,0)=\"\", \"-\", OFFSET('Raw Data'!P99,Input_Details!$B$29,0))","v":0},{"$f":"IF(OFFSET('Raw Data'!Q99,Input_Details!$B$29,0)=\"\", \"-\", OFFSET('Raw Data'!Q99,Input_Details!$B$29,0))","v":0},{"$f":"IF(OFFSET('Raw Data'!R99,Input_Details!$B$29,0)=\"\", \"-\", OFFSET('Raw Data'!R99,Input_Details!$B$29,0))","v":0},{"$f":"IF(OFFSET('Raw Data'!S99,Input_Details!$B$29,0)=\"\", \"-\", OFFSET('Raw Data'!S99,Input_Details!$B$29,0))","v":0},31,null,{"$f":"IF(OFFSET('Raw Data'!AU99,Input_Details!$B$29,0)=\"\", \"-\", OFFSET('Raw Data'!AU99,Input_Details!$B$29,0))","v":1},{"$f":"IF(OFFSET('Raw Data'!AV99,Input_Details!$B$29,0)=\"\", \"-\", OFFSET('Raw Data'!AV99,Input_Details!$B$29,0))","v":5},{"$f":"IF(OFFSET('Raw Data'!AW99,Input_Details!$B$29,0)=\"\", \"-\", OFFSET('Raw Data'!AW99,Input_Details!$B$29,0))","v":0},{"$f":"IF(OFFSET('Raw Data'!AX99,Input_Details!$B$29,0)=\"\", \"-\", OFFSET('Raw Data'!AX99,Input_Details!$B$29,0))","v":0},{"$f":"IF(OFFSET('Raw Data'!AY99,Input_Details!$B$29,0)=\"\", \"-\", OFFSET('Raw Data'!AY99,Input_Details!$B$29,0))","v":0},{"$f":"IF(OFFSET('Raw Data'!AZ99,Input_Details!$B$29,0)=\"\", \"-\", OFFSET('Raw Data'!AZ99,Input_Details!$B$29,0))","v":0},{"$f":"IF(OFFSET('Raw Data'!BA99,Input_Details!$B$29,0)=\"\", \"-\", OFFSET('Raw Data'!BA99,Input_Details!$B$29,0))","v":0},{"$f":"IF(OFFSET('Raw Data'!BB99,Input_Details!$B$29,0)=\"\", \"-\", OFFSET('Raw Data'!BB99,Input_Details!$B$29,0))","v":0},{"$f":"IF(OFFSET('Raw Data'!BC99,Input_Details!$B$29,0)=\"\", \"-\", OFFSET('Raw Data'!BC99,Input_Details!$B$29,0))","v":0},{"$f":"IF(OFFSET('Raw Data'!BD99,Input_Details!$B$29,0)=\"\", \"-\", OFFSET('Raw Data'!BD99,Input_Details!$B$29,0))","v":0},{"$f":"IF(OFFSET('Raw Data'!BE99,Input_Details!$B$29,0)=\"\", \"-\", OFFSET('Raw Data'!BE99,Input_Details!$B$29,0))","v":0},{"$f":"IF(OFFSET('Raw Data'!BF99,Input_Details!$B$29,0)=\"\", \"-\", OFFSET('Raw Data'!BF99,Input_Details!$B$29,0))","v":0},6,null,4,31,0,1,1,0,0,0,0,0,0,0,37]
[null,"Total",{"$f":"SUM(C19:C114)","v":473},3146,25,406,106,22,0,2,0,1,0,0,4181,null,{"$f":"SUM(Q19:Q114)","v":189},506,0,3,15,0,0,0,0,0,0,0,713,null,{"$f":"SUM(AE19:AE114)","v":662},3652,25,409,121,22,0,2,0,1,0,0,4894]
[null,null,null,null,null,null,null," "]
[]
[]
[null,null,null,null,null,null,null,null,null,null,null,null,null,null,null,null,null,null,null,null,null,null,null,null," "]

{"sheet":"Class Key","index":10,"n_rows":22,"n_cols":7,"rows_kept":22,"cut":false,"hidden":false,"merged":[[10,5,12,5],[13,5,15,5],[16,5,21,5],[8,1,8,6]]}
[]
[]
[]
[null,null,null,null,null,null,{"$f":"Input_Details!$I$1&\" - \"&Input_Details!$H$1","v":"3585-LON - Harper Road"}]
[null,null,null,null,null,null,{"$f":"\"prepared for \"&Input_Details!$J$1","v":"prepared for LB of Southwark"}]
[null,null,null,null,null,null,{"$f":"TEXT(MIN('Volume Summary-15min'!$C$14:$I$14), \"dd mmm yyyy\")&\" - \"&TEXT(MAX('Volume Summary-15min'!$C$14:$I$14), \"dd mmm yyyy\")","v":"20 Apr 2017 - 26 Apr 2017"}]
[]
[]
[null,"ARX Classification Scheme"]
[null,"Class No. ","No. Axles","Axle Groups","Description","Aggregate","Vehicle Example"]
[null,1,2,"1 or 2","Very Short - Bicycle or Motorcycle","Light"]
[null,2,2,"1 or 2","Short - Car, 4WD or Light Van"]
[null,3,"3/4/5",3,"Short Towing - Trailer, Caravan etc."]
[null,4,2,2,"2-Axle Truck or Bus","Medium"]
[null,5,3,2,"3-Axle Truck or Bus"]
[null,6,">3",2,"4-Axle Truck"]
[null,7,3,3,"3-Axle Articulated Vehicle or Rigid Vehicle & Trailer","Heavy"]
[null,8,4,">2","4-Axle Articulated Vehicle or Rigid Vehicle & Trailer"]
[null,9,5,">2","5-Axle Articulated Vehicle or Rigid Vehicle & Trailer"]
[null,10,">=6",">2","6 (or more) Axle Articulated Vehicle or Rigid Vehicle & Trailer"]
[null,11,">6",4,"B-Double or Heavy Truck & Trailer"]
[null,12,">6",">=5","Double or Triple Heavy Truck & 2 (or more) Trailers"]

{"sheet":"Speed Summary","index":11,"n_rows":122,"n_cols":33,"rows_kept":122,"cut":false,"hidden":false,"merged":[[19,29,19,30],[23,1,24,1],[23,3,23,22],[1,8,1,10],[2,8,2,10],[3,8,3,10],[5,8,5,9],[7,1,9,13],[23,24,23,27],[19,3,19,22],[19,24,19,27],[23,29,23,30]]}
[]
[]
[null,null,null,null,null,null,null,null,null,null,null,null,null,null,null,null,null,null,null,null,null,null,null,null,null,null,null,null,null,null,null,5,{"$f":"MATCH(AF3,$D$23:$W$23, 0)","v":{"$error":"#N/A"}}]
[null,null,null,null,null,null,null,null,null,null,null,null,null,null,null,null,null,null,null,null,null,null,null,null,null,null,null,null,null,null,{"$f":"Input_Details!$I$1&\" - \"&Input_Details!$H$1","v":"3585-LON - Harper Road"},10,{"$f":"MATCH(AF4,$D$23:$W$23, 0)","v":2}]
[null,null,null,null,null,null,null,null,null,null,null,null,null,null,null,null,null,null,null,null,null,null,null,null,null,null,null,null,null,null,{"$f":"\"prepared for \"&Input_Details!$J$1","v":"prepared for LB of Southwark"},20,4]
[null,null,null,null,null,null,null,null,null,null,null,null,null,null,null,null,null,null,null,null,null,null,null,null,null,null,null,null,null,null,{"$f":"TEXT(MIN('Volume Summary-15min'!$C$14:$I$14), \"dd mmm yyyy\")&\" - \"&TEXT(MAX('Volume Summary-15min'!$C$14:$I$14), \"dd mmm yyyy\")","v":"20 Apr 2017 - 26 Apr 2017"},30,6]
[null,null,null,null,null,null,null,null,null,null,null,null,null,null,null,null,null,null,null,null,null,null,null,null,null,null,null,null,null,null,null,40,8]
[null,{"$f":"\"Speed Summary - \"&TEXT($AC$10, \"dd mmm yyy\")","v":"Speed Summary - 7-Day Average"},null,null,null,null,null,null,null,null,null,null,null,null,null,null,null,null,null,null,null,null,null,null,null,null,null,null,null,null,null,50,10]
[null,null,null,null,null,null,null,null,null,null,null,null,null,null,null,null,null,null,null,null,null,null,null,null,null,null,null,null,null,null,null,60,12]
[null,null,null,null,null,null,null,null,null,null,null,null,null,null,null,null,null,null,null,null,null,null,null,null,null,null,null,null,{"$f":"OFFSET(Input_Details!$Q$3, 0, Input_Details!$B$25-1)","v":"7-Day Average"},null,null,70,14]
[null,null,null,null,null,null,null,null,null,null,null,null,null,null,null,null,null,null,null,null,null,null,null,null,null,null,null,null,null,null,null,80,16]
[null,null,null,null,null,null,null,null,null,null,null,null,null,null,null,null,null,null,null,null,null,null,null,null,null,null,null,null,null,null,null,100,20]
[]
[]
[]
[]
[]
[]
[]
[null,null,null,"Speed Bin Percentage (mph)",null,null,null,null,null,null,null,null,null,null,null,null,null,null,null,null,null,null,null,null,"Daily Speed Averages (mph)",null,null,null,null,"Daily Speeding Total"]
[null,null,null,{"$f":"D25","v":"0-10"},{"$f":"E25","v":"10-15"},"15-20","20-25","25-30","30-35","35-40","40-45","45-50","50-55","55-60","60-65","65-70","70-75","75-80","80-85","85-90","90-95","95-100","100+",null,"Average Speed","85th %ile Speed","Minimum Speed","Maximum Speed",null,"No. Speeding","% Speeding"]
[null,null,null,{"$f":"IFERROR(D122/SUM($D$122:$W$122), \"-\")","v":1.9797979797979797E-2},{"$f":"IFERROR(E122/SUM($D$122:$W$122), \"-\")","v":0.19333333333333333},{"$f":"IFERROR(F122/SUM($D$122:$W$122), \"-\")","v":0.44424242424242422},0.2593939393939394,6.4646464646464646E-2,1.5959595959595958E-2,2.6262626262626263E-3,0,0,0,0,0,0,0,0,0,0,0,0,0,null,{"$f":"Y122","v":18.744612830431734},{"$f":"Z122","v":21.303072916666654},{"$f":"AA122","v":7.4473684210526292},{"$f":"AB122","v":37.318749999999987},null,{"$f":"AD122","v":1696},{"$f":"AE122","v":0.34262626262626261}]
[null,null,null,{"$f":"IFERROR(VALUE(LEFT(D25, FIND(\"-\", D25)-1)),VALUE(LEFT(D25,3)))","v":0},{"$f":"IFERROR(VALUE(LEFT(E25, FIND(\"-\", E25)-1)),VALUE(LEFT(E25,3)))","v":10},15,20,25,30,35,40,45,50,55,60,65,70,75,80,85,90,95,100]
[null,"Time Period",null,"Speed Bin Volumes (mph)",null,null,null,null,null,null,null,null,null,null,null,null,null,null,null,null,null,null,null,null,"Speed Statistics (mph)",null,null,null,null,"Speed Statistics"]
[null,null,null,{"$f":"'Raw Data'!T3","v":"0-10"},{"$f":"'Raw Data'!U3","v":"10-15"},{"$f":"'Raw Data'!V3","v":"15-20"},{"$f":"'Raw Data'!W3","v":"20-25"},{"$f":"'Raw Data'!X3","v":"25-30"},{"$f":"'Raw Data'!Y3","v":"30-35"},{"$f":"'Raw Data'!Z3","v":"35-40"},{"$f":"'Raw Data'!AA3","v":"40-45"},{"$f":"'Raw Data'!AB3","v":"45-50"},{"$f":"'Raw Data'!AC3","v":"50-55"},{"$f":"'Raw Data'!AD3","v":"55-60"},{"$f":"'Raw Data'!AE3","v":"60-65"},{"$f":"'Raw Data'!AF3","v":"65-70"},{"$f":"'Raw Data'!AG3","v":"70-75"},{"$f":"'Raw Data'!AH3","v":"75-80"},{"$f":"'Raw Data'!AI3","v":"80-85"},{"$f":"'Raw Data'!AJ3","v":"85-90"},{"$f":"'Raw Data'!AK3","v":"90-95"},{"$f":"'Raw Data'!AL3","v":"95-100"},{"$f":"'Raw Data'!AM3","v":"100+"},null,"Average Speed","85th%ile Speed","Minimum Speed","Maximum Speed",null,"No. Speeding","(%) Speeding"]
[null,"00:00:00",null,{"$f":"IF(OFFSET('Raw Data'!T4,Input_Details!$B$34,Input_Details!$B$32)=\"\", \"-\", OFFSET('Raw Data'!T4,Input_Details!$B$34,Input_Details!$B$32))","v":1},{"$f":"IF(OFFSET('Raw Data'!U4,Input_Details!$B$34,Input_Details!$B$32)=\"\", \"-\", OFFSET('Raw Data'!U4,Input_Details!$B$34,Input_Details!$B$32))","v":12},{"$f":"IF(OFFSET('Raw Data'!V4,Input_Details!$B$34,Input_Details!$B$32)=\"\", \"-\", OFFSET('Raw Data'!V4,Input_Details!$B$34,Input_Details!$B$32))","v":19},{"$f":"IF(OFFSET('Raw Data'!W4,Input_Details!$B$34,Input_Details!$B$32)=\"\", \"-\", OFFSET('Raw Data'!W4,Input_Details!$B$34,Input_Details!$B$32))","v":6},{"$f":"IF(OFFSET('Raw Data'!X4,Input_Details!$B$34,Input_Details!$B$32)=\"\", \"-\", OFFSET('Raw Data'!X4,Input_Details!$B$34,Input_Details!$B$32))","v":1},{"$f":"IF(OFFSET('Raw Data'!Y4,Input_Details!$B$34,Input_Details!$B$32)=\"\", \"-\", OFFSET('Raw Data'!Y4,Input_Details!$B$34,Input_Details!$B$32))","v":0},{"$f":"IF(OFFSET('Raw Data'!Z4,Input_Details!$B$34,Input_Details!$B$32)=\"\", \"-\", OFFSET('Raw Data'!Z4,Input_Details!$B$34,Input_Details!$B$32))","v":0},{"$f":"IF(OFFSET('Raw Data'!AA4,Input_Details!$B$34,Input_Details!$B$32)=\"\", \"-\", OFFSET('Raw Data'!AA4,Input_Details!$B$34,Input_Details!$B$32))","v":0},{"$f":"IF(OFFSET('Raw Data'!AB4,Input_Details!$B$34,Input_Details!$B$32)=\"\", \"-\", OFFSET('Raw Data'!AB4,Input_Details!$B$34,Input_Details!$B$32))","v":0},{"$f":"IF(OFFSET('Raw Data'!AC4,Input_Details!$B$34,Input_Details!$B$32)=\"\", \"-\", OFFSET('Raw Data'!AC4,Input_Details!$B$34,Input_Details!$B$32))","v":0},{"$f":"IF(OFFSET('Raw Data'!AD4,Input_Details!$B$34,Input_Details!$B$32)=\"\", \"-\", OFFSET('Raw Data'!AD4,Input_Details!$B$34,Input_Details!$B$32))","v":0},{"$f":"IF(OFFSET('Raw Data'!AE4,Input_Details!$B$34,Input_Details!$B$32)=\"\", \"-\", OFFSET('Raw Data'!AE4,Input_Details!$B$34,Input_Details!$B$32))","v":0},{"$f":"IF(OFFSET('Raw Data'!AF4,Input_Details!$B$34,Input_Details!$B$32)=\"\", \"-\", OFFSET('Raw Data'!AF4,Input_Details!$B$34,Input_Details!$B$32))","v":0},{"$f":"IF(OFFSET('Raw Data'!AG4,Input_Details!$B$34,Input_Details!$B$32)=\"\", \"-\", OFFSET('Raw Data'!AG4,Input_Details!$B$34,Input_Details!$B$32))","v":0},{"$f":"IF(OFFSET('Raw Data'!AH4,Input_Details!$B$34,Input_Details!$B$32)=\"\", \"-\", OFFSET('Raw Data'!AH4,Input_Details!$B$34,Input_Details!$B$32))","v":0},{"$f":"IF(OFFSET('Raw Data'!AI4,Input_Details!$B$34,Input_Details!$B$32)=\"\", \"-\", OFFSET('Raw Data'!AI4,Input_Details!$B$34,Input_Details!$B$32))","v":0},{"$f":"IF(OFFSET('Raw Data'!AJ4,Input_Details!$B$34,Input_Details!$B$32)=\"\", \"-\", OFFSET('Raw Data'!AJ4,Input_Details!$B$34,Input_Details!$B$32))","v":0},{"$f":"IF(OFFSET('Raw Data'!AK4,Input_Details!$B$34,Input_Details!$B$32)=\"\", \"-\", OFFSET('Raw Data'!AK4,Input_Details!$B$34,Input_Details!$B$32))","v":0},{"$f":"IF(OFFSET('Raw Data'!AL4,Input_Details!$B$34,Input_Details!$B$32)=\"\", \"-\", OFFSET('Raw Data'!AL4,Input_Details!$B$34,Input_Details!$B$32))","v":0},{"$f":"IF(OFFSET('Raw Data'!AM4,Input_Details!$B$34,Input_Details!$B$32)=\"\", \"-\", OFFSET('Raw Data'!AM4,Input_Details!$B$34,Input_Details!$B$32))","v":0},null,{"$f":"IF(D26=\"-\",\"-\",OFFSET('Raw Data'!AN4,Input_Details!$B$34,Input_Details!$B$32))","v":17.263706563706563},{"$f":"IF(OFFSET('Raw Data'!AO4,Input_Details!$B$34,Input_Details!$B$32)=\"\", \"-\", OFFSET('Raw Data'!AO4,Input_Details!$B$34,Input_Details!$B$32))","v":20.099999999999998},{"$f":"IF(OFFSET('Raw Data'!AP4,Input_Details!$B$34,Input_Details!$B$32)=\"\", \"-\", OFFSET('Raw Data'!AP4,Input_Details!$B$34,Input_Details!$B$32))","v":8.8000000000000007},{"$f":"IF(OFFSET('Raw Data'!AQ4,Input_Details!$B$34,Input_Details!$B$32)=\"\", \"-\", OFFSET('Raw Data'!AQ4,Input_Details!$B$34,Input_Details!$B$32))","v":32.700000000000003},null,{"$f":"IF(Y26=\"-\", \"-\", SUM(OFFSET(D26,0,VLOOKUP(Input_Details!$N$3, $AF$3:$AG$12, 2,0)-1):W26))","v":7},{"$f":"IFERROR(AD26/SUM(D26:W26), \"-\")","v":0.17948717948717949}]
[null,"00:15:00",null,{"$f":"IF(OFFSET('Raw Data'!T5,Input_Details!$B$34,Input_Details!$B$32)=\"\", \"-\", OFFSET('Raw Data'!T5,Input_Details!$B$34,Input_Details!$B$32))","v":1},{"$f":"IF(OFFSET('Raw Data'!U5,Input_Details!$B$34,Input_Details!$B$32)=\"\", \"-\", OFFSET('Raw Data'!U5,Input_Details!$B$34,Input_Details!$B$32))","v":7},{"$f":"IF(OFFSET('Raw Data'!V5,Input_Details!$B$34,Input_Details!$B$32)=\"\", \"-\", OFFSET('Raw Data'!V5,Input_Details!$B$34,Input_Details!$B$32))","v":17},{"$f":"IF(OFFSET('Raw Data'!W5,Input_Details!$B$34,Input_Details!$B$32)=\"\", \"-\", OFFSET('Raw Data'!W5,Input_Details!$B$34,Input_Details!$B$32))","v":6},{"$f":"IF(OFFSET('Raw Data'!X5,Input_Details!$B$34,Input_Details!$B$32)=\"\", \"-\", OFFSET('Raw Data'!X5,Input_Details!$B$34,Input_Details!$B$32))","v":1},{"$f":"IF(OFFSET('Raw Data'!Y5,Input_Details!$B$34,Input_Details!$B$32)=\"\", \"-\", OFFSET('Raw Data'!Y5,Input_Details!$B$34,Input_Details!$B$32))","v":0},{"$f":"IF(OFFSET('Raw Data'!Z5,Input_Details!$B$34,Input_Details!$B$32)=\"\", \"-\", OFFSET('Raw Data'!Z5,Input_Details!$B$34,Input_Details!$B$32))","v":0},{"$f":"IF(OFFSET('Raw Data'!AA5,Input_Details!$B$34,Input_Details!$B$32)=\"\", \"-\", OFFSET('Raw Data'!AA5,Input_Details!$B$34,Input_Details!$B$32))","v":0},{"$f":"IF(OFFSET('Raw Data'!AB5,Input_Details!$B$34,Input_Details!$B$32)=\"\", \"-\", OFFSET('Raw Data'!AB5,Input_Details!$B$34,Input_Details!$B$32))","v":0},{"$f":"IF(OFFSET('Raw Data'!AC5,Input_Details!$B$34,Input_Details!$B$32)=\"\", \"-\", OFFSET('Raw Data'!AC5,Input_Details!$B$34,Input_Details!$B$32))","v":0},{"$f":"IF(OFFSET('Raw Data'!AD5,Input_Details!$B$34,Input_Details!$B$32)=\"\", \"-\", OFFSET('Raw Data'!AD5,Input_Details!$B$34,Input_Details!$B$32))","v":0},{"$f":"IF(OFFSET('Raw Data'!AE5,Input_Details!$B$34,Input_Details!$B$32)=\"\", \"-\", OFFSET('Raw Data'!AE5,Input_Details!$B$34,Input_Details!$B$32))","v":0},{"$f":"IF(OFFSET('Raw Data'!AF5,Input_Details!$B$34,Input_Details!$B$32)=\"\", \"-\", OFFSET('Raw Data'!AF5,Input_Details!$B$34,Input_Details!$B$32))","v":0},{"$f":"IF(OFFSET('Raw Data'!AG5,Input_Details!$B$34,Input_Details!$B$32)=\"\", \"-\", OFFSET('Raw Data'!AG5,Input_Details!$B$34,Input_Details!$B$32))","v":0},{"$f":"IF(OFFSET('Raw Data'!AH5,Input_Details!$B$34,Input_Details!$B$32)=\"\", \"-\", OFFSET('Raw Data'!AH5,Input_Details!$B$34,Input_Details!$B$32))","v":0},{"$f":"IF(OFFSET('Raw Data'!AI5,Input_Details!$B$34,Input_Details!$B$32)=\"\", \"-\", OFFSET('Raw Data'!AI5,Input_Details!$B$34,Input_Details!$B$32))","v":0},{"$f":"IF(OFFSET('Raw Data'!AJ5,Input_Details!$B$34,Input_Details!$B$32)=\"\", \"-\", OFFSET('Raw Data'!AJ5,Input_Details!$B$34,Input_Details!$B$32))","v":0},{"$f":"IF(OFFSET('Raw Data'!AK5,Input_Details!$B$34,Input_Details!$B$32)=\"\", \"-\", OFFSET('Raw Data'!AK5,Input_Details!$B$34,Input_Details!$B$32))","v":0},{"$f":"IF(OFFSET('Raw Data'!AL5,Input_Details!$B$34,Input_Details!$B$32)=\"\", \"-\", OFFSET('Raw Data'!AL5,Input_Details!$B$34,Input_Details!$B$32))","v":0},{"$f":"IF(OFFSET('Raw Data'!AM5,Input_Details!$B$34,Input_Details!$B$32)=\"\", \"-\", OFFSET('Raw Data'!AM5,Input_Details!$B$34,Input_Details!$B$32))","v":0},null,{"$f":"IF(D27=\"-\",\"-\",OFFSET('Raw Data'!AN5,Input_Details!$B$34,Input_Details!$B$32))","v":17.674193548387095},{"$f":"IF(OFFSET('Raw Data'!AO5,Input_Details!$B$34,Input_Details!$B$32)=\"\", \"-\", OFFSET('Raw Data'!AO5,Input_Details!$B$34,Input_Details!$B$32))","v":20.528571428571428},{"$f":"IF(OFFSET('Raw Data'!AP5,Input_Details!$B$34,Input_Details!$B$32)=\"\", \"-\", OFFSET('Raw Data'!AP5,Input_Details!$B$34,Input_Details!$B$32))","v":7.2},{"$f":"IF(OFFSET('Raw Data'!AQ5,Input_Details!$B$34,Input_Details!$B$32)=\"\", \"-\", OFFSET('Raw Data'!AQ5,Input_Details!$B$34,Input_Details!$B$32))","v":39.1},null,{"$f":"IF(Y27=\"-\", \"-\", SUM(OFFSET(D27,0,VLOOKUP(Input_Details!$N$3, $AF$3:$AG$12, 2,0)-1):W27))","v":7},{"$f":"IFERROR(AD27/SUM(D27:W27), \"-\")","v":0.21875}]
[null,"00:30:00",null,{"$f":"IF(OFFSET('Raw Data'!T6,Input_Details!$B$34,Input_Details!$B$32)=\"\", \"-\", OFFSET('Raw Data'!T6,Input_Details!$B$34,Input_Details!$B$32))","v":1},{"$f":"IF(OFFSET('Raw Data'!U6,Input_Details!$B$34,Input_Details!$B$32)=\"\", \"-\", OFFSET('Raw Data'!U6,Input_Details!$B$34,Input_Details!$B$32))","v":6},{"$f":"IF(OFFSET('Raw Data'!V6,Input_Details!$B$34,Input_Details!$B$32)=\"\", \"-\", OFFSET('Raw Data'!V6,Input_Details!$B$34,Input_Details!$B$32))","v":18},{"$f":"IF(OFFSET('Raw Data'!W6,Input_Details!$B$34,Input_Details!$B$32)=\"\", \"-\", OFFSET('Raw Data'!W6,Input_Details!$B$34,Input_Details!$B$32))","v":4},{"$f":"IF(OFFSET('Raw Data'!X6,Input_Details!$B$34,Input_Details!$B$32)=\"\", \"-\", OFFSET('Raw Data'!X6,Input_Details!$B$34,Input_Details!$B$32))","v":1},{"$f":"IF(OFFSET('Raw Data'!Y6,Input_Details!$B$34,Input_Details!$B$32)=\"\", \"-\", OFFSET('Raw Data'!Y6,Input_Details!$B$34,Input_Details!$B$32))","v":0},{"$f":"IF(OFFSET('Raw Data'!Z6,Input_Details!$B$34,Input_Details!$B$32)=\"\", \"-\", OFFSET('Raw Data'!Z6,Input_Details!$B$34,Input_Details!$B$32))","v":0},{"$f":"IF(OFFSET('Raw Data'!AA6,Input_Details!$B$34,Input_Details!$B$32)=\"\", \"-\", OFFSET('Raw Data'!AA6,Input_Details!$B$34,Input_Details!$B$32))","v":0},{"$f":"IF(OFFSET('Raw Data'!AB6,Input_Details!$B$34,Input_Details!$B$32)=\"\", \"-\", OFFSET('Raw Data'!AB6,Input_Details!$B$34,Input_Details!$B$32))","v":0},{"$f":"IF(OFFSET('Raw Data'!AC6,Input_Details!$B$34,Input_Details!$B$32)=\"\", \"-\", OFFSET('Raw Data'!AC6,Input_Details!$B$34,Input_Details!$B$32))","v":0},{"$f":"IF(OFFSET('Raw Data'!AD6,Input_Details!$B$34,Input_Details!$B$32)=\"\", \"-\", OFFSET('Raw Data'!AD6,Input_Details!$B$34,Input_Details!$B$32))","v":0},{"$f":"IF(OFFSET('Raw Data'!AE6,Input_Details!$B$34,Input_Details!$B$32)=\"\", \"-\", OFFSET('Raw Data'!AE6,Input_Details!$B$34,Input_Details!$B$32))","v":0},{"$f":"IF(OFFSET('Raw Data'!AF6,Input_Details!$B$34,Input_Details!$B$32)=\"\", \"-\", OFFSET('Raw Data'!AF6,Input_Details!$B$34,Input_Details!$B$32))","v":0},{"$f":"IF(OFFSET('Raw Data'!AG6,Input_Details!$B$34,Input_Details!$B$32)=\"\", \"-\", OFFSET('Raw Data'!AG6,Input_Details!$B$34,Input_Details!$B$32))","v":0},{"$f":"IF(OFFSET('Raw Data'!AH6,Input_Details!$B$34,Input_Details!$B$32)=\"\", \"-\", OFFSET('Raw Data'!AH6,Input_Details!$B$34,Input_Details!$B$32))","v":0},{"$f":"IF(OFFSET('Raw Data'!AI6,Input_Details!$B$34,Input_Details!$B$32)=\"\", \"-\", OFFSET('Raw Data'!AI6,Input_Details!$B$34,Input_Details!$B$32))","v":0},{"$f":"IF(OFFSET('Raw Data'!AJ6,Input_Details!$B$34,Input_Details!$B$32)=\"\", \"-\", OFFSET('Raw Data'!AJ6,Input_Details!$B$34,Input_Details!$B$32))","v":0},{"$f":"IF(OFFSET('Raw Data'!AK6,Input_Details!$B$34,Input_Details!$B$32)=\"\", \"-\", OFFSET('Raw Data'!AK6,Input_Details!$B$34,Input_Details!$B$32))","v":0},{"$f":"IF(OFFSET('Raw Data'!AL6,Input_Details!$B$34,Input_Details!$B$32)=\"\", \"-\", OFFSET('Raw Data'!AL6,Input_Details!$B$34,Input_Details!$B$32))","v":0},{"$f":"IF(OFFSET('Raw Data'!AM6,Input_Details!$B$34,Input_Details!$B$32)=\"\", \"-\", OFFSET('Raw Data'!AM6,Input_Details!$B$34,Input_Details!$B$32))","v":0},null,{"$f":"IF(D28=\"-\",\"-\",OFFSET('Raw Data'!AN6,Input_Details!$B$34,Input_Details!$B$32))","v":17.99723502304148},{"$f":"IF(OFFSET('Raw Data'!AO6,Input_Details!$B$34,Input_Details!$B$32)=\"\", \"-\", OFFSET('Raw Data'!AO6,Input_Details!$B$34,Input_Details!$B$32))","v":20.585714285714285},{"$f":"IF(OFFSET('Raw Data'!AP6,Input_Details!$B$34,Input_Details!$B$32)=\"\", \"-\", OFFSET('Raw Data'!AP6,Input_Details!$B$34,Input_Details!$B$32))","v":7.9},{"$f":"IF(OFFSET('Raw Data'!AQ6,Input_Details!$B$34,Input_Details!$B$32)=\"\", \"-\", OFFSET('Raw Data'!AQ6,Input_Details!$B$34,Input_Details!$B$32))","v":41.1},null,{"$f":"IF(Y28=\"-\", \"-\", SUM(OFFSET(D28,0,VLOOKUP(Input_Details!$N$3, $AF$3:$AG$12, 2,0)-1):W28))","v":5},0.16666666666666666]
[null,"00:45:00",null,{"$f":"IF(OFFSET('Raw Data'!T7,Input_Details!$B$34,Input_Details!$B$32)=\"\", \"-\", OFFSET('Raw Data'!T7,Input_Details!$B$34,Input_Details!$B$32))","v":0},{"$f":"IF(OFFSET('Raw Data'!U7,Input_Details!$B$34,Input_Details!$B$32)=\"\", \"-\", OFFSET('Raw Data'!U7,Input_Details!$B$34,Input_Details!$B$32))","v":6},{"$f":"IF(OFFSET('Raw Data'!V7,Input_Details!$B$34,Input_Details!$B$32)=\"\", \"-\", OFFSET('Raw Data'!V7,Input_Details!$B$34,Input_Details!$B$32))","v":19},{"$f":"IF(OFFSET('Raw Data'!W7,Input_Details!$B$34,Input_Details!$B$32)=\"\", \"-\", OFFSET('Raw Data'!W7,Input_Details!$B$34,Input_Details!$B$32))","v":6},{"$f":"IF(OFFSET('Raw Data'!X7,Input_Details!$B$34,Input_Details!$B$32)=\"\", \"-\", OFFSET('Raw Data'!X7,Input_Details!$B$34,Input_Details!$B$32))","v":1},{"$f":"IF(OFFSET('Raw Data'!Y7,Input_Details!$B$34,Input_Details!$B$32)=\"\", \"-\", OFFSET('Raw Data'!Y7,Input_Details!$B$34,Input_Details!$B$32))","v":0},{"$f":"IF(OFFSET('Raw Data'!Z7,Input_Details!$B$34,Input_Details!$B$32)=\"\", \"-\", OFFSET('Raw Data'!Z7,Input_Details!$B$34,Input_Details!$B$32))","v":0},{"$f":"IF(OFFSET('Raw Data'!AA7,Input_Details!$B$34,Input_Details!$B$32)=\"\", \"-\", OFFSET('Raw Data'!AA7,Input_Details!$B$34,Input_Details!$B$32))","v":0},{"$f":"IF(OFFSET('Raw Data'!AB7,Input_Details!$B$34,Input_Details!$B$32)=\"\", \"-\", OFFSET('Raw Data'!AB7,Input_Details!$B$34,Input_Details!$B$32))","v":0},{"$f":"IF(OFFSET('Raw Data'!AC7,Input_Details!$B$34,Input_Details!$B$32)=\"\", \"-\", OFFSET('Raw Data'!AC7,Input_Details!$B$34,Input_Details!$B$32))","v":0},{"$f":"IF(OFFSET('Raw Data'!AD7,Input_Details!$B$34,Input_Details!$B$32)=\"\", \"-\", OFFSET('Raw Data'!AD7,Input_Details!$B$34,Input_Details!$B$32))","v":0},{"$f":"IF(OFFSET('Raw Data'!AE7,Input_Details!$B$34,Input_Details!$B$32)=\"\", \"-\", OFFSET('Raw Data'!AE7,Input_Details!$B$34,Input_Details!$B$32))","v":0},{"$f":"IF(OFFSET('Raw Data'!AF7,Input_Details!$B$34,Input_Details!$B$32)=\"\", \"-\", OFFSET('Raw Data'!AF7,Input_Details!$B$34,Input_Details!$B$32))","v":0},{"$f":"IF(OFFSET('Raw Data'!AG7,Input_Details!$B$34,Input_Details!$B$32)=\"\", \"-\", OFFSET('Raw Data'!AG7,Input_Details!$B$34,Input_Details!$B$32))","v":0},{"$f":"IF(OFFSET('Raw Data'!AH7,Input_Details!$B$34,Input_Details!$B$32)=\"\", \"-\", OFFSET('Raw Data'!AH7,Input_Details!$B$34,Input_Details!$B$32))","v":0},{"$f":"IF(OFFSET('Raw Data'!AI7,Input_Details!$B$34,Input_Details!$B$32)=\"\", \"-\", OFFSET('Raw Data'!AI7,Input_Details!$B$34,Input_Details!$B$32))","v":0},{"$f":"IF(OFFSET('Raw Data'!AJ7,Input_Details!$B$34,Input_Details!$B$32)=\"\", \"-\", OFFSET('Raw Data'!AJ7,Input_Details!$B$34,Input_Details!$B$32))","v":0},{"$f":"IF(OFFSET('Raw Data'!AK7,Input_Details!$B$34,Input_Details!$B$32)=\"\", \"-\", OFFSET('Raw Data'!AK7,Input_Details!$B$34,Input_Details!$B$32))","v":0},{"$f":"IF(OFFSET('Raw Data'!AL7,Input_Details!$B$34,Input_Details!$B$32)=\"\", \"-\", OFFSET('Raw Data'!AL7,Input_Details!$B$34,Input_Details!$B$32))","v":0},{"$f":"IF(OFFSET('Raw Data'!AM7,Input_Details!$B$34,Input_Details!$B$32)=\"\", \"-\", OFFSET('Raw Data'!AM7,Input_Details!$B$34,Input_Details!$B$32))","v":0},null,{"$f":"IF(D29=\"-\",\"-\",OFFSET('Raw Data'!AN7,Input_Details!$B$34,Input_Details!$B$32))","v":18.089285714285712},{"$f":"IF(OFFSET('Raw Data'!AO7,Input_Details!$B$34,Input_Details!$B$32)=\"\", \"-\", OFFSET('Raw Data'!AO7,Input_Details!$B$34,Input_Details!$B$32))","v":21.12857142857143},{"$f":"IF(OFFSET('Raw Data'!AP7,Input_Details!$B$34,Input_Details!$B$32)=\"\", \"-\", OFFSET('Raw Data'!AP7,Input_Details!$B$34,Input_Details!$B$32))","v":9.8000000000000007},{"$f":"IF(OFFSET('Raw Data'!AQ7,Input_Details!$B$34,Input_Details!$B$32)=\"\", \"-\", OFFSET('Raw Data'!AQ7,Input_Details!$B$34,Input_Details!$B$32))","v":43.3},null,{"$f":"IF(Y29=\"-\", \"-\", SUM(OFFSET(D29,0,VLOOKUP(Input_Details!$N$3, $AF$3:$AG$12, 2,0)-1):W29))","v":7},0.21875]
[null,"01:00:00",null,{"$f":"IF(OFFSET('Raw Data'!T8,Input_Details!$B$34,Input_Details!$B$32)=\"\", \"-\", OFFSET('Raw Data'!T8,Input_Details!$B$34,Input_Details!$B$32))","v":0},{"$f":"IF(OFFSET('Raw Data'!U8,Input_Details!$B$34,Input_Details!$B$32)=\"\", \"-\", OFFSET('Raw Data'!U8,Input_Details!$B$34,Input_Details!$B$32))","v":3},{"$f":"IF(OFFSET('Raw Data'!V8,Input_Details!$B$34,Input_Details!$B$32)=\"\", \"-\", OFFSET('Raw Data'!V8,Input_Details!$B$34,Input_Details!$B$32))","v":13},{"$f":"IF(OFFSET('Raw Data'!W8,Input_Details!$B$34,Input_Details!$B$32)=\"\", \"-\", OFFSET('Raw Data'!W8,Input_Details!$B$34,Input_Details!$B$32))","v":5},{"$f":"IF(OFFSET('Raw Data'!X8,Input_Details!$B$34,Input_Details!$B$32)=\"\", \"-\", OFFSET('Raw Data'!X8,Input_Details!$B$34,Input_Details!$B$32))","v":1},{"$f":"IF(OFFSET('Raw Data'!Y8,Input_Details!$B$34,Input_Details!$B$32)=\"\", \"-\", OFFSET('Raw Data'!Y8,Input_Details!$B$34,Input_Details!$B$32))","v":0},{"$f":"IF(OFFSET('Raw Data'!Z8,Input_Details!$B$34,Input_Details!$B$32)=\"\", \"-\", OFFSET('Raw Data'!Z8,Input_Details!$B$34,Input_Details!$B$32))","v":0},{"$f":"IF(OFFSET('Raw Data'!AA8,Input_Details!$B$34,Input_Details!$B$32)=\"\", \"-\", OFFSET('Raw Data'!AA8,Input_Details!$B$34,Input_Details!$B$32))","v":0},{"$f":"IF(OFFSET('Raw Data'!AB8,Input_Details!$B$34,Input_Details!$B$32)=\"\", \"-\", OFFSET('Raw Data'!AB8,Input_Details!$B$34,Input_Details!$B$32))","v":0},{"$f":"IF(OFFSET('Raw Data'!AC8,Input_Details!$B$34,Input_Details!$B$32)=\"\", \"-\", OFFSET('Raw Data'!AC8,Input_Details!$B$34,Input_Details!$B$32))","v":0},{"$f":"IF(OFFSET('Raw Data'!AD8,Input_Details!$B$34,Input_Details!$B$32)=\"\", \"-\", OFFSET('Raw Data'!AD8,Input_Details!$B$34,Input_Details!$B$32))","v":0},{"$f":"IF(OFFSET('Raw Data'!AE8,Input_Details!$B$34,Input_Details!$B$32)=\"\", \"-\", OFFSET('Raw Data'!AE8,Input_Details!$B$34,Input_Details!$B$32))","v":0},{"$f":"IF(OFFSET('Raw Data'!AF8,Input_Details!$B$34,Input_Details!$B$32)=\"\", \"-\", OFFSET('Raw Data'!AF8,Input_Details!$B$34,Input_Details!$B$32))","v":0},{"$f":"IF(OFFSET('Raw Data'!AG8,Input_Details!$B$34,Input_Details!$B$32)=\"\", \"-\", OFFSET('Raw Data'!AG8,Input_Details!$B$34,Input_Details!$B$32))","v":0},{"$f":"IF(OFFSET('Raw Data'!AH8,Input_Details!$B$34,Input_Details!$B$32)=\"\", \"-\", OFFSET('Raw Data'!AH8,Input_Details!$B$34,Input_Details!$B$32))","v":0},{"$f":"IF(OFFSET('Raw Data'!AI8,Input_Details!$B$34,Input_Details!$B$32)=\"\", \"-\", OFFSET('Raw Data'!AI8,Input_Details!$B$34,Input_Details!$B$32))","v":0},{"$f":"IF(OFFSET('Raw Data'!AJ8,Input_Details!$B$34,Input_Details!$B$32)=\"\", \"-\", OFFSET('Raw Data'!AJ8,Input_Details!$B$34,Input_Details!$B$32))","v":0},{"$f":"IF(OFFSET('Raw Data'!AK8,Input_Details!$B$34,Input_Details!$B$32)=\"\", \"-\", OFFSET('Raw Data'!AK8,Input_Details!$B$34,Input_Details!$B$32))","v":0},{"$f":"IF(OFFSET('Raw Data'!AL8,Input_Details!$B$34,Input_Details!$B$32)=\"\", \"-\", OFFSET('Raw Data'!AL8,Input_Details!$B$34,Input_Details!$B$32))","v":0},{"$f":"IF(OFFSET('Raw Data'!AM8,Input_Details!$B$34,Input_Details!$B$32)=\"\", \"-\", OFFSET('Raw Data'!AM8,Input_Details!$B$34,Input_Details!$B$32))","v":0},null,{"$f":"IF(D30=\"-\",\"-\",OFFSET('Raw Data'!AN8,Input_Details!$B$34,Input_Details!$B$32))","v":18.754037267080747},{"$f":"IF(OFFSET('Raw Data'!AO8,Input_Details!$B$34,Input_Details!$B$32)=\"\", \"-\", OFFSET('Raw Data'!AO8,Input_Details!$B$34,Input_Details!$B$32))","v":21.571428571428573},{"$f":"IF(OFFSET('Raw Data'!AP8,Input_Details!$B$34,Input_Details!$B$32)=\"\", \"-\", OFFSET('Raw Data'!AP8,Input_Details!$B$34,Input_Details!$B$32))","v":8.9},{"$f":"IF(OFFSET('Raw Data'!AQ8,Input_Details!$B$34,Input_Details!$B$32)=\"\", \"-\", OFFSET('Raw Data'!AQ8,Input_Details!$B$34,Input_Details!$B$32))","v":34.200000000000003},null,{"$f":"IF(Y30=\"-\", \"-\", SUM(OFFSET(D30,0,VLOOKUP(Input_Details!$N$3, $AF$3:$AG$12, 2,0)-1):W30))","v":6},0.27272727272727271]
[null,"01:15:00",null,{"$f":"IF(OFFSET('Raw Data'!T9,Input_Details!$B$34,Input_Details!$B$32)=\"\", \"-\", OFFSET('Raw Data'!T9,Input_Details!$B$34,Input_Details!$B$32))","v":0},{"$f":"IF(OFFSET('Raw Data'!U9,Input_Details!$B$34,Input_Details!$B$32)=\"\", \"-\", OFFSET('Raw Data'!U9,Input_Details!$B$34,Input_Details!$B$32))","v":5},{"$f":"IF(OFFSET('Raw Data'!V9,Input_Details!$B$34,Input_Details!$B$32)=\"\", \"-\", OFFSET('Raw Data'!V9,Input_Details!$B$34,Input_Details!$B$32))","v":9},{"$f":"IF(OFFSET('Raw Data'!W9,Input_Details!$B$34,Input_Details!$B$32)=\"\", \"-\", OFFSET('Raw Data'!W9,Input_Details!$B$34,Input_Details!$B$32))","v":6},{"$f":"IF(OFFSET('Raw Data'!X9,Input_Details!$B$34,Input_Details!$B$32)=\"\", \"-\", OFFSET('Raw Data'!X9,Input_Details!$B$34,Input_Details!$B$32))","v":2},{"$f":"IF(OFFSET('Raw Data'!Y9,Input_Details!$B$34,Input_Details!$B$32)=\"\", \"-\", OFFSET('Raw Data'!Y9,Input_Details!$B$34,Input_Details!$B$32))","v":0},{"$f":"IF(OFFSET('Raw Data'!Z9,Input_Details!$B$34,Input_Details!$B$32)=\"\", \"-\", OFFSET('Raw Data'!Z9,Input_Details!$B$34,Input_Details!$B$32))","v":0},{"$f":"IF(OFFSET('Raw Data'!AA9,Input_Details!$B$34,Input_Details!$B$32)=\"\", \"-\", OFFSET('Raw Data'!AA9,Input_Details!$B$34,Input_Details!$B$32))","v":0},{"$f":"IF(OFFSET('Raw Data'!AB9,Input_Details!$B$34,Input_Details!$B$32)=\"\", \"-\", OFFSET('Raw Data'!AB9,Input_Details!$B$34,Input_Details!$B$32))","v":0},{"$f":"IF(OFFSET('Raw Data'!AC9,Input_Details!$B$34,Input_Details!$B$32)=\"\", \"-\", OFFSET('Raw Data'!AC9,Input_Details!$B$34,Input_Details!$B$32))","v":0},{"$f":"IF(OFFSET('Raw Data'!AD9,Input_Details!$B$34,Input_Details!$B$32)=\"\", \"-\", OFFSET('Raw Data'!AD9,Input_Details!$B$34,Input_Details!$B$32))","v":0},{"$f":"IF(OFFSET('Raw Data'!AE9,Input_Details!$B$34,Input_Details!$B$32)=\"\", \"-\", OFFSET('Raw Data'!AE9,Input_Details!$B$34,Input_Details!$B$32))","v":0},{"$f":"IF(OFFSET('Raw Data'!AF9,Input_Details!$B$34,Input_Details!$B$32)=\"\", \"-\", OFFSET('Raw Data'!AF9,Input_Details!$B$34,Input_Details!$B$32))","v":0},{"$f":"IF(OFFSET('Raw Data'!AG9,Input_Details!$B$34,Input_Details!$B$32)=\"\", \"-\", OFFSET('Raw Data'!AG9,Input_Details!$B$34,Input_Details!$B$32))","v":0},{"$f":"IF(OFFSET('Raw Data'!AH9,Input_Details!$B$34,Input_Details!$B$32)=\"\", \"-\", OFFSET('Raw Data'!AH9,Input_Details!$B$34,Input_Details!$B$32))","v":0},{"$f":"IF(OFFSET('Raw Data'!AI9,Input_Details!$B$34,Input_Details!$B$32)=\"\", \"-\", OFFSET('Raw Data'!AI9,Input_Details!$B$34,Input_Details!$B$32))","v":0},{"$f":"IF(OFFSET('Raw Data'!AJ9,Input_Details!$B$34,Input_Details!$B$32)=\"\", \"-\", OFFSET('Raw Data'!AJ9,Input_Details!$B$34,Input_Details!$B$32))","v":0},{"$f":"IF(OFFSET('Raw Data'!AK9,Input_Details!$B$34,Input_Details!$B$32)=\"\", \"-\", OFFSET('Raw Data'!AK9,Input_Details!$B$34,Input_Details!$B$32))","v":0},{"$f":"IF(OFFSET('Raw Data'!AL9,Input_Details!$B$34,Input_Details!$B$32)=\"\", \"-\", OFFSET('Raw Data'!AL9,Input_Details!$B$34,Input_Details!$B$32))","v":0},{"$f":"IF(OFFSET('Raw Data'!AM9,Input_Details!$B$34,Input_Details!$B$32)=\"\", \"-\", OFFSET('Raw Data'!AM9,Input_Details!$B$34,Input_Details!$B$32))","v":0},null,{"$f":"IF(D31=\"-\",\"-\",OFFSET('Raw Data'!AN9,Input_Details!$B$34,Input_Details!$B$32))","v":19.122077922077924},{"$f":"IF(OFFSET('Raw Data'!AO9,Input_Details!$B$34,Input_Details!$B$32)=\"\", \"-\", OFFSET('Raw Data'!AO9,Input_Details!$B$34,Input_Details!$B$32))","v":22.380000000000003},{"$f":"IF(OFFSET('Raw Data'!AP9,Input_Details!$B$34,Input_Details!$B$32)=\"\", \"-\", OFFSET('Raw Data'!AP9,Input_Details!$B$34,Input_Details!$B$32))","v":8},{"$f":"IF(OFFSET('Raw Data'!AQ9,Input_Details!$B$34,Input_Details!$B$32)=\"\", \"-\", OFFSET('Raw Data'!AQ9,Input_Details!$B$34,Input_Details!$B$32))","v":32.6},null,{"$f":"IF(Y31=\"-\", \"-\", SUM(OFFSET(D31,0,VLOOKUP(Input_Details!$N$3, $AF$3:$AG$12, 2,0)-1):W31))","v":8},0.36363636363636365]
[null,"01:30:00",null,{"$f":"IF(OFFSET('Raw Data'!T10,Input_Details!$B$34,Input_Details!$B$32)=\"\", \"-\", OFFSET('Raw Data'!T10,Input_Details!$B$34,Input_Details!$B$32))","v":0},{"$f":"IF(OFFSET('Raw Data'!U10,Input_Details!$B$34,Input_Details!$B$32)=\"\", \"-\", OFFSET('Raw Data'!U10,Input_Details!$B$34,Input_Details!$B$32))","v":4},{"$f":"IF(OFFSET('Raw Data'!V10,Input_Details!$B$34,Input_Details!$B$32)=\"\", \"-\", OFFSET('Raw Data'!V10,Input_Details!$B$34,Input_Details!$B$32))","v":10},{"$f":"IF(OFFSET('Raw Data'!W10,Input_Details!$B$34,Input_Details!$B$32)=\"\", \"-\", OFFSET('Raw Data'!W10,Input_Details!$B$34,Input_Details!$B$32))","v":6},{"$f":"IF(OFFSET('Raw Data'!X10,Input_Details!$B$34,Input_Details!$B$32)=\"\", \"-\", OFFSET('Raw Data'!X10,Input_Details!$B$34,Input_Details!$B$32))","v":1},{"$f":"IF(OFFSET('Raw Data'!Y10,Input_Details!$B$34,Input_Details!$B$32)=\"\", \"-\", OFFSET('Raw Data'!Y10,Input_Details!$B$34,Input_Details!$B$32))","v":0},{"$f":"IF(OFFSET('Raw Data'!Z10,Input_Details!$B$34,Input_Details!$B$32)=\"\", \"-\", OFFSET('Raw Data'!Z10,Input_Details!$B$34,Input_Details!$B$32))","v":1},{"$f":"IF(OFFSET('Raw Data'!AA10,Input_Details!$B$34,Input_Details!$B$32)=\"\", \"-\", OFFSET('Raw Data'!AA10,Input_Details!$B$34,Input_Details!$B$32))","v":0},{"$f":"IF(OFFSET('Raw Data'!AB10,Input_Details!$B$34,Input_Details!$B$32)=\"\", \"-\", OFFSET('Raw Data'!AB10,Input_Details!$B$34,Input_Details!$B$32))","v":0},{"$f":"IF(OFFSET('Raw Data'!AC10,Input_Details!$B$34,Input_Details!$B$32)=\"\", \"-\", OFFSET('Raw Data'!AC10,Input_Details!$B$34,Input_Details!$B$32))","v":0},{"$f":"IF(OFFSET('Raw Data'!AD10,Input_Details!$B$34,Input_Details!$B$32)=\"\", \"-\", OFFSET('Raw Data'!AD10,Input_Details!$B$34,Input_Details!$B$32))","v":0},{"$f":"IF(OFFSET('Raw Data'!AE10,Input_Details!$B$34,Input_Details!$B$32)=\"\", \"-\", OFFSET('Raw Data'!AE10,Input_Details!$B$34,Input_Details!$B$32))","v":0},{"$f":"IF(OFFSET('Raw Data'!AF10,Input_Details!$B$34,Input_Details!$B$32)=\"\", \"-\", OFFSET('Raw Data'!AF10,Input_Details!$B$34,Input_Details!$B$32))","v":0},{"$f":"IF(OFFSET('Raw Data'!AG10,Input_Details!$B$34,Input_Details!$B$32)=\"\", \"-\", OFFSET('Raw Data'!AG10,Input_Details!$B$34,Input_Details!$B$32))","v":0},{"$f":"IF(OFFSET('Raw Data'!AH10,Input_Details!$B$34,Input_Details!$B$32)=\"\", \"-\", OFFSET('Raw Data'!AH10,Input_Details!$B$34,Input_Details!$B$32))","v":0},{"$f":"IF(OFFSET('Raw Data'!AI10,Input_Details!$B$34,Input_Details!$B$32)=\"\", \"-\", OFFSET('Raw Data'!AI10,Input_Details!$B$34,Input_Details!$B$32))","v":0},{"$f":"IF(OFFSET('Raw Data'!AJ10,Input_Details!$B$34,Input_Details!$B$32)=\"\", \"-\", OFFSET('Raw Data'!AJ10,Input_Details!$B$34,Input_Details!$B$32))","v":0},{"$f":"IF(OFFSET('Raw Data'!AK10,Input_Details!$B$34,Input_Details!$B$32)=\"\", \"-\", OFFSET('Raw Data'!AK10,Input_Details!$B$34,Input_Details!$B$32))","v":0},{"$f":"IF(OFFSET('Raw Data'!AL10,Input_Details!$B$34,Input_Details!$B$32)=\"\", \"-\", OFFSET('Raw Data'!AL10,Input_Details!$B$34,Input_Details!$B$32))","v":0},{"$f":"IF(OFFSET('Raw Data'!AM10,Input_Details!$B$34,Input_Details!$B$32)=\"\", \"-\", OFFSET('Raw Data'!AM10,Input_Details!$B$34,Input_Details!$B$32))","v":0},null,{"$f":"IF(D32=\"-\",\"-\",OFFSET('Raw Data'!AN10,Input_Details!$B$34,Input_Details!$B$32))","v":19.390714285714289},{"$f":"IF(OFFSET('Raw Data'!AO10,Input_Details!$B$34,Input_Details!$B$32)=\"\", \"-\", OFFSET('Raw Data'!AO10,Input_Details!$B$34,Input_Details!$B$32))","v":23.599999999999998},{"$f":"IF(OFFSET('Raw Data'!AP10,Input_Details!$B$34,Input_Details!$B$32)=\"\", \"-\", OFFSET('Raw Data'!AP10,Input_Details!$B$34,Input_Details!$B$32))","v":6.8},{"$f":"IF(OFFSET('Raw Data'!AQ10,Input_Details!$B$34,Input_Details!$B$32)=\"\", \"-\", OFFSET('Raw Data'!AQ10,Input_Details!$B$34,Input_Details!$B$32))","v":37.799999999999997},null,{"$f":"IF(Y32=\"-\", \"-\", SUM(OFFSET(D32,0,VLOOKUP(Input_Details!$N$3, $AF$3:$AG$12, 2,0)-1):W32))","v":8},0.36363636363636365]
[null,"01:45:00",null,{"$f":"IF(OFFSET('Raw Data'!T11,Input_Details!$B$34,Input_Details!$B$32)=\"\", \"-\", OFFSET('Raw Data'!T11,Input_Details!$B$34,Input_Details!$B$32))","v":0},{"$f":"IF(OFFSET('Raw Data'!U11,Input_Details!$B$34,Input_Details!$B$32)=\"\", \"-\", OFFSET('Raw Data'!U11,Input_Details!$B$34,Input_Details!$B$32))","v":3},{"$f":"IF(OFFSET('Raw Data'!V11,Input_Details!$B$34,Input_Details!$B$32)=\"\", \"-\", OFFSET('Raw Data'!V11,Input_Details!$B$34,Input_Details!$B$32))","v":9},{"$f":"IF(OFFSET('Raw Data'!W11,Input_Details!$B$34,Input_Details!$B$32)=\"\", \"-\", OFFSET('Raw Data'!W11,Input_Details!$B$34,Input_Details!$B$32))","v":4},{"$f":"IF(OFFSET('Raw Data'!X11,Input_Details!$B$34,Input_Details!$B$32)=\"\", \"-\", OFFSET('Raw Data'!X11,Input_Details!$B$34,Input_Details!$B$32))","v":0},{"$f":"IF(OFFSET('Raw Data'!Y11,Input_Details!$B$34,Input_Details!$B$32)=\"\", \"-\", OFFSET('Raw Data'!Y11,Input_Details!$B$34,Input_Details!$B$32))","v":0},{"$f":"IF(OFFSET('Raw Data'!Z11,Input_Details!$B$34,Input_Details!$B$32)=\"\", \"-\", OFFSET('Raw Data'!Z11,Input_Details!$B$34,Input_Details!$B$32))","v":0},{"$f":"IF(OFFSET('Raw Data'!AA11,Input_Details!$B$34,Input_Details!$B$32)=\"\", \"-\", OFFSET('Raw Data'!AA11,Input_Details!$B$34,Input_Details!$B$32))","v":0},{"$f":"IF(OFFSET('Raw Data'!AB11,Input_Details!$B$34,Input_Details!$B$32)=\"\", \"-\", OFFSET('Raw Data'!AB11,Input_Details!$B$34,Input_Details!$B$32))","v":0},{"$f":"IF(OFFSET('Raw Data'!AC11,Input_Details!$B$34,Input_Details!$B$32)=\"\", \"-\", OFFSET('Raw Data'!AC11,Input_Details!$B$34,Input_Details!$B$32))","v":0},{"$f":"IF(OFFSET('Raw Data'!AD11,Input_Details!$B$34,Input_Details!$B$32)=\"\", \"-\", OFFSET('Raw Data'!AD11,Input_Details!$B$34,Input_Details!$B$32))","v":0},{"$f":"IF(OFFSET('Raw Data'!AE11,Input_Details!$B$34,Input_Details!$B$32)=\"\", \"-\", OFFSET('Raw Data'!AE11,Input_Details!$B$34,Input_Details!$B$32))","v":0},{"$f":"IF(OFFSET('Raw Data'!AF11,Input_Details!$B$34,Input_Details!$B$32)=\"\", \"-\", OFFSET('Raw Data'!AF11,Input_Details!$B$34,Input_Details!$B$32))","v":0},{"$f":"IF(OFFSET('Raw Data'!AG11,Input_Details!$B$34,Input_Details!$B$32)=\"\", \"-\", OFFSET('Raw Data'!AG11,Input_Details!$B$34,Input_Details!$B$32))","v":0},{"$f":"IF(OFFSET('Raw Data'!AH11,Input_Details!$B$34,Input_Details!$B$32)=\"\", \"-\", OFFSET('Raw Data'!AH11,Input_Details!$B$34,Input_Details!$B$32))","v":0},{"$f":"IF(OFFSET('Raw Data'!AI11,Input_Details!$B$34,Input_Details!$B$32)=\"\", \"-\", OFFSET('Raw Data'!AI11,Input_Details!$B$34,Input_Details!$B$32))","v":0},{"$f":"IF(OFFSET('Raw Data'!AJ11,Input_Details!$B$34,Input_Details!$B$32)=\"\", \"-\", OFFSET('Raw Data'!AJ11,Input_Details!$B$34,Input_Details!$B$32))","v":0},{"$f":"IF(OFFSET('Raw Data'!AK11,Input_Details!$B$34,Input_Details!$B$32)=\"\", \"-\", OFFSET('Raw Data'!AK11,Input_Details!$B$34,Input_Details!$B$32))","v":0},{"$f":"IF(OFFSET('Raw Data'!AL11,Input_Details!$B$34,Input_Details!$B$32)=\"\", \"-\", OFFSET('Raw Data'!AL11,Input_Details!$B$34,Input_Details!$B$32))","v":0},{"$f":"IF(OFFSET('Raw Data'!AM11,Input_Details!$B$34,Input_Details!$B$32)=\"\", \"-\", OFFSET('Raw Data'!AM11,Input_Details!$B$34,Input_Details!$B$32))","v":0},null,{"$f":"IF(D33=\"-\",\"-\",OFFSET('Raw Data'!AN11,Input_Details!$B$34,Input_Details!$B$32))","v":18.379047619047618},{"$f":"IF(OFFSET('Raw Data'!AO11,Input_Details!$B$34,Input_Details!$B$32)=\"\", \"-\", OFFSET('Raw Data'!AO11,Input_Details!$B$34,Input_Details!$B$32))","v":19.739999999999998},{"$f":"IF(OFFSET('Raw Data'!AP11,Input_Details!$B$34,Input_Details!$B$32)=\"\", \"-\", OFFSET('Raw Data'!AP11,Input_Details!$B$34,Input_Details!$B$32))","v":8.8000000000000007},{"$f":"IF(OFFSET('Raw Data'!AQ11,Input_Details!$B$34,Input_Details!$B$32)=\"\", \"-\", OFFSET('Raw Data'!AQ11,Input_Details!$B$34,Input_Details!$B$32))","v":41.1},null,{"$f":"IF(Y33=\"-\", \"-\", SUM(OFFSET(D33,0,VLOOKUP(Input_Details!$N$3, $AF$3:$AG$12, 2,0)-1):W33))","v":4},0.25]
[null,"02:00:00",null,{"$f":"IF(OFFSET('Raw Data'!T12,Input_Details!$B$34,Input_Details!$B$32)=\"\", \"-\", OFFSET('Raw Data'!T12,Input_Details!$B$34,Input_Details!$B$32))","v":1},{"$f":"IF(OFFSET('Raw Data'!U12,Input_Details!$B$34,Input_Details!$B$32)=\"\", \"-\", OFFSET('Raw Data'!U12,Input_Details!$B$34,Input_Details!$B$32))","v":4},{"$f":"IF(OFFSET('Raw Data'!V12,Input_Details!$B$34,Input_Details!$B$32)=\"\", \"-\", OFFSET('Raw Data'!V12,Input_Details!$B$34,Input_Details!$B$32))","v":7},{"$f":"IF(OFFSET('Raw Data'!W12,Input_Details!$B$34,Input_Details!$B$32)=\"\", \"-\", OFFSET('Raw Data'!W12,Input_Details!$B$34,Input_Details!$B$32))","v":4},{"$f":"IF(OFFSET('Raw Data'!X12,Input_Details!$B$34,Input_Details!$B$32)=\"\", \"-\", OFFSET('Raw Data'!X12,Input_Details!$B$34,Input_Details!$B$32))","v":1},{"$f":"IF(OFFSET('Raw Data'!Y12,Input_Details!$B$34,Input_Details!$B$32)=\"\", \"-\", OFFSET('Raw Data'!Y12,Input_Details!$B$34,Input_Details!$B$32))","v":0},{"$f":"IF(OFFSET('Raw Data'!Z12,Input_Details!$B$34,Input_Details!$B$32)=\"\", \"-\", OFFSET('Raw Data'!Z12,Input_Details!$B$34,Input_Details!$B$32))","v":0},{"$f":"IF(OFFSET('Raw Data'!AA12,Input_Details!$B$34,Input_Details!$B$32)=\"\", \"-\", OFFSET('Raw Data'!AA12,Input_Details!$B$34,Input_Details!$B$32))","v":0},{"$f":"IF(OFFSET('Raw Data'!AB12,Input_Details!$B$34,Input_Details!$B$32)=\"\", \"-\", OFFSET('Raw Data'!AB12,Input_Details!$B$34,Input_Details!$B$32))","v":0},{"$f":"IF(OFFSET('Raw Data'!AC12,Input_Details!$B$34,Input_Details!$B$32)=\"\", \"-\", OFFSET('Raw Data'!AC12,Input_Details!$B$34,Input_Details!$B$32))","v":0},{"$f":"IF(OFFSET('Raw Data'!AD12,Input_Details!$B$34,Input_Details!$B$32)=\"\", \"-\", OFFSET('Raw Data'!AD12,Input_Details!$B$34,Input_Details!$B$32))","v":0},{"$f":"IF(OFFSET('Raw Data'!AE12,Input_Details!$B$34,Input_Details!$B$32)=\"\", \"-\", OFFSET('Raw Data'!AE12,Input_Details!$B$34,Input_Details!$B$32))","v":0},{"$f":"IF(OFFSET('Raw Data'!AF12,Input_Details!$B$34,Input_Details!$B$32)=\"\", \"-\", OFFSET('Raw Data'!AF12,Input_Details!$B$34,Input_Details!$B$32))","v":0},{"$f":"IF(OFFSET('Raw Data'!AG12,Input_Details!$B$34,Input_Details!$B$32)=\"\", \"-\", OFFSET('Raw Data'!AG12,Input_Details!$B$34,Input_Details!$B$32))","v":0},{"$f":"IF(OFFSET('Raw Data'!AH12,Input_Details!$B$34,Input_Details!$B$32)=\"\", \"-\", OFFSET('Raw Data'!AH12,Input_Details!$B$34,Input_Details!$B$32))","v":0},{"$f":"IF(OFFSET('Raw Data'!AI12,Input_Details!$B$34,Input_Details!$B$32)=\"\", \"-\", OFFSET('Raw Data'!AI12,Input_Details!$B$34,Input_Details!$B$32))","v":0},{"$f":"IF(OFFSET('Raw Data'!AJ12,Input_Details!$B$34,Input_Details!$B$32)=\"\", \"-\", OFFSET('Raw Data'!AJ12,Input_Details!$B$34,Input_Details!$B$32))","v":0},{"$f":"IF(OFFSET('Raw Data'!AK12,Input_Details!$B$34,Input_Details!$B$32)=\"\", \"-\", OFFSET('Raw Data'!AK12,Input_Details!$B$34,Input_Details!$B$32))","v":0},{"$f":"IF(OFFSET('Raw Data'!AL12,Input_Details!$B$34,Input_Details!$B$32)=\"\", \"-\", OFFSET('Raw Data'!AL12,Input_Details!$B$34,Input_Details!$B$32))","v":0},{"$f":"IF(OFFSET('Raw Data'!AM12,Input_Details!$B$34,Input_Details!$B$32)=\"\", \"-\", OFFSET('Raw Data'!AM12,Input_Details!$B$34,Input_Details!$B$32))","v":0},null,{"$f":"IF(D34=\"-\",\"-\",OFFSET('Raw Data'!AN12,Input_Details!$B$34,Input_Details!$B$32))","v":18.266964285714288},{"$f":"IF(OFFSET('Raw Data'!AO12,Input_Details!$B$34,Input_Details!$B$32)=\"\", \"-\", OFFSET('Raw Data'!AO12,Input_Details!$B$34,Input_Details!$B$32))","v":21.474999999999998},{"$f":"IF(OFFSET('Raw Data'!AP12,Input_Details!$B$34,Input_Details!$B$32)=\"\", \"-\", OFFSET('Raw Data'!AP12,Input_Details!$B$34,Input_Details!$B$32))","v":7.9},{"$f":"IF(OFFSET('Raw Data'!AQ12,Input_Details!$B$34,Input_Details!$B$32)=\"\", \"-\", OFFSET('Raw Data'!AQ12,Input_Details!$B$34,Input_Details!$B$32))","v":27.7},null,{"$f":"IF(Y34=\"-\", \"-\", SUM(OFFSET(D34,0,VLOOKUP(Input_Details!$N$3, $AF$3:$AG$12, 2,0)-1):W34))","v":5},0.29411764705882354]
[null,"02:15:00",null,{"$f":"IF(OFFSET('Raw Data'!T13,Input_Details!$B$34,Input_Details!$B$32)=\"\", \"-\", OFFSET('Raw Data'!T13,Input_Details!$B$34,Input_Details!$B$32))","v":0},{"$f":"IF(OFFSET('Raw Data'!U13,Input_Details!$B$34,Input_Details!$B$32)=\"\", \"-\", OFFSET('Raw Data'!U13,Input_Details!$B$34,Input_Details!$B$32))","v":3},{"$f":"IF(OFFSET('Raw Data'!V13,Input_Details!$B$34,Input_Details!$B$32)=\"\", \"-\", OFFSET('Raw Data'!V13,Input_Details!$B$34,Input_Details!$B$32))","v":7},{"$f":"IF(OFFSET('Raw Data'!W13,Input_Details!$B$34,Input_Details!$B$32)=\"\", \"-\", OFFSET('Raw Data'!W13,Input_Details!$B$34,Input_Details!$B$32))","v":6},{"$f":"IF(OFFSET('Raw Data'!X13,Input_Details!$B$34,Input_Details!$B$32)=\"\", \"-\", OFFSET('Raw Data'!X13,Input_Details!$B$34,Input_Details!$B$32))","v":1},{"$f":"IF(OFFSET('Raw Data'!Y13,Input_Details!$B$34,Input_Details!$B$32)=\"\", \"-\", OFFSET('Raw Data'!Y13,Input_Details!$B$34,Input_Details!$B$32))","v":0},{"$f":"IF(OFFSET('Raw Data'!Z13,Input_Details!$B$34,Input_Details!$B$32)=\"\", \"-\", OFFSET('Raw Data'!Z13,Input_Details!$B$34,Input_Details!$B$32))","v":0},{"$f":"IF(OFFSET('Raw Data'!AA13,Input_Details!$B$34,Input_Details!$B$32)=\"\", \"-\", OFFSET('Raw Data'!AA13,Input_Details!$B$34,Input_Details!$B$32))","v":0},{"$f":"IF(OFFSET('Raw Data'!AB13,Input_Details!$B$34,Input_Details!$B$32)=\"\", \"-\", OFFSET('Raw Data'!AB13,Input_Details!$B$34,Input_Details!$B$32))","v":0},{"$f":"IF(OFFSET('Raw Data'!AC13,Input_Details!$B$34,Input_Details!$B$32)=\"\", \"-\", OFFSET('Raw Data'!AC13,Input_Details!$B$34,Input_Details!$B$32))","v":0},{"$f":"IF(OFFSET('Raw Data'!AD13,Input_Details!$B$34,Input_Details!$B$32)=\"\", \"-\", OFFSET('Raw Data'!AD13,Input_Details!$B$34,Input_Details!$B$32))","v":0},{"$f":"IF(OFFSET('Raw Data'!AE13,Input_Details!$B$34,Input_Details!$B$32)=\"\", \"-\", OFFSET('Raw Data'!AE13,Input_Details!$B$34,Input_Details!$B$32))","v":0},{"$f":"IF(OFFSET('Raw Data'!AF13,Input_Details!$B$34,Input_Details!$B$32)=\"\", \"-\", OFFSET('Raw Data'!AF13,Input_Details!$B$34,Input_Details!$B$32))","v":0},{"$f":"IF(OFFSET('Raw Data'!AG13,Input_Details!$B$34,Input_Details!$B$32)=\"\", \"-\", OFFSET('Raw Data'!AG13,Input_Details!$B$34,Input_Details!$B$32))","v":0},{"$f":"IF(OFFSET('Raw Data'!AH13,Input_Details!$B$34,Input_Details!$B$32)=\"\", \"-\", OFFSET('Raw Data'!AH13,Input_Details!$B$34,Input_Details!$B$32))","v":0},{"$f":"IF(OFFSET('Raw Data'!AI13,Input_Details!$B$34,Input_Details!$B$32)=\"\", \"-\", OFFSET('Raw Data'!AI13,Input_Details!$B$34,Input_Details!$B$32))","v":0},{"$f":"IF(OFFSET('Raw Data'!AJ13,Input_Details!$B$34,Input_Details!$B$32)=\"\", \"-\", OFFSET('Raw Data'!AJ13,Input_Details!$B$34,Input_Details!$B$32))","v":0},{"$f":"IF(OFFSET('Raw Data'!AK13,Input_Details!$B$34,Input_Details!$B$32)=\"\", \"-\", OFFSET('Raw Data'!AK13,Input_Details!$B$34,Input_Details!$B$32))","v":0},{"$f":"IF(OFFSET('Raw Data'!AL13,Input_Details!$B$34,Input_Details!$B$32)=\"\", \"-\", OFFSET('Raw Data'!AL13,Input_Details!$B$34,Input_Details!$B$32))","v":0},{"$f":"IF(OFFSET('Raw Data'!AM13,Input_Details!$B$34,Input_Details!$B$32)=\"\", \"-\", OFFSET('Raw Data'!AM13,Input_Details!$B$34,Input_Details!$B$32))","v":0},null,{"$f":"IF(D35=\"-\",\"-\",OFFSET('Raw Data'!AN13,Input_Details!$B$34,Input_Details!$B$32))","v":19.629411764705885},{"$f":"IF(OFFSET('Raw Data'!AO13,Input_Details!$B$34,Input_Details!$B$32)=\"\", \"-\", OFFSET('Raw Data'!AO13,Input_Details!$B$34,Input_Details!$B$32))","v":22.900000000000002},{"$f":"IF(OFFSET('Raw Data'!AP13,Input_Details!$B$34,Input_Details!$B$32)=\"\", \"-\", OFFSET('Raw Data'!AP13,Input_Details!$B$34,Input_Details!$B$32))","v":7.9},{"$f":"IF(OFFSET('Raw Data'!AQ13,Input_Details!$B$34,Input_Details!$B$32)=\"\", \"-\", OFFSET('Raw Data'!AQ13,Input_Details!$B$34,Input_Details!$B$32))","v":35.6},null,{"$f":"IF(Y35=\"-\", \"-\", SUM(OFFSET(D35,0,VLOOKUP(Input_Details!$N$3, $AF$3:$AG$12, 2,0)-1):W35))","v":7},0.41176470588235292]
[null,"02:30:00",null,{"$f":"IF(OFFSET('Raw Data'!T14,Input_Details!$B$34,Input_Details!$B$32)=\"\", \"-\", OFFSET('Raw Data'!T14,Input_Details!$B$34,Input_Details!$B$32))","v":0},{"$f":"IF(OFFSET('Raw Data'!U14,Input_Details!$B$34,Input_Details!$B$32)=\"\", \"-\", OFFSET('Raw Data'!U14,Input_Details!$B$34,Input_Details!$B$32))","v":3},{"$f":"IF(OFFSET('Raw Data'!V14,Input_Details!$B$34,Input_Details!$B$32)=\"\", \"-\", OFFSET('Raw Data'!V14,Input_Details!$B$34,Input_Details!$B$32))","v":6},{"$f":"IF(OFFSET('Raw Data'!W14,Input_Details!$B$34,Input_Details!$B$32)=\"\", \"-\", OFFSET('Raw Data'!W14,Input_Details!$B$34,Input_Details!$B$32))","v":3},{"$f":"IF(OFFSET('Raw Data'!X14,Input_Details!$B$34,Input_Details!$B$32)=\"\", \"-\", OFFSET('Raw Data'!X14,Input_Details!$B$34,Input_Details!$B$32))","v":1},{"$f":"IF(OFFSET('Raw Data'!Y14,Input_Details!$B$34,Input_Details!$B$32)=\"\", \"-\", OFFSET('Raw Data'!Y14,Input_Details!$B$34,Input_Details!$B$32))","v":0},{"$f":"IF(OFFSET('Raw Data'!Z14,Input_Details!$B$34,Input_Details!$B$32)=\"\", \"-\", OFFSET('Raw Data'!Z14,Input_Details!$B$34,Input_Details!$B$32))","v":0},{"$f":"IF(OFFSET('Raw Data'!AA14,Input_Details!$B$34,Input_Details!$B$32)=\"\", \"-\", OFFSET('Raw Data'!AA14,Input_Details!$B$34,Input_Details!$B$32))","v":0},{"$f":"IF(OFFSET('Raw Data'!AB14,Input_Details!$B$34,Input_Details!$B$32)=\"\", \"-\", OFFSET('Raw Data'!AB14,Input_Details!$B$34,Input_Details!$B$32))","v":0},{"$f":"IF(OFFSET('Raw Data'!AC14,Input_Details!$B$34,Input_Details!$B$32)=\"\", \"-\", OFFSET('Raw Data'!AC14,Input_Details!$B$34,Input_Details!$B$32))","v":0},{"$f":"IF(OFFSET('Raw Data'!AD14,Input_Details!$B$34,Input_Details!$B$32)=\"\", \"-\", OFFSET('Raw Data'!AD14,Input_Details!$B$34,Input_Details!$B$32))","v":0},{"$f":"IF(OFFSET('Raw Data'!AE14,Input_Details!$B$34,Input_Details!$B$32)=\"\", \"-\", OFFSET('Raw Data'!AE14,Input_Details!$B$34,Input_Details!$B$32))","v":0},{"$f":"IF(OFFSET('Raw Data'!AF14,Input_Details!$B$34,Input_Details!$B$32)=\"\", \"-\", OFFSET('Raw Data'!AF14,Input_Details!$B$34,Input_Details!$B$32))","v":0},{"$f":"IF(OFFSET('Raw Data'!AG14,Input_Details!$B$34,Input_Details!$B$32)=\"\", \"-\", OFFSET('Raw Data'!AG14,Input_Details!$B$34,Input_Details!$B$32))","v":0},{"$f":"IF(OFFSET('Raw Data'!AH14,Input_Details!$B$34,Input_Details!$B$32)=\"\", \"-\", OFFSET('Raw Data'!AH14,Input_Details!$B$34,Input_Details!$B$32))","v":0},{"$f":"IF(OFFSET('Raw Data'!AI14,Input_Details!$B$34,Input_Details!$B$32)=\"\", \"-\", OFFSET('Raw Data'!AI14,Input_Details!$B$34,Input_Details!$B$32))","v":0},{"$f":"IF(OFFSET('Raw Data'!AJ14,Input_Details!$B$34,Input_Details!$B$32)=\"\", \"-\", OFFSET('Raw Data'!AJ14,Input_Details!$B$34,Input_Details!$B$32))","v":0},{"$f":"IF(OFFSET('Raw Data'!AK14,Input_Details!$B$34,Input_Details!$B$32)=\"\", \"-\", OFFSET('Raw Data'!AK14,Input_Details!$B$34,Input_Details!$B$32))","v":0},{"$f":"IF(OFFSET('Raw Data'!AL14,Input_Details!$B$34,Input_Details!$B$32)=\"\", \"-\", OFFSET('Raw Data'!AL14,Input_Details!$B$34,Input_Details!$B$32))","v":0},{"$f":"IF(OFFSET('Raw Data'!AM14,Input_Details!$B$34,Input_Details!$B$32)=\"\", \"-\", OFFSET('Raw Data'!AM14,Input_Details!$B$34,Input_Details!$B$32))","v":0},null,{"$f":"IF(D36=\"-\",\"-\",OFFSET('Raw Data'!AN14,Input_Details!$B$34,Input_Details!$B$32))","v":19.38351648351648},{"$f":"IF(OFFSET('Raw Data'!AO14,Input_Details!$B$34,Input_Details!$B$32)=\"\", \"-\", OFFSET('Raw Data'!AO14,Input_Details!$B$34,Input_Details!$B$32))","v":22.833333333333332},{"$f":"IF(OFFSET('Raw Data'!AP14,Input_Details!$B$34,Input_Details!$B$32)=\"\", \"-\", OFFSET('Raw Data'!AP14,Input_Details!$B$34,Input_Details!$B$32))","v":9.6},{"$f":"IF(OFFSET('Raw Data'!AQ14,Input_Details!$B$34,Input_Details!$B$32)=\"\", \"-\", OFFSET('Raw Data'!AQ14,Input_Details!$B$34,Input_Details!$B$32))","v":30.5},null,{"$f":"IF(Y36=\"-\", \"-\", SUM(OFFSET(D36,0,VLOOKUP(Input_Details!$N$3, $AF$3:$AG$12, 2,0)-1):W36))","v":4},0.30769230769230771]
[null,"02:45:00",null,{"$f":"IF(OFFSET('Raw Data'!T15,Input_Details!$B$34,Input_Details!$B$32)=\"\", \"-\", OFFSET('Raw Data'!T15,Input_Details!$B$34,Input_Details!$B$32))","v":1},{"$f":"IF(OFFSET('Raw Data'!U15,Input_Details!$B$34,Input_Details!$B$32)=\"\", \"-\", OFFSET('Raw Data'!U15,Input_Details!$B$34,Input_Details!$B$32))","v":2},{"$f":"IF(OFFSET('Raw Data'!V15,Input_Details!$B$34,Input_Details!$B$32)=\"\", \"-\", OFFSET('Raw Data'!V15,Input_Details!$B$34,Input_Details!$B$32))","v":5},{"$f":"IF(OFFSET('Raw Data'!W15,Input_Details!$B$34,Input_Details!$B$32)=\"\", \"-\", OFFSET('Raw Data'!W15,Input_Details!$B$34,Input_Details!$B$32))","v":2},{"$f":"IF(OFFSET('Raw Data'!X15,Input_Details!$B$34,Input_Details!$B$32)=\"\", \"-\", OFFSET('Raw Data'!X15,Input_Details!$B$34,Input_Details!$B$32))","v":1},{"$f":"IF(OFFSET('Raw Data'!Y15,Input_Details!$B$34,Input_Details!$B$32)=\"\", \"-\", OFFSET('Raw Data'!Y15,Input_Details!$B$34,Input_Details!$B$32))","v":0},{"$f":"IF(OFFSET('Raw Data'!Z15,Input_Details!$B$34,Input_Details!$B$32)=\"\", \"-\", OFFSET('Raw Data'!Z15,Input_Details!$B$34,Input_Details!$B$32))","v":0},{"$f":"IF(OFFSET('Raw Data'!AA15,Input_Details!$B$34,Input_Details!$B$32)=\"\", \"-\", OFFSET('Raw Data'!AA15,Input_Details!$B$34,Input_Details!$B$32))","v":0},{"$f":"IF(OFFSET('Raw Data'!AB15,Input_Details!$B$34,Input_Details!$B$32)=\"\", \"-\", OFFSET('Raw Data'!AB15,Input_Details!$B$34,Input_Details!$B$32))","v":0},{"$f":"IF(OFFSET('Raw Data'!AC15,Input_Details!$B$34,Input_Details!$B$32)=\"\", \"-\", OFFSET('Raw Data'!AC15,Input_Details!$B$34,Input_Details!$B$32))","v":0},{"$f":"IF(OFFSET('Raw Data'!AD15,Input_Details!$B$34,Input_Details!$B$32)=\"\", \"-\", OFFSET('Raw Data'!AD15,Input_Details!$B$34,Input_Details!$B$32))","v":0},{"$f":"IF(OFFSET('Raw Data'!AE15,Input_Details!$B$34,Input_Details!$B$32)=\"\", \"-\", OFFSET('Raw Data'!AE15,Input_Details!$B$34,Input_Details!$B$32))","v":0},{"$f":"IF(OFFSET('Raw Data'!AF15,Input_Details!$B$34,Input_Details!$B$32)=\"\", \"-\", OFFSET('Raw Data'!AF15,Input_Details!$B$34,Input_Details!$B$32))","v":0},{"$f":"IF(OFFSET('Raw Data'!AG15,Input_Details!$B$34,Input_Details!$B$32)=\"\", \"-\", OFFSET('Raw Data'!AG15,Input_Details!$B$34,Input_Details!$B$32))","v":0},{"$f":"IF(OFFSET('Raw Data'!AH15,Input_Details!$B$34,Input_Details!$B$32)=\"\", \"-\", OFFSET('Raw Data'!AH15,Input_Details!$B$34,Input_Details!$B$32))","v":0},{"$f":"IF(OFFSET('Raw Data'!AI15,Input_Details!$B$34,Input_Details!$B$32)=\"\", \"-\", OFFSET('Raw Data'!AI15,Input_Details!$B$34,Input_Details!$B$32))","v":0},{"$f":"IF(OFFSET('Raw Data'!AJ15,Input_Details!$B$34,Input_Details!$B$32)=\"\", \"-\", OFFSET('Raw Data'!AJ15,Input_Details!$B$34,Input_Details!$B$32))","v":0},{"$f":"IF(OFFSET('Raw Data'!AK15,Input_Details!$B$34,Input_Details!$B$32)=\"\", \"-\", OFFSET('Raw Data'!AK15,Input_Details!$B$34,Input_Details!$B$32))","v":0},{"$f":"IF(OFFSET('Raw Data'!AL15,Input_Details!$B$34,Input_Details!$B$32)=\"\", \"-\", OFFSET('Raw Data'!AL15,Input_Details!$B$34,Input_Details!$B$32))","v":0},{"$f":"IF(OFFSET('Raw Data'!AM15,Input_Details!$B$34,Input_Details!$B$32)=\"\", \"-\", OFFSET('Raw Data'!AM15,Input_Details!$B$34,Input_Details!$B$32))","v":0},null,{"$f":"IF(D37=\"-\",\"-\",OFFSET('Raw Data'!AN15,Input_Details!$B$34,Input_Details!$B$32))","v":18.150000000000002},{"$f":"IF(OFFSET('Raw Data'!AO15,Input_Details!$B$34,Input_Details!$B$32)=\"\", \"-\", OFFSET('Raw Data'!AO15,Input_Details!$B$34,Input_Details!$B$32))","v":20.966666666666665},{"$f":"IF(OFFSET('Raw Data'!AP15,Input_Details!$B$34,Input_Details!$B$32)=\"\", \"-\", OFFSET('Raw Data'!AP15,Input_Details!$B$34,Input_Details!$B$32))","v":8.6},{"$f":"IF(OFFSET('Raw Data'!AQ15,Input_Details!$B$34,Input_Details!$B$32)=\"\", \"-\", OFFSET('Raw Data'!AQ15,Input_Details!$B$34,Input_Details!$B$32))","v":36.200000000000003},null,{"$f":"IF(Y37=\"-\", \"-\", SUM(OFFSET(D37,0,VLOOKUP(Input_Details!$N$3, $AF$3:$AG$12, 2,0)-1):W37))","v":3},0.27272727272727271]
[null,"03:00:00",null,{"$f":"IF(OFFSET('Raw Data'!T16,Input_Details!$B$34,Input_Details!$B$32)=\"\", \"-\", OFFSET('Raw Data'!T16,Input_Details!$B$34,Input_Details!$B$32))","v":0},{"$f":"IF(OFFSET('Raw Data'!U16,Input_Details!$B$34,Input_Details!$B$32)=\"\", \"-\", OFFSET('Raw Data'!U16,Input_Details!$B$34,Input_Details!$B$32))","v":2},{"$f":"IF(OFFSET('Raw Data'!V16,Input_Details!$B$34,Input_Details!$B$32)=\"\", \"-\", OFFSET('Raw Data'!V16,Input_Details!$B$34,Input_Details!$B$32))","v":7},{"$f":"IF(OFFSET('Raw Data'!W16,Input_Details!$B$34,Input_Details!$B$32)=\"\", \"-\", OFFSET('Raw Data'!W16,Input_Details!$B$34,Input_Details!$B$32))","v":2},{"$f":"IF(OFFSET('Raw Data'!X16,Input_Details!$B$34,Input_Details!$B$32)=\"\", \"-\", OFFSET('Raw Data'!X16,Input_Details!$B$34,Input_Details!$B$32))","v":1},{"$f":"IF(OFFSET('Raw Data'!Y16,Input_Details!$B$34,Input_Details!$B$32)=\"\", \"-\", OFFSET('Raw Data'!Y16,Input_Details!$B$34,Input_Details!$B$32))","v":0},{"$f":"IF(OFFSET('Raw Data'!Z16,Input_Details!$B$34,Input_Details!$B$32)=\"\", \"-\", OFFSET('Raw Data'!Z16,Input_Details!$B$34,Input_Details!$B$32))","v":0},{"$f":"IF(OFFSET('Raw Data'!AA16,Input_Details!$B$34,Input_Details!$B$32)=\"\", \"-\", OFFSET('Raw Data'!AA16,Input_Details!$B$34,Input_Details!$B$32))","v":0},{"$f":"IF(OFFSET('Raw Data'!AB16,Input_Details!$B$34,Input_Details!$B$32)=\"\", \"-\", OFFSET('Raw Data'!AB16,Input_Details!$B$34,Input_Details!$B$32))","v":0},{"$f":"IF(OFFSET('Raw Data'!AC16,Input_Details!$B$34,Input_Details!$B$32)=\"\", \"-\", OFFSET('Raw Data'!AC16,Input_Details!$B$34,Input_Details!$B$32))","v":0},{"$f":"IF(OFFSET('Raw Data'!AD16,Input_Details!$B$34,Input_Details!$B$32)=\"\", \"-\", OFFSET('Raw Data'!AD16,Input_Details!$B$34,Input_Details!$B$32))","v":0},{"$f":"IF(OFFSET('Raw Data'!AE16,Input_Details!$B$34,Input_Details!$B$32)=\"\", \"-\", OFFSET('Raw Data'!AE16,Input_Details!$B$34,Input_Details!$B$32))","v":0},{"$f":"IF(OFFSET('Raw Data'!AF16,Input_Details!$B$34,Input_Details!$B$32)=\"\", \"-\", OFFSET('Raw Data'!AF16,Input_Details!$B$34,Input_Details!$B$32))","v":0},{"$f":"IF(OFFSET('Raw Data'!AG16,Input_Details!$B$34,Input_Details!$B$32)=\"\", \"-\", OFFSET('Raw Data'!AG16,Input_Details!$B$34,Input_Details!$B$32))","v":0},{"$f":"IF(OFFSET('Raw Data'!AH16,Input_Details!$B$34,Input_Details!$B$32)=\"\", \"-\", OFFSET('Raw Data'!AH16,Input_Details!$B$34,Input_Details!$B$32))","v":0},{"$f":"IF(OFFSET('Raw Data'!AI16,Input_Details!$B$34,Input_Details!$B$32)=\"\", \"-\", OFFSET('Raw Data'!AI16,Input_Details!$B$34,Input_Details!$B$32))","v":0},{"$f":"IF(OFFSET('Raw Data'!AJ16,Input_Details!$B$34,Input_Details!$B$32)=\"\", \"-\", OFFSET('Raw Data'!AJ16,Input_Details!$B$34,Input_Details!$B$32))","v":0},{"$f":"IF(OFFSET('Raw Data'!AK16,Input_Details!$B$34,Input_Details!$B$32)=\"\", \"-\", OFFSET('Raw Data'!AK16,Input_Details!$B$34,Input_Details!$B$32))","v":0},{"$f":"IF(OFFSET('Raw Data'!AL16,Input_Details!$B$34,Input_Details!$B$32)=\"\", \"-\", OFFSET('Raw Data'!AL16,Input_Details!$B$34,Input_Details!$B$32))","v":0},{"$f":"IF(OFFSET('Raw Data'!AM16,Input_Details!$B$34,Input_Details!$B$32)=\"\", \"-\", OFFSET('Raw Data'!AM16,Input_Details!$B$34,Input_Details!$B$32))","v":0},null,{"$f":"IF(D38=\"-\",\"-\",OFFSET('Raw Data'!AN16,Input_Details!$B$34,Input_Details!$B$32))","v":18.30952380952381},{"$f":"IF(OFFSET('Raw Data'!AO16,Input_Details!$B$34,Input_Details!$B$32)=\"\", \"-\", OFFSET('Raw Data'!AO16,Input_Details!$B$34,Input_Details!$B$32))","v":21.95},{"$f":"IF(OFFSET('Raw Data'!AP16,Input_Details!$B$34,Input_Details!$B$32)=\"\", \"-\", OFFSET('Raw Data'!AP16,Input_Details!$B$34,Input_Details!$B$32))","v":9.9},{"$f":"IF(OFFSET('Raw Data'!AQ16,Input_Details!$B$34,Input_Details!$B$32)=\"\", \"-\", OFFSET('Raw Data'!AQ16,Input_Details!$B$34,Input_Details!$B$32))","v":29.3},null,{"$f":"IF(Y38=\"-\", \"-\", SUM(OFFSET(D38,0,VLOOKUP(Input_Details!$N$3, $AF$3:$AG$12, 2,0)-1):W38))","v":3},0.25]
[null,"03:15:00",null,{"$f":"IF(OFFSET('Raw Data'!T17,Input_Details!$B$34,Input_Details!$B$32)=\"\", \"-\", OFFSET('Raw Data'!T17,Input_Details!$B$34,Input_Details!$B$32))","v":0},{"$f":"IF(OFFSET('Raw Data'!U17,Input_Details!$B$34,Input_Details!$B$32)=\"\", \"-\", OFFSET('Raw Data'!U17,Input_Details!$B$34,Input_Details!$B$32))","v":1},{"$f":"IF(OFFSET('Raw Data'!V17,Input_Details!$B$34,Input_Details!$B$32)=\"\", \"-\", OFFSET('Raw Data'!V17,Input_Details!$B$34,Input_Details!$B$32))","v":5},{"$f":"IF(OFFSET('Raw Data'!W17,Input_Details!$B$34,Input_Details!$B$32)=\"\", \"-\", OFFSET('Raw Data'!W17,Input_Details!$B$34,Input_Details!$B$32))","v":4},{"$f":"IF(OFFSET('Raw Data'!X17,Input_Details!$B$34,Input_Details!$B$32)=\"\", \"-\", OFFSET('Raw Data'!X17,Input_Details!$B$34,Input_Details!$B$32))","v":2},{"$f":"IF(OFFSET('Raw Data'!Y17,Input_Details!$B$34,Input_Details!$B$32)=\"\", \"-\", OFFSET('Raw Data'!Y17,Input_Details!$B$34,Input_Details!$B$32))","v":0},{"$f":"IF(OFFSET('Raw Data'!Z17,Input_Details!$B$34,Input_Details!$B$32)=\"\", \"-\", OFFSET('Raw Data'!Z17,Input_Details!$B$34,Input_Details!$B$32))","v":0},{"$f":"IF(OFFSET('Raw Data'!AA17,Input_Details!$B$34,Input_Details!$B$32)=\"\", \"-\", OFFSET('Raw Data'!AA17,Input_Details!$B$34,Input_Details!$B$32))","v":0},{"$f":"IF(OFFSET('Raw Data'!AB17,Input_Details!$B$34,Input_Details!$B$32)=\"\", \"-\", OFFSET('Raw Data'!AB17,Input_Details!$B$34,Input_Details!$B$32))","v":0},{"$f":"IF(OFFSET('Raw Data'!AC17,Input_Details!$B$34,Input_Details!$B$32)=\"\", \"-\", OFFSET('Raw Data'!AC17,Input_Details!$B$34,Input_Details!$B$32))","v":0},{"$f":"IF(OFFSET('Raw Data'!AD17,Input_Details!$B$34,Input_Details!$B$32)=\"\", \"-\", OFFSET('Raw Data'!AD17,Input_Details!$B$34,Input_Details!$B$32))","v":0},{"$f":"IF(OFFSET('Raw Data'!AE17,Input_Details!$B$34,Input_Details!$B$32)=\"\", \"-\", OFFSET('Raw Data'!AE17,Input_Details!$B$34,Input_Details!$B$32))","v":0},{"$f":"IF(OFFSET('Raw Data'!AF17,Input_Details!$B$34,Input_Details!$B$32)=\"\", \"-\", OFFSET('Raw Data'!AF17,Input_Details!$B$34,Input_Details!$B$32))","v":0},{"$f":"IF(OFFSET('Raw Data'!AG17,Input_Details!$B$34,Input_Details!$B$32)=\"\", \"-\", OFFSET('Raw Data'!AG17,Input_Details!$B$34,Input_Details!$B$32))","v":0},{"$f":"IF(OFFSET('Raw Data'!AH17,Input_Details!$B$34,Input_Details!$B$32)=\"\", \"-\", OFFSET('Raw Data'!AH17,Input_Details!$B$34,Input_Details!$B$32))","v":0},{"$f":"IF(OFFSET('Raw Data'!AI17,Input_Details!$B$34,Input_Details!$B$32)=\"\", \"-\", OFFSET('Raw Data'!AI17,Input_Details!$B$34,Input_Details!$B$32))","v":0},{"$f":"IF(OFFSET('Raw Data'!AJ17,Input_Details!$B$34,Input_Details!$B$32)=\"\", \"-\", OFFSET('Raw Data'!AJ17,Input_Details!$B$34,Input_Details!$B$32))","v":0},{"$f":"IF(OFFSET('Raw Data'!AK17,Input_Details!$B$34,Input_Details!$B$32)=\"\", \"-\", OFFSET('Raw Data'!AK17,Input_Details!$B$34,Input_Details!$B$32))","v":0},{"$f":"IF(OFFSET('Raw Data'!AL17,Input_Details!$B$34,Input_Details!$B$32)=\"\", \"-\", OFFSET('Raw Data'!AL17,Input_Details!$B$34,Input_Details!$B$32))","v":0},{"$f":"IF(OFFSET('Raw Data'!AM17,Input_Details!$B$34,Input_Details!$B$32)=\"\", \"-\", OFFSET('Raw Data'!AM17,Input_Details!$B$34,Input_Details!$B$32))","v":0},null,{"$f":"IF(D39=\"-\",\"-\",OFFSET('Raw Data'!AN17,Input_Details!$B$34,Input_Details!$B$32))","v":20.801904761904765},{"$f":"IF(OFFSET('Raw Data'!AO17,Input_Details!$B$34,Input_Details!$B$32)=\"\", \"-\", OFFSET('Raw Data'!AO17,Input_Details!$B$34,Input_Details!$B$32))","v":24.125},{"$f":"IF(OFFSET('Raw Data'!AP17,Input_Details!$B$34,Input_Details!$B$32)=\"\", \"-\", OFFSET('Raw Data'!AP17,Input_Details!$B$34,Input_Details!$B$32))","v":12.5},{"$f":"IF(OFFSET('Raw Data'!AQ17,Input_Details!$B$34,Input_Details!$B$32)=\"\", \"-\", OFFSET('Raw Data'!AQ17,Input_Details!$B$34,Input_Details!$B$32))","v":31.6},null,{"$f":"IF(Y39=\"-\", \"-\", SUM(OFFSET(D39,0,VLOOKUP(Input_Details!$N$3, $AF$3:$AG$12, 2,0)-1):W39))","v":6},0.5]
[null,"03:30:00",null,{"$f":"IF(OFFSET('Raw Data'!T18,Input_Details!$B$34,Input_Details!$B$32)=\"\", \"-\", OFFSET('Raw Data'!T18,Input_Details!$B$34,Input_Details!$B$32))","v":0},{"$f":"IF(OFFSET('Raw Data'!U18,Input_Details!$B$34,Input_Details!$B$32)=\"\", \"-\", OFFSET('Raw Data'!U18,Input_Details!$B$34,Input_Details!$B$32))","v":1},{"$f":"IF(OFFSET('Raw Data'!V18,Input_Details!$B$34,Input_Details!$B$32)=\"\", \"-\", OFFSET('Raw Data'!V18,Input_Details!$B$34,Input_Details!$B$32))","v":6},{"$f":"IF(OFFSET('Raw Data'!W18,Input_Details!$B$34,Input_Details!$B$32)=\"\", \"-\", OFFSET('Raw Data'!W18,Input_Details!$B$34,Input_Details!$B$32))","v":3},{"$f":"IF(OFFSET('Raw Data'!X18,Input_Details!$B$34,Input_Details!$B$32)=\"\", \"-\", OFFSET('Raw Data'!X18,Input_Details!$B$34,Input_Details!$B$32))","v":1},{"$f":"IF(OFFSET('Raw Data'!Y18,Input_Details!$B$34,Input_Details!$B$32)=\"\", \"-\", OFFSET('Raw Data'!Y18,Input_Details!$B$34,Input_Details!$B$32))","v":0},{"$f":"IF(OFFSET('Raw Data'!Z18,Input_Details!$B$34,Input_Details!$B$32)=\"\", \"-\", OFFSET('Raw Data'!Z18,Input_Details!$B$34,Input_Details!$B$32))","v":0},{"$f":"IF(OFFSET('Raw Data'!AA18,Input_Details!$B$34,Input_Details!$B$32)=\"\", \"-\", OFFSET('Raw Data'!AA18,Input_Details!$B$34,Input_Details!$B$32))","v":0},{"$f":"IF(OFFSET('Raw Data'!AB18,Input_Details!$B$34,Input_Details!$B$32)=\"\", \"-\", OFFSET('Raw Data'!AB18,Input_Details!$B$34,Input_Details!$B$32))","v":0},{"$f":"IF(OFFSET('Raw Data'!AC18,Input_Details!$B$34,Input_Details!$B$32)=\"\", \"-\", OFFSET('Raw Data'!AC18,Input_Details!$B$34,Input_Details!$B$32))","v":0},{"$f":"IF(OFFSET('Raw Data'!AD18,Input_Details!$B$34,Input_Details!$B$32)=\"\", \"-\", OFFSET('Raw Data'!AD18,Input_Details!$B$34,Input_Details!$B$32))","v":0},{"$f":"IF(OFFSET('Raw Data'!AE18,Input_Details!$B$34,Input_Details!$B$32)=\"\", \"-\", OFFSET('Raw Data'!AE18,Input_Details!$B$34,Input_Details!$B$32))","v":0},{"$f":"IF(OFFSET('Raw Data'!AF18,Input_Details!$B$34,Input_Details!$B$32)=\"\", \"-\", OFFSET('Raw Data'!AF18,Input_Details!$B$34,Input_Details!$B$32))","v":0},{"$f":"IF(OFFSET('Raw Data'!AG18,Input_Details!$B$34,Input_Details!$B$32)=\"\", \"-\", OFFSET('Raw Data'!AG18,Input_Details!$B$34,Input_Details!$B$32))","v":0},{"$f":"IF(OFFSET('Raw Data'!AH18,Input_Details!$B$34,Input_Details!$B$32)=\"\", \"-\", OFFSET('Raw Data'!AH18,Input_Details!$B$34,Input_Details!$B$32))","v":0},{"$f":"IF(OFFSET('Raw Data'!AI18,Input_Details!$B$34,Input_Details!$B$32)=\"\", \"-\", OFFSET('Raw Data'!AI18,Input_Details!$B$34,Input_Details!$B$32))","v":0},{"$f":"IF(OFFSET('Raw Data'!AJ18,Input_Details!$B$34,Input_Details!$B$32)=\"\", \"-\", OFFSET('Raw Data'!AJ18,Input_Details!$B$34,Input_Details!$B$32))","v":0},{"$f":"IF(OFFSET('Raw Data'!AK18,Input_Details!$B$34,Input_Details!$B$32)=\"\", \"-\", OFFSET('Raw Data'!AK18,Input_Details!$B$34,Input_Details!$B$32))","v":0},{"$f":"IF(OFFSET('Raw Data'!AL18,Input_Details!$B$34,Input_Details!$B$32)=\"\", \"-\", OFFSET('Raw Data'!AL18,Input_Details!$B$34,Input_Details!$B$32))","v":0},{"$f":"IF(OFFSET('Raw Data'!AM18,Input_Details!$B$34,Input_Details!$B$32)=\"\", \"-\", OFFSET('Raw Data'!AM18,Input_Details!$B$34,Input_Details!$B$32))","v":0},null,{"$f":"IF(D40=\"-\",\"-\",OFFSET('Raw Data'!AN18,Input_Details!$B$34,Input_Details!$B$32))","v":21.0478354978355},{"$f":"IF(OFFSET('Raw Data'!AO18,Input_Details!$B$34,Input_Details!$B$32)=\"\", \"-\", OFFSET('Raw Data'!AO18,Input_Details!$B$34,Input_Details!$B$32))","v":23.866666666666664},{"$f":"IF(OFFSET('Raw Data'!AP18,Input_Details!$B$34,Input_Details!$B$32)=\"\", \"-\", OFFSET('Raw Data'!AP18,Input_Details!$B$34,Input_Details!$B$32))","v":8.1},{"$f":"IF(OFFSET('Raw Data'!AQ18,Input_Details!$B$34,Input_Details!$B$32)=\"\", \"-\", OFFSET('Raw Data'!AQ18,Input_Details!$B$34,Input_Details!$B$32))","v":42.2},null,{"$f":"IF(Y40=\"-\", \"-\", SUM(OFFSET(D40,0,VLOOKUP(Input_Details!$N$3, $AF$3:$AG$12, 2,0)-1):W40))","v":4},0.36363636363636365]
[null,"03:45:00",null,{"$f":"IF(OFFSET('Raw Data'!T19,Input_Details!$B$34,Input_Details!$B$32)=\"\", \"-\", OFFSET('Raw Data'!T19,Input_Details!$B$34,Input_Details!$B$32))","v":0},{"$f":"IF(OFFSET('Raw Data'!U19,Input_Details!$B$34,Input_Details!$B$32)=\"\", \"-\", OFFSET('Raw Data'!U19,Input_Details!$B$34,Input_Details!$B$32))","v":2},{"$f":"IF(OFFSET('Raw Data'!V19,Input_Details!$B$34,Input_Details!$B$32)=\"\", \"-\", OFFSET('Raw Data'!V19,Input_Details!$B$34,Input_Details!$B$32))","v":5},{"$f":"IF(OFFSET('Raw Data'!W19,Input_Details!$B$34,Input_Details!$B$32)=\"\", \"-\", OFFSET('Raw Data'!W19,Input_Details!$B$34,Input_Details!$B$32))","v":3},{"$f":"IF(OFFSET('Raw Data'!X19,Input_Details!$B$34,Input_Details!$B$32)=\"\", \"-\", OFFSET('Raw Data'!X19,Input_Details!$B$34,Input_Details!$B$32))","v":1},{"$f":"IF(OFFSET('Raw Data'!Y19,Input_Details!$B$34,Input_Details!$B$32)=\"\", \"-\", OFFSET('Raw Data'!Y19,Input_Details!$B$34,Input_Details!$B$32))","v":0},{"$f":"IF(OFFSET('Raw Data'!Z19,Input_Details!$B$34,Input_Details!$B$32)=\"\", \"-\", OFFSET('Raw Data'!Z19,Input_Details!$B$34,Input_Details!$B$32))","v":0},{"$f":"IF(OFFSET('Raw Data'!AA19,Input_Details!$B$34,Input_Details!$B$32)=\"\", \"-\", OFFSET('Raw Data'!AA19,Input_Details!$B$34,Input_Details!$B$32))","v":0},{"$f":"IF(OFFSET('Raw Data'!AB19,Input_Details!$B$34,Input_Details!$B$32)=\"\", \"-\", OFFSET('Raw Data'!AB19,Input_Details!$B$34,Input_Details!$B$32))","v":0},{"$f":"IF(OFFSET('Raw Data'!AC19,Input_Details!$B$34,Input_Details!$B$32)=\"\", \"-\", OFFSET('Raw Data'!AC19,Input_Details!$B$34,Input_Details!$B$32))","v":0},{"$f":"IF(OFFSET('Raw Data'!AD19,Input_Details!$B$34,Input_Details!$B$32)=\"\", \"-\", OFFSET('Raw Data'!AD19,Input_Details!$B$34,Input_Details!$B$32))","v":0},{"$f":"IF(OFFSET('Raw Data'!AE19,Input_Details!$B$34,Input_Details!$B$32)=\"\", \"-\", OFFSET('Raw Data'!AE19,Input_Details!$B$34,Input_Details!$B$32))","v":0},{"$f":"IF(OFFSET('Raw Data'!AF19,Input_Details!$B$34,Input_Details!$B$32)=\"\", \"-\", OFFSET('Raw Data'!AF19,Input_Details!$B$34,Input_Details!$B$32))","v":0},{"$f":"IF(OFFSET('Raw Data'!AG19,Input_Details!$B$34,Input_Details!$B$32)=\"\", \"-\", OFFSET('Raw Data'!AG19,Input_Details!$B$34,Input_Details!$B$32))","v":0},{"$f":"IF(OFFSET('Raw Data'!AH19,Input_Details!$B$34,Input_Details!$B$32)=\"\", \"-\", OFFSET('Raw Data'!AH19,Input_Details!$B$34,Input_Details!$B$32))","v":0},{"$f":"IF(OFFSET('Raw Data'!AI19,Input_Details!$B$34,Input_Details!$B$32)=\"\", \"-\", OFFSET('Raw Data'!AI19,Input_Details!$B$34,Input_Details!$B$32))","v":0},{"$f":"IF(OFFSET('Raw Data'!AJ19,Input_Details!$B$34,Input_Details!$B$32)=\"\", \"-\", OFFSET('Raw Data'!AJ19,Input_Details!$B$34,Input_Details!$B$32))","v":0},{"$f":"IF(OFFSET('Raw Data'!AK19,Input_Details!$B$34,Input_Details!$B$32)=\"\", \"-\", OFFSET('Raw Data'!AK19,Input_Details!$B$34,Input_Details!$B$32))","v":0},{"$f":"IF(OFFSET('Raw Data'!AL19,Input_Details!$B$34,Input_Details!$B$32)=\"\", \"-\", OFFSET('Raw Data'!AL19,Input_Details!$B$34,Input_Details!$B$32))","v":0},{"$f":"IF(OFFSET('Raw Data'!AM19,Input_Details!$B$34,Input_Details!$B$32)=\"\", \"-\", OFFSET('Raw Data'!AM19,Input_Details!$B$34,Input_Details!$B$32))","v":0},null,{"$f":"IF(D41=\"-\",\"-\",OFFSET('Raw Data'!AN19,Input_Details!$B$34,Input_Details!$B$32))","v":19.902922077922078},{"$f":"IF(OFFSET('Raw Data'!AO19,Input_Details!$B$34,Input_Details!$B$32)=\"\", \"-\", OFFSET('Raw Data'!AO19,Input_Details!$B$34,Input_Details!$B$32))","v":23.15},{"$f":"IF(OFFSET('Raw Data'!AP19,Input_Details!$B$34,Input_Details!$B$32)=\"\", \"-\", OFFSET('Raw Data'!AP19,Input_Details!$B$34,Input_Details!$B$32))","v":10},{"$f":"IF(OFFSET('Raw Data'!AQ19,Input_Details!$B$34,Input_Details!$B$32)=\"\", \"-\", OFFSET('Raw Data'!AQ19,Input_Details!$B$34,Input_Details!$B$32))","v":36.4},null,{"$f":"IF(Y41=\"-\", \"-\", SUM(OFFSET(D41,0,VLOOKUP(Input_Details!$N$3, $AF$3:$AG$12, 2,0)-1):W41))","v":4},0.36363636363636365]
[null,"04:00:00",null,{"$f":"IF(OFFSET('Raw Data'!T20,Input_Details!$B$34,Input_Details!$B$32)=\"\", \"-\", OFFSET('Raw Data'!T20,Input_Details!$B$34,Input_Details!$B$32))","v":0},{"$f":"IF(OFFSET('Raw Data'!U20,Input_Details!$B$34,Input_Details!$B$32)=\"\", \"-\", OFFSET('Raw Data'!U20,Input_Details!$B$34,Input_Details!$B$32))","v":1},{"$f":"IF(OFFSET('Raw Data'!V20,Input_Details!$B$34,Input_Details!$B$32)=\"\", \"-\", OFFSET('Raw Data'!V20,Input_Details!$B$34,Input_Details!$B$32))","v":4},{"$f":"IF(OFFSET('Raw Data'!W20,Input_Details!$B$34,Input_Details!$B$32)=\"\", \"-\", OFFSET('Raw Data'!W20,Input_Details!$B$34,Input_Details!$B$32))","v":3},{"$f":"IF(OFFSET('Raw Data'!X20,Input_Details!$B$34,Input_Details!$B$32)=\"\", \"-\", OFFSET('Raw Data'!X20,Input_Details!$B$34,Input_Details!$B$32))","v":1},{"$f":"IF(OFFSET('Raw Data'!Y20,Input_Details!$B$34,Input_Details!$B$32)=\"\", \"-\", OFFSET('Raw Data'!Y20,Input_Details!$B$34,Input_Details!$B$32))","v":0},{"$f":"IF(OFFSET('Raw Data'!Z20,Input_Details!$B$34,Input_Details!$B$32)=\"\", \"-\", OFFSET('Raw Data'!Z20,Input_Details!$B$34,Input_Details!$B$32))","v":0},{"$f":"IF(OFFSET('Raw Data'!AA20,Input_Details!$B$34,Input_Details!$B$32)=\"\", \"-\", OFFSET('Raw Data'!AA20,Input_Details!$B$34,Input_Details!$B$32))","v":0},{"$f":"IF(OFFSET('Raw Data'!AB20,Input_Details!$B$34,Input_Details!$B$32)=\"\", \"-\", OFFSET('Raw Data'!AB20,Input_Details!$B$34,Input_Details!$B$32))","v":0},{"$f":"IF(OFFSET('Raw Data'!AC20,Input_Details!$B$34,Input_Details!$B$32)=\"\", \"-\", OFFSET('Raw Data'!AC20,Input_Details!$B$34,Input_Details!$B$32))","v":0},{"$f":"IF(OFFSET('Raw Data'!AD20,Input_Details!$B$34,Input_Details!$B$32)=\"\", \"-\", OFFSET('Raw Data'!AD20,Input_Details!$B$34,Input_Details!$B$32))","v":0},{"$f":"IF(OFFSET('Raw Data'!AE20,Input_Details!$B$34,Input_Details!$B$32)=\"\", \"-\", OFFSET('Raw Data'!AE20,Input_Details!$B$34,Input_Details!$B$32))","v":0},{"$f":"IF(OFFSET('Raw Data'!AF20,Input_Details!$B$34,Input_Details!$B$32)=\"\", \"-\", OFFSET('Raw Data'!AF20,Input_Details!$B$34,Input_Details!$B$32))","v":0},{"$f":"IF(OFFSET('Raw Data'!AG20,Input_Details!$B$34,Input_Details!$B$32)=\"\", \"-\", OFFSET('Raw Data'!AG20,Input_Details!$B$34,Input_Details!$B$32))","v":0},{"$f":"IF(OFFSET('Raw Data'!AH20,Input_Details!$B$34,Input_Details!$B$32)=\"\", \"-\", OFFSET('Raw Data'!AH20,Input_Details!$B$34,Input_Details!$B$32))","v":0},{"$f":"IF(OFFSET('Raw Data'!AI20,Input_Details!$B$34,Input_Details!$B$32)=\"\", \"-\", OFFSET('Raw Data'!AI20,Input_Details!$B$34,Input_Details!$B$32))","v":0},{"$f":"IF(OFFSET('Raw Data'!AJ20,Input_Details!$B$34,Input_Details!$B$32)=\"\", \"-\", OFFSET('Raw Data'!AJ20,Input_Details!$B$34,Input_Details!$B$32))","v":0},{"$f":"IF(OFFSET('Raw Data'!AK20,Input_Details!$B$34,Input_Details!$B$32)=\"\", \"-\", OFFSET('Raw Data'!AK20,Input_Details!$B$34,Input_Details!$B$32))","v":0},{"$f":"IF(OFFSET('Raw Data'!AL20,Input_Details!$B$34,Input_Details!$B$32)=\"\", \"-\", OFFSET('Raw Data'!AL20,Input_Details!$B$34,Input_Details!$B$32))","v":0},{"$f":"IF(OFFSET('Raw Data'!AM20,Input_Details!$B$34,Input_Details!$B$32)=\"\", \"-\", OFFSET('Raw Data'!AM20,Input_Details!$B$34,Input_Details!$B$32))","v":0},null,{"$f":"IF(D42=\"-\",\"-\",OFFSET('Raw Data'!AN20,Input_Details!$B$34,Input_Details!$B$32))","v":19.735317460317457},{"$f":"IF(OFFSET('Raw Data'!AO20,Input_Details!$B$34,Input_Details!$B$32)=\"\", \"-\", OFFSET('Raw Data'!AO20,Input_Details!$B$34,Input_Details!$B$32))","v":24.933333333333337},{"$f":"IF(OFFSET('Raw Data'!AP20,Input_Details!$B$34,Input_Details!$B$32)=\"\", \"-\", OFFSET('Raw Data'!AP20,Input_Details!$B$34,Input_Details!$B$32))","v":11.9},{"$f":"IF(OFFSET('Raw Data'!AQ20,Input_Details!$B$34,Input_Details!$B$32)=\"\", \"-\", OFFSET('Raw Data'!AQ20,Input_Details!$B$34,Input_Details!$B$32))","v":31},null,{"$f":"IF(Y42=\"-\", \"-\", SUM(OFFSET(D42,0,VLOOKUP(Input_Details!$N$3, $AF$3:$AG$12, 2,0)-1):W42))","v":4},0.44444444444444442]
[null,"04:15:00",null,{"$f":"IF(OFFSET('Raw Data'!T21,Input_Details!$B$34,Input_Details!$B$32)=\"\", \"-\", OFFSET('Raw Data'!T21,Input_Details!$B$34,Input_Details!$B$32))","v":0},{"$f":"IF(OFFSET('Raw Data'!U21,Input_Details!$B$34,Input_Details!$B$32)=\"\", \"-\", OFFSET('Raw Data'!U21,Input_Details!$B$34,Input_Details!$B$32))","v":1},{"$f":"IF(OFFSET('Raw Data'!V21,Input_Details!$B$34,Input_Details!$B$32)=\"\", \"-\", OFFSET('Raw Data'!V21,Input_Details!$B$34,Input_Details!$B$32))","v":4},{"$f":"IF(OFFSET('Raw Data'!W21,Input_Details!$B$34,Input_Details!$B$32)=\"\", \"-\", OFFSET('Raw Data'!W21,Input_Details!$B$34,Input_Details!$B$32))","v":4},{"$f":"IF(OFFSET('Raw Data'!X21,Input_Details!$B$34,Input_Details!$B$32)=\"\", \"-\", OFFSET('Raw Data'!X21,Input_Details!$B$34,Input_Details!$B$32))","v":1},{"$f":"IF(OFFSET('Raw Data'!Y21,Input_Details!$B$34,Input_Details!$B$32)=\"\", \"-\", OFFSET('Raw Data'!Y21,Input_Details!$B$34,Input_Details!$B$32))","v":0},{"$f":"IF(OFFSET('Raw Data'!Z21,Input_Details!$B$34,Input_Details!$B$32)=\"\", \"-\", OFFSET('Raw Data'!Z21,Input_Details!$B$34,Input_Details!$B$32))","v":0},{"$f":"IF(OFFSET('Raw Data'!AA21,Input_Details!$B$34,Input_Details!$B$32)=\"\", \"-\", OFFSET('Raw Data'!AA21,Input_Details!$B$34,Input_Details!$B$32))","v":0},{"$f":"IF(OFFSET('Raw Data'!AB21,Input_Details!$B$34,Input_Details!$B$32)=\"\", \"-\", OFFSET('Raw Data'!AB21,Input_Details!$B$34,Input_Details!$B$32))","v":0},{"$f":"IF(OFFSET('Raw Data'!AC21,Input_Details!$B$34,Input_Details!$B$32)=\"\", \"-\", OFFSET('Raw Data'!AC21,Input_Details!$B$34,Input_Details!$B$32))","v":0},{"$f":"IF(OFFSET('Raw Data'!AD21,Input_Details!$B$34,Input_Details!$B$32)=\"\", \"-\", OFFSET('Raw Data'!AD21,Input_Details!$B$34,Input_Details!$B$32))","v":0},{"$f":"IF(OFFSET('Raw Data'!AE21,Input_Details!$B$34,Input_Details!$B$32)=\"\", \"-\", OFFSET('Raw Data'!AE21,Input_Details!$B$34,Input_Details!$B$32))","v":0},{"$f":"IF(OFFSET('Raw Data'!AF21,Input_Details!$B$34,Input_Details!$B$32)=\"\", \"-\", OFFSET('Raw Data'!AF21,Input_Details!$B$34,Input_Details!$B$32))","v":0},{"$f":"IF(OFFSET('Raw Data'!AG21,Input_Details!$B$34,Input_Details!$B$32)=\"\", \"-\", OFFSET('Raw Data'!AG21,Input_Details!$B$34,Input_Details!$B$32))","v":0},{"$f":"IF(OFFSET('Raw Data'!AH21,Input_Details!$B$34,Input_Details!$B$32)=\"\", \"-\", OFFSET('Raw Data'!AH21,Input_Details!$B$34,Input_Details!$B$32))","v":0},{"$f":"IF(OFFSET('Raw Data'!AI21,Input_Details!$B$34,Input_Details!$B$32)=\"\", \"-\", OFFSET('Raw Data'!AI21,Input_Details!$B$34,Input_Details!$B$32))","v":0},{"$f":"IF(OFFSET('Raw Data'!AJ21,Input_Details!$B$34,Input_Details!$B$32)=\"\", \"-\", OFFSET('Raw Data'!AJ21,Input_Details!$B$34,Input_Details!$B$32))","v":0},{"$f":"IF(OFFSET('Raw Data'!AK21,Input_Details!$B$34,Input_Details!$B$32)=\"\", \"-\", OFFSET('Raw Data'!AK21,Input_Details!$B$34,Input_Details!$B$32))","v":0},{"$f":"IF(OFFSET('Raw Data'!AL21,Input_Details!$B$34,Input_Details!$B$32)=\"\", \"-\", OFFSET('Raw Data'!AL21,Input_Details!$B$34,Input_Details!$B$32))","v":0},{"$f":"IF(OFFSET('Raw Data'!AM21,Input_Details!$B$34,Input_Details!$B$32)=\"\", \"-\", OFFSET('Raw Data'!AM21,Input_Details!$B$34,Input_Details!$B$32))","v":0},null,{"$f":"IF(D43=\"-\",\"-\",OFFSET('Raw Data'!AN21,Input_Details!$B$34,Input_Details!$B$32))","v":19.836571428571428},{"$f":"IF(OFFSET('Raw Data'!AO21,Input_Details!$B$34,Input_Details!$B$32)=\"\", \"-\", OFFSET('Raw Data'!AO21,Input_Details!$B$34,Input_Details!$B$32))","v":20.100000000000001},{"$f":"IF(OFFSET('Raw Data'!AP21,Input_Details!$B$34,Input_Details!$B$32)=\"\", \"-\", OFFSET('Raw Data'!AP21,Input_Details!$B$34,Input_Details!$B$32))","v":7.6},{"$f":"IF(OFFSET('Raw Data'!AQ21,Input_Details!$B$34,Input_Details!$B$32)=\"\", \"-\", OFFSET('Raw Data'!AQ21,Input_Details!$B$34,Input_Details!$B$32))","v":35.799999999999997},null,{"$f":"IF(Y43=\"-\", \"-\", SUM(OFFSET(D43,0,VLOOKUP(Input_Details!$N$3, $AF$3:$AG$12, 2,0)-1):W43))","v":5},0.5]
[null,"04:30:00",null,{"$f":"IF(OFFSET('Raw Data'!T22,Input_Details!$B$34,Input_Details!$B$32)=\"\", \"-\", OFFSET('Raw Data'!T22,Input_Details!$B$34,Input_Details!$B$32))","v":0},{"$f":"IF(OFFSET('Raw Data'!U22,Input_Details!$B$34,Input_Details!$B$32)=\"\", \"-\", OFFSET('Raw Data'!U22,Input_Details!$B$34,Input_Details!$B$32))","v":2},{"$f":"IF(OFFSET('Raw Data'!V22,Input_Details!$B$34,Input_Details!$B$32)=\"\", \"-\", OFFSET('Raw Data'!V22,Input_Details!$B$34,Input_Details!$B$32))","v":5},{"$f":"IF(OFFSET('Raw Data'!W22,Input_Details!$B$34,Input_Details!$B$32)=\"\", \"-\", OFFSET('Raw Data'!W22,Input_Details!$B$34,Input_Details!$B$32))","v":3},{"$f":"IF(OFFSET('Raw Data'!X22,Input_Details!$B$34,Input_Details!$B$32)=\"\", \"-\", OFFSET('Raw Data'!X22,Input_Details!$B$34,Input_Details!$B$32))","v":0},{"$f":"IF(OFFSET('Raw Data'!Y22,Input_Details!$B$34,Input_Details!$B$32)=\"\", \"-\", OFFSET('Raw Data'!Y22,Input_Details!$B$34,Input_Details!$B$32))","v":0},{"$f":"IF(OFFSET('Raw Data'!Z22,Input_Details!$B$34,Input_Details!$B$32)=\"\", \"-\", OFFSET('Raw Data'!Z22,Input_Details!$B$34,Input_Details!$B$32))","v":0},{"$f":"IF(OFFSET('Raw Data'!AA22,Input_Details!$B$34,Input_Details!$B$32)=\"\", \"-\", OFFSET('Raw Data'!AA22,Input_Details!$B$34,Input_Details!$B$32))","v":0},{"$f":"IF(OFFSET('Raw Data'!AB22,Input_Details!$B$34,Input_Details!$B$32)=\"\", \"-\", OFFSET('Raw Data'!AB22,Input_Details!$B$34,Input_Details!$B$32))","v":0},{"$f":"IF(OFFSET('Raw Data'!AC22,Input_Details!$B$34,Input_Details!$B$32)=\"\", \"-\", OFFSET('Raw Data'!AC22,Input_Details!$B$34,Input_Details!$B$32))","v":0},{"$f":"IF(OFFSET('Raw Data'!AD22,Input_Details!$B$34,Input_Details!$B$32)=\"\", \"-\", OFFSET('Raw Data'!AD22,Input_Details!$B$34,Input_Details!$B$32))","v":0},{"$f":"IF(OFFSET('Raw Data'!AE22,Input_Details!$B$34,Input_Details!$B$32)=\"\", \"-\", OFFSET('Raw Data'!AE22,Input_Details!$B$34,Input_Details!$B$32))","v":0},{"$f":"IF(OFFSET('Raw Data'!AF22,Input_Details!$B$34,Input_Details!$B$32)=\"\", \"-\", OFFSET('Raw Data'!AF22,Input_Details!$B$34,Input_Details!$B$32))","v":0},{"$f":"IF(OFFSET('Raw Data'!AG22,Input_Details!$B$34,Input_Details!$B$32)=\"\", \"-\", OFFSET('Raw Data'!AG22,Input_Details!$B$34,Input_Details!$B$32))","v":0},{"$f":"IF(OFFSET('Raw Data'!AH22,Input_Details!$B$34,Input_Details!$B$32)=\"\", \"-\", OFFSET('Raw Data'!AH22,Input_Details!$B$34,Input_Details!$B$32))","v":0},{"$f":"IF(OFFSET('Raw Data'!AI22,Input_Details!$B$34,Input_Details!$B$32)=\"\", \"-\", OFFSET('Raw Data'!AI22,Input_Details!$B$34,Input_Details!$B$32))","v":0},{"$f":"IF(OFFSET('Raw Data'!AJ22,Input_Details!$B$34,Input_Details!$B$32)=\"\", \"-\", OFFSET('Raw Data'!AJ22,Input_Details!$B$34,Input_Details!$B$32))","v":0},{"$f":"IF(OFFSET('Raw Data'!AK22,Input_Details!$B$34,Input_Details!$B$32)=\"\", \"-\", OFFSET('Raw Data'!AK22,Input_Details!$B$34,Input_Details!$B$32))","v":0},{"$f":"IF(OFFSET('Raw Data'!AL22,Input_Details!$B$34,Input_Details!$B$32)=\"\", \"-\", OFFSET('Raw Data'!AL22,Input_Details!$B$34,Input_Details!$B$32))","v":0},{"$f":"IF(OFFSET('Raw Data'!AM22,Input_Details!$B$34,Input_Details!$B$32)=\"\", \"-\", OFFSET('Raw Data'!AM22,Input_Details!$B$34,Input_Details!$B$32))","v":0},null,{"$f":"IF(D44=\"-\",\"-\",OFFSET('Raw Data'!AN22,Input_Details!$B$34,Input_Details!$B$32))","v":18.200000000000003},{"$f":"IF(OFFSET('Raw Data'!AO22,Input_Details!$B$34,Input_Details!$B$32)=\"\", \"-\", OFFSET('Raw Data'!AO22,Input_Details!$B$34,Input_Details!$B$32))","v":21.5},{"$f":"IF(OFFSET('Raw Data'!AP22,Input_Details!$B$34,Input_Details!$B$32)=\"\", \"-\", OFFSET('Raw Data'!AP22,Input_Details!$B$34,Input_Details!$B$32))","v":9.6},{"$f":"IF(OFFSET('Raw Data'!AQ22,Input_Details!$B$34,Input_Details!$B$32)=\"\", \"-\", OFFSET('Raw Data'!AQ22,Input_Details!$B$34,Input_Details!$B$32))","v":24.8},null,{"$f":"IF(Y44=\"-\", \"-\", SUM(OFFSET(D44,0,VLOOKUP(Input_Details!$N$3, $AF$3:$AG$12, 2,0)-1):W44))","v":3},0.3]
[null,"04:45:00",null,{"$f":"IF(OFFSET('Raw Data'!T23,Input_Details!$B$34,Input_Details!$B$32)=\"\", \"-\", OFFSET('Raw Data'!T23,Input_Details!$B$34,Input_Details!$B$32))","v":0},{"$f":"IF(OFFSET('Raw Data'!U23,Input_Details!$B$34,Input_Details!$B$32)=\"\", \"-\", OFFSET('Raw Data'!U23,Input_Details!$B$34,Input_Details!$B$32))","v":3},{"$f":"IF(OFFSET('Raw Data'!V23,Input_Details!$B$34,Input_Details!$B$32)=\"\", \"-\", OFFSET('Raw Data'!V23,Input_Details!$B$34,Input_Details!$B$32))","v":4},{"$f":"IF(OFFSET('Raw Data'!W23,Input_Details!$B$34,Input_Details!$B$32)=\"\", \"-\", OFFSET('Raw Data'!W23,Input_Details!$B$34,Input_Details!$B$32))","v":3},{"$f":"IF(OFFSET('Raw Data'!X23,Input_Details!$B$34,Input_Details!$B$32)=\"\", \"-\", OFFSET('Raw Data'!X23,Input_Details!$B$34,Input_Details!$B$32))","v":1},{"$f":"IF(OFFSET('Raw Data'!Y23,Input_Details!$B$34,Input_Details!$B$32)=\"\", \"-\", OFFSET('Raw Data'!Y23,Input_Details!$B$34,Input_Details!$B$32))","v":0},{"$f":"IF(OFFSET('Raw Data'!Z23,Input_Details!$B$34,Input_Details!$B$32)=\"\", \"-\", OFFSET('Raw Data'!Z23,Input_Details!$B$34,Input_Details!$B$32))","v":0},{"$f":"IF(OFFSET('Raw Data'!AA23,Input_Details!$B$34,Input_Details!$B$32)=\"\", \"-\", OFFSET('Raw Data'!AA23,Input_Details!$B$34,Input_Details!$B$32))","v":0},{"$f":"IF(OFFSET('Raw Data'!AB23,Input_Details!$B$34,Input_Details!$B$32)=\"\", \"-\", OFFSET('Raw Data'!AB23,Input_Details!$B$34,Input_Details!$B$32))","v":0},{"$f":"IF(OFFSET('Raw Data'!AC23,Input_Details!$B$34,Input_Details!$B$32)=\"\", \"-\", OFFSET('Raw Data'!AC23,Input_Details!$B$34,Input_Details!$B$32))","v":0},{"$f":"IF(OFFSET('Raw Data'!AD23,Input_Details!$B$34,Input_Details!$B$32)=\"\", \"-\", OFFSET('Raw Data'!AD23,Input_Details!$B$34,Input_Details!$B$32))","v":0},{"$f":"IF(OFFSET('Raw Data'!AE23,Input_Details!$B$34,Input_Details!$B$32)=\"\", \"-\", OFFSET('Raw Data'!AE23,Input_Details!$B$34,Input_Details!$B$32))","v":0},{"$f":"IF(OFFSET('Raw Data'!AF23,Input_Details!$B$34,Input_Details!$B$32)=\"\", \"-\", OFFSET('Raw Data'!AF23,Input_Details!$B$34,Input_Details!$B$32))","v":0},{"$f":"IF(OFFSET('Raw Data'!AG23,Input_Details!$B$34,Input_Details!$B$32)=\"\", \"-\", OFFSET('Raw Data'!AG23,Input_Details!$B$34,Input_Details!$B$32))","v":0},{"$f":"IF(OFFSET('Raw Data'!AH23,Input_Details!$B$34,Input_Details!$B$32)=\"\", \"-\", OFFSET('Raw Data'!AH23,Input_Details!$B$34,Input_Details!$B$32))","v":0},{"$f":"IF(OFFSET('Raw Data'!AI23,Input_Details!$B$34,Input_Details!$B$32)=\"\", \"-\", OFFSET('Raw Data'!AI23,Input_Details!$B$34,Input_Details!$B$32))","v":0},{"$f":"IF(OFFSET('Raw Data'!AJ23,Input_Details!$B$34,Input_Details!$B$32)=\"\", \"-\", OFFSET('Raw Data'!AJ23,Input_Details!$B$34,Input_Details!$B$32))","v":0},{"$f":"IF(OFFSET('Raw Data'!AK23,Input_Details!$B$34,Input_Details!$B$32)=\"\", \"-\", OFFSET('Raw Data'!AK23,Input_Details!$B$34,Input_Details!$B$32))","v":0},{"$f":"IF(OFFSET('Raw Data'!AL23,Input_Details!$B$34,Input_Details!$B$32)=\"\", \"-\", OFFSET('Raw Data'!AL23,Input_Details!$B$34,Input_Details!$B$32))","v":0},{"$f":"IF(OFFSET('Raw Data'!AM23,Input_Details!$B$34,Input_Details!$B$32)=\"\", \"-\", OFFSET('Raw Data'!AM23,Input_Details!$B$34,Input_Details!$B$32))","v":0},null,{"$f":"IF(D45=\"-\",\"-\",OFFSET('Raw Data'!AN23,Input_Details!$B$34,Input_Details!$B$32))","v":18.975824175824176},{"$f":"IF(OFFSET('Raw Data'!AO23,Input_Details!$B$34,Input_Details!$B$32)=\"\", \"-\", OFFSET('Raw Data'!AO23,Input_Details!$B$34,Input_Details!$B$32))","v":23},{"$f":"IF(OFFSET('Raw Data'!AP23,Input_Details!$B$34,Input_Details!$B$32)=\"\", \"-\", OFFSET('Raw Data'!AP23,Input_Details!$B$34,Input_Details!$B$32))","v":6.5},{"$f":"IF(OFFSET('Raw Data'!AQ23,Input_Details!$B$34,Input_Details!$B$32)=\"\", \"-\", OFFSET('Raw Data'!AQ23,Input_Details!$B$34,Input_Details!$B$32))","v":43.6},null,{"$f":"IF(Y45=\"-\", \"-\", SUM(OFFSET(D45,0,VLOOKUP(Input_Details!$N$3, $AF$3:$AG$12, 2,0)-1):W45))","v":4},0.36363636363636365]
[null,"05:00:00",null,{"$f":"IF(OFFSET('Raw Data'!T24,Input_Details!$B$34,Input_Details!$B$32)=\"\", \"-\", OFFSET('Raw Data'!T24,Input_Details!$B$34,Input_Details!$B$32))","v":0},{"$f":"IF(OFFSET('Raw Data'!U24,Input_Details!$B$34,Input_Details!$B$32)=\"\", \"-\", OFFSET('Raw Data'!U24,Input_Details!$B$34,Input_Details!$B$32))","v":3},{"$f":"IF(OFFSET('Raw Data'!V24,Input_Details!$B$34,Input_Details!$B$32)=\"\", \"-\", OFFSET('Raw Data'!V24,Input_Details!$B$34,Input_Details!$B$32))","v":5},{"$f":"IF(OFFSET('Raw Data'!W24,Input_Details!$B$34,Input_Details!$B$32)=\"\", \"-\", OFFSET('Raw Data'!W24,Input_Details!$B$34,Input_Details!$B$32))","v":5},{"$f":"IF(OFFSET('Raw Data'!X24,Input_Details!$B$34,Input_Details!$B$32)=\"\", \"-\", OFFSET('Raw Data'!X24,Input_Details!$B$34,Input_Details!$B$32))","v":1},{"$f":"IF(OFFSET('Raw Data'!Y24,Input_Details!$B$34,Input_Details!$B$32)=\"\", \"-\", OFFSET('Raw Data'!Y24,Input_Details!$B$34,Input_Details!$B$32))","v":0},{"$f":"IF(OFFSET('Raw Data'!Z24,Input_Details!$B$34,Input_Details!$B$32)=\"\", \"-\", OFFSET('Raw Data'!Z24,Input_Details!$B$34,Input_Details!$B$32))","v":0},{"$f":"IF(OFFSET('Raw Data'!AA24,Input_Details!$B$34,Input_Details!$B$32)=\"\", \"-\", OFFSET('Raw Data'!AA24,Input_Details!$B$34,Input_Details!$B$32))","v":0},{"$f":"IF(OFFSET('Raw Data'!AB24,Input_Details!$B$34,Input_Details!$B$32)=\"\", \"-\", OFFSET('Raw Data'!AB24,Input_Details!$B$34,Input_Details!$B$32))","v":0},{"$f":"IF(OFFSET('Raw Data'!AC24,Input_Details!$B$34,Input_Details!$B$32)=\"\", \"-\", OFFSET('Raw Data'!AC24,Input_Details!$B$34,Input_Details!$B$32))","v":0},{"$f":"IF(OFFSET('Raw Data'!AD24,Input_Details!$B$34,Input_Details!$B$32)=\"\", \"-\", OFFSET('Raw Data'!AD24,Input_Details!$B$34,Input_Details!$B$32))","v":0},{"$f":"IF(OFFSET('Raw Data'!AE24,Input_Details!$B$34,Input_Details!$B$32)=\"\", \"-\", OFFSET('Raw Data'!AE24,Input_Details!$B$34,Input_Details!$B$32))","v":0},{"$f":"IF(OFFSET('Raw Data'!AF24,Input_Details!$B$34,Input_Details!$B$32)=\"\", \"-\", OFFSET('Raw Data'!AF24,Input_Details!$B$34,Input_Details!$B$32))","v":0},{"$f":"IF(OFFSET('Raw Data'!AG24,Input_Details!$B$34,Input_Details!$B$32)=\"\", \"-\", OFFSET('Raw Data'!AG24,Input_Details!$B$34,Input_Details!$B$32))","v":0},{"$f":"IF(OFFSET('Raw Data'!AH24,Input_Details!$B$34,Input_Details!$B$32)=\"\", \"-\", OFFSET('Raw Data'!AH24,Input_Details!$B$34,Input_Details!$B$32))","v":0},{"$f":"IF(OFFSET('Raw Data'!AI24,Input_Details!$B$34,Input_Details!$B$32)=\"\", \"-\", OFFSET('Raw Data'!AI24,Input_Details!$B$34,Input_Details!$B$32))","v":0},{"$f":"IF(OFFSET('Raw Data'!AJ24,Input_Details!$B$34,Input_Details!$B$32)=\"\", \"-\", OFFSET('Raw Data'!AJ24,Input_Details!$B$34,Input_Details!$B$32))","v":0},{"$f":"IF(OFFSET('Raw Data'!AK24,Input_Details!$B$34,Input_Details!$B$32)=\"\", \"-\", OFFSET('Raw Data'!AK24,Input_Details!$B$34,Input_Details!$B$32))","v":0},{"$f":"IF(OFFSET('Raw Data'!AL24,Input_Details!$B$34,Input_Details!$B$32)=\"\", \"-\", OFFSET('Raw Data'!AL24,Input_Details!$B$34,Input_Details!$B$32))","v":0},{"$f":"IF(OFFSET('Raw Data'!AM24,Input_Details!$B$34,Input_Details!$B$32)=\"\", \"-\", OFFSET('Raw Data'!AM24,Input_Details!$B$34,Input_Details!$B$32))","v":0},null,{"$f":"IF(D46=\"-\",\"-\",OFFSET('Raw Data'!AN24,Input_Details!$B$34,Input_Details!$B$32))","v":19.546666666666667},{"$f":"IF(OFFSET('Raw Data'!AO24,Input_Details!$B$34,Input_Details!$B$32)=\"\", \"-\", OFFSET('Raw Data'!AO24,Input_Details!$B$34,Input_Details!$B$32))","v":21.7},{"$f":"IF(OFFSET('Raw Data'!AP24,Input_Details!$B$34,Input_Details!$B$32)=\"\", \"-\", OFFSET('Raw Data'!AP24,Input_Details!$B$34,Input_Details!$B$32))","v":9.9},{"$f":"IF(OFFSET('Raw Data'!AQ24,Input_Details!$B$34,Input_Details!$B$32)=\"\", \"-\", OFFSET('Raw Data'!AQ24,Input_Details!$B$34,Input_Details!$B$32))","v":33.5},null,{"$f":"IF(Y46=\"-\", \"-\", SUM(OFFSET(D46,0,VLOOKUP(Input_Details!$N$3, $AF$3:$AG$12, 2,0)-1):W46))","v":6},0.42857142857142855]
[null,"05:15:00",null,{"$f":"IF(OFFSET('Raw Data'!T25,Input_Details!$B$34,Input_Details!$B$32)=\"\", \"-\", OFFSET('Raw Data'!T25,Input_Details!$B$34,Input_Details!$B$32))","v":0},{"$f":"IF(OFFSET('Raw Data'!U25,Input_Details!$B$34,Input_Details!$B$32)=\"\", \"-\", OFFSET('Raw Data'!U25,Input_Details!$B$34,Input_Details!$B$32))","v":4},{"$f":"IF(OFFSET('Raw Data'!V25,Input_Details!$B$34,Input_Details!$B$32)=\"\", \"-\", OFFSET('Raw Data'!V25,Input_Details!$B$34,Input_Details!$B$32))","v":5},{"$f":"IF(OFFSET('Raw Data'!W25,Input_Details!$B$34,Input_Details!$B$32)=\"\", \"-\", OFFSET('Raw Data'!W25,Input_Details!$B$34,Input_Details!$B$32))","v":4},{"$f":"IF(OFFSET('Raw Data'!X25,Input_Details!$B$34,Input_Details!$B$32)=\"\", \"-\", OFFSET('Raw Data'!X25,Input_Details!$B$34,Input_Details!$B$32))","v":1},{"$f":"IF(OFFSET('Raw Data'!Y25,Input_Details!$B$34,Input_Details!$B$32)=\"\", \"-\", OFFSET('Raw Data'!Y25,Input_Details!$B$34,Input_Details!$B$32))","v":1},{"$f":"IF(OFFSET('Raw Data'!Z25,Input_Details!$B$34,Input_Details!$B$32)=\"\", \"-\", OFFSET('Raw Data'!Z25,Input_Details!$B$34,Input_Details!$B$32))","v":0},{"$f":"IF(OFFSET('Raw Data'!AA25,Input_Details!$B$34,Input_Details!$B$32)=\"\", \"-\", OFFSET('Raw Data'!AA25,Input_Details!$B$34,Input_Details!$B$32))","v":0},{"$f":"IF(OFFSET('Raw Data'!AB25,Input_Details!$B$34,Input_Details!$B$32)=\"\", \"-\", OFFSET('Raw Data'!AB25,Input_Details!$B$34,Input_Details!$B$32))","v":0},{"$f":"IF(OFFSET('Raw Data'!AC25,Input_Details!$B$34,Input_Details!$B$32)=\"\", \"-\", OFFSET('Raw Data'!AC25,Input_Details!$B$34,Input_Details!$B$32))","v":0},{"$f":"IF(OFFSET('Raw Data'!AD25,Input_Details!$B$34,Input_Details!$B$32)=\"\", \"-\", OFFSET('Raw Data'!AD25,Input_Details!$B$34,Input_Details!$B$32))","v":0},{"$f":"IF(OFFSET('Raw Data'!AE25,Input_Details!$B$34,Input_Details!$B$32)=\"\", \"-\", OFFSET('Raw Data'!AE25,Input_Details!$B$34,Input_Details!$B$32))","v":0},{"$f":"IF(OFFSET('Raw Data'!AF25,Input_Details!$B$34,Input_Details!$B$32)=\"\", \"-\", OFFSET('Raw Data'!AF25,Input_Details!$B$34,Input_Details!$B$32))","v":0},{"$f":"IF(OFFSET('Raw Data'!AG25,Input_Details!$B$34,Input_Details!$B$32)=\"\", \"-\", OFFSET('Raw Data'!AG25,Input_Details!$B$34,Input_Details!$B$32))","v":0},{"$f":"IF(OFFSET('Raw Data'!AH25,Input_Details!$B$34,Input_Details!$B$32)=\"\", \"-\", OFFSET('Raw Data'!AH25,Input_Details!$B$34,Input_Details!$B$32))","v":0},{"$f":"IF(OFFSET('Raw Data'!AI25,Input_Details!$B$34,Input_Details!$B$32)=\"\", \"-\", OFFSET('Raw Data'!AI25,Input_Details!$B$34,Input_Details!$B$32))","v":0},{"$f":"IF(OFFSET('Raw Data'!AJ25,Input_Details!$B$34,Input_Details!$B$32)=\"\", \"-\", OFFSET('Raw Data'!AJ25,Input_Details!$B$34,Input_Details!$B$32))","v":0},{"$f":"IF(OFFSET('Raw Data'!AK25,Input_Details!$B$34,Input_Details!$B$32)=\"\", \"-\", OFFSET('Raw Data'!AK25,Input_Details!$B$34,Input_Details!$B$32))","v":0},{"$f":"IF(OFFSET('Raw Data'!AL25,Input_Details!$B$34,Input_Details!$B$32)=\"\", \"-\", OFFSET('Raw Data'!AL25,Input_Details!$B$34,Input_Details!$B$32))","v":0},{"$f":"IF(OFFSET('Raw Data'!AM25,Input_Details!$B$34,Input_Details!$B$32)=\"\", \"-\", OFFSET('Raw Data'!AM25,Input_Details!$B$34,Input_Details!$B$32))","v":0},null,{"$f":"IF(D47=\"-\",\"-\",OFFSET('Raw Data'!AN25,Input_Details!$B$34,Input_Details!$B$32))","v":19.464285714285715},{"$f":"IF(OFFSET('Raw Data'!AO25,Input_Details!$B$34,Input_Details!$B$32)=\"\", \"-\", OFFSET('Raw Data'!AO25,Input_Details!$B$34,Input_Details!$B$32))","v":22.8},{"$f":"IF(OFFSET('Raw Data'!AP25,Input_Details!$B$34,Input_Details!$B$32)=\"\", \"-\", OFFSET('Raw Data'!AP25,Input_Details!$B$34,Input_Details!$B$32))","v":10.4},{"$f":"IF(OFFSET('Raw Data'!AQ25,Input_Details!$B$34,Input_Details!$B$32)=\"\", \"-\", OFFSET('Raw Data'!AQ25,Input_Details!$B$34,Input_Details!$B$32))","v":33.5},null,{"$f":"IF(Y47=\"-\", \"-\", SUM(OFFSET(D47,0,VLOOKUP(Input_Details!$N$3, $AF$3:$AG$12, 2,0)-1):W47))","v":6},0.4]
[null,"05:30:00",null,{"$f":"IF(OFFSET('Raw Data'!T26,Input_Details!$B$34,Input_Details!$B$32)=\"\", \"-\", OFFSET('Raw Data'!T26,Input_Details!$B$34,Input_Details!$B$32))","v":0},{"$f":"IF(OFFSET('Raw Data'!U26,Input_Details!$B$34,Input_Details!$B$32)=\"\", \"-\", OFFSET('Raw Data'!U26,Input_Details!$B$34,Input_Details!$B$32))","v":3},{"$f":"IF(OFFSET('Raw Data'!V26,Input_Details!$B$34,Input_Details!$B$32)=\"\", \"-\", OFFSET('Raw Data'!V26,Input_Details!$B$34,Input_Details!$B$32))","v":5},{"$f":"IF(OFFSET('Raw Data'!W26,Input_Details!$B$34,Input_Details!$B$32)=\"\", \"-\", OFFSET('Raw Data'!W26,Input_Details!$B$34,Input_Details!$B$32))","v":4},{"$f":"IF(OFFSET('Raw Data'!X26,Input_Details!$B$34,Input_Details!$B$32)=\"\", \"-\", OFFSET('Raw Data'!X26,Input_Details!$B$34,Input_Details!$B$32))","v":2},{"$f":"IF(OFFSET('Raw Data'!Y26,Input_Details!$B$34,Input_Details!$B$32)=\"\", \"-\", OFFSET('Raw Data'!Y26,Input_Details!$B$34,Input_Details!$B$32))","v":0},{"$f":"IF(OFFSET('Raw Data'!Z26,Input_Details!$B$34,Input_Details!$B$32)=\"\", \"-\", OFFSET('Raw Data'!Z26,Input_Details!$B$34,Input_Details!$B$32))","v":0},{"$f":"IF(OFFSET('Raw Data'!AA26,Input_Details!$B$34,Input_Details!$B$32)=\"\", \"-\", OFFSET('Raw Data'!AA26,Input_Details!$B$34,Input_Details!$B$32))","v":0},{"$f":"IF(OFFSET('Raw Data'!AB26,Input_Details!$B$34,Input_Details!$B$32)=\"\", \"-\", OFFSET('Raw Data'!AB26,Input_Details!$B$34,Input_Details!$B$32))","v":0},{"$f":"IF(OFFSET('Raw Data'!AC26,Input_Details!$B$34,Input_Details!$B$32)=\"\", \"-\", OFFSET('Raw Data'!AC26,Input_Details!$B$34,Input_Details!$B$32))","v":0},{"$f":"IF(OFFSET('Raw Data'!AD26,Input_Details!$B$34,Input_Details!$B$32)=\"\", \"-\", OFFSET('Raw Data'!AD26,Input_Details!$B$34,Input_Details!$B$32))","v":0},{"$f":"IF(OFFSET('Raw Data'!AE26,Input_Details!$B$34,Input_Details!$B$32)=\"\", \"-\", OFFSET('Raw Data'!AE26,Input_Details!$B$34,Input_Details!$B$32))","v":0},{"$f":"IF(OFFSET('Raw Data'!AF26,Input_Details!$B$34,Input_Details!$B$32)=\"\", \"-\", OFFSET('Raw Data'!AF26,Input_Details!$B$34,Input_Details!$B$32))","v":0},{"$f":"IF(OFFSET('Raw Data'!AG26,Input_Details!$B$34,Input_Details!$B$32)=\"\", \"-\", OFFSET('Raw Data'!AG26,Input_Details!$B$34,Input_Details!$B$32))","v":0},{"$f":"IF(OFFSET('Raw Data'!AH26,Input_Details!$B$34,Input_Details!$B$32)=\"\", \"-\", OFFSET('Raw Data'!AH26,Input_Details!$B$34,Input_Details!$B$32))","v":0},{"$f":"IF(OFFSET('Raw Data'!AI26,Input_Details!$B$34,Input_Details!$B$32)=\"\", \"-\", OFFSET('Raw Data'!AI26,Input_Details!$B$34,Input_Details!$B$32))","v":0},{"$f":"IF(OFFSET('Raw Data'!AJ26,Input_Details!$B$34,Input_Details!$B$32)=\"\", \"-\", OFFSET('Raw Data'!AJ26,Input_Details!$B$34,Input_Details!$B$32))","v":0},{"$f":"IF(OFFSET('Raw Data'!AK26,Input_Details!$B$34,Input_Details!$B$32)=\"\", \"-\", OFFSET('Raw Data'!AK26,Input_Details!$B$34,Input_Details!$B$32))","v":0},{"$f":"IF(OFFSET('Raw Data'!AL26,Input_Details!$B$34,Input_Details!$B$32)=\"\", \"-\", OFFSET('Raw Data'!AL26,Input_Details!$B$34,Input_Details!$B$32))","v":0},{"$f":"IF(OFFSET('Raw Data'!AM26,Input_Details!$B$34,Input_Details!$B$32)=\"\", \"-\", OFFSET('Raw Data'!AM26,Input_Details!$B$34,Input_Details!$B$32))","v":0},null,{"$f":"IF(D48=\"-\",\"-\",OFFSET('Raw Data'!AN26,Input_Details!$B$34,Input_Details!$B$32))","v":20.064285714285713},{"$f":"IF(OFFSET('Raw Data'!AO26,Input_Details!$B$34,Input_Details!$B$32)=\"\", \"-\", OFFSET('Raw Data'!AO26,Input_Details!$B$34,Input_Details!$B$32))","v":22.824999999999999},{"$f":"IF(OFFSET('Raw Data'!AP26,Input_Details!$B$34,Input_Details!$B$32)=\"\", \"-\", OFFSET('Raw Data'!AP26,Input_Details!$B$34,Input_Details!$B$32))","v":9.6999999999999993},{"$f":"IF(OFFSET('Raw Data'!AQ26,Input_Details!$B$34,Input_Details!$B$32)=\"\", \"-\", OFFSET('Raw Data'!AQ26,Input_Details!$B$34,Input_Details!$B$32))","v":34.299999999999997},null,{"$f":"IF(Y48=\"-\", \"-\", SUM(OFFSET(D48,0,VLOOKUP(Input_Details!$N$3, $AF$3:$AG$12, 2,0)-1):W48))","v":6},0.42857142857142855]
[null,"05:45:00",null,{"$f":"IF(OFFSET('Raw Data'!T27,Input_Details!$B$34,Input_Details!$B$32)=\"\", \"-\", OFFSET('Raw Data'!T27,Input_Details!$B$34,Input_Details!$B$32))","v":0},{"$f":"IF(OFFSET('Raw Data'!U27,Input_Details!$B$34,Input_Details!$B$32)=\"\", \"-\", OFFSET('Raw Data'!U27,Input_Details!$B$34,Input_Details!$B$32))","v":2},{"$f":"IF(OFFSET('Raw Data'!V27,Input_Details!$B$34,Input_Details!$B$32)=\"\", \"-\", OFFSET('Raw Data'!V27,Input_Details!$B$34,Input_Details!$B$32))","v":4},{"$f":"IF(OFFSET('Raw Data'!W27,Input_Details!$B$34,Input_Details!$B$32)=\"\", \"-\", OFFSET('Raw Data'!W27,Input_Details!$B$34,Input_Details!$B$32))","v":9},{"$f":"IF(OFFSET('Raw Data'!X27,Input_Details!$B$34,Input_Details!$B$32)=\"\", \"-\", OFFSET('Raw Data'!X27,Input_Details!$B$34,Input_Details!$B$32))","v":5},{"$f":"IF(OFFSET('Raw Data'!Y27,Input_Details!$B$34,Input_Details!$B$32)=\"\", \"-\", OFFSET('Raw Data'!Y27,Input_Details!$B$34,Input_Details!$B$32))","v":1},{"$f":"IF(OFFSET('Raw Data'!Z27,Input_Details!$B$34,Input_Details!$B$32)=\"\", \"-\", OFFSET('Raw Data'!Z27,Input_Details!$B$34,Input_Details!$B$32))","v":0},{"$f":"IF(OFFSET('Raw Data'!AA27,Input_Details!$B$34,Input_Details!$B$32)=\"\", \"-\", OFFSET('Raw Data'!AA27,Input_Details!$B$34,Input_Details!$B$32))","v":0},{"$f":"IF(OFFSET('Raw Data'!AB27,Input_Details!$B$34,Input_Details!$B$32)=\"\", \"-\", OFFSET('Raw Data'!AB27,Input_Details!$B$34,Input_Details!$B$32))","v":0},{"$f":"IF(OFFSET('Raw Data'!AC27,Input_Details!$B$34,Input_Details!$B$32)=\"\", \"-\", OFFSET('Raw Data'!AC27,Input_Details!$B$34,Input_Details!$B$32))","v":0},{"$f":"IF(OFFSET('Raw Data'!AD27,Input_Details!$B$34,Input_Details!$B$32)=\"\", \"-\", OFFSET('Raw Data'!AD27,Input_Details!$B$34,Input_Details!$B$32))","v":0},{"$f":"IF(OFFSET('Raw Data'!AE27,Input_Details!$B$34,Input_Details!$B$32)=\"\", \"-\", OFFSET('Raw Data'!AE27,Input_Details!$B$34,Input_Details!$B$32))","v":0},{"$f":"IF(OFFSET('Raw Data'!AF27,Input_Details!$B$34,Input_Details!$B$32)=\"\", \"-\", OFFSET('Raw Data'!AF27,Input_Details!$B$34,Input_Details!$B$32))","v":0},{"$f":"IF(OFFSET('Raw Data'!AG27,Input_Details!$B$34,Input_Details!$B$32)=\"\", \"-\", OFFSET('Raw Data'!AG27,Input_Details!$B$34,Input_Details!$B$32))","v":0},{"$f":"IF(OFFSET('Raw Data'!AH27,Input_Details!$B$34,Input_Details!$B$32)=\"\", \"-\", OFFSET('Raw Data'!AH27,Input_Details!$B$34,Input_Details!$B$32))","v":0},{"$f":"IF(OFFSET('Raw Data'!AI27,Input_Details!$B$34,Input_Details!$B$32)=\"\", \"-\", OFFSET('Raw Data'!AI27,Input_Details!$B$34,Input_Details!$B$32))","v":0},{"$f":"IF(OFFSET('Raw Data'!AJ27,Input_Details!$B$34,Input_Details!$B$32)=\"\", \"-\", OFFSET('Raw Data'!AJ27,Input_Details!$B$34,Input_Details!$B$32))","v":0},{"$f":"IF(OFFSET('Raw Data'!AK27,Input_Details!$B$34,Input_Details!$B$32)=\"\", \"-\", OFFSET('Raw Data'!AK27,Input_Details!$B$34,Input_Details!$B$32))","v":0},{"$f":"IF(OFFSET('Raw Data'!AL27,Input_Details!$B$34,Input_Details!$B$32)=\"\", \"-\", OFFSET('Raw Data'!AL27,Input_Details!$B$34,Input_Details!$B$32))","v":0},{"$f":"IF(OFFSET('Raw Data'!AM27,Input_Details!$B$34,Input_Details!$B$32)=\"\", \"-\", OFFSET('Raw Data'!AM27,Input_Details!$B$34,Input_Details!$B$32))","v":0},null,{"$f":"IF(D49=\"-\",\"-\",OFFSET('Raw Data'!AN27,Input_Details!$B$34,Input_Details!$B$32))","v":21.56530612244898},{"$f":"IF(OFFSET('Raw Data'!AO27,Input_Details!$B$34,Input_Details!$B$32)=\"\", \"-\", OFFSET('Raw Data'!AO27,Input_Details!$B$34,Input_Details!$B$32))","v":24.503571428571426},{"$f":"IF(OFFSET('Raw Data'!AP27,Input_Details!$B$34,Input_Details!$B$32)=\"\", \"-\", OFFSET('Raw Data'!AP27,Input_Details!$B$34,Input_Details!$B$32))","v":8.6999999999999993},{"$f":"IF(OFFSET('Raw Data'!AQ27,Input_Details!$B$34,Input_Details!$B$32)=\"\", \"-\", OFFSET('Raw Data'!AQ27,Input_Details!$B$34,Input_Details!$B$32))","v":33.9},null,{"$f":"IF(Y49=\"-\", \"-\", SUM(OFFSET(D49,0,VLOOKUP(Input_Details!$N$3, $AF$3:$AG$12, 2,0)-1):W49))","v":15},0.7142857142857143]
[null,"06:00:00",null,{"$f":"IF(OFFSET('Raw Data'!T28,Input_Details!$B$34,Input_Details!$B$32)=\"\", \"-\", OFFSET('Raw Data'!T28,Input_Details!$B$34,Input_Details!$B$32))","v":0},{"$f":"IF(OFFSET('Raw Data'!U28,Input_Details!$B$34,Input_Details!$B$32)=\"\", \"-\", OFFSET('Raw Data'!U28,Input_Details!$B$34,Input_Details!$B$32))","v":2},{"$f":"IF(OFFSET('Raw Data'!V28,Input_Details!$B$34,Input_Details!$B$32)=\"\", \"-\", OFFSET('Raw Data'!V28,Input_Details!$B$34,Input_Details!$B$32))","v":5},{"$f":"IF(OFFSET('Raw Data'!W28,Input_Details!$B$34,Input_Details!$B$32)=\"\", \"-\", OFFSET('Raw Data'!W28,Input_Details!$B$34,Input_Details!$B$32))","v":11},{"$f":"IF(OFFSET('Raw Data'!X28,Input_Details!$B$34,Input_Details!$B$32)=\"\", \"-\", OFFSET('Raw Data'!X28,Input_Details!$B$34,Input_Details!$B$32))","v":3},{"$f":"IF(OFFSET('Raw Data'!Y28,Input_Details!$B$34,Input_Details!$B$32)=\"\", \"-\", OFFSET('Raw Data'!Y28,Input_Details!$B$34,Input_Details!$B$32))","v":1},{"$f":"IF(OFFSET('Raw Data'!Z28,Input_Details!$B$34,Input_Details!$B$32)=\"\", \"-\", OFFSET('Raw Data'!Z28,Input_Details!$B$34,Input_Details!$B$32))","v":0},{"$f":"IF(OFFSET('Raw Data'!AA28,Input_Details!$B$34,Input_Details!$B$32)=\"\", \"-\", OFFSET('Raw Data'!AA28,Input_Details!$B$34,Input_Details!$B$32))","v":0},{"$f":"IF(OFFSET('Raw Data'!AB28,Input_Details!$B$34,Input_Details!$B$32)=\"\", \"-\", OFFSET('Raw Data'!AB28,Input_Details!$B$34,Input_Details!$B$32))","v":0},{"$f":"IF(OFFSET('Raw Data'!AC28,Input_Details!$B$34,Input_Details!$B$32)=\"\", \"-\", OFFSET('Raw Data'!AC28,Input_Details!$B$34,Input_Details!$B$32))","v":0},{"$f":"IF(OFFSET('Raw Data'!AD28,Input_Details!$B$34,Input_Details!$B$32)=\"\", \"-\", OFFSET('Raw Data'!AD28,Input_Details!$B$34,Input_Details!$B$32))","v":0},{"$f":"IF(OFFSET('Raw Data'!AE28,Input_Details!$B$34,Input_Details!$B$32)=\"\", \"-\", OFFSET('Raw Data'!AE28,Input_Details!$B$34,Input_Details!$B$32))","v":0},{"$f":"IF(OFFSET('Raw Data'!AF28,Input_Details!$B$34,Input_Details!$B$32)=\"\", \"-\", OFFSET('Raw Data'!AF28,Input_Details!$B$34,Input_Details!$B$32))","v":0},{"$f":"IF(OFFSET('Raw Data'!AG28,Input_Details!$B$34,Input_Details!$B$32)=\"\", \"-\", OFFSET('Raw Data'!AG28,Input_Details!$B$34,Input_Details!$B$32))","v":0},{"$f":"IF(OFFSET('Raw Data'!AH28,Input_Details!$B$34,Input_Details!$B$32)=\"\", \"-\", OFFSET('Raw Data'!AH28,Input_Details!$B$34,Input_Details!$B$32))","v":0},{"$f":"IF(OFFSET('Raw Data'!AI28,Input_Details!$B$34,Input_Details!$B$32)=\"\", \"-\", OFFSET('Raw Data'!AI28,Input_Details!$B$34,Input_Details!$B$32))","v":0},{"$f":"IF(OFFSET('Raw Data'!AJ28,Input_Details!$B$34,Input_Details!$B$32)=\"\", \"-\", OFFSET('Raw Data'!AJ28,Input_Details!$B$34,Input_Details!$B$32))","v":0},{"$f":"IF(OFFSET('Raw Data'!AK28,Input_Details!$B$34,Input_Details!$B$32)=\"\", \"-\", OFFSET('Raw Data'!AK28,Input_Details!$B$34,Input_Details!$B$32))","v":0},{"$f":"IF(OFFSET('Raw Data'!AL28,Input_Details!$B$34,Input_Details!$B$32)=\"\", \"-\", OFFSET('Raw Data'!AL28,Input_Details!$B$34,Input_Details!$B$32))","v":0},{"$f":"IF(OFFSET('Raw Data'!AM28,Input_Details!$B$34,Input_Details!$B$32)=\"\", \"-\", OFFSET('Raw Data'!AM28,Input_Details!$B$34,Input_Details!$B$32))","v":0},null,{"$f":"IF(D50=\"-\",\"-\",OFFSET('Raw Data'!AN28,Input_Details!$B$34,Input_Details!$B$32))","v":20.534782608695654},{"$f":"IF(OFFSET('Raw Data'!AO28,Input_Details!$B$34,Input_Details!$B$32)=\"\", \"-\", OFFSET('Raw Data'!AO28,Input_Details!$B$34,Input_Details!$B$32))","v":24.1},{"$f":"IF(OFFSET('Raw Data'!AP28,Input_Details!$B$34,Input_Details!$B$32)=\"\", \"-\", OFFSET('Raw Data'!AP28,Input_Details!$B$34,Input_Details!$B$32))","v":8.6},{"$f":"IF(OFFSET('Raw Data'!AQ28,Input_Details!$B$34,Input_Details!$B$32)=\"\", \"-\", OFFSET('Raw Data'!AQ28,Input_Details!$B$34,Input_Details!$B$32))","v":37.4},null,{"$f":"IF(Y50=\"-\", \"-\", SUM(OFFSET(D50,0,VLOOKUP(Input_Details!$N$3, $AF$3:$AG$12, 2,0)-1):W50))","v":15},0.68181818181818177]
[null,"06:15:00",null,{"$f":"IF(OFFSET('Raw Data'!T29,Input_Details!$B$34,Input_Details!$B$32)=\"\", \"-\", OFFSET('Raw Data'!T29,Input_Details!$B$34,Input_Details!$B$32))","v":0},{"$f":"IF(OFFSET('Raw Data'!U29,Input_Details!$B$34,Input_Details!$B$32)=\"\", \"-\", OFFSET('Raw Data'!U29,Input_Details!$B$34,Input_Details!$B$32))","v":5},{"$f":"IF(OFFSET('Raw Data'!V29,Input_Details!$B$34,Input_Details!$B$32)=\"\", \"-\", OFFSET('Raw Data'!V29,Input_Details!$B$34,Input_Details!$B$32))","v":10},{"$f":"IF(OFFSET('Raw Data'!W29,Input_Details!$B$34,Input_Details!$B$32)=\"\", \"-\", OFFSET('Raw Data'!W29,Input_Details!$B$34,Input_Details!$B$32))","v":11},{"$f":"IF(OFFSET('Raw Data'!X29,Input_Details!$B$34,Input_Details!$B$32)=\"\", \"-\", OFFSET('Raw Data'!X29,Input_Details!$B$34,Input_Details!$B$32))","v":5},{"$f":"IF(OFFSET('Raw Data'!Y29,Input_Details!$B$34,Input_Details!$B$32)=\"\", \"-\", OFFSET('Raw Data'!Y29,Input_Details!$B$34,Input_Details!$B$32))","v":1},{"$f":"IF(OFFSET('Raw Data'!Z29,Input_Details!$B$34,Input_Details!$B$32)=\"\", \"-\", OFFSET('Raw Data'!Z29,Input_Details!$B$34,Input_Details!$B$32))","v":0},{"$f":"IF(OFFSET('Raw Data'!AA29,Input_Details!$B$34,Input_Details!$B$32)=\"\", \"-\", OFFSET('Raw Data'!AA29,Input_Details!$B$34,Input_Details!$B$32))","v":0},{"$f":"IF(OFFSET('Raw Data'!AB29,Input_Details!$B$34,Input_Details!$B$32)=\"\", \"-\", OFFSET('Raw Data'!AB29,Input_Details!$B$34,Input_Details!$B$32))","v":0},{"$f":"IF(OFFSET('Raw Data'!AC29,Input_Details!$B$34,Input_Details!$B$32)=\"\", \"-\", OFFSET('Raw Data'!AC29,Input_Details!$B$34,Input_Details!$B$32))","v":0},{"$f":"IF(OFFSET('Raw Data'!AD29,Input_Details!$B$34,Input_Details!$B$32)=\"\", \"-\", OFFSET('Raw Data'!AD29,Input_Details!$B$34,Input_Details!$B$32))","v":0},{"$f":"IF(OFFSET('Raw Data'!AE29,Input_Details!$B$34,Input_Details!$B$32)=\"\", \"-\", OFFSET('Raw Data'!AE29,Input_Details!$B$34,Input_Details!$B$32))","v":0},{"$f":"IF(OFFSET('Raw Data'!AF29,Input_Details!$B$34,Input_Details!$B$32)=\"\", \"-\", OFFSET('Raw Data'!AF29,Input_Details!$B$34,Input_Details!$B$32))","v":0},{"$f":"IF(OFFSET('Raw Data'!AG29,Input_Details!$B$34,Input_Details!$B$32)=\"\", \"-\", OFFSET('Raw Data'!AG29,Input_Details!$B$34,Input_Details!$B$32))","v":0},{"$f":"IF(OFFSET('Raw Data'!AH29,Input_Details!$B$34,Input_Details!$B$32)=\"\", \"-\", OFFSET('Raw Data'!AH29,Input_Details!$B$34,Input_Details!$B$32))","v":0},{"$f":"IF(OFFSET('Raw Data'!AI29,Input_Details!$B$34,Input_Details!$B$32)=\"\", \"-\", OFFSET('Raw Data'!AI29,Input_Details!$B$34,Input_Details!$B$32))","v":0},{"$f":"IF(OFFSET('Raw Data'!AJ29,Input_Details!$B$34,Input_Details!$B$32)=\"\", \"-\", OFFSET('Raw Data'!AJ29,Input_Details!$B$34,Input_Details!$B$32))","v":0},{"$f":"IF(OFFSET('Raw Data'!AK29,Input_Details!$B$34,Input_Details!$B$32)=\"\", \"-\", OFFSET('Raw Data'!AK29,Input_Details!$B$34,Input_Details!$B$32))","v":0},{"$f":"IF(OFFSET('Raw Data'!AL29,Input_Details!$B$34,Input_Details!$B$32)=\"\", \"-\", OFFSET('Raw Data'!AL29,Input_Details!$B$34,Input_Details!$B$32))","v":0},{"$f":"IF(OFFSET('Raw Data'!AM29,Input_Details!$B$34,Input_Details!$B$32)=\"\", \"-\", OFFSET('Raw Data'!AM29,Input_Details!$B$34,Input_Details!$B$32))","v":0},null,{"$f":"IF(D51=\"-\",\"-\",OFFSET('Raw Data'!AN29,Input_Details!$B$34,Input_Details!$B$32))","v":20.958928571428569},{"$f":"IF(OFFSET('Raw Data'!AO29,Input_Details!$B$34,Input_Details!$B$32)=\"\", \"-\", OFFSET('Raw Data'!AO29,Input_Details!$B$34,Input_Details!$B$32))","v":26.25714285714286},{"$f":"IF(OFFSET('Raw Data'!AP29,Input_Details!$B$34,Input_Details!$B$32)=\"\", \"-\", OFFSET('Raw Data'!AP29,Input_Details!$B$34,Input_Details!$B$32))","v":9},{"$f":"IF(OFFSET('Raw Data'!AQ29,Input_Details!$B$34,Input_Details!$B$32)=\"\", \"-\", OFFSET('Raw Data'!AQ29,Input_Details!$B$34,Input_Details!$B$32))","v":39.5},null,{"$f":"IF(Y51=\"-\", \"-\", SUM(OFFSET(D51,0,VLOOKUP(Input_Details!$N$3, $AF$3:$AG$12, 2,0)-1):W51))","v":17},0.53125]
[null,"06:30:00",null,{"$f":"IF(OFFSET('Raw Data'!T30,Input_Details!$B$34,Input_Details!$B$32)=\"\", \"-\", OFFSET('Raw Data'!T30,Input_Details!$B$34,Input_Details!$B$32))","v":0},{"$f":"IF(OFFSET('Raw Data'!U30,Input_Details!$B$34,Input_Details!$B$32)=\"\", \"-\", OFFSET('Raw Data'!U30,Input_Details!$B$34,Input_Details!$B$32))","v":3},{"$f":"IF(OFFSET('Raw Data'!V30,Input_Details!$B$34,Input_Details!$B$32)=\"\", \"-\", OFFSET('Raw Data'!V30,Input_Details!$B$34,Input_Details!$B$32))","v":14},{"$f":"IF(OFFSET('Raw Data'!W30,Input_Details!$B$34,Input_Details!$B$32)=\"\", \"-\", OFFSET('Raw Data'!W30,Input_Details!$B$34,Input_Details!$B$32))","v":16},{"$f":"IF(OFFSET('Raw Data'!X30,Input_Details!$B$34,Input_Details!$B$32)=\"\", \"-\", OFFSET('Raw Data'!X30,Input_Details!$B$34,Input_Details!$B$32))","v":7},{"$f":"IF(OFFSET('Raw Data'!Y30,Input_Details!$B$34,Input_Details!$B$32)=\"\", \"-\", OFFSET('Raw Data'!Y30,Input_Details!$B$34,Input_Details!$B$32))","v":1},{"$f":"IF(OFFSET('Raw Data'!Z30,Input_Details!$B$34,Input_Details!$B$32)=\"\", \"-\", OFFSET('Raw Data'!Z30,Input_Details!$B$34,Input_Details!$B$32))","v":0},{"$f":"IF(OFFSET('Raw Data'!AA30,Input_Details!$B$34,Input_Details!$B$32)=\"\", \"-\", OFFSET('Raw Data'!AA30,Input_Details!$B$34,Input_Details!$B$32))","v":0},{"$f":"IF(OFFSET('Raw Data'!AB30,Input_Details!$B$34,Input_Details!$B$32)=\"\", \"-\", OFFSET('Raw Data'!AB30,Input_Details!$B$34,Input_Details!$B$32))","v":0},{"$f":"IF(OFFSET('Raw Data'!AC30,Input_Details!$B$34,Input_Details!$B$32)=\"\", \"-\", OFFSET('Raw Data'!AC30,Input_Details!$B$34,Input_Details!$B$32))","v":0},{"$f":"IF(OFFSET('Raw Data'!AD30,Input_Details!$B$34,Input_Details!$B$32)=\"\", \"-\", OFFSET('Raw Data'!AD30,Input_Details!$B$34,Input_Details!$B$32))","v":0},{"$f":"IF(OFFSET('Raw Data'!AE30,Input_Details!$B$34,Input_Details!$B$32)=\"\", \"-\", OFFSET('Raw Data'!AE30,Input_Details!$B$34,Input_Details!$B$32))","v":0},{"$f":"IF(OFFSET('Raw Data'!AF30,Input_Details!$B$34,Input_Details!$B$32)=\"\", \"-\", OFFSET('Raw Data'!AF30,Input_Details!$B$34,Input_Details!$B$32))","v":0},{"$f":"IF(OFFSET('Raw Data'!AG30,Input_Details!$B$34,Input_Details!$B$32)=\"\", \"-\", OFFSET('Raw Data'!AG30,Input_Details!$B$34,Input_Details!$B$32))","v":0},{"$f":"IF(OFFSET('Raw Data'!AH30,Input_Details!$B$34,Input_Details!$B$32)=\"\", \"-\", OFFSET('Raw Data'!AH30,Input_Details!$B$34,Input_Details!$B$32))","v":0},{"$f":"IF(OFFSET('Raw Data'!AI30,Input_Details!$B$34,Input_Details!$B$32)=\"\", \"-\", OFFSET('Raw Data'!AI30,Input_Details!$B$34,Input_Details!$B$32))","v":0},{"$f":"IF(OFFSET('Raw Data'!AJ30,Input_Details!$B$34,Input_Details!$B$32)=\"\", \"-\", OFFSET('Raw Data'!AJ30,Input_Details!$B$34,Input_Details!$B$32))","v":0},{"$f":"IF(OFFSET('Raw Data'!AK30,Input_Details!$B$34,Input_Details!$B$32)=\"\", \"-\", OFFSET('Raw Data'!AK30,Input_Details!$B$34,Input_Details!$B$32))","v":0},{"$f":"IF(OFFSET('Raw Data'!AL30,Input_Details!$B$34,Input_Details!$B$32)=\"\", \"-\", OFFSET('Raw Data'!AL30,Input_Details!$B$34,Input_Details!$B$32))","v":0},{"$f":"IF(OFFSET('Raw Data'!AM30,Input_Details!$B$34,Input_Details!$B$32)=\"\", \"-\", OFFSET('Raw Data'!AM30,Input_Details!$B$34,Input_Details!$B$32))","v":0},null,{"$f":"IF(D52=\"-\",\"-\",OFFSET('Raw Data'!AN30,Input_Details!$B$34,Input_Details!$B$32))","v":20.792673992673997},{"$f":"IF(OFFSET('Raw Data'!AO30,Input_Details!$B$34,Input_Details!$B$32)=\"\", \"-\", OFFSET('Raw Data'!AO30,Input_Details!$B$34,Input_Details!$B$32))","v":26.092857142857149},{"$f":"IF(OFFSET('Raw Data'!AP30,Input_Details!$B$34,Input_Details!$B$32)=\"\", \"-\", OFFSET('Raw Data'!AP30,Input_Details!$B$34,Input_Details!$B$32))","v":10.7},{"$f":"IF(OFFSET('Raw Data'!AQ30,Input_Details!$B$34,Input_Details!$B$32)=\"\", \"-\", OFFSET('Raw Data'!AQ30,Input_Details!$B$34,Input_Details!$B$32))","v":34.700000000000003},null,{"$f":"IF(Y52=\"-\", \"-\", SUM(OFFSET(D52,0,VLOOKUP(Input_Details!$N$3, $AF$3:$AG$12, 2,0)-1):W52))","v":24},0.58536585365853655]
[null,"06:45:00",null,{"$f":"IF(OFFSET('Raw Data'!T31,Input_Details!$B$34,Input_Details!$B$32)=\"\", \"-\", OFFSET('Raw Data'!T31,Input_Details!$B$34,Input_Details!$B$32))","v":1},{"$f":"IF(OFFSET('Raw Data'!U31,Input_Details!$B$34,Input_Details!$B$32)=\"\", \"-\", OFFSET('Raw Data'!U31,Input_Details!$B$34,Input_Details!$B$32))","v":5},{"$f":"IF(OFFSET('Raw Data'!V31,Input_Details!$B$34,Input_Details!$B$32)=\"\", \"-\", OFFSET('Raw Data'!V31,Input_Details!$B$34,Input_Details!$B$32))","v":11},{"$f":"IF(OFFSET('Raw Data'!W31,Input_Details!$B$34,Input_Details!$B$32)=\"\", \"-\", OFFSET('Raw Data'!W31,Input_Details!$B$34,Input_Details!$B$32))","v":17},{"$f":"IF(OFFSET('Raw Data'!X31,Input_Details!$B$34,Input_Details!$B$32)=\"\", \"-\", OFFSET('Raw Data'!X31,Input_Details!$B$34,Input_Details!$B$32))","v":8},{"$f":"IF(OFFSET('Raw Data'!Y31,Input_Details!$B$34,Input_Details!$B$32)=\"\", \"-\", OFFSET('Raw Data'!Y31,Input_Details!$B$34,Input_Details!$B$32))","v":1},{"$f":"IF(OFFSET('Raw Data'!Z31,Input_Details!$B$34,Input_Details!$B$32)=\"\", \"-\", OFFSET('Raw Data'!Z31,Input_Details!$B$34,Input_Details!$B$32))","v":0},{"$f":"IF(OFFSET('Raw Data'!AA31,Input_Details!$B$34,Input_Details!$B$32)=\"\", \"-\", OFFSET('Raw Data'!AA31,Input_Details!$B$34,Input_Details!$B$32))","v":0},{"$f":"IF(OFFSET('Raw Data'!AB31,Input_Details!$B$34,Input_Details!$B$32)=\"\", \"-\", OFFSET('Raw Data'!AB31,Input_Details!$B$34,Input_Details!$B$32))","v":0},{"$f":"IF(OFFSET('Raw Data'!AC31,Input_Details!$B$34,Input_Details!$B$32)=\"\", \"-\", OFFSET('Raw Data'!AC31,Input_Details!$B$34,Input_Details!$B$32))","v":0},{"$f":"IF(OFFSET('Raw Data'!AD31,Input_Details!$B$34,Input_Details!$B$32)=\"\", \"-\", OFFSET('Raw Data'!AD31,Input_Details!$B$34,Input_Details!$B$32))","v":0},{"$f":"IF(OFFSET('Raw Data'!AE31,Input_Details!$B$34,Input_Details!$B$32)=\"\", \"-\", OFFSET('Raw Data'!AE31,Input_Details!$B$34,Input_Details!$B$32))","v":0},{"$f":"IF(OFFSET('Raw Data'!AF31,Input_Details!$B$34,Input_Details!$B$32)=\"\", \"-\", OFFSET('Raw Data'!AF31,Input_Details!$B$34,Input_Details!$B$32))","v":0},{"$f":"IF(OFFSET('Raw Data'!AG31,Input_Details!$B$34,Input_Details!$B$32)=\"\", \"-\", OFFSET('Raw Data'!AG31,Input_Details!$B$34,Input_Details!$B$32))","v":0},{"$f":"IF(OFFSET('Raw Data'!AH31,Input_Details!$B$34,Input_Details!$B$32)=\"\", \"-\", OFFSET('Raw Data'!AH31,Input_Details!$B$34,Input_Details!$B$32))","v":0},{"$f":"IF(OFFSET('Raw Data'!AI31,Input_Details!$B$34,Input_Details!$B$32)=\"\", \"-\", OFFSET('Raw Data'!AI31,Input_Details!$B$34,Input_Details!$B$32))","v":0},{"$f":"IF(OFFSET('Raw Data'!AJ31,Input_Details!$B$34,Input_Details!$B$32)=\"\", \"-\", OFFSET('Raw Data'!AJ31,Input_Details!$B$34,Input_Details!$B$32))","v":0},{"$f":"IF(OFFSET('Raw Data'!AK31,Input_Details!$B$34,Input_Details!$B$32)=\"\", \"-\", OFFSET('Raw Data'!AK31,Input_Details!$B$34,Input_Details!$B$32))","v":0},{"$f":"IF(OFFSET('Raw Data'!AL31,Input_Details!$B$34,Input_Details!$B$32)=\"\", \"-\", OFFSET('Raw Data'!AL31,Input_Details!$B$34,Input_Details!$B$32))","v":0},{"$f":"IF(OFFSET('Raw Data'!AM31,Input_Details!$B$34,Input_Details!$B$32)=\"\", \"-\", OFFSET('Raw Data'!AM31,Input_Details!$B$34,Input_Details!$B$32))","v":0},null,{"$f":"IF(D53=\"-\",\"-\",OFFSET('Raw Data'!AN31,Input_Details!$B$34,Input_Details!$B$32))","v":20.448979591836732},{"$f":"IF(OFFSET('Raw Data'!AO31,Input_Details!$B$34,Input_Details!$B$32)=\"\", \"-\", OFFSET('Raw Data'!AO31,Input_Details!$B$34,Input_Details!$B$32))","v":25.017142857142858},{"$f":"IF(OFFSET('Raw Data'!AP31,Input_Details!$B$34,Input_Details!$B$32)=\"\", \"-\", OFFSET('Raw Data'!AP31,Input_Details!$B$34,Input_Details!$B$32))","v":7.5},{"$f":"IF(OFFSET('Raw Data'!AQ31,Input_Details!$B$34,Input_Details!$B$32)=\"\", \"-\", OFFSET('Raw Data'!AQ31,Input_Details!$B$34,Input_Details!$B$32))","v":36.299999999999997},null,{"$f":"IF(Y53=\"-\", \"-\", SUM(OFFSET(D53,0,VLOOKUP(Input_Details!$N$3, $AF$3:$AG$12, 2,0)-1):W53))","v":26},0.60465116279069764]
[null,"07:00:00",null,{"$f":"IF(OFFSET('Raw Data'!T32,Input_Details!$B$34,Input_Details!$B$32)=\"\", \"-\", OFFSET('Raw Data'!T32,Input_Details!$B$34,Input_Details!$B$32))","v":1},{"$f":"IF(OFFSET('Raw Data'!U32,Input_Details!$B$34,Input_Details!$B$32)=\"\", \"-\", OFFSET('Raw Data'!U32,Input_Details!$B$34,Input_Details!$B$32))","v":4},{"$f":"IF(OFFSET('Raw Data'!V32,Input_Details!$B$34,Input_Details!$B$32)=\"\", \"-\", OFFSET('Raw Data'!V32,Input_Details!$B$34,Input_Details!$B$32))","v":9},{"$f":"IF(OFFSET('Raw Data'!W32,Input_Details!$B$34,Input_Details!$B$32)=\"\", \"-\", OFFSET('Raw Data'!W32,Input_Details!$B$34,Input_Details!$B$32))","v":13},{"$f":"IF(OFFSET('Raw Data'!X32,Input_Details!$B$34,Input_Details!$B$32)=\"\", \"-\", OFFSET('Raw Data'!X32,Input_Details!$B$34,Input_Details!$B$32))","v":5},{"$f":"IF(OFFSET('Raw Data'!Y32,Input_Details!$B$34,Input_Details!$B$32)=\"\", \"-\", OFFSET('Raw Data'!Y32,Input_Details!$B$34,Input_Details!$B$32))","v":1},{"$f":"IF(OFFSET('Raw Data'!Z32,Input_Details!$B$34,Input_Details!$B$32)=\"\", \"-\", OFFSET('Raw Data'!Z32,Input_Details!$B$34,Input_Details!$B$32))","v":0},{"$f":"IF(OFFSET('Raw Data'!AA32,Input_Details!$B$34,Input_Details!$B$32)=\"\", \"-\", OFFSET('Raw Data'!AA32,Input_Details!$B$34,Input_Details!$B$32))","v":0},{"$f":"IF(OFFSET('Raw Data'!AB32,Input_Details!$B$34,Input_Details!$B$32)=\"\", \"-\", OFFSET('Raw Data'!AB32,Input_Details!$B$34,Input_Details!$B$32))","v":0},{"$f":"IF(OFFSET('Raw Data'!AC32,Input_Details!$B$34,Input_Details!$B$32)=\"\", \"-\", OFFSET('Raw Data'!AC32,Input_Details!$B$34,Input_Details!$B$32))","v":0},{"$f":"IF(OFFSET('Raw Data'!AD32,Input_Details!$B$34,Input_Details!$B$32)=\"\", \"-\", OFFSET('Raw Data'!AD32,Input_Details!$B$34,Input_Details!$B$32))","v":0},{"$f":"IF(OFFSET('Raw Data'!AE32,Input_Details!$B$34,Input_Details!$B$32)=\"\", \"-\", OFFSET('Raw Data'!AE32,Input_Details!$B$34,Input_Details!$B$32))","v":0},{"$f":"IF(OFFSET('Raw Data'!AF32,Input_Details!$B$34,Input_Details!$B$32)=\"\", \"-\", OFFSET('Raw Data'!AF32,Input_Details!$B$34,Input_Details!$B$32))","v":0},{"$f":"IF(OFFSET('Raw Data'!AG32,Input_Details!$B$34,Input_Details!$B$32)=\"\", \"-\", OFFSET('Raw Data'!AG32,Input_Details!$B$34,Input_Details!$B$32))","v":0},{"$f":"IF(OFFSET('Raw Data'!AH32,Input_Details!$B$34,Input_Details!$B$32)=\"\", \"-\", OFFSET('Raw Data'!AH32,Input_Details!$B$34,Input_Details!$B$32))","v":0},{"$f":"IF(OFFSET('Raw Data'!AI32,Input_Details!$B$34,Input_Details!$B$32)=\"\", \"-\", OFFSET('Raw Data'!AI32,Input_Details!$B$34,Input_Details!$B$32))","v":0},{"$f":"IF(OFFSET('Raw Data'!AJ32,Input_Details!$B$34,Input_Details!$B$32)=\"\", \"-\", OFFSET('Raw Data'!AJ32,Input_Details!$B$34,Input_Details!$B$32))","v":0},{"$f":"IF(OFFSET('Raw Data'!AK32,Input_Details!$B$34,Input_Details!$B$32)=\"\", \"-\", OFFSET('Raw Data'!AK32,Input_Details!$B$34,Input_Details!$B$32))","v":0},{"$f":"IF(OFFSET('Raw Data'!AL32,Input_Details!$B$34,Input_Details!$B$32)=\"\", \"-\", OFFSET('Raw Data'!AL32,Input_Details!$B$34,Input_Details!$B$32))","v":0},{"$f":"IF(OFFSET('Raw Data'!AM32,Input_Details!$B$34,Input_Details!$B$32)=\"\", \"-\", OFFSET('Raw Data'!AM32,Input_Details!$B$34,Input_Details!$B$32))","v":0},null,{"$f":"IF(D54=\"-\",\"-\",OFFSET('Raw Data'!AN32,Input_Details!$B$34,Input_Details!$B$32))","v":20.592857142857145},{"$f":"IF(OFFSET('Raw Data'!AO32,Input_Details!$B$34,Input_Details!$B$32)=\"\", \"-\", OFFSET('Raw Data'!AO32,Input_Details!$B$34,Input_Details!$B$32))","v":26.024999999999999},{"$f":"IF(OFFSET('Raw Data'!AP32,Input_Details!$B$34,Input_Details!$B$32)=\"\", \"-\", OFFSET('Raw Data'!AP32,Input_Details!$B$34,Input_Details!$B$32))","v":9.4},{"$f":"IF(OFFSET('Raw Data'!AQ32,Input_Details!$B$34,Input_Details!$B$32)=\"\", \"-\", OFFSET('Raw Data'!AQ32,Input_Details!$B$34,Input_Details!$B$32))","v":38.299999999999997},null,{"$f":"IF(Y54=\"-\", \"-\", SUM(OFFSET(D54,0,VLOOKUP(Input_Details!$N$3, $AF$3:$AG$12, 2,0)-1):W54))","v":19},0.5757575757575758]
[null,"07:15:00",null,{"$f":"IF(OFFSET('Raw Data'!T33,Input_Details!$B$34,Input_Details!$B$32)=\"\", \"-\", OFFSET('Raw Data'!T33,Input_Details!$B$34,Input_Details!$B$32))","v":1},{"$f":"IF(OFFSET('Raw Data'!U33,Input_Details!$B$34,Input_Details!$B$32)=\"\", \"-\", OFFSET('Raw Data'!U33,Input_Details!$B$34,Input_Details!$B$32))","v":6},{"$f":"IF(OFFSET('Raw Data'!V33,Input_Details!$B$34,Input_Details!$B$32)=\"\", \"-\", OFFSET('Raw Data'!V33,Input_Details!$B$34,Input_Details!$B$32))","v":15},{"$f":"IF(OFFSET('Raw Data'!W33,Input_Details!$B$34,Input_Details!$B$32)=\"\", \"-\", OFFSET('Raw Data'!W33,Input_Details!$B$34,Input_Details!$B$32))","v":13},{"$f":"IF(OFFSET('Raw Data'!X33,Input_Details!$B$34,Input_Details!$B$32)=\"\", \"-\", OFFSET('Raw Data'!X33,Input_Details!$B$34,Input_Details!$B$32))","v":3},{"$f":"IF(OFFSET('Raw Data'!Y33,Input_Details!$B$34,Input_Details!$B$32)=\"\", \"-\", OFFSET('Raw Data'!Y33,Input_Details!$B$34,Input_Details!$B$32))","v":0},{"$f":"IF(OFFSET('Raw Data'!Z33,Input_Details!$B$34,Input_Details!$B$32)=\"\", \"-\", OFFSET('Raw Data'!Z33,Input_Details!$B$34,Input_Details!$B$32))","v":0},{"$f":"IF(OFFSET('Raw Data'!AA33,Input_Details!$B$34,Input_Details!$B$32)=\"\", \"-\", OFFSET('Raw Data'!AA33,Input_Details!$B$34,Input_Details!$B$32))","v":0},{"$f":"IF(OFFSET('Raw Data'!AB33,Input_Details!$B$34,Input_Details!$B$32)=\"\", \"-\", OFFSET('Raw Data'!AB33,Input_Details!$B$34,Input_Details!$B$32))","v":0},{"$f":"IF(OFFSET('Raw Data'!AC33,Input_Details!$B$34,Input_Details!$B$32)=\"\", \"-\", OFFSET('Raw Data'!AC33,Input_Details!$B$34,Input_Details!$B$32))","v":0},{"$f":"IF(OFFSET('Raw Data'!AD33,Input_Details!$B$34,Input_Details!$B$32)=\"\", \"-\", OFFSET('Raw Data'!AD33,Input_Details!$B$34,Input_Details!$B$32))","v":0},{"$f":"IF(OFFSET('Raw Data'!AE33,Input_Details!$B$34,Input_Details!$B$32)=\"\", \"-\", OFFSET('Raw Data'!AE33,Input_Details!$B$34,Input_Details!$B$32))","v":0},{"$f":"IF(OFFSET('Raw Data'!AF33,Input_Details!$B$34,Input_Details!$B$32)=\"\", \"-\", OFFSET('Raw Data'!AF33,Input_Details!$B$34,Input_Details!$B$32))","v":0},{"$f":"IF(OFFSET('Raw Data'!AG33,Input_Details!$B$34,Input_Details!$B$32)=\"\", \"-\", OFFSET('Raw Data'!AG33,Input_Details!$B$34,Input_Details!$B$32))","v":0},{"$f":"IF(OFFSET('Raw Data'!AH33,Input_Details!$B$34,Input_Details!$B$32)=\"\", \"-\", OFFSET('Raw Data'!AH33,Input_Details!$B$34,Input_Details!$B$32))","v":0},{"$f":"IF(OFFSET('Raw Data'!AI33,Input_Details!$B$34,Input_Details!$B$32)=\"\", \"-\", OFFSET('Raw Data'!AI33,Input_Details!$B$34,Input_Details!$B$32))","v":0},{"$f":"IF(OFFSET('Raw Data'!AJ33,Input_Details!$B$34,Input_Details!$B$32)=\"\", \"-\", OFFSET('Raw Data'!AJ33,Input_Details!$B$34,Input_Details!$B$32))","v":0},{"$f":"IF(OFFSET('Raw Data'!AK33,Input_Details!$B$34,Input_Details!$B$32)=\"\", \"-\", OFFSET('Raw Data'!AK33,Input_Details!$B$34,Input_Details!$B$32))","v":0},{"$f":"IF(OFFSET('Raw Data'!AL33,Input_Details!$B$34,Input_Details!$B$32)=\"\", \"-\", OFFSET('Raw Data'!AL33,Input_Details!$B$34,Input_Details!$B$32))","v":0},{"$f":"IF(OFFSET('Raw Data'!AM33,Input_Details!$B$34,Input_Details!$B$32)=\"\", \"-\", OFFSET('Raw Data'!AM33,Input_Details!$B$34,Input_Details!$B$32))","v":0},null,{"$f":"IF(D55=\"-\",\"-\",OFFSET('Raw Data'!AN33,Input_Details!$B$34,Input_Details!$B$32))","v":19.09135338345865},{"$f":"IF(OFFSET('Raw Data'!AO33,Input_Details!$B$34,Input_Details!$B$32)=\"\", \"-\", OFFSET('Raw Data'!AO33,Input_Details!$B$34,Input_Details!$B$32))","v":23.171428571428571},{"$f":"IF(OFFSET('Raw Data'!AP33,Input_Details!$B$34,Input_Details!$B$32)=\"\", \"-\", OFFSET('Raw Data'!AP33,Input_Details!$B$34,Input_Details!$B$32))","v":4.3},{"$f":"IF(OFFSET('Raw Data'!AQ33,Input_Details!$B$34,Input_Details!$B$32)=\"\", \"-\", OFFSET('Raw Data'!AQ33,Input_Details!$B$34,Input_Details!$B$32))","v":41.9},null,{"$f":"IF(Y55=\"-\", \"-\", SUM(OFFSET(D55,0,VLOOKUP(Input_Details!$N$3, $AF$3:$AG$12, 2,0)-1):W55))","v":16},0.42105263157894735]
[null,"07:30:00",null,{"$f":"IF(OFFSET('Raw Data'!T34,Input_Details!$B$34,Input_Details!$B$32)=\"\", \"-\", OFFSET('Raw Data'!T34,Input_Details!$B$34,Input_Details!$B$32))","v":1},{"$f":"IF(OFFSET('Raw Data'!U34,Input_Details!$B$34,Input_Details!$B$32)=\"\", \"-\", OFFSET('Raw Data'!U34,Input_Details!$B$34,Input_Details!$B$32))","v":11},{"$f":"IF(OFFSET('Raw Data'!V34,Input_Details!$B$34,Input_Details!$B$32)=\"\", \"-\", OFFSET('Raw Data'!V34,Input_Details!$B$34,Input_Details!$B$32))","v":15},{"$f":"IF(OFFSET('Raw Data'!W34,Input_Details!$B$34,Input_Details!$B$32)=\"\", \"-\", OFFSET('Raw Data'!W34,Input_Details!$B$34,Input_Details!$B$32))","v":15},{"$f":"IF(OFFSET('Raw Data'!X34,Input_Details!$B$34,Input_Details!$B$32)=\"\", \"-\", OFFSET('Raw Data'!X34,Input_Details!$B$34,Input_Details!$B$32))","v":3},{"$f":"IF(OFFSET('Raw Data'!Y34,Input_Details!$B$34,Input_Details!$B$32)=\"\", \"-\", OFFSET('Raw Data'!Y34,Input_Details!$B$34,Input_Details!$B$32))","v":1},{"$f":"IF(OFFSET('Raw Data'!Z34,Input_Details!$B$34,Input_Details!$B$32)=\"\", \"-\", OFFSET('Raw Data'!Z34,Input_Details!$B$34,Input_Details!$B$32))","v":0},{"$f":"IF(OFFSET('Raw Data'!AA34,Input_Details!$B$34,Input_Details!$B$32)=\"\", \"-\", OFFSET('Raw Data'!AA34,Input_Details!$B$34,Input_Details!$B$32))","v":0},{"$f":"IF(OFFSET('Raw Data'!AB34,Input_Details!$B$34,Input_Details!$B$32)=\"\", \"-\", OFFSET('Raw Data'!AB34,Input_Details!$B$34,Input_Details!$B$32))","v":0},{"$f":"IF(OFFSET('Raw Data'!AC34,Input_Details!$B$34,Input_Details!$B$32)=\"\", \"-\", OFFSET('Raw Data'!AC34,Input_Details!$B$34,Input_Details!$B$32))","v":0},{"$f":"IF(OFFSET('Raw Data'!AD34,Input_Details!$B$34,Input_Details!$B$32)=\"\", \"-\", OFFSET('Raw Data'!AD34,Input_Details!$B$34,Input_Details!$B$32))","v":0},{"$f":"IF(OFFSET('Raw Data'!AE34,Input_Details!$B$34,Input_Details!$B$32)=\"\", \"-\", OFFSET('Raw Data'!AE34,Input_Details!$B$34,Input_Details!$B$32))","v":0},{"$f":"IF(OFFSET('Raw Data'!AF34,Input_Details!$B$34,Input_Details!$B$32)=\"\", \"-\", OFFSET('Raw Data'!AF34,Input_Details!$B$34,Input_Details!$B$32))","v":0},{"$f":"IF(OFFSET('Raw Data'!AG34,Input_Details!$B$34,Input_Details!$B$32)=\"\", \"-\", OFFSET('Raw Data'!AG34,Input_Details!$B$34,Input_Details!$B$32))","v":0},{"$f":"IF(OFFSET('Raw Data'!AH34,Input_Details!$B$34,Input_Details!$B$32)=\"\", \"-\", OFFSET('Raw Data'!AH34,Input_Details!$B$34,Input_Details!$B$32))","v":0},{"$f":"IF(OFFSET('Raw Data'!AI34,Input_Details!$B$34,Input_Details!$B$32)=\"\", \"-\", OFFSET('Raw Data'!AI34,Input_Details!$B$34,Input_Details!$B$32))","v":0},{"$f":"IF(OFFSET('Raw Data'!AJ34,Input_Details!$B$34,Input_Details!$B$32)=\"\", \"-\", OFFSET('Raw Data'!AJ34,Input_Details!$B$34,Input_Details!$B$32))","v":0},{"$f":"IF(OFFSET('Raw Data'!AK34,Input_Details!$B$34,Input_Details!$B$32)=\"\", \"-\", OFFSET('Raw Data'!AK34,Input_Details!$B$34,Input_Details!$B$32))","v":0},{"$f":"IF(OFFSET('Raw Data'!AL34,Input_Details!$B$34,Input_Details!$B$32)=\"\", \"-\", OFFSET('Raw Data'!AL34,Input_Details!$B$34,Input_Details!$B$32))","v":0},{"$f":"IF(OFFSET('Raw Data'!AM34,Input_Details!$B$34,Input_Details!$B$32)=\"\", \"-\", OFFSET('Raw Data'!AM34,Input_Details!$B$34,Input_Details!$B$32))","v":0},null,{"$f":"IF(D56=\"-\",\"-\",OFFSET('Raw Data'!AN34,Input_Details!$B$34,Input_Details!$B$32))","v":18.338297872340426},{"$f":"IF(OFFSET('Raw Data'!AO34,Input_Details!$B$34,Input_Details!$B$32)=\"\", \"-\", OFFSET('Raw Data'!AO34,Input_Details!$B$34,Input_Details!$B$32))","v":21.611428571428572},{"$f":"IF(OFFSET('Raw Data'!AP34,Input_Details!$B$34,Input_Details!$B$32)=\"\", \"-\", OFFSET('Raw Data'!AP34,Input_Details!$B$34,Input_Details!$B$32))","v":6.7},{"$f":"IF(OFFSET('Raw Data'!AQ34,Input_Details!$B$34,Input_Details!$B$32)=\"\", \"-\", OFFSET('Raw Data'!AQ34,Input_Details!$B$34,Input_Details!$B$32))","v":42},null,{"$f":"IF(Y56=\"-\", \"-\", SUM(OFFSET(D56,0,VLOOKUP(Input_Details!$N$3, $AF$3:$AG$12, 2,0)-1):W56))","v":19},0.41304347826086957]
[null,"07:45:00",null,{"$f":"IF(OFFSET('Raw Data'!T35,Input_Details!$B$34,Input_Details!$B$32)=\"\", \"-\", OFFSET('Raw Data'!T35,Input_Details!$B$34,Input_Details!$B$32))","v":2},{"$f":"IF(OFFSET('Raw Data'!U35,Input_Details!$B$34,Input_Details!$B$32)=\"\", \"-\", OFFSET('Raw Data'!U35,Input_Details!$B$34,Input_Details!$B$32))","v":9},{"$f":"IF(OFFSET('Raw Data'!V35,Input_Details!$B$34,Input_Details!$B$32)=\"\", \"-\", OFFSET('Raw Data'!V35,Input_Details!$B$34,Input_Details!$B$32))","v":17},{"$f":"IF(OFFSET('Raw Data'!W35,Input_Details!$B$34,Input_Details!$B$32)=\"\", \"-\", OFFSET('Raw Data'!W35,Input_Details!$B$34,Input_Details!$B$32))","v":15},{"$f":"IF(OFFSET('Raw Data'!X35,Input_Details!$B$34,Input_Details!$B$32)=\"\", \"-\", OFFSET('Raw Data'!X35,Input_Details!$B$34,Input_Details!$B$32))","v":5},{"$f":"IF(OFFSET('Raw Data'!Y35,Input_Details!$B$34,Input_Details!$B$32)=\"\", \"-\", OFFSET('Raw Data'!Y35,Input_Details!$B$34,Input_Details!$B$32))","v":1},{"$f":"IF(OFFSET('Raw Data'!Z35,Input_Details!$B$34,Input_Details!$B$32)=\"\", \"-\", OFFSET('Raw Data'!Z35,Input_Details!$B$34,Input_Details!$B$32))","v":0},{"$f":"IF(OFFSET('Raw Data'!AA35,Input_Details!$B$34,Input_Details!$B$32)=\"\", \"-\", OFFSET('Raw Data'!AA35,Input_Details!$B$34,Input_Details!$B$32))","v":0},{"$f":"IF(OFFSET('Raw Data'!AB35,Input_Details!$B$34,Input_Details!$B$32)=\"\", \"-\", OFFSET('Raw Data'!AB35,Input_Details!$B$34,Input_Details!$B$32))","v":0},{"$f":"IF(OFFSET('Raw Data'!AC35,Input_Details!$B$34,Input_Details!$B$32)=\"\", \"-\", OFFSET('Raw Data'!AC35,Input_Details!$B$34,Input_Details!$B$32))","v":0},{"$f":"IF(OFFSET('Raw Data'!AD35,Input_Details!$B$34,Input_Details!$B$32)=\"\", \"-\", OFFSET('Raw Data'!AD35,Input_Details!$B$34,Input_Details!$B$32))","v":0},{"$f":"IF(OFFSET('Raw Data'!AE35,Input_Details!$B$34,Input_Details!$B$32)=\"\", \"-\", OFFSET('Raw Data'!AE35,Input_Details!$B$34,Input_Details!$B$32))","v":0},{"$f":"IF(OFFSET('Raw Data'!AF35,Input_Details!$B$34,Input_Details!$B$32)=\"\", \"-\", OFFSET('Raw Data'!AF35,Input_Details!$B$34,Input_Details!$B$32))","v":0},{"$f":"IF(OFFSET('Raw Data'!AG35,Input_Details!$B$34,Input_Details!$B$32)=\"\", \"-\", OFFSET('Raw Data'!AG35,Input_Details!$B$34,Input_Details!$B$32))","v":0},{"$f":"IF(OFFSET('Raw Data'!AH35,Input_Details!$B$34,Input_Details!$B$32)=\"\", \"-\", OFFSET('Raw Data'!AH35,Input_Details!$B$34,Input_Details!$B$32))","v":0},{"$f":"IF(OFFSET('Raw Data'!AI35,Input_Details!$B$34,Input_Details!$B$32)=\"\", \"-\", OFFSET('Raw Data'!AI35,Input_Details!$B$34,Input_Details!$B$32))","v":0},{"$f":"IF(OFFSET('Raw Data'!AJ35,Input_Details!$B$34,Input_Details!$B$32)=\"\", \"-\", OFFSET('Raw Data'!AJ35,Input_Details!$B$34,Input_Details!$B$32))","v":0},{"$f":"IF(OFFSET('Raw Data'!AK35,Input_Details!$B$34,Input_Details!$B$32)=\"\", \"-\", OFFSET('Raw Data'!AK35,Input_Details!$B$34,Input_Details!$B$32))","v":0},{"$f":"IF(OFFSET('Raw Data'!AL35,Input_Details!$B$34,Input_Details!$B$32)=\"\", \"-\", OFFSET('Raw Data'!AL35,Input_Details!$B$34,Input_Details!$B$32))","v":0},{"$f":"IF(OFFSET('Raw Data'!AM35,Input_Details!$B$34,Input_Details!$B$32)=\"\", \"-\", OFFSET('Raw Data'!AM35,Input_Details!$B$34,Input_Details!$B$32))","v":0},null,{"$f":"IF(D57=\"-\",\"-\",OFFSET('Raw Data'!AN35,Input_Details!$B$34,Input_Details!$B$32))","v":19.111550151975685},{"$f":"IF(OFFSET('Raw Data'!AO35,Input_Details!$B$34,Input_Details!$B$32)=\"\", \"-\", OFFSET('Raw Data'!AO35,Input_Details!$B$34,Input_Details!$B$32))","v":21.832142857142859},{"$f":"IF(OFFSET('Raw Data'!AP35,Input_Details!$B$34,Input_Details!$B$32)=\"\", \"-\", OFFSET('Raw Data'!AP35,Input_Details!$B$34,Input_Details!$B$32))","v":6.2},{"$f":"IF(OFFSET('Raw Data'!AQ35,Input_Details!$B$34,Input_Details!$B$32)=\"\", \"-\", OFFSET('Raw Data'!AQ35,Input_Details!$B$34,Input_Details!$B$32))","v":33.1},null,{"$f":"IF(Y57=\"-\", \"-\", SUM(OFFSET(D57,0,VLOOKUP(Input_Details!$N$3, $AF$3:$AG$12, 2,0)-1):W57))","v":21},0.42857142857142855]
[null,"08:00:00",null,{"$f":"IF(OFFSET('Raw Data'!T36,Input_Details!$B$34,Input_Details!$B$32)=\"\", \"-\", OFFSET('Raw Data'!T36,Input_Details!$B$34,Input_Details!$B$32))","v":2},{"$f":"IF(OFFSET('Raw Data'!U36,Input_Details!$B$34,Input_Details!$B$32)=\"\", \"-\", OFFSET('Raw Data'!U36,Input_Details!$B$34,Input_Details!$B$32))","v":8},{"$f":"IF(OFFSET('Raw Data'!V36,Input_Details!$B$34,Input_Details!$B$32)=\"\", \"-\", OFFSET('Raw Data'!V36,Input_Details!$B$34,Input_Details!$B$32))","v":20},{"$f":"IF(OFFSET('Raw Data'!W36,Input_Details!$B$34,Input_Details!$B$32)=\"\", \"-\", OFFSET('Raw Data'!W36,Input_Details!$B$34,Input_Details!$B$32))","v":14},{"$f":"IF(OFFSET('Raw Data'!X36,Input_Details!$B$34,Input_Details!$B$32)=\"\", \"-\", OFFSET('Raw Data'!X36,Input_Details!$B$34,Input_Details!$B$32))","v":2},{"$f":"IF(OFFSET('Raw Data'!Y36,Input_Details!$B$34,Input_Details!$B$32)=\"\", \"-\", OFFSET('Raw Data'!Y36,Input_Details!$B$34,Input_Details!$B$32))","v":0},{"$f":"IF(OFFSET('Raw Data'!Z36,Input_Details!$B$34,Input_Details!$B$32)=\"\", \"-\", OFFSET('Raw Data'!Z36,Input_Details!$B$34,Input_Details!$B$32))","v":0},{"$f":"IF(OFFSET('Raw Data'!AA36,Input_Details!$B$34,Input_Details!$B$32)=\"\", \"-\", OFFSET('Raw Data'!AA36,Input_Details!$B$34,Input_Details!$B$32))","v":0},{"$f":"IF(OFFSET('Raw Data'!AB36,Input_Details!$B$34,Input_Details!$B$32)=\"\", \"-\", OFFSET('Raw Data'!AB36,Input_Details!$B$34,Input_Details!$B$32))","v":0},{"$f":"IF(OFFSET('Raw Data'!AC36,Input_Details!$B$34,Input_Details!$B$32)=\"\", \"-\", OFFSET('Raw Data'!AC36,Input_Details!$B$34,Input_Details!$B$32))","v":0},{"$f":"IF(OFFSET('Raw Data'!AD36,Input_Details!$B$34,Input_Details!$B$32)=\"\", \"-\", OFFSET('Raw Data'!AD36,Input_Details!$B$34,Input_Details!$B$32))","v":0},{"$f":"IF(OFFSET('Raw Data'!AE36,Input_Details!$B$34,Input_Details!$B$32)=\"\", \"-\", OFFSET('Raw Data'!AE36,Input_Details!$B$34,Input_Details!$B$32))","v":0},{"$f":"IF(OFFSET('Raw Data'!AF36,Input_Details!$B$34,Input_Details!$B$32)=\"\", \"-\", OFFSET('Raw Data'!AF36,Input_Details!$B$34,Input_Details!$B$32))","v":0},{"$f":"IF(OFFSET('Raw Data'!AG36,Input_Details!$B$34,Input_Details!$B$32)=\"\", \"-\", OFFSET('Raw Data'!AG36,Input_Details!$B$34,Input_Details!$B$32))","v":0},{"$f":"IF(OFFSET('Raw Data'!AH36,Input_Details!$B$34,Input_Details!$B$32)=\"\", \"-\", OFFSET('Raw Data'!AH36,Input_Details!$B$34,Input_Details!$B$32))","v":0},{"$f":"IF(OFFSET('Raw Data'!AI36,Input_Details!$B$34,Input_Details!$B$32)=\"\", \"-\", OFFSET('Raw Data'!AI36,Input_Details!$B$34,Input_Details!$B$32))","v":0},{"$f":"IF(OFFSET('Raw Data'!AJ36,Input_Details!$B$34,Input_Details!$B$32)=\"\", \"-\", OFFSET('Raw Data'!AJ36,Input_Details!$B$34,Input_Details!$B$32))","v":0},{"$f":"IF(OFFSET('Raw Data'!AK36,Input_Details!$B$34,Input_Details!$B$32)=\"\", \"-\", OFFSET('Raw Data'!AK36,Input_Details!$B$34,Input_Details!$B$32))","v":0},{"$f":"IF(OFFSET('Raw Data'!AL36,Input_Details!$B$34,Input_Details!$B$32)=\"\", \"-\", OFFSET('Raw Data'!AL36,Input_Details!$B$34,Input_Details!$B$32))","v":0},{"$f":"IF(OFFSET('Raw Data'!AM36,Input_Details!$B$34,Input_Details!$B$32)=\"\", \"-\", OFFSET('Raw Data'!AM36,Input_Details!$B$34,Input_Details!$B$32))","v":0},null,{"$f":"IF(D58=\"-\",\"-\",OFFSET('Raw Data'!AN36,Input_Details!$B$34,Input_Details!$B$32))","v":18.489285714285717},{"$f":"IF(OFFSET('Raw Data'!AO36,Input_Details!$B$34,Input_Details!$B$32)=\"\", \"-\", OFFSET('Raw Data'!AO36,Input_Details!$B$34,Input_Details!$B$32))","v":19.240000000000002},{"$f":"IF(OFFSET('Raw Data'!AP36,Input_Details!$B$34,Input_Details!$B$32)=\"\", \"-\", OFFSET('Raw Data'!AP36,Input_Details!$B$34,Input_Details!$B$32))","v":7.1},{"$f":"IF(OFFSET('Raw Data'!AQ36,Input_Details!$B$34,Input_Details!$B$32)=\"\", \"-\", OFFSET('Raw Data'!AQ36,Input_Details!$B$34,Input_Details!$B$32))","v":31.8},null,{"$f":"IF(Y58=\"-\", \"-\", SUM(OFFSET(D58,0,VLOOKUP(Input_Details!$N$3, $AF$3:$AG$12, 2,0)-1):W58))","v":16},0.34782608695652173]
[null,"08:15:00",null,{"$f":"IF(OFFSET('Raw Data'!T37,Input_Details!$B$34,Input_Details!$B$32)=\"\", \"-\", OFFSET('Raw Data'!T37,Input_Details!$B$34,Input_Details!$B$32))","v":2},{"$f":"IF(OFFSET('Raw Data'!U37,Input_Details!$B$34,Input_Details!$B$32)=\"\", \"-\", OFFSET('Raw Data'!U37,Input_Details!$B$34,Input_Details!$B$32))","v":18},{"$f":"IF(OFFSET('Raw Data'!V37,Input_Details!$B$34,Input_Details!$B$32)=\"\", \"-\", OFFSET('Raw Data'!V37,Input_Details!$B$34,Input_Details!$B$32))","v":27},{"$f":"IF(OFFSET('Raw Data'!W37,Input_Details!$B$34,Input_Details!$B$32)=\"\", \"-\", OFFSET('Raw Data'!W37,Input_Details!$B$34,Input_Details!$B$32))","v":12},{"$f":"IF(OFFSET('Raw Data'!X37,Input_Details!$B$34,Input_Details!$B$32)=\"\", \"-\", OFFSET('Raw Data'!X37,Input_Details!$B$34,Input_Details!$B$32))","v":1},{"$f":"IF(OFFSET('Raw Data'!Y37,Input_Details!$B$34,Input_Details!$B$32)=\"\", \"-\", OFFSET('Raw Data'!Y37,Input_Details!$B$34,Input_Details!$B$32))","v":0},{"$f":"IF(OFFSET('Raw Data'!Z37,Input_Details!$B$34,Input_Details!$B$32)=\"\", \"-\", OFFSET('Raw Data'!Z37,Input_Details!$B$34,Input_Details!$B$32))","v":0},{"$f":"IF(OFFSET('Raw Data'!AA37,Input_Details!$B$34,Input_Details!$B$32)=\"\", \"-\", OFFSET('Raw Data'!AA37,Input_Details!$B$34,Input_Details!$B$32))","v":0},{"$f":"IF(OFFSET('Raw Data'!AB37,Input_Details!$B$34,Input_Details!$B$32)=\"\", \"-\", OFFSET('Raw Data'!AB37,Input_Details!$B$34,Input_Details!$B$32))","v":0},{"$f":"IF(OFFSET('Raw Data'!AC37,Input_Details!$B$34,Input_Details!$B$32)=\"\", \"-\", OFFSET('Raw Data'!AC37,Input_Details!$B$34,Input_Details!$B$32))","v":0},{"$f":"IF(OFFSET('Raw Data'!AD37,Input_Details!$B$34,Input_Details!$B$32)=\"\", \"-\", OFFSET('Raw Data'!AD37,Input_Details!$B$34,Input_Details!$B$32))","v":0},{"$f":"IF(OFFSET('Raw Data'!AE37,Input_Details!$B$34,Input_Details!$B$32)=\"\", \"-\", OFFSET('Raw Data'!AE37,Input_Details!$B$34,Input_Details!$B$32))","v":0},{"$f":"IF(OFFSET('Raw Data'!AF37,Input_Details!$B$34,Input_Details!$B$32)=\"\", \"-\", OFFSET('Raw Data'!AF37,Input_Details!$B$34,Input_Details!$B$32))","v":0},{"$f":"IF(OFFSET('Raw Data'!AG37,Input_Details!$B$34,Input_Details!$B$32)=\"\", \"-\", OFFSET('Raw Data'!AG37,Input_Details!$B$34,Input_Details!$B$32))","v":0},{"$f":"IF(OFFSET('Raw Data'!AH37,Input_Details!$B$34,Input_Details!$B$32)=\"\", \"-\", OFFSET('Raw Data'!AH37,Input_Details!$B$34,Input_Details!$B$32))","v":0},{"$f":"IF(OFFSET('Raw Data'!AI37,Input_Details!$B$34,Input_Details!$B$32)=\"\", \"-\", OFFSET('Raw Data'!AI37,Input_Details!$B$34,Input_Details!$B$32))","v":0},{"$f":"IF(OFFSET('Raw Data'!AJ37,Input_Details!$B$34,Input_Details!$B$32)=\"\", \"-\", OFFSET('Raw Data'!AJ37,Input_Details!$B$34,Input_Details!$B$32))","v":0},{"$f":"IF(OFFSET('Raw Data'!AK37,Input_Details!$B$34,Input_Details!$B$32)=\"\", \"-\", OFFSET('Raw Data'!AK37,Input_Details!$B$34,Input_Details!$B$32))","v":0},{"$f":"IF(OFFSET('Raw Data'!AL37,Input_Details!$B$34,Input_Details!$B$32)=\"\", \"-\", OFFSET('Raw Data'!AL37,Input_Details!$B$34,Input_Details!$B$32))","v":0},{"$f":"IF(OFFSET('Raw Data'!AM37,Input_Details!$B$34,Input_Details!$B$32)=\"\", \"-\", OFFSET('Raw Data'!AM37,Input_Details!$B$34,Input_Details!$B$32))","v":0},null,{"$f":"IF(D59=\"-\",\"-\",OFFSET('Raw Data'!AN37,Input_Details!$B$34,Input_Details!$B$32))","v":16.865375302663441},{"$f":"IF(OFFSET('Raw Data'!AO37,Input_Details!$B$34,Input_Details!$B$32)=\"\", \"-\", OFFSET('Raw Data'!AO37,Input_Details!$B$34,Input_Details!$B$32))","v":19.178571428571427},{"$f":"IF(OFFSET('Raw Data'!AP37,Input_Details!$B$34,Input_Details!$B$32)=\"\", \"-\", OFFSET('Raw Data'!AP37,Input_Details!$B$34,Input_Details!$B$32))","v":5.2},{"$f":"IF(OFFSET('Raw Data'!AQ37,Input_Details!$B$34,Input_Details!$B$32)=\"\", \"-\", OFFSET('Raw Data'!AQ37,Input_Details!$B$34,Input_Details!$B$32))","v":30.6},null,{"$f":"IF(Y59=\"-\", \"-\", SUM(OFFSET(D59,0,VLOOKUP(Input_Details!$N$3, $AF$3:$AG$12, 2,0)-1):W59))","v":13},0.21666666666666667]
[null,"08:30:00",null,{"$f":"IF(OFFSET('Raw Data'!T38,Input_Details!$B$34,Input_Details!$B$32)=\"\", \"-\", OFFSET('Raw Data'!T38,Input_Details!$B$34,Input_Details!$B$32))","v":2},{"$f":"IF(OFFSET('Raw Data'!U38,Input_Details!$B$34,Input_Details!$B$32)=\"\", \"-\", OFFSET('Raw Data'!U38,Input_Details!$B$34,Input_Details!$B$32))","v":13},{"$f":"IF(OFFSET('Raw Data'!V38,Input_Details!$B$34,Input_Details!$B$32)=\"\", \"-\", OFFSET('Raw Data'!V38,Input_Details!$B$34,Input_Details!$B$32))","v":24},{"$f":"IF(OFFSET('Raw Data'!W38,Input_Details!$B$34,Input_Details!$B$32)=\"\", \"-\", OFFSET('Raw Data'!W38,Input_Details!$B$34,Input_Details!$B$32))","v":12},{"$f":"IF(OFFSET('Raw Data'!X38,Input_Details!$B$34,Input_Details!$B$32)=\"\", \"-\", OFFSET('Raw Data'!X38,Input_Details!$B$34,Input_Details!$B$32))","v":2},{"$f":"IF(OFFSET('Raw Data'!Y38,Input_Details!$B$34,Input_Details!$B$32)=\"\", \"-\", OFFSET('Raw Data'!Y38,Input_Details!$B$34,Input_Details!$B$32))","v":0},{"$f":"IF(OFFSET('Raw Data'!Z38,Input_Details!$B$34,Input_Details!$B$32)=\"\", \"-\", OFFSET('Raw Data'!Z38,Input_Details!$B$34,Input_Details!$B$32))","v":0},{"$f":"IF(OFFSET('Raw Data'!AA38,Input_Details!$B$34,Input_Details!$B$32)=\"\", \"-\", OFFSET('Raw Data'!AA38,Input_Details!$B$34,Input_Details!$B$32))","v":0},{"$f":"IF(OFFSET('Raw Data'!AB38,Input_Details!$B$34,Input_Details!$B$32)=\"\", \"-\", OFFSET('Raw Data'!AB38,Input_Details!$B$34,Input_Details!$B$32))","v":0},{"$f":"IF(OFFSET('Raw Data'!AC38,Input_Details!$B$34,Input_Details!$B$32)=\"\", \"-\", OFFSET('Raw Data'!AC38,Input_Details!$B$34,Input_Details!$B$32))","v":0},{"$f":"IF(OFFSET('Raw Data'!AD38,Input_Details!$B$34,Input_Details!$B$32)=\"\", \"-\", OFFSET('Raw Data'!AD38,Input_Details!$B$34,Input_Details!$B$32))","v":0},{"$f":"IF(OFFSET('Raw Data'!AE38,Input_Details!$B$34,Input_Details!$B$32)=\"\", \"-\", OFFSET('Raw Data'!AE38,Input_Details!$B$34,Input_Details!$B$32))","v":0},{"$f":"IF(OFFSET('Raw Data'!AF38,Input_Details!$B$34,Input_Details!$B$32)=\"\", \"-\", OFFSET('Raw Data'!AF38,Input_Details!$B$34,Input_Details!$B$32))","v":0},{"$f":"IF(OFFSET('Raw Data'!AG38,Input_Details!$B$34,Input_Details!$B$32)=\"\", \"-\", OFFSET('Raw Data'!AG38,Input_Details!$B$34,Input_Details!$B$32))","v":0},{"$f":"IF(OFFSET('Raw Data'!AH38,Input_Details!$B$34,Input_Details!$B$32)=\"\", \"-\", OFFSET('Raw Data'!AH38,Input_Details!$B$34,Input_Details!$B$32))","v":0},{"$f":"IF(OFFSET('Raw Data'!AI38,Input_Details!$B$34,Input_Details!$B$32)=\"\", \"-\", OFFSET('Raw Data'!AI38,Input_Details!$B$34,Input_Details!$B$32))","v":0},{"$f":"IF(OFFSET('Raw Data'!AJ38,Input_Details!$B$34,Input_Details!$B$32)=\"\", \"-\", OFFSET('Raw Data'!AJ38,Input_Details!$B$34,Input_Details!$B$32))","v":0},{"$f":"IF(OFFSET('Raw Data'!AK38,Input_Details!$B$34,Input_Details!$B$32)=\"\", \"-\", OFFSET('Raw Data'!AK38,Input_Details!$B$34,Input_Details!$B$32))","v":0},{"$f":"IF(OFFSET('Raw Data'!AL38,Input_Details!$B$34,Input_Details!$B$32)=\"\", \"-\", OFFSET('Raw Data'!AL38,Input_Details!$B$34,Input_Details!$B$32))","v":0},{"$f":"IF(OFFSET('Raw Data'!AM38,Input_Details!$B$34,Input_Details!$B$32)=\"\", \"-\", OFFSET('Raw Data'!AM38,Input_Details!$B$34,Input_Details!$B$32))","v":0},null,{"$f":"IF(D60=\"-\",\"-\",OFFSET('Raw Data'!AN38,Input_Details!$B$34,Input_Details!$B$32))","v":17.878296703296705},{"$f":"IF(OFFSET('Raw Data'!AO38,Input_Details!$B$34,Input_Details!$B$32)=\"\", \"-\", OFFSET('Raw Data'!AO38,Input_Details!$B$34,Input_Details!$B$32))","v":19.832857142857144},{"$f":"IF(OFFSET('Raw Data'!AP38,Input_Details!$B$34,Input_Details!$B$32)=\"\", \"-\", OFFSET('Raw Data'!AP38,Input_Details!$B$34,Input_Details!$B$32))","v":8.1999999999999993},{"$f":"IF(OFFSET('Raw Data'!AQ38,Input_Details!$B$34,Input_Details!$B$32)=\"\", \"-\", OFFSET('Raw Data'!AQ38,Input_Details!$B$34,Input_Details!$B$32))","v":38},null,{"$f":"IF(Y60=\"-\", \"-\", SUM(OFFSET(D60,0,VLOOKUP(Input_Details!$N$3, $AF$3:$AG$12, 2,0)-1):W60))","v":14},0.26415094339622641]
[null,"08:45:00",null,{"$f":"IF(OFFSET('Raw Data'!T39,Input_Details!$B$34,Input_Details!$B$32)=\"\", \"-\", OFFSET('Raw Data'!T39,Input_Details!$B$34,Input_Details!$B$32))","v":1},{"$f":"IF(OFFSET('Raw Data'!U39,Input_Details!$B$34,Input_Details!$B$32)=\"\", \"-\", OFFSET('Raw Data'!U39,Input_Details!$B$34,Input_Details!$B$32))","v":14},{"$f":"IF(OFFSET('Raw Data'!V39,Input_Details!$B$34,Input_Details!$B$32)=\"\", \"-\", OFFSET('Raw Data'!V39,Input_Details!$B$34,Input_Details!$B$32))","v":21},{"$f":"IF(OFFSET('Raw Data'!W39,Input_Details!$B$34,Input_Details!$B$32)=\"\", \"-\", OFFSET('Raw Data'!W39,Input_Details!$B$34,Input_Details!$B$32))","v":13},{"$f":"IF(OFFSET('Raw Data'!X39,Input_Details!$B$34,Input_Details!$B$32)=\"\", \"-\", OFFSET('Raw Data'!X39,Input_Details!$B$34,Input_Details!$B$32))","v":3},{"$f":"IF(OFFSET('Raw Data'!Y39,Input_Details!$B$34,Input_Details!$B$32)=\"\", \"-\", OFFSET('Raw Data'!Y39,Input_Details!$B$34,Input_Details!$B$32))","v":1},{"$f":"IF(OFFSET('Raw Data'!Z39,Input_Details!$B$34,Input_Details!$B$32)=\"\", \"-\", OFFSET('Raw Data'!Z39,Input_Details!$B$34,Input_Details!$B$32))","v":0},{"$f":"IF(OFFSET('Raw Data'!AA39,Input_Details!$B$34,Input_Details!$B$32)=\"\", \"-\", OFFSET('Raw Data'!AA39,Input_Details!$B$34,Input_Details!$B$32))","v":0},{"$f":"IF(OFFSET('Raw Data'!AB39,Input_Details!$B$34,Input_Details!$B$32)=\"\", \"-\", OFFSET('Raw Data'!AB39,Input_Details!$B$34,Input_Details!$B$32))","v":0},{"$f":"IF(OFFSET('Raw Data'!AC39,Input_Details!$B$34,Input_Details!$B$32)=\"\", \"-\", OFFSET('Raw Data'!AC39,Input_Details!$B$34,Input_Details!$B$32))","v":0},{"$f":"IF(OFFSET('Raw Data'!AD39,Input_Details!$B$34,Input_Details!$B$32)=\"\", \"-\", OFFSET('Raw Data'!AD39,Input_Details!$B$34,Input_Details!$B$32))","v":0},{"$f":"IF(OFFSET('Raw Data'!AE39,Input_Details!$B$34,Input_Details!$B$32)=\"\", \"-\", OFFSET('Raw Data'!AE39,Input_Details!$B$34,Input_Details!$B$32))","v":0},{"$f":"IF(OFFSET('Raw Data'!AF39,Input_Details!$B$34,Input_Details!$B$32)=\"\", \"-\", OFFSET('Raw Data'!AF39,Input_Details!$B$34,Input_Details!$B$32))","v":0},{"$f":"IF(OFFSET('Raw Data'!AG39,Input_Details!$B$34,Input_Details!$B$32)=\"\", \"-\", OFFSET('Raw Data'!AG39,Input_Details!$B$34,Input_Details!$B$32))","v":0},{"$f":"IF(OFFSET('Raw Data'!AH39,Input_Details!$B$34,Input_Details!$B$32)=\"\", \"-\", OFFSET('Raw Data'!AH39,Input_Details!$B$34,Input_Details!$B$32))","v":0},{"$f":"IF(OFFSET('Raw Data'!AI39,Input_Details!$B$34,Input_Details!$B$32)=\"\", \"-\", OFFSET('Raw Data'!AI39,Input_Details!$B$34,Input_Details!$B$32))","v":0},{"$f":"IF(OFFSET('Raw Data'!AJ39,Input_Details!$B$34,Input_Details!$B$32)=\"\", \"-\", OFFSET('Raw Data'!AJ39,Input_Details!$B$34,Input_Details!$B$32))","v":0},{"$f":"IF(OFFSET('Raw Data'!AK39,Input_Details!$B$34,Input_Details!$B$32)=\"\", \"-\", OFFSET('Raw Data'!AK39,Input_Details!$B$34,Input_Details!$B$32))","v":0},{"$f":"IF(OFFSET('Raw Data'!AL39,Input_Details!$B$34,Input_Details!$B$32)=\"\", \"-\", OFFSET('Raw Data'!AL39,Input_Details!$B$34,Input_Details!$B$32))","v":0},{"$f":"IF(OFFSET('Raw Data'!AM39,Input_Details!$B$34,Input_Details!$B$32)=\"\", \"-\", OFFSET('Raw Data'!AM39,Input_Details!$B$34,Input_Details!$B$32))","v":0},null,{"$f":"IF(D61=\"-\",\"-\",OFFSET('Raw Data'!AN39,Input_Details!$B$34,Input_Details!$B$32))","v":17.776923076923079},{"$f":"IF(OFFSET('Raw Data'!AO39,Input_Details!$B$34,Input_Details!$B$32)=\"\", \"-\", OFFSET('Raw Data'!AO39,Input_Details!$B$34,Input_Details!$B$32))","v":19.400000000000002},{"$f":"IF(OFFSET('Raw Data'!AP39,Input_Details!$B$34,Input_Details!$B$32)=\"\", \"-\", OFFSET('Raw Data'!AP39,Input_Details!$B$34,Input_Details!$B$32))","v":8.6},{"$f":"IF(OFFSET('Raw Data'!AQ39,Input_Details!$B$34,Input_Details!$B$32)=\"\", \"-\", OFFSET('Raw Data'!AQ39,Input_Details!$B$34,Input_Details!$B$32))","v":33.9},null,{"$f":"IF(Y61=\"-\", \"-\", SUM(OFFSET(D61,0,VLOOKUP(Input_Details!$N$3, $AF$3:$AG$12, 2,0)-1):W61))","v":17},0.32075471698113206]
[null,"09:00:00",null,{"$f":"IF(OFFSET('Raw Data'!T40,Input_Details!$B$34,Input_Details!$B$32)=\"\", \"-\", OFFSET('Raw Data'!T40,Input_Details!$B$34,Input_Details!$B$32))","v":1},{"$f":"IF(OFFSET('Raw Data'!U40,Input_Details!$B$34,Input_Details!$B$32)=\"\", \"-\", OFFSET('Raw Data'!U40,Input_Details!$B$34,Input_Details!$B$32))","v":16},{"$f":"IF(OFFSET('Raw Data'!V40,Input_Details!$B$34,Input_Details!$B$32)=\"\", \"-\", OFFSET('Raw Data'!V40,Input_Details!$B$34,Input_Details!$B$32))","v":22},{"$f":"IF(OFFSET('Raw Data'!W40,Input_Details!$B$34,Input_Details!$B$32)=\"\", \"-\", OFFSET('Raw Data'!W40,Input_Details!$B$34,Input_Details!$B$32))","v":16},{"$f":"IF(OFFSET('Raw Data'!X40,Input_Details!$B$34,Input_Details!$B$32)=\"\", \"-\", OFFSET('Raw Data'!X40,Input_Details!$B$34,Input_Details!$B$32))","v":2},{"$f":"IF(OFFSET('Raw Data'!Y40,Input_Details!$B$34,Input_Details!$B$32)=\"\", \"-\", OFFSET('Raw Data'!Y40,Input_Details!$B$34,Input_Details!$B$32))","v":0},{"$f":"IF(OFFSET('Raw Data'!Z40,Input_Details!$B$34,Input_Details!$B$32)=\"\", \"-\", OFFSET('Raw Data'!Z40,Input_Details!$B$34,Input_Details!$B$32))","v":0},{"$f":"IF(OFFSET('Raw Data'!AA40,Input_Details!$B$34,Input_Details!$B$32)=\"\", \"-\", OFFSET('Raw Data'!AA40,Input_Details!$B$34,Input_Details!$B$32))","v":0},{"$f":"IF(OFFSET('Raw Data'!AB40,Input_Details!$B$34,Input_Details!$B$32)=\"\", \"-\", OFFSET('Raw Data'!AB40,Input_Details!$B$34,Input_Details!$B$32))","v":0},{"$f":"IF(OFFSET('Raw Data'!AC40,Input_Details!$B$34,Input_Details!$B$32)=\"\", \"-\", OFFSET('Raw Data'!AC40,Input_Details!$B$34,Input_Details!$B$32))","v":0},{"$f":"IF(OFFSET('Raw Data'!AD40,Input_Details!$B$34,Input_Details!$B$32)=\"\", \"-\", OFFSET('Raw Data'!AD40,Input_Details!$B$34,Input_Details!$B$32))","v":0},{"$f":"IF(OFFSET('Raw Data'!AE40,Input_Details!$B$34,Input_Details!$B$32)=\"\", \"-\", OFFSET('Raw Data'!AE40,Input_Details!$B$34,Input_Details!$B$32))","v":0},{"$f":"IF(OFFSET('Raw Data'!AF40,Input_Details!$B$34,Input_Details!$B$32)=\"\", \"-\", OFFSET('Raw Data'!AF40,Input_Details!$B$34,Input_Details!$B$32))","v":0},{"$f":"IF(OFFSET('Raw Data'!AG40,Input_Details!$B$34,Input_Details!$B$32)=\"\", \"-\", OFFSET('Raw Data'!AG40,Input_Details!$B$34,Input_Details!$B$32))","v":0},{"$f":"IF(OFFSET('Raw Data'!AH40,Input_Details!$B$34,Input_Details!$B$32)=\"\", \"-\", OFFSET('Raw Data'!AH40,Input_Details!$B$34,Input_Details!$B$32))","v":0},{"$f":"IF(OFFSET('Raw Data'!AI40,Input_Details!$B$34,Input_Details!$B$32)=\"\", \"-\", OFFSET('Raw Data'!AI40,Input_Details!$B$34,Input_Details!$B$32))","v":0},{"$f":"IF(OFFSET('Raw Data'!AJ40,Input_Details!$B$34,Input_Details!$B$32)=\"\", \"-\", OFFSET('Raw Data'!AJ40,Input_Details!$B$34,Input_Details!$B$32))","v":0},{"$f":"IF(OFFSET('Raw Data'!AK40,Input_Details!$B$34,Input_Details!$B$32)=\"\", \"-\", OFFSET('Raw Data'!AK40,Input_Details!$B$34,Input_Details!$B$32))","v":0},{"$f":"IF(OFFSET('Raw Data'!AL40,Input_Details!$B$34,Input_Details!$B$32)=\"\", \"-\", OFFSET('Raw Data'!AL40,Input_Details!$B$34,Input_Details!$B$32))","v":0},{"$f":"IF(OFFSET('Raw Data'!AM40,Input_Details!$B$34,Input_Details!$B$32)=\"\", \"-\", OFFSET('Raw Data'!AM40,Input_Details!$B$34,Input_Details!$B$32))","v":0},null,{"$f":"IF(D62=\"-\",\"-\",OFFSET('Raw Data'!AN40,Input_Details!$B$34,Input_Details!$B$32))","v":17.917857142857141},{"$f":"IF(OFFSET('Raw Data'!AO40,Input_Details!$B$34,Input_Details!$B$32)=\"\", \"-\", OFFSET('Raw Data'!AO40,Input_Details!$B$34,Input_Details!$B$32))","v":19.689999999999998},{"$f":"IF(OFFSET('Raw Data'!AP40,Input_Details!$B$34,Input_Details!$B$32)=\"\", \"-\", OFFSET('Raw Data'!AP40,Input_Details!$B$34,Input_Details!$B$32))","v":6},{"$f":"IF(OFFSET('Raw Data'!AQ40,Input_Details!$B$34,Input_Details!$B$32)=\"\", \"-\", OFFSET('Raw Data'!AQ40,Input_Details!$B$34,Input_Details!$B$32))","v":31},null,{"$f":"IF(Y62=\"-\", \"-\", SUM(OFFSET(D62,0,VLOOKUP(Input_Details!$N$3, $AF$3:$AG$12, 2,0)-1):W62))","v":18},0.31578947368421051]
[null,"09:15:00",null,{"$f":"IF(OFFSET('Raw Data'!T41,Input_Details!$B$34,Input_Details!$B$32)=\"\", \"-\", OFFSET('Raw Data'!T41,Input_Details!$B$34,Input_Details!$B$32))","v":1},{"$f":"IF(OFFSET('Raw Data'!U41,Input_Details!$B$34,Input_Details!$B$32)=\"\", \"-\", OFFSET('Raw Data'!U41,Input_Details!$B$34,Input_Details!$B$32))","v":11},{"$f":"IF(OFFSET('Raw Data'!V41,Input_Details!$B$34,Input_Details!$B$32)=\"\", \"-\", OFFSET('Raw Data'!V41,Input_Details!$B$34,Input_Details!$B$32))","v":20},{"$f":"IF(OFFSET('Raw Data'!W41,Input_Details!$B$34,Input_Details!$B$32)=\"\", \"-\", OFFSET('Raw Data'!W41,Input_Details!$B$34,Input_Details!$B$32))","v":13},{"$f":"IF(OFFSET('Raw Data'!X41,Input_Details!$B$34,Input_Details!$B$32)=\"\", \"-\", OFFSET('Raw Data'!X41,Input_Details!$B$34,Input_Details!$B$32))","v":4},{"$f":"IF(OFFSET('Raw Data'!Y41,Input_Details!$B$34,Input_Details!$B$32)=\"\", \"-\", OFFSET('Raw Data'!Y41,Input_Details!$B$34,Input_Details!$B$32))","v":0},{"$f":"IF(OFFSET('Raw Data'!Z41,Input_Details!$B$34,Input_Details!$B$32)=\"\", \"-\", OFFSET('Raw Data'!Z41,Input_Details!$B$34,Input_Details!$B$32))","v":0},{"$f":"IF(OFFSET('Raw Data'!AA41,Input_Details!$B$34,Input_Details!$B$32)=\"\", \"-\", OFFSET('Raw Data'!AA41,Input_Details!$B$34,Input_Details!$B$32))","v":0},{"$f":"IF(OFFSET('Raw Data'!AB41,Input_Details!$B$34,Input_Details!$B$32)=\"\", \"-\", OFFSET('Raw Data'!AB41,Input_Details!$B$34,Input_Details!$B$32))","v":0},{"$f":"IF(OFFSET('Raw Data'!AC41,Input_Details!$B$34,Input_Details!$B$32)=\"\", \"-\", OFFSET('Raw Data'!AC41,Input_Details!$B$34,Input_Details!$B$32))","v":0},{"$f":"IF(OFFSET('Raw Data'!AD41,Input_Details!$B$34,Input_Details!$B$32)=\"\", \"-\", OFFSET('Raw Data'!AD41,Input_Details!$B$34,Input_Details!$B$32))","v":0},{"$f":"IF(OFFSET('Raw Data'!AE41,Input_Details!$B$34,Input_Details!$B$32)=\"\", \"-\", OFFSET('Raw Data'!AE41,Input_Details!$B$34,Input_Details!$B$32))","v":0},{"$f":"IF(OFFSET('Raw Data'!AF41,Input_Details!$B$34,Input_Details!$B$32)=\"\", \"-\", OFFSET('Raw Data'!AF41,Input_Details!$B$34,Input_Details!$B$32))","v":0},{"$f":"IF(OFFSET('Raw Data'!AG41,Input_Details!$B$34,Input_Details!$B$32)=\"\", \"-\", OFFSET('Raw Data'!AG41,Input_Details!$B$34,Input_Details!$B$32))","v":0},{"$f":"IF(OFFSET('Raw Data'!AH41,Input_Details!$B$34,Input_Details!$B$32)=\"\", \"-\", OFFSET('Raw Data'!AH41,Input_Details!$B$34,Input_Details!$B$32))","v":0},{"$f":"IF(OFFSET('Raw Data'!AI41,Input_Details!$B$34,Input_Details!$B$32)=\"\", \"-\", OFFSET('Raw Data'!AI41,Input_Details!$B$34,Input_Details!$B$32))","v":0},{"$f":"IF(OFFSET('Raw Data'!AJ41,Input_Details!$B$34,Input_Details!$B$32)=\"\", \"-\", OFFSET('Raw Data'!AJ41,Input_Details!$B$34,Input_Details!$B$32))","v":0},{"$f":"IF(OFFSET('Raw Data'!AK41,Input_Details!$B$34,Input_Details!$B$32)=\"\", \"-\", OFFSET('Raw Data'!AK41,Input_Details!$B$34,Input_Details!$B$32))","v":0},{"$f":"IF(OFFSET('Raw Data'!AL41,Input_Details!$B$34,Input_Details!$B$32)=\"\", \"-\", OFFSET('Raw Data'!AL41,Input_Details!$B$34,Input_Details!$B$32))","v":0},{"$f":"IF(OFFSET('Raw Data'!AM41,Input_Details!$B$34,Input_Details!$B$32)=\"\", \"-\", OFFSET('Raw Data'!AM41,Input_Details!$B$34,Input_Details!$B$32))","v":0},null,{"$f":"IF(D63=\"-\",\"-\",OFFSET('Raw Data'!AN41,Input_Details!$B$34,Input_Details!$B$32))","v":18.426086956521736},{"$f":"IF(OFFSET('Raw Data'!AO41,Input_Details!$B$34,Input_Details!$B$32)=\"\", \"-\", OFFSET('Raw Data'!AO41,Input_Details!$B$34,Input_Details!$B$32))","v":20.278571428571428},{"$f":"IF(OFFSET('Raw Data'!AP41,Input_Details!$B$34,Input_Details!$B$32)=\"\", \"-\", OFFSET('Raw Data'!AP41,Input_Details!$B$34,Input_Details!$B$32))","v":8.6999999999999993},{"$f":"IF(OFFSET('Raw Data'!AQ41,Input_Details!$B$34,Input_Details!$B$32)=\"\", \"-\", OFFSET('Raw Data'!AQ41,Input_Details!$B$34,Input_Details!$B$32))","v":31.3},null,{"$f":"IF(Y63=\"-\", \"-\", SUM(OFFSET(D63,0,VLOOKUP(Input_Details!$N$3, $AF$3:$AG$12, 2,0)-1):W63))","v":17},0.34693877551020408]
[null,"09:30:00",null,{"$f":"IF(OFFSET('Raw Data'!T42,Input_Details!$B$34,Input_Details!$B$32)=\"\", \"-\", OFFSET('Raw Data'!T42,Input_Details!$B$34,Input_Details!$B$32))","v":1},{"$f":"IF(OFFSET('Raw Data'!U42,Input_Details!$B$34,Input_Details!$B$32)=\"\", \"-\", OFFSET('Raw Data'!U42,Input_Details!$B$34,Input_Details!$B$32))","v":8},{"$f":"IF(OFFSET('Raw Data'!V42,Input_Details!$B$34,Input_Details!$B$32)=\"\", \"-\", OFFSET('Raw Data'!V42,Input_Details!$B$34,Input_Details!$B$32))","v":22},{"$f":"IF(OFFSET('Raw Data'!W42,Input_Details!$B$34,Input_Details!$B$32)=\"\", \"-\", OFFSET('Raw Data'!W42,Input_Details!$B$34,Input_Details!$B$32))","v":15},{"$f":"IF(OFFSET('Raw Data'!X42,Input_Details!$B$34,Input_Details!$B$32)=\"\", \"-\", OFFSET('Raw Data'!X42,Input_Details!$B$34,Input_Details!$B$32))","v":3},{"$f":"IF(OFFSET('Raw Data'!Y42,Input_Details!$B$34,Input_Details!$B$32)=\"\", \"-\", OFFSET('Raw Data'!Y42,Input_Details!$B$34,Input_Details!$B$32))","v":0},{"$f":"IF(OFFSET('Raw Data'!Z42,Input_Details!$B$34,Input_Details!$B$32)=\"\", \"-\", OFFSET('Raw Data'!Z42,Input_Details!$B$34,Input_Details!$B$32))","v":0},{"$f":"IF(OFFSET('Raw Data'!AA42,Input_Details!$B$34,Input_Details!$B$32)=\"\", \"-\", OFFSET('Raw Data'!AA42,Input_Details!$B$34,Input_Details!$B$32))","v":0},{"$f":"IF(OFFSET('Raw Data'!AB42,Input_Details!$B$34,Input_Details!$B$32)=\"\", \"-\", OFFSET('Raw Data'!AB42,Input_Details!$B$34,Input_Details!$B$32))","v":0},{"$f":"IF(OFFSET('Raw Data'!AC42,Input_Details!$B$34,Input_Details!$B$32)=\"\", \"-\", OFFSET('Raw Data'!AC42,Input_Details!$B$34,Input_Details!$B$32))","v":0},{"$f":"IF(OFFSET('Raw Data'!AD42,Input_Details!$B$34,Input_Details!$B$32)=\"\", \"-\", OFFSET('Raw Data'!AD42,Input_Details!$B$34,Input_Details!$B$32))","v":0},{"$f":"IF(OFFSET('Raw Data'!AE42,Input_Details!$B$34,Input_Details!$B$32)=\"\", \"-\", OFFSET('Raw Data'!AE42,Input_Details!$B$34,Input_Details!$B$32))","v":0},{"$f":"IF(OFFSET('Raw Data'!AF42,Input_Details!$B$34,Input_Details!$B$32)=\"\", \"-\", OFFSET('Raw Data'!AF42,Input_Details!$B$34,Input_Details!$B$32))","v":0},{"$f":"IF(OFFSET('Raw Data'!AG42,Input_Details!$B$34,Input_Details!$B$32)=\"\", \"-\", OFFSET('Raw Data'!AG42,Input_Details!$B$34,Input_Details!$B$32))","v":0},{"$f":"IF(OFFSET('Raw Data'!AH42,Input_Details!$B$34,Input_Details!$B$32)=\"\", \"-\", OFFSET('Raw Data'!AH42,Input_Details!$B$34,Input_Details!$B$32))","v":0},{"$f":"IF(OFFSET('Raw Data'!AI42,Input_Details!$B$34,Input_Details!$B$32)=\"\", \"-\", OFFSET('Raw Data'!AI42,Input_Details!$B$34,Input_Details!$B$32))","v":0},{"$f":"IF(OFFSET('Raw Data'!AJ42,Input_Details!$B$34,Input_Details!$B$32)=\"\", \"-\", OFFSET('Raw Data'!AJ42,Input_Details!$B$34,Input_Details!$B$32))","v":0},{"$f":"IF(OFFSET('Raw Data'!AK42,Input_Details!$B$34,Input_Details!$B$32)=\"\", \"-\", OFFSET('Raw Data'!AK42,Input_Details!$B$34,Input_Details!$B$32))","v":0},{"$f":"IF(OFFSET('Raw Data'!AL42,Input_Details!$B$34,Input_Details!$B$32)=\"\", \"-\", OFFSET('Raw Data'!AL42,Input_Details!$B$34,Input_Details!$B$32))","v":0},{"$f":"IF(OFFSET('Raw Data'!AM42,Input_Details!$B$34,Input_Details!$B$32)=\"\", \"-\", OFFSET('Raw Data'!AM42,Input_Details!$B$34,Input_Details!$B$32))","v":0},null,{"$f":"IF(D64=\"-\",\"-\",OFFSET('Raw Data'!AN42,Input_Details!$B$34,Input_Details!$B$32))","v":18.818541033434649},{"$f":"IF(OFFSET('Raw Data'!AO42,Input_Details!$B$34,Input_Details!$B$32)=\"\", \"-\", OFFSET('Raw Data'!AO42,Input_Details!$B$34,Input_Details!$B$32))","v":21.485714285714288},{"$f":"IF(OFFSET('Raw Data'!AP42,Input_Details!$B$34,Input_Details!$B$32)=\"\", \"-\", OFFSET('Raw Data'!AP42,Input_Details!$B$34,Input_Details!$B$32))","v":8},{"$f":"IF(OFFSET('Raw Data'!AQ42,Input_Details!$B$34,Input_Details!$B$32)=\"\", \"-\", OFFSET('Raw Data'!AQ42,Input_Details!$B$34,Input_Details!$B$32))","v":36.799999999999997},null,{"$f":"IF(Y64=\"-\", \"-\", SUM(OFFSET(D64,0,VLOOKUP(Input_Details!$N$3, $AF$3:$AG$12, 2,0)-1):W64))","v":18},0.36734693877551022]
[null,"09:45:00",null,{"$f":"IF(OFFSET('Raw Data'!T43,Input_Details!$B$34,Input_Details!$B$32)=\"\", \"-\", OFFSET('Raw Data'!T43,Input_Details!$B$34,Input_Details!$B$32))","v":1},{"$f":"IF(OFFSET('Raw Data'!U43,Input_Details!$B$34,Input_Details!$B$32)=\"\", \"-\", OFFSET('Raw Data'!U43,Input_Details!$B$34,Input_Details!$B$32))","v":9},{"$f":"IF(OFFSET('Raw Data'!V43,Input_Details!$B$34,Input_Details!$B$32)=\"\", \"-\", OFFSET('Raw Data'!V43,Input_Details!$B$34,Input_Details!$B$32))","v":20},{"$f":"IF(OFFSET('Raw Data'!W43,Input_Details!$B$34,Input_Details!$B$32)=\"\", \"-\", OFFSET('Raw Data'!W43,Input_Details!$B$34,Input_Details!$B$32))","v":14},{"$f":"IF(OFFSET('Raw Data'!X43,Input_Details!$B$34,Input_Details!$B$32)=\"\", \"-\", OFFSET('Raw Data'!X43,Input_Details!$B$34,Input_Details!$B$32))","v":5},{"$f":"IF(OFFSET('Raw Data'!Y43,Input_Details!$B$34,Input_Details!$B$32)=\"\", \"-\", OFFSET('Raw Data'!Y43,Input_Details!$B$34,Input_Details!$B$32))","v":0},{"$f":"IF(OFFSET('Raw Data'!Z43,Input_Details!$B$34,Input_Details!$B$32)=\"\", \"-\", OFFSET('Raw Data'!Z43,Input_Details!$B$34,Input_Details!$B$32))","v":0},{"$f":"IF(OFFSET('Raw Data'!AA43,Input_Details!$B$34,Input_Details!$B$32)=\"\", \"-\", OFFSET('Raw Data'!AA43,Input_Details!$B$34,Input_Details!$B$32))","v":0},{"$f":"IF(OFFSET('Raw Data'!AB43,Input_Details!$B$34,Input_Details!$B$32)=\"\", \"-\", OFFSET('Raw Data'!AB43,Input_Details!$B$34,Input_Details!$B$32))","v":0},{"$f":"IF(OFFSET('Raw Data'!AC43,Input_Details!$B$34,Input_Details!$B$32)=\"\", \"-\", OFFSET('Raw Data'!AC43,Input_Details!$B$34,Input_Details!$B$32))","v":0},{"$f":"IF(OFFSET('Raw Data'!AD43,Input_Details!$B$34,Input_Details!$B$32)=\"\", \"-\", OFFSET('Raw Data'!AD43,Input_Details!$B$34,Input_Details!$B$32))","v":0},{"$f":"IF(OFFSET('Raw Data'!AE43,Input_Details!$B$34,Input_Details!$B$32)=\"\", \"-\", OFFSET('Raw Data'!AE43,Input_Details!$B$34,Input_Details!$B$32))","v":0},{"$f":"IF(OFFSET('Raw Data'!AF43,Input_Details!$B$34,Input_Details!$B$32)=\"\", \"-\", OFFSET('Raw Data'!AF43,Input_Details!$B$34,Input_Details!$B$32))","v":0},{"$f":"IF(OFFSET('Raw Data'!AG43,Input_Details!$B$34,Input_Details!$B$32)=\"\", \"-\", OFFSET('Raw Data'!AG43,Input_Details!$B$34,Input_Details!$B$32))","v":0},{"$f":"IF(OFFSET('Raw Data'!AH43,Input_Details!$B$34,Input_Details!$B$32)=\"\", \"-\", OFFSET('Raw Data'!AH43,Input_Details!$B$34,Input_Details!$B$32))","v":0},{"$f":"IF(OFFSET('Raw Data'!AI43,Input_Details!$B$34,Input_Details!$B$32)=\"\", \"-\", OFFSET('Raw Data'!AI43,Input_Details!$B$34,Input_Details!$B$32))","v":0},{"$f":"IF(OFFSET('Raw Data'!AJ43,Input_Details!$B$34,Input_Details!$B$32)=\"\", \"-\", OFFSET('Raw Data'!AJ43,Input_Details!$B$34,Input_Details!$B$32))","v":0},{"$f":"IF(OFFSET('Raw Data'!AK43,Input_Details!$B$34,Input_Details!$B$32)=\"\", \"-\", OFFSET('Raw Data'!AK43,Input_Details!$B$34,Input_Details!$B$32))","v":0},{"$f":"IF(OFFSET('Raw Data'!AL43,Input_Details!$B$34,Input_Details!$B$32)=\"\", \"-\", OFFSET('Raw Data'!AL43,Input_Details!$B$34,Input_Details!$B$32))","v":0},{"$f":"IF(OFFSET('Raw Data'!AM43,Input_Details!$B$34,Input_Details!$B$32)=\"\", \"-\", OFFSET('Raw Data'!AM43,Input_Details!$B$34,Input_Details!$B$32))","v":0},null,{"$f":"IF(D65=\"-\",\"-\",OFFSET('Raw Data'!AN43,Input_Details!$B$34,Input_Details!$B$32))","v":19.082507288629735},{"$f":"IF(OFFSET('Raw Data'!AO43,Input_Details!$B$34,Input_Details!$B$32)=\"\", \"-\", OFFSET('Raw Data'!AO43,Input_Details!$B$34,Input_Details!$B$32))","v":20.149999999999999},{"$f":"IF(OFFSET('Raw Data'!AP43,Input_Details!$B$34,Input_Details!$B$32)=\"\", \"-\", OFFSET('Raw Data'!AP43,Input_Details!$B$34,Input_Details!$B$32))","v":6.7},{"$f":"IF(OFFSET('Raw Data'!AQ43,Input_Details!$B$34,Input_Details!$B$32)=\"\", \"-\", OFFSET('Raw Data'!AQ43,Input_Details!$B$34,Input_Details!$B$32))","v":43.1},null,{"$f":"IF(Y65=\"-\", \"-\", SUM(OFFSET(D65,0,VLOOKUP(Input_Details!$N$3, $AF$3:$AG$12, 2,0)-1):W65))","v":19},0.38775510204081631]
[null,"10:00:00",null,{"$f":"IF(OFFSET('Raw Data'!T44,Input_Details!$B$34,Input_Details!$B$32)=\"\", \"-\", OFFSET('Raw Data'!T44,Input_Details!$B$34,Input_Details!$B$32))","v":1},{"$f":"IF(OFFSET('Raw Data'!U44,Input_Details!$B$34,Input_Details!$B$32)=\"\", \"-\", OFFSET('Raw Data'!U44,Input_Details!$B$34,Input_Details!$B$32))","v":12},{"$f":"IF(OFFSET('Raw Data'!V44,Input_Details!$B$34,Input_Details!$B$32)=\"\", \"-\", OFFSET('Raw Data'!V44,Input_Details!$B$34,Input_Details!$B$32))","v":21},{"$f":"IF(OFFSET('Raw Data'!W44,Input_Details!$B$34,Input_Details!$B$32)=\"\", \"-\", OFFSET('Raw Data'!W44,Input_Details!$B$34,Input_Details!$B$32))","v":13},{"$f":"IF(OFFSET('Raw Data'!X44,Input_Details!$B$34,Input_Details!$B$32)=\"\", \"-\", OFFSET('Raw Data'!X44,Input_Details!$B$34,Input_Details!$B$32))","v":1},{"$f":"IF(OFFSET('Raw Data'!Y44,Input_Details!$B$34,Input_Details!$B$32)=\"\", \"-\", OFFSET('Raw Data'!Y44,Input_Details!$B$34,Input_Details!$B$32))","v":0},{"$f":"IF(OFFSET('Raw Data'!Z44,Input_Details!$B$34,Input_Details!$B$32)=\"\", \"-\", OFFSET('Raw Data'!Z44,Input_Details!$B$34,Input_Details!$B$32))","v":0},{"$f":"IF(OFFSET('Raw Data'!AA44,Input_Details!$B$34,Input_Details!$B$32)=\"\", \"-\", OFFSET('Raw Data'!AA44,Input_Details!$B$34,Input_Details!$B$32))","v":0},{"$f":"IF(OFFSET('Raw Data'!AB44,Input_Details!$B$34,Input_Details!$B$32)=\"\", \"-\", OFFSET('Raw Data'!AB44,Input_Details!$B$34,Input_Details!$B$32))","v":0},{"$f":"IF(OFFSET('Raw Data'!AC44,Input_Details!$B$34,Input_Details!$B$32)=\"\", \"-\", OFFSET('Raw Data'!AC44,Input_Details!$B$34,Input_Details!$B$32))","v":0},{"$f":"IF(OFFSET('Raw Data'!AD44,Input_Details!$B$34,Input_Details!$B$32)=\"\", \"-\", OFFSET('Raw Data'!AD44,Input_Details!$B$34,Input_Details!$B$32))","v":0},{"$f":"IF(OFFSET('Raw Data'!AE44,Input_Details!$B$34,Input_Details!$B$32)=\"\", \"-\", OFFSET('Raw Data'!AE44,Input_Details!$B$34,Input_Details!$B$32))","v":0},{"$f":"IF(OFFSET('Raw Data'!AF44,Input_Details!$B$34,Input_Details!$B$32)=\"\", \"-\", OFFSET('Raw Data'!AF44,Input_Details!$B$34,Input_Details!$B$32))","v":0},{"$f":"IF(OFFSET('Raw Data'!AG44,Input_Details!$B$34,Input_Details!$B$32)=\"\", \"-\", OFFSET('Raw Data'!AG44,Input_Details!$B$34,Input_Details!$B$32))","v":0},{"$f":"IF(OFFSET('Raw Data'!AH44,Input_Details!$B$34,Input_Details!$B$32)=\"\", \"-\", OFFSET('Raw Data'!AH44,Input_Details!$B$34,Input_Details!$B$32))","v":0},{"$f":"IF(OFFSET('Raw Data'!AI44,Input_Details!$B$34,Input_Details!$B$32)=\"\", \"-\", OFFSET('Raw Data'!AI44,Input_Details!$B$34,Input_Details!$B$32))","v":0},{"$f":"IF(OFFSET('Raw Data'!AJ44,Input_Details!$B$34,Input_Details!$B$32)=\"\", \"-\", OFFSET('Raw Data'!AJ44,Input_Details!$B$34,Input_Details!$B$32))","v":0},{"$f":"IF(OFFSET('Raw Data'!AK44,Input_Details!$B$34,Input_Details!$B$32)=\"\", \"-\", OFFSET('Raw Data'!AK44,Input_Details!$B$34,Input_Details!$B$32))","v":0},{"$f":"IF(OFFSET('Raw Data'!AL44,Input_Details!$B$34,Input_Details!$B$32)=\"\", \"-\", OFFSET('Raw Data'!AL44,Input_Details!$B$34,Input_Details!$B$32))","v":0},{"$f":"IF(OFFSET('Raw Data'!AM44,Input_Details!$B$34,Input_Details!$B$32)=\"\", \"-\", OFFSET('Raw Data'!AM44,Input_Details!$B$34,Input_Details!$B$32))","v":0},null,{"$f":"IF(D66=\"-\",\"-\",OFFSET('Raw Data'!AN44,Input_Details!$B$34,Input_Details!$B$32))","v":17.851367781155016},{"$f":"IF(OFFSET('Raw Data'!AO44,Input_Details!$B$34,Input_Details!$B$32)=\"\", \"-\", OFFSET('Raw Data'!AO44,Input_Details!$B$34,Input_Details!$B$32))","v":17.771428571428572},{"$f":"IF(OFFSET('Raw Data'!AP44,Input_Details!$B$34,Input_Details!$B$32)=\"\", \"-\", OFFSET('Raw Data'!AP44,Input_Details!$B$34,Input_Details!$B$32))","v":7.6},{"$f":"IF(OFFSET('Raw Data'!AQ44,Input_Details!$B$34,Input_Details!$B$32)=\"\", \"-\", OFFSET('Raw Data'!AQ44,Input_Details!$B$34,Input_Details!$B$32))","v":40.6},null,{"$f":"IF(Y66=\"-\", \"-\", SUM(OFFSET(D66,0,VLOOKUP(Input_Details!$N$3, $AF$3:$AG$12, 2,0)-1):W66))","v":14},0.29166666666666669]
[null,"10:15:00",null,{"$f":"IF(OFFSET('Raw Data'!T45,Input_Details!$B$34,Input_Details!$B$32)=\"\", \"-\", OFFSET('Raw Data'!T45,Input_Details!$B$34,Input_Details!$B$32))","v":1},{"$f":"IF(OFFSET('Raw Data'!U45,Input_Details!$B$34,Input_Details!$B$32)=\"\", \"-\", OFFSET('Raw Data'!U45,Input_Details!$B$34,Input_Details!$B$32))","v":8},{"$f":"IF(OFFSET('Raw Data'!V45,Input_Details!$B$34,Input_Details!$B$32)=\"\", \"-\", OFFSET('Raw Data'!V45,Input_Details!$B$34,Input_Details!$B$32))","v":24},{"$f":"IF(OFFSET('Raw Data'!W45,Input_Details!$B$34,Input_Details!$B$32)=\"\", \"-\", OFFSET('Raw Data'!W45,Input_Details!$B$34,Input_Details!$B$32))","v":19},{"$f":"IF(OFFSET('Raw Data'!X45,Input_Details!$B$34,Input_Details!$B$32)=\"\", \"-\", OFFSET('Raw Data'!X45,Input_Details!$B$34,Input_Details!$B$32))","v":4},{"$f":"IF(OFFSET('Raw Data'!Y45,Input_Details!$B$34,Input_Details!$B$32)=\"\", \"-\", OFFSET('Raw Data'!Y45,Input_Details!$B$34,Input_Details!$B$32))","v":0},{"$f":"IF(OFFSET('Raw Data'!Z45,Input_Details!$B$34,Input_Details!$B$32)=\"\", \"-\", OFFSET('Raw Data'!Z45,Input_Details!$B$34,Input_Details!$B$32))","v":0},{"$f":"IF(OFFSET('Raw Data'!AA45,Input_Details!$B$34,Input_Details!$B$32)=\"\", \"-\", OFFSET('Raw Data'!AA45,Input_Details!$B$34,Input_Details!$B$32))","v":0},{"$f":"IF(OFFSET('Raw Data'!AB45,Input_Details!$B$34,Input_Details!$B$32)=\"\", \"-\", OFFSET('Raw Data'!AB45,Input_Details!$B$34,Input_Details!$B$32))","v":0},{"$f":"IF(OFFSET('Raw Data'!AC45,Input_Details!$B$34,Input_Details!$B$32)=\"\", \"-\", OFFSET('Raw Data'!AC45,Input_Details!$B$34,Input_Details!$B$32))","v":0},{"$f":"IF(OFFSET('Raw Data'!AD45,Input_Details!$B$34,Input_Details!$B$32)=\"\", \"-\", OFFSET('Raw Data'!AD45,Input_Details!$B$34,Input_Details!$B$32))","v":0},{"$f":"IF(OFFSET('Raw Data'!AE45,Input_Details!$B$34,Input_Details!$B$32)=\"\", \"-\", OFFSET('Raw Data'!AE45,Input_Details!$B$34,Input_Details!$B$32))","v":0},{"$f":"IF(OFFSET('Raw Data'!AF45,Input_Details!$B$34,Input_Details!$B$32)=\"\", \"-\", OFFSET('Raw Data'!AF45,Input_Details!$B$34,Input_Details!$B$32))","v":0},{"$f":"IF(OFFSET('Raw Data'!AG45,Input_Details!$B$34,Input_Details!$B$32)=\"\", \"-\", OFFSET('Raw Data'!AG45,Input_Details!$B$34,Input_Details!$B$32))","v":0},{"$f":"IF(OFFSET('Raw Data'!AH45,Input_Details!$B$34,Input_Details!$B$32)=\"\", \"-\", OFFSET('Raw Data'!AH45,Input_Details!$B$34,Input_Details!$B$32))","v":0},{"$f":"IF(OFFSET('Raw Data'!AI45,Input_Details!$B$34,Input_Details!$B$32)=\"\", \"-\", OFFSET('Raw Data'!AI45,Input_Details!$B$34,Input_Details!$B$32))","v":0},{"$f":"IF(OFFSET('Raw Data'!AJ45,Input_Details!$B$34,Input_Details!$B$32)=\"\", \"-\", OFFSET('Raw Data'!AJ45,Input_Details!$B$34,Input_Details!$B$32))","v":0},{"$f":"IF(OFFSET('Raw Data'!AK45,Input_Details!$B$34,Input_Details!$B$32)=\"\", \"-\", OFFSET('Raw Data'!AK45,Input_Details!$B$34,Input_Details!$B$32))","v":0},{"$f":"IF(OFFSET('Raw Data'!AL45,Input_Details!$B$34,Input_Details!$B$32)=\"\", \"-\", OFFSET('Raw Data'!AL45,Input_Details!$B$34,Input_Details!$B$32))","v":0},{"$f":"IF(OFFSET('Raw Data'!AM45,Input_Details!$B$34,Input_Details!$B$32)=\"\", \"-\", OFFSET('Raw Data'!AM45,Input_Details!$B$34,Input_Details!$B$32))","v":0},null,{"$f":"IF(D67=\"-\",\"-\",OFFSET('Raw Data'!AN45,Input_Details!$B$34,Input_Details!$B$32))","v":19.141298701298698},{"$f":"IF(OFFSET('Raw Data'!AO45,Input_Details!$B$34,Input_Details!$B$32)=\"\", \"-\", OFFSET('Raw Data'!AO45,Input_Details!$B$34,Input_Details!$B$32))","v":19.600000000000001},{"$f":"IF(OFFSET('Raw Data'!AP45,Input_Details!$B$34,Input_Details!$B$32)=\"\", \"-\", OFFSET('Raw Data'!AP45,Input_Details!$B$34,Input_Details!$B$32))","v":7.8},{"$f":"IF(OFFSET('Raw Data'!AQ45,Input_Details!$B$34,Input_Details!$B$32)=\"\", \"-\", OFFSET('Raw Data'!AQ45,Input_Details!$B$34,Input_Details!$B$32))","v":31.6},null,{"$f":"IF(Y67=\"-\", \"-\", SUM(OFFSET(D67,0,VLOOKUP(Input_Details!$N$3, $AF$3:$AG$12, 2,0)-1):W67))","v":23},0.4107142857142857]
[null,"10:30:00",null,{"$f":"IF(OFFSET('Raw Data'!T46,Input_Details!$B$34,Input_Details!$B$32)=\"\", \"-\", OFFSET('Raw Data'!T46,Input_Details!$B$34,Input_Details!$B$32))","v":1},{"$f":"IF(OFFSET('Raw Data'!U46,Input_Details!$B$34,Input_Details!$B$32)=\"\", \"-\", OFFSET('Raw Data'!U46,Input_Details!$B$34,Input_Details!$B$32))","v":8},{"$f":"IF(OFFSET('Raw Data'!V46,Input_Details!$B$34,Input_Details!$B$32)=\"\", \"-\", OFFSET('Raw Data'!V46,Input_Details!$B$34,Input_Details!$B$32))","v":23},{"$f":"IF(OFFSET('Raw Data'!W46,Input_Details!$B$34,Input_Details!$B$32)=\"\", \"-\", OFFSET('Raw Data'!W46,Input_Details!$B$34,Input_Details!$B$32))","v":20},{"$f":"IF(OFFSET('Raw Data'!X46,Input_Details!$B$34,Input_Details!$B$32)=\"\", \"-\", OFFSET('Raw Data'!X46,Input_Details!$B$34,Input_Details!$B$32))","v":4},{"$f":"IF(OFFSET('Raw Data'!Y46,Input_Details!$B$34,Input_Details!$B$32)=\"\", \"-\", OFFSET('Raw Data'!Y46,Input_Details!$B$34,Input_Details!$B$32))","v":0},{"$f":"IF(OFFSET('Raw Data'!Z46,Input_Details!$B$34,Input_Details!$B$32)=\"\", \"-\", OFFSET('Raw Data'!Z46,Input_Details!$B$34,Input_Details!$B$32))","v":0},{"$f":"IF(OFFSET('Raw Data'!AA46,Input_Details!$B$34,Input_Details!$B$32)=\"\", \"-\", OFFSET('Raw Data'!AA46,Input_Details!$B$34,Input_Details!$B$32))","v":0},{"$f":"IF(OFFSET('Raw Data'!AB46,Input_Details!$B$34,Input_Details!$B$32)=\"\", \"-\", OFFSET('Raw Data'!AB46,Input_Details!$B$34,Input_Details!$B$32))","v":0},{"$f":"IF(OFFSET('Raw Data'!AC46,Input_Details!$B$34,Input_Details!$B$32)=\"\", \"-\", OFFSET('Raw Data'!AC46,Input_Details!$B$34,Input_Details!$B$32))","v":0},{"$f":"IF(OFFSET('Raw Data'!AD46,Input_Details!$B$34,Input_Details!$B$32)=\"\", \"-\", OFFSET('Raw Data'!AD46,Input_Details!$B$34,Input_Details!$B$32))","v":0},{"$f":"IF(OFFSET('Raw Data'!AE46,Input_Details!$B$34,Input_Details!$B$32)=\"\", \"-\", OFFSET('Raw Data'!AE46,Input_Details!$B$34,Input_Details!$B$32))","v":0},{"$f":"IF(OFFSET('Raw Data'!AF46,Input_Details!$B$34,Input_Details!$B$32)=\"\", \"-\", OFFSET('Raw Data'!AF46,Input_Details!$B$34,Input_Details!$B$32))","v":0},{"$f":"IF(OFFSET('Raw Data'!AG46,Input_Details!$B$34,Input_Details!$B$32)=\"\", \"-\", OFFSET('Raw Data'!AG46,Input_Details!$B$34,Input_Details!$B$32))","v":0},{"$f":"IF(OFFSET('Raw Data'!AH46,Input_Details!$B$34,Input_Details!$B$32)=\"\", \"-\", OFFSET('Raw Data'!AH46,Input_Details!$B$34,Input_Details!$B$32))","v":0},{"$f":"IF(OFFSET('Raw Data'!AI46,Input_Details!$B$34,Input_Details!$B$32)=\"\", \"-\", OFFSET('Raw Data'!AI46,Input_Details!$B$34,Input_Details!$B$32))","v":0},{"$f":"IF(OFFSET('Raw Data'!AJ46,Input_Details!$B$34,Input_Details!$B$32)=\"\", \"-\", OFFSET('Raw Data'!AJ46,Input_Details!$B$34,Input_Details!$B$32))","v":0},{"$f":"IF(OFFSET('Raw Data'!AK46,Input_Details!$B$34,Input_Details!$B$32)=\"\", \"-\", OFFSET('Raw Data'!AK46,Input_Details!$B$34,Input_Details!$B$32))","v":0},{"$f":"IF(OFFSET('Raw Data'!AL46,Input_Details!$B$34,Input_Details!$B$32)=\"\", \"-\", OFFSET('Raw Data'!AL46,Input_Details!$B$34,Input_Details!$B$32))","v":0},{"$f":"IF(OFFSET('Raw Data'!AM46,Input_Details!$B$34,Input_Details!$B$32)=\"\", \"-\", OFFSET('Raw Data'!AM46,Input_Details!$B$34,Input_Details!$B$32))","v":0},null,{"$f":"IF(D68=\"-\",\"-\",OFFSET('Raw Data'!AN46,Input_Details!$B$34,Input_Details!$B$32))","v":19.022448979591836},{"$f":"IF(OFFSET('Raw Data'!AO46,Input_Details!$B$34,Input_Details!$B$32)=\"\", \"-\", OFFSET('Raw Data'!AO46,Input_Details!$B$34,Input_Details!$B$32))","v":22.003571428571426},{"$f":"IF(OFFSET('Raw Data'!AP46,Input_Details!$B$34,Input_Details!$B$32)=\"\", \"-\", OFFSET('Raw Data'!AP46,Input_Details!$B$34,Input_Details!$B$32))","v":8.1},{"$f":"IF(OFFSET('Raw Data'!AQ46,Input_Details!$B$34,Input_Details!$B$32)=\"\", \"-\", OFFSET('Raw Data'!AQ46,Input_Details!$B$34,Input_Details!$B$32))","v":34.9},null,{"$f":"IF(Y68=\"-\", \"-\", SUM(OFFSET(D68,0,VLOOKUP(Input_Details!$N$3, $AF$3:$AG$12, 2,0)-1):W68))","v":24},0.42857142857142855]
[null,"10:45:00",null,{"$f":"IF(OFFSET('Raw Data'!T47,Input_Details!$B$34,Input_Details!$B$32)=\"\", \"-\", OFFSET('Raw Data'!T47,Input_Details!$B$34,Input_Details!$B$32))","v":1},{"$f":"IF(OFFSET('Raw Data'!U47,Input_Details!$B$34,Input_Details!$B$32)=\"\", \"-\", OFFSET('Raw Data'!U47,Input_Details!$B$34,Input_Details!$B$32))","v":10},{"$f":"IF(OFFSET('Raw Data'!V47,Input_Details!$B$34,Input_Details!$B$32)=\"\", \"-\", OFFSET('Raw Data'!V47,Input_Details!$B$34,Input_Details!$B$32))","v":26},{"$f":"IF(OFFSET('Raw Data'!W47,Input_Details!$B$34,Input_Details!$B$32)=\"\", \"-\", OFFSET('Raw Data'!W47,Input_Details!$B$34,Input_Details!$B$32))","v":19},{"$f":"IF(OFFSET('Raw Data'!X47,Input_Details!$B$34,Input_Details!$B$32)=\"\", \"-\", OFFSET('Raw Data'!X47,Input_Details!$B$34,Input_Details!$B$32))","v":3},{"$f":"IF(OFFSET('Raw Data'!Y47,Input_Details!$B$34,Input_Details!$B$32)=\"\", \"-\", OFFSET('Raw Data'!Y47,Input_Details!$B$34,Input_Details!$B$32))","v":1},{"$f":"IF(OFFSET('Raw Data'!Z47,Input_Details!$B$34,Input_Details!$B$32)=\"\", \"-\", OFFSET('Raw Data'!Z47,Input_Details!$B$34,Input_Details!$B$32))","v":0},{"$f":"IF(OFFSET('Raw Data'!AA47,Input_Details!$B$34,Input_Details!$B$32)=\"\", \"-\", OFFSET('Raw Data'!AA47,Input_Details!$B$34,Input_Details!$B$32))","v":0},{"$f":"IF(OFFSET('Raw Data'!AB47,Input_Details!$B$34,Input_Details!$B$32)=\"\", \"-\", OFFSET('Raw Data'!AB47,Input_Details!$B$34,Input_Details!$B$32))","v":0},{"$f":"IF(OFFSET('Raw Data'!AC47,Input_Details!$B$34,Input_Details!$B$32)=\"\", \"-\", OFFSET('Raw Data'!AC47,Input_Details!$B$34,Input_Details!$B$32))","v":0},{"$f":"IF(OFFSET('Raw Data'!AD47,Input_Details!$B$34,Input_Details!$B$32)=\"\", \"-\", OFFSET('Raw Data'!AD47,Input_Details!$B$34,Input_Details!$B$32))","v":0},{"$f":"IF(OFFSET('Raw Data'!AE47,Input_Details!$B$34,Input_Details!$B$32)=\"\", \"-\", OFFSET('Raw Data'!AE47,Input_Details!$B$34,Input_Details!$B$32))","v":0},{"$f":"IF(OFFSET('Raw Data'!AF47,Input_Details!$B$34,Input_Details!$B$32)=\"\", \"-\", OFFSET('Raw Data'!AF47,Input_Details!$B$34,Input_Details!$B$32))","v":0},{"$f":"IF(OFFSET('Raw Data'!AG47,Input_Details!$B$34,Input_Details!$B$32)=\"\", \"-\", OFFSET('Raw Data'!AG47,Input_Details!$B$34,Input_Details!$B$32))","v":0},{"$f":"IF(OFFSET('Raw Data'!AH47,Input_Details!$B$34,Input_Details!$B$32)=\"\", \"-\", OFFSET('Raw Data'!AH47,Input_Details!$B$34,Input_Details!$B$32))","v":0},{"$f":"IF(OFFSET('Raw Data'!AI47,Input_Details!$B$34,Input_Details!$B$32)=\"\", \"-\", OFFSET('Raw Data'!AI47,Input_Details!$B$34,Input_Details!$B$32))","v":0},{"$f":"IF(OFFSET('Raw Data'!AJ47,Input_Details!$B$34,Input_Details!$B$32)=\"\", \"-\", OFFSET('Raw Data'!AJ47,Input_Details!$B$34,Input_Details!$B$32))","v":0},{"$f":"IF(OFFSET('Raw Data'!AK47,Input_Details!$B$34,Input_Details!$B$32)=\"\", \"-\", OFFSET('Raw Data'!AK47,Input_Details!$B$34,Input_Details!$B$32))","v":0},{"$f":"IF(OFFSET('Raw Data'!AL47,Input_Details!$B$34,Input_Details!$B$32)=\"\", \"-\", OFFSET('Raw Data'!AL47,Input_Details!$B$34,Input_Details!$B$32))","v":0},{"$f":"IF(OFFSET('Raw Data'!AM47,Input_Details!$B$34,Input_Details!$B$32)=\"\", \"-\", OFFSET('Raw Data'!AM47,Input_Details!$B$34,Input_Details!$B$32))","v":0},null,{"$f":"IF(D69=\"-\",\"-\",OFFSET('Raw Data'!AN47,Input_Details!$B$34,Input_Details!$B$32))","v":18.564761904761905},{"$f":"IF(OFFSET('Raw Data'!AO47,Input_Details!$B$34,Input_Details!$B$32)=\"\", \"-\", OFFSET('Raw Data'!AO47,Input_Details!$B$34,Input_Details!$B$32))","v":21.289285714285715},{"$f":"IF(OFFSET('Raw Data'!AP47,Input_Details!$B$34,Input_Details!$B$32)=\"\", \"-\", OFFSET('Raw Data'!AP47,Input_Details!$B$34,Input_Details!$B$32))","v":7.4},{"$f":"IF(OFFSET('Raw Data'!AQ47,Input_Details!$B$34,Input_Details!$B$32)=\"\", \"-\", OFFSET('Raw Data'!AQ47,Input_Details!$B$34,Input_Details!$B$32))","v":34},null,{"$f":"IF(Y69=\"-\", \"-\", SUM(OFFSET(D69,0,VLOOKUP(Input_Details!$N$3, $AF$3:$AG$12, 2,0)-1):W69))","v":23},0.38333333333333336]
[null,"11:00:00",null,{"$f":"IF(OFFSET('Raw Data'!T48,Input_Details!$B$34,Input_Details!$B$32)=\"\", \"-\", OFFSET('Raw Data'!T48,Input_Details!$B$34,Input_Details!$B$32))","v":1},{"$f":"IF(OFFSET('Raw Data'!U48,Input_Details!$B$34,Input_Details!$B$32)=\"\", \"-\", OFFSET('Raw Data'!U48,Input_Details!$B$34,Input_Details!$B$32))","v":11},{"$f":"IF(OFFSET('Raw Data'!V48,Input_Details!$B$34,Input_Details!$B$32)=\"\", \"-\", OFFSET('Raw Data'!V48,Input_Details!$B$34,Input_Details!$B$32))","v":26},{"$f":"IF(OFFSET('Raw Data'!W48,Input_Details!$B$34,Input_Details!$B$32)=\"\", \"-\", OFFSET('Raw Data'!W48,Input_Details!$B$34,Input_Details!$B$32))","v":15},{"$f":"IF(OFFSET('Raw Data'!X48,Input_Details!$B$34,Input_Details!$B$32)=\"\", \"-\", OFFSET('Raw Data'!X48,Input_Details!$B$34,Input_Details!$B$32))","v":4},{"$f":"IF(OFFSET('Raw Data'!Y48,Input_Details!$B$34,Input_Details!$B$32)=\"\", \"-\", OFFSET('Raw Data'!Y48,Input_Details!$B$34,Input_Details!$B$32))","v":1},{"$f":"IF(OFFSET('Raw Data'!Z48,Input_Details!$B$34,Input_Details!$B$32)=\"\", \"-\", OFFSET('Raw Data'!Z48,Input_Details!$B$34,Input_Details!$B$32))","v":0},{"$f":"IF(OFFSET('Raw Data'!AA48,Input_Details!$B$34,Input_Details!$B$32)=\"\", \"-\", OFFSET('Raw Data'!AA48,Input_Details!$B$34,Input_Details!$B$32))","v":0},{"$f":"IF(OFFSET('Raw Data'!AB48,Input_Details!$B$34,Input_Details!$B$32)=\"\", \"-\", OFFSET('Raw Data'!AB48,Input_Details!$B$34,Input_Details!$B$32))","v":0},{"$f":"IF(OFFSET('Raw Data'!AC48,Input_Details!$B$34,Input_Details!$B$32)=\"\", \"-\", OFFSET('Raw Data'!AC48,Input_Details!$B$34,Input_Details!$B$32))","v":0},{"$f":"IF(OFFSET('Raw Data'!AD48,Input_Details!$B$34,Input_Details!$B$32)=\"\", \"-\", OFFSET('Raw Data'!AD48,Input_Details!$B$34,Input_Details!$B$32))","v":0},{"$f":"IF(OFFSET('Raw Data'!AE48,Input_Details!$B$34,Input_Details!$B$32)=\"\", \"-\", OFFSET('Raw Data'!AE48,Input_Details!$B$34,Input_Details!$B$32))","v":0},{"$f":"IF(OFFSET('Raw Data'!AF48,Input_Details!$B$34,Input_Details!$B$32)=\"\", \"-\", OFFSET('Raw Data'!AF48,Input_Details!$B$34,Input_Details!$B$32))","v":0},{"$f":"IF(OFFSET('Raw Data'!AG48,Input_Details!$B$34,Input_Details!$B$32)=\"\", \"-\", OFFSET('Raw Data'!AG48,Input_Details!$B$34,Input_Details!$B$32))","v":0},{"$f":"IF(OFFSET('Raw Data'!AH48,Input_Details!$B$34,Input_Details!$B$32)=\"\", \"-\", OFFSET('Raw Data'!AH48,Input_Details!$B$34,Input_Details!$B$32))","v":0},{"$f":"IF(OFFSET('Raw Data'!AI48,Input_Details!$B$34,Input_Details!$B$32)=\"\", \"-\", OFFSET('Raw Data'!AI48,Input_Details!$B$34,Input_Details!$B$32))","v":0},{"$f":"IF(OFFSET('Raw Data'!AJ48,Input_Details!$B$34,Input_Details!$B$32)=\"\", \"-\", OFFSET('Raw Data'!AJ48,Input_Details!$B$34,Input_Details!$B$32))","v":0},{"$f":"IF(OFFSET('Raw Data'!AK48,Input_Details!$B$34,Input_Details!$B$32)=\"\", \"-\", OFFSET('Raw Data'!AK48,Input_Details!$B$34,Input_Details!$B$32))","v":0},{"$f":"IF(OFFSET('Raw Data'!AL48,Input_Details!$B$34,Input_Details!$B$32)=\"\", \"-\", OFFSET('Raw Data'!AL48,Input_Details!$B$34,Input_Details!$B$32))","v":0},{"$f":"IF(OFFSET('Raw Data'!AM48,Input_Details!$B$34,Input_Details!$B$32)=\"\", \"-\", OFFSET('Raw Data'!AM48,Input_Details!$B$34,Input_Details!$B$32))","v":0},null,{"$f":"IF(D70=\"-\",\"-\",OFFSET('Raw Data'!AN48,Input_Details!$B$34,Input_Details!$B$32))","v":18.528320802005013},{"$f":"IF(OFFSET('Raw Data'!AO48,Input_Details!$B$34,Input_Details!$B$32)=\"\", \"-\", OFFSET('Raw Data'!AO48,Input_Details!$B$34,Input_Details!$B$32))","v":21.25},{"$f":"IF(OFFSET('Raw Data'!AP48,Input_Details!$B$34,Input_Details!$B$32)=\"\", \"-\", OFFSET('Raw Data'!AP48,Input_Details!$B$34,Input_Details!$B$32))","v":6},{"$f":"IF(OFFSET('Raw Data'!AQ48,Input_Details!$B$34,Input_Details!$B$32)=\"\", \"-\", OFFSET('Raw Data'!AQ48,Input_Details!$B$34,Input_Details!$B$32))","v":40.6},null,{"$f":"IF(Y70=\"-\", \"-\", SUM(OFFSET(D70,0,VLOOKUP(Input_Details!$N$3, $AF$3:$AG$12, 2,0)-1):W70))","v":20},0.34482758620689657]
[null,"11:15:00",null,{"$f":"IF(OFFSET('Raw Data'!T49,Input_Details!$B$34,Input_Details!$B$32)=\"\", \"-\", OFFSET('Raw Data'!T49,Input_Details!$B$34,Input_Details!$B$32))","v":0},{"$f":"IF(OFFSET('Raw Data'!U49,Input_Details!$B$34,Input_Details!$B$32)=\"\", \"-\", OFFSET('Raw Data'!U49,Input_Details!$B$34,Input_Details!$B$32))","v":11},{"$f":"IF(OFFSET('Raw Data'!V49,Input_Details!$B$34,Input_Details!$B$32)=\"\", \"-\", OFFSET('Raw Data'!V49,Input_Details!$B$34,Input_Details!$B$32))","v":24},{"$f":"IF(OFFSET('Raw Data'!W49,Input_Details!$B$34,Input_Details!$B$32)=\"\", \"-\", OFFSET('Raw Data'!W49,Input_Details!$B$34,Input_Details!$B$32))","v":16},{"$f":"IF(OFFSET('Raw Data'!X49,Input_Details!$B$34,Input_Details!$B$32)=\"\", \"-\", OFFSET('Raw Data'!X49,Input_Details!$B$34,Input_Details!$B$32))","v":3},{"$f":"IF(OFFSET('Raw Data'!Y49,Input_Details!$B$34,Input_Details!$B$32)=\"\", \"-\", OFFSET('Raw Data'!Y49,Input_Details!$B$34,Input_Details!$B$32))","v":1},{"$f":"IF(OFFSET('Raw Data'!Z49,Input_Details!$B$34,Input_Details!$B$32)=\"\", \"-\", OFFSET('Raw Data'!Z49,Input_Details!$B$34,Input_Details!$B$32))","v":0},{"$f":"IF(OFFSET('Raw Data'!AA49,Input_Details!$B$34,Input_Details!$B$32)=\"\", \"-\", OFFSET('Raw Data'!AA49,Input_Details!$B$34,Input_Details!$B$32))","v":0},{"$f":"IF(OFFSET('Raw Data'!AB49,Input_Details!$B$34,Input_Details!$B$32)=\"\", \"-\", OFFSET('Raw Data'!AB49,Input_Details!$B$34,Input_Details!$B$32))","v":0},{"$f":"IF(OFFSET('Raw Data'!AC49,Input_Details!$B$34,Input_Details!$B$32)=\"\", \"-\", OFFSET('Raw Data'!AC49,Input_Details!$B$34,Input_Details!$B$32))","v":0},{"$f":"IF(OFFSET('Raw Data'!AD49,Input_Details!$B$34,Input_Details!$B$32)=\"\", \"-\", OFFSET('Raw Data'!AD49,Input_Details!$B$34,Input_Details!$B$32))","v":0},{"$f":"IF(OFFSET('Raw Data'!AE49,Input_Details!$B$34,Input_Details!$B$32)=\"\", \"-\", OFFSET('Raw Data'!AE49,Input_Details!$B$34,Input_Details!$B$32))","v":0},{"$f":"IF(OFFSET('Raw Data'!AF49,Input_Details!$B$34,Input_Details!$B$32)=\"\", \"-\", OFFSET('Raw Data'!AF49,Input_Details!$B$34,Input_Details!$B$32))","v":0},{"$f":"IF(OFFSET('Raw Data'!AG49,Input_Details!$B$34,Input_Details!$B$32)=\"\", \"-\", OFFSET('Raw Data'!AG49,Input_Details!$B$34,Input_Details!$B$32))","v":0},{"$f":"IF(OFFSET('Raw Data'!AH49,Input_Details!$B$34,Input_Details!$B$32)=\"\", \"-\", OFFSET('Raw Data'!AH49,Input_Details!$B$34,Input_Details!$B$32))","v":0},{"$f":"IF(OFFSET('Raw Data'!AI49,Input_Details!$B$34,Input_Details!$B$32)=\"\", \"-\", OFFSET('Raw Data'!AI49,Input_Details!$B$34,Input_Details!$B$32))","v":0},{"$f":"IF(OFFSET('Raw Data'!AJ49,Input_Details!$B$34,Input_Details!$B$32)=\"\", \"-\", OFFSET('Raw Data'!AJ49,Input_Details!$B$34,Input_Details!$B$32))","v":0},{"$f":"IF(OFFSET('Raw Data'!AK49,Input_Details!$B$34,Input_Details!$B$32)=\"\", \"-\", OFFSET('Raw Data'!AK49,Input_Details!$B$34,Input_Details!$B$32))","v":0},{"$f":"IF(OFFSET('Raw Data'!AL49,Input_Details!$B$34,Input_Details!$B$32)=\"\", \"-\", OFFSET('Raw Data'!AL49,Input_Details!$B$34,Input_Details!$B$32))","v":0},{"$f":"IF(OFFSET('Raw Data'!AM49,Input_Details!$B$34,Input_Details!$B$32)=\"\", \"-\", OFFSET('Raw Data'!AM49,Input_Details!$B$34,Input_Details!$B$32))","v":0},null,{"$f":"IF(D71=\"-\",\"-\",OFFSET('Raw Data'!AN49,Input_Details!$B$34,Input_Details!$B$32))","v":18.580519480519477},{"$f":"IF(OFFSET('Raw Data'!AO49,Input_Details!$B$34,Input_Details!$B$32)=\"\", \"-\", OFFSET('Raw Data'!AO49,Input_Details!$B$34,Input_Details!$B$32))","v":22.599999999999998},{"$f":"IF(OFFSET('Raw Data'!AP49,Input_Details!$B$34,Input_Details!$B$32)=\"\", \"-\", OFFSET('Raw Data'!AP49,Input_Details!$B$34,Input_Details!$B$32))","v":8.9},{"$f":"IF(OFFSET('Raw Data'!AQ49,Input_Details!$B$34,Input_Details!$B$32)=\"\", \"-\", OFFSET('Raw Data'!AQ49,Input_Details!$B$34,Input_Details!$B$32))","v":35.299999999999997},null,{"$f":"IF(Y71=\"-\", \"-\", SUM(OFFSET(D71,0,VLOOKUP(Input_Details!$N$3, $AF$3:$AG$12, 2,0)-1):W71))","v":20},0.36363636363636365]
[null,"11:30:00",null,{"$f":"IF(OFFSET('Raw Data'!T50,Input_Details!$B$34,Input_Details!$B$32)=\"\", \"-\", OFFSET('Raw Data'!T50,Input_Details!$B$34,Input_Details!$B$32))","v":0},{"$f":"IF(OFFSET('Raw Data'!U50,Input_Details!$B$34,Input_Details!$B$32)=\"\", \"-\", OFFSET('Raw Data'!U50,Input_Details!$B$34,Input_Details!$B$32))","v":7},{"$f":"IF(OFFSET('Raw Data'!V50,Input_Details!$B$34,Input_Details!$B$32)=\"\", \"-\", OFFSET('Raw Data'!V50,Input_Details!$B$34,Input_Details!$B$32))","v":27},{"$f":"IF(OFFSET('Raw Data'!W50,Input_Details!$B$34,Input_Details!$B$32)=\"\", \"-\", OFFSET('Raw Data'!W50,Input_Details!$B$34,Input_Details!$B$32))","v":14},{"$f":"IF(OFFSET('Raw Data'!X50,Input_Details!$B$34,Input_Details!$B$32)=\"\", \"-\", OFFSET('Raw Data'!X50,Input_Details!$B$34,Input_Details!$B$32))","v":4},{"$f":"IF(OFFSET('Raw Data'!Y50,Input_Details!$B$34,Input_Details!$B$32)=\"\", \"-\", OFFSET('Raw Data'!Y50,Input_Details!$B$34,Input_Details!$B$32))","v":1},{"$f":"IF(OFFSET('Raw Data'!Z50,Input_Details!$B$34,Input_Details!$B$32)=\"\", \"-\", OFFSET('Raw Data'!Z50,Input_Details!$B$34,Input_Details!$B$32))","v":0},{"$f":"IF(OFFSET('Raw Data'!AA50,Input_Details!$B$34,Input_Details!$B$32)=\"\", \"-\", OFFSET('Raw Data'!AA50,Input_Details!$B$34,Input_Details!$B$32))","v":0},{"$f":"IF(OFFSET('Raw Data'!AB50,Input_Details!$B$34,Input_Details!$B$32)=\"\", \"-\", OFFSET('Raw Data'!AB50,Input_Details!$B$34,Input_Details!$B$32))","v":0},{"$f":"IF(OFFSET('Raw Data'!AC50,Input_Details!$B$34,Input_Details!$B$32)=\"\", \"-\", OFFSET('Raw Data'!AC50,Input_Details!$B$34,Input_Details!$B$32))","v":0},{"$f":"IF(OFFSET('Raw Data'!AD50,Input_Details!$B$34,Input_Details!$B$32)=\"\", \"-\", OFFSET('Raw Data'!AD50,Input_Details!$B$34,Input_Details!$B$32))","v":0},{"$f":"IF(OFFSET('Raw Data'!AE50,Input_Details!$B$34,Input_Details!$B$32)=\"\", \"-\", OFFSET('Raw Data'!AE50,Input_Details!$B$34,Input_Details!$B$32))","v":0},{"$f":"IF(OFFSET('Raw Data'!AF50,Input_Details!$B$34,Input_Details!$B$32)=\"\", \"-\", OFFSET('Raw Data'!AF50,Input_Details!$B$34,Input_Details!$B$32))","v":0},{"$f":"IF(OFFSET('Raw Data'!AG50,Input_Details!$B$34,Input_Details!$B$32)=\"\", \"-\", OFFSET('Raw Data'!AG50,Input_Details!$B$34,Input_Details!$B$32))","v":0},{"$f":"IF(OFFSET('Raw Data'!AH50,Input_Details!$B$34,Input_Details!$B$32)=\"\", \"-\", OFFSET('Raw Data'!AH50,Input_Details!$B$34,Input_Details!$B$32))","v":0},{"$f":"IF(OFFSET('Raw Data'!AI50,Input_Details!$B$34,Input_Details!$B$32)=\"\", \"-\", OFFSET('Raw Data'!AI50,Input_Details!$B$34,Input_Details!$B$32))","v":0},{"$f":"IF(OFFSET('Raw Data'!AJ50,Input_Details!$B$34,Input_Details!$B$32)=\"\", \"-\", OFFSET('Raw Data'!AJ50,Input_Details!$B$34,Input_Details!$B$32))","v":0},{"$f":"IF(OFFSET('Raw Data'!AK50,Input_Details!$B$34,Input_Details!$B$32)=\"\", \"-\", OFFSET('Raw Data'!AK50,Input_Details!$B$34,Input_Details!$B$32))","v":0},{"$f":"IF(OFFSET('Raw Data'!AL50,Input_Details!$B$34,Input_Details!$B$32)=\"\", \"-\", OFFSET('Raw Data'!AL50,Input_Details!$B$34,Input_Details!$B$32))","v":0},{"$f":"IF(OFFSET('Raw Data'!AM50,Input_Details!$B$34,Input_Details!$B$32)=\"\", \"-\", OFFSET('Raw Data'!AM50,Input_Details!$B$34,Input_Details!$B$32))","v":0},null,{"$f":"IF(D72=\"-\",\"-\",OFFSET('Raw Data'!AN50,Input_Details!$B$34,Input_Details!$B$32))","v":18.820754716981131},{"$f":"IF(OFFSET('Raw Data'!AO50,Input_Details!$B$34,Input_Details!$B$32)=\"\", \"-\", OFFSET('Raw Data'!AO50,Input_Details!$B$34,Input_Details!$B$32))","v":22.971428571428572},{"$f":"IF(OFFSET('Raw Data'!AP50,Input_Details!$B$34,Input_Details!$B$32)=\"\", \"-\", OFFSET('Raw Data'!AP50,Input_Details!$B$34,Input_Details!$B$32))","v":6.3},{"$f":"IF(OFFSET('Raw Data'!AQ50,Input_Details!$B$34,Input_Details!$B$32)=\"\", \"-\", OFFSET('Raw Data'!AQ50,Input_Details!$B$34,Input_Details!$B$32))","v":34.299999999999997},null,{"$f":"IF(Y72=\"-\", \"-\", SUM(OFFSET(D72,0,VLOOKUP(Input_Details!$N$3, $AF$3:$AG$12, 2,0)-1):W72))","v":19},0.35849056603773582]
[null,"11:45:00",null,{"$f":"IF(OFFSET('Raw Data'!T51,Input_Details!$B$34,Input_Details!$B$32)=\"\", \"-\", OFFSET('Raw Data'!T51,Input_Details!$B$34,Input_Details!$B$32))","v":2},{"$f":"IF(OFFSET('Raw Data'!U51,Input_Details!$B$34,Input_Details!$B$32)=\"\", \"-\", OFFSET('Raw Data'!U51,Input_Details!$B$34,Input_Details!$B$32))","v":8},{"$f":"IF(OFFSET('Raw Data'!V51,Input_Details!$B$34,Input_Details!$B$32)=\"\", \"-\", OFFSET('Raw Data'!V51,Input_Details!$B$34,Input_Details!$B$32))","v":27},{"$f":"IF(OFFSET('Raw Data'!W51,Input_Details!$B$34,Input_Details!$B$32)=\"\", \"-\", OFFSET('Raw Data'!W51,Input_Details!$B$34,Input_Details!$B$32))","v":17},{"$f":"IF(OFFSET('Raw Data'!X51,Input_Details!$B$34,Input_Details!$B$32)=\"\", \"-\", OFFSET('Raw Data'!X51,Input_Details!$B$34,Input_Details!$B$32))","v":3},{"$f":"IF(OFFSET('Raw Data'!Y51,Input_Details!$B$34,Input_Details!$B$32)=\"\", \"-\", OFFSET('Raw Data'!Y51,Input_Details!$B$34,Input_Details!$B$32))","v":1},{"$f":"IF(OFFSET('Raw Data'!Z51,Input_Details!$B$34,Input_Details!$B$32)=\"\", \"-\", OFFSET('Raw Data'!Z51,Input_Details!$B$34,Input_Details!$B$32))","v":0},{"$f":"IF(OFFSET('Raw Data'!AA51,Input_Details!$B$34,Input_Details!$B$32)=\"\", \"-\", OFFSET('Raw Data'!AA51,Input_Details!$B$34,Input_Details!$B$32))","v":0},{"$f":"IF(OFFSET('Raw Data'!AB51,Input_Details!$B$34,Input_Details!$B$32)=\"\", \"-\", OFFSET('Raw Data'!AB51,Input_Details!$B$34,Input_Details!$B$32))","v":0},{"$f":"IF(OFFSET('Raw Data'!AC51,Input_Details!$B$34,Input_Details!$B$32)=\"\", \"-\", OFFSET('Raw Data'!AC51,Input_Details!$B$34,Input_Details!$B$32))","v":0},{"$f":"IF(OFFSET('Raw Data'!AD51,Input_Details!$B$34,Input_Details!$B$32)=\"\", \"-\", OFFSET('Raw Data'!AD51,Input_Details!$B$34,Input_Details!$B$32))","v":0},{"$f":"IF(OFFSET('Raw Data'!AE51,Input_Details!$B$34,Input_Details!$B$32)=\"\", \"-\", OFFSET('Raw Data'!AE51,Input_Details!$B$34,Input_Details!$B$32))","v":0},{"$f":"IF(OFFSET('Raw Data'!AF51,Input_Details!$B$34,Input_Details!$B$32)=\"\", \"-\", OFFSET('Raw Data'!AF51,Input_Details!$B$34,Input_Details!$B$32))","v":0},{"$f":"IF(OFFSET('Raw Data'!AG51,Input_Details!$B$34,Input_Details!$B$32)=\"\", \"-\", OFFSET('Raw Data'!AG51,Input_Details!$B$34,Input_Details!$B$32))","v":0},{"$f":"IF(OFFSET('Raw Data'!AH51,Input_Details!$B$34,Input_Details!$B$32)=\"\", \"-\", OFFSET('Raw Data'!AH51,Input_Details!$B$34,Input_Details!$B$32))","v":0},{"$f":"IF(OFFSET('Raw Data'!AI51,Input_Details!$B$34,Input_Details!$B$32)=\"\", \"-\", OFFSET('Raw Data'!AI51,Input_Details!$B$34,Input_Details!$B$32))","v":0},{"$f":"IF(OFFSET('Raw Data'!AJ51,Input_Details!$B$34,Input_Details!$B$32)=\"\", \"-\", OFFSET('Raw Data'!AJ51,Input_Details!$B$34,Input_Details!$B$32))","v":0},{"$f":"IF(OFFSET('Raw Data'!AK51,Input_Details!$B$34,Input_Details!$B$32)=\"\", \"-\", OFFSET('Raw Data'!AK51,Input_Details!$B$34,Input_Details!$B$32))","v":0},{"$f":"IF(OFFSET('Raw Data'!AL51,Input_Details!$B$34,Input_Details!$B$32)=\"\", \"-\", OFFSET('Raw Data'!AL51,Input_Details!$B$34,Input_Details!$B$32))","v":0},{"$f":"IF(OFFSET('Raw Data'!AM51,Input_Details!$B$34,Input_Details!$B$32)=\"\", \"-\", OFFSET('Raw Data'!AM51,Input_Details!$B$34,Input_Details!$B$32))","v":0},null,{"$f":"IF(D73=\"-\",\"-\",OFFSET('Raw Data'!AN51,Input_Details!$B$34,Input_Details!$B$32))","v":18.61428571428571},{"$f":"IF(OFFSET('Raw Data'!AO51,Input_Details!$B$34,Input_Details!$B$32)=\"\", \"-\", OFFSET('Raw Data'!AO51,Input_Details!$B$34,Input_Details!$B$32))","v":20.935714285714283},{"$f":"IF(OFFSET('Raw Data'!AP51,Input_Details!$B$34,Input_Details!$B$32)=\"\", \"-\", OFFSET('Raw Data'!AP51,Input_Details!$B$34,Input_Details!$B$32))","v":7.3},{"$f":"IF(OFFSET('Raw Data'!AQ51,Input_Details!$B$34,Input_Details!$B$32)=\"\", \"-\", OFFSET('Raw Data'!AQ51,Input_Details!$B$34,Input_Details!$B$32))","v":41.1},null,{"$f":"IF(Y73=\"-\", \"-\", SUM(OFFSET(D73,0,VLOOKUP(Input_Details!$N$3, $AF$3:$AG$12, 2,0)-1):W73))","v":21},0.36206896551724138]
[null,"12:00:00",null,{"$f":"IF(OFFSET('Raw Data'!T52,Input_Details!$B$34,Input_Details!$B$32)=\"\", \"-\", OFFSET('Raw Data'!T52,Input_Details!$B$34,Input_Details!$B$32))","v":1},{"$f":"IF(OFFSET('Raw Data'!U52,Input_Details!$B$34,Input_Details!$B$32)=\"\", \"-\", OFFSET('Raw Data'!U52,Input_Details!$B$34,Input_Details!$B$32))","v":7},{"$f":"IF(OFFSET('Raw Data'!V52,Input_Details!$B$34,Input_Details!$B$32)=\"\", \"-\", OFFSET('Raw Data'!V52,Input_Details!$B$34,Input_Details!$B$32))","v":24},{"$f":"IF(OFFSET('Raw Data'!W52,Input_Details!$B$34,Input_Details!$B$32)=\"\", \"-\", OFFSET('Raw Data'!W52,Input_Details!$B$34,Input_Details!$B$32))","v":19},{"$f":"IF(OFFSET('Raw Data'!X52,Input_Details!$B$34,Input_Details!$B$32)=\"\", \"-\", OFFSET('Raw Data'!X52,Input_Details!$B$34,Input_Details!$B$32))","v":4},{"$f":"IF(OFFSET('Raw Data'!Y52,Input_Details!$B$34,Input_Details!$B$32)=\"\", \"-\", OFFSET('Raw Data'!Y52,Input_Details!$B$34,Input_Details!$B$32))","v":1},{"$f":"IF(OFFSET('Raw Data'!Z52,Input_Details!$B$34,Input_Details!$B$32)=\"\", \"-\", OFFSET('Raw Data'!Z52,Input_Details!$B$34,Input_Details!$B$32))","v":0},{"$f":"IF(OFFSET('Raw Data'!AA52,Input_Details!$B$34,Input_Details!$B$32)=\"\", \"-\", OFFSET('Raw Data'!AA52,Input_Details!$B$34,Input_Details!$B$32))","v":0},{"$f":"IF(OFFSET('Raw Data'!AB52,Input_Details!$B$34,Input_Details!$B$32)=\"\", \"-\", OFFSET('Raw Data'!AB52,Input_Details!$B$34,Input_Details!$B$32))","v":0},{"$f":"IF(OFFSET('Raw Data'!AC52,Input_Details!$B$34,Input_Details!$B$32)=\"\", \"-\", OFFSET('Raw Data'!AC52,Input_Details!$B$34,Input_Details!$B$32))","v":0},{"$f":"IF(OFFSET('Raw Data'!AD52,Input_Details!$B$34,Input_Details!$B$32)=\"\", \"-\", OFFSET('Raw Data'!AD52,Input_Details!$B$34,Input_Details!$B$32))","v":0},{"$f":"IF(OFFSET('Raw Data'!AE52,Input_Details!$B$34,Input_Details!$B$32)=\"\", \"-\", OFFSET('Raw Data'!AE52,Input_Details!$B$34,Input_Details!$B$32))","v":0},{"$f":"IF(OFFSET('Raw Data'!AF52,Input_Details!$B$34,Input_Details!$B$32)=\"\", \"-\", OFFSET('Raw Data'!AF52,Input_Details!$B$34,Input_Details!$B$32))","v":0},{"$f":"IF(OFFSET('Raw Data'!AG52,Input_Details!$B$34,Input_Details!$B$32)=\"\", \"-\", OFFSET('Raw Data'!AG52,Input_Details!$B$34,Input_Details!$B$32))","v":0},{"$f":"IF(OFFSET('Raw Data'!AH52,Input_Details!$B$34,Input_Details!$B$32)=\"\", \"-\", OFFSET('Raw Data'!AH52,Input_Details!$B$34,Input_Details!$B$32))","v":0},{"$f":"IF(OFFSET('Raw Data'!AI52,Input_Details!$B$34,Input_Details!$B$32)=\"\", \"-\", OFFSET('Raw Data'!AI52,Input_Details!$B$34,Input_Details!$B$32))","v":0},{"$f":"IF(OFFSET('Raw Data'!AJ52,Input_Details!$B$34,Input_Details!$B$32)=\"\", \"-\", OFFSET('Raw Data'!AJ52,Input_Details!$B$34,Input_Details!$B$32))","v":0},{"$f":"IF(OFFSET('Raw Data'!AK52,Input_Details!$B$34,Input_Details!$B$32)=\"\", \"-\", OFFSET('Raw Data'!AK52,Input_Details!$B$34,Input_Details!$B$32))","v":0},{"$f":"IF(OFFSET('Raw Data'!AL52,Input_Details!$B$34,Input_Details!$B$32)=\"\", \"-\", OFFSET('Raw Data'!AL52,Input_Details!$B$34,Input_Details!$B$32))","v":0},{"$f":"IF(OFFSET('Raw Data'!AM52,Input_Details!$B$34,Input_Details!$B$32)=\"\", \"-\", OFFSET('Raw Data'!AM52,Input_Details!$B$34,Input_Details!$B$32))","v":0},null,{"$f":"IF(D74=\"-\",\"-\",OFFSET('Raw Data'!AN52,Input_Details!$B$34,Input_Details!$B$32))","v":19.50899470899471},{"$f":"IF(OFFSET('Raw Data'!AO52,Input_Details!$B$34,Input_Details!$B$32)=\"\", \"-\", OFFSET('Raw Data'!AO52,Input_Details!$B$34,Input_Details!$B$32))","v":19.75},{"$f":"IF(OFFSET('Raw Data'!AP52,Input_Details!$B$34,Input_Details!$B$32)=\"\", \"-\", OFFSET('Raw Data'!AP52,Input_Details!$B$34,Input_Details!$B$32))","v":6.4},{"$f":"IF(OFFSET('Raw Data'!AQ52,Input_Details!$B$34,Input_Details!$B$32)=\"\", \"-\", OFFSET('Raw Data'!AQ52,Input_Details!$B$34,Input_Details!$B$32))","v":36.299999999999997},null,{"$f":"IF(Y74=\"-\", \"-\", SUM(OFFSET(D74,0,VLOOKUP(Input_Details!$N$3, $AF$3:$AG$12, 2,0)-1):W74))","v":24},0.42857142857142855]
[null,"12:15:00",null,{"$f":"IF(OFFSET('Raw Data'!T53,Input_Details!$B$34,Input_Details!$B$32)=\"\", \"-\", OFFSET('Raw Data'!T53,Input_Details!$B$34,Input_Details!$B$32))","v":1},{"$f":"IF(OFFSET('Raw Data'!U53,Input_Details!$B$34,Input_Details!$B$32)=\"\", \"-\", OFFSET('Raw Data'!U53,Input_Details!$B$34,Input_Details!$B$32))","v":9},{"$f":"IF(OFFSET('Raw Data'!V53,Input_Details!$B$34,Input_Details!$B$32)=\"\", \"-\", OFFSET('Raw Data'!V53,Input_Details!$B$34,Input_Details!$B$32))","v":26},{"$f":"IF(OFFSET('Raw Data'!W53,Input_Details!$B$34,Input_Details!$B$32)=\"\", \"-\", OFFSET('Raw Data'!W53,Input_Details!$B$34,Input_Details!$B$32))","v":19},{"$f":"IF(OFFSET('Raw Data'!X53,Input_Details!$B$34,Input_Details!$B$32)=\"\", \"-\", OFFSET('Raw Data'!X53,Input_Details!$B$34,Input_Details!$B$32))","v":4},{"$f":"IF(OFFSET('Raw Data'!Y53,Input_Details!$B$34,Input_Details!$B$32)=\"\", \"-\", OFFSET('Raw Data'!Y53,Input_Details!$B$34,Input_Details!$B$32))","v":1},{"$f":"IF(OFFSET('Raw Data'!Z53,Input_Details!$B$34,Input_Details!$B$32)=\"\", \"-\", OFFSET('Raw Data'!Z53,Input_Details!$B$34,Input_Details!$B$32))","v":1},{"$f":"IF(OFFSET('Raw Data'!AA53,Input_Details!$B$34,Input_Details!$B$32)=\"\", \"-\", OFFSET('Raw Data'!AA53,Input_Details!$B$34,Input_Details!$B$32))","v":0},{"$f":"IF(OFFSET('Raw Data'!AB53,Input_Details!$B$34,Input_Details!$B$32)=\"\", \"-\", OFFSET('Raw Data'!AB53,Input_Details!$B$34,Input_Details!$B$32))","v":0},{"$f":"IF(OFFSET('Raw Data'!AC53,Input_Details!$B$34,Input_Details!$B$32)=\"\", \"-\", OFFSET('Raw Data'!AC53,Input_Details!$B$34,Input_Details!$B$32))","v":0},{"$f":"IF(OFFSET('Raw Data'!AD53,Input_Details!$B$34,Input_Details!$B$32)=\"\", \"-\", OFFSET('Raw Data'!AD53,Input_Details!$B$34,Input_Details!$B$32))","v":0},{"$f":"IF(OFFSET('Raw Data'!AE53,Input_Details!$B$34,Input_Details!$B$32)=\"\", \"-\", OFFSET('Raw Data'!AE53,Input_Details!$B$34,Input_Details!$B$32))","v":0},{"$f":"IF(OFFSET('Raw Data'!AF53,Input_Details!$B$34,Input_Details!$B$32)=\"\", \"-\", OFFSET('Raw Data'!AF53,Input_Details!$B$34,Input_Details!$B$32))","v":0},{"$f":"IF(OFFSET('Raw Data'!AG53,Input_Details!$B$34,Input_Details!$B$32)=\"\", \"-\", OFFSET('Raw Data'!AG53,Input_Details!$B$34,Input_Details!$B$32))","v":0},{"$f":"IF(OFFSET('Raw Data'!AH53,Input_Details!$B$34,Input_Details!$B$32)=\"\", \"-\", OFFSET('Raw Data'!AH53,Input_Details!$B$34,Input_Details!$B$32))","v":0},{"$f":"IF(OFFSET('Raw Data'!AI53,Input_Details!$B$34,Input_Details!$B$32)=\"\", \"-\", OFFSET('Raw Data'!AI53,Input_Details!$B$34,Input_Details!$B$32))","v":0},{"$f":"IF(OFFSET('Raw Data'!AJ53,Input_Details!$B$34,Input_Details!$B$32)=\"\", \"-\", OFFSET('Raw Data'!AJ53,Input_Details!$B$34,Input_Details!$B$32))","v":0},{"$f":"IF(OFFSET('Raw Data'!AK53,Input_Details!$B$34,Input_Details!$B$32)=\"\", \"-\", OFFSET('Raw Data'!AK53,Input_Details!$B$34,Input_Details!$B$32))","v":0},{"$f":"IF(OFFSET('Raw Data'!AL53,Input_Details!$B$34,Input_Details!$B$32)=\"\", \"-\", OFFSET('Raw Data'!AL53,Input_Details!$B$34,Input_Details!$B$32))","v":0},{"$f":"IF(OFFSET('Raw Data'!AM53,Input_Details!$B$34,Input_Details!$B$32)=\"\", \"-\", OFFSET('Raw Data'!AM53,Input_Details!$B$34,Input_Details!$B$32))","v":0},null,{"$f":"IF(D75=\"-\",\"-\",OFFSET('Raw Data'!AN53,Input_Details!$B$34,Input_Details!$B$32))","v":19.222248243559719},{"$f":"IF(OFFSET('Raw Data'!AO53,Input_Details!$B$34,Input_Details!$B$32)=\"\", \"-\", OFFSET('Raw Data'!AO53,Input_Details!$B$34,Input_Details!$B$32))","v":23.285714285714288},{"$f":"IF(OFFSET('Raw Data'!AP53,Input_Details!$B$34,Input_Details!$B$32)=\"\", \"-\", OFFSET('Raw Data'!AP53,Input_Details!$B$34,Input_Details!$B$32))","v":4.5999999999999996},{"$f":"IF(OFFSET('Raw Data'!AQ53,Input_Details!$B$34,Input_Details!$B$32)=\"\", \"-\", OFFSET('Raw Data'!AQ53,Input_Details!$B$34,Input_Details!$B$32))","v":37.4},null,{"$f":"IF(Y75=\"-\", \"-\", SUM(OFFSET(D75,0,VLOOKUP(Input_Details!$N$3, $AF$3:$AG$12, 2,0)-1):W75))","v":25},0.4098360655737705]
[null,"12:30:00",null,{"$f":"IF(OFFSET('Raw Data'!T54,Input_Details!$B$34,Input_Details!$B$32)=\"\", \"-\", OFFSET('Raw Data'!T54,Input_Details!$B$34,Input_Details!$B$32))","v":1},{"$f":"IF(OFFSET('Raw Data'!U54,Input_Details!$B$34,Input_Details!$B$32)=\"\", \"-\", OFFSET('Raw Data'!U54,Input_Details!$B$34,Input_Details!$B$32))","v":11},{"$f":"IF(OFFSET('Raw Data'!V54,Input_Details!$B$34,Input_Details!$B$32)=\"\", \"-\", OFFSET('Raw Data'!V54,Input_Details!$B$34,Input_Details!$B$32))","v":29},{"$f":"IF(OFFSET('Raw Data'!W54,Input_Details!$B$34,Input_Details!$B$32)=\"\", \"-\", OFFSET('Raw Data'!W54,Input_Details!$B$34,Input_Details!$B$32))","v":16},{"$f":"IF(OFFSET('Raw Data'!X54,Input_Details!$B$34,Input_Details!$B$32)=\"\", \"-\", OFFSET('Raw Data'!X54,Input_Details!$B$34,Input_Details!$B$32))","v":4},{"$f":"IF(OFFSET('Raw Data'!Y54,Input_Details!$B$34,Input_Details!$B$32)=\"\", \"-\", OFFSET('Raw Data'!Y54,Input_Details!$B$34,Input_Details!$B$32))","v":1},{"$f":"IF(OFFSET('Raw Data'!Z54,Input_Details!$B$34,Input_Details!$B$32)=\"\", \"-\", OFFSET('Raw Data'!Z54,Input_Details!$B$34,Input_Details!$B$32))","v":0},{"$f":"IF(OFFSET('Raw Data'!AA54,Input_Details!$B$34,Input_Details!$B$32)=\"\", \"-\", OFFSET('Raw Data'!AA54,Input_Details!$B$34,Input_Details!$B$32))","v":0},{"$f":"IF(OFFSET('Raw Data'!AB54,Input_Details!$B$34,Input_Details!$B$32)=\"\", \"-\", OFFSET('Raw Data'!AB54,Input_Details!$B$34,Input_Details!$B$32))","v":0},{"$f":"IF(OFFSET('Raw Data'!AC54,Input_Details!$B$34,Input_Details!$B$32)=\"\", \"-\", OFFSET('Raw Data'!AC54,Input_Details!$B$34,Input_Details!$B$32))","v":0},{"$f":"IF(OFFSET('Raw Data'!AD54,Input_Details!$B$34,Input_Details!$B$32)=\"\", \"-\", OFFSET('Raw Data'!AD54,Input_Details!$B$34,Input_Details!$B$32))","v":0},{"$f":"IF(OFFSET('Raw Data'!AE54,Input_Details!$B$34,Input_Details!$B$32)=\"\", \"-\", OFFSET('Raw Data'!AE54,Input_Details!$B$34,Input_Details!$B$32))","v":0},{"$f":"IF(OFFSET('Raw Data'!AF54,Input_Details!$B$34,Input_Details!$B$32)=\"\", \"-\", OFFSET('Raw Data'!AF54,Input_Details!$B$34,Input_Details!$B$32))","v":0},{"$f":"IF(OFFSET('Raw Data'!AG54,Input_Details!$B$34,Input_Details!$B$32)=\"\", \"-\", OFFSET('Raw Data'!AG54,Input_Details!$B$34,Input_Details!$B$32))","v":0},{"$f":"IF(OFFSET('Raw Data'!AH54,Input_Details!$B$34,Input_Details!$B$32)=\"\", \"-\", OFFSET('Raw Data'!AH54,Input_Details!$B$34,Input_Details!$B$32))","v":0},{"$f":"IF(OFFSET('Raw Data'!AI54,Input_Details!$B$34,Input_Details!$B$32)=\"\", \"-\", OFFSET('Raw Data'!AI54,Input_Details!$B$34,Input_Details!$B$32))","v":0},{"$f":"IF(OFFSET('Raw Data'!AJ54,Input_Details!$B$34,Input_Details!$B$32)=\"\", \"-\", OFFSET('Raw Data'!AJ54,Input_Details!$B$34,Input_Details!$B$32))","v":0},{"$f":"IF(OFFSET('Raw Data'!AK54,Input_Details!$B$34,Input_Details!$B$32)=\"\", \"-\", OFFSET('Raw Data'!AK54,Input_Details!$B$34,Input_Details!$B$32))","v":0},{"$f":"IF(OFFSET('Raw Data'!AL54,Input_Details!$B$34,Input_Details!$B$32)=\"\", \"-\", OFFSET('Raw Data'!AL54,Input_Details!$B$34,Input_Details!$B$32))","v":0},{"$f":"IF(OFFSET('Raw Data'!AM54,Input_Details!$B$34,Input_Details!$B$32)=\"\", \"-\", OFFSET('Raw Data'!AM54,Input_Details!$B$34,Input_Details!$B$32))","v":0},null,{"$f":"IF(D76=\"-\",\"-\",OFFSET('Raw Data'!AN54,Input_Details!$B$34,Input_Details!$B$32))","v":18.758079625292741},{"$f":"IF(OFFSET('Raw Data'!AO54,Input_Details!$B$34,Input_Details!$B$32)=\"\", \"-\", OFFSET('Raw Data'!AO54,Input_Details!$B$34,Input_Details!$B$32))","v":21.085714285714285},{"$f":"IF(OFFSET('Raw Data'!AP54,Input_Details!$B$34,Input_Details!$B$32)=\"\", \"-\", OFFSET('Raw Data'!AP54,Input_Details!$B$34,Input_Details!$B$32))","v":7.1},{"$f":"IF(OFFSET('Raw Data'!AQ54,Input_Details!$B$34,Input_Details!$B$32)=\"\", \"-\", OFFSET('Raw Data'!AQ54,Input_Details!$B$34,Input_Details!$B$32))","v":36.700000000000003},null,{"$f":"IF(Y76=\"-\", \"-\", SUM(OFFSET(D76,0,VLOOKUP(Input_Details!$N$3, $AF$3:$AG$12, 2,0)-1):W76))","v":21},0.33870967741935482]
[null,"12:45:00",null,{"$f":"IF(OFFSET('Raw Data'!T55,Input_Details!$B$34,Input_Details!$B$32)=\"\", \"-\", OFFSET('Raw Data'!T55,Input_Details!$B$34,Input_Details!$B$32))","v":1},{"$f":"IF(OFFSET('Raw Data'!U55,Input_Details!$B$34,Input_Details!$B$32)=\"\", \"-\", OFFSET('Raw Data'!U55,Input_Details!$B$34,Input_Details!$B$32))","v":10},{"$f":"IF(OFFSET('Raw Data'!V55,Input_Details!$B$34,Input_Details!$B$32)=\"\", \"-\", OFFSET('Raw Data'!V55,Input_Details!$B$34,Input_Details!$B$32))","v":23},{"$f":"IF(OFFSET('Raw Data'!W55,Input_Details!$B$34,Input_Details!$B$32)=\"\", \"-\", OFFSET('Raw Data'!W55,Input_Details!$B$34,Input_Details!$B$32))","v":20},{"$f":"IF(OFFSET('Raw Data'!X55,Input_Details!$B$34,Input_Details!$B$32)=\"\", \"-\", OFFSET('Raw Data'!X55,Input_Details!$B$34,Input_Details!$B$32))","v":5},{"$f":"IF(OFFSET('Raw Data'!Y55,Input_Details!$B$34,Input_Details!$B$32)=\"\", \"-\", OFFSET('Raw Data'!Y55,Input_Details!$B$34,Input_Details!$B$32))","v":1},{"$f":"IF(OFFSET('Raw Data'!Z55,Input_Details!$B$34,Input_Details!$B$32)=\"\", \"-\", OFFSET('Raw Data'!Z55,Input_Details!$B$34,Input_Details!$B$32))","v":0},{"$f":"IF(OFFSET('Raw Data'!AA55,Input_Details!$B$34,Input_Details!$B$32)=\"\", \"-\", OFFSET('Raw Data'!AA55,Input_Details!$B$34,Input_Details!$B$32))","v":0},{"$f":"IF(OFFSET('Raw Data'!AB55,Input_Details!$B$34,Input_Details!$B$32)=\"\", \"-\", OFFSET('Raw Data'!AB55,Input_Details!$B$34,Input_Details!$B$32))","v":0},{"$f":"IF(OFFSET('Raw Data'!AC55,Input_Details!$B$34,Input_Details!$B$32)=\"\", \"-\", OFFSET('Raw Data'!AC55,Input_Details!$B$34,Input_Details!$B$32))","v":0},{"$f":"IF(OFFSET('Raw Data'!AD55,Input_Details!$B$34,Input_Details!$B$32)=\"\", \"-\", OFFSET('Raw Data'!AD55,Input_Details!$B$34,Input_Details!$B$32))","v":0},{"$f":"IF(OFFSET('Raw Data'!AE55,Input_Details!$B$34,Input_Details!$B$32)=\"\", \"-\", OFFSET('Raw Data'!AE55,Input_Details!$B$34,Input_Details!$B$32))","v":0},{"$f":"IF(OFFSET('Raw Data'!AF55,Input_Details!$B$34,Input_Details!$B$32)=\"\", \"-\", OFFSET('Raw Data'!AF55,Input_Details!$B$34,Input_Details!$B$32))","v":0},{"$f":"IF(OFFSET('Raw Data'!AG55,Input_Details!$B$34,Input_Details!$B$32)=\"\", \"-\", OFFSET('Raw Data'!AG55,Input_Details!$B$34,Input_Details!$B$32))","v":0},{"$f":"IF(OFFSET('Raw Data'!AH55,Input_Details!$B$34,Input_Details!$B$32)=\"\", \"-\", OFFSET('Raw Data'!AH55,Input_Details!$B$34,Input_Details!$B$32))","v":0},{"$f":"IF(OFFSET('Raw Data'!AI55,Input_Details!$B$34,Input_Details!$B$32)=\"\", \"-\", OFFSET('Raw Data'!AI55,Input_Details!$B$34,Input_Details!$B$32))","v":0},{"$f":"IF(OFFSET('Raw Data'!AJ55,Input_Details!$B$34,Input_Details!$B$32)=\"\", \"-\", OFFSET('Raw Data'!AJ55,Input_Details!$B$34,Input_Details!$B$32))","v":0},{"$f":"IF(OFFSET('Raw Data'!AK55,Input_Details!$B$34,Input_Details!$B$32)=\"\", \"-\", OFFSET('Raw Data'!AK55,Input_Details!$B$34,Input_Details!$B$32))","v":0},{"$f":"IF(OFFSET('Raw Data'!AL55,Input_Details!$B$34,Input_Details!$B$32)=\"\", \"-\", OFFSET('Raw Data'!AL55,Input_Details!$B$34,Input_Details!$B$32))","v":0},{"$f":"IF(OFFSET('Raw Data'!AM55,Input_Details!$B$34,Input_Details!$B$32)=\"\", \"-\", OFFSET('Raw Data'!AM55,Input_Details!$B$34,Input_Details!$B$32))","v":0},null,{"$f":"IF(D77=\"-\",\"-\",OFFSET('Raw Data'!AN55,Input_Details!$B$34,Input_Details!$B$32))","v":19.404116222760287},{"$f":"IF(OFFSET('Raw Data'!AO55,Input_Details!$B$34,Input_Details!$B$32)=\"\", \"-\", OFFSET('Raw Data'!AO55,Input_Details!$B$34,Input_Details!$B$32))","v":20.185714285714287},{"$f":"IF(OFFSET('Raw Data'!AP55,Input_Details!$B$34,Input_Details!$B$32)=\"\", \"-\", OFFSET('Raw Data'!AP55,Input_Details!$B$34,Input_Details!$B$32))","v":8.6999999999999993},{"$f":"IF(OFFSET('Raw Data'!AQ55,Input_Details!$B$34,Input_Details!$B$32)=\"\", \"-\", OFFSET('Raw Data'!AQ55,Input_Details!$B$34,Input_Details!$B$32))","v":40.299999999999997},null,{"$f":"IF(Y77=\"-\", \"-\", SUM(OFFSET(D77,0,VLOOKUP(Input_Details!$N$3, $AF$3:$AG$12, 2,0)-1):W77))","v":26},0.43333333333333335]
[null,"13:00:00",null,{"$f":"IF(OFFSET('Raw Data'!T56,Input_Details!$B$34,Input_Details!$B$32)=\"\", \"-\", OFFSET('Raw Data'!T56,Input_Details!$B$34,Input_Details!$B$32))","v":1},{"$f":"IF(OFFSET('Raw Data'!U56,Input_Details!$B$34,Input_Details!$B$32)=\"\", \"-\", OFFSET('Raw Data'!U56,Input_Details!$B$34,Input_Details!$B$32))","v":11},{"$f":"IF(OFFSET('Raw Data'!V56,Input_Details!$B$34,Input_Details!$B$32)=\"\", \"-\", OFFSET('Raw Data'!V56,Input_Details!$B$34,Input_Details!$B$32))","v":30},{"$f":"IF(OFFSET('Raw Data'!W56,Input_Details!$B$34,Input_Details!$B$32)=\"\", \"-\", OFFSET('Raw Data'!W56,Input_Details!$B$34,Input_Details!$B$32))","v":22},{"$f":"IF(OFFSET('Raw Data'!X56,Input_Details!$B$34,Input_Details!$B$32)=\"\", \"-\", OFFSET('Raw Data'!X56,Input_Details!$B$34,Input_Details!$B$32))","v":2},{"$f":"IF(OFFSET('Raw Data'!Y56,Input_Details!$B$34,Input_Details!$B$32)=\"\", \"-\", OFFSET('Raw Data'!Y56,Input_Details!$B$34,Input_Details!$B$32))","v":1},{"$f":"IF(OFFSET('Raw Data'!Z56,Input_Details!$B$34,Input_Details!$B$32)=\"\", \"-\", OFFSET('Raw Data'!Z56,Input_Details!$B$34,Input_Details!$B$32))","v":0},{"$f":"IF(OFFSET('Raw Data'!AA56,Input_Details!$B$34,Input_Details!$B$32)=\"\", \"-\", OFFSET('Raw Data'!AA56,Input_Details!$B$34,Input_Details!$B$32))","v":0},{"$f":"IF(OFFSET('Raw Data'!AB56,Input_Details!$B$34,Input_Details!$B$32)=\"\", \"-\", OFFSET('Raw Data'!AB56,Input_Details!$B$34,Input_Details!$B$32))","v":0},{"$f":"IF(OFFSET('Raw Data'!AC56,Input_Details!$B$34,Input_Details!$B$32)=\"\", \"-\", OFFSET('Raw Data'!AC56,Input_Details!$B$34,Input_Details!$B$32))","v":0},{"$f":"IF(OFFSET('Raw Data'!AD56,Input_Details!$B$34,Input_Details!$B$32)=\"\", \"-\", OFFSET('Raw Data'!AD56,Input_Details!$B$34,Input_Details!$B$32))","v":0},{"$f":"IF(OFFSET('Raw Data'!AE56,Input_Details!$B$34,Input_Details!$B$32)=\"\", \"-\", OFFSET('Raw Data'!AE56,Input_Details!$B$34,Input_Details!$B$32))","v":0},{"$f":"IF(OFFSET('Raw Data'!AF56,Input_Details!$B$34,Input_Details!$B$32)=\"\", \"-\", OFFSET('Raw Data'!AF56,Input_Details!$B$34,Input_Details!$B$32))","v":0},{"$f":"IF(OFFSET('Raw Data'!AG56,Input_Details!$B$34,Input_Details!$B$32)=\"\", \"-\", OFFSET('Raw Data'!AG56,Input_Details!$B$34,Input_Details!$B$32))","v":0},{"$f":"IF(OFFSET('Raw Data'!AH56,Input_Details!$B$34,Input_Details!$B$32)=\"\", \"-\", OFFSET('Raw Data'!AH56,Input_Details!$B$34,Input_Details!$B$32))","v":0},{"$f":"IF(OFFSET('Raw Data'!AI56,Input_Details!$B$34,Input_Details!$B$32)=\"\", \"-\", OFFSET('Raw Data'!AI56,Input_Details!$B$34,Input_Details!$B$32))","v":0},{"$f":"IF(OFFSET('Raw Data'!AJ56,Input_Details!$B$34,Input_Details!$B$32)=\"\", \"-\", OFFSET('Raw Data'!AJ56,Input_Details!$B$34,Input_Details!$B$32))","v":0},{"$f":"IF(OFFSET('Raw Data'!AK56,Input_Details!$B$34,Input_Details!$B$32)=\"\", \"-\", OFFSET('Raw Data'!AK56,Input_Details!$B$34,Input_Details!$B$32))","v":0},{"$f":"IF(OFFSET('Raw Data'!AL56,Input_Details!$B$34,Input_Details!$B$32)=\"\", \"-\", OFFSET('Raw Data'!AL56,Input_Details!$B$34,Input_Details!$B$32))","v":0},{"$f":"IF(OFFSET('Raw Data'!AM56,Input_Details!$B$34,Input_Details!$B$32)=\"\", \"-\", OFFSET('Raw Data'!AM56,Input_Details!$B$34,Input_Details!$B$32))","v":0},null,{"$f":"IF(D78=\"-\",\"-\",OFFSET('Raw Data'!AN56,Input_Details!$B$34,Input_Details!$B$32))","v":18.856277056277058},{"$f":"IF(OFFSET('Raw Data'!AO56,Input_Details!$B$34,Input_Details!$B$32)=\"\", \"-\", OFFSET('Raw Data'!AO56,Input_Details!$B$34,Input_Details!$B$32))","v":19.971428571428568},{"$f":"IF(OFFSET('Raw Data'!AP56,Input_Details!$B$34,Input_Details!$B$32)=\"\", \"-\", OFFSET('Raw Data'!AP56,Input_Details!$B$34,Input_Details!$B$32))","v":7.4},{"$f":"IF(OFFSET('Raw Data'!AQ56,Input_Details!$B$34,Input_Details!$B$32)=\"\", \"-\", OFFSET('Raw Data'!AQ56,Input_Details!$B$34,Input_Details!$B$32))","v":45.5},null,{"$f":"IF(Y78=\"-\", \"-\", SUM(OFFSET(D78,0,VLOOKUP(Input_Details!$N$3, $AF$3:$AG$12, 2,0)-1):W78))","v":25},0.37313432835820898]
[null,"13:15:00",null,{"$f":"IF(OFFSET('Raw Data'!T57,Input_Details!$B$34,Input_Details!$B$32)=\"\", \"-\", OFFSET('Raw Data'!T57,Input_Details!$B$34,Input_Details!$B$32))","v":1},{"$f":"IF(OFFSET('Raw Data'!U57,Input_Details!$B$34,Input_Details!$B$32)=\"\", \"-\", OFFSET('Raw Data'!U57,Input_Details!$B$34,Input_Details!$B$32))","v":11},{"$f":"IF(OFFSET('Raw Data'!V57,Input_Details!$B$34,Input_Details!$B$32)=\"\", \"-\", OFFSET('Raw Data'!V57,Input_Details!$B$34,Input_Details!$B$32))","v":31},{"$f":"IF(OFFSET('Raw Data'!W57,Input_Details!$B$34,Input_Details!$B$32)=\"\", \"-\", OFFSET('Raw Data'!W57,Input_Details!$B$34,Input_Details!$B$32))","v":23},{"$f":"IF(OFFSET('Raw Data'!X57,Input_Details!$B$34,Input_Details!$B$32)=\"\", \"-\", OFFSET('Raw Data'!X57,Input_Details!$B$34,Input_Details!$B$32))","v":4},{"$f":"IF(OFFSET('Raw Data'!Y57,Input_Details!$B$34,Input_Details!$B$32)=\"\", \"-\", OFFSET('Raw Data'!Y57,Input_Details!$B$34,Input_Details!$B$32))","v":0},{"$f":"IF(OFFSET('Raw Data'!Z57,Input_Details!$B$34,Input_Details!$B$32)=\"\", \"-\", OFFSET('Raw Data'!Z57,Input_Details!$B$34,Input_Details!$B$32))","v":0},{"$f":"IF(OFFSET('Raw Data'!AA57,Input_Details!$B$34,Input_Details!$B$32)=\"\", \"-\", OFFSET('Raw Data'!AA57,Input_Details!$B$34,Input_Details!$B$32))","v":0},{"$f":"IF(OFFSET('Raw Data'!AB57,Input_Details!$B$34,Input_Details!$B$32)=\"\", \"-\", OFFSET('Raw Data'!AB57,Input_Details!$B$34,Input_Details!$B$32))","v":0},{"$f":"IF(OFFSET('Raw Data'!AC57,Input_Details!$B$34,Input_Details!$B$32)=\"\", \"-\", OFFSET('Raw Data'!AC57,Input_Details!$B$34,Input_Details!$B$32))","v":0},{"$f":"IF(OFFSET('Raw Data'!AD57,Input_Details!$B$34,Input_Details!$B$32)=\"\", \"-\", OFFSET('Raw Data'!AD57,Input_Details!$B$34,Input_Details!$B$32))","v":0},{"$f":"IF(OFFSET('Raw Data'!AE57,Input_Details!$B$34,Input_Details!$B$32)=\"\", \"-\", OFFSET('Raw Data'!AE57,Input_Details!$B$34,Input_Details!$B$32))","v":0},{"$f":"IF(OFFSET('Raw Data'!AF57,Input_Details!$B$34,Input_Details!$B$32)=\"\", \"-\", OFFSET('Raw Data'!AF57,Input_Details!$B$34,Input_Details!$B$32))","v":0},{"$f":"IF(OFFSET('Raw Data'!AG57,Input_Details!$B$34,Input_Details!$B$32)=\"\", \"-\", OFFSET('Raw Data'!AG57,Input_Details!$B$34,Input_Details!$B$32))","v":0},{"$f":"IF(OFFSET('Raw Data'!AH57,Input_Details!$B$34,Input_Details!$B$32)=\"\", \"-\", OFFSET('Raw Data'!AH57,Input_Details!$B$34,Input_Details!$B$32))","v":0},{"$f":"IF(OFFSET('Raw Data'!AI57,Input_Details!$B$34,Input_Details!$B$32)=\"\", \"-\", OFFSET('Raw Data'!AI57,Input_Details!$B$34,Input_Details!$B$32))","v":0},{"$f":"IF(OFFSET('Raw Data'!AJ57,Input_Details!$B$34,Input_Details!$B$32)=\"\", \"-\", OFFSET('Raw Data'!AJ57,Input_Details!$B$34,Input_Details!$B$32))","v":0},{"$f":"IF(OFFSET('Raw Data'!AK57,Input_Details!$B$34,Input_Details!$B$32)=\"\", \"-\", OFFSET('Raw Data'!AK57,Input_Details!$B$34,Input_Details!$B$32))","v":0},{"$f":"IF(OFFSET('Raw Data'!AL57,Input_Details!$B$34,Input_Details!$B$32)=\"\", \"-\", OFFSET('Raw Data'!AL57,Input_Details!$B$34,Input_Details!$B$32))","v":0},{"$f":"IF(OFFSET('Raw Data'!AM57,Input_Details!$B$34,Input_Details!$B$32)=\"\", \"-\", OFFSET('Raw Data'!AM57,Input_Details!$B$34,Input_Details!$B$32))","v":0},null,{"$f":"IF(D79=\"-\",\"-\",OFFSET('Raw Data'!AN57,Input_Details!$B$34,Input_Details!$B$32))","v":19.13416149068323},{"$f":"IF(OFFSET('Raw Data'!AO57,Input_Details!$B$34,Input_Details!$B$32)=\"\", \"-\", OFFSET('Raw Data'!AO57,Input_Details!$B$34,Input_Details!$B$32))","v":22.139285714285712},{"$f":"IF(OFFSET('Raw Data'!AP57,Input_Details!$B$34,Input_Details!$B$32)=\"\", \"-\", OFFSET('Raw Data'!AP57,Input_Details!$B$34,Input_Details!$B$32))","v":5.6},{"$f":"IF(OFFSET('Raw Data'!AQ57,Input_Details!$B$34,Input_Details!$B$32)=\"\", \"-\", OFFSET('Raw Data'!AQ57,Input_Details!$B$34,Input_Details!$B$32))","v":42.1},null,{"$f":"IF(Y79=\"-\", \"-\", SUM(OFFSET(D79,0,VLOOKUP(Input_Details!$N$3, $AF$3:$AG$12, 2,0)-1):W79))","v":27},0.38571428571428573]
[null,"13:30:00",null,{"$f":"IF(OFFSET('Raw Data'!T58,Input_Details!$B$34,Input_Details!$B$32)=\"\", \"-\", OFFSET('Raw Data'!T58,Input_Details!$B$34,Input_Details!$B$32))","v":1},{"$f":"IF(OFFSET('Raw Data'!U58,Input_Details!$B$34,Input_Details!$B$32)=\"\", \"-\", OFFSET('Raw Data'!U58,Input_Details!$B$34,Input_Details!$B$32))","v":13},{"$f":"IF(OFFSET('Raw Data'!V58,Input_Details!$B$34,Input_Details!$B$32)=\"\", \"-\", OFFSET('Raw Data'!V58,Input_Details!$B$34,Input_Details!$B$32))","v":27},{"$f":"IF(OFFSET('Raw Data'!W58,Input_Details!$B$34,Input_Details!$B$32)=\"\", \"-\", OFFSET('Raw Data'!W58,Input_Details!$B$34,Input_Details!$B$32))","v":20},{"$f":"IF(OFFSET('Raw Data'!X58,Input_Details!$B$34,Input_Details!$B$32)=\"\", \"-\", OFFSET('Raw Data'!X58,Input_Details!$B$34,Input_Details!$B$32))","v":5},{"$f":"IF(OFFSET('Raw Data'!Y58,Input_Details!$B$34,Input_Details!$B$32)=\"\", \"-\", OFFSET('Raw Data'!Y58,Input_Details!$B$34,Input_Details!$B$32))","v":1},{"$f":"IF(OFFSET('Raw Data'!Z58,Input_Details!$B$34,Input_Details!$B$32)=\"\", \"-\", OFFSET('Raw Data'!Z58,Input_Details!$B$34,Input_Details!$B$32))","v":0},{"$f":"IF(OFFSET('Raw Data'!AA58,Input_Details!$B$34,Input_Details!$B$32)=\"\", \"-\", OFFSET('Raw Data'!AA58,Input_Details!$B$34,Input_Details!$B$32))","v":0},{"$f":"IF(OFFSET('Raw Data'!AB58,Input_Details!$B$34,Input_Details!$B$32)=\"\", \"-\", OFFSET('Raw Data'!AB58,Input_Details!$B$34,Input_Details!$B$32))","v":0},{"$f":"IF(OFFSET('Raw Data'!AC58,Input_Details!$B$34,Input_Details!$B$32)=\"\", \"-\", OFFSET('Raw Data'!AC58,Input_Details!$B$34,Input_Details!$B$32))","v":0},{"$f":"IF(OFFSET('Raw Data'!AD58,Input_Details!$B$34,Input_Details!$B$32)=\"\", \"-\", OFFSET('Raw Data'!AD58,Input_Details!$B$34,Input_Details!$B$32))","v":0},{"$f":"IF(OFFSET('Raw Data'!AE58,Input_Details!$B$34,Input_Details!$B$32)=\"\", \"-\", OFFSET('Raw Data'!AE58,Input_Details!$B$34,Input_Details!$B$32))","v":0},{"$f":"IF(OFFSET('Raw Data'!AF58,Input_Details!$B$34,Input_Details!$B$32)=\"\", \"-\", OFFSET('Raw Data'!AF58,Input_Details!$B$34,Input_Details!$B$32))","v":0},{"$f":"IF(OFFSET('Raw Data'!AG58,Input_Details!$B$34,Input_Details!$B$32)=\"\", \"-\", OFFSET('Raw Data'!AG58,Input_Details!$B$34,Input_Details!$B$32))","v":0},{"$f":"IF(OFFSET('Raw Data'!AH58,Input_Details!$B$34,Input_Details!$B$32)=\"\", \"-\", OFFSET('Raw Data'!AH58,Input_Details!$B$34,Input_Details!$B$32))","v":0},{"$f":"IF(OFFSET('Raw Data'!AI58,Input_Details!$B$34,Input_Details!$B$32)=\"\", \"-\", OFFSET('Raw Data'!AI58,Input_Details!$B$34,Input_Details!$B$32))","v":0},{"$f":"IF(OFFSET('Raw Data'!AJ58,Input_Details!$B$34,Input_Details!$B$32)=\"\", \"-\", OFFSET('Raw Data'!AJ58,Input_Details!$B$34,Input_Details!$B$32))","v":0},{"$f":"IF(OFFSET('Raw Data'!AK58,Input_Details!$B$34,Input_Details!$B$32)=\"\", \"-\", OFFSET('Raw Data'!AK58,Input_Details!$B$34,Input_Details!$B$32))","v":0},{"$f":"IF(OFFSET('Raw Data'!AL58,Input_Details!$B$34,Input_Details!$B$32)=\"\", \"-\", OFFSET('Raw Data'!AL58,Input_Details!$B$34,Input_Details!$B$32))","v":0},{"$f":"IF(OFFSET('Raw Data'!AM58,Input_Details!$B$34,Input_Details!$B$32)=\"\", \"-\", OFFSET('Raw Data'!AM58,Input_Details!$B$34,Input_Details!$B$32))","v":0},null,{"$f":"IF(D80=\"-\",\"-\",OFFSET('Raw Data'!AN58,Input_Details!$B$34,Input_Details!$B$32))","v":19.019047619047623},{"$f":"IF(OFFSET('Raw Data'!AO58,Input_Details!$B$34,Input_Details!$B$32)=\"\", \"-\", OFFSET('Raw Data'!AO58,Input_Details!$B$34,Input_Details!$B$32))","v":20.145238095238096},{"$f":"IF(OFFSET('Raw Data'!AP58,Input_Details!$B$34,Input_Details!$B$32)=\"\", \"-\", OFFSET('Raw Data'!AP58,Input_Details!$B$34,Input_Details!$B$32))","v":6.8},{"$f":"IF(OFFSET('Raw Data'!AQ58,Input_Details!$B$34,Input_Details!$B$32)=\"\", \"-\", OFFSET('Raw Data'!AQ58,Input_Details!$B$34,Input_Details!$B$32))","v":36.6},null,{"$f":"IF(Y80=\"-\", \"-\", SUM(OFFSET(D80,0,VLOOKUP(Input_Details!$N$3, $AF$3:$AG$12, 2,0)-1):W80))","v":26},0.38805970149253732]
[null,"13:45:00",null,{"$f":"IF(OFFSET('Raw Data'!T59,Input_Details!$B$34,Input_Details!$B$32)=\"\", \"-\", OFFSET('Raw Data'!T59,Input_Details!$B$34,Input_Details!$B$32))","v":2},{"$f":"IF(OFFSET('Raw Data'!U59,Input_Details!$B$34,Input_Details!$B$32)=\"\", \"-\", OFFSET('Raw Data'!U59,Input_Details!$B$34,Input_Details!$B$32))","v":15},{"$f":"IF(OFFSET('Raw Data'!V59,Input_Details!$B$34,Input_Details!$B$32)=\"\", \"-\", OFFSET('Raw Data'!V59,Input_Details!$B$34,Input_Details!$B$32))","v":34},{"$f":"IF(OFFSET('Raw Data'!W59,Input_Details!$B$34,Input_Details!$B$32)=\"\", \"-\", OFFSET('Raw Data'!W59,Input_Details!$B$34,Input_Details!$B$32))","v":20},{"$f":"IF(OFFSET('Raw Data'!X59,Input_Details!$B$34,Input_Details!$B$32)=\"\", \"-\", OFFSET('Raw Data'!X59,Input_Details!$B$34,Input_Details!$B$32))","v":3},{"$f":"IF(OFFSET('Raw Data'!Y59,Input_Details!$B$34,Input_Details!$B$32)=\"\", \"-\", OFFSET('Raw Data'!Y59,Input_Details!$B$34,Input_Details!$B$32))","v":1},{"$f":"IF(OFFSET('Raw Data'!Z59,Input_Details!$B$34,Input_Details!$B$32)=\"\", \"-\", OFFSET('Raw Data'!Z59,Input_Details!$B$34,Input_Details!$B$32))","v":0},{"$f":"IF(OFFSET('Raw Data'!AA59,Input_Details!$B$34,Input_Details!$B$32)=\"\", \"-\", OFFSET('Raw Data'!AA59,Input_Details!$B$34,Input_Details!$B$32))","v":0},{"$f":"IF(OFFSET('Raw Data'!AB59,Input_Details!$B$34,Input_Details!$B$32)=\"\", \"-\", OFFSET('Raw Data'!AB59,Input_Details!$B$34,Input_Details!$B$32))","v":0},{"$f":"IF(OFFSET('Raw Data'!AC59,Input_Details!$B$34,Input_Details!$B$32)=\"\", \"-\", OFFSET('Raw Data'!AC59,Input_Details!$B$34,Input_Details!$B$32))","v":0},{"$f":"IF(OFFSET('Raw Data'!AD59,Input_Details!$B$34,Input_Details!$B$32)=\"\", \"-\", OFFSET('Raw Data'!AD59,Input_Details!$B$34,Input_Details!$B$32))","v":0},{"$f":"IF(OFFSET('Raw Data'!AE59,Input_Details!$B$34,Input_Details!$B$32)=\"\", \"-\", OFFSET('Raw Data'!AE59,Input_Details!$B$34,Input_Details!$B$32))","v":0},{"$f":"IF(OFFSET('Raw Data'!AF59,Input_Details!$B$34,Input_Details!$B$32)=\"\", \"-\", OFFSET('Raw Data'!AF59,Input_Details!$B$34,Input_Details!$B$32))","v":0},{"$f":"IF(OFFSET('Raw Data'!AG59,Input_Details!$B$34,Input_Details!$B$32)=\"\", \"-\", OFFSET('Raw Data'!AG59,Input_Details!$B$34,Input_Details!$B$32))","v":0},{"$f":"IF(OFFSET('Raw Data'!AH59,Input_Details!$B$34,Input_Details!$B$32)=\"\", \"-\", OFFSET('Raw Data'!AH59,Input_Details!$B$34,Input_Details!$B$32))","v":0},{"$f":"IF(OFFSET('Raw Data'!AI59,Input_Details!$B$34,Input_Details!$B$32)=\"\", \"-\", OFFSET('Raw Data'!AI59,Input_Details!$B$34,Input_Details!$B$32))","v":0},{"$f":"IF(OFFSET('Raw Data'!AJ59,Input_Details!$B$34,Input_Details!$B$32)=\"\", \"-\", OFFSET('Raw Data'!AJ59,Input_Details!$B$34,Input_Details!$B$32))","v":0},{"$f":"IF(OFFSET('Raw Data'!AK59,Input_Details!$B$34,Input_Details!$B$32)=\"\", \"-\", OFFSET('Raw Data'!AK59,Input_Details!$B$34,Input_Details!$B$32))","v":0},{"$f":"IF(OFFSET('Raw Data'!AL59,Input_Details!$B$34,Input_Details!$B$32)=\"\", \"-\", OFFSET('Raw Data'!AL59,Input_Details!$B$34,Input_Details!$B$32))","v":0},{"$f":"IF(OFFSET('Raw Data'!AM59,Input_Details!$B$34,Input_Details!$B$32)=\"\", \"-\", OFFSET('Raw Data'!AM59,Input_Details!$B$34,Input_Details!$B$32))","v":0},null,{"$f":"IF(D81=\"-\",\"-\",OFFSET('Raw Data'!AN59,Input_Details!$B$34,Input_Details!$B$32))","v":18.402255639097742},{"$f":"IF(OFFSET('Raw Data'!AO59,Input_Details!$B$34,Input_Details!$B$32)=\"\", \"-\", OFFSET('Raw Data'!AO59,Input_Details!$B$34,Input_Details!$B$32))","v":18.664285714285715},{"$f":"IF(OFFSET('Raw Data'!AP59,Input_Details!$B$34,Input_Details!$B$32)=\"\", \"-\", OFFSET('Raw Data'!AP59,Input_Details!$B$34,Input_Details!$B$32))","v":5.3},{"$f":"IF(OFFSET('Raw Data'!AQ59,Input_Details!$B$34,Input_Details!$B$32)=\"\", \"-\", OFFSET('Raw Data'!AQ59,Input_Details!$B$34,Input_Details!$B$32))","v":38.6},null,{"$f":"IF(Y81=\"-\", \"-\", SUM(OFFSET(D81,0,VLOOKUP(Input_Details!$N$3, $AF$3:$AG$12, 2,0)-1):W81))","v":24},0.32]
[null,"14:00:00",null,{"$f":"IF(OFFSET('Raw Data'!T60,Input_Details!$B$34,Input_Details!$B$32)=\"\", \"-\", OFFSET('Raw Data'!T60,Input_Details!$B$34,Input_Details!$B$32))","v":4},{"$f":"IF(OFFSET('Raw Data'!U60,Input_Details!$B$34,Input_Details!$B$32)=\"\", \"-\", OFFSET('Raw Data'!U60,Input_Details!$B$34,Input_Details!$B$32))","v":15},{"$f":"IF(OFFSET('Raw Data'!V60,Input_Details!$B$34,Input_Details!$B$32)=\"\", \"-\", OFFSET('Raw Data'!V60,Input_Details!$B$34,Input_Details!$B$32))","v":32},{"$f":"IF(OFFSET('Raw Data'!W60,Input_Details!$B$34,Input_Details!$B$32)=\"\", \"-\", OFFSET('Raw Data'!W60,Input_Details!$B$34,Input_Details!$B$32))","v":17},{"$f":"IF(OFFSET('Raw Data'!X60,Input_Details!$B$34,Input_Details!$B$32)=\"\", \"-\", OFFSET('Raw Data'!X60,Input_Details!$B$34,Input_Details!$B$32))","v":4},{"$f":"IF(OFFSET('Raw Data'!Y60,Input_Details!$B$34,Input_Details!$B$32)=\"\", \"-\", OFFSET('Raw Data'!Y60,Input_Details!$B$34,Input_Details!$B$32))","v":1},{"$f":"IF(OFFSET('Raw Data'!Z60,Input_Details!$B$34,Input_Details!$B$32)=\"\", \"-\", OFFSET('Raw Data'!Z60,Input_Details!$B$34,Input_Details!$B$32))","v":1},{"$f":"IF(OFFSET('Raw Data'!AA60,Input_Details!$B$34,Input_Details!$B$32)=\"\", \"-\", OFFSET('Raw Data'!AA60,Input_Details!$B$34,Input_Details!$B$32))","v":0},{"$f":"IF(OFFSET('Raw Data'!AB60,Input_Details!$B$34,Input_Details!$B$32)=\"\", \"-\", OFFSET('Raw Data'!AB60,Input_Details!$B$34,Input_Details!$B$32))","v":0},{"$f":"IF(OFFSET('Raw Data'!AC60,Input_Details!$B$34,Input_Details!$B$32)=\"\", \"-\", OFFSET('Raw Data'!AC60,Input_Details!$B$34,Input_Details!$B$32))","v":0},{"$f":"IF(OFFSET('Raw Data'!AD60,Input_Details!$B$34,Input_Details!$B$32)=\"\", \"-\", OFFSET('Raw Data'!AD60,Input_Details!$B$34,Input_Details!$B$32))","v":0},{"$f":"IF(OFFSET('Raw Data'!AE60,Input_Details!$B$34,Input_Details!$B$32)=\"\", \"-\", OFFSET('Raw Data'!AE60,Input_Details!$B$34,Input_Details!$B$32))","v":0},{"$f":"IF(OFFSET('Raw Data'!AF60,Input_Details!$B$34,Input_Details!$B$32)=\"\", \"-\", OFFSET('Raw Data'!AF60,Input_Details!$B$34,Input_Details!$B$32))","v":0},{"$f":"IF(OFFSET('Raw Data'!AG60,Input_Details!$B$34,Input_Details!$B$32)=\"\", \"-\", OFFSET('Raw Data'!AG60,Input_Details!$B$34,Input_Details!$B$32))","v":0},{"$f":"IF(OFFSET('Raw Data'!AH60,Input_Details!$B$34,Input_Details!$B$32)=\"\", \"-\", OFFSET('Raw Data'!AH60,Input_Details!$B$34,Input_Details!$B$32))","v":0},{"$f":"IF(OFFSET('Raw Data'!AI60,Input_Details!$B$34,Input_Details!$B$32)=\"\", \"-\", OFFSET('Raw Data'!AI60,Input_Details!$B$34,Input_Details!$B$32))","v":0},{"$f":"IF(OFFSET('Raw Data'!AJ60,Input_Details!$B$34,Input_Details!$B$32)=\"\", \"-\", OFFSET('Raw Data'!AJ60,Input_Details!$B$34,Input_Details!$B$32))","v":0},{"$f":"IF(OFFSET('Raw Data'!AK60,Input_Details!$B$34,Input_Details!$B$32)=\"\", \"-\", OFFSET('Raw Data'!AK60,Input_Details!$B$34,Input_Details!$B$32))","v":0},{"$f":"IF(OFFSET('Raw Data'!AL60,Input_Details!$B$34,Input_Details!$B$32)=\"\", \"-\", OFFSET('Raw Data'!AL60,Input_Details!$B$34,Input_Details!$B$32))","v":0},{"$f":"IF(OFFSET('Raw Data'!AM60,Input_Details!$B$34,Input_Details!$B$32)=\"\", \"-\", OFFSET('Raw Data'!AM60,Input_Details!$B$34,Input_Details!$B$32))","v":0},null,{"$f":"IF(D82=\"-\",\"-\",OFFSET('Raw Data'!AN60,Input_Details!$B$34,Input_Details!$B$32))","v":18.197260273972603},{"$f":"IF(OFFSET('Raw Data'!AO60,Input_Details!$B$34,Input_Details!$B$32)=\"\", \"-\", OFFSET('Raw Data'!AO60,Input_Details!$B$34,Input_Details!$B$32))","v":19.064285714285713},{"$f":"IF(OFFSET('Raw Data'!AP60,Input_Details!$B$34,Input_Details!$B$32)=\"\", \"-\", OFFSET('Raw Data'!AP60,Input_Details!$B$34,Input_Details!$B$32))","v":5.3},{"$f":"IF(OFFSET('Raw Data'!AQ60,Input_Details!$B$34,Input_Details!$B$32)=\"\", \"-\", OFFSET('Raw Data'!AQ60,Input_Details!$B$34,Input_Details!$B$32))","v":39.299999999999997},null,{"$f":"IF(Y82=\"-\", \"-\", SUM(OFFSET(D82,0,VLOOKUP(Input_Details!$N$3, $AF$3:$AG$12, 2,0)-1):W82))","v":23},0.3108108108108108]
[null,"14:15:00",null,{"$f":"IF(OFFSET('Raw Data'!T61,Input_Details!$B$34,Input_Details!$B$32)=\"\", \"-\", OFFSET('Raw Data'!T61,Input_Details!$B$34,Input_Details!$B$32))","v":1},{"$f":"IF(OFFSET('Raw Data'!U61,Input_Details!$B$34,Input_Details!$B$32)=\"\", \"-\", OFFSET('Raw Data'!U61,Input_Details!$B$34,Input_Details!$B$32))","v":10},{"$f":"IF(OFFSET('Raw Data'!V61,Input_Details!$B$34,Input_Details!$B$32)=\"\", \"-\", OFFSET('Raw Data'!V61,Input_Details!$B$34,Input_Details!$B$32))","v":32},{"$f":"IF(OFFSET('Raw Data'!W61,Input_Details!$B$34,Input_Details!$B$32)=\"\", \"-\", OFFSET('Raw Data'!W61,Input_Details!$B$34,Input_Details!$B$32))","v":21},{"$f":"IF(OFFSET('Raw Data'!X61,Input_Details!$B$34,Input_Details!$B$32)=\"\", \"-\", OFFSET('Raw Data'!X61,Input_Details!$B$34,Input_Details!$B$32))","v":5},{"$f":"IF(OFFSET('Raw Data'!Y61,Input_Details!$B$34,Input_Details!$B$32)=\"\", \"-\", OFFSET('Raw Data'!Y61,Input_Details!$B$34,Input_Details!$B$32))","v":1},{"$f":"IF(OFFSET('Raw Data'!Z61,Input_Details!$B$34,Input_Details!$B$32)=\"\", \"-\", OFFSET('Raw Data'!Z61,Input_Details!$B$34,Input_Details!$B$32))","v":0},{"$f":"IF(OFFSET('Raw Data'!AA61,Input_Details!$B$34,Input_Details!$B$32)=\"\", \"-\", OFFSET('Raw Data'!AA61,Input_Details!$B$34,Input_Details!$B$32))","v":0},{"$f":"IF(OFFSET('Raw Data'!AB61,Input_Details!$B$34,Input_Details!$B$32)=\"\", \"-\", OFFSET('Raw Data'!AB61,Input_Details!$B$34,Input_Details!$B$32))","v":0},{"$f":"IF(OFFSET('Raw Data'!AC61,Input_Details!$B$34,Input_Details!$B$32)=\"\", \"-\", OFFSET('Raw Data'!AC61,Input_Details!$B$34,Input_Details!$B$32))","v":0},{"$f":"IF(OFFSET('Raw Data'!AD61,Input_Details!$B$34,Input_Details!$B$32)=\"\", \"-\", OFFSET('Raw Data'!AD61,Input_Details!$B$34,Input_Details!$B$32))","v":0},{"$f":"IF(OFFSET('Raw Data'!AE61,Input_Details!$B$34,Input_Details!$B$32)=\"\", \"-\", OFFSET('Raw Data'!AE61,Input_Details!$B$34,Input_Details!$B$32))","v":0},{"$f":"IF(OFFSET('Raw Data'!AF61,Input_Details!$B$34,Input_Details!$B$32)=\"\", \"-\", OFFSET('Raw Data'!AF61,Input_Details!$B$34,Input_Details!$B$32))","v":0},{"$f":"IF(OFFSET('Raw Data'!AG61,Input_Details!$B$34,Input_Details!$B$32)=\"\", \"-\", OFFSET('Raw Data'!AG61,Input_Details!$B$34,Input_Details!$B$32))","v":0},{"$f":"IF(OFFSET('Raw Data'!AH61,Input_Details!$B$34,Input_Details!$B$32)=\"\", \"-\", OFFSET('Raw Data'!AH61,Input_Details!$B$34,Input_Details!$B$32))","v":0},{"$f":"IF(OFFSET('Raw Data'!AI61,Input_Details!$B$34,Input_Details!$B$32)=\"\", \"-\", OFFSET('Raw Data'!AI61,Input_Details!$B$34,Input_Details!$B$32))","v":0},{"$f":"IF(OFFSET('Raw Data'!AJ61,Input_Details!$B$34,Input_Details!$B$32)=\"\", \"-\", OFFSET('Raw Data'!AJ61,Input_Details!$B$34,Input_Details!$B$32))","v":0},{"$f":"IF(OFFSET('Raw Data'!AK61,Input_Details!$B$34,Input_Details!$B$32)=\"\", \"-\", OFFSET('Raw Data'!AK61,Input_Details!$B$34,Input_Details!$B$32))","v":0},{"$f":"IF(OFFSET('Raw Data'!AL61,Input_Details!$B$34,Input_Details!$B$32)=\"\", \"-\", OFFSET('Raw Data'!AL61,Input_Details!$B$34,Input_Details!$B$32))","v":0},{"$f":"IF(OFFSET('Raw Data'!AM61,Input_Details!$B$34,Input_Details!$B$32)=\"\", \"-\", OFFSET('Raw Data'!AM61,Input_Details!$B$34,Input_Details!$B$32))","v":0},null,{"$f":"IF(D83=\"-\",\"-\",OFFSET('Raw Data'!AN61,Input_Details!$B$34,Input_Details!$B$32))","v":18.85383022774327},{"$f":"IF(OFFSET('Raw Data'!AO61,Input_Details!$B$34,Input_Details!$B$32)=\"\", \"-\", OFFSET('Raw Data'!AO61,Input_Details!$B$34,Input_Details!$B$32))","v":22.585714285714285},{"$f":"IF(OFFSET('Raw Data'!AP61,Input_Details!$B$34,Input_Details!$B$32)=\"\", \"-\", OFFSET('Raw Data'!AP61,Input_Details!$B$34,Input_Details!$B$32))","v":7.5},{"$f":"IF(OFFSET('Raw Data'!AQ61,Input_Details!$B$34,Input_Details!$B$32)=\"\", \"-\", OFFSET('Raw Data'!AQ61,Input_Details!$B$34,Input_Details!$B$32))","v":40.1},null,{"$f":"IF(Y83=\"-\", \"-\", SUM(OFFSET(D83,0,VLOOKUP(Input_Details!$N$3, $AF$3:$AG$12, 2,0)-1):W83))","v":27},0.38571428571428573]
[null,"14:30:00",null,{"$f":"IF(OFFSET('Raw Data'!T62,Input_Details!$B$34,Input_Details!$B$32)=\"\", \"-\", OFFSET('Raw Data'!T62,Input_Details!$B$34,Input_Details!$B$32))","v":1},{"$f":"IF(OFFSET('Raw Data'!U62,Input_Details!$B$34,Input_Details!$B$32)=\"\", \"-\", OFFSET('Raw Data'!U62,Input_Details!$B$34,Input_Details!$B$32))","v":8},{"$f":"IF(OFFSET('Raw Data'!V62,Input_Details!$B$34,Input_Details!$B$32)=\"\", \"-\", OFFSET('Raw Data'!V62,Input_Details!$B$34,Input_Details!$B$32))","v":29},{"$f":"IF(OFFSET('Raw Data'!W62,Input_Details!$B$34,Input_Details!$B$32)=\"\", \"-\", OFFSET('Raw Data'!W62,Input_Details!$B$34,Input_Details!$B$32))","v":22},{"$f":"IF(OFFSET('Raw Data'!X62,Input_Details!$B$34,Input_Details!$B$32)=\"\", \"-\", OFFSET('Raw Data'!X62,Input_Details!$B$34,Input_Details!$B$32))","v":8},{"$f":"IF(OFFSET('Raw Data'!Y62,Input_Details!$B$34,Input_Details!$B$32)=\"\", \"-\", OFFSET('Raw Data'!Y62,Input_Details!$B$34,Input_Details!$B$32))","v":2},{"$f":"IF(OFFSET('Raw Data'!Z62,Input_Details!$B$34,Input_Details!$B$32)=\"\", \"-\", OFFSET('Raw Data'!Z62,Input_Details!$B$34,Input_Details!$B$32))","v":0},{"$f":"IF(OFFSET('Raw Data'!AA62,Input_Details!$B$34,Input_Details!$B$32)=\"\", \"-\", OFFSET('Raw Data'!AA62,Input_Details!$B$34,Input_Details!$B$32))","v":0},{"$f":"IF(OFFSET('Raw Data'!AB62,Input_Details!$B$34,Input_Details!$B$32)=\"\", \"-\", OFFSET('Raw Data'!AB62,Input_Details!$B$34,Input_Details!$B$32))","v":0},{"$f":"IF(OFFSET('Raw Data'!AC62,Input_Details!$B$34,Input_Details!$B$32)=\"\", \"-\", OFFSET('Raw Data'!AC62,Input_Details!$B$34,Input_Details!$B$32))","v":0},{"$f":"IF(OFFSET('Raw Data'!AD62,Input_Details!$B$34,Input_Details!$B$32)=\"\", \"-\", OFFSET('Raw Data'!AD62,Input_Details!$B$34,Input_Details!$B$32))","v":0},{"$f":"IF(OFFSET('Raw Data'!AE62,Input_Details!$B$34,Input_Details!$B$32)=\"\", \"-\", OFFSET('Raw Data'!AE62,Input_Details!$B$34,Input_Details!$B$32))","v":0},{"$f":"IF(OFFSET('Raw Data'!AF62,Input_Details!$B$34,Input_Details!$B$32)=\"\", \"-\", OFFSET('Raw Data'!AF62,Input_Details!$B$34,Input_Details!$B$32))","v":0},{"$f":"IF(OFFSET('Raw Data'!AG62,Input_Details!$B$34,Input_Details!$B$32)=\"\", \"-\", OFFSET('Raw Data'!AG62,Input_Details!$B$34,Input_Details!$B$32))","v":0},{"$f":"IF(OFFSET('Raw Data'!AH62,Input_Details!$B$34,Input_Details!$B$32)=\"\", \"-\", OFFSET('Raw Data'!AH62,Input_Details!$B$34,Input_Details!$B$32))","v":0},{"$f":"IF(OFFSET('Raw Data'!AI62,Input_Details!$B$34,Input_Details!$B$32)=\"\", \"-\", OFFSET('Raw Data'!AI62,Input_Details!$B$34,Input_Details!$B$32))","v":0},{"$f":"IF(OFFSET('Raw Data'!AJ62,Input_Details!$B$34,Input_Details!$B$32)=\"\", \"-\", OFFSET('Raw Data'!AJ62,Input_Details!$B$34,Input_Details!$B$32))","v":0},{"$f":"IF(OFFSET('Raw Data'!AK62,Input_Details!$B$34,Input_Details!$B$32)=\"\", \"-\", OFFSET('Raw Data'!AK62,Input_Details!$B$34,Input_Details!$B$32))","v":0},{"$f":"IF(OFFSET('Raw Data'!AL62,Input_Details!$B$34,Input_Details!$B$32)=\"\", \"-\", OFFSET('Raw Data'!AL62,Input_Details!$B$34,Input_Details!$B$32))","v":0},{"$f":"IF(OFFSET('Raw Data'!AM62,Input_Details!$B$34,Input_Details!$B$32)=\"\", \"-\", OFFSET('Raw Data'!AM62,Input_Details!$B$34,Input_Details!$B$32))","v":0},null,{"$f":"IF(D84=\"-\",\"-\",OFFSET('Raw Data'!AN62,Input_Details!$B$34,Input_Details!$B$32))","v":19.807042253521125},{"$f":"IF(OFFSET('Raw Data'!AO62,Input_Details!$B$34,Input_Details!$B$32)=\"\", \"-\", OFFSET('Raw Data'!AO62,Input_Details!$B$34,Input_Details!$B$32))","v":20.057142857142857},{"$f":"IF(OFFSET('Raw Data'!AP62,Input_Details!$B$34,Input_Details!$B$32)=\"\", \"-\", OFFSET('Raw Data'!AP62,Input_Details!$B$34,Input_Details!$B$32))","v":7.3},{"$f":"IF(OFFSET('Raw Data'!AQ62,Input_Details!$B$34,Input_Details!$B$32)=\"\", \"-\", OFFSET('Raw Data'!AQ62,Input_Details!$B$34,Input_Details!$B$32))","v":39.700000000000003},null,{"$f":"IF(Y84=\"-\", \"-\", SUM(OFFSET(D84,0,VLOOKUP(Input_Details!$N$3, $AF$3:$AG$12, 2,0)-1):W84))","v":32},0.45714285714285713]
[null,"14:45:00",null,{"$f":"IF(OFFSET('Raw Data'!T63,Input_Details!$B$34,Input_Details!$B$32)=\"\", \"-\", OFFSET('Raw Data'!T63,Input_Details!$B$34,Input_Details!$B$32))","v":1},{"$f":"IF(OFFSET('Raw Data'!U63,Input_Details!$B$34,Input_Details!$B$32)=\"\", \"-\", OFFSET('Raw Data'!U63,Input_Details!$B$34,Input_Details!$B$32))","v":12},{"$f":"IF(OFFSET('Raw Data'!V63,Input_Details!$B$34,Input_Details!$B$32)=\"\", \"-\", OFFSET('Raw Data'!V63,Input_Details!$B$34,Input_Details!$B$32))","v":37},{"$f":"IF(OFFSET('Raw Data'!W63,Input_Details!$B$34,Input_Details!$B$32)=\"\", \"-\", OFFSET('Raw Data'!W63,Input_Details!$B$34,Input_Details!$B$32))","v":20},{"$f":"IF(OFFSET('Raw Data'!X63,Input_Details!$B$34,Input_Details!$B$32)=\"\", \"-\", OFFSET('Raw Data'!X63,Input_Details!$B$34,Input_Details!$B$32))","v":5},{"$f":"IF(OFFSET('Raw Data'!Y63,Input_Details!$B$34,Input_Details!$B$32)=\"\", \"-\", OFFSET('Raw Data'!Y63,Input_Details!$B$34,Input_Details!$B$32))","v":1},{"$f":"IF(OFFSET('Raw Data'!Z63,Input_Details!$B$34,Input_Details!$B$32)=\"\", \"-\", OFFSET('Raw Data'!Z63,Input_Details!$B$34,Input_Details!$B$32))","v":0},{"$f":"IF(OFFSET('Raw Data'!AA63,Input_Details!$B$34,Input_Details!$B$32)=\"\", \"-\", OFFSET('Raw Data'!AA63,Input_Details!$B$34,Input_Details!$B$32))","v":0},{"$f":"IF(OFFSET('Raw Data'!AB63,Input_Details!$B$34,Input_Details!$B$32)=\"\", \"-\", OFFSET('Raw Data'!AB63,Input_Details!$B$34,Input_Details!$B$32))","v":0},{"$f":"IF(OFFSET('Raw Data'!AC63,Input_Details!$B$34,Input_Details!$B$32)=\"\", \"-\", OFFSET('Raw Data'!AC63,Input_Details!$B$34,Input_Details!$B$32))","v":0},{"$f":"IF(OFFSET('Raw Data'!AD63,Input_Details!$B$34,Input_Details!$B$32)=\"\", \"-\", OFFSET('Raw Data'!AD63,Input_Details!$B$34,Input_Details!$B$32))","v":0},{"$f":"IF(OFFSET('Raw Data'!AE63,Input_Details!$B$34,Input_Details!$B$32)=\"\", \"-\", OFFSET('Raw Data'!AE63,Input_Details!$B$34,Input_Details!$B$32))","v":0},{"$f":"IF(OFFSET('Raw Data'!AF63,Input_Details!$B$34,Input_Details!$B$32)=\"\", \"-\", OFFSET('Raw Data'!AF63,Input_Details!$B$34,Input_Details!$B$32))","v":0},{"$f":"IF(OFFSET('Raw Data'!AG63,Input_Details!$B$34,Input_Details!$B$32)=\"\", \"-\", OFFSET('Raw Data'!AG63,Input_Details!$B$34,Input_Details!$B$32))","v":0},{"$f":"IF(OFFSET('Raw Data'!AH63,Input_Details!$B$34,Input_Details!$B$32)=\"\", \"-\", OFFSET('Raw Data'!AH63,Input_Details!$B$34,Input_Details!$B$32))","v":0},{"$f":"IF(OFFSET('Raw Data'!AI63,Input_Details!$B$34,Input_Details!$B$32)=\"\", \"-\", OFFSET('Raw Data'!AI63,Input_Details!$B$34,Input_Details!$B$32))","v":0},{"$f":"IF(OFFSET('Raw Data'!AJ63,Input_Details!$B$34,Input_Details!$B$32)=\"\", \"-\", OFFSET('Raw Data'!AJ63,Input_Details!$B$34,Input_Details!$B$32))","v":0},{"$f":"IF(OFFSET('Raw Data'!AK63,Input_Details!$B$34,Input_Details!$B$32)=\"\", \"-\", OFFSET('Raw Data'!AK63,Input_Details!$B$34,Input_Details!$B$32))","v":0},{"$f":"IF(OFFSET('Raw Data'!AL63,Input_Details!$B$34,Input_Details!$B$32)=\"\", \"-\", OFFSET('Raw Data'!AL63,Input_Details!$B$34,Input_Details!$B$32))","v":0},{"$f":"IF(OFFSET('Raw Data'!AM63,Input_Details!$B$34,Input_Details!$B$32)=\"\", \"-\", OFFSET('Raw Data'!AM63,Input_Details!$B$34,Input_Details!$B$32))","v":0},null,{"$f":"IF(D85=\"-\",\"-\",OFFSET('Raw Data'!AN63,Input_Details!$B$34,Input_Details!$B$32))","v":18.589849624060154},{"$f":"IF(OFFSET('Raw Data'!AO63,Input_Details!$B$34,Input_Details!$B$32)=\"\", \"-\", OFFSET('Raw Data'!AO63,Input_Details!$B$34,Input_Details!$B$32))","v":19.235714285714288},{"$f":"IF(OFFSET('Raw Data'!AP63,Input_Details!$B$34,Input_Details!$B$32)=\"\", \"-\", OFFSET('Raw Data'!AP63,Input_Details!$B$34,Input_Details!$B$32))","v":6.8},{"$f":"IF(OFFSET('Raw Data'!AQ63,Input_Details!$B$34,Input_Details!$B$32)=\"\", \"-\", OFFSET('Raw Data'!AQ63,Input_Details!$B$34,Input_Details!$B$32))","v":38.799999999999997},null,{"$f":"IF(Y85=\"-\", \"-\", SUM(OFFSET(D85,0,VLOOKUP(Input_Details!$N$3, $AF$3:$AG$12, 2,0)-1):W85))","v":26},0.34210526315789475]
[null,"15:00:00",null,{"$f":"IF(OFFSET('Raw Data'!T64,Input_Details!$B$34,Input_Details!$B$32)=\"\", \"-\", OFFSET('Raw Data'!T64,Input_Details!$B$34,Input_Details!$B$32))","v":1},{"$f":"IF(OFFSET('Raw Data'!U64,Input_Details!$B$34,Input_Details!$B$32)=\"\", \"-\", OFFSET('Raw Data'!U64,Input_Details!$B$34,Input_Details!$B$32))","v":12},{"$f":"IF(OFFSET('Raw Data'!V64,Input_Details!$B$34,Input_Details!$B$32)=\"\", \"-\", OFFSET('Raw Data'!V64,Input_Details!$B$34,Input_Details!$B$32))","v":36},{"$f":"IF(OFFSET('Raw Data'!W64,Input_Details!$B$34,Input_Details!$B$32)=\"\", \"-\", OFFSET('Raw Data'!W64,Input_Details!$B$34,Input_Details!$B$32))","v":20},{"$f":"IF(OFFSET('Raw Data'!X64,Input_Details!$B$34,Input_Details!$B$32)=\"\", \"-\", OFFSET('Raw Data'!X64,Input_Details!$B$34,Input_Details!$B$32))","v":5},{"$f":"IF(OFFSET('Raw Data'!Y64,Input_Details!$B$34,Input_Details!$B$32)=\"\", \"-\", OFFSET('Raw Data'!Y64,Input_Details!$B$34,Input_Details!$B$32))","v":1},{"$f":"IF(OFFSET('Raw Data'!Z64,Input_Details!$B$34,Input_Details!$B$32)=\"\", \"-\", OFFSET('Raw Data'!Z64,Input_Details!$B$34,Input_Details!$B$32))","v":0},{"$f":"IF(OFFSET('Raw Data'!AA64,Input_Details!$B$34,Input_Details!$B$32)=\"\", \"-\", OFFSET('Raw Data'!AA64,Input_Details!$B$34,Input_Details!$B$32))","v":0},{"$f":"IF(OFFSET('Raw Data'!AB64,Input_Details!$B$34,Input_Details!$B$32)=\"\", \"-\", OFFSET('Raw Data'!AB64,Input_Details!$B$34,Input_Details!$B$32))","v":0},{"$f":"IF(OFFSET('Raw Data'!AC64,Input_Details!$B$34,Input_Details!$B$32)=\"\", \"-\", OFFSET('Raw Data'!AC64,Input_Details!$B$34,Input_Details!$B$32))","v":0},{"$f":"IF(OFFSET('Raw Data'!AD64,Input_Details!$B$34,Input_Details!$B$32)=\"\", \"-\", OFFSET('Raw Data'!AD64,Input_Details!$B$34,Input_Details!$B$32))","v":0},{"$f":"IF(OFFSET('Raw Data'!AE64,Input_Details!$B$34,Input_Details!$B$32)=\"\", \"-\", OFFSET('Raw Data'!AE64,Input_Details!$B$34,Input_Details!$B$32))","v":0},{"$f":"IF(OFFSET('Raw Data'!AF64,Input_Details!$B$34,Input_Details!$B$32)=\"\", \"-\", OFFSET('Raw Data'!AF64,Input_Details!$B$34,Input_Details!$B$32))","v":0},{"$f":"IF(OFFSET('Raw Data'!AG64,Input_Details!$B$34,Input_Details!$B$32)=\"\", \"-\", OFFSET('Raw Data'!AG64,Input_Details!$B$34,Input_Details!$B$32))","v":0},{"$f":"IF(OFFSET('Raw Data'!AH64,Input_Details!$B$34,Input_Details!$B$32)=\"\", \"-\", OFFSET('Raw Data'!AH64,Input_Details!$B$34,Input_Details!$B$32))","v":0},{"$f":"IF(OFFSET('Raw Data'!AI64,Input_Details!$B$34,Input_Details!$B$32)=\"\", \"-\", OFFSET('Raw Data'!AI64,Input_Details!$B$34,Input_Details!$B$32))","v":0},{"$f":"IF(OFFSET('Raw Data'!AJ64,Input_Details!$B$34,Input_Details!$B$32)=\"\", \"-\", OFFSET('Raw Data'!AJ64,Input_Details!$B$34,Input_Details!$B$32))","v":0},{"$f":"IF(OFFSET('Raw Data'!AK64,Input_Details!$B$34,Input_Details!$B$32)=\"\", \"-\", OFFSET('Raw Data'!AK64,Input_Details!$B$34,Input_Details!$B$32))","v":0},{"$f":"IF(OFFSET('Raw Data'!AL64,Input_Details!$B$34,Input_Details!$B$32)=\"\", \"-\", OFFSET('Raw Data'!AL64,Input_Details!$B$34,Input_Details!$B$32))","v":0},{"$f":"IF(OFFSET('Raw Data'!AM64,Input_Details!$B$34,Input_Details!$B$32)=\"\", \"-\", OFFSET('Raw Data'!AM64,Input_Details!$B$34,Input_Details!$B$32))","v":0},null,{"$f":"IF(D86=\"-\",\"-\",OFFSET('Raw Data'!AN64,Input_Details!$B$34,Input_Details!$B$32))","v":18.945142857142859},{"$f":"IF(OFFSET('Raw Data'!AO64,Input_Details!$B$34,Input_Details!$B$32)=\"\", \"-\", OFFSET('Raw Data'!AO64,Input_Details!$B$34,Input_Details!$B$32))","v":19.942857142857143},{"$f":"IF(OFFSET('Raw Data'!AP64,Input_Details!$B$34,Input_Details!$B$32)=\"\", \"-\", OFFSET('Raw Data'!AP64,Input_Details!$B$34,Input_Details!$B$32))","v":3.9},{"$f":"IF(OFFSET('Raw Data'!AQ64,Input_Details!$B$34,Input_Details!$B$32)=\"\", \"-\", OFFSET('Raw Data'!AQ64,Input_Details!$B$34,Input_Details!$B$32))","v":34.4},null,{"$f":"IF(Y86=\"-\", \"-\", SUM(OFFSET(D86,0,VLOOKUP(Input_Details!$N$3, $AF$3:$AG$12, 2,0)-1):W86))","v":26},0.34666666666666668]
[null,"15:15:00",null,{"$f":"IF(OFFSET('Raw Data'!T65,Input_Details!$B$34,Input_Details!$B$32)=\"\", \"-\", OFFSET('Raw Data'!T65,Input_Details!$B$34,Input_Details!$B$32))","v":1},{"$f":"IF(OFFSET('Raw Data'!U65,Input_Details!$B$34,Input_Details!$B$32)=\"\", \"-\", OFFSET('Raw Data'!U65,Input_Details!$B$34,Input_Details!$B$32))","v":14},{"$f":"IF(OFFSET('Raw Data'!V65,Input_Details!$B$34,Input_Details!$B$32)=\"\", \"-\", OFFSET('Raw Data'!V65,Input_Details!$B$34,Input_Details!$B$32))","v":34},{"$f":"IF(OFFSET('Raw Data'!W65,Input_Details!$B$34,Input_Details!$B$32)=\"\", \"-\", OFFSET('Raw Data'!W65,Input_Details!$B$34,Input_Details!$B$32))","v":19},{"$f":"IF(OFFSET('Raw Data'!X65,Input_Details!$B$34,Input_Details!$B$32)=\"\", \"-\", OFFSET('Raw Data'!X65,Input_Details!$B$34,Input_Details!$B$32))","v":4},{"$f":"IF(OFFSET('Raw Data'!Y65,Input_Details!$B$34,Input_Details!$B$32)=\"\", \"-\", OFFSET('Raw Data'!Y65,Input_Details!$B$34,Input_Details!$B$32))","v":1},{"$f":"IF(OFFSET('Raw Data'!Z65,Input_Details!$B$34,Input_Details!$B$32)=\"\", \"-\", OFFSET('Raw Data'!Z65,Input_Details!$B$34,Input_Details!$B$32))","v":0},{"$f":"IF(OFFSET('Raw Data'!AA65,Input_Details!$B$34,Input_Details!$B$32)=\"\", \"-\", OFFSET('Raw Data'!AA65,Input_Details!$B$34,Input_Details!$B$32))","v":0},{"$f":"IF(OFFSET('Raw Data'!AB65,Input_Details!$B$34,Input_Details!$B$32)=\"\", \"-\", OFFSET('Raw Data'!AB65,Input_Details!$B$34,Input_Details!$B$32))","v":0},{"$f":"IF(OFFSET('Raw Data'!AC65,Input_Details!$B$34,Input_Details!$B$32)=\"\", \"-\", OFFSET('Raw Data'!AC65,Input_Details!$B$34,Input_Details!$B$32))","v":0},{"$f":"IF(OFFSET('Raw Data'!AD65,Input_Details!$B$34,Input_Details!$B$32)=\"\", \"-\", OFFSET('Raw Data'!AD65,Input_Details!$B$34,Input_Details!$B$32))","v":0},{"$f":"IF(OFFSET('Raw Data'!AE65,Input_Details!$B$34,Input_Details!$B$32)=\"\", \"-\", OFFSET('Raw Data'!AE65,Input_Details!$B$34,Input_Details!$B$32))","v":0},{"$f":"IF(OFFSET('Raw Data'!AF65,Input_Details!$B$34,Input_Details!$B$32)=\"\", \"-\", OFFSET('Raw Data'!AF65,Input_Details!$B$34,Input_Details!$B$32))","v":0},{"$f":"IF(OFFSET('Raw Data'!AG65,Input_Details!$B$34,Input_Details!$B$32)=\"\", \"-\", OFFSET('Raw Data'!AG65,Input_Details!$B$34,Input_Details!$B$32))","v":0},{"$f":"IF(OFFSET('Raw Data'!AH65,Input_Details!$B$34,Input_Details!$B$32)=\"\", \"-\", OFFSET('Raw Data'!AH65,Input_Details!$B$34,Input_Details!$B$32))","v":0},{"$f":"IF(OFFSET('Raw Data'!AI65,Input_Details!$B$34,Input_Details!$B$32)=\"\", \"-\", OFFSET('Raw Data'!AI65,Input_Details!$B$34,Input_Details!$B$32))","v":0},{"$f":"IF(OFFSET('Raw Data'!AJ65,Input_Details!$B$34,Input_Details!$B$32)=\"\", \"-\", OFFSET('Raw Data'!AJ65,Input_Details!$B$34,Input_Details!$B$32))","v":0},{"$f":"IF(OFFSET('Raw Data'!AK65,Input_Details!$B$34,Input_Details!$B$32)=\"\", \"-\", OFFSET('Raw Data'!AK65,Input_Details!$B$34,Input_Details!$B$32))","v":0},{"$f":"IF(OFFSET('Raw Data'!AL65,Input_Details!$B$34,Input_Details!$B$32)=\"\", \"-\", OFFSET('Raw Data'!AL65,Input_Details!$B$34,Input_Details!$B$32))","v":0},{"$f":"IF(OFFSET('Raw Data'!AM65,Input_Details!$B$34,Input_Details!$B$32)=\"\", \"-\", OFFSET('Raw Data'!AM65,Input_Details!$B$34,Input_Details!$B$32))","v":0},null,{"$f":"IF(D87=\"-\",\"-\",OFFSET('Raw Data'!AN65,Input_Details!$B$34,Input_Details!$B$32))","v":18.603174603174601},{"$f":"IF(OFFSET('Raw Data'!AO65,Input_Details!$B$34,Input_Details!$B$32)=\"\", \"-\", OFFSET('Raw Data'!AO65,Input_Details!$B$34,Input_Details!$B$32))","v":20.635714285714286},{"$f":"IF(OFFSET('Raw Data'!AP65,Input_Details!$B$34,Input_Details!$B$32)=\"\", \"-\", OFFSET('Raw Data'!AP65,Input_Details!$B$34,Input_Details!$B$32))","v":6.3},{"$f":"IF(OFFSET('Raw Data'!AQ65,Input_Details!$B$34,Input_Details!$B$32)=\"\", \"-\", OFFSET('Raw Data'!AQ65,Input_Details!$B$34,Input_Details!$B$32))","v":38.700000000000003},null,{"$f":"IF(Y87=\"-\", \"-\", SUM(OFFSET(D87,0,VLOOKUP(Input_Details!$N$3, $AF$3:$AG$12, 2,0)-1):W87))","v":24},0.32876712328767121]
[null,"15:30:00",null,{"$f":"IF(OFFSET('Raw Data'!T66,Input_Details!$B$34,Input_Details!$B$32)=\"\", \"-\", OFFSET('Raw Data'!T66,Input_Details!$B$34,Input_Details!$B$32))","v":1},{"$f":"IF(OFFSET('Raw Data'!U66,Input_Details!$B$34,Input_Details!$B$32)=\"\", \"-\", OFFSET('Raw Data'!U66,Input_Details!$B$34,Input_Details!$B$32))","v":19},{"$f":"IF(OFFSET('Raw Data'!V66,Input_Details!$B$34,Input_Details!$B$32)=\"\", \"-\", OFFSET('Raw Data'!V66,Input_Details!$B$34,Input_Details!$B$32))","v":37},{"$f":"IF(OFFSET('Raw Data'!W66,Input_Details!$B$34,Input_Details!$B$32)=\"\", \"-\", OFFSET('Raw Data'!W66,Input_Details!$B$34,Input_Details!$B$32))","v":16},{"$f":"IF(OFFSET('Raw Data'!X66,Input_Details!$B$34,Input_Details!$B$32)=\"\", \"-\", OFFSET('Raw Data'!X66,Input_Details!$B$34,Input_Details!$B$32))","v":2},{"$f":"IF(OFFSET('Raw Data'!Y66,Input_Details!$B$34,Input_Details!$B$32)=\"\", \"-\", OFFSET('Raw Data'!Y66,Input_Details!$B$34,Input_Details!$B$32))","v":0},{"$f":"IF(OFFSET('Raw Data'!Z66,Input_Details!$B$34,Input_Details!$B$32)=\"\", \"-\", OFFSET('Raw Data'!Z66,Input_Details!$B$34,Input_Details!$B$32))","v":0},{"$f":"IF(OFFSET('Raw Data'!AA66,Input_Details!$B$34,Input_Details!$B$32)=\"\", \"-\", OFFSET('Raw Data'!AA66,Input_Details!$B$34,Input_Details!$B$32))","v":0},{"$f":"IF(OFFSET('Raw Data'!AB66,Input_Details!$B$34,Input_Details!$B$32)=\"\", \"-\", OFFSET('Raw Data'!AB66,Input_Details!$B$34,Input_Details!$B$32))","v":0},{"$f":"IF(OFFSET('Raw Data'!AC66,Input_Details!$B$34,Input_Details!$B$32)=\"\", \"-\", OFFSET('Raw Data'!AC66,Input_Details!$B$34,Input_Details!$B$32))","v":0},{"$f":"IF(OFFSET('Raw Data'!AD66,Input_Details!$B$34,Input_Details!$B$32)=\"\", \"-\", OFFSET('Raw Data'!AD66,Input_Details!$B$34,Input_Details!$B$32))","v":0},{"$f":"IF(OFFSET('Raw Data'!AE66,Input_Details!$B$34,Input_Details!$B$32)=\"\", \"-\", OFFSET('Raw Data'!AE66,Input_Details!$B$34,Input_Details!$B$32))","v":0},{"$f":"IF(OFFSET('Raw Data'!AF66,Input_Details!$B$34,Input_Details!$B$32)=\"\", \"-\", OFFSET('Raw Data'!AF66,Input_Details!$B$34,Input_Details!$B$32))","v":0},{"$f":"IF(OFFSET('Raw Data'!AG66,Input_Details!$B$34,Input_Details!$B$32)=\"\", \"-\", OFFSET('Raw Data'!AG66,Input_Details!$B$34,Input_Details!$B$32))","v":0},{"$f":"IF(OFFSET('Raw Data'!AH66,Input_Details!$B$34,Input_Details!$B$32)=\"\", \"-\", OFFSET('Raw Data'!AH66,Input_Details!$B$34,Input_Details!$B$32))","v":0},{"$f":"IF(OFFSET('Raw Data'!AI66,Input_Details!$B$34,Input_Details!$B$32)=\"\", \"-\", OFFSET('Raw Data'!AI66,Input_Details!$B$34,Input_Details!$B$32))","v":0},{"$f":"IF(OFFSET('Raw Data'!AJ66,Input_Details!$B$34,Input_Details!$B$32)=\"\", \"-\", OFFSET('Raw Data'!AJ66,Input_Details!$B$34,Input_Details!$B$32))","v":0},{"$f":"IF(OFFSET('Raw Data'!AK66,Input_Details!$B$34,Input_Details!$B$32)=\"\", \"-\", OFFSET('Raw Data'!AK66,Input_Details!$B$34,Input_Details!$B$32))","v":0},{"$f":"IF(OFFSET('Raw Data'!AL66,Input_Details!$B$34,Input_Details!$B$32)=\"\", \"-\", OFFSET('Raw Data'!AL66,Input_Details!$B$34,Input_Details!$B$32))","v":0},{"$f":"IF(OFFSET('Raw Data'!AM66,Input_Details!$B$34,Input_Details!$B$32)=\"\", \"-\", OFFSET('Raw Data'!AM66,Input_Details!$B$34,Input_Details!$B$32))","v":0},null,{"$f":"IF(D88=\"-\",\"-\",OFFSET('Raw Data'!AN66,Input_Details!$B$34,Input_Details!$B$32))","v":17.317142857142855},{"$f":"IF(OFFSET('Raw Data'!AO66,Input_Details!$B$34,Input_Details!$B$32)=\"\", \"-\", OFFSET('Raw Data'!AO66,Input_Details!$B$34,Input_Details!$B$32))","v":19.504761904761907},{"$f":"IF(OFFSET('Raw Data'!AP66,Input_Details!$B$34,Input_Details!$B$32)=\"\", \"-\", OFFSET('Raw Data'!AP66,Input_Details!$B$34,Input_Details!$B$32))","v":7.1},{"$f":"IF(OFFSET('Raw Data'!AQ66,Input_Details!$B$34,Input_Details!$B$32)=\"\", \"-\", OFFSET('Raw Data'!AQ66,Input_Details!$B$34,Input_Details!$B$32))","v":31.8},null,{"$f":"IF(Y88=\"-\", \"-\", SUM(OFFSET(D88,0,VLOOKUP(Input_Details!$N$3, $AF$3:$AG$12, 2,0)-1):W88))","v":18},0.24]
[null,"15:45:00",null,{"$f":"IF(OFFSET('Raw Data'!T67,Input_Details!$B$34,Input_Details!$B$32)=\"\", \"-\", OFFSET('Raw Data'!T67,Input_Details!$B$34,Input_Details!$B$32))","v":2},{"$f":"IF(OFFSET('Raw Data'!U67,Input_Details!$B$34,Input_Details!$B$32)=\"\", \"-\", OFFSET('Raw Data'!U67,Input_Details!$B$34,Input_Details!$B$32))","v":12},{"$f":"IF(OFFSET('Raw Data'!V67,Input_Details!$B$34,Input_Details!$B$32)=\"\", \"-\", OFFSET('Raw Data'!V67,Input_Details!$B$34,Input_Details!$B$32))","v":36},{"$f":"IF(OFFSET('Raw Data'!W67,Input_Details!$B$34,Input_Details!$B$32)=\"\", \"-\", OFFSET('Raw Data'!W67,Input_Details!$B$34,Input_Details!$B$32))","v":24},{"$f":"IF(OFFSET('Raw Data'!X67,Input_Details!$B$34,Input_Details!$B$32)=\"\", \"-\", OFFSET('Raw Data'!X67,Input_Details!$B$34,Input_Details!$B$32))","v":6},{"$f":"IF(OFFSET('Raw Data'!Y67,Input_Details!$B$34,Input_Details!$B$32)=\"\", \"-\", OFFSET('Raw Data'!Y67,Input_Details!$B$34,Input_Details!$B$32))","v":1},{"$f":"IF(OFFSET('Raw Data'!Z67,Input_Details!$B$34,Input_Details!$B$32)=\"\", \"-\", OFFSET('Raw Data'!Z67,Input_Details!$B$34,Input_Details!$B$32))","v":0},{"$f":"IF(OFFSET('Raw Data'!AA67,Input_Details!$B$34,Input_Details!$B$32)=\"\", \"-\", OFFSET('Raw Data'!AA67,Input_Details!$B$34,Input_Details!$B$32))","v":0},{"$f":"IF(OFFSET('Raw Data'!AB67,Input_Details!$B$34,Input_Details!$B$32)=\"\", \"-\", OFFSET('Raw Data'!AB67,Input_Details!$B$34,Input_Details!$B$32))","v":0},{"$f":"IF(OFFSET('Raw Data'!AC67,Input_Details!$B$34,Input_Details!$B$32)=\"\", \"-\", OFFSET('Raw Data'!AC67,Input_Details!$B$34,Input_Details!$B$32))","v":0},{"$f":"IF(OFFSET('Raw Data'!AD67,Input_Details!$B$34,Input_Details!$B$32)=\"\", \"-\", OFFSET('Raw Data'!AD67,Input_Details!$B$34,Input_Details!$B$32))","v":0},{"$f":"IF(OFFSET('Raw Data'!AE67,Input_Details!$B$34,Input_Details!$B$32)=\"\", \"-\", OFFSET('Raw Data'!AE67,Input_Details!$B$34,Input_Details!$B$32))","v":0},{"$f":"IF(OFFSET('Raw Data'!AF67,Input_Details!$B$34,Input_Details!$B$32)=\"\", \"-\", OFFSET('Raw Data'!AF67,Input_Details!$B$34,Input_Details!$B$32))","v":0},{"$f":"IF(OFFSET('Raw Data'!AG67,Input_Details!$B$34,Input_Details!$B$32)=\"\", \"-\", OFFSET('Raw Data'!AG67,Input_Details!$B$34,Input_Details!$B$32))","v":0},{"$f":"IF(OFFSET('Raw Data'!AH67,Input_Details!$B$34,Input_Details!$B$32)=\"\", \"-\", OFFSET('Raw Data'!AH67,Input_Details!$B$34,Input_Details!$B$32))","v":0},{"$f":"IF(OFFSET('Raw Data'!AI67,Input_Details!$B$34,Input_Details!$B$32)=\"\", \"-\", OFFSET('Raw Data'!AI67,Input_Details!$B$34,Input_Details!$B$32))","v":0},{"$f":"IF(OFFSET('Raw Data'!AJ67,Input_Details!$B$34,Input_Details!$B$32)=\"\", \"-\", OFFSET('Raw Data'!AJ67,Input_Details!$B$34,Input_Details!$B$32))","v":0},{"$f":"IF(OFFSET('Raw Data'!AK67,Input_Details!$B$34,Input_Details!$B$32)=\"\", \"-\", OFFSET('Raw Data'!AK67,Input_Details!$B$34,Input_Details!$B$32))","v":0},{"$f":"IF(OFFSET('Raw Data'!AL67,Input_Details!$B$34,Input_Details!$B$32)=\"\", \"-\", OFFSET('Raw Data'!AL67,Input_Details!$B$34,Input_Details!$B$32))","v":0},{"$f":"IF(OFFSET('Raw Data'!AM67,Input_Details!$B$34,Input_Details!$B$32)=\"\", \"-\", OFFSET('Raw Data'!AM67,Input_Details!$B$34,Input_Details!$B$32))","v":0},null,{"$f":"IF(D89=\"-\",\"-\",OFFSET('Raw Data'!AN67,Input_Details!$B$34,Input_Details!$B$32))","v":18.818214285714287},{"$f":"IF(OFFSET('Raw Data'!AO67,Input_Details!$B$34,Input_Details!$B$32)=\"\", \"-\", OFFSET('Raw Data'!AO67,Input_Details!$B$34,Input_Details!$B$32))","v":19.164285714285711},{"$f":"IF(OFFSET('Raw Data'!AP67,Input_Details!$B$34,Input_Details!$B$32)=\"\", \"-\", OFFSET('Raw Data'!AP67,Input_Details!$B$34,Input_Details!$B$32))","v":7.1},{"$f":"IF(OFFSET('Raw Data'!AQ67,Input_Details!$B$34,Input_Details!$B$32)=\"\", \"-\", OFFSET('Raw Data'!AQ67,Input_Details!$B$34,Input_Details!$B$32))","v":33.799999999999997},null,{"$f":"IF(Y89=\"-\", \"-\", SUM(OFFSET(D89,0,VLOOKUP(Input_Details!$N$3, $AF$3:$AG$12, 2,0)-1):W89))","v":31},0.38271604938271603]
[null,"16:00:00",null,{"$f":"IF(OFFSET('Raw Data'!T68,Input_Details!$B$34,Input_Details!$B$32)=\"\", \"-\", OFFSET('Raw Data'!T68,Input_Details!$B$34,Input_Details!$B$32))","v":2},{"$f":"IF(OFFSET('Raw Data'!U68,Input_Details!$B$34,Input_Details!$B$32)=\"\", \"-\", OFFSET('Raw Data'!U68,Input_Details!$B$34,Input_Details!$B$32))","v":11},{"$f":"IF(OFFSET('Raw Data'!V68,Input_Details!$B$34,Input_Details!$B$32)=\"\", \"-\", OFFSET('Raw Data'!V68,Input_Details!$B$34,Input_Details!$B$32))","v":30},{"$f":"IF(OFFSET('Raw Data'!W68,Input_Details!$B$34,Input_Details!$B$32)=\"\", \"-\", OFFSET('Raw Data'!W68,Input_Details!$B$34,Input_Details!$B$32))","v":28},{"$f":"IF(OFFSET('Raw Data'!X68,Input_Details!$B$34,Input_Details!$B$32)=\"\", \"-\", OFFSET('Raw Data'!X68,Input_Details!$B$34,Input_Details!$B$32))","v":8},{"$f":"IF(OFFSET('Raw Data'!Y68,Input_Details!$B$34,Input_Details!$B$32)=\"\", \"-\", OFFSET('Raw Data'!Y68,Input_Details!$B$34,Input_Details!$B$32))","v":2},{"$f":"IF(OFFSET('Raw Data'!Z68,Input_Details!$B$34,Input_Details!$B$32)=\"\", \"-\", OFFSET('Raw Data'!Z68,Input_Details!$B$34,Input_Details!$B$32))","v":1},{"$f":"IF(OFFSET('Raw Data'!AA68,Input_Details!$B$34,Input_Details!$B$32)=\"\", \"-\", OFFSET('Raw Data'!AA68,Input_Details!$B$34,Input_Details!$B$32))","v":0},{"$f":"IF(OFFSET('Raw Data'!AB68,Input_Details!$B$34,Input_Details!$B$32)=\"\", \"-\", OFFSET('Raw Data'!AB68,Input_Details!$B$34,Input_Details!$B$32))","v":0},{"$f":"IF(OFFSET('Raw Data'!AC68,Input_Details!$B$34,Input_Details!$B$32)=\"\", \"-\", OFFSET('Raw Data'!AC68,Input_Details!$B$34,Input_Details!$B$32))","v":0},{"$f":"IF(OFFSET('Raw Data'!AD68,Input_Details!$B$34,Input_Details!$B$32)=\"\", \"-\", OFFSET('Raw Data'!AD68,Input_Details!$B$34,Input_Details!$B$32))","v":0},{"$f":"IF(OFFSET('Raw Data'!AE68,Input_Details!$B$34,Input_Details!$B$32)=\"\", \"-\", OFFSET('Raw Data'!AE68,Input_Details!$B$34,Input_Details!$B$32))","v":0},{"$f":"IF(OFFSET('Raw Data'!AF68,Input_Details!$B$34,Input_Details!$B$32)=\"\", \"-\", OFFSET('Raw Data'!AF68,Input_Details!$B$34,Input_Details!$B$32))","v":0},{"$f":"IF(OFFSET('Raw Data'!AG68,Input_Details!$B$34,Input_Details!$B$32)=\"\", \"-\", OFFSET('Raw Data'!AG68,Input_Details!$B$34,Input_Details!$B$32))","v":0},{"$f":"IF(OFFSET('Raw Data'!AH68,Input_Details!$B$34,Input_Details!$B$32)=\"\", \"-\", OFFSET('Raw Data'!AH68,Input_Details!$B$34,Input_Details!$B$32))","v":0},{"$f":"IF(OFFSET('Raw Data'!AI68,Input_Details!$B$34,Input_Details!$B$32)=\"\", \"-\", OFFSET('Raw Data'!AI68,Input_Details!$B$34,Input_Details!$B$32))","v":0},{"$f":"IF(OFFSET('Raw Data'!AJ68,Input_Details!$B$34,Input_Details!$B$32)=\"\", \"-\", OFFSET('Raw Data'!AJ68,Input_Details!$B$34,Input_Details!$B$32))","v":0},{"$f":"IF(OFFSET('Raw Data'!AK68,Input_Details!$B$34,Input_Details!$B$32)=\"\", \"-\", OFFSET('Raw Data'!AK68,Input_Details!$B$34,Input_Details!$B$32))","v":0},{"$f":"IF(OFFSET('Raw Data'!AL68,Input_Details!$B$34,Input_Details!$B$32)=\"\", \"-\", OFFSET('Raw Data'!AL68,Input_Details!$B$34,Input_Details!$B$32))","v":0},{"$f":"IF(OFFSET('Raw Data'!AM68,Input_Details!$B$34,Input_Details!$B$32)=\"\", \"-\", OFFSET('Raw Data'!AM68,Input_Details!$B$34,Input_Details!$B$32))","v":0},null,{"$f":"IF(D90=\"-\",\"-\",OFFSET('Raw Data'!AN68,Input_Details!$B$34,Input_Details!$B$32))","v":19.781128747795414},{"$f":"IF(OFFSET('Raw Data'!AO68,Input_Details!$B$34,Input_Details!$B$32)=\"\", \"-\", OFFSET('Raw Data'!AO68,Input_Details!$B$34,Input_Details!$B$32))","v":21.939285714285717},{"$f":"IF(OFFSET('Raw Data'!AP68,Input_Details!$B$34,Input_Details!$B$32)=\"\", \"-\", OFFSET('Raw Data'!AP68,Input_Details!$B$34,Input_Details!$B$32))","v":7.6},{"$f":"IF(OFFSET('Raw Data'!AQ68,Input_Details!$B$34,Input_Details!$B$32)=\"\", \"-\", OFFSET('Raw Data'!AQ68,Input_Details!$B$34,Input_Details!$B$32))","v":42.9},null,{"$f":"IF(Y90=\"-\", \"-\", SUM(OFFSET(D90,0,VLOOKUP(Input_Details!$N$3, $AF$3:$AG$12, 2,0)-1):W90))","v":39},0.47560975609756095]
[null,"16:15:00",null,{"$f":"IF(OFFSET('Raw Data'!T69,Input_Details!$B$34,Input_Details!$B$32)=\"\", \"-\", OFFSET('Raw Data'!T69,Input_Details!$B$34,Input_Details!$B$32))","v":1},{"$f":"IF(OFFSET('Raw Data'!U69,Input_Details!$B$34,Input_Details!$B$32)=\"\", \"-\", OFFSET('Raw Data'!U69,Input_Details!$B$34,Input_Details!$B$32))","v":11},{"$f":"IF(OFFSET('Raw Data'!V69,Input_Details!$B$34,Input_Details!$B$32)=\"\", \"-\", OFFSET('Raw Data'!V69,Input_Details!$B$34,Input_Details!$B$32))","v":33},{"$f":"IF(OFFSET('Raw Data'!W69,Input_Details!$B$34,Input_Details!$B$32)=\"\", \"-\", OFFSET('Raw Data'!W69,Input_Details!$B$34,Input_Details!$B$32))","v":22},{"$f":"IF(OFFSET('Raw Data'!X69,Input_Details!$B$34,Input_Details!$B$32)=\"\", \"-\", OFFSET('Raw Data'!X69,Input_Details!$B$34,Input_Details!$B$32))","v":7},{"$f":"IF(OFFSET('Raw Data'!Y69,Input_Details!$B$34,Input_Details!$B$32)=\"\", \"-\", OFFSET('Raw Data'!Y69,Input_Details!$B$34,Input_Details!$B$32))","v":3},{"$f":"IF(OFFSET('Raw Data'!Z69,Input_Details!$B$34,Input_Details!$B$32)=\"\", \"-\", OFFSET('Raw Data'!Z69,Input_Details!$B$34,Input_Details!$B$32))","v":1},{"$f":"IF(OFFSET('Raw Data'!AA69,Input_Details!$B$34,Input_Details!$B$32)=\"\", \"-\", OFFSET('Raw Data'!AA69,Input_Details!$B$34,Input_Details!$B$32))","v":0},{"$f":"IF(OFFSET('Raw Data'!AB69,Input_Details!$B$34,Input_Details!$B$32)=\"\", \"-\", OFFSET('Raw Data'!AB69,Input_Details!$B$34,Input_Details!$B$32))","v":0},{"$f":"IF(OFFSET('Raw Data'!AC69,Input_Details!$B$34,Input_Details!$B$32)=\"\", \"-\", OFFSET('Raw Data'!AC69,Input_Details!$B$34,Input_Details!$B$32))","v":0},{"$f":"IF(OFFSET('Raw Data'!AD69,Input_Details!$B$34,Input_Details!$B$32)=\"\", \"-\", OFFSET('Raw Data'!AD69,Input_Details!$B$34,Input_Details!$B$32))","v":0},{"$f":"IF(OFFSET('Raw Data'!AE69,Input_Details!$B$34,Input_Details!$B$32)=\"\", \"-\", OFFSET('Raw Data'!AE69,Input_Details!$B$34,Input_Details!$B$32))","v":0},{"$f":"IF(OFFSET('Raw Data'!AF69,Input_Details!$B$34,Input_Details!$B$32)=\"\", \"-\", OFFSET('Raw Data'!AF69,Input_Details!$B$34,Input_Details!$B$32))","v":0},{"$f":"IF(OFFSET('Raw Data'!AG69,Input_Details!$B$34,Input_Details!$B$32)=\"\", \"-\", OFFSET('Raw Data'!AG69,Input_Details!$B$34,Input_Details!$B$32))","v":0},{"$f":"IF(OFFSET('Raw Data'!AH69,Input_Details!$B$34,Input_Details!$B$32)=\"\", \"-\", OFFSET('Raw Data'!AH69,Input_Details!$B$34,Input_Details!$B$32))","v":0},{"$f":"IF(OFFSET('Raw Data'!AI69,Input_Details!$B$34,Input_Details!$B$32)=\"\", \"-\", OFFSET('Raw Data'!AI69,Input_Details!$B$34,Input_Details!$B$32))","v":0},{"$f":"IF(OFFSET('Raw Data'!AJ69,Input_Details!$B$34,Input_Details!$B$32)=\"\", \"-\", OFFSET('Raw Data'!AJ69,Input_Details!$B$34,Input_Details!$B$32))","v":0},{"$f":"IF(OFFSET('Raw Data'!AK69,Input_Details!$B$34,Input_Details!$B$32)=\"\", \"-\", OFFSET('Raw Data'!AK69,Input_Details!$B$34,Input_Details!$B$32))","v":0},{"$f":"IF(OFFSET('Raw Data'!AL69,Input_Details!$B$34,Input_Details!$B$32)=\"\", \"-\", OFFSET('Raw Data'!AL69,Input_Details!$B$34,Input_Details!$B$32))","v":0},{"$f":"IF(OFFSET('Raw Data'!AM69,Input_Details!$B$34,Input_Details!$B$32)=\"\", \"-\", OFFSET('Raw Data'!AM69,Input_Details!$B$34,Input_Details!$B$32))","v":0},null,{"$f":"IF(D91=\"-\",\"-\",OFFSET('Raw Data'!AN69,Input_Details!$B$34,Input_Details!$B$32))","v":19.387569573283859},{"$f":"IF(OFFSET('Raw Data'!AO69,Input_Details!$B$34,Input_Details!$B$32)=\"\", \"-\", OFFSET('Raw Data'!AO69,Input_Details!$B$34,Input_Details!$B$32))","v":21.35},{"$f":"IF(OFFSET('Raw Data'!AP69,Input_Details!$B$34,Input_Details!$B$32)=\"\", \"-\", OFFSET('Raw Data'!AP69,Input_Details!$B$34,Input_Details!$B$32))","v":5.8},{"$f":"IF(OFFSET('Raw Data'!AQ69,Input_Details!$B$34,Input_Details!$B$32)=\"\", \"-\", OFFSET('Raw Data'!AQ69,Input_Details!$B$34,Input_Details!$B$32))","v":40.6},null,{"$f":"IF(Y91=\"-\", \"-\", SUM(OFFSET(D91,0,VLOOKUP(Input_Details!$N$3, $AF$3:$AG$12, 2,0)-1):W91))","v":33},{"$f":"IFERROR(AD91/SUM(D91:W91), \"-\")","v":0.42307692307692307}]
[null,"16:30:00",null,{"$f":"IF(OFFSET('Raw Data'!T70,Input_Details!$B$34,Input_Details!$B$32)=\"\", \"-\", OFFSET('Raw Data'!T70,Input_Details!$B$34,Input_Details!$B$32))","v":1},{"$f":"IF(OFFSET('Raw Data'!U70,Input_Details!$B$34,Input_Details!$B$32)=\"\", \"-\", OFFSET('Raw Data'!U70,Input_Details!$B$34,Input_Details!$B$32))","v":15},{"$f":"IF(OFFSET('Raw Data'!V70,Input_Details!$B$34,Input_Details!$B$32)=\"\", \"-\", OFFSET('Raw Data'!V70,Input_Details!$B$34,Input_Details!$B$32))","v":38},{"$f":"IF(OFFSET('Raw Data'!W70,Input_Details!$B$34,Input_Details!$B$32)=\"\", \"-\", OFFSET('Raw Data'!W70,Input_Details!$B$34,Input_Details!$B$32))","v":22},{"$f":"IF(OFFSET('Raw Data'!X70,Input_Details!$B$34,Input_Details!$B$32)=\"\", \"-\", OFFSET('Raw Data'!X70,Input_Details!$B$34,Input_Details!$B$32))","v":5},{"$f":"IF(OFFSET('Raw Data'!Y70,Input_Details!$B$34,Input_Details!$B$32)=\"\", \"-\", OFFSET('Raw Data'!Y70,Input_Details!$B$34,Input_Details!$B$32))","v":2},{"$f":"IF(OFFSET('Raw Data'!Z70,Input_Details!$B$34,Input_Details!$B$32)=\"\", \"-\", OFFSET('Raw Data'!Z70,Input_Details!$B$34,Input_Details!$B$32))","v":1},{"$f":"IF(OFFSET('Raw Data'!AA70,Input_Details!$B$34,Input_Details!$B$32)=\"\", \"-\", OFFSET('Raw Data'!AA70,Input_Details!$B$34,Input_Details!$B$32))","v":0},{"$f":"IF(OFFSET('Raw Data'!AB70,Input_Details!$B$34,Input_Details!$B$32)=\"\", \"-\", OFFSET('Raw Data'!AB70,Input_Details!$B$34,Input_Details!$B$32))","v":0},{"$f":"IF(OFFSET('Raw Data'!AC70,Input_Details!$B$34,Input_Details!$B$32)=\"\", \"-\", OFFSET('Raw Data'!AC70,Input_Details!$B$34,Input_Details!$B$32))","v":0},{"$f":"IF(OFFSET('Raw Data'!AD70,Input_Details!$B$34,Input_Details!$B$32)=\"\", \"-\", OFFSET('Raw Data'!AD70,Input_Details!$B$34,Input_Details!$B$32))","v":0},{"$f":"IF(OFFSET('Raw Data'!AE70,Input_Details!$B$34,Input_Details!$B$32)=\"\", \"-\", OFFSET('Raw Data'!AE70,Input_Details!$B$34,Input_Details!$B$32))","v":0},{"$f":"IF(OFFSET('Raw Data'!AF70,Input_Details!$B$34,Input_Details!$B$32)=\"\", \"-\", OFFSET('Raw Data'!AF70,Input_Details!$B$34,Input_Details!$B$32))","v":0},{"$f":"IF(OFFSET('Raw Data'!AG70,Input_Details!$B$34,Input_Details!$B$32)=\"\", \"-\", OFFSET('Raw Data'!AG70,Input_Details!$B$34,Input_Details!$B$32))","v":0},{"$f":"IF(OFFSET('Raw Data'!AH70,Input_Details!$B$34,Input_Details!$B$32)=\"\", \"-\", OFFSET('Raw Data'!AH70,Input_Details!$B$34,Input_Details!$B$32))","v":0},{"$f":"IF(OFFSET('Raw Data'!AI70,Input_Details!$B$34,Input_Details!$B$32)=\"\", \"-\", OFFSET('Raw Data'!AI70,Input_Details!$B$34,Input_Details!$B$32))","v":0},{"$f":"IF(OFFSET('Raw Data'!AJ70,Input_Details!$B$34,Input_Details!$B$32)=\"\", \"-\", OFFSET('Raw Data'!AJ70,Input_Details!$B$34,Input_Details!$B$32))","v":0},{"$f":"IF(OFFSET('Raw Data'!AK70,Input_Details!$B$34,Input_Details!$B$32)=\"\", \"-\", OFFSET('Raw Data'!AK70,Input_Details!$B$34,Input_Details!$B$32))","v":0},{"$f":"IF(OFFSET('Raw Data'!AL70,Input_Details!$B$34,Input_Details!$B$32)=\"\", \"-\", OFFSET('Raw Data'!AL70,Input_Details!$B$34,Input_Details!$B$32))","v":0},{"$f":"IF(OFFSET('Raw Data'!AM70,Input_Details!$B$34,Input_Details!$B$32)=\"\", \"-\", OFFSET('Raw Data'!AM70,Input_Details!$B$34,Input_Details!$B$32))","v":0},null,{"$f":"IF(D92=\"-\",\"-\",OFFSET('Raw Data'!AN70,Input_Details!$B$34,Input_Details!$B$32))","v":19.046938775510203},{"$f":"IF(OFFSET('Raw Data'!AO70,Input_Details!$B$34,Input_Details!$B$32)=\"\", \"-\", OFFSET('Raw Data'!AO70,Input_Details!$B$34,Input_Details!$B$32))","v":21.435714285714287},{"$f":"IF(OFFSET('Raw Data'!AP70,Input_Details!$B$34,Input_Details!$B$32)=\"\", \"-\", OFFSET('Raw Data'!AP70,Input_Details!$B$34,Input_Details!$B$32))","v":8.6},{"$f":"IF(OFFSET('Raw Data'!AQ70,Input_Details!$B$34,Input_Details!$B$32)=\"\", \"-\", OFFSET('Raw Data'!AQ70,Input_Details!$B$34,Input_Details!$B$32))","v":39.6},null,{"$f":"IF(Y92=\"-\", \"-\", SUM(OFFSET(D92,0,VLOOKUP(Input_Details!$N$3, $AF$3:$AG$12, 2,0)-1):W92))","v":30},0.35714285714285715]
[null,"16:45:00",null,{"$f":"IF(OFFSET('Raw Data'!T71,Input_Details!$B$34,Input_Details!$B$32)=\"\", \"-\", OFFSET('Raw Data'!T71,Input_Details!$B$34,Input_Details!$B$32))","v":1},{"$f":"IF(OFFSET('Raw Data'!U71,Input_Details!$B$34,Input_Details!$B$32)=\"\", \"-\", OFFSET('Raw Data'!U71,Input_Details!$B$34,Input_Details!$B$32))","v":13},{"$f":"IF(OFFSET('Raw Data'!V71,Input_Details!$B$34,Input_Details!$B$32)=\"\", \"-\", OFFSET('Raw Data'!V71,Input_Details!$B$34,Input_Details!$B$32))","v":40},{"$f":"IF(OFFSET('Raw Data'!W71,Input_Details!$B$34,Input_Details!$B$32)=\"\", \"-\", OFFSET('Raw Data'!W71,Input_Details!$B$34,Input_Details!$B$32))","v":23},{"$f":"IF(OFFSET('Raw Data'!X71,Input_Details!$B$34,Input_Details!$B$32)=\"\", \"-\", OFFSET('Raw Data'!X71,Input_Details!$B$34,Input_Details!$B$32))","v":8},{"$f":"IF(OFFSET('Raw Data'!Y71,Input_Details!$B$34,Input_Details!$B$32)=\"\", \"-\", OFFSET('Raw Data'!Y71,Input_Details!$B$34,Input_Details!$B$32))","v":4},{"$f":"IF(OFFSET('Raw Data'!Z71,Input_Details!$B$34,Input_Details!$B$32)=\"\", \"-\", OFFSET('Raw Data'!Z71,Input_Details!$B$34,Input_Details!$B$32))","v":0},{"$f":"IF(OFFSET('Raw Data'!AA71,Input_Details!$B$34,Input_Details!$B$32)=\"\", \"-\", OFFSET('Raw Data'!AA71,Input_Details!$B$34,Input_Details!$B$32))","v":0},{"$f":"IF(OFFSET('Raw Data'!AB71,Input_Details!$B$34,Input_Details!$B$32)=\"\", \"-\", OFFSET('Raw Data'!AB71,Input_Details!$B$34,Input_Details!$B$32))","v":0},{"$f":"IF(OFFSET('Raw Data'!AC71,Input_Details!$B$34,Input_Details!$B$32)=\"\", \"-\", OFFSET('Raw Data'!AC71,Input_Details!$B$34,Input_Details!$B$32))","v":0},{"$f":"IF(OFFSET('Raw Data'!AD71,Input_Details!$B$34,Input_Details!$B$32)=\"\", \"-\", OFFSET('Raw Data'!AD71,Input_Details!$B$34,Input_Details!$B$32))","v":0},{"$f":"IF(OFFSET('Raw Data'!AE71,Input_Details!$B$34,Input_Details!$B$32)=\"\", \"-\", OFFSET('Raw Data'!AE71,Input_Details!$B$34,Input_Details!$B$32))","v":0},{"$f":"IF(OFFSET('Raw Data'!AF71,Input_Details!$B$34,Input_Details!$B$32)=\"\", \"-\", OFFSET('Raw Data'!AF71,Input_Details!$B$34,Input_Details!$B$32))","v":0},{"$f":"IF(OFFSET('Raw Data'!AG71,Input_Details!$B$34,Input_Details!$B$32)=\"\", \"-\", OFFSET('Raw Data'!AG71,Input_Details!$B$34,Input_Details!$B$32))","v":0},{"$f":"IF(OFFSET('Raw Data'!AH71,Input_Details!$B$34,Input_Details!$B$32)=\"\", \"-\", OFFSET('Raw Data'!AH71,Input_Details!$B$34,Input_Details!$B$32))","v":0},{"$f":"IF(OFFSET('Raw Data'!AI71,Input_Details!$B$34,Input_Details!$B$32)=\"\", \"-\", OFFSET('Raw Data'!AI71,Input_Details!$B$34,Input_Details!$B$32))","v":0},{"$f":"IF(OFFSET('Raw Data'!AJ71,Input_Details!$B$34,Input_Details!$B$32)=\"\", \"-\", OFFSET('Raw Data'!AJ71,Input_Details!$B$34,Input_Details!$B$32))","v":0},{"$f":"IF(OFFSET('Raw Data'!AK71,Input_Details!$B$34,Input_Details!$B$32)=\"\", \"-\", OFFSET('Raw Data'!AK71,Input_Details!$B$34,Input_Details!$B$32))","v":0},{"$f":"IF(OFFSET('Raw Data'!AL71,Input_Details!$B$34,Input_Details!$B$32)=\"\", \"-\", OFFSET('Raw Data'!AL71,Input_Details!$B$34,Input_Details!$B$32))","v":0},{"$f":"IF(OFFSET('Raw Data'!AM71,Input_Details!$B$34,Input_Details!$B$32)=\"\", \"-\", OFFSET('Raw Data'!AM71,Input_Details!$B$34,Input_Details!$B$32))","v":0},null,{"$f":"IF(D93=\"-\",\"-\",OFFSET('Raw Data'!AN71,Input_Details!$B$34,Input_Details!$B$32))","v":19.407467532467532},{"$f":"IF(OFFSET('Raw Data'!AO71,Input_Details!$B$34,Input_Details!$B$32)=\"\", \"-\", OFFSET('Raw Data'!AO71,Input_Details!$B$34,Input_Details!$B$32))","v":21.221428571428568},{"$f":"IF(OFFSET('Raw Data'!AP71,Input_Details!$B$34,Input_Details!$B$32)=\"\", \"-\", OFFSET('Raw Data'!AP71,Input_Details!$B$34,Input_Details!$B$32))","v":8.4},{"$f":"IF(OFFSET('Raw Data'!AQ71,Input_Details!$B$34,Input_Details!$B$32)=\"\", \"-\", OFFSET('Raw Data'!AQ71,Input_Details!$B$34,Input_Details!$B$32))","v":37.4},null,{"$f":"IF(Y93=\"-\", \"-\", SUM(OFFSET(D93,0,VLOOKUP(Input_Details!$N$3, $AF$3:$AG$12, 2,0)-1):W93))","v":35},0.39325842696629215]
[null,"17:00:00",null,{"$f":"IF(OFFSET('Raw Data'!T72,Input_Details!$B$34,Input_Details!$B$32)=\"\", \"-\", OFFSET('Raw Data'!T72,Input_Details!$B$34,Input_Details!$B$32))","v":1},{"$f":"IF(OFFSET('Raw Data'!U72,Input_Details!$B$34,Input_Details!$B$32)=\"\", \"-\", OFFSET('Raw Data'!U72,Input_Details!$B$34,Input_Details!$B$32))","v":10},{"$f":"IF(OFFSET('Raw Data'!V72,Input_Details!$B$34,Input_Details!$B$32)=\"\", \"-\", OFFSET('Raw Data'!V72,Input_Details!$B$34,Input_Details!$B$32))","v":36},{"$f":"IF(OFFSET('Raw Data'!W72,Input_Details!$B$34,Input_Details!$B$32)=\"\", \"-\", OFFSET('Raw Data'!W72,Input_Details!$B$34,Input_Details!$B$32))","v":23},{"$f":"IF(OFFSET('Raw Data'!X72,Input_Details!$B$34,Input_Details!$B$32)=\"\", \"-\", OFFSET('Raw Data'!X72,Input_Details!$B$34,Input_Details!$B$32))","v":7},{"$f":"IF(OFFSET('Raw Data'!Y72,Input_Details!$B$34,Input_Details!$B$32)=\"\", \"-\", OFFSET('Raw Data'!Y72,Input_Details!$B$34,Input_Details!$B$32))","v":3},{"$f":"IF(OFFSET('Raw Data'!Z72,Input_Details!$B$34,Input_Details!$B$32)=\"\", \"-\", OFFSET('Raw Data'!Z72,Input_Details!$B$34,Input_Details!$B$32))","v":1},{"$f":"IF(OFFSET('Raw Data'!AA72,Input_Details!$B$34,Input_Details!$B$32)=\"\", \"-\", OFFSET('Raw Data'!AA72,Input_Details!$B$34,Input_Details!$B$32))","v":0},{"$f":"IF(OFFSET('Raw Data'!AB72,Input_Details!$B$34,Input_Details!$B$32)=\"\", \"-\", OFFSET('Raw Data'!AB72,Input_Details!$B$34,Input_Details!$B$32))","v":0},{"$f":"IF(OFFSET('Raw Data'!AC72,Input_Details!$B$34,Input_Details!$B$32)=\"\", \"-\", OFFSET('Raw Data'!AC72,Input_Details!$B$34,Input_Details!$B$32))","v":0},{"$f":"IF(OFFSET('Raw Data'!AD72,Input_Details!$B$34,Input_Details!$B$32)=\"\", \"-\", OFFSET('Raw Data'!AD72,Input_Details!$B$34,Input_Details!$B$32))","v":0},{"$f":"IF(OFFSET('Raw Data'!AE72,Input_Details!$B$34,Input_Details!$B$32)=\"\", \"-\", OFFSET('Raw Data'!AE72,Input_Details!$B$34,Input_Details!$B$32))","v":0},{"$f":"IF(OFFSET('Raw Data'!AF72,Input_Details!$B$34,Input_Details!$B$32)=\"\", \"-\", OFFSET('Raw Data'!AF72,Input_Details!$B$34,Input_Details!$B$32))","v":0},{"$f":"IF(OFFSET('Raw Data'!AG72,Input_Details!$B$34,Input_Details!$B$32)=\"\", \"-\", OFFSET('Raw Data'!AG72,Input_Details!$B$34,Input_Details!$B$32))","v":0},{"$f":"IF(OFFSET('Raw Data'!AH72,Input_Details!$B$34,Input_Details!$B$32)=\"\", \"-\", OFFSET('Raw Data'!AH72,Input_Details!$B$34,Input_Details!$B$32))","v":0},{"$f":"IF(OFFSET('Raw Data'!AI72,Input_Details!$B$34,Input_Details!$B$32)=\"\", \"-\", OFFSET('Raw Data'!AI72,Input_Details!$B$34,Input_Details!$B$32))","v":0},{"$f":"IF(OFFSET('Raw Data'!AJ72,Input_Details!$B$34,Input_Details!$B$32)=\"\", \"-\", OFFSET('Raw Data'!AJ72,Input_Details!$B$34,Input_Details!$B$32))","v":0},{"$f":"IF(OFFSET('Raw Data'!AK72,Input_Details!$B$34,Input_Details!$B$32)=\"\", \"-\", OFFSET('Raw Data'!AK72,Input_Details!$B$34,Input_Details!$B$32))","v":0},{"$f":"IF(OFFSET('Raw Data'!AL72,Input_Details!$B$34,Input_Details!$B$32)=\"\", \"-\", OFFSET('Raw Data'!AL72,Input_Details!$B$34,Input_Details!$B$32))","v":0},{"$f":"IF(OFFSET('Raw Data'!AM72,Input_Details!$B$34,Input_Details!$B$32)=\"\", \"-\", OFFSET('Raw Data'!AM72,Input_Details!$B$34,Input_Details!$B$32))","v":0},null,{"$f":"IF(D94=\"-\",\"-\",OFFSET('Raw Data'!AN72,Input_Details!$B$34,Input_Details!$B$32))","v":19.728571428571428},{"$f":"IF(OFFSET('Raw Data'!AO72,Input_Details!$B$34,Input_Details!$B$32)=\"\", \"-\", OFFSET('Raw Data'!AO72,Input_Details!$B$34,Input_Details!$B$32))","v":24.099999999999998},{"$f":"IF(OFFSET('Raw Data'!AP72,Input_Details!$B$34,Input_Details!$B$32)=\"\", \"-\", OFFSET('Raw Data'!AP72,Input_Details!$B$34,Input_Details!$B$32))","v":6.4},{"$f":"IF(OFFSET('Raw Data'!AQ72,Input_Details!$B$34,Input_Details!$B$32)=\"\", \"-\", OFFSET('Raw Data'!AQ72,Input_Details!$B$34,Input_Details!$B$32))","v":47.4},null,{"$f":"IF(Y94=\"-\", \"-\", SUM(OFFSET(D94,0,VLOOKUP(Input_Details!$N$3, $AF$3:$AG$12, 2,0)-1):W94))","v":34},0.41975308641975306]
[null,"17:15:00",null,{"$f":"IF(OFFSET('Raw Data'!T73,Input_Details!$B$34,Input_Details!$B$32)=\"\", \"-\", OFFSET('Raw Data'!T73,Input_Details!$B$34,Input_Details!$B$32))","v":2},{"$f":"IF(OFFSET('Raw Data'!U73,Input_Details!$B$34,Input_Details!$B$32)=\"\", \"-\", OFFSET('Raw Data'!U73,Input_Details!$B$34,Input_Details!$B$32))","v":12},{"$f":"IF(OFFSET('Raw Data'!V73,Input_Details!$B$34,Input_Details!$B$32)=\"\", \"-\", OFFSET('Raw Data'!V73,Input_Details!$B$34,Input_Details!$B$32))","v":39},{"$f":"IF(OFFSET('Raw Data'!W73,Input_Details!$B$34,Input_Details!$B$32)=\"\", \"-\", OFFSET('Raw Data'!W73,Input_Details!$B$34,Input_Details!$B$32))","v":29},{"$f":"IF(OFFSET('Raw Data'!X73,Input_Details!$B$34,Input_Details!$B$32)=\"\", \"-\", OFFSET('Raw Data'!X73,Input_Details!$B$34,Input_Details!$B$32))","v":8},{"$f":"IF(OFFSET('Raw Data'!Y73,Input_Details!$B$34,Input_Details!$B$32)=\"\", \"-\", OFFSET('Raw Data'!Y73,Input_Details!$B$34,Input_Details!$B$32))","v":4},{"$f":"IF(OFFSET('Raw Data'!Z73,Input_Details!$B$34,Input_Details!$B$32)=\"\", \"-\", OFFSET('Raw Data'!Z73,Input_Details!$B$34,Input_Details!$B$32))","v":0},{"$f":"IF(OFFSET('Raw Data'!AA73,Input_Details!$B$34,Input_Details!$B$32)=\"\", \"-\", OFFSET('Raw Data'!AA73,Input_Details!$B$34,Input_Details!$B$32))","v":0},{"$f":"IF(OFFSET('Raw Data'!AB73,Input_Details!$B$34,Input_Details!$B$32)=\"\", \"-\", OFFSET('Raw Data'!AB73,Input_Details!$B$34,Input_Details!$B$32))","v":0},{"$f":"IF(OFFSET('Raw Data'!AC73,Input_Details!$B$34,Input_Details!$B$32)=\"\", \"-\", OFFSET('Raw Data'!AC73,Input_Details!$B$34,Input_Details!$B$32))","v":0},{"$f":"IF(OFFSET('Raw Data'!AD73,Input_Details!$B$34,Input_Details!$B$32)=\"\", \"-\", OFFSET('Raw Data'!AD73,Input_Details!$B$34,Input_Details!$B$32))","v":0},{"$f":"IF(OFFSET('Raw Data'!AE73,Input_Details!$B$34,Input_Details!$B$32)=\"\", \"-\", OFFSET('Raw Data'!AE73,Input_Details!$B$34,Input_Details!$B$32))","v":0},{"$f":"IF(OFFSET('Raw Data'!AF73,Input_Details!$B$34,Input_Details!$B$32)=\"\", \"-\", OFFSET('Raw Data'!AF73,Input_Details!$B$34,Input_Details!$B$32))","v":0},{"$f":"IF(OFFSET('Raw Data'!AG73,Input_Details!$B$34,Input_Details!$B$32)=\"\", \"-\", OFFSET('Raw Data'!AG73,Input_Details!$B$34,Input_Details!$B$32))","v":0},{"$f":"IF(OFFSET('Raw Data'!AH73,Input_Details!$B$34,Input_Details!$B$32)=\"\", \"-\", OFFSET('Raw Data'!AH73,Input_Details!$B$34,Input_Details!$B$32))","v":0},{"$f":"IF(OFFSET('Raw Data'!AI73,Input_Details!$B$34,Input_Details!$B$32)=\"\", \"-\", OFFSET('Raw Data'!AI73,Input_Details!$B$34,Input_Details!$B$32))","v":0},{"$f":"IF(OFFSET('Raw Data'!AJ73,Input_Details!$B$34,Input_Details!$B$32)=\"\", \"-\", OFFSET('Raw Data'!AJ73,Input_Details!$B$34,Input_Details!$B$32))","v":0},{"$f":"IF(OFFSET('Raw Data'!AK73,Input_Details!$B$34,Input_Details!$B$32)=\"\", \"-\", OFFSET('Raw Data'!AK73,Input_Details!$B$34,Input_Details!$B$32))","v":0},{"$f":"IF(OFFSET('Raw Data'!AL73,Input_Details!$B$34,Input_Details!$B$32)=\"\", \"-\", OFFSET('Raw Data'!AL73,Input_Details!$B$34,Input_Details!$B$32))","v":0},{"$f":"IF(OFFSET('Raw Data'!AM73,Input_Details!$B$34,Input_Details!$B$32)=\"\", \"-\", OFFSET('Raw Data'!AM73,Input_Details!$B$34,Input_Details!$B$32))","v":0},null,{"$f":"IF(D95=\"-\",\"-\",OFFSET('Raw Data'!AN73,Input_Details!$B$34,Input_Details!$B$32))","v":19.710138248847926},{"$f":"IF(OFFSET('Raw Data'!AO73,Input_Details!$B$34,Input_Details!$B$32)=\"\", \"-\", OFFSET('Raw Data'!AO73,Input_Details!$B$34,Input_Details!$B$32))","v":22.107142857142854},{"$f":"IF(OFFSET('Raw Data'!AP73,Input_Details!$B$34,Input_Details!$B$32)=\"\", \"-\", OFFSET('Raw Data'!AP73,Input_Details!$B$34,Input_Details!$B$32))","v":3.5},{"$f":"IF(OFFSET('Raw Data'!AQ73,Input_Details!$B$34,Input_Details!$B$32)=\"\", \"-\", OFFSET('Raw Data'!AQ73,Input_Details!$B$34,Input_Details!$B$32))","v":42.6},null,{"$f":"IF(Y95=\"-\", \"-\", SUM(OFFSET(D95,0,VLOOKUP(Input_Details!$N$3, $AF$3:$AG$12, 2,0)-1):W95))","v":41},0.43617021276595747]
[null,"17:30:00",null,{"$f":"IF(OFFSET('Raw Data'!T74,Input_Details!$B$34,Input_Details!$B$32)=\"\", \"-\", OFFSET('Raw Data'!T74,Input_Details!$B$34,Input_Details!$B$32))","v":2},{"$f":"IF(OFFSET('Raw Data'!U74,Input_Details!$B$34,Input_Details!$B$32)=\"\", \"-\", OFFSET('Raw Data'!U74,Input_Details!$B$34,Input_Details!$B$32))","v":12},{"$f":"IF(OFFSET('Raw Data'!V74,Input_Details!$B$34,Input_Details!$B$32)=\"\", \"-\", OFFSET('Raw Data'!V74,Input_Details!$B$34,Input_Details!$B$32))","v":39},{"$f":"IF(OFFSET('Raw Data'!W74,Input_Details!$B$34,Input_Details!$B$32)=\"\", \"-\", OFFSET('Raw Data'!W74,Input_Details!$B$34,Input_Details!$B$32))","v":24},{"$f":"IF(OFFSET('Raw Data'!X74,Input_Details!$B$34,Input_Details!$B$32)=\"\", \"-\", OFFSET('Raw Data'!X74,Input_Details!$B$34,Input_Details!$B$32))","v":6},{"$f":"IF(OFFSET('Raw Data'!Y74,Input_Details!$B$34,Input_Details!$B$32)=\"\", \"-\", OFFSET('Raw Data'!Y74,Input_Details!$B$34,Input_Details!$B$32))","v":3},{"$f":"IF(OFFSET('Raw Data'!Z74,Input_Details!$B$34,Input_Details!$B$32)=\"\", \"-\", OFFSET('Raw Data'!Z74,Input_Details!$B$34,Input_Details!$B$32))","v":0},{"$f":"IF(OFFSET('Raw Data'!AA74,Input_Details!$B$34,Input_Details!$B$32)=\"\", \"-\", OFFSET('Raw Data'!AA74,Input_Details!$B$34,Input_Details!$B$32))","v":0},{"$f":"IF(OFFSET('Raw Data'!AB74,Input_Details!$B$34,Input_Details!$B$32)=\"\", \"-\", OFFSET('Raw Data'!AB74,Input_Details!$B$34,Input_Details!$B$32))","v":0},{"$f":"IF(OFFSET('Raw Data'!AC74,Input_Details!$B$34,Input_Details!$B$32)=\"\", \"-\", OFFSET('Raw Data'!AC74,Input_Details!$B$34,Input_Details!$B$32))","v":0},{"$f":"IF(OFFSET('Raw Data'!AD74,Input_Details!$B$34,Input_Details!$B$32)=\"\", \"-\", OFFSET('Raw Data'!AD74,Input_Details!$B$34,Input_Details!$B$32))","v":0},{"$f":"IF(OFFSET('Raw Data'!AE74,Input_Details!$B$34,Input_Details!$B$32)=\"\", \"-\", OFFSET('Raw Data'!AE74,Input_Details!$B$34,Input_Details!$B$32))","v":0},{"$f":"IF(OFFSET('Raw Data'!AF74,Input_Details!$B$34,Input_Details!$B$32)=\"\", \"-\", OFFSET('Raw Data'!AF74,Input_Details!$B$34,Input_Details!$B$32))","v":0},{"$f":"IF(OFFSET('Raw Data'!AG74,Input_Details!$B$34,Input_Details!$B$32)=\"\", \"-\", OFFSET('Raw Data'!AG74,Input_Details!$B$34,Input_Details!$B$32))","v":0},{"$f":"IF(OFFSET('Raw Data'!AH74,Input_Details!$B$34,Input_Details!$B$32)=\"\", \"-\", OFFSET('Raw Data'!AH74,Input_Details!$B$34,Input_Details!$B$32))","v":0},{"$f":"IF(OFFSET('Raw Data'!AI74,Input_Details!$B$34,Input_Details!$B$32)=\"\", \"-\", OFFSET('Raw Data'!AI74,Input_Details!$B$34,Input_Details!$B$32))","v":0},{"$f":"IF(OFFSET('Raw Data'!AJ74,Input_Details!$B$34,Input_Details!$B$32)=\"\", \"-\", OFFSET('Raw Data'!AJ74,Input_Details!$B$34,Input_Details!$B$32))","v":0},{"$f":"IF(OFFSET('Raw Data'!AK74,Input_Details!$B$34,Input_Details!$B$32)=\"\", \"-\", OFFSET('Raw Data'!AK74,Input_Details!$B$34,Input_Details!$B$32))","v":0},{"$f":"IF(OFFSET('Raw Data'!AL74,Input_Details!$B$34,Input_Details!$B$32)=\"\", \"-\", OFFSET('Raw Data'!AL74,Input_Details!$B$34,Input_Details!$B$32))","v":0},{"$f":"IF(OFFSET('Raw Data'!AM74,Input_Details!$B$34,Input_Details!$B$32)=\"\", \"-\", OFFSET('Raw Data'!AM74,Input_Details!$B$34,Input_Details!$B$32))","v":0},null,{"$f":"IF(D96=\"-\",\"-\",OFFSET('Raw Data'!AN74,Input_Details!$B$34,Input_Details!$B$32))","v":18.790476190476191},{"$f":"IF(OFFSET('Raw Data'!AO74,Input_Details!$B$34,Input_Details!$B$32)=\"\", \"-\", OFFSET('Raw Data'!AO74,Input_Details!$B$34,Input_Details!$B$32))","v":19.860714285714284},{"$f":"IF(OFFSET('Raw Data'!AP74,Input_Details!$B$34,Input_Details!$B$32)=\"\", \"-\", OFFSET('Raw Data'!AP74,Input_Details!$B$34,Input_Details!$B$32))","v":4.9000000000000004},{"$f":"IF(OFFSET('Raw Data'!AQ74,Input_Details!$B$34,Input_Details!$B$32)=\"\", \"-\", OFFSET('Raw Data'!AQ74,Input_Details!$B$34,Input_Details!$B$32))","v":44.3},null,{"$f":"IF(Y96=\"-\", \"-\", SUM(OFFSET(D96,0,VLOOKUP(Input_Details!$N$3, $AF$3:$AG$12, 2,0)-1):W96))","v":33},0.38372093023255816]
[null,"17:45:00",null,{"$f":"IF(OFFSET('Raw Data'!T75,Input_Details!$B$34,Input_Details!$B$32)=\"\", \"-\", OFFSET('Raw Data'!T75,Input_Details!$B$34,Input_Details!$B$32))","v":2},{"$f":"IF(OFFSET('Raw Data'!U75,Input_Details!$B$34,Input_Details!$B$32)=\"\", \"-\", OFFSET('Raw Data'!U75,Input_Details!$B$34,Input_Details!$B$32))","v":19},{"$f":"IF(OFFSET('Raw Data'!V75,Input_Details!$B$34,Input_Details!$B$32)=\"\", \"-\", OFFSET('Raw Data'!V75,Input_Details!$B$34,Input_Details!$B$32))","v":35},{"$f":"IF(OFFSET('Raw Data'!W75,Input_Details!$B$34,Input_Details!$B$32)=\"\", \"-\", OFFSET('Raw Data'!W75,Input_Details!$B$34,Input_Details!$B$32))","v":26},{"$f":"IF(OFFSET('Raw Data'!X75,Input_Details!$B$34,Input_Details!$B$32)=\"\", \"-\", OFFSET('Raw Data'!X75,Input_Details!$B$34,Input_Details!$B$32))","v":8},{"$f":"IF(OFFSET('Raw Data'!Y75,Input_Details!$B$34,Input_Details!$B$32)=\"\", \"-\", OFFSET('Raw Data'!Y75,Input_Details!$B$34,Input_Details!$B$32))","v":3},{"$f":"IF(OFFSET('Raw Data'!Z75,Input_Details!$B$34,Input_Details!$B$32)=\"\", \"-\", OFFSET('Raw Data'!Z75,Input_Details!$B$34,Input_Details!$B$32))","v":1},{"$f":"IF(OFFSET('Raw Data'!AA75,Input_Details!$B$34,Input_Details!$B$32)=\"\", \"-\", OFFSET('Raw Data'!AA75,Input_Details!$B$34,Input_Details!$B$32))","v":0},{"$f":"IF(OFFSET('Raw Data'!AB75,Input_Details!$B$34,Input_Details!$B$32)=\"\", \"-\", OFFSET('Raw Data'!AB75,Input_Details!$B$34,Input_Details!$B$32))","v":0},{"$f":"IF(OFFSET('Raw Data'!AC75,Input_Details!$B$34,Input_Details!$B$32)=\"\", \"-\", OFFSET('Raw Data'!AC75,Input_Details!$B$34,Input_Details!$B$32))","v":0},{"$f":"IF(OFFSET('Raw Data'!AD75,Input_Details!$B$34,Input_Details!$B$32)=\"\", \"-\", OFFSET('Raw Data'!AD75,Input_Details!$B$34,Input_Details!$B$32))","v":0},{"$f":"IF(OFFSET('Raw Data'!AE75,Input_Details!$B$34,Input_Details!$B$32)=\"\", \"-\", OFFSET('Raw Data'!AE75,Input_Details!$B$34,Input_Details!$B$32))","v":0},{"$f":"IF(OFFSET('Raw Data'!AF75,Input_Details!$B$34,Input_Details!$B$32)=\"\", \"-\", OFFSET('Raw Data'!AF75,Input_Details!$B$34,Input_Details!$B$32))","v":0},{"$f":"IF(OFFSET('Raw Data'!AG75,Input_Details!$B$34,Input_Details!$B$32)=\"\", \"-\", OFFSET('Raw Data'!AG75,Input_Details!$B$34,Input_Details!$B$32))","v":0},{"$f":"IF(OFFSET('Raw Data'!AH75,Input_Details!$B$34,Input_Details!$B$32)=\"\", \"-\", OFFSET('Raw Data'!AH75,Input_Details!$B$34,Input_Details!$B$32))","v":0},{"$f":"IF(OFFSET('Raw Data'!AI75,Input_Details!$B$34,Input_Details!$B$32)=\"\", \"-\", OFFSET('Raw Data'!AI75,Input_Details!$B$34,Input_Details!$B$32))","v":0},{"$f":"IF(OFFSET('Raw Data'!AJ75,Input_Details!$B$34,Input_Details!$B$32)=\"\", \"-\", OFFSET('Raw Data'!AJ75,Input_Details!$B$34,Input_Details!$B$32))","v":0},{"$f":"IF(OFFSET('Raw Data'!AK75,Input_Details!$B$34,Input_Details!$B$32)=\"\", \"-\", OFFSET('Raw Data'!AK75,Input_Details!$B$34,Input_Details!$B$32))","v":0},{"$f":"IF(OFFSET('Raw Data'!AL75,Input_Details!$B$34,Input_Details!$B$32)=\"\", \"-\", OFFSET('Raw Data'!AL75,Input_Details!$B$34,Input_Details!$B$32))","v":0},{"$f":"IF(OFFSET('Raw Data'!AM75,Input_Details!$B$34,Input_Details!$B$32)=\"\", \"-\", OFFSET('Raw Data'!AM75,Input_Details!$B$34,Input_Details!$B$32))","v":0},null,{"$f":"IF(D97=\"-\",\"-\",OFFSET('Raw Data'!AN75,Input_Details!$B$34,Input_Details!$B$32))","v":19.125345622119816},{"$f":"IF(OFFSET('Raw Data'!AO75,Input_Details!$B$34,Input_Details!$B$32)=\"\", \"-\", OFFSET('Raw Data'!AO75,Input_Details!$B$34,Input_Details!$B$32))","v":21.921428571428571},{"$f":"IF(OFFSET('Raw Data'!AP75,Input_Details!$B$34,Input_Details!$B$32)=\"\", \"-\", OFFSET('Raw Data'!AP75,Input_Details!$B$34,Input_Details!$B$32))","v":7.8},{"$f":"IF(OFFSET('Raw Data'!AQ75,Input_Details!$B$34,Input_Details!$B$32)=\"\", \"-\", OFFSET('Raw Data'!AQ75,Input_Details!$B$34,Input_Details!$B$32))","v":44.5},null,{"$f":"IF(Y97=\"-\", \"-\", SUM(OFFSET(D97,0,VLOOKUP(Input_Details!$N$3, $AF$3:$AG$12, 2,0)-1):W97))","v":38},0.40425531914893614]
[null,"18:00:00",null,{"$f":"IF(OFFSET('Raw Data'!T76,Input_Details!$B$34,Input_Details!$B$32)=\"\", \"-\", OFFSET('Raw Data'!T76,Input_Details!$B$34,Input_Details!$B$32))","v":2},{"$f":"IF(OFFSET('Raw Data'!U76,Input_Details!$B$34,Input_Details!$B$32)=\"\", \"-\", OFFSET('Raw Data'!U76,Input_Details!$B$34,Input_Details!$B$32))","v":18},{"$f":"IF(OFFSET('Raw Data'!V76,Input_Details!$B$34,Input_Details!$B$32)=\"\", \"-\", OFFSET('Raw Data'!V76,Input_Details!$B$34,Input_Details!$B$32))","v":43},{"$f":"IF(OFFSET('Raw Data'!W76,Input_Details!$B$34,Input_Details!$B$32)=\"\", \"-\", OFFSET('Raw Data'!W76,Input_Details!$B$34,Input_Details!$B$32))","v":25},{"$f":"IF(OFFSET('Raw Data'!X76,Input_Details!$B$34,Input_Details!$B$32)=\"\", \"-\", OFFSET('Raw Data'!X76,Input_Details!$B$34,Input_Details!$B$32))","v":8},{"$f":"IF(OFFSET('Raw Data'!Y76,Input_Details!$B$34,Input_Details!$B$32)=\"\", \"-\", OFFSET('Raw Data'!Y76,Input_Details!$B$34,Input_Details!$B$32))","v":3},{"$f":"IF(OFFSET('Raw Data'!Z76,Input_Details!$B$34,Input_Details!$B$32)=\"\", \"-\", OFFSET('Raw Data'!Z76,Input_Details!$B$34,Input_Details!$B$32))","v":1},{"$f":"IF(OFFSET('Raw Data'!AA76,Input_Details!$B$34,Input_Details!$B$32)=\"\", \"-\", OFFSET('Raw Data'!AA76,Input_Details!$B$34,Input_Details!$B$32))","v":0},{"$f":"IF(OFFSET('Raw Data'!AB76,Input_Details!$B$34,Input_Details!$B$32)=\"\", \"-\", OFFSET('Raw Data'!AB76,Input_Details!$B$34,Input_Details!$B$32))","v":0},{"$f":"IF(OFFSET('Raw Data'!AC76,Input_Details!$B$34,Input_Details!$B$32)=\"\", \"-\", OFFSET('Raw Data'!AC76,Input_Details!$B$34,Input_Details!$B$32))","v":0},{"$f":"IF(OFFSET('Raw Data'!AD76,Input_Details!$B$34,Input_Details!$B$32)=\"\", \"-\", OFFSET('Raw Data'!AD76,Input_Details!$B$34,Input_Details!$B$32))","v":0},{"$f":"IF(OFFSET('Raw Data'!AE76,Input_Details!$B$34,Input_Details!$B$32)=\"\", \"-\", OFFSET('Raw Data'!AE76,Input_Details!$B$34,Input_Details!$B$32))","v":0},{"$f":"IF(OFFSET('Raw Data'!AF76,Input_Details!$B$34,Input_Details!$B$32)=\"\", \"-\", OFFSET('Raw Data'!AF76,Input_Details!$B$34,Input_Details!$B$32))","v":0},{"$f":"IF(OFFSET('Raw Data'!AG76,Input_Details!$B$34,Input_Details!$B$32)=\"\", \"-\", OFFSET('Raw Data'!AG76,Input_Details!$B$34,Input_Details!$B$32))","v":0},{"$f":"IF(OFFSET('Raw Data'!AH76,Input_Details!$B$34,Input_Details!$B$32)=\"\", \"-\", OFFSET('Raw Data'!AH76,Input_Details!$B$34,Input_Details!$B$32))","v":0},{"$f":"IF(OFFSET('Raw Data'!AI76,Input_Details!$B$34,Input_Details!$B$32)=\"\", \"-\", OFFSET('Raw Data'!AI76,Input_Details!$B$34,Input_Details!$B$32))","v":0},{"$f":"IF(OFFSET('Raw Data'!AJ76,Input_Details!$B$34,Input_Details!$B$32)=\"\", \"-\", OFFSET('Raw Data'!AJ76,Input_Details!$B$34,Input_Details!$B$32))","v":0},{"$f":"IF(OFFSET('Raw Data'!AK76,Input_Details!$B$34,Input_Details!$B$32)=\"\", \"-\", OFFSET('Raw Data'!AK76,Input_Details!$B$34,Input_Details!$B$32))","v":0},{"$f":"IF(OFFSET('Raw Data'!AL76,Input_Details!$B$34,Input_Details!$B$32)=\"\", \"-\", OFFSET('Raw Data'!AL76,Input_Details!$B$34,Input_Details!$B$32))","v":0},{"$f":"IF(OFFSET('Raw Data'!AM76,Input_Details!$B$34,Input_Details!$B$32)=\"\", \"-\", OFFSET('Raw Data'!AM76,Input_Details!$B$34,Input_Details!$B$32))","v":0},null,{"$f":"IF(D98=\"-\",\"-\",OFFSET('Raw Data'!AN76,Input_Details!$B$34,Input_Details!$B$32))","v":18.904329004329007},{"$f":"IF(OFFSET('Raw Data'!AO76,Input_Details!$B$34,Input_Details!$B$32)=\"\", \"-\", OFFSET('Raw Data'!AO76,Input_Details!$B$34,Input_Details!$B$32))","v":21.439285714285717},{"$f":"IF(OFFSET('Raw Data'!AP76,Input_Details!$B$34,Input_Details!$B$32)=\"\", \"-\", OFFSET('Raw Data'!AP76,Input_Details!$B$34,Input_Details!$B$32))","v":6.4},{"$f":"IF(OFFSET('Raw Data'!AQ76,Input_Details!$B$34,Input_Details!$B$32)=\"\", \"-\", OFFSET('Raw Data'!AQ76,Input_Details!$B$34,Input_Details!$B$32))","v":48.9},null,{"$f":"IF(Y98=\"-\", \"-\", SUM(OFFSET(D98,0,VLOOKUP(Input_Details!$N$3, $AF$3:$AG$12, 2,0)-1):W98))","v":37},0.37]
[null,"18:15:00",null,{"$f":"IF(OFFSET('Raw Data'!T77,Input_Details!$B$34,Input_Details!$B$32)=\"\", \"-\", OFFSET('Raw Data'!T77,Input_Details!$B$34,Input_Details!$B$32))","v":2},{"$f":"IF(OFFSET('Raw Data'!U77,Input_Details!$B$34,Input_Details!$B$32)=\"\", \"-\", OFFSET('Raw Data'!U77,Input_Details!$B$34,Input_Details!$B$32))","v":20},{"$f":"IF(OFFSET('Raw Data'!V77,Input_Details!$B$34,Input_Details!$B$32)=\"\", \"-\", OFFSET('Raw Data'!V77,Input_Details!$B$34,Input_Details!$B$32))","v":38},{"$f":"IF(OFFSET('Raw Data'!W77,Input_Details!$B$34,Input_Details!$B$32)=\"\", \"-\", OFFSET('Raw Data'!W77,Input_Details!$B$34,Input_Details!$B$32))","v":26},{"$f":"IF(OFFSET('Raw Data'!X77,Input_Details!$B$34,Input_Details!$B$32)=\"\", \"-\", OFFSET('Raw Data'!X77,Input_Details!$B$34,Input_Details!$B$32))","v":6},{"$f":"IF(OFFSET('Raw Data'!Y77,Input_Details!$B$34,Input_Details!$B$32)=\"\", \"-\", OFFSET('Raw Data'!Y77,Input_Details!$B$34,Input_Details!$B$32))","v":2},{"$f":"IF(OFFSET('Raw Data'!Z77,Input_Details!$B$34,Input_Details!$B$32)=\"\", \"-\", OFFSET('Raw Data'!Z77,Input_Details!$B$34,Input_Details!$B$32))","v":1},{"$f":"IF(OFFSET('Raw Data'!AA77,Input_Details!$B$34,Input_Details!$B$32)=\"\", \"-\", OFFSET('Raw Data'!AA77,Input_Details!$B$34,Input_Details!$B$32))","v":0},{"$f":"IF(OFFSET('Raw Data'!AB77,Input_Details!$B$34,Input_Details!$B$32)=\"\", \"-\", OFFSET('Raw Data'!AB77,Input_Details!$B$34,Input_Details!$B$32))","v":0},{"$f":"IF(OFFSET('Raw Data'!AC77,Input_Details!$B$34,Input_Details!$B$32)=\"\", \"-\", OFFSET('Raw Data'!AC77,Input_Details!$B$34,Input_Details!$B$32))","v":0},{"$f":"IF(OFFSET('Raw Data'!AD77,Input_Details!$B$34,Input_Details!$B$32)=\"\", \"-\", OFFSET('Raw Data'!AD77,Input_Details!$B$34,Input_Details!$B$32))","v":0},{"$f":"IF(OFFSET('Raw Data'!AE77,Input_Details!$B$34,Input_Details!$B$32)=\"\", \"-\", OFFSET('Raw Data'!AE77,Input_Details!$B$34,Input_Details!$B$32))","v":0},{"$f":"IF(OFFSET('Raw Data'!AF77,Input_Details!$B$34,Input_Details!$B$32)=\"\", \"-\", OFFSET('Raw Data'!AF77,Input_Details!$B$34,Input_Details!$B$32))","v":0},{"$f":"IF(OFFSET('Raw Data'!AG77,Input_Details!$B$34,Input_Details!$B$32)=\"\", \"-\", OFFSET('Raw Data'!AG77,Input_Details!$B$34,Input_Details!$B$32))","v":0},{"$f":"IF(OFFSET('Raw Data'!AH77,Input_Details!$B$34,Input_Details!$B$32)=\"\", \"-\", OFFSET('Raw Data'!AH77,Input_Details!$B$34,Input_Details!$B$32))","v":0},{"$f":"IF(OFFSET('Raw Data'!AI77,Input_Details!$B$34,Input_Details!$B$32)=\"\", \"-\", OFFSET('Raw Data'!AI77,Input_Details!$B$34,Input_Details!$B$32))","v":0},{"$f":"IF(OFFSET('Raw Data'!AJ77,Input_Details!$B$34,Input_Details!$B$32)=\"\", \"-\", OFFSET('Raw Data'!AJ77,Input_Details!$B$34,Input_Details!$B$32))","v":0},{"$f":"IF(OFFSET('Raw Data'!AK77,Input_Details!$B$34,Input_Details!$B$32)=\"\", \"-\", OFFSET('Raw Data'!AK77,Input_Details!$B$34,Input_Details!$B$32))","v":0},{"$f":"IF(OFFSET('Raw Data'!AL77,Input_Details!$B$34,Input_Details!$B$32)=\"\", \"-\", OFFSET('Raw Data'!AL77,Input_Details!$B$34,Input_Details!$B$32))","v":0},{"$f":"IF(OFFSET('Raw Data'!AM77,Input_Details!$B$34,Input_Details!$B$32)=\"\", \"-\", OFFSET('Raw Data'!AM77,Input_Details!$B$34,Input_Details!$B$32))","v":0},null,{"$f":"IF(D99=\"-\",\"-\",OFFSET('Raw Data'!AN77,Input_Details!$B$34,Input_Details!$B$32))","v":18.827827380952382},{"$f":"IF(OFFSET('Raw Data'!AO77,Input_Details!$B$34,Input_Details!$B$32)=\"\", \"-\", OFFSET('Raw Data'!AO77,Input_Details!$B$34,Input_Details!$B$32))","v":21.657142857142858},{"$f":"IF(OFFSET('Raw Data'!AP77,Input_Details!$B$34,Input_Details!$B$32)=\"\", \"-\", OFFSET('Raw Data'!AP77,Input_Details!$B$34,Input_Details!$B$32))","v":6.3},{"$f":"IF(OFFSET('Raw Data'!AQ77,Input_Details!$B$34,Input_Details!$B$32)=\"\", \"-\", OFFSET('Raw Data'!AQ77,Input_Details!$B$34,Input_Details!$B$32))","v":43.1},null,{"$f":"IF(Y99=\"-\", \"-\", SUM(OFFSET(D99,0,VLOOKUP(Input_Details!$N$3, $AF$3:$AG$12, 2,0)-1):W99))","v":35},0.36842105263157893]
[null,"18:30:00",null,{"$f":"IF(OFFSET('Raw Data'!T78,Input_Details!$B$34,Input_Details!$B$32)=\"\", \"-\", OFFSET('Raw Data'!T78,Input_Details!$B$34,Input_Details!$B$32))","v":2},{"$f":"IF(OFFSET('Raw Data'!U78,Input_Details!$B$34,Input_Details!$B$32)=\"\", \"-\", OFFSET('Raw Data'!U78,Input_Details!$B$34,Input_Details!$B$32))","v":21},{"$f":"IF(OFFSET('Raw Data'!V78,Input_Details!$B$34,Input_Details!$B$32)=\"\", \"-\", OFFSET('Raw Data'!V78,Input_Details!$B$34,Input_Details!$B$32))","v":44},{"$f":"IF(OFFSET('Raw Data'!W78,Input_Details!$B$34,Input_Details!$B$32)=\"\", \"-\", OFFSET('Raw Data'!W78,Input_Details!$B$34,Input_Details!$B$32))","v":23},{"$f":"IF(OFFSET('Raw Data'!X78,Input_Details!$B$34,Input_Details!$B$32)=\"\", \"-\", OFFSET('Raw Data'!X78,Input_Details!$B$34,Input_Details!$B$32))","v":6},{"$f":"IF(OFFSET('Raw Data'!Y78,Input_Details!$B$34,Input_Details!$B$32)=\"\", \"-\", OFFSET('Raw Data'!Y78,Input_Details!$B$34,Input_Details!$B$32))","v":2},{"$f":"IF(OFFSET('Raw Data'!Z78,Input_Details!$B$34,Input_Details!$B$32)=\"\", \"-\", OFFSET('Raw Data'!Z78,Input_Details!$B$34,Input_Details!$B$32))","v":1},{"$f":"IF(OFFSET('Raw Data'!AA78,Input_Details!$B$34,Input_Details!$B$32)=\"\", \"-\", OFFSET('Raw Data'!AA78,Input_Details!$B$34,Input_Details!$B$32))","v":0},{"$f":"IF(OFFSET('Raw Data'!AB78,Input_Details!$B$34,Input_Details!$B$32)=\"\", \"-\", OFFSET('Raw Data'!AB78,Input_Details!$B$34,Input_Details!$B$32))","v":0},{"$f":"IF(OFFSET('Raw Data'!AC78,Input_Details!$B$34,Input_Details!$B$32)=\"\", \"-\", OFFSET('Raw Data'!AC78,Input_Details!$B$34,Input_Details!$B$32))","v":0},{"$f":"IF(OFFSET('Raw Data'!AD78,Input_Details!$B$34,Input_Details!$B$32)=\"\", \"-\", OFFSET('Raw Data'!AD78,Input_Details!$B$34,Input_Details!$B$32))","v":0},{"$f":"IF(OFFSET('Raw Data'!AE78,Input_Details!$B$34,Input_Details!$B$32)=\"\", \"-\", OFFSET('Raw Data'!AE78,Input_Details!$B$34,Input_Details!$B$32))","v":0},{"$f":"IF(OFFSET('Raw Data'!AF78,Input_Details!$B$34,Input_Details!$B$32)=\"\", \"-\", OFFSET('Raw Data'!AF78,Input_Details!$B$34,Input_Details!$B$32))","v":0},{"$f":"IF(OFFSET('Raw Data'!AG78,Input_Details!$B$34,Input_Details!$B$32)=\"\", \"-\", OFFSET('Raw Data'!AG78,Input_Details!$B$34,Input_Details!$B$32))","v":0},{"$f":"IF(OFFSET('Raw Data'!AH78,Input_Details!$B$34,Input_Details!$B$32)=\"\", \"-\", OFFSET('Raw Data'!AH78,Input_Details!$B$34,Input_Details!$B$32))","v":0},{"$f":"IF(OFFSET('Raw Data'!AI78,Input_Details!$B$34,Input_Details!$B$32)=\"\", \"-\", OFFSET('Raw Data'!AI78,Input_Details!$B$34,Input_Details!$B$32))","v":0},{"$f":"IF(OFFSET('Raw Data'!AJ78,Input_Details!$B$34,Input_Details!$B$32)=\"\", \"-\", OFFSET('Raw Data'!AJ78,Input_Details!$B$34,Input_Details!$B$32))","v":0},{"$f":"IF(OFFSET('Raw Data'!AK78,Input_Details!$B$34,Input_Details!$B$32)=\"\", \"-\", OFFSET('Raw Data'!AK78,Input_Details!$B$34,Input_Details!$B$32))","v":0},{"$f":"IF(OFFSET('Raw Data'!AL78,Input_Details!$B$34,Input_Details!$B$32)=\"\", \"-\", OFFSET('Raw Data'!AL78,Input_Details!$B$34,Input_Details!$B$32))","v":0},{"$f":"IF(OFFSET('Raw Data'!AM78,Input_Details!$B$34,Input_Details!$B$32)=\"\", \"-\", OFFSET('Raw Data'!AM78,Input_Details!$B$34,Input_Details!$B$32))","v":0},null,{"$f":"IF(D100=\"-\",\"-\",OFFSET('Raw Data'!AN78,Input_Details!$B$34,Input_Details!$B$32))","v":18.718851251840945},{"$f":"IF(OFFSET('Raw Data'!AO78,Input_Details!$B$34,Input_Details!$B$32)=\"\", \"-\", OFFSET('Raw Data'!AO78,Input_Details!$B$34,Input_Details!$B$32))","v":20.714285714285715},{"$f":"IF(OFFSET('Raw Data'!AP78,Input_Details!$B$34,Input_Details!$B$32)=\"\", \"-\", OFFSET('Raw Data'!AP78,Input_Details!$B$34,Input_Details!$B$32))","v":4.9000000000000004},{"$f":"IF(OFFSET('Raw Data'!AQ78,Input_Details!$B$34,Input_Details!$B$32)=\"\", \"-\", OFFSET('Raw Data'!AQ78,Input_Details!$B$34,Input_Details!$B$32))","v":42.2},null,{"$f":"IF(Y100=\"-\", \"-\", SUM(OFFSET(D100,0,VLOOKUP(Input_Details!$N$3, $AF$3:$AG$12, 2,0)-1):W100))","v":32},0.32323232323232326]
[null,"18:45:00",null,{"$f":"IF(OFFSET('Raw Data'!T79,Input_Details!$B$34,Input_Details!$B$32)=\"\", \"-\", OFFSET('Raw Data'!T79,Input_Details!$B$34,Input_Details!$B$32))","v":3},{"$f":"IF(OFFSET('Raw Data'!U79,Input_Details!$B$34,Input_Details!$B$32)=\"\", \"-\", OFFSET('Raw Data'!U79,Input_Details!$B$34,Input_Details!$B$32))","v":22},{"$f":"IF(OFFSET('Raw Data'!V79,Input_Details!$B$34,Input_Details!$B$32)=\"\", \"-\", OFFSET('Raw Data'!V79,Input_Details!$B$34,Input_Details!$B$32))","v":40},{"$f":"IF(OFFSET('Raw Data'!W79,Input_Details!$B$34,Input_Details!$B$32)=\"\", \"-\", OFFSET('Raw Data'!W79,Input_Details!$B$34,Input_Details!$B$32))","v":19},{"$f":"IF(OFFSET('Raw Data'!X79,Input_Details!$B$34,Input_Details!$B$32)=\"\", \"-\", OFFSET('Raw Data'!X79,Input_Details!$B$34,Input_Details!$B$32))","v":5},{"$f":"IF(OFFSET('Raw Data'!Y79,Input_Details!$B$34,Input_Details!$B$32)=\"\", \"-\", OFFSET('Raw Data'!Y79,Input_Details!$B$34,Input_Details!$B$32))","v":2},{"$f":"IF(OFFSET('Raw Data'!Z79,Input_Details!$B$34,Input_Details!$B$32)=\"\", \"-\", OFFSET('Raw Data'!Z79,Input_Details!$B$34,Input_Details!$B$32))","v":0},{"$f":"IF(OFFSET('Raw Data'!AA79,Input_Details!$B$34,Input_Details!$B$32)=\"\", \"-\", OFFSET('Raw Data'!AA79,Input_Details!$B$34,Input_Details!$B$32))","v":0},{"$f":"IF(OFFSET('Raw Data'!AB79,Input_Details!$B$34,Input_Details!$B$32)=\"\", \"-\", OFFSET('Raw Data'!AB79,Input_Details!$B$34,Input_Details!$B$32))","v":0},{"$f":"IF(OFFSET('Raw Data'!AC79,Input_Details!$B$34,Input_Details!$B$32)=\"\", \"-\", OFFSET('Raw Data'!AC79,Input_Details!$B$34,Input_Details!$B$32))","v":0},{"$f":"IF(OFFSET('Raw Data'!AD79,Input_Details!$B$34,Input_Details!$B$32)=\"\", \"-\", OFFSET('Raw Data'!AD79,Input_Details!$B$34,Input_Details!$B$32))","v":0},{"$f":"IF(OFFSET('Raw Data'!AE79,Input_Details!$B$34,Input_Details!$B$32)=\"\", \"-\", OFFSET('Raw Data'!AE79,Input_Details!$B$34,Input_Details!$B$32))","v":0},{"$f":"IF(OFFSET('Raw Data'!AF79,Input_Details!$B$34,Input_Details!$B$32)=\"\", \"-\", OFFSET('Raw Data'!AF79,Input_Details!$B$34,Input_Details!$B$32))","v":0},{"$f":"IF(OFFSET('Raw Data'!AG79,Input_Details!$B$34,Input_Details!$B$32)=\"\", \"-\", OFFSET('Raw Data'!AG79,Input_Details!$B$34,Input_Details!$B$32))","v":0},{"$f":"IF(OFFSET('Raw Data'!AH79,Input_Details!$B$34,Input_Details!$B$32)=\"\", \"-\", OFFSET('Raw Data'!AH79,Input_Details!$B$34,Input_Details!$B$32))","v":0},{"$f":"IF(OFFSET('Raw Data'!AI79,Input_Details!$B$34,Input_Details!$B$32)=\"\", \"-\", OFFSET('Raw Data'!AI79,Input_Details!$B$34,Input_Details!$B$32))","v":0},{"$f":"IF(OFFSET('Raw Data'!AJ79,Input_Details!$B$34,Input_Details!$B$32)=\"\", \"-\", OFFSET('Raw Data'!AJ79,Input_Details!$B$34,Input_Details!$B$32))","v":0},{"$f":"IF(OFFSET('Raw Data'!AK79,Input_Details!$B$34,Input_Details!$B$32)=\"\", \"-\", OFFSET('Raw Data'!AK79,Input_Details!$B$34,Input_Details!$B$32))","v":0},{"$f":"IF(OFFSET('Raw Data'!AL79,Input_Details!$B$34,Input_Details!$B$32)=\"\", \"-\", OFFSET('Raw Data'!AL79,Input_Details!$B$34,Input_Details!$B$32))","v":0},{"$f":"IF(OFFSET('Raw Data'!AM79,Input_Details!$B$34,Input_Details!$B$32)=\"\", \"-\", OFFSET('Raw Data'!AM79,Input_Details!$B$34,Input_Details!$B$32))","v":0},null,{"$f":"IF(D101=\"-\",\"-\",OFFSET('Raw Data'!AN79,Input_Details!$B$34,Input_Details!$B$32))","v":18.028571428571425},{"$f":"IF(OFFSET('Raw Data'!AO79,Input_Details!$B$34,Input_Details!$B$32)=\"\", \"-\", OFFSET('Raw Data'!AO79,Input_Details!$B$34,Input_Details!$B$32))","v":19.814285714285713},{"$f":"IF(OFFSET('Raw Data'!AP79,Input_Details!$B$34,Input_Details!$B$32)=\"\", \"-\", OFFSET('Raw Data'!AP79,Input_Details!$B$34,Input_Details!$B$32))","v":5.8},{"$f":"IF(OFFSET('Raw Data'!AQ79,Input_Details!$B$34,Input_Details!$B$32)=\"\", \"-\", OFFSET('Raw Data'!AQ79,Input_Details!$B$34,Input_Details!$B$32))","v":37.1},null,{"$f":"IF(Y101=\"-\", \"-\", SUM(OFFSET(D101,0,VLOOKUP(Input_Details!$N$3, $AF$3:$AG$12, 2,0)-1):W101))","v":26},0.2857142857142857]
[null,"19:00:00",null,{"$f":"IF(OFFSET('Raw Data'!T80,Input_Details!$B$34,Input_Details!$B$32)=\"\", \"-\", OFFSET('Raw Data'!T80,Input_Details!$B$34,Input_Details!$B$32))","v":2},{"$f":"IF(OFFSET('Raw Data'!U80,Input_Details!$B$34,Input_Details!$B$32)=\"\", \"-\", OFFSET('Raw Data'!U80,Input_Details!$B$34,Input_Details!$B$32))","v":17},{"$f":"IF(OFFSET('Raw Data'!V80,Input_Details!$B$34,Input_Details!$B$32)=\"\", \"-\", OFFSET('Raw Data'!V80,Input_Details!$B$34,Input_Details!$B$32))","v":47},{"$f":"IF(OFFSET('Raw Data'!W80,Input_Details!$B$34,Input_Details!$B$32)=\"\", \"-\", OFFSET('Raw Data'!W80,Input_Details!$B$34,Input_Details!$B$32))","v":19},{"$f":"IF(OFFSET('Raw Data'!X80,Input_Details!$B$34,Input_Details!$B$32)=\"\", \"-\", OFFSET('Raw Data'!X80,Input_Details!$B$34,Input_Details!$B$32))","v":5},{"$f":"IF(OFFSET('Raw Data'!Y80,Input_Details!$B$34,Input_Details!$B$32)=\"\", \"-\", OFFSET('Raw Data'!Y80,Input_Details!$B$34,Input_Details!$B$32))","v":2},{"$f":"IF(OFFSET('Raw Data'!Z80,Input_Details!$B$34,Input_Details!$B$32)=\"\", \"-\", OFFSET('Raw Data'!Z80,Input_Details!$B$34,Input_Details!$B$32))","v":1},{"$f":"IF(OFFSET('Raw Data'!AA80,Input_Details!$B$34,Input_Details!$B$32)=\"\", \"-\", OFFSET('Raw Data'!AA80,Input_Details!$B$34,Input_Details!$B$32))","v":0},{"$f":"IF(OFFSET('Raw Data'!AB80,Input_Details!$B$34,Input_Details!$B$32)=\"\", \"-\", OFFSET('Raw Data'!AB80,Input_Details!$B$34,Input_Details!$B$32))","v":0},{"$f":"IF(OFFSET('Raw Data'!AC80,Input_Details!$B$34,Input_Details!$B$32)=\"\", \"-\", OFFSET('Raw Data'!AC80,Input_Details!$B$34,Input_Details!$B$32))","v":0},{"$f":"IF(OFFSET('Raw Data'!AD80,Input_Details!$B$34,Input_Details!$B$32)=\"\", \"-\", OFFSET('Raw Data'!AD80,Input_Details!$B$34,Input_Details!$B$32))","v":0},{"$f":"IF(OFFSET('Raw Data'!AE80,Input_Details!$B$34,Input_Details!$B$32)=\"\", \"-\", OFFSET('Raw Data'!AE80,Input_Details!$B$34,Input_Details!$B$32))","v":0},{"$f":"IF(OFFSET('Raw Data'!AF80,Input_Details!$B$34,Input_Details!$B$32)=\"\", \"-\", OFFSET('Raw Data'!AF80,Input_Details!$B$34,Input_Details!$B$32))","v":0},{"$f":"IF(OFFSET('Raw Data'!AG80,Input_Details!$B$34,Input_Details!$B$32)=\"\", \"-\", OFFSET('Raw Data'!AG80,Input_Details!$B$34,Input_Details!$B$32))","v":0},{"$f":"IF(OFFSET('Raw Data'!AH80,Input_Details!$B$34,Input_Details!$B$32)=\"\", \"-\", OFFSET('Raw Data'!AH80,Input_Details!$B$34,Input_Details!$B$32))","v":0},{"$f":"IF(OFFSET('Raw Data'!AI80,Input_Details!$B$34,Input_Details!$B$32)=\"\", \"-\", OFFSET('Raw Data'!AI80,Input_Details!$B$34,Input_Details!$B$32))","v":0},{"$f":"IF(OFFSET('Raw Data'!AJ80,Input_Details!$B$34,Input_Details!$B$32)=\"\", \"-\", OFFSET('Raw Data'!AJ80,Input_Details!$B$34,Input_Details!$B$32))","v":0},{"$f":"IF(OFFSET('Raw Data'!AK80,Input_Details!$B$34,Input_Details!$B$32)=\"\", \"-\", OFFSET('Raw Data'!AK80,Input_Details!$B$34,Input_Details!$B$32))","v":0},{"$f":"IF(OFFSET('Raw Data'!AL80,Input_Details!$B$34,Input_Details!$B$32)=\"\", \"-\", OFFSET('Raw Data'!AL80,Input_Details!$B$34,Input_Details!$B$32))","v":0},{"$f":"IF(OFFSET('Raw Data'!AM80,Input_Details!$B$34,Input_Details!$B$32)=\"\", \"-\", OFFSET('Raw Data'!AM80,Input_Details!$B$34,Input_Details!$B$32))","v":0},null,{"$f":"IF(D102=\"-\",\"-\",OFFSET('Raw Data'!AN80,Input_Details!$B$34,Input_Details!$B$32))","v":18.399534161490681},{"$f":"IF(OFFSET('Raw Data'!AO80,Input_Details!$B$34,Input_Details!$B$32)=\"\", \"-\", OFFSET('Raw Data'!AO80,Input_Details!$B$34,Input_Details!$B$32))","v":21.126785714285713},{"$f":"IF(OFFSET('Raw Data'!AP80,Input_Details!$B$34,Input_Details!$B$32)=\"\", \"-\", OFFSET('Raw Data'!AP80,Input_Details!$B$34,Input_Details!$B$32))","v":6.1},{"$f":"IF(OFFSET('Raw Data'!AQ80,Input_Details!$B$34,Input_Details!$B$32)=\"\", \"-\", OFFSET('Raw Data'!AQ80,Input_Details!$B$34,Input_Details!$B$32))","v":43.4},null,{"$f":"IF(Y102=\"-\", \"-\", SUM(OFFSET(D102,0,VLOOKUP(Input_Details!$N$3, $AF$3:$AG$12, 2,0)-1):W102))","v":27},0.29032258064516131]
[null,"19:15:00",null,{"$f":"IF(OFFSET('Raw Data'!T81,Input_Details!$B$34,Input_Details!$B$32)=\"\", \"-\", OFFSET('Raw Data'!T81,Input_Details!$B$34,Input_Details!$B$32))","v":2},{"$f":"IF(OFFSET('Raw Data'!U81,Input_Details!$B$34,Input_Details!$B$32)=\"\", \"-\", OFFSET('Raw Data'!U81,Input_Details!$B$34,Input_Details!$B$32))","v":17},{"$f":"IF(OFFSET('Raw Data'!V81,Input_Details!$B$34,Input_Details!$B$32)=\"\", \"-\", OFFSET('Raw Data'!V81,Input_Details!$B$34,Input_Details!$B$32))","v":37},{"$f":"IF(OFFSET('Raw Data'!W81,Input_Details!$B$34,Input_Details!$B$32)=\"\", \"-\", OFFSET('Raw Data'!W81,Input_Details!$B$34,Input_Details!$B$32))","v":20},{"$f":"IF(OFFSET('Raw Data'!X81,Input_Details!$B$34,Input_Details!$B$32)=\"\", \"-\", OFFSET('Raw Data'!X81,Input_Details!$B$34,Input_Details!$B$32))","v":3},{"$f":"IF(OFFSET('Raw Data'!Y81,Input_Details!$B$34,Input_Details!$B$32)=\"\", \"-\", OFFSET('Raw Data'!Y81,Input_Details!$B$34,Input_Details!$B$32))","v":2},{"$f":"IF(OFFSET('Raw Data'!Z81,Input_Details!$B$34,Input_Details!$B$32)=\"\", \"-\", OFFSET('Raw Data'!Z81,Input_Details!$B$34,Input_Details!$B$32))","v":0},{"$f":"IF(OFFSET('Raw Data'!AA81,Input_Details!$B$34,Input_Details!$B$32)=\"\", \"-\", OFFSET('Raw Data'!AA81,Input_Details!$B$34,Input_Details!$B$32))","v":0},{"$f":"IF(OFFSET('Raw Data'!AB81,Input_Details!$B$34,Input_Details!$B$32)=\"\", \"-\", OFFSET('Raw Data'!AB81,Input_Details!$B$34,Input_Details!$B$32))","v":0},{"$f":"IF(OFFSET('Raw Data'!AC81,Input_Details!$B$34,Input_Details!$B$32)=\"\", \"-\", OFFSET('Raw Data'!AC81,Input_Details!$B$34,Input_Details!$B$32))","v":0},{"$f":"IF(OFFSET('Raw Data'!AD81,Input_Details!$B$34,Input_Details!$B$32)=\"\", \"-\", OFFSET('Raw Data'!AD81,Input_Details!$B$34,Input_Details!$B$32))","v":0},{"$f":"IF(OFFSET('Raw Data'!AE81,Input_Details!$B$34,Input_Details!$B$32)=\"\", \"-\", OFFSET('Raw Data'!AE81,Input_Details!$B$34,Input_Details!$B$32))","v":0},{"$f":"IF(OFFSET('Raw Data'!AF81,Input_Details!$B$34,Input_Details!$B$32)=\"\", \"-\", OFFSET('Raw Data'!AF81,Input_Details!$B$34,Input_Details!$B$32))","v":0},{"$f":"IF(OFFSET('Raw Data'!AG81,Input_Details!$B$34,Input_Details!$B$32)=\"\", \"-\", OFFSET('Raw Data'!AG81,Input_Details!$B$34,Input_Details!$B$32))","v":0},{"$f":"IF(OFFSET('Raw Data'!AH81,Input_Details!$B$34,Input_Details!$B$32)=\"\", \"-\", OFFSET('Raw Data'!AH81,Input_Details!$B$34,Input_Details!$B$32))","v":0},{"$f":"IF(OFFSET('Raw Data'!AI81,Input_Details!$B$34,Input_Details!$B$32)=\"\", \"-\", OFFSET('Raw Data'!AI81,Input_Details!$B$34,Input_Details!$B$32))","v":0},{"$f":"IF(OFFSET('Raw Data'!AJ81,Input_Details!$B$34,Input_Details!$B$32)=\"\", \"-\", OFFSET('Raw Data'!AJ81,Input_Details!$B$34,Input_Details!$B$32))","v":0},{"$f":"IF(OFFSET('Raw Data'!AK81,Input_Details!$B$34,Input_Details!$B$32)=\"\", \"-\", OFFSET('Raw Data'!AK81,Input_Details!$B$34,Input_Details!$B$32))","v":0},{"$f":"IF(OFFSET('Raw Data'!AL81,Input_Details!$B$34,Input_Details!$B$32)=\"\", \"-\", OFFSET('Raw Data'!AL81,Input_Details!$B$34,Input_Details!$B$32))","v":0},{"$f":"IF(OFFSET('Raw Data'!AM81,Input_Details!$B$34,Input_Details!$B$32)=\"\", \"-\", OFFSET('Raw Data'!AM81,Input_Details!$B$34,Input_Details!$B$32))","v":0},null,{"$f":"IF(D103=\"-\",\"-\",OFFSET('Raw Data'!AN81,Input_Details!$B$34,Input_Details!$B$32))","v":18.426785714285717},{"$f":"IF(OFFSET('Raw Data'!AO81,Input_Details!$B$34,Input_Details!$B$32)=\"\", \"-\", OFFSET('Raw Data'!AO81,Input_Details!$B$34,Input_Details!$B$32))","v":20.097619047619048},{"$f":"IF(OFFSET('Raw Data'!AP81,Input_Details!$B$34,Input_Details!$B$32)=\"\", \"-\", OFFSET('Raw Data'!AP81,Input_Details!$B$34,Input_Details!$B$32))","v":7.2},{"$f":"IF(OFFSET('Raw Data'!AQ81,Input_Details!$B$34,Input_Details!$B$32)=\"\", \"-\", OFFSET('Raw Data'!AQ81,Input_Details!$B$34,Input_Details!$B$32))","v":39.799999999999997},null,{"$f":"IF(Y103=\"-\", \"-\", SUM(OFFSET(D103,0,VLOOKUP(Input_Details!$N$3, $AF$3:$AG$12, 2,0)-1):W103))","v":25},0.30864197530864196]
[null,"19:30:00",null,{"$f":"IF(OFFSET('Raw Data'!T82,Input_Details!$B$34,Input_Details!$B$32)=\"\", \"-\", OFFSET('Raw Data'!T82,Input_Details!$B$34,Input_Details!$B$32))","v":1},{"$f":"IF(OFFSET('Raw Data'!U82,Input_Details!$B$34,Input_Details!$B$32)=\"\", \"-\", OFFSET('Raw Data'!U82,Input_Details!$B$34,Input_Details!$B$32))","v":17},{"$f":"IF(OFFSET('Raw Data'!V82,Input_Details!$B$34,Input_Details!$B$32)=\"\", \"-\", OFFSET('Raw Data'!V82,Input_Details!$B$34,Input_Details!$B$32))","v":41},{"$f":"IF(OFFSET('Raw Data'!W82,Input_Details!$B$34,Input_Details!$B$32)=\"\", \"-\", OFFSET('Raw Data'!W82,Input_Details!$B$34,Input_Details!$B$32))","v":13},{"$f":"IF(OFFSET('Raw Data'!X82,Input_Details!$B$34,Input_Details!$B$32)=\"\", \"-\", OFFSET('Raw Data'!X82,Input_Details!$B$34,Input_Details!$B$32))","v":5},{"$f":"IF(OFFSET('Raw Data'!Y82,Input_Details!$B$34,Input_Details!$B$32)=\"\", \"-\", OFFSET('Raw Data'!Y82,Input_Details!$B$34,Input_Details!$B$32))","v":1},{"$f":"IF(OFFSET('Raw Data'!Z82,Input_Details!$B$34,Input_Details!$B$32)=\"\", \"-\", OFFSET('Raw Data'!Z82,Input_Details!$B$34,Input_Details!$B$32))","v":1},{"$f":"IF(OFFSET('Raw Data'!AA82,Input_Details!$B$34,Input_Details!$B$32)=\"\", \"-\", OFFSET('Raw Data'!AA82,Input_Details!$B$34,Input_Details!$B$32))","v":0},{"$f":"IF(OFFSET('Raw Data'!AB82,Input_Details!$B$34,Input_Details!$B$32)=\"\", \"-\", OFFSET('Raw Data'!AB82,Input_Details!$B$34,Input_Details!$B$32))","v":0},{"$f":"IF(OFFSET('Raw Data'!AC82,Input_Details!$B$34,Input_Details!$B$32)=\"\", \"-\", OFFSET('Raw Data'!AC82,Input_Details!$B$34,Input_Details!$B$32))","v":0},{"$f":"IF(OFFSET('Raw Data'!AD82,Input_Details!$B$34,Input_Details!$B$32)=\"\", \"-\", OFFSET('Raw Data'!AD82,Input_Details!$B$34,Input_Details!$B$32))","v":0},{"$f":"IF(OFFSET('Raw Data'!AE82,Input_Details!$B$34,Input_Details!$B$32)=\"\", \"-\", OFFSET('Raw Data'!AE82,Input_Details!$B$34,Input_Details!$B$32))","v":0},{"$f":"IF(OFFSET('Raw Data'!AF82,Input_Details!$B$34,Input_Details!$B$32)=\"\", \"-\", OFFSET('Raw Data'!AF82,Input_Details!$B$34,Input_Details!$B$32))","v":0},{"$f":"IF(OFFSET('Raw Data'!AG82,Input_Details!$B$34,Input_Details!$B$32)=\"\", \"-\", OFFSET('Raw Data'!AG82,Input_Details!$B$34,Input_Details!$B$32))","v":0},{"$f":"IF(OFFSET('Raw Data'!AH82,Input_Details!$B$34,Input_Details!$B$32)=\"\", \"-\", OFFSET('Raw Data'!AH82,Input_Details!$B$34,Input_Details!$B$32))","v":0},{"$f":"IF(OFFSET('Raw Data'!AI82,Input_Details!$B$34,Input_Details!$B$32)=\"\", \"-\", OFFSET('Raw Data'!AI82,Input_Details!$B$34,Input_Details!$B$32))","v":0},{"$f":"IF(OFFSET('Raw Data'!AJ82,Input_Details!$B$34,Input_Details!$B$32)=\"\", \"-\", OFFSET('Raw Data'!AJ82,Input_Details!$B$34,Input_Details!$B$32))","v":0},{"$f":"IF(OFFSET('Raw Data'!AK82,Input_Details!$B$34,Input_Details!$B$32)=\"\", \"-\", OFFSET('Raw Data'!AK82,Input_Details!$B$34,Input_Details!$B$32))","v":0},{"$f":"IF(OFFSET('Raw Data'!AL82,Input_Details!$B$34,Input_Details!$B$32)=\"\", \"-\", OFFSET('Raw Data'!AL82,Input_Details!$B$34,Input_Details!$B$32))","v":0},{"$f":"IF(OFFSET('Raw Data'!AM82,Input_Details!$B$34,Input_Details!$B$32)=\"\", \"-\", OFFSET('Raw Data'!AM82,Input_Details!$B$34,Input_Details!$B$32))","v":0},null,{"$f":"IF(D104=\"-\",\"-\",OFFSET('Raw Data'!AN82,Input_Details!$B$34,Input_Details!$B$32))","v":18.241964285714282},{"$f":"IF(OFFSET('Raw Data'!AO82,Input_Details!$B$34,Input_Details!$B$32)=\"\", \"-\", OFFSET('Raw Data'!AO82,Input_Details!$B$34,Input_Details!$B$32))","v":22.455357142857142},{"$f":"IF(OFFSET('Raw Data'!AP82,Input_Details!$B$34,Input_Details!$B$32)=\"\", \"-\", OFFSET('Raw Data'!AP82,Input_Details!$B$34,Input_Details!$B$32))","v":7.1},{"$f":"IF(OFFSET('Raw Data'!AQ82,Input_Details!$B$34,Input_Details!$B$32)=\"\", \"-\", OFFSET('Raw Data'!AQ82,Input_Details!$B$34,Input_Details!$B$32))","v":43.2},null,{"$f":"IF(Y104=\"-\", \"-\", SUM(OFFSET(D104,0,VLOOKUP(Input_Details!$N$3, $AF$3:$AG$12, 2,0)-1):W104))","v":20},0.25316455696202533]
[null,"19:45:00",null,{"$f":"IF(OFFSET('Raw Data'!T83,Input_Details!$B$34,Input_Details!$B$32)=\"\", \"-\", OFFSET('Raw Data'!T83,Input_Details!$B$34,Input_Details!$B$32))","v":2},{"$f":"IF(OFFSET('Raw Data'!U83,Input_Details!$B$34,Input_Details!$B$32)=\"\", \"-\", OFFSET('Raw Data'!U83,Input_Details!$B$34,Input_Details!$B$32))","v":17},{"$f":"IF(OFFSET('Raw Data'!V83,Input_Details!$B$34,Input_Details!$B$32)=\"\", \"-\", OFFSET('Raw Data'!V83,Input_Details!$B$34,Input_Details!$B$32))","v":31},{"$f":"IF(OFFSET('Raw Data'!W83,Input_Details!$B$34,Input_Details!$B$32)=\"\", \"-\", OFFSET('Raw Data'!W83,Input_Details!$B$34,Input_Details!$B$32))","v":16},{"$f":"IF(OFFSET('Raw Data'!X83,Input_Details!$B$34,Input_Details!$B$32)=\"\", \"-\", OFFSET('Raw Data'!X83,Input_Details!$B$34,Input_Details!$B$32))","v":3},{"$f":"IF(OFFSET('Raw Data'!Y83,Input_Details!$B$34,Input_Details!$B$32)=\"\", \"-\", OFFSET('Raw Data'!Y83,Input_Details!$B$34,Input_Details!$B$32))","v":1},{"$f":"IF(OFFSET('Raw Data'!Z83,Input_Details!$B$34,Input_Details!$B$32)=\"\", \"-\", OFFSET('Raw Data'!Z83,Input_Details!$B$34,Input_Details!$B$32))","v":0},{"$f":"IF(OFFSET('Raw Data'!AA83,Input_Details!$B$34,Input_Details!$B$32)=\"\", \"-\", OFFSET('Raw Data'!AA83,Input_Details!$B$34,Input_Details!$B$32))","v":0},{"$f":"IF(OFFSET('Raw Data'!AB83,Input_Details!$B$34,Input_Details!$B$32)=\"\", \"-\", OFFSET('Raw Data'!AB83,Input_Details!$B$34,Input_Details!$B$32))","v":0},{"$f":"IF(OFFSET('Raw Data'!AC83,Input_Details!$B$34,Input_Details!$B$32)=\"\", \"-\", OFFSET('Raw Data'!AC83,Input_Details!$B$34,Input_Details!$B$32))","v":0},{"$f":"IF(OFFSET('Raw Data'!AD83,Input_Details!$B$34,Input_Details!$B$32)=\"\", \"-\", OFFSET('Raw Data'!AD83,Input_Details!$B$34,Input_Details!$B$32))","v":0},{"$f":"IF(OFFSET('Raw Data'!AE83,Input_Details!$B$34,Input_Details!$B$32)=\"\", \"-\", OFFSET('Raw Data'!AE83,Input_Details!$B$34,Input_Details!$B$32))","v":0},{"$f":"IF(OFFSET('Raw Data'!AF83,Input_Details!$B$34,Input_Details!$B$32)=\"\", \"-\", OFFSET('Raw Data'!AF83,Input_Details!$B$34,Input_Details!$B$32))","v":0},{"$f":"IF(OFFSET('Raw Data'!AG83,Input_Details!$B$34,Input_Details!$B$32)=\"\", \"-\", OFFSET('Raw Data'!AG83,Input_Details!$B$34,Input_Details!$B$32))","v":0},{"$f":"IF(OFFSET('Raw Data'!AH83,Input_Details!$B$34,Input_Details!$B$32)=\"\", \"-\", OFFSET('Raw Data'!AH83,Input_Details!$B$34,Input_Details!$B$32))","v":0},{"$f":"IF(OFFSET('Raw Data'!AI83,Input_Details!$B$34,Input_Details!$B$32)=\"\", \"-\", OFFSET('Raw Data'!AI83,Input_Details!$B$34,Input_Details!$B$32))","v":0},{"$f":"IF(OFFSET('Raw Data'!AJ83,Input_Details!$B$34,Input_Details!$B$32)=\"\", \"-\", OFFSET('Raw Data'!AJ83,Input_Details!$B$34,Input_Details!$B$32))","v":0},{"$f":"IF(OFFSET('Raw Data'!AK83,Input_Details!$B$34,Input_Details!$B$32)=\"\", \"-\", OFFSET('Raw Data'!AK83,Input_Details!$B$34,Input_Details!$B$32))","v":0},{"$f":"IF(OFFSET('Raw Data'!AL83,Input_Details!$B$34,Input_Details!$B$32)=\"\", \"-\", OFFSET('Raw Data'!AL83,Input_Details!$B$34,Input_Details!$B$32))","v":0},{"$f":"IF(OFFSET('Raw Data'!AM83,Input_Details!$B$34,Input_Details!$B$32)=\"\", \"-\", OFFSET('Raw Data'!AM83,Input_Details!$B$34,Input_Details!$B$32))","v":0},null,{"$f":"IF(D105=\"-\",\"-\",OFFSET('Raw Data'!AN83,Input_Details!$B$34,Input_Details!$B$32))","v":18.003018108651911},{"$f":"IF(OFFSET('Raw Data'!AO83,Input_Details!$B$34,Input_Details!$B$32)=\"\", \"-\", OFFSET('Raw Data'!AO83,Input_Details!$B$34,Input_Details!$B$32))","v":18.203571428571429},{"$f":"IF(OFFSET('Raw Data'!AP83,Input_Details!$B$34,Input_Details!$B$32)=\"\", \"-\", OFFSET('Raw Data'!AP83,Input_Details!$B$34,Input_Details!$B$32))","v":4.0999999999999996},{"$f":"IF(OFFSET('Raw Data'!AQ83,Input_Details!$B$34,Input_Details!$B$32)=\"\", \"-\", OFFSET('Raw Data'!AQ83,Input_Details!$B$34,Input_Details!$B$32))","v":37.700000000000003},null,{"$f":"IF(Y105=\"-\", \"-\", SUM(OFFSET(D105,0,VLOOKUP(Input_Details!$N$3, $AF$3:$AG$12, 2,0)-1):W105))","v":20},0.2857142857142857]
[null,"20:00:00",null,{"$f":"IF(OFFSET('Raw Data'!T84,Input_Details!$B$34,Input_Details!$B$32)=\"\", \"-\", OFFSET('Raw Data'!T84,Input_Details!$B$34,Input_Details!$B$32))","v":3},{"$f":"IF(OFFSET('Raw Data'!U84,Input_Details!$B$34,Input_Details!$B$32)=\"\", \"-\", OFFSET('Raw Data'!U84,Input_Details!$B$34,Input_Details!$B$32))","v":11},{"$f":"IF(OFFSET('Raw Data'!V84,Input_Details!$B$34,Input_Details!$B$32)=\"\", \"-\", OFFSET('Raw Data'!V84,Input_Details!$B$34,Input_Details!$B$32))","v":33},{"$f":"IF(OFFSET('Raw Data'!W84,Input_Details!$B$34,Input_Details!$B$32)=\"\", \"-\", OFFSET('Raw Data'!W84,Input_Details!$B$34,Input_Details!$B$32))","v":13},{"$f":"IF(OFFSET('Raw Data'!X84,Input_Details!$B$34,Input_Details!$B$32)=\"\", \"-\", OFFSET('Raw Data'!X84,Input_Details!$B$34,Input_Details!$B$32))","v":3},{"$f":"IF(OFFSET('Raw Data'!Y84,Input_Details!$B$34,Input_Details!$B$32)=\"\", \"-\", OFFSET('Raw Data'!Y84,Input_Details!$B$34,Input_Details!$B$32))","v":1},{"$f":"IF(OFFSET('Raw Data'!Z84,Input_Details!$B$34,Input_Details!$B$32)=\"\", \"-\", OFFSET('Raw Data'!Z84,Input_Details!$B$34,Input_Details!$B$32))","v":0},{"$f":"IF(OFFSET('Raw Data'!AA84,Input_Details!$B$34,Input_Details!$B$32)=\"\", \"-\", OFFSET('Raw Data'!AA84,Input_Details!$B$34,Input_Details!$B$32))","v":0},{"$f":"IF(OFFSET('Raw Data'!AB84,Input_Details!$B$34,Input_Details!$B$32)=\"\", \"-\", OFFSET('Raw Data'!AB84,Input_Details!$B$34,Input_Details!$B$32))","v":0},{"$f":"IF(OFFSET('Raw Data'!AC84,Input_Details!$B$34,Input_Details!$B$32)=\"\", \"-\", OFFSET('Raw Data'!AC84,Input_Details!$B$34,Input_Details!$B$32))","v":0},{"$f":"IF(OFFSET('Raw Data'!AD84,Input_Details!$B$34,Input_Details!$B$32)=\"\", \"-\", OFFSET('Raw Data'!AD84,Input_Details!$B$34,Input_Details!$B$32))","v":0},{"$f":"IF(OFFSET('Raw Data'!AE84,Input_Details!$B$34,Input_Details!$B$32)=\"\", \"-\", OFFSET('Raw Data'!AE84,Input_Details!$B$34,Input_Details!$B$32))","v":0},{"$f":"IF(OFFSET('Raw Data'!AF84,Input_Details!$B$34,Input_Details!$B$32)=\"\", \"-\", OFFSET('Raw Data'!AF84,Input_Details!$B$34,Input_Details!$B$32))","v":0},{"$f":"IF(OFFSET('Raw Data'!AG84,Input_Details!$B$34,Input_Details!$B$32)=\"\", \"-\", OFFSET('Raw Data'!AG84,Input_Details!$B$34,Input_Details!$B$32))","v":0},{"$f":"IF(OFFSET('Raw Data'!AH84,Input_Details!$B$34,Input_Details!$B$32)=\"\", \"-\", OFFSET('Raw Data'!AH84,Input_Details!$B$34,Input_Details!$B$32))","v":0},{"$f":"IF(OFFSET('Raw Data'!AI84,Input_Details!$B$34,Input_Details!$B$32)=\"\", \"-\", OFFSET('Raw Data'!AI84,Input_Details!$B$34,Input_Details!$B$32))","v":0},{"$f":"IF(OFFSET('Raw Data'!AJ84,Input_Details!$B$34,Input_Details!$B$32)=\"\", \"-\", OFFSET('Raw Data'!AJ84,Input_Details!$B$34,Input_Details!$B$32))","v":0},{"$f":"IF(OFFSET('Raw Data'!AK84,Input_Details!$B$34,Input_Details!$B$32)=\"\", \"-\", OFFSET('Raw Data'!AK84,Input_Details!$B$34,Input_Details!$B$32))","v":0},{"$f":"IF(OFFSET('Raw Data'!AL84,Input_Details!$B$34,Input_Details!$B$32)=\"\", \"-\", OFFSET('Raw Data'!AL84,Input_Details!$B$34,Input_Details!$B$32))","v":0},{"$f":"IF(OFFSET('Raw Data'!AM84,Input_Details!$B$34,Input_Details!$B$32)=\"\", \"-\", OFFSET('Raw Data'!AM84,Input_Details!$B$34,Input_Details!$B$32))","v":0},null,{"$f":"IF(D106=\"-\",\"-\",OFFSET('Raw Data'!AN84,Input_Details!$B$34,Input_Details!$B$32))","v":17.870535714285715},{"$f":"IF(OFFSET('Raw Data'!AO84,Input_Details!$B$34,Input_Details!$B$32)=\"\", \"-\", OFFSET('Raw Data'!AO84,Input_Details!$B$34,Input_Details!$B$32))","v":20.723809523809525},{"$f":"IF(OFFSET('Raw Data'!AP84,Input_Details!$B$34,Input_Details!$B$32)=\"\", \"-\", OFFSET('Raw Data'!AP84,Input_Details!$B$34,Input_Details!$B$32))","v":7.7},{"$f":"IF(OFFSET('Raw Data'!AQ84,Input_Details!$B$34,Input_Details!$B$32)=\"\", \"-\", OFFSET('Raw Data'!AQ84,Input_Details!$B$34,Input_Details!$B$32))","v":34.200000000000003},null,{"$f":"IF(Y106=\"-\", \"-\", SUM(OFFSET(D106,0,VLOOKUP(Input_Details!$N$3, $AF$3:$AG$12, 2,0)-1):W106))","v":17},0.265625]
[null,"20:15:00",null,{"$f":"IF(OFFSET('Raw Data'!T85,Input_Details!$B$34,Input_Details!$B$32)=\"\", \"-\", OFFSET('Raw Data'!T85,Input_Details!$B$34,Input_Details!$B$32))","v":1},{"$f":"IF(OFFSET('Raw Data'!U85,Input_Details!$B$34,Input_Details!$B$32)=\"\", \"-\", OFFSET('Raw Data'!U85,Input_Details!$B$34,Input_Details!$B$32))","v":18},{"$f":"IF(OFFSET('Raw Data'!V85,Input_Details!$B$34,Input_Details!$B$32)=\"\", \"-\", OFFSET('Raw Data'!V85,Input_Details!$B$34,Input_Details!$B$32))","v":29},{"$f":"IF(OFFSET('Raw Data'!W85,Input_Details!$B$34,Input_Details!$B$32)=\"\", \"-\", OFFSET('Raw Data'!W85,Input_Details!$B$34,Input_Details!$B$32))","v":11},{"$f":"IF(OFFSET('Raw Data'!X85,Input_Details!$B$34,Input_Details!$B$32)=\"\", \"-\", OFFSET('Raw Data'!X85,Input_Details!$B$34,Input_Details!$B$32))","v":2},{"$f":"IF(OFFSET('Raw Data'!Y85,Input_Details!$B$34,Input_Details!$B$32)=\"\", \"-\", OFFSET('Raw Data'!Y85,Input_Details!$B$34,Input_Details!$B$32))","v":1},{"$f":"IF(OFFSET('Raw Data'!Z85,Input_Details!$B$34,Input_Details!$B$32)=\"\", \"-\", OFFSET('Raw Data'!Z85,Input_Details!$B$34,Input_Details!$B$32))","v":0},{"$f":"IF(OFFSET('Raw Data'!AA85,Input_Details!$B$34,Input_Details!$B$32)=\"\", \"-\", OFFSET('Raw Data'!AA85,Input_Details!$B$34,Input_Details!$B$32))","v":0},{"$f":"IF(OFFSET('Raw Data'!AB85,Input_Details!$B$34,Input_Details!$B$32)=\"\", \"-\", OFFSET('Raw Data'!AB85,Input_Details!$B$34,Input_Details!$B$32))","v":0},{"$f":"IF(OFFSET('Raw Data'!AC85,Input_Details!$B$34,Input_Details!$B$32)=\"\", \"-\", OFFSET('Raw Data'!AC85,Input_Details!$B$34,Input_Details!$B$32))","v":0},{"$f":"IF(OFFSET('Raw Data'!AD85,Input_Details!$B$34,Input_Details!$B$32)=\"\", \"-\", OFFSET('Raw Data'!AD85,Input_Details!$B$34,Input_Details!$B$32))","v":0},{"$f":"IF(OFFSET('Raw Data'!AE85,Input_Details!$B$34,Input_Details!$B$32)=\"\", \"-\", OFFSET('Raw Data'!AE85,Input_Details!$B$34,Input_Details!$B$32))","v":0},{"$f":"IF(OFFSET('Raw Data'!AF85,Input_Details!$B$34,Input_Details!$B$32)=\"\", \"-\", OFFSET('Raw Data'!AF85,Input_Details!$B$34,Input_Details!$B$32))","v":0},{"$f":"IF(OFFSET('Raw Data'!AG85,Input_Details!$B$34,Input_Details!$B$32)=\"\", \"-\", OFFSET('Raw Data'!AG85,Input_Details!$B$34,Input_Details!$B$32))","v":0},{"$f":"IF(OFFSET('Raw Data'!AH85,Input_Details!$B$34,Input_Details!$B$32)=\"\", \"-\", OFFSET('Raw Data'!AH85,Input_Details!$B$34,Input_Details!$B$32))","v":0},{"$f":"IF(OFFSET('Raw Data'!AI85,Input_Details!$B$34,Input_Details!$B$32)=\"\", \"-\", OFFSET('Raw Data'!AI85,Input_Details!$B$34,Input_Details!$B$32))","v":0},{"$f":"IF(OFFSET('Raw Data'!AJ85,Input_Details!$B$34,Input_Details!$B$32)=\"\", \"-\", OFFSET('Raw Data'!AJ85,Input_Details!$B$34,Input_Details!$B$32))","v":0},{"$f":"IF(OFFSET('Raw Data'!AK85,Input_Details!$B$34,Input_Details!$B$32)=\"\", \"-\", OFFSET('Raw Data'!AK85,Input_Details!$B$34,Input_Details!$B$32))","v":0},{"$f":"IF(OFFSET('Raw Data'!AL85,Input_Details!$B$34,Input_Details!$B$32)=\"\", \"-\", OFFSET('Raw Data'!AL85,Input_Details!$B$34,Input_Details!$B$32))","v":0},{"$f":"IF(OFFSET('Raw Data'!AM85,Input_Details!$B$34,Input_Details!$B$32)=\"\", \"-\", OFFSET('Raw Data'!AM85,Input_Details!$B$34,Input_Details!$B$32))","v":0},null,{"$f":"IF(D107=\"-\",\"-\",OFFSET('Raw Data'!AN85,Input_Details!$B$34,Input_Details!$B$32))","v":17.39619047619048},{"$f":"IF(OFFSET('Raw Data'!AO85,Input_Details!$B$34,Input_Details!$B$32)=\"\", \"-\", OFFSET('Raw Data'!AO85,Input_Details!$B$34,Input_Details!$B$32))","v":21.546428571428571},{"$f":"IF(OFFSET('Raw Data'!AP85,Input_Details!$B$34,Input_Details!$B$32)=\"\", \"-\", OFFSET('Raw Data'!AP85,Input_Details!$B$34,Input_Details!$B$32))","v":6.8},{"$f":"IF(OFFSET('Raw Data'!AQ85,Input_Details!$B$34,Input_Details!$B$32)=\"\", \"-\", OFFSET('Raw Data'!AQ85,Input_Details!$B$34,Input_Details!$B$32))","v":37.6},null,{"$f":"IF(Y107=\"-\", \"-\", SUM(OFFSET(D107,0,VLOOKUP(Input_Details!$N$3, $AF$3:$AG$12, 2,0)-1):W107))","v":14},0.22580645161290322]
[null,"20:30:00",null,{"$f":"IF(OFFSET('Raw Data'!T86,Input_Details!$B$34,Input_Details!$B$32)=\"\", \"-\", OFFSET('Raw Data'!T86,Input_Details!$B$34,Input_Details!$B$32))","v":1},{"$f":"IF(OFFSET('Raw Data'!U86,Input_Details!$B$34,Input_Details!$B$32)=\"\", \"-\", OFFSET('Raw Data'!U86,Input_Details!$B$34,Input_Details!$B$32))","v":19},{"$f":"IF(OFFSET('Raw Data'!V86,Input_Details!$B$34,Input_Details!$B$32)=\"\", \"-\", OFFSET('Raw Data'!V86,Input_Details!$B$34,Input_Details!$B$32))","v":38},{"$f":"IF(OFFSET('Raw Data'!W86,Input_Details!$B$34,Input_Details!$B$32)=\"\", \"-\", OFFSET('Raw Data'!W86,Input_Details!$B$34,Input_Details!$B$32))","v":8},{"$f":"IF(OFFSET('Raw Data'!X86,Input_Details!$B$34,Input_Details!$B$32)=\"\", \"-\", OFFSET('Raw Data'!X86,Input_Details!$B$34,Input_Details!$B$32))","v":2},{"$f":"IF(OFFSET('Raw Data'!Y86,Input_Details!$B$34,Input_Details!$B$32)=\"\", \"-\", OFFSET('Raw Data'!Y86,Input_Details!$B$34,Input_Details!$B$32))","v":0},{"$f":"IF(OFFSET('Raw Data'!Z86,Input_Details!$B$34,Input_Details!$B$32)=\"\", \"-\", OFFSET('Raw Data'!Z86,Input_Details!$B$34,Input_Details!$B$32))","v":0},{"$f":"IF(OFFSET('Raw Data'!AA86,Input_Details!$B$34,Input_Details!$B$32)=\"\", \"-\", OFFSET('Raw Data'!AA86,Input_Details!$B$34,Input_Details!$B$32))","v":0},{"$f":"IF(OFFSET('Raw Data'!AB86,Input_Details!$B$34,Input_Details!$B$32)=\"\", \"-\", OFFSET('Raw Data'!AB86,Input_Details!$B$34,Input_Details!$B$32))","v":0},{"$f":"IF(OFFSET('Raw Data'!AC86,Input_Details!$B$34,Input_Details!$B$32)=\"\", \"-\", OFFSET('Raw Data'!AC86,Input_Details!$B$34,Input_Details!$B$32))","v":0},{"$f":"IF(OFFSET('Raw Data'!AD86,Input_Details!$B$34,Input_Details!$B$32)=\"\", \"-\", OFFSET('Raw Data'!AD86,Input_Details!$B$34,Input_Details!$B$32))","v":0},{"$f":"IF(OFFSET('Raw Data'!AE86,Input_Details!$B$34,Input_Details!$B$32)=\"\", \"-\", OFFSET('Raw Data'!AE86,Input_Details!$B$34,Input_Details!$B$32))","v":0},{"$f":"IF(OFFSET('Raw Data'!AF86,Input_Details!$B$34,Input_Details!$B$32)=\"\", \"-\", OFFSET('Raw Data'!AF86,Input_Details!$B$34,Input_Details!$B$32))","v":0},{"$f":"IF(OFFSET('Raw Data'!AG86,Input_Details!$B$34,Input_Details!$B$32)=\"\", \"-\", OFFSET('Raw Data'!AG86,Input_Details!$B$34,Input_Details!$B$32))","v":0},{"$f":"IF(OFFSET('Raw Data'!AH86,Input_Details!$B$34,Input_Details!$B$32)=\"\", \"-\", OFFSET('Raw Data'!AH86,Input_Details!$B$34,Input_Details!$B$32))","v":0},{"$f":"IF(OFFSET('Raw Data'!AI86,Input_Details!$B$34,Input_Details!$B$32)=\"\", \"-\", OFFSET('Raw Data'!AI86,Input_Details!$B$34,Input_Details!$B$32))","v":0},{"$f":"IF(OFFSET('Raw Data'!AJ86,Input_Details!$B$34,Input_Details!$B$32)=\"\", \"-\", OFFSET('Raw Data'!AJ86,Input_Details!$B$34,Input_Details!$B$32))","v":0},{"$f":"IF(OFFSET('Raw Data'!AK86,Input_Details!$B$34,Input_Details!$B$32)=\"\", \"-\", OFFSET('Raw Data'!AK86,Input_Details!$B$34,Input_Details!$B$32))","v":0},{"$f":"IF(OFFSET('Raw Data'!AL86,Input_Details!$B$34,Input_Details!$B$32)=\"\", \"-\", OFFSET('Raw Data'!AL86,Input_Details!$B$34,Input_Details!$B$32))","v":0},{"$f":"IF(OFFSET('Raw Data'!AM86,Input_Details!$B$34,Input_Details!$B$32)=\"\", \"-\", OFFSET('Raw Data'!AM86,Input_Details!$B$34,Input_Details!$B$32))","v":0},null,{"$f":"IF(D108=\"-\",\"-\",OFFSET('Raw Data'!AN86,Input_Details!$B$34,Input_Details!$B$32))","v":16.939495798319324},{"$f":"IF(OFFSET('Raw Data'!AO86,Input_Details!$B$34,Input_Details!$B$32)=\"\", \"-\", OFFSET('Raw Data'!AO86,Input_Details!$B$34,Input_Details!$B$32))","v":21.496428571428574},{"$f":"IF(OFFSET('Raw Data'!AP86,Input_Details!$B$34,Input_Details!$B$32)=\"\", \"-\", OFFSET('Raw Data'!AP86,Input_Details!$B$34,Input_Details!$B$32))","v":6.8},{"$f":"IF(OFFSET('Raw Data'!AQ86,Input_Details!$B$34,Input_Details!$B$32)=\"\", \"-\", OFFSET('Raw Data'!AQ86,Input_Details!$B$34,Input_Details!$B$32))","v":44.7},null,{"$f":"IF(Y108=\"-\", \"-\", SUM(OFFSET(D108,0,VLOOKUP(Input_Details!$N$3, $AF$3:$AG$12, 2,0)-1):W108))","v":10},0.14705882352941177]
[null,"20:45:00",null,{"$f":"IF(OFFSET('Raw Data'!T87,Input_Details!$B$34,Input_Details!$B$32)=\"\", \"-\", OFFSET('Raw Data'!T87,Input_Details!$B$34,Input_Details!$B$32))","v":2},{"$f":"IF(OFFSET('Raw Data'!U87,Input_Details!$B$34,Input_Details!$B$32)=\"\", \"-\", OFFSET('Raw Data'!U87,Input_Details!$B$34,Input_Details!$B$32))","v":19},{"$f":"IF(OFFSET('Raw Data'!V87,Input_Details!$B$34,Input_Details!$B$32)=\"\", \"-\", OFFSET('Raw Data'!V87,Input_Details!$B$34,Input_Details!$B$32))","v":27},{"$f":"IF(OFFSET('Raw Data'!W87,Input_Details!$B$34,Input_Details!$B$32)=\"\", \"-\", OFFSET('Raw Data'!W87,Input_Details!$B$34,Input_Details!$B$32))","v":10},{"$f":"IF(OFFSET('Raw Data'!X87,Input_Details!$B$34,Input_Details!$B$32)=\"\", \"-\", OFFSET('Raw Data'!X87,Input_Details!$B$34,Input_Details!$B$32))","v":3},{"$f":"IF(OFFSET('Raw Data'!Y87,Input_Details!$B$34,Input_Details!$B$32)=\"\", \"-\", OFFSET('Raw Data'!Y87,Input_Details!$B$34,Input_Details!$B$32))","v":1},{"$f":"IF(OFFSET('Raw Data'!Z87,Input_Details!$B$34,Input_Details!$B$32)=\"\", \"-\", OFFSET('Raw Data'!Z87,Input_Details!$B$34,Input_Details!$B$32))","v":0},{"$f":"IF(OFFSET('Raw Data'!AA87,Input_Details!$B$34,Input_Details!$B$32)=\"\", \"-\", OFFSET('Raw Data'!AA87,Input_Details!$B$34,Input_Details!$B$32))","v":0},{"$f":"IF(OFFSET('Raw Data'!AB87,Input_Details!$B$34,Input_Details!$B$32)=\"\", \"-\", OFFSET('Raw Data'!AB87,Input_Details!$B$34,Input_Details!$B$32))","v":0},{"$f":"IF(OFFSET('Raw Data'!AC87,Input_Details!$B$34,Input_Details!$B$32)=\"\", \"-\", OFFSET('Raw Data'!AC87,Input_Details!$B$34,Input_Details!$B$32))","v":0},{"$f":"IF(OFFSET('Raw Data'!AD87,Input_Details!$B$34,Input_Details!$B$32)=\"\", \"-\", OFFSET('Raw Data'!AD87,Input_Details!$B$34,Input_Details!$B$32))","v":0},{"$f":"IF(OFFSET('Raw Data'!AE87,Input_Details!$B$34,Input_Details!$B$32)=\"\", \"-\", OFFSET('Raw Data'!AE87,Input_Details!$B$34,Input_Details!$B$32))","v":0},{"$f":"IF(OFFSET('Raw Data'!AF87,Input_Details!$B$34,Input_Details!$B$32)=\"\", \"-\", OFFSET('Raw Data'!AF87,Input_Details!$B$34,Input_Details!$B$32))","v":0},{"$f":"IF(OFFSET('Raw Data'!AG87,Input_Details!$B$34,Input_Details!$B$32)=\"\", \"-\", OFFSET('Raw Data'!AG87,Input_Details!$B$34,Input_Details!$B$32))","v":0},{"$f":"IF(OFFSET('Raw Data'!AH87,Input_Details!$B$34,Input_Details!$B$32)=\"\", \"-\", OFFSET('Raw Data'!AH87,Input_Details!$B$34,Input_Details!$B$32))","v":0},{"$f":"IF(OFFSET('Raw Data'!AI87,Input_Details!$B$34,Input_Details!$B$32)=\"\", \"-\", OFFSET('Raw Data'!AI87,Input_Details!$B$34,Input_Details!$B$32))","v":0},{"$f":"IF(OFFSET('Raw Data'!AJ87,Input_Details!$B$34,Input_Details!$B$32)=\"\", \"-\", OFFSET('Raw Data'!AJ87,Input_Details!$B$34,Input_Details!$B$32))","v":0},{"$f":"IF(OFFSET('Raw Data'!AK87,Input_Details!$B$34,Input_Details!$B$32)=\"\", \"-\", OFFSET('Raw Data'!AK87,Input_Details!$B$34,Input_Details!$B$32))","v":0},{"$f":"IF(OFFSET('Raw Data'!AL87,Input_Details!$B$34,Input_Details!$B$32)=\"\", \"-\", OFFSET('Raw Data'!AL87,Input_Details!$B$34,Input_Details!$B$32))","v":0},{"$f":"IF(OFFSET('Raw Data'!AM87,Input_Details!$B$34,Input_Details!$B$32)=\"\", \"-\", OFFSET('Raw Data'!AM87,Input_Details!$B$34,Input_Details!$B$32))","v":0},null,{"$f":"IF(D109=\"-\",\"-\",OFFSET('Raw Data'!AN87,Input_Details!$B$34,Input_Details!$B$32))","v":17.190632318501173},{"$f":"IF(OFFSET('Raw Data'!AO87,Input_Details!$B$34,Input_Details!$B$32)=\"\", \"-\", OFFSET('Raw Data'!AO87,Input_Details!$B$34,Input_Details!$B$32))","v":20.959523809523809},{"$f":"IF(OFFSET('Raw Data'!AP87,Input_Details!$B$34,Input_Details!$B$32)=\"\", \"-\", OFFSET('Raw Data'!AP87,Input_Details!$B$34,Input_Details!$B$32))","v":6.9},{"$f":"IF(OFFSET('Raw Data'!AQ87,Input_Details!$B$34,Input_Details!$B$32)=\"\", \"-\", OFFSET('Raw Data'!AQ87,Input_Details!$B$34,Input_Details!$B$32))","v":33.9},null,{"$f":"IF(Y109=\"-\", \"-\", SUM(OFFSET(D109,0,VLOOKUP(Input_Details!$N$3, $AF$3:$AG$12, 2,0)-1):W109))","v":14},0.22580645161290322]
[null,"21:00:00",null,{"$f":"IF(OFFSET('Raw Data'!T88,Input_Details!$B$34,Input_Details!$B$32)=\"\", \"-\", OFFSET('Raw Data'!T88,Input_Details!$B$34,Input_Details!$B$32))","v":1},{"$f":"IF(OFFSET('Raw Data'!U88,Input_Details!$B$34,Input_Details!$B$32)=\"\", \"-\", OFFSET('Raw Data'!U88,Input_Details!$B$34,Input_Details!$B$32))","v":14},{"$f":"IF(OFFSET('Raw Data'!V88,Input_Details!$B$34,Input_Details!$B$32)=\"\", \"-\", OFFSET('Raw Data'!V88,Input_Details!$B$34,Input_Details!$B$32))","v":28},{"$f":"IF(OFFSET('Raw Data'!W88,Input_Details!$B$34,Input_Details!$B$32)=\"\", \"-\", OFFSET('Raw Data'!W88,Input_Details!$B$34,Input_Details!$B$32))","v":10},{"$f":"IF(OFFSET('Raw Data'!X88,Input_Details!$B$34,Input_Details!$B$32)=\"\", \"-\", OFFSET('Raw Data'!X88,Input_Details!$B$34,Input_Details!$B$32))","v":2},{"$f":"IF(OFFSET('Raw Data'!Y88,Input_Details!$B$34,Input_Details!$B$32)=\"\", \"-\", OFFSET('Raw Data'!Y88,Input_Details!$B$34,Input_Details!$B$32))","v":1},{"$f":"IF(OFFSET('Raw Data'!Z88,Input_Details!$B$34,Input_Details!$B$32)=\"\", \"-\", OFFSET('Raw Data'!Z88,Input_Details!$B$34,Input_Details!$B$32))","v":0},{"$f":"IF(OFFSET('Raw Data'!AA88,Input_Details!$B$34,Input_Details!$B$32)=\"\", \"-\", OFFSET('Raw Data'!AA88,Input_Details!$B$34,Input_Details!$B$32))","v":0},{"$f":"IF(OFFSET('Raw Data'!AB88,Input_Details!$B$34,Input_Details!$B$32)=\"\", \"-\", OFFSET('Raw Data'!AB88,Input_Details!$B$34,Input_Details!$B$32))","v":0},{"$f":"IF(OFFSET('Raw Data'!AC88,Input_Details!$B$34,Input_Details!$B$32)=\"\", \"-\", OFFSET('Raw Data'!AC88,Input_Details!$B$34,Input_Details!$B$32))","v":0},{"$f":"IF(OFFSET('Raw Data'!AD88,Input_Details!$B$34,Input_Details!$B$32)=\"\", \"-\", OFFSET('Raw Data'!AD88,Input_Details!$B$34,Input_Details!$B$32))","v":0},{"$f":"IF(OFFSET('Raw Data'!AE88,Input_Details!$B$34,Input_Details!$B$32)=\"\", \"-\", OFFSET('Raw Data'!AE88,Input_Details!$B$34,Input_Details!$B$32))","v":0},{"$f":"IF(OFFSET('Raw Data'!AF88,Input_Details!$B$34,Input_Details!$B$32)=\"\", \"-\", OFFSET('Raw Data'!AF88,Input_Details!$B$34,Input_Details!$B$32))","v":0},{"$f":"IF(OFFSET('Raw Data'!AG88,Input_Details!$B$34,Input_Details!$B$32)=\"\", \"-\", OFFSET('Raw Data'!AG88,Input_Details!$B$34,Input_Details!$B$32))","v":0},{"$f":"IF(OFFSET('Raw Data'!AH88,Input_Details!$B$34,Input_Details!$B$32)=\"\", \"-\", OFFSET('Raw Data'!AH88,Input_Details!$B$34,Input_Details!$B$32))","v":0},{"$f":"IF(OFFSET('Raw Data'!AI88,Input_Details!$B$34,Input_Details!$B$32)=\"\", \"-\", OFFSET('Raw Data'!AI88,Input_Details!$B$34,Input_Details!$B$32))","v":0},{"$f":"IF(OFFSET('Raw Data'!AJ88,Input_Details!$B$34,Input_Details!$B$32)=\"\", \"-\", OFFSET('Raw Data'!AJ88,Input_Details!$B$34,Input_Details!$B$32))","v":0},{"$f":"IF(OFFSET('Raw Data'!AK88,Input_Details!$B$34,Input_Details!$B$32)=\"\", \"-\", OFFSET('Raw Data'!AK88,Input_Details!$B$34,Input_Details!$B$32))","v":0},{"$f":"IF(OFFSET('Raw Data'!AL88,Input_Details!$B$34,Input_Details!$B$32)=\"\", \"-\", OFFSET('Raw Data'!AL88,Input_Details!$B$34,Input_Details!$B$32))","v":0},{"$f":"IF(OFFSET('Raw Data'!AM88,Input_Details!$B$34,Input_Details!$B$32)=\"\", \"-\", OFFSET('Raw Data'!AM88,Input_Details!$B$34,Input_Details!$B$32))","v":0},null,{"$f":"IF(D110=\"-\",\"-\",OFFSET('Raw Data'!AN88,Input_Details!$B$34,Input_Details!$B$32))","v":17.170408163265307},{"$f":"IF(OFFSET('Raw Data'!AO88,Input_Details!$B$34,Input_Details!$B$32)=\"\", \"-\", OFFSET('Raw Data'!AO88,Input_Details!$B$34,Input_Details!$B$32))","v":20.28},{"$f":"IF(OFFSET('Raw Data'!AP88,Input_Details!$B$34,Input_Details!$B$32)=\"\", \"-\", OFFSET('Raw Data'!AP88,Input_Details!$B$34,Input_Details!$B$32))","v":3.7},{"$f":"IF(OFFSET('Raw Data'!AQ88,Input_Details!$B$34,Input_Details!$B$32)=\"\", \"-\", OFFSET('Raw Data'!AQ88,Input_Details!$B$34,Input_Details!$B$32))","v":33.9},null,{"$f":"IF(Y110=\"-\", \"-\", SUM(OFFSET(D110,0,VLOOKUP(Input_Details!$N$3, $AF$3:$AG$12, 2,0)-1):W110))","v":13},0.23214285714285715]
[null,"21:15:00",null,{"$f":"IF(OFFSET('Raw Data'!T89,Input_Details!$B$34,Input_Details!$B$32)=\"\", \"-\", OFFSET('Raw Data'!T89,Input_Details!$B$34,Input_Details!$B$32))","v":2},{"$f":"IF(OFFSET('Raw Data'!U89,Input_Details!$B$34,Input_Details!$B$32)=\"\", \"-\", OFFSET('Raw Data'!U89,Input_Details!$B$34,Input_Details!$B$32))","v":12},{"$f":"IF(OFFSET('Raw Data'!V89,Input_Details!$B$34,Input_Details!$B$32)=\"\", \"-\", OFFSET('Raw Data'!V89,Input_Details!$B$34,Input_Details!$B$32))","v":23},{"$f":"IF(OFFSET('Raw Data'!W89,Input_Details!$B$34,Input_Details!$B$32)=\"\", \"-\", OFFSET('Raw Data'!W89,Input_Details!$B$34,Input_Details!$B$32))","v":8},{"$f":"IF(OFFSET('Raw Data'!X89,Input_Details!$B$34,Input_Details!$B$32)=\"\", \"-\", OFFSET('Raw Data'!X89,Input_Details!$B$34,Input_Details!$B$32))","v":2},{"$f":"IF(OFFSET('Raw Data'!Y89,Input_Details!$B$34,Input_Details!$B$32)=\"\", \"-\", OFFSET('Raw Data'!Y89,Input_Details!$B$34,Input_Details!$B$32))","v":1},{"$f":"IF(OFFSET('Raw Data'!Z89,Input_Details!$B$34,Input_Details!$B$32)=\"\", \"-\", OFFSET('Raw Data'!Z89,Input_Details!$B$34,Input_Details!$B$32))","v":0},{"$f":"IF(OFFSET('Raw Data'!AA89,Input_Details!$B$34,Input_Details!$B$32)=\"\", \"-\", OFFSET('Raw Data'!AA89,Input_Details!$B$34,Input_Details!$B$32))","v":0},{"$f":"IF(OFFSET('Raw Data'!AB89,Input_Details!$B$34,Input_Details!$B$32)=\"\", \"-\", OFFSET('Raw Data'!AB89,Input_Details!$B$34,Input_Details!$B$32))","v":0},{"$f":"IF(OFFSET('Raw Data'!AC89,Input_Details!$B$34,Input_Details!$B$32)=\"\", \"-\", OFFSET('Raw Data'!AC89,Input_Details!$B$34,Input_Details!$B$32))","v":0},{"$f":"IF(OFFSET('Raw Data'!AD89,Input_Details!$B$34,Input_Details!$B$32)=\"\", \"-\", OFFSET('Raw Data'!AD89,Input_Details!$B$34,Input_Details!$B$32))","v":0},{"$f":"IF(OFFSET('Raw Data'!AE89,Input_Details!$B$34,Input_Details!$B$32)=\"\", \"-\", OFFSET('Raw Data'!AE89,Input_Details!$B$34,Input_Details!$B$32))","v":0},{"$f":"IF(OFFSET('Raw Data'!AF89,Input_Details!$B$34,Input_Details!$B$32)=\"\", \"-\", OFFSET('Raw Data'!AF89,Input_Details!$B$34,Input_Details!$B$32))","v":0},{"$f":"IF(OFFSET('Raw Data'!AG89,Input_Details!$B$34,Input_Details!$B$32)=\"\", \"-\", OFFSET('Raw Data'!AG89,Input_Details!$B$34,Input_Details!$B$32))","v":0},{"$f":"IF(OFFSET('Raw Data'!AH89,Input_Details!$B$34,Input_Details!$B$32)=\"\", \"-\", OFFSET('Raw Data'!AH89,Input_Details!$B$34,Input_Details!$B$32))","v":0},{"$f":"IF(OFFSET('Raw Data'!AI89,Input_Details!$B$34,Input_Details!$B$32)=\"\", \"-\", OFFSET('Raw Data'!AI89,Input_Details!$B$34,Input_Details!$B$32))","v":0},{"$f":"IF(OFFSET('Raw Data'!AJ89,Input_Details!$B$34,Input_Details!$B$32)=\"\", \"-\", OFFSET('Raw Data'!AJ89,Input_Details!$B$34,Input_Details!$B$32))","v":0},{"$f":"IF(OFFSET('Raw Data'!AK89,Input_Details!$B$34,Input_Details!$B$32)=\"\", \"-\", OFFSET('Raw Data'!AK89,Input_Details!$B$34,Input_Details!$B$32))","v":0},{"$f":"IF(OFFSET('Raw Data'!AL89,Input_Details!$B$34,Input_Details!$B$32)=\"\", \"-\", OFFSET('Raw Data'!AL89,Input_Details!$B$34,Input_Details!$B$32))","v":0},{"$f":"IF(OFFSET('Raw Data'!AM89,Input_Details!$B$34,Input_Details!$B$32)=\"\", \"-\", OFFSET('Raw Data'!AM89,Input_Details!$B$34,Input_Details!$B$32))","v":0},null,{"$f":"IF(D111=\"-\",\"-\",OFFSET('Raw Data'!AN89,Input_Details!$B$34,Input_Details!$B$32))","v":17.685106382978724},{"$f":"IF(OFFSET('Raw Data'!AO89,Input_Details!$B$34,Input_Details!$B$32)=\"\", \"-\", OFFSET('Raw Data'!AO89,Input_Details!$B$34,Input_Details!$B$32))","v":19.435714285714287},{"$f":"IF(OFFSET('Raw Data'!AP89,Input_Details!$B$34,Input_Details!$B$32)=\"\", \"-\", OFFSET('Raw Data'!AP89,Input_Details!$B$34,Input_Details!$B$32))","v":6.8},{"$f":"IF(OFFSET('Raw Data'!AQ89,Input_Details!$B$34,Input_Details!$B$32)=\"\", \"-\", OFFSET('Raw Data'!AQ89,Input_Details!$B$34,Input_Details!$B$32))","v":37.6},null,{"$f":"IF(Y111=\"-\", \"-\", SUM(OFFSET(D111,0,VLOOKUP(Input_Details!$N$3, $AF$3:$AG$12, 2,0)-1):W111))","v":11},0.22916666666666666]
[null,"21:30:00",null,{"$f":"IF(OFFSET('Raw Data'!T90,Input_Details!$B$34,Input_Details!$B$32)=\"\", \"-\", OFFSET('Raw Data'!T90,Input_Details!$B$34,Input_Details!$B$32))","v":1},{"$f":"IF(OFFSET('Raw Data'!U90,Input_Details!$B$34,Input_Details!$B$32)=\"\", \"-\", OFFSET('Raw Data'!U90,Input_Details!$B$34,Input_Details!$B$32))","v":18},{"$f":"IF(OFFSET('Raw Data'!V90,Input_Details!$B$34,Input_Details!$B$32)=\"\", \"-\", OFFSET('Raw Data'!V90,Input_Details!$B$34,Input_Details!$B$32))","v":26},{"$f":"IF(OFFSET('Raw Data'!W90,Input_Details!$B$34,Input_Details!$B$32)=\"\", \"-\", OFFSET('Raw Data'!W90,Input_Details!$B$34,Input_Details!$B$32))","v":7},{"$f":"IF(OFFSET('Raw Data'!X90,Input_Details!$B$34,Input_Details!$B$32)=\"\", \"-\", OFFSET('Raw Data'!X90,Input_Details!$B$34,Input_Details!$B$32))","v":2},{"$f":"IF(OFFSET('Raw Data'!Y90,Input_Details!$B$34,Input_Details!$B$32)=\"\", \"-\", OFFSET('Raw Data'!Y90,Input_Details!$B$34,Input_Details!$B$32))","v":1},{"$f":"IF(OFFSET('Raw Data'!Z90,Input_Details!$B$34,Input_Details!$B$32)=\"\", \"-\", OFFSET('Raw Data'!Z90,Input_Details!$B$34,Input_Details!$B$32))","v":0},{"$f":"IF(OFFSET('Raw Data'!AA90,Input_Details!$B$34,Input_Details!$B$32)=\"\", \"-\", OFFSET('Raw Data'!AA90,Input_Details!$B$34,Input_Details!$B$32))","v":0},{"$f":"IF(OFFSET('Raw Data'!AB90,Input_Details!$B$34,Input_Details!$B$32)=\"\", \"-\", OFFSET('Raw Data'!AB90,Input_Details!$B$34,Input_Details!$B$32))","v":0},{"$f":"IF(OFFSET('Raw Data'!AC90,Input_Details!$B$34,Input_Details!$B$32)=\"\", \"-\", OFFSET('Raw Data'!AC90,Input_Details!$B$34,Input_Details!$B$32))","v":0},{"$f":"IF(OFFSET('Raw Data'!AD90,Input_Details!$B$34,Input_Details!$B$32)=\"\", \"-\", OFFSET('Raw Data'!AD90,Input_Details!$B$34,Input_Details!$B$32))","v":0},{"$f":"IF(OFFSET('Raw Data'!AE90,Input_Details!$B$34,Input_Details!$B$32)=\"\", \"-\", OFFSET('Raw Data'!AE90,Input_Details!$B$34,Input_Details!$B$32))","v":0},{"$f":"IF(OFFSET('Raw Data'!AF90,Input_Details!$B$34,Input_Details!$B$32)=\"\", \"-\", OFFSET('Raw Data'!AF90,Input_Details!$B$34,Input_Details!$B$32))","v":0},{"$f":"IF(OFFSET('Raw Data'!AG90,Input_Details!$B$34,Input_Details!$B$32)=\"\", \"-\", OFFSET('Raw Data'!AG90,Input_Details!$B$34,Input_Details!$B$32))","v":0},{"$f":"IF(OFFSET('Raw Data'!AH90,Input_Details!$B$34,Input_Details!$B$32)=\"\", \"-\", OFFSET('Raw Data'!AH90,Input_Details!$B$34,Input_Details!$B$32))","v":0},{"$f":"IF(OFFSET('Raw Data'!AI90,Input_Details!$B$34,Input_Details!$B$32)=\"\", \"-\", OFFSET('Raw Data'!AI90,Input_Details!$B$34,Input_Details!$B$32))","v":0},{"$f":"IF(OFFSET('Raw Data'!AJ90,Input_Details!$B$34,Input_Details!$B$32)=\"\", \"-\", OFFSET('Raw Data'!AJ90,Input_Details!$B$34,Input_Details!$B$32))","v":0},{"$f":"IF(OFFSET('Raw Data'!AK90,Input_Details!$B$34,Input_Details!$B$32)=\"\", \"-\", OFFSET('Raw Data'!AK90,Input_Details!$B$34,Input_Details!$B$32))","v":0},{"$f":"IF(OFFSET('Raw Data'!AL90,Input_Details!$B$34,Input_Details!$B$32)=\"\", \"-\", OFFSET('Raw Data'!AL90,Input_Details!$B$34,Input_Details!$B$32))","v":0},{"$f":"IF(OFFSET('Raw Data'!AM90,Input_Details!$B$34,Input_Details!$B$32)=\"\", \"-\", OFFSET('Raw Data'!AM90,Input_Details!$B$34,Input_Details!$B$32))","v":0},null,{"$f":"IF(D112=\"-\",\"-\",OFFSET('Raw Data'!AN90,Input_Details!$B$34,Input_Details!$B$32))","v":17.036927223719676},{"$f":"IF(OFFSET('Raw Data'!AO90,Input_Details!$B$34,Input_Details!$B$32)=\"\", \"-\", OFFSET('Raw Data'!AO90,Input_Details!$B$34,Input_Details!$B$32))","v":18.442857142857143},{"$f":"IF(OFFSET('Raw Data'!AP90,Input_Details!$B$34,Input_Details!$B$32)=\"\", \"-\", OFFSET('Raw Data'!AP90,Input_Details!$B$34,Input_Details!$B$32))","v":8.4},{"$f":"IF(OFFSET('Raw Data'!AQ90,Input_Details!$B$34,Input_Details!$B$32)=\"\", \"-\", OFFSET('Raw Data'!AQ90,Input_Details!$B$34,Input_Details!$B$32))","v":42},null,{"$f":"IF(Y112=\"-\", \"-\", SUM(OFFSET(D112,0,VLOOKUP(Input_Details!$N$3, $AF$3:$AG$12, 2,0)-1):W112))","v":10},0.18181818181818182]
[null,"21:45:00",null,{"$f":"IF(OFFSET('Raw Data'!T91,Input_Details!$B$34,Input_Details!$B$32)=\"\", \"-\", OFFSET('Raw Data'!T91,Input_Details!$B$34,Input_Details!$B$32))","v":1},{"$f":"IF(OFFSET('Raw Data'!U91,Input_Details!$B$34,Input_Details!$B$32)=\"\", \"-\", OFFSET('Raw Data'!U91,Input_Details!$B$34,Input_Details!$B$32))","v":13},{"$f":"IF(OFFSET('Raw Data'!V91,Input_Details!$B$34,Input_Details!$B$32)=\"\", \"-\", OFFSET('Raw Data'!V91,Input_Details!$B$34,Input_Details!$B$32))","v":28},{"$f":"IF(OFFSET('Raw Data'!W91,Input_Details!$B$34,Input_Details!$B$32)=\"\", \"-\", OFFSET('Raw Data'!W91,Input_Details!$B$34,Input_Details!$B$32))","v":9},{"$f":"IF(OFFSET('Raw Data'!X91,Input_Details!$B$34,Input_Details!$B$32)=\"\", \"-\", OFFSET('Raw Data'!X91,Input_Details!$B$34,Input_Details!$B$32))","v":2},{"$f":"IF(OFFSET('Raw Data'!Y91,Input_Details!$B$34,Input_Details!$B$32)=\"\", \"-\", OFFSET('Raw Data'!Y91,Input_Details!$B$34,Input_Details!$B$32))","v":1},{"$f":"IF(OFFSET('Raw Data'!Z91,Input_Details!$B$34,Input_Details!$B$32)=\"\", \"-\", OFFSET('Raw Data'!Z91,Input_Details!$B$34,Input_Details!$B$32))","v":0},{"$f":"IF(OFFSET('Raw Data'!AA91,Input_Details!$B$34,Input_Details!$B$32)=\"\", \"-\", OFFSET('Raw Data'!AA91,Input_Details!$B$34,Input_Details!$B$32))","v":0},{"$f":"IF(OFFSET('Raw Data'!AB91,Input_Details!$B$34,Input_Details!$B$32)=\"\", \"-\", OFFSET('Raw Data'!AB91,Input_Details!$B$34,Input_Details!$B$32))","v":0},{"$f":"IF(OFFSET('Raw Data'!AC91,Input_Details!$B$34,Input_Details!$B$32)=\"\", \"-\", OFFSET('Raw Data'!AC91,Input_Details!$B$34,Input_Details!$B$32))","v":0},{"$f":"IF(OFFSET('Raw Data'!AD91,Input_Details!$B$34,Input_Details!$B$32)=\"\", \"-\", OFFSET('Raw Data'!AD91,Input_Details!$B$34,Input_Details!$B$32))","v":0},{"$f":"IF(OFFSET('Raw Data'!AE91,Input_Details!$B$34,Input_Details!$B$32)=\"\", \"-\", OFFSET('Raw Data'!AE91,Input_Details!$B$34,Input_Details!$B$32))","v":0},{"$f":"IF(OFFSET('Raw Data'!AF91,Input_Details!$B$34,Input_Details!$B$32)=\"\", \"-\", OFFSET('Raw Data'!AF91,Input_Details!$B$34,Input_Details!$B$32))","v":0},{"$f":"IF(OFFSET('Raw Data'!AG91,Input_Details!$B$34,Input_Details!$B$32)=\"\", \"-\", OFFSET('Raw Data'!AG91,Input_Details!$B$34,Input_Details!$B$32))","v":0},{"$f":"IF(OFFSET('Raw Data'!AH91,Input_Details!$B$34,Input_Details!$B$32)=\"\", \"-\", OFFSET('Raw Data'!AH91,Input_Details!$B$34,Input_Details!$B$32))","v":0},{"$f":"IF(OFFSET('Raw Data'!AI91,Input_Details!$B$34,Input_Details!$B$32)=\"\", \"-\", OFFSET('Raw Data'!AI91,Input_Details!$B$34,Input_Details!$B$32))","v":0},{"$f":"IF(OFFSET('Raw Data'!AJ91,Input_Details!$B$34,Input_Details!$B$32)=\"\", \"-\", OFFSET('Raw Data'!AJ91,Input_Details!$B$34,Input_Details!$B$32))","v":0},{"$f":"IF(OFFSET('Raw Data'!AK91,Input_Details!$B$34,Input_Details!$B$32)=\"\", \"-\", OFFSET('Raw Data'!AK91,Input_Details!$B$34,Input_Details!$B$32))","v":0},{"$f":"IF(OFFSET('Raw Data'!AL91,Input_Details!$B$34,Input_Details!$B$32)=\"\", \"-\", OFFSET('Raw Data'!AL91,Input_Details!$B$34,Input_Details!$B$32))","v":0},{"$f":"IF(OFFSET('Raw Data'!AM91,Input_Details!$B$34,Input_Details!$B$32)=\"\", \"-\", OFFSET('Raw Data'!AM91,Input_Details!$B$34,Input_Details!$B$32))","v":0},null,{"$f":"IF(D113=\"-\",\"-\",OFFSET('Raw Data'!AN91,Input_Details!$B$34,Input_Details!$B$32))","v":17.456043956043956},{"$f":"IF(OFFSET('Raw Data'!AO91,Input_Details!$B$34,Input_Details!$B$32)=\"\", \"-\", OFFSET('Raw Data'!AO91,Input_Details!$B$34,Input_Details!$B$32))","v":19.799999999999997},{"$f":"IF(OFFSET('Raw Data'!AP91,Input_Details!$B$34,Input_Details!$B$32)=\"\", \"-\", OFFSET('Raw Data'!AP91,Input_Details!$B$34,Input_Details!$B$32))","v":7.9},{"$f":"IF(OFFSET('Raw Data'!AQ91,Input_Details!$B$34,Input_Details!$B$32)=\"\", \"-\", OFFSET('Raw Data'!AQ91,Input_Details!$B$34,Input_Details!$B$32))","v":34},null,{"$f":"IF(Y113=\"-\", \"-\", SUM(OFFSET(D113,0,VLOOKUP(Input_Details!$N$3, $AF$3:$AG$12, 2,0)-1):W113))","v":12},0.22222222222222221]
[null,"22:00:00",null,{"$f":"IF(OFFSET('Raw Data'!T92,Input_Details!$B$34,Input_Details!$B$32)=\"\", \"-\", OFFSET('Raw Data'!T92,Input_Details!$B$34,Input_Details!$B$32))","v":1},{"$f":"IF(OFFSET('Raw Data'!U92,Input_Details!$B$34,Input_Details!$B$32)=\"\", \"-\", OFFSET('Raw Data'!U92,Input_Details!$B$34,Input_Details!$B$32))","v":14},{"$f":"IF(OFFSET('Raw Data'!V92,Input_Details!$B$34,Input_Details!$B$32)=\"\", \"-\", OFFSET('Raw Data'!V92,Input_Details!$B$34,Input_Details!$B$32))","v":24},{"$f":"IF(OFFSET('Raw Data'!W92,Input_Details!$B$34,Input_Details!$B$32)=\"\", \"-\", OFFSET('Raw Data'!W92,Input_Details!$B$34,Input_Details!$B$32))","v":12},{"$f":"IF(OFFSET('Raw Data'!X92,Input_Details!$B$34,Input_Details!$B$32)=\"\", \"-\", OFFSET('Raw Data'!X92,Input_Details!$B$34,Input_Details!$B$32))","v":3},{"$f":"IF(OFFSET('Raw Data'!Y92,Input_Details!$B$34,Input_Details!$B$32)=\"\", \"-\", OFFSET('Raw Data'!Y92,Input_Details!$B$34,Input_Details!$B$32))","v":1},{"$f":"IF(OFFSET('Raw Data'!Z92,Input_Details!$B$34,Input_Details!$B$32)=\"\", \"-\", OFFSET('Raw Data'!Z92,Input_Details!$B$34,Input_Details!$B$32))","v":0},{"$f":"IF(OFFSET('Raw Data'!AA92,Input_Details!$B$34,Input_Details!$B$32)=\"\", \"-\", OFFSET('Raw Data'!AA92,Input_Details!$B$34,Input_Details!$B$32))","v":0},{"$f":"IF(OFFSET('Raw Data'!AB92,Input_Details!$B$34,Input_Details!$B$32)=\"\", \"-\", OFFSET('Raw Data'!AB92,Input_Details!$B$34,Input_Details!$B$32))","v":0},{"$f":"IF(OFFSET('Raw Data'!AC92,Input_Details!$B$34,Input_Details!$B$32)=\"\", \"-\", OFFSET('Raw Data'!AC92,Input_Details!$B$34,Input_Details!$B$32))","v":0},{"$f":"IF(OFFSET('Raw Data'!AD92,Input_Details!$B$34,Input_Details!$B$32)=\"\", \"-\", OFFSET('Raw Data'!AD92,Input_Details!$B$34,Input_Details!$B$32))","v":0},{"$f":"IF(OFFSET('Raw Data'!AE92,Input_Details!$B$34,Input_Details!$B$32)=\"\", \"-\", OFFSET('Raw Data'!AE92,Input_Details!$B$34,Input_Details!$B$32))","v":0},{"$f":"IF(OFFSET('Raw Data'!AF92,Input_Details!$B$34,Input_Details!$B$32)=\"\", \"-\", OFFSET('Raw Data'!AF92,Input_Details!$B$34,Input_Details!$B$32))","v":0},{"$f":"IF(OFFSET('Raw Data'!AG92,Input_Details!$B$34,Input_Details!$B$32)=\"\", \"-\", OFFSET('Raw Data'!AG92,Input_Details!$B$34,Input_Details!$B$32))","v":0},{"$f":"IF(OFFSET('Raw Data'!AH92,Input_Details!$B$34,Input_Details!$B$32)=\"\", \"-\", OFFSET('Raw Data'!AH92,Input_Details!$B$34,Input_Details!$B$32))","v":0},{"$f":"IF(OFFSET('Raw Data'!AI92,Input_Details!$B$34,Input_Details!$B$32)=\"\", \"-\", OFFSET('Raw Data'!AI92,Input_Details!$B$34,Input_Details!$B$32))","v":0},{"$f":"IF(OFFSET('Raw Data'!AJ92,Input_Details!$B$34,Input_Details!$B$32)=\"\", \"-\", OFFSET('Raw Data'!AJ92,Input_Details!$B$34,Input_Details!$B$32))","v":0},{"$f":"IF(OFFSET('Raw Data'!AK92,Input_Details!$B$34,Input_Details!$B$32)=\"\", \"-\", OFFSET('Raw Data'!AK92,Input_Details!$B$34,Input_Details!$B$32))","v":0},{"$f":"IF(OFFSET('Raw Data'!AL92,Input_Details!$B$34,Input_Details!$B$32)=\"\", \"-\", OFFSET('Raw Data'!AL92,Input_Details!$B$34,Input_Details!$B$32))","v":0},{"$f":"IF(OFFSET('Raw Data'!AM92,Input_Details!$B$34,Input_Details!$B$32)=\"\", \"-\", OFFSET('Raw Data'!AM92,Input_Details!$B$34,Input_Details!$B$32))","v":0},null,{"$f":"IF(D114=\"-\",\"-\",OFFSET('Raw Data'!AN92,Input_Details!$B$34,Input_Details!$B$32))","v":18.211904761904762},{"$f":"IF(OFFSET('Raw Data'!AO92,Input_Details!$B$34,Input_Details!$B$32)=\"\", \"-\", OFFSET('Raw Data'!AO92,Input_Details!$B$34,Input_Details!$B$32))","v":22.289285714285711},{"$f":"IF(OFFSET('Raw Data'!AP92,Input_Details!$B$34,Input_Details!$B$32)=\"\", \"-\", OFFSET('Raw Data'!AP92,Input_Details!$B$34,Input_Details!$B$32))","v":7.6},{"$f":"IF(OFFSET('Raw Data'!AQ92,Input_Details!$B$34,Input_Details!$B$32)=\"\", \"-\", OFFSET('Raw Data'!AQ92,Input_Details!$B$34,Input_Details!$B$32))","v":42.4},null,{"$f":"IF(Y114=\"-\", \"-\", SUM(OFFSET(D114,0,VLOOKUP(Input_Details!$N$3, $AF$3:$AG$12, 2,0)-1):W114))","v":16},0.29090909090909089]
[null,"22:15:00",null,{"$f":"IF(OFFSET('Raw Data'!T93,Input_Details!$B$34,Input_Details!$B$32)=\"\", \"-\", OFFSET('Raw Data'!T93,Input_Details!$B$34,Input_Details!$B$32))","v":1},{"$f":"IF(OFFSET('Raw Data'!U93,Input_Details!$B$34,Input_Details!$B$32)=\"\", \"-\", OFFSET('Raw Data'!U93,Input_Details!$B$34,Input_Details!$B$32))","v":13},{"$f":"IF(OFFSET('Raw Data'!V93,Input_Details!$B$34,Input_Details!$B$32)=\"\", \"-\", OFFSET('Raw Data'!V93,Input_Details!$B$34,Input_Details!$B$32))","v":31},{"$f":"IF(OFFSET('Raw Data'!W93,Input_Details!$B$34,Input_Details!$B$32)=\"\", \"-\", OFFSET('Raw Data'!W93,Input_Details!$B$34,Input_Details!$B$32))","v":8},{"$f":"IF(OFFSET('Raw Data'!X93,Input_Details!$B$34,Input_Details!$B$32)=\"\", \"-\", OFFSET('Raw Data'!X93,Input_Details!$B$34,Input_Details!$B$32))","v":3},{"$f":"IF(OFFSET('Raw Data'!Y93,Input_Details!$B$34,Input_Details!$B$32)=\"\", \"-\", OFFSET('Raw Data'!Y93,Input_Details!$B$34,Input_Details!$B$32))","v":0},{"$f":"IF(OFFSET('Raw Data'!Z93,Input_Details!$B$34,Input_Details!$B$32)=\"\", \"-\", OFFSET('Raw Data'!Z93,Input_Details!$B$34,Input_Details!$B$32))","v":0},{"$f":"IF(OFFSET('Raw Data'!AA93,Input_Details!$B$34,Input_Details!$B$32)=\"\", \"-\", OFFSET('Raw Data'!AA93,Input_Details!$B$34,Input_Details!$B$32))","v":0},{"$f":"IF(OFFSET('Raw Data'!AB93,Input_Details!$B$34,Input_Details!$B$32)=\"\", \"-\", OFFSET('Raw Data'!AB93,Input_Details!$B$34,Input_Details!$B$32))","v":0},{"$f":"IF(OFFSET('Raw Data'!AC93,Input_Details!$B$34,Input_Details!$B$32)=\"\", \"-\", OFFSET('Raw Data'!AC93,Input_Details!$B$34,Input_Details!$B$32))","v":0},{"$f":"IF(OFFSET('Raw Data'!AD93,Input_Details!$B$34,Input_Details!$B$32)=\"\", \"-\", OFFSET('Raw Data'!AD93,Input_Details!$B$34,Input_Details!$B$32))","v":0},{"$f":"IF(OFFSET('Raw Data'!AE93,Input_Details!$B$34,Input_Details!$B$32)=\"\", \"-\", OFFSET('Raw Data'!AE93,Input_Details!$B$34,Input_Details!$B$32))","v":0},{"$f":"IF(OFFSET('Raw Data'!AF93,Input_Details!$B$34,Input_Details!$B$32)=\"\", \"-\", OFFSET('Raw Data'!AF93,Input_Details!$B$34,Input_Details!$B$32))","v":0},{"$f":"IF(OFFSET('Raw Data'!AG93,Input_Details!$B$34,Input_Details!$B$32)=\"\", \"-\", OFFSET('Raw Data'!AG93,Input_Details!$B$34,Input_Details!$B$32))","v":0},{"$f":"IF(OFFSET('Raw Data'!AH93,Input_Details!$B$34,Input_Details!$B$32)=\"\", \"-\", OFFSET('Raw Data'!AH93,Input_Details!$B$34,Input_Details!$B$32))","v":0},{"$f":"IF(OFFSET('Raw Data'!AI93,Input_Details!$B$34,Input_Details!$B$32)=\"\", \"-\", OFFSET('Raw Data'!AI93,Input_Details!$B$34,Input_Details!$B$32))","v":0},{"$f":"IF(OFFSET('Raw Data'!AJ93,Input_Details!$B$34,Input_Details!$B$32)=\"\", \"-\", OFFSET('Raw Data'!AJ93,Input_Details!$B$34,Input_Details!$B$32))","v":0},{"$f":"IF(OFFSET('Raw Data'!AK93,Input_Details!$B$34,Input_Details!$B$32)=\"\", \"-\", OFFSET('Raw Data'!AK93,Input_Details!$B$34,Input_Details!$B$32))","v":0},{"$f":"IF(OFFSET('Raw Data'!AL93,Input_Details!$B$34,Input_Details!$B$32)=\"\", \"-\", OFFSET('Raw Data'!AL93,Input_Details!$B$34,Input_Details!$B$32))","v":0},{"$f":"IF(OFFSET('Raw Data'!AM93,Input_Details!$B$34,Input_Details!$B$32)=\"\", \"-\", OFFSET('Raw Data'!AM93,Input_Details!$B$34,Input_Details!$B$32))","v":0},null,{"$f":"IF(D115=\"-\",\"-\",OFFSET('Raw Data'!AN93,Input_Details!$B$34,Input_Details!$B$32))","v":17.201818181818183},{"$f":"IF(OFFSET('Raw Data'!AO93,Input_Details!$B$34,Input_Details!$B$32)=\"\", \"-\", OFFSET('Raw Data'!AO93,Input_Details!$B$34,Input_Details!$B$32))","v":19.464285714285715},{"$f":"IF(OFFSET('Raw Data'!AP93,Input_Details!$B$34,Input_Details!$B$32)=\"\", \"-\", OFFSET('Raw Data'!AP93,Input_Details!$B$34,Input_Details!$B$32))","v":8.4},{"$f":"IF(OFFSET('Raw Data'!AQ93,Input_Details!$B$34,Input_Details!$B$32)=\"\", \"-\", OFFSET('Raw Data'!AQ93,Input_Details!$B$34,Input_Details!$B$32))","v":33.5},null,{"$f":"IF(Y115=\"-\", \"-\", SUM(OFFSET(D115,0,VLOOKUP(Input_Details!$N$3, $AF$3:$AG$12, 2,0)-1):W115))","v":11},0.19642857142857142]
[null,"22:30:00",null,{"$f":"IF(OFFSET('Raw Data'!T94,Input_Details!$B$34,Input_Details!$B$32)=\"\", \"-\", OFFSET('Raw Data'!T94,Input_Details!$B$34,Input_Details!$B$32))","v":1},{"$f":"IF(OFFSET('Raw Data'!U94,Input_Details!$B$34,Input_Details!$B$32)=\"\", \"-\", OFFSET('Raw Data'!U94,Input_Details!$B$34,Input_Details!$B$32))","v":12},{"$f":"IF(OFFSET('Raw Data'!V94,Input_Details!$B$34,Input_Details!$B$32)=\"\", \"-\", OFFSET('Raw Data'!V94,Input_Details!$B$34,Input_Details!$B$32))","v":28},{"$f":"IF(OFFSET('Raw Data'!W94,Input_Details!$B$34,Input_Details!$B$32)=\"\", \"-\", OFFSET('Raw Data'!W94,Input_Details!$B$34,Input_Details!$B$32))","v":7},{"$f":"IF(OFFSET('Raw Data'!X94,Input_Details!$B$34,Input_Details!$B$32)=\"\", \"-\", OFFSET('Raw Data'!X94,Input_Details!$B$34,Input_Details!$B$32))","v":2},{"$f":"IF(OFFSET('Raw Data'!Y94,Input_Details!$B$34,Input_Details!$B$32)=\"\", \"-\", OFFSET('Raw Data'!Y94,Input_Details!$B$34,Input_Details!$B$32))","v":0},{"$f":"IF(OFFSET('Raw Data'!Z94,Input_Details!$B$34,Input_Details!$B$32)=\"\", \"-\", OFFSET('Raw Data'!Z94,Input_Details!$B$34,Input_Details!$B$32))","v":0},{"$f":"IF(OFFSET('Raw Data'!AA94,Input_Details!$B$34,Input_Details!$B$32)=\"\", \"-\", OFFSET('Raw Data'!AA94,Input_Details!$B$34,Input_Details!$B$32))","v":0},{"$f":"IF(OFFSET('Raw Data'!AB94,Input_Details!$B$34,Input_Details!$B$32)=\"\", \"-\", OFFSET('Raw Data'!AB94,Input_Details!$B$34,Input_Details!$B$32))","v":0},{"$f":"IF(OFFSET('Raw Data'!AC94,Input_Details!$B$34,Input_Details!$B$32)=\"\", \"-\", OFFSET('Raw Data'!AC94,Input_Details!$B$34,Input_Details!$B$32))","v":0},{"$f":"IF(OFFSET('Raw Data'!AD94,Input_Details!$B$34,Input_Details!$B$32)=\"\", \"-\", OFFSET('Raw Data'!AD94,Input_Details!$B$34,Input_Details!$B$32))","v":0},{"$f":"IF(OFFSET('Raw Data'!AE94,Input_Details!$B$34,Input_Details!$B$32)=\"\", \"-\", OFFSET('Raw Data'!AE94,Input_Details!$B$34,Input_Details!$B$32))","v":0},{"$f":"IF(OFFSET('Raw Data'!AF94,Input_Details!$B$34,Input_Details!$B$32)=\"\", \"-\", OFFSET('Raw Data'!AF94,Input_Details!$B$34,Input_Details!$B$32))","v":0},{"$f":"IF(OFFSET('Raw Data'!AG94,Input_Details!$B$34,Input_Details!$B$32)=\"\", \"-\", OFFSET('Raw Data'!AG94,Input_Details!$B$34,Input_Details!$B$32))","v":0},{"$f":"IF(OFFSET('Raw Data'!AH94,Input_Details!$B$34,Input_Details!$B$32)=\"\", \"-\", OFFSET('Raw Data'!AH94,Input_Details!$B$34,Input_Details!$B$32))","v":0},{"$f":"IF(OFFSET('Raw Data'!AI94,Input_Details!$B$34,Input_Details!$B$32)=\"\", \"-\", OFFSET('Raw Data'!AI94,Input_Details!$B$34,Input_Details!$B$32))","v":0},{"$f":"IF(OFFSET('Raw Data'!AJ94,Input_Details!$B$34,Input_Details!$B$32)=\"\", \"-\", OFFSET('Raw Data'!AJ94,Input_Details!$B$34,Input_Details!$B$32))","v":0},{"$f":"IF(OFFSET('Raw Data'!AK94,Input_Details!$B$34,Input_Details!$B$32)=\"\", \"-\", OFFSET('Raw Data'!AK94,Input_Details!$B$34,Input_Details!$B$32))","v":0},{"$f":"IF(OFFSET('Raw Data'!AL94,Input_Details!$B$34,Input_Details!$B$32)=\"\", \"-\", OFFSET('Raw Data'!AL94,Input_Details!$B$34,Input_Details!$B$32))","v":0},{"$f":"IF(OFFSET('Raw Data'!AM94,Input_Details!$B$34,Input_Details!$B$32)=\"\", \"-\", OFFSET('Raw Data'!AM94,Input_Details!$B$34,Input_Details!$B$32))","v":0},null,{"$f":"IF(D116=\"-\",\"-\",OFFSET('Raw Data'!AN94,Input_Details!$B$34,Input_Details!$B$32))","v":17.445189504373179},{"$f":"IF(OFFSET('Raw Data'!AO94,Input_Details!$B$34,Input_Details!$B$32)=\"\", \"-\", OFFSET('Raw Data'!AO94,Input_Details!$B$34,Input_Details!$B$32))","v":20.914285714285711},{"$f":"IF(OFFSET('Raw Data'!AP94,Input_Details!$B$34,Input_Details!$B$32)=\"\", \"-\", OFFSET('Raw Data'!AP94,Input_Details!$B$34,Input_Details!$B$32))","v":9},{"$f":"IF(OFFSET('Raw Data'!AQ94,Input_Details!$B$34,Input_Details!$B$32)=\"\", \"-\", OFFSET('Raw Data'!AQ94,Input_Details!$B$34,Input_Details!$B$32))","v":34.6},null,{"$f":"IF(Y116=\"-\", \"-\", SUM(OFFSET(D116,0,VLOOKUP(Input_Details!$N$3, $AF$3:$AG$12, 2,0)-1):W116))","v":9},0.18]
[null,"22:45:00",null,{"$f":"IF(OFFSET('Raw Data'!T95,Input_Details!$B$34,Input_Details!$B$32)=\"\", \"-\", OFFSET('Raw Data'!T95,Input_Details!$B$34,Input_Details!$B$32))","v":1},{"$f":"IF(OFFSET('Raw Data'!U95,Input_Details!$B$34,Input_Details!$B$32)=\"\", \"-\", OFFSET('Raw Data'!U95,Input_Details!$B$34,Input_Details!$B$32))","v":12},{"$f":"IF(OFFSET('Raw Data'!V95,Input_Details!$B$34,Input_Details!$B$32)=\"\", \"-\", OFFSET('Raw Data'!V95,Input_Details!$B$34,Input_Details!$B$32))","v":25},{"$f":"IF(OFFSET('Raw Data'!W95,Input_Details!$B$34,Input_Details!$B$32)=\"\", \"-\", OFFSET('Raw Data'!W95,Input_Details!$B$34,Input_Details!$B$32))","v":11},{"$f":"IF(OFFSET('Raw Data'!X95,Input_Details!$B$34,Input_Details!$B$32)=\"\", \"-\", OFFSET('Raw Data'!X95,Input_Details!$B$34,Input_Details!$B$32))","v":2},{"$f":"IF(OFFSET('Raw Data'!Y95,Input_Details!$B$34,Input_Details!$B$32)=\"\", \"-\", OFFSET('Raw Data'!Y95,Input_Details!$B$34,Input_Details!$B$32))","v":0},{"$f":"IF(OFFSET('Raw Data'!Z95,Input_Details!$B$34,Input_Details!$B$32)=\"\", \"-\", OFFSET('Raw Data'!Z95,Input_Details!$B$34,Input_Details!$B$32))","v":0},{"$f":"IF(OFFSET('Raw Data'!AA95,Input_Details!$B$34,Input_Details!$B$32)=\"\", \"-\", OFFSET('Raw Data'!AA95,Input_Details!$B$34,Input_Details!$B$32))","v":0},{"$f":"IF(OFFSET('Raw Data'!AB95,Input_Details!$B$34,Input_Details!$B$32)=\"\", \"-\", OFFSET('Raw Data'!AB95,Input_Details!$B$34,Input_Details!$B$32))","v":0},{"$f":"IF(OFFSET('Raw Data'!AC95,Input_Details!$B$34,Input_Details!$B$32)=\"\", \"-\", OFFSET('Raw Data'!AC95,Input_Details!$B$34,Input_Details!$B$32))","v":0},{"$f":"IF(OFFSET('Raw Data'!AD95,Input_Details!$B$34,Input_Details!$B$32)=\"\", \"-\", OFFSET('Raw Data'!AD95,Input_Details!$B$34,Input_Details!$B$32))","v":0},{"$f":"IF(OFFSET('Raw Data'!AE95,Input_Details!$B$34,Input_Details!$B$32)=\"\", \"-\", OFFSET('Raw Data'!AE95,Input_Details!$B$34,Input_Details!$B$32))","v":0},{"$f":"IF(OFFSET('Raw Data'!AF95,Input_Details!$B$34,Input_Details!$B$32)=\"\", \"-\", OFFSET('Raw Data'!AF95,Input_Details!$B$34,Input_Details!$B$32))","v":0},{"$f":"IF(OFFSET('Raw Data'!AG95,Input_Details!$B$34,Input_Details!$B$32)=\"\", \"-\", OFFSET('Raw Data'!AG95,Input_Details!$B$34,Input_Details!$B$32))","v":0},{"$f":"IF(OFFSET('Raw Data'!AH95,Input_Details!$B$34,Input_Details!$B$32)=\"\", \"-\", OFFSET('Raw Data'!AH95,Input_Details!$B$34,Input_Details!$B$32))","v":0},{"$f":"IF(OFFSET('Raw Data'!AI95,Input_Details!$B$34,Input_Details!$B$32)=\"\", \"-\", OFFSET('Raw Data'!AI95,Input_Details!$B$34,Input_Details!$B$32))","v":0},{"$f":"IF(OFFSET('Raw Data'!AJ95,Input_Details!$B$34,Input_Details!$B$32)=\"\", \"-\", OFFSET('Raw Data'!AJ95,Input_Details!$B$34,Input_Details!$B$32))","v":0},{"$f":"IF(OFFSET('Raw Data'!AK95,Input_Details!$B$34,Input_Details!$B$32)=\"\", \"-\", OFFSET('Raw Data'!AK95,Input_Details!$B$34,Input_Details!$B$32))","v":0},{"$f":"IF(OFFSET('Raw Data'!AL95,Input_Details!$B$34,Input_Details!$B$32)=\"\", \"-\", OFFSET('Raw Data'!AL95,Input_Details!$B$34,Input_Details!$B$32))","v":0},{"$f":"IF(OFFSET('Raw Data'!AM95,Input_Details!$B$34,Input_Details!$B$32)=\"\", \"-\", OFFSET('Raw Data'!AM95,Input_Details!$B$34,Input_Details!$B$32))","v":0},null,{"$f":"IF(D117=\"-\",\"-\",OFFSET('Raw Data'!AN95,Input_Details!$B$34,Input_Details!$B$32))","v":18.011764705882353},{"$f":"IF(OFFSET('Raw Data'!AO95,Input_Details!$B$34,Input_Details!$B$32)=\"\", \"-\", OFFSET('Raw Data'!AO95,Input_Details!$B$34,Input_Details!$B$32))","v":21.457142857142859},{"$f":"IF(OFFSET('Raw Data'!AP95,Input_Details!$B$34,Input_Details!$B$32)=\"\", \"-\", OFFSET('Raw Data'!AP95,Input_Details!$B$34,Input_Details!$B$32))","v":4.9000000000000004},{"$f":"IF(OFFSET('Raw Data'!AQ95,Input_Details!$B$34,Input_Details!$B$32)=\"\", \"-\", OFFSET('Raw Data'!AQ95,Input_Details!$B$34,Input_Details!$B$32))","v":31},null,{"$f":"IF(Y117=\"-\", \"-\", SUM(OFFSET(D117,0,VLOOKUP(Input_Details!$N$3, $AF$3:$AG$12, 2,0)-1):W117))","v":13},0.25490196078431371]
[null,"23:00:00",null,{"$f":"IF(OFFSET('Raw Data'!T96,Input_Details!$B$34,Input_Details!$B$32)=\"\", \"-\", OFFSET('Raw Data'!T96,Input_Details!$B$34,Input_Details!$B$32))","v":1},{"$f":"IF(OFFSET('Raw Data'!U96,Input_Details!$B$34,Input_Details!$B$32)=\"\", \"-\", OFFSET('Raw Data'!U96,Input_Details!$B$34,Input_Details!$B$32))","v":10},{"$f":"IF(OFFSET('Raw Data'!V96,Input_Details!$B$34,Input_Details!$B$32)=\"\", \"-\", OFFSET('Raw Data'!V96,Input_Details!$B$34,Input_Details!$B$32))","v":23},{"$f":"IF(OFFSET('Raw Data'!W96,Input_Details!$B$34,Input_Details!$B$32)=\"\", \"-\", OFFSET('Raw Data'!W96,Input_Details!$B$34,Input_Details!$B$32))","v":11},{"$f":"IF(OFFSET('Raw Data'!X96,Input_Details!$B$34,Input_Details!$B$32)=\"\", \"-\", OFFSET('Raw Data'!X96,Input_Details!$B$34,Input_Details!$B$32))","v":3},{"$f":"IF(OFFSET('Raw Data'!Y96,Input_Details!$B$34,Input_Details!$B$32)=\"\", \"-\", OFFSET('Raw Data'!Y96,Input_Details!$B$34,Input_Details!$B$32))","v":1},{"$f":"IF(OFFSET('Raw Data'!Z96,Input_Details!$B$34,Input_Details!$B$32)=\"\", \"-\", OFFSET('Raw Data'!Z96,Input_Details!$B$34,Input_Details!$B$32))","v":0},{"$f":"IF(OFFSET('Raw Data'!AA96,Input_Details!$B$34,Input_Details!$B$32)=\"\", \"-\", OFFSET('Raw Data'!AA96,Input_Details!$B$34,Input_Details!$B$32))","v":0},{"$f":"IF(OFFSET('Raw Data'!AB96,Input_Details!$B$34,Input_Details!$B$32)=\"\", \"-\", OFFSET('Raw Data'!AB96,Input_Details!$B$34,Input_Details!$B$32))","v":0},{"$f":"IF(OFFSET('Raw Data'!AC96,Input_Details!$B$34,Input_Details!$B$32)=\"\", \"-\", OFFSET('Raw Data'!AC96,Input_Details!$B$34,Input_Details!$B$32))","v":0},{"$f":"IF(OFFSET('Raw Data'!AD96,Input_Details!$B$34,Input_Details!$B$32)=\"\", \"-\", OFFSET('Raw Data'!AD96,Input_Details!$B$34,Input_Details!$B$32))","v":0},{"$f":"IF(OFFSET('Raw Data'!AE96,Input_Details!$B$34,Input_Details!$B$32)=\"\", \"-\", OFFSET('Raw Data'!AE96,Input_Details!$B$34,Input_Details!$B$32))","v":0},{"$f":"IF(OFFSET('Raw Data'!AF96,Input_Details!$B$34,Input_Details!$B$32)=\"\", \"-\", OFFSET('Raw Data'!AF96,Input_Details!$B$34,Input_Details!$B$32))","v":0},{"$f":"IF(OFFSET('Raw Data'!AG96,Input_Details!$B$34,Input_Details!$B$32)=\"\", \"-\", OFFSET('Raw Data'!AG96,Input_Details!$B$34,Input_Details!$B$32))","v":0},{"$f":"IF(OFFSET('Raw Data'!AH96,Input_Details!$B$34,Input_Details!$B$32)=\"\", \"-\", OFFSET('Raw Data'!AH96,Input_Details!$B$34,Input_Details!$B$32))","v":0},{"$f":"IF(OFFSET('Raw Data'!AI96,Input_Details!$B$34,Input_Details!$B$32)=\"\", \"-\", OFFSET('Raw Data'!AI96,Input_Details!$B$34,Input_Details!$B$32))","v":0},{"$f":"IF(OFFSET('Raw Data'!AJ96,Input_Details!$B$34,Input_Details!$B$32)=\"\", \"-\", OFFSET('Raw Data'!AJ96,Input_Details!$B$34,Input_Details!$B$32))","v":0},{"$f":"IF(OFFSET('Raw Data'!AK96,Input_Details!$B$34,Input_Details!$B$32)=\"\", \"-\", OFFSET('Raw Data'!AK96,Input_Details!$B$34,Input_Details!$B$32))","v":0},{"$f":"IF(OFFSET('Raw Data'!AL96,Input_Details!$B$34,Input_Details!$B$32)=\"\", \"-\", OFFSET('Raw Data'!AL96,Input_Details!$B$34,Input_Details!$B$32))","v":0},{"$f":"IF(OFFSET('Raw Data'!AM96,Input_Details!$B$34,Input_Details!$B$32)=\"\", \"-\", OFFSET('Raw Data'!AM96,Input_Details!$B$34,Input_Details!$B$32))","v":0},null,{"$f":"IF(D118=\"-\",\"-\",OFFSET('Raw Data'!AN96,Input_Details!$B$34,Input_Details!$B$32))","v":18.453333333333337},{"$f":"IF(OFFSET('Raw Data'!AO96,Input_Details!$B$34,Input_Details!$B$32)=\"\", \"-\", OFFSET('Raw Data'!AO96,Input_Details!$B$34,Input_Details!$B$32))","v":20.390476190476193},{"$f":"IF(OFFSET('Raw Data'!AP96,Input_Details!$B$34,Input_Details!$B$32)=\"\", \"-\", OFFSET('Raw Data'!AP96,Input_Details!$B$34,Input_Details!$B$32))","v":8.8000000000000007},{"$f":"IF(OFFSET('Raw Data'!AQ96,Input_Details!$B$34,Input_Details!$B$32)=\"\", \"-\", OFFSET('Raw Data'!AQ96,Input_Details!$B$34,Input_Details!$B$32))","v":38.200000000000003},null,{"$f":"IF(Y118=\"-\", \"-\", SUM(OFFSET(D118,0,VLOOKUP(Input_Details!$N$3, $AF$3:$AG$12, 2,0)-1):W118))","v":15},0.30612244897959184]
[null,"23:15:00",null,{"$f":"IF(OFFSET('Raw Data'!T97,Input_Details!$B$34,Input_Details!$B$32)=\"\", \"-\", OFFSET('Raw Data'!T97,Input_Details!$B$34,Input_Details!$B$32))","v":1},{"$f":"IF(OFFSET('Raw Data'!U97,Input_Details!$B$34,Input_Details!$B$32)=\"\", \"-\", OFFSET('Raw Data'!U97,Input_Details!$B$34,Input_Details!$B$32))","v":15},{"$f":"IF(OFFSET('Raw Data'!V97,Input_Details!$B$34,Input_Details!$B$32)=\"\", \"-\", OFFSET('Raw Data'!V97,Input_Details!$B$34,Input_Details!$B$32))","v":18},{"$f":"IF(OFFSET('Raw Data'!W97,Input_Details!$B$34,Input_Details!$B$32)=\"\", \"-\", OFFSET('Raw Data'!W97,Input_Details!$B$34,Input_Details!$B$32))","v":8},{"$f":"IF(OFFSET('Raw Data'!X97,Input_Details!$B$34,Input_Details!$B$32)=\"\", \"-\", OFFSET('Raw Data'!X97,Input_Details!$B$34,Input_Details!$B$32))","v":2},{"$f":"IF(OFFSET('Raw Data'!Y97,Input_Details!$B$34,Input_Details!$B$32)=\"\", \"-\", OFFSET('Raw Data'!Y97,Input_Details!$B$34,Input_Details!$B$32))","v":0},{"$f":"IF(OFFSET('Raw Data'!Z97,Input_Details!$B$34,Input_Details!$B$32)=\"\", \"-\", OFFSET('Raw Data'!Z97,Input_Details!$B$34,Input_Details!$B$32))","v":0},{"$f":"IF(OFFSET('Raw Data'!AA97,Input_Details!$B$34,Input_Details!$B$32)=\"\", \"-\", OFFSET('Raw Data'!AA97,Input_Details!$B$34,Input_Details!$B$32))","v":0},{"$f":"IF(OFFSET('Raw Data'!AB97,Input_Details!$B$34,Input_Details!$B$32)=\"\", \"-\", OFFSET('Raw Data'!AB97,Input_Details!$B$34,Input_Details!$B$32))","v":0},{"$f":"IF(OFFSET('Raw Data'!AC97,Input_Details!$B$34,Input_Details!$B$32)=\"\", \"-\", OFFSET('Raw Data'!AC97,Input_Details!$B$34,Input_Details!$B$32))","v":0},{"$f":"IF(OFFSET('Raw Data'!AD97,Input_Details!$B$34,Input_Details!$B$32)=\"\", \"-\", OFFSET('Raw Data'!AD97,Input_Details!$B$34,Input_Details!$B$32))","v":0},{"$f":"IF(OFFSET('Raw Data'!AE97,Input_Details!$B$34,Input_Details!$B$32)=\"\", \"-\", OFFSET('Raw Data'!AE97,Input_Details!$B$34,Input_Details!$B$32))","v":0},{"$f":"IF(OFFSET('Raw Data'!AF97,Input_Details!$B$34,Input_Details!$B$32)=\"\", \"-\", OFFSET('Raw Data'!AF97,Input_Details!$B$34,Input_Details!$B$32))","v":0},{"$f":"IF(OFFSET('Raw Data'!AG97,Input_Details!$B$34,Input_Details!$B$32)=\"\", \"-\", OFFSET('Raw Data'!AG97,Input_Details!$B$34,Input_Details!$B$32))","v":0},{"$f":"IF(OFFSET('Raw Data'!AH97,Input_Details!$B$34,Input_Details!$B$32)=\"\", \"-\", OFFSET('Raw Data'!AH97,Input_Details!$B$34,Input_Details!$B$32))","v":0},{"$f":"IF(OFFSET('Raw Data'!AI97,Input_Details!$B$34,Input_Details!$B$32)=\"\", \"-\", OFFSET('Raw Data'!AI97,Input_Details!$B$34,Input_Details!$B$32))","v":0},{"$f":"IF(OFFSET('Raw Data'!AJ97,Input_Details!$B$34,Input_Details!$B$32)=\"\", \"-\", OFFSET('Raw Data'!AJ97,Input_Details!$B$34,Input_Details!$B$32))","v":0},{"$f":"IF(OFFSET('Raw Data'!AK97,Input_Details!$B$34,Input_Details!$B$32)=\"\", \"-\", OFFSET('Raw Data'!AK97,Input_Details!$B$34,Input_Details!$B$32))","v":0},{"$f":"IF(OFFSET('Raw Data'!AL97,Input_Details!$B$34,Input_Details!$B$32)=\"\", \"-\", OFFSET('Raw Data'!AL97,Input_Details!$B$34,Input_Details!$B$32))","v":0},{"$f":"IF(OFFSET('Raw Data'!AM97,Input_Details!$B$34,Input_Details!$B$32)=\"\", \"-\", OFFSET('Raw Data'!AM97,Input_Details!$B$34,Input_Details!$B$32))","v":0},null,{"$f":"IF(D119=\"-\",\"-\",OFFSET('Raw Data'!AN97,Input_Details!$B$34,Input_Details!$B$32))","v":17.257142857142856},{"$f":"IF(OFFSET('Raw Data'!AO97,Input_Details!$B$34,Input_Details!$B$32)=\"\", \"-\", OFFSET('Raw Data'!AO97,Input_Details!$B$34,Input_Details!$B$32))","v":21.457142857142856},{"$f":"IF(OFFSET('Raw Data'!AP97,Input_Details!$B$34,Input_Details!$B$32)=\"\", \"-\", OFFSET('Raw Data'!AP97,Input_Details!$B$34,Input_Details!$B$32))","v":7.8},{"$f":"IF(OFFSET('Raw Data'!AQ97,Input_Details!$B$34,Input_Details!$B$32)=\"\", \"-\", OFFSET('Raw Data'!AQ97,Input_Details!$B$34,Input_Details!$B$32))","v":30.9},null,{"$f":"IF(Y119=\"-\", \"-\", SUM(OFFSET(D119,0,VLOOKUP(Input_Details!$N$3, $AF$3:$AG$12, 2,0)-1):W119))","v":10},0.22727272727272727]
[null,"23:30:00",null,{"$f":"IF(OFFSET('Raw Data'!T98,Input_Details!$B$34,Input_Details!$B$32)=\"\", \"-\", OFFSET('Raw Data'!T98,Input_Details!$B$34,Input_Details!$B$32))","v":1},{"$f":"IF(OFFSET('Raw Data'!U98,Input_Details!$B$34,Input_Details!$B$32)=\"\", \"-\", OFFSET('Raw Data'!U98,Input_Details!$B$34,Input_Details!$B$32))","v":9},{"$f":"IF(OFFSET('Raw Data'!V98,Input_Details!$B$34,Input_Details!$B$32)=\"\", \"-\", OFFSET('Raw Data'!V98,Input_Details!$B$34,Input_Details!$B$32))","v":24},{"$f":"IF(OFFSET('Raw Data'!W98,Input_Details!$B$34,Input_Details!$B$32)=\"\", \"-\", OFFSET('Raw Data'!W98,Input_Details!$B$34,Input_Details!$B$32))","v":9},{"$f":"IF(OFFSET('Raw Data'!X98,Input_Details!$B$34,Input_Details!$B$32)=\"\", \"-\", OFFSET('Raw Data'!X98,Input_Details!$B$34,Input_Details!$B$32))","v":1},{"$f":"IF(OFFSET('Raw Data'!Y98,Input_Details!$B$34,Input_Details!$B$32)=\"\", \"-\", OFFSET('Raw Data'!Y98,Input_Details!$B$34,Input_Details!$B$32))","v":0},{"$f":"IF(OFFSET('Raw Data'!Z98,Input_Details!$B$34,Input_Details!$B$32)=\"\", \"-\", OFFSET('Raw Data'!Z98,Input_Details!$B$34,Input_Details!$B$32))","v":0},{"$f":"IF(OFFSET('Raw Data'!AA98,Input_Details!$B$34,Input_Details!$B$32)=\"\", \"-\", OFFSET('Raw Data'!AA98,Input_Details!$B$34,Input_Details!$B$32))","v":0},{"$f":"IF(OFFSET('Raw Data'!AB98,Input_Details!$B$34,Input_Details!$B$32)=\"\", \"-\", OFFSET('Raw Data'!AB98,Input_Details!$B$34,Input_Details!$B$32))","v":0},{"$f":"IF(OFFSET('Raw Data'!AC98,Input_Details!$B$34,Input_Details!$B$32)=\"\", \"-\", OFFSET('Raw Data'!AC98,Input_Details!$B$34,Input_Details!$B$32))","v":0},{"$f":"IF(OFFSET('Raw Data'!AD98,Input_Details!$B$34,Input_Details!$B$32)=\"\", \"-\", OFFSET('Raw Data'!AD98,Input_Details!$B$34,Input_Details!$B$32))","v":0},{"$f":"IF(OFFSET('Raw Data'!AE98,Input_Details!$B$34,Input_Details!$B$32)=\"\", \"-\", OFFSET('Raw Data'!AE98,Input_Details!$B$34,Input_Details!$B$32))","v":0},{"$f":"IF(OFFSET('Raw Data'!AF98,Input_Details!$B$34,Input_Details!$B$32)=\"\", \"-\", OFFSET('Raw Data'!AF98,Input_Details!$B$34,Input_Details!$B$32))","v":0},{"$f":"IF(OFFSET('Raw Data'!AG98,Input_Details!$B$34,Input_Details!$B$32)=\"\", \"-\", OFFSET('Raw Data'!AG98,Input_Details!$B$34,Input_Details!$B$32))","v":0},{"$f":"IF(OFFSET('Raw Data'!AH98,Input_Details!$B$34,Input_Details!$B$32)=\"\", \"-\", OFFSET('Raw Data'!AH98,Input_Details!$B$34,Input_Details!$B$32))","v":0},{"$f":"IF(OFFSET('Raw Data'!AI98,Input_Details!$B$34,Input_Details!$B$32)=\"\", \"-\", OFFSET('Raw Data'!AI98,Input_Details!$B$34,Input_Details!$B$32))","v":0},{"$f":"IF(OFFSET('Raw Data'!AJ98,Input_Details!$B$34,Input_Details!$B$32)=\"\", \"-\", OFFSET('Raw Data'!AJ98,Input_Details!$B$34,Input_Details!$B$32))","v":0},{"$f":"IF(OFFSET('Raw Data'!AK98,Input_Details!$B$34,Input_Details!$B$32)=\"\", \"-\", OFFSET('Raw Data'!AK98,Input_Details!$B$34,Input_Details!$B$32))","v":0},{"$f":"IF(OFFSET('Raw Data'!AL98,Input_Details!$B$34,Input_Details!$B$32)=\"\", \"-\", OFFSET('Raw Data'!AL98,Input_Details!$B$34,Input_Details!$B$32))","v":0},{"$f":"IF(OFFSET('Raw Data'!AM98,Input_Details!$B$34,Input_Details!$B$32)=\"\", \"-\", OFFSET('Raw Data'!AM98,Input_Details!$B$34,Input_Details!$B$32))","v":0},null,{"$f":"IF(D120=\"-\",\"-\",OFFSET('Raw Data'!AN98,Input_Details!$B$34,Input_Details!$B$32))","v":17.817391304347826},{"$f":"IF(OFFSET('Raw Data'!AO98,Input_Details!$B$34,Input_Details!$B$32)=\"\", \"-\", OFFSET('Raw Data'!AO98,Input_Details!$B$34,Input_Details!$B$32))","v":19.085714285714285},{"$f":"IF(OFFSET('Raw Data'!AP98,Input_Details!$B$34,Input_Details!$B$32)=\"\", \"-\", OFFSET('Raw Data'!AP98,Input_Details!$B$34,Input_Details!$B$32))","v":0},{"$f":"IF(OFFSET('Raw Data'!AQ98,Input_Details!$B$34,Input_Details!$B$32)=\"\", \"-\", OFFSET('Raw Data'!AQ98,Input_Details!$B$34,Input_Details!$B$32))","v":39.1},null,{"$f":"IF(Y120=\"-\", \"-\", SUM(OFFSET(D120,0,VLOOKUP(Input_Details!$N$3, $AF$3:$AG$12, 2,0)-1):W120))","v":10},0.22727272727272727]
[null,"23:45:00",null,{"$f":"IF(OFFSET('Raw Data'!T99,Input_Details!$B$34,Input_Details!$B$32)=\"\", \"-\", OFFSET('Raw Data'!T99,Input_Details!$B$34,Input_Details!$B$32))","v":1},{"$f":"IF(OFFSET('Raw Data'!U99,Input_Details!$B$34,Input_Details!$B$32)=\"\", \"-\", OFFSET('Raw Data'!U99,Input_Details!$B$34,Input_Details!$B$32))","v":7},{"$f":"IF(OFFSET('Raw Data'!V99,Input_Details!$B$34,Input_Details!$B$32)=\"\", \"-\", OFFSET('Raw Data'!V99,Input_Details!$B$34,Input_Details!$B$32))","v":18},{"$f":"IF(OFFSET('Raw Data'!W99,Input_Details!$B$34,Input_Details!$B$32)=\"\", \"-\", OFFSET('Raw Data'!W99,Input_Details!$B$34,Input_Details!$B$32))","v":8},{"$f":"IF(OFFSET('Raw Data'!X99,Input_Details!$B$34,Input_Details!$B$32)=\"\", \"-\", OFFSET('Raw Data'!X99,Input_Details!$B$34,Input_Details!$B$32))","v":2},{"$f":"IF(OFFSET('Raw Data'!Y99,Input_Details!$B$34,Input_Details!$B$32)=\"\", \"-\", OFFSET('Raw Data'!Y99,Input_Details!$B$34,Input_Details!$B$32))","v":1},{"$f":"IF(OFFSET('Raw Data'!Z99,Input_Details!$B$34,Input_Details!$B$32)=\"\", \"-\", OFFSET('Raw Data'!Z99,Input_Details!$B$34,Input_Details!$B$32))","v":0},{"$f":"IF(OFFSET('Raw Data'!AA99,Input_Details!$B$34,Input_Details!$B$32)=\"\", \"-\", OFFSET('Raw Data'!AA99,Input_Details!$B$34,Input_Details!$B$32))","v":0},{"$f":"IF(OFFSET('Raw Data'!AB99,Input_Details!$B$34,Input_Details!$B$32)=\"\", \"-\", OFFSET('Raw Data'!AB99,Input_Details!$B$34,Input_Details!$B$32))","v":0},{"$f":"IF(OFFSET('Raw Data'!AC99,Input_Details!$B$34,Input_Details!$B$32)=\"\", \"-\", OFFSET('Raw Data'!AC99,Input_Details!$B$34,Input_Details!$B$32))","v":0},{"$f":"IF(OFFSET('Raw Data'!AD99,Input_Details!$B$34,Input_Details!$B$32)=\"\", \"-\", OFFSET('Raw Data'!AD99,Input_Details!$B$34,Input_Details!$B$32))","v":0},{"$f":"IF(OFFSET('Raw Data'!AE99,Input_Details!$B$34,Input_Details!$B$32)=\"\", \"-\", OFFSET('Raw Data'!AE99,Input_Details!$B$34,Input_Details!$B$32))","v":0},{"$f":"IF(OFFSET('Raw Data'!AF99,Input_Details!$B$34,Input_Details!$B$32)=\"\", \"-\", OFFSET('Raw Data'!AF99,Input_Details!$B$34,Input_Details!$B$32))","v":0},{"$f":"IF(OFFSET('Raw Data'!AG99,Input_Details!$B$34,Input_Details!$B$32)=\"\", \"-\", OFFSET('Raw Data'!AG99,Input_Details!$B$34,Input_Details!$B$32))","v":0},{"$f":"IF(OFFSET('Raw Data'!AH99,Input_Details!$B$34,Input_Details!$B$32)=\"\", \"-\", OFFSET('Raw Data'!AH99,Input_Details!$B$34,Input_Details!$B$32))","v":0},{"$f":"IF(OFFSET('Raw Data'!AI99,Input_Details!$B$34,Input_Details!$B$32)=\"\", \"-\", OFFSET('Raw Data'!AI99,Input_Details!$B$34,Input_Details!$B$32))","v":0},{"$f":"IF(OFFSET('Raw Data'!AJ99,Input_Details!$B$34,Input_Details!$B$32)=\"\", \"-\", OFFSET('Raw Data'!AJ99,Input_Details!$B$34,Input_Details!$B$32))","v":0},{"$f":"IF(OFFSET('Raw Data'!AK99,Input_Details!$B$34,Input_Details!$B$32)=\"\", \"-\", OFFSET('Raw Data'!AK99,Input_Details!$B$34,Input_Details!$B$32))","v":0},{"$f":"IF(OFFSET('Raw Data'!AL99,Input_Details!$B$34,Input_Details!$B$32)=\"\", \"-\", OFFSET('Raw Data'!AL99,Input_Details!$B$34,Input_Details!$B$32))","v":0},{"$f":"IF(OFFSET('Raw Data'!AM99,Input_Details!$B$34,Input_Details!$B$32)=\"\", \"-\", OFFSET('Raw Data'!AM99,Input_Details!$B$34,Input_Details!$B$32))","v":0},null,{"$f":"IF(D121=\"-\",\"-\",OFFSET('Raw Data'!AN99,Input_Details!$B$34,Input_Details!$B$32))","v":18.574903474903472},{"$f":"IF(OFFSET('Raw Data'!AO99,Input_Details!$B$34,Input_Details!$B$32)=\"\", \"-\", OFFSET('Raw Data'!AO99,Input_Details!$B$34,Input_Details!$B$32))","v":18.442857142857143},{"$f":"IF(OFFSET('Raw Data'!AP99,Input_Details!$B$34,Input_Details!$B$32)=\"\", \"-\", OFFSET('Raw Data'!AP99,Input_Details!$B$34,Input_Details!$B$32))","v":6.6},{"$f":"IF(OFFSET('Raw Data'!AQ99,Input_Details!$B$34,Input_Details!$B$32)=\"\", \"-\", OFFSET('Raw Data'!AQ99,Input_Details!$B$34,Input_Details!$B$32))","v":36.299999999999997},null,{"$f":"IF(Y121=\"-\", \"-\", SUM(OFFSET(D121,0,VLOOKUP(Input_Details!$N$3, $AF$3:$AG$12, 2,0)-1):W121))","v":11},0.29729729729729731]
[null,"Total",null,{"$f":"SUM(D26:D121)","v":98},{"$f":"SUM(E26:E121)","v":957},2199,1284,320,79,13,0,0,0,0,0,0,0,0,0,0,0,0,0,{"$f":"SUM(D122:W122)","v":4950},{"$f":"IF((SUM(Y26:Y121))=0,\"N/A\",(AVERAGEIF(Y26:Y121,\">0\")))","v":18.744612830431734},{"$f":"IF((SUM(Z26:Z121))=0,\"N/A\",(AVERAGEIF(Z26:Z121,\">0\")))","v":21.303072916666654},{"$f":"IF((SUM(AA26:AA121))=0,\"N/A\",(AVERAGEIF(AA26:AA121,\">0\")))","v":7.4473684210526292},{"$f":"IF((SUM(AB26:AB121))=0,\"N/A\",(AVERAGEIF(AB26:AB121,\">0\")))","v":37.318749999999987},null,{"$f":"SUM(AD26:AD121)","v":1696},{"$f":"IF(SUM(D122:W122)=0, \"N/A\", AD122/SUM(D122:W122))","v":0.34262626262626261}]

{"sheet":"Site Plans","index":12,"n_rows":9,"n_cols":13,"rows_kept":9,"cut":false,"hidden":false,"merged":[[7,1,9,4]]}
[]
[]
[]
[null,null,null,null,null,null,null,null,null,null,null,null,{"$f":"Input_Details!$I$1&\" - \"&Input_Details!$H$1","v":"3585-LON - Harper Road"}]
[null,null,null,null,null,null,null,null,null,null,null,null,{"$f":"\"prepared for \"&Input_Details!$J$1","v":"prepared for LB of Southwark"}]
[null,null,null,null,null,null,null,null,null,null,null,null,{"$f":"TEXT(MIN('Volume Summary-15min'!$C$14:$I$14), \"dd mmm yyyy\")&\" - \"&TEXT(MAX('Volume Summary-15min'!$C$14:$I$14), \"dd mmm yyyy\")","v":"20 Apr 2017 - 26 Apr 2017"}]
[]
[null,"Site Plans",null,null,null,null,null,null,null,null,null,null,4]
[null,null,2,null,null,null,null,null,null,null,null,null,{"$f":"OFFSET(Input_Plans!A1,M8-1,0,1,1)","v":""}]